{"text_format":"1","workbook":"xlsx","n_sheets":6,"sheets":["Uitleg | Explanation","Veldenlijst (NL)","List of Fields (EN)","GPC","BES NL","BES EN"],"not_rendered":{"charts":0,"images":6,"macros":1,"external_links":1,"defined_names":31,"comments":0,"pivot_tables":0},"unopened":[],"bounds":{"document_bytes":16777216,"sheet_cells":100000,"rows_first":2000,"rows_last":500,"rows_between":2000,"halvings":0,"cell_chars":16384,"cell_head_chars":4096},"cells_cut":0,"cells_raw":0,"read":"whole","date_system":"1900"}

{"sheet":"Uitleg | Explanation","index":0,"n_rows":57,"n_cols":19,"rows_kept":57,"cut":false,"hidden":false,"merged":[]}
[null," ","GS1 Data Source - Overzicht datavelden GDSN 3.1.18 - Levensmiddelen & drogisterij",null,null,null,null,null,null,null,null,null,null,null,null,null,null,null,"Versie: 3.1.18 Concept       Datum: 8-2-2022"]
[1,2,"voor de levensmiddelen- en drogisterijsector",4,5,6,7,8,9,10,11,12,12,12,12,12,12,12,12]
[]
[null,"In dit document vindt u welke velden er ingevuld moeten of kunnen worden om productdata uit te wisselen via GS1 Data Source. In deze tab staat een uitleg hoe u deze kunt gebruiken."]
[null,"Er is een tab met de Nederlandse veldenlijst (Veldenlijst (NL)) en een tab met een Engelstalige versie (List of Fields (EN))."]
[null,"In this document you will find which fields have to or could be filled to exchange product data via GS1 Data Source. In this tab you find an explanation on how to use this. "]
[null,"There is a tab with the Dutch list of fields (Veldenlijst (NL)) and a tab with an English version (List of Fields (EN))."]
["TAB: Veldenlijst (NL)"]
[null,"Wat staat er in welke kolom? "]
[null,"Veldnaam - de naam van het veld dat ingevuld kan/moet worden"]
[null,"GDSN naam - de naam van het veld in GDSN (de internationale standaard die wordt gebruikt om data te kunnen delen)"]
[null,"DMS controle - de inhoud van dit veld wordt op juistheid gecontroleerd door een Data Management Service"]
[null,"BMS ID - uniek nummer om elk veld per module uniek te identificeren binnen GDSN "]
[null,"Formaat - in welk formaat het veld gevuld moet worden, bijv. via een codelijst "]
[null,"X Path - een tekstuele weergave van de exacte locatie van het veld in het GDSN XML-schema"]
[null,"GDM laag - in welke laag het veld hoort in het Global Data Model"]
[null,"Verplichting - of en wanneer een veld verplicht is om te vullen"]
[null,"Vanaf kolom J - een overzicht van de categorieën waar dit veld op van toepassing is "]
[]
[null,"Zoeken in veldenlijst"]
[null,"Wilt u weten welke velden voor een specifieke productgroep of GPC-code van toepassing zijn? Kies dan via de dropdown een productgroep of GPC (nooit allebei tegelijkertijd) en druk op 'Filter'."]
[null,"Let op! Niet alle GPC-codes zitten in de zoekfunctie. Alleen GPC-codes die vanuit het Global Data Model al zijn uitgewerkt. "]
[]
[null,"Enkele kolommen zijn gegroepeerd en kunnen getoond of verborgen worden door te klikken op het + of - teken boven de blauwe kolommen rechts."]
[null,"bijv. drukken op de +  bij de rode pijl toont kolommen met geavanceerdere informatie over de velden"]
[null,"bijv. drukken op de  -  verdwijnen die kolommen weer"]
[]
[]
[null,"Als u een specifiek veld zoekt, ga dan naar naar 'Zoeken en selecteren' in de taakbalk bovenin en klik dan op 'Opties >>'."]
[null,"Vervolgens kunt u daar bij 'Zoeken in:' kiezen voor 'Waarden' om te zoeken op waarden in de cellen in plaats van de formules."]
[]
[]
[]
["TAB: List of Fields (EN)",null,null,"The english equivalent of the Dutch Veldenlijst (NL)"]
[]
[null,"What do you find in each column?"]
[null,"Field name - name of the field that could/has to be filled"]
[null,"GDSN name - name of the field in GDSN (the international standard used for exchanging data) "]
[null,"DMS check - the content of this field is checked for correctness by a Data Management Service"]
[null,"BMS ID - unique number used to identify each field per module in GDSN "]
[null,"Format - the format used to fill a field, e.g. a code list "]
[null,"X Path - a textual display of the exact location of the field in the GDSN XML-scheme"]
[null,"GDM layer - The layer of the Global Data Model in which the field belongs"]
[null,"Condition - whether or when a field is mandatory"]
[null,"As from column J - an overview of all applicable categories for the field"]
[]
[null,"Searching in the list of fields"]
[null,"Would you like to know which fields apply to a specific product group or GPC code? Then choose a product group or GPC (never both at the same time) via the drop down and press 'Filter'."]
[null,"Note! Not all GPC codes can be selected in the search function, only those GPC codes that are part of the Global Data Model."]
[]
[null,"Some columns are grouped and can be shown or hidden by clicking on the + or - sign above the blue columns on the right."]
[null,"e.g. pressing the + at the red arrow shows columns with more advanced information about the fields"]
[null,"e.g. by pressing the - those columns are hidden"]
[]
[]
[null,"If you are looking for a specific field, click on 'Search' in the toolbar at the top and then on 'Options >>'."]
[null,"Choose 'Values' under 'Search in:', so the search will be based on the values ​​in the cells instead of the formulas."]

{"sheet":"Veldenlijst (NL)","index":1,"n_rows":457,"n_cols":52,"rows_kept":457,"cut":false,"hidden":false,"merged":[]}
[{"$f":"'Uitleg | Explanation'!S1","v":"Versie: 3.1.18 Concept       Datum: 8-2-2022"},null,null,null,null,"Basis →  ̶",null,null,null,"+ ← Uitgebreid","Geen Velden/Type →  ̶",null,null,null,null,null,null,null,null,null,null,null,null,null,null,null,null,null,null,null,"+ ← Velden/Type"]
["Global Data Model Product category",{"$f":"IF(LEN(B3)>1,VLOOKUP(B3,GPC!A2:B21,2,FALSE),_xlfn.IFNA(VLOOKUP(B4,Tabel4[#All],5,FALSE),\"No specific group\"))","v":"No specific group"}]
["Productgroep",null,null,null,null,null,null,null,null,null,null,null,null,null,null,null,null,null,null,null,null,null,null,null,null,null,null,null,null,null,null,null,"Filtercriteria voor geavanceerd filteren"]
["GPC",null,{"$f":"_xlfn.IFNA(VLOOKUP(B4,Tabel4[#All],2,FALSE),\"\")","v":""}]
["Basis/Uitgebreid","Druk op + of - boven kolom J en/of AE",null,null,{"$f":"_xlfn.IFNA(VLOOKUP(B3,Tabel4[#All],2,FALSE),\"\")","v":""}]
[]
[]
["Veldnaam","GDSN-naam","GDM Verplicht / Conditioneel","DMS controle","BMS ID","Formaat","X Path","GDM laag","Verplichting","GAE ID","Dairy, Refrigerated & Frozen","Deli & Prepared","Fresh Meat","Fresh Fish","Fresh Fruits & Vegetables","Grocery","Cleaners","Disposables","Beauty & Personal Care","Petfood","Alcoholic Beverages","Tobacco","Self-care medicines","Special Food","Food Supplements","Healthcare Products","Medical Devices","Batteries","Light Bulbs","Other Categories",null,"Kolom1","Dairy, Refrigerated & Frozen","Deli & Prepared","Fresh Meat","Fresh Fish","Fresh Fruits & Vegetables","Grocery","Cleaners","Disposables","Beauty & Personal Care","Petfood","Alcoholic Beverages","Tobacco","Medicines","Special Food","Food Supplements","Healthcare Products","Medical Devices","Batteries","Light Bulbs","Other Categories"]
[null,null,null,null,null,null,{"$error":"#N/A"},null,null,null,"A","B","C","D","E","F","G","H","I","J","K","L","M","N","O","P","Q","R","S","T",null,null,{"$f":"_xlfn.IFNA(HLOOKUP('Veldenlijst (NL)'!$B$2,'Veldenlijst (NL)'!$K$8:$AD$9,2,FALSE),\"\")","v":""}]
["Algemene en logistieke informatie",null,null,"",null,"","",null,null,null,"A","B","C","D","E","F","G","H","I","J","K","L","M","N","O","P","Q","R","S","T",null,null,null,{"$f":"_xlfn.IFNA(HLOOKUP('Veldenlijst (NL)'!$B$2,'Veldenlijst (NL)'!$K$8:$AD$9,2,FALSE),\"\")","v":""}]
["Algemene informatie",null,null,"",null,"","",null,null,null,"A","B","C","D","E","F","G","H","I","J","K","L","M","N","O","P","Q","R","S","T",null,null,null,null,{"$f":"_xlfn.IFNA(HLOOKUP('Veldenlijst (NL)'!$B$2,'Veldenlijst (NL)'!$K$8:$AD$9,2,FALSE),\"\")","v":""}]
[{"$f":"VLOOKUP(Tabel3[[#This Row],[GAE ID]],'BES NL'!A:L,12,FALSE)","v":"GS1 locatiecode (GLN) dataleverancier"},{"$f":"VLOOKUP(Tabel3[[#This Row],[GAE ID]],'BES EN'!A:L,5,FALSE)","v":"gln"},"Mandatory",0,83,"n13",{"$f":"VLOOKUP(Tabel3[[#This Row],[GAE ID]],'BES EN'!A:L,7,FALSE)","v":"/catalogue_item_notification:catalogueItemNotificationMessage/transaction/documentCommand/catalogue_item_notification:catalogueItemNotification/catalogueItem/tradeItem/informationProviderOfTradeItem/gln"},"Global","Verplicht","ANL1001","A","B","C","D","E","F","G","H","I","J","K","L","M","N","O","P","Q","R","S","T",null,null,null,null,null,{"$f":"_xlfn.IFNA(HLOOKUP('Veldenlijst (NL)'!$B$2,'Veldenlijst (NL)'!$K$8:$AD$9,2,FALSE),\"\")","v":""}]
[{"$f":"VLOOKUP(Tabel3[[#This Row],[GAE ID]],'BES NL'!A:L,12,FALSE)","v":"Naam dataleverancier"},{"$f":"VLOOKUP(Tabel3[[#This Row],[GAE ID]],'BES EN'!A:L,5,FALSE)","v":"partyName"},"Mandatory",0,85,"an..200",{"$f":"VLOOKUP(Tabel3[[#This Row],[GAE ID]],'BES EN'!A:L,7,FALSE)","v":"/catalogue_item_notification:catalogueItemNotificationMessage/transaction/documentCommand/catalogue_item_notification:catalogueItemNotification/catalogueItem/tradeItem/informationProviderOfTradeItem/partyName"},"Global",0,"ANL1002","A","B","C","D","E","F","G","H","I","J","K","L","M","N","O","P","Q","R","S","T",null,null,null,null,null,null,{"$f":"_xlfn.IFNA(HLOOKUP('Veldenlijst (NL)'!$B$2,'Veldenlijst (NL)'!$K$8:$AD$9,2,FALSE),\"\")","v":""}]
[{"$f":"VLOOKUP(Tabel3[[#This Row],[GAE ID]],'BES NL'!A:L,12,FALSE)","v":"GS1 artikelcode (GTIN)"},{"$f":"VLOOKUP(Tabel3[[#This Row],[GAE ID]],'BES EN'!A:L,5,FALSE)","v":"gtin"},"Mandatory",0,67,"n14",{"$f":"VLOOKUP(Tabel3[[#This Row],[GAE ID]],'BES EN'!A:L,7,FALSE)","v":"/catalogue_item_notification:catalogueItemNotificationMessage/transaction/documentCommand/catalogue_item_notification:catalogueItemNotification/catalogueItem/tradeItem/gtin"},"Global","Verplicht","ANL1003","A","B","C","D","E","F","G","H","I","J","K","L","M","N","O","P","Q","R","S","T",null,null,null,null,null,null,null,{"$f":"_xlfn.IFNA(HLOOKUP('Veldenlijst (NL)'!$B$2,'Veldenlijst (NL)'!$K$8:$AD$9,2,FALSE),\"\")","v":""}]
[{"$f":"VLOOKUP(Tabel3[[#This Row],[GAE ID]],'BES NL'!A:L,12,FALSE)","v":"Doelmarkt"},{"$f":"VLOOKUP(Tabel3[[#This Row],[GAE ID]],'BES EN'!A:L,5,FALSE)","v":"targetMarketCountryCode"},"Mandatory",0,112,"Defined values",{"$f":"VLOOKUP(Tabel3[[#This Row],[GAE ID]],'BES EN'!A:L,7,FALSE)","v":"/catalogue_item_notification:catalogueItemNotificationMessage/transaction/documentCommand/catalogue_item_notification:catalogueItemNotification/catalogueItem/tradeItem/targetMarket/targetMarketCountryCode"},"Global","Verplicht","ANL1004","A","B","C","D","E","F","G","H","I","J","K","L","M","N","O","P","Q","R","S","T",null,null,null,null,null,null,null,null,{"$f":"_xlfn.IFNA(HLOOKUP('Veldenlijst (NL)'!$B$2,'Veldenlijst (NL)'!$K$8:$AD$9,2,FALSE),\"\")","v":""}]
[{"$f":"VLOOKUP(Tabel3[[#This Row],[GAE ID]],'BES NL'!A:L,12,FALSE)","v":"Code GPC Classificatie"},{"$f":"VLOOKUP(Tabel3[[#This Row],[GAE ID]],'BES EN'!A:L,5,FALSE)","v":"gpcCategoryCode"},"Mandatory","X",161,"n8",{"$f":"VLOOKUP(Tabel3[[#This Row],[GAE ID]],'BES EN'!A:L,7,FALSE)","v":"/catalogue_item_notification:catalogueItemNotificationMessage/transaction/documentCommand/catalogue_item_notification:catalogueItemNotification/catalogueItem/tradeItem/gDSNTradeItemClassification/gpcCategoryCode"},"Global","Verplicht","ANL1005","A","B","C","D","E","F","G","H","I","J","K","L","M","N","O","P","Q","R","S","T",null,null,null,null,null,null,null,null,null,{"$f":"_xlfn.IFNA(HLOOKUP('Veldenlijst (NL)'!$B$2,'Veldenlijst (NL)'!$K$8:$AD$9,2,FALSE),\"\")","v":""}]
[{"$f":"VLOOKUP(Tabel3[[#This Row],[GAE ID]],'BES NL'!A:L,12,FALSE)","v":"Hiërarchisch niveau "},{"$f":"VLOOKUP(Tabel3[[#This Row],[GAE ID]],'BES EN'!A:L,5,FALSE)","v":"tradeItemUnitDescriptorCode"},"Mandatory",0,66,"Defined values",{"$f":"VLOOKUP(Tabel3[[#This Row],[GAE ID]],'BES EN'!A:L,7,FALSE)","v":"/catalogue_item_notification:catalogueItemNotificationMessage/transaction/documentCommand/catalogue_item_notification:catalogueItemNotification/catalogueItem/tradeItem/tradeItemUnitDescriptorCode"},"Global","Verplicht","ANL1006","A","B","C","D","E","F","G","H","I","J","K","L","M","N","O","P","Q","R","S","T",null,null,null,null,null,null,null,null,null,null,{"$f":"_xlfn.IFNA(HLOOKUP('Veldenlijst (NL)'!$B$2,'Veldenlijst (NL)'!$K$8:$AD$9,2,FALSE),\"\")","v":""}]
[{"$f":"VLOOKUP(Tabel3[[#This Row],[GAE ID]],'BES NL'!A:L,12,FALSE)","v":"Type display"},{"$f":"VLOOKUP(Tabel3[[#This Row],[GAE ID]],'BES EN'!A:L,5,FALSE)","v":"displayTypeCode"},"Conditional",0,149,"Defined values",{"$f":"VLOOKUP(Tabel3[[#This Row],[GAE ID]],'BES EN'!A:L,7,FALSE)","v":"/catalogue_item_notification:catalogueItemNotificationMessage/transaction/documentCommand/catalogue_item_notification:catalogueItemNotification/catalogueItem/tradeItem/displayUnitInformation/displayTypeCode"},"Local","Verplicht als de consumenteneenheid een display is.","ANL1007","A","B","-","-","E","F","G","H","I","J","K","L","M","N","O","P","Q","R","S","T",null,null,null,null,null,null,null,null,null,null,null,{"$f":"_xlfn.IFNA(HLOOKUP('Veldenlijst (NL)'!$B$2,'Veldenlijst (NL)'!$K$8:$AD$9,2,FALSE),\"\")","v":""}]
[{"$f":"VLOOKUP(Tabel3[[#This Row],[GAE ID]],'BES NL'!A:L,12,FALSE)","v":"Ingangsdatum/tijd"},{"$f":"VLOOKUP(Tabel3[[#This Row],[GAE ID]],'BES EN'!A:L,5,FALSE)","v":"effectiveDateTime"},"Mandatory",0,144,"DateTime",{"$f":"VLOOKUP(Tabel3[[#This Row],[GAE ID]],'BES EN'!A:L,7,FALSE)","v":"/catalogue_item_notification:catalogueItemNotificationMessage/transaction/documentCommand/catalogue_item_notification:catalogueItemNotification/catalogueItem/tradeItem/tradeItemSynchronisationDates/effectiveDateTime"},"Global","Verplicht","ANL1008","A","B","C","D","E","F","G","H","I","J","K","L","M","N","O","P","Q","R","S","T",null,null,null,null,null,null,null,null,null,null,null,null,{"$f":"_xlfn.IFNA(HLOOKUP('Veldenlijst (NL)'!$B$2,'Veldenlijst (NL)'!$K$8:$AD$9,2,FALSE),\"\")","v":""}]
[{"$f":"VLOOKUP(Tabel3[[#This Row],[GAE ID]],'BES NL'!A:L,12,FALSE)","v":"GS1 locatiecode (GLN) lokaal contact"},{"$f":"VLOOKUP(Tabel3[[#This Row],[GAE ID]],'BES EN'!A:L,5,FALSE)","v":"gln"},"Optional",0,128,"n13",{"$f":"VLOOKUP(Tabel3[[#This Row],[GAE ID]],'BES EN'!A:L,7,FALSE)","v":"/catalogue_item_notification:catalogueItemNotificationMessage/transaction/documentCommand/catalogue_item_notification:catalogueItemNotification/catalogueItem/tradeItem/tradeItemContactInformation/gln"},"Local"," ","ANL1009","A","B","C","D","E","F","G","H","I","J","K","L","M","N","O","P","Q","R","S","T",null,null,null,null,null,null,null,null,null,null,null,null,null,{"$f":"_xlfn.IFNA(HLOOKUP('Veldenlijst (NL)'!$B$2,'Veldenlijst (NL)'!$K$8:$AD$9,2,FALSE),\"\")","v":""}]
[{"$f":"VLOOKUP(Tabel3[[#This Row],[GAE ID]],'BES NL'!A:L,12,FALSE)","v":"Aanvullende artikelidentificatie"},{"$f":"VLOOKUP(Tabel3[[#This Row],[GAE ID]],'BES EN'!A:L,5,FALSE)","v":"additionalTradeItemIdentification"},"Conditional",0,68,"an..80",{"$f":"VLOOKUP(Tabel3[[#This Row],[GAE ID]],'BES EN'!A:L,7,FALSE)","v":"/catalogue_item_notification:catalogueItemNotificationMessage/transaction/documentCommand/catalogue_item_notification:catalogueItemNotification/catalogueItem/tradeItem/additionalTradeItemIdentification"},"Global","Verplicht voor zelfzorggeneesmiddelen.","ANL1010","A","B","C","D","E","F","G","H","I","J","K","L","M","N","O","P","Q","R","S","T",null,null,null,null,null,null,null,null,null,null,null,null,null,null,{"$f":"_xlfn.IFNA(HLOOKUP('Veldenlijst (NL)'!$B$2,'Veldenlijst (NL)'!$K$8:$AD$9,2,FALSE),\"\")","v":""}]
[{"$f":"VLOOKUP(Tabel3[[#This Row],[GAE ID]],'BES NL'!A:L,12,FALSE)","v":"Aanvullende artikelidentificatie type"},{"$f":"VLOOKUP(Tabel3[[#This Row],[GAE ID]],'BES EN'!A:L,5,FALSE)","v":"additionalTradeItemIdentification/@additionalTradeItemIdentificationTypeCode"},"Conditional",0,69,"Defined values",{"$f":"VLOOKUP(Tabel3[[#This Row],[GAE ID]],'BES EN'!A:L,7,FALSE)","v":"/catalogue_item_notification:catalogueItemNotificationMessage/transaction/documentCommand/catalogue_item_notification:catalogueItemNotification/catalogueItem/tradeItem/additionalTradeItemIdentification/@additionalTradeItemIdentificationTypeCode"},"Global","Verplicht als het veld 'Aanvullende artikelidentificatie' is ingevuld bij de consumenteneenheid. ","ANL1011","A","B","C","D","E","F","G","H","I","J","K","L","M","N","O","P","Q","R","S","T",null,null,null,null,null,null,null,null,null,null,null,null,null,null,null,{"$f":"_xlfn.IFNA(HLOOKUP('Veldenlijst (NL)'!$B$2,'Veldenlijst (NL)'!$K$8:$AD$9,2,FALSE),\"\")","v":""}]
[{"$f":"VLOOKUP(Tabel3[[#This Row],[GAE ID]],'BES NL'!A:L,12,FALSE)","v":"Code import classificatie"},{"$f":"VLOOKUP(Tabel3[[#This Row],[GAE ID]],'BES EN'!A:L,5,FALSE)","v":"importClassificationValue"},"Conditional",0,2777,"an..70",{"$f":"VLOOKUP(Tabel3[[#This Row],[GAE ID]],'BES EN'!A:L,7,FALSE)","v":"/catalogue_item_notification:catalogueItemNotificationMessage/transaction/documentCommand/catalogue_item_notification:catalogueItemNotification/catalogueItem/tradeItem/tradeItemInformation/extension/*[namespace-uri()='urn:gs1:gdsn:place_of_item_activity:xsd:3' and local-name()='placeOfItemActivityModule']/importClassification/importClassificationValue"},"Global","Verplicht","ANL1012","A","B","C","D","E","F","G","H","I","J","K","L","M","N","O","P","Q","R","S","T",null,null,null,null,null,null,null,null,null,null,null,null,null,null,null,null,{"$f":"_xlfn.IFNA(HLOOKUP('Veldenlijst (NL)'!$B$2,'Veldenlijst (NL)'!$K$8:$AD$9,2,FALSE),\"\")","v":""}]
[{"$f":"VLOOKUP(Tabel3[[#This Row],[GAE ID]],'BES NL'!A:L,12,FALSE)","v":"Type import classificatie"},{"$f":"VLOOKUP(Tabel3[[#This Row],[GAE ID]],'BES EN'!A:L,5,FALSE)","v":"importClassificationTypeCode"},"Conditional",0,2776,"Defined values",{"$f":"VLOOKUP(Tabel3[[#This Row],[GAE ID]],'BES EN'!A:L,7,FALSE)","v":"/catalogue_item_notification:catalogueItemNotificationMessage/transaction/documentCommand/catalogue_item_notification:catalogueItemNotification/catalogueItem/tradeItem/tradeItemInformation/extension/*[namespace-uri()='urn:gs1:gdsn:place_of_item_activity:xsd:3' and local-name()='placeOfItemActivityModule']/importClassification/importClassificationTypeCode"},"Global","Verplicht","ANL1013","A","B","C","D","E","F","G","H","I","J","K","L","M","N","O","P","Q","R","S","T",null,null,null,null,null,null,null,null,null,null,null,null,null,null,null,null,null,{"$f":"_xlfn.IFNA(HLOOKUP('Veldenlijst (NL)'!$B$2,'Veldenlijst (NL)'!$K$8:$AD$9,2,FALSE),\"\")","v":""}]
[{"$f":"VLOOKUP(Tabel3[[#This Row],[GAE ID]],'BES NL'!A:L,12,FALSE)","v":"Land van oorsprong"},{"$f":"VLOOKUP(Tabel3[[#This Row],[GAE ID]],'BES EN'!A:L,5,FALSE)","v":"countryCode"},"Conditional",0,2794,"Defined values",{"$f":"VLOOKUP(Tabel3[[#This Row],[GAE ID]],'BES EN'!A:L,7,FALSE)","v":"/catalogue_item_notification:catalogueItemNotificationMessage/transaction/documentCommand/catalogue_item_notification:catalogueItemNotification/catalogueItem/tradeItem/tradeItemInformation/extension/*[namespace-uri()='urn:gs1:gdsn:place_of_item_activity:xsd:3' and local-name()='placeOfItemActivityModule']/placeOfProductActivity/countryOfOrigin/countryCode"},"Regional EU","Verplicht","ANL1014","A","B","C","D","E","F","G","H","I","J","K","L","M","N","O","P","Q","R","S","T",null,null,null,null,null,null,null,null,null,null,null,null,null,null,null,null,null,null,{"$f":"_xlfn.IFNA(HLOOKUP('Veldenlijst (NL)'!$B$2,'Veldenlijst (NL)'!$K$8:$AD$9,2,FALSE),\"\")","v":""}]
[{"$f":"VLOOKUP(Tabel3[[#This Row],[GAE ID]],'BES NL'!A:L,12,FALSE)","v":"Status artikelinformatie"},{"$f":"VLOOKUP(Tabel3[[#This Row],[GAE ID]],'BES EN'!A:L,5,FALSE)","v":"preliminaryItemStatusCode"},"Optional",0,64,"Defined values",{"$f":"VLOOKUP(Tabel3[[#This Row],[GAE ID]],'BES EN'!A:L,7,FALSE)","v":"/catalogue_item_notification:catalogueItemNotificationMessage/transaction/documentCommand/catalogue_item_notification:catalogueItemNotification/catalogueItem/tradeItem/preliminaryItemStatusCode"},"Local"," ","ANL1015","A","B","C","D","E","F","G","H","I","J","K","L","M","N","O","P","Q","R","S","T",null,null,null,null,null,null,null,null,null,null,null,null,null,null,null,null,null,null,null,{"$f":"_xlfn.IFNA(HLOOKUP('Veldenlijst (NL)'!$B$2,'Veldenlijst (NL)'!$K$8:$AD$9,2,FALSE),\"\")","v":""}]
[{"$f":"VLOOKUP(Tabel3[[#This Row],[GAE ID]],'BES NL'!A:L,12,FALSE)","v":"Eerste verzenddatum/tijd"},{"$f":"VLOOKUP(Tabel3[[#This Row],[GAE ID]],'BES EN'!A:L,5,FALSE)","v":"firstShipDateTime"},"Optional",0,1008,"DateTime",{"$f":"VLOOKUP(Tabel3[[#This Row],[GAE ID]],'BES EN'!A:L,7,FALSE)","v":"/catalogue_item_notification:catalogueItemNotificationMessage/transaction/documentCommand/catalogue_item_notification:catalogueItemNotification/catalogueItem/tradeItem/tradeItemInformation/extension/*[namespace-uri()='urn:gs1:gdsn:delivery_purchasing_information:xsd:3' and local-name()='deliveryPurchasingInformationModule']/deliveryPurchasingInformation/firstShipDateTime"},"Local","Verplicht als het veld 'Status artikelinformatie' is ingevuld bij de consumenteneenheid. ","ANL1016","A","B","C","D","E","F","G","H","I","J","K","L","M","N","O","P","Q","R","S","T",null,null,null,null,null,null,null,null,null,null,null,null,null,null,null,null,null,null,null,null,{"$f":"_xlfn.IFNA(HLOOKUP('Veldenlijst (NL)'!$B$2,'Veldenlijst (NL)'!$K$8:$AD$9,2,FALSE),\"\")","v":""}]
[{"$f":"VLOOKUP(Tabel3[[#This Row],[GAE ID]],'BES NL'!A:L,12,FALSE)","v":"Indicatie voordeelverpakking"},{"$f":"VLOOKUP(Tabel3[[#This Row],[GAE ID]],'BES EN'!A:L,5,FALSE)","v":"specialItemCode"},"Conditional","X",1493,"Defined values",{"$f":"VLOOKUP(Tabel3[[#This Row],[GAE ID]],'BES EN'!A:L,7,FALSE)","v":"/catalogue_item_notification:catalogueItemNotificationMessage/transaction/documentCommand/catalogue_item_notification:catalogueItemNotification/catalogueItem/tradeItem/tradeItemInformation/extension/*[namespace-uri()='urn:gs1:gdsn:marketing_information:xsd:3' and local-name()='marketingInformationModule']/marketingInformation/specialItemCode"},"Local","Verplicht als op de verpakking staat vermeld dat het om een voordeelverpakking gaat, optioneel voor detergenten en biociden.","ANL1408","A","B","C","D","E","F","G","H","I","J","K","L","M","N","O","P","Q","R","S","T",null,null,null,null,null,null,null,null,null,null,null,null,null,null,null,null,null,null,null,null,null,{"$f":"_xlfn.IFNA(HLOOKUP('Veldenlijst (NL)'!$B$2,'Veldenlijst (NL)'!$K$8:$AD$9,2,FALSE),\"\")","v":""}]
[{"$f":"VLOOKUP(Tabel3[[#This Row],[GAE ID]],'BES NL'!A:L,12,FALSE)","v":"Doelsector"},{"$f":"VLOOKUP(Tabel3[[#This Row],[GAE ID]],'BES EN'!A:L,5,FALSE)","v":"stringAVP/@attributeName"},"Optional",0,110,"Defined values",{"$f":"VLOOKUP(Tabel3[[#This Row],[GAE ID]],'BES EN'!A:L,7,FALSE)","v":"/catalogue_item_notification:catalogueItemNotificationMessage/transaction/documentCommand/catalogue_item_notification:catalogueItemNotification/catalogueItem/tradeItem/avpList/stringAVP/@attributeName"},"Local ",0,"ANL1420","A","B","C","D","E","F","G","H","I","J","K","L","M","N","O","P","Q","R","S","T"]
["Omschrijvingsvelden",null,null,"",null,"","",null,null,null,"A","B","C","D","E","F","G","H","I","J","K","L","M","N","O","P","Q","R","S","T"]
[{"$f":"VLOOKUP(Tabel3[[#This Row],[GAE ID]],'BES NL'!A:L,12,FALSE)","v":"Volledige omschrijving"},{"$f":"VLOOKUP(Tabel3[[#This Row],[GAE ID]],'BES EN'!A:L,5,FALSE)","v":"tradeItemDescription"},"Mandatory",0,3517,"an..200",{"$f":"VLOOKUP(Tabel3[[#This Row],[GAE ID]],'BES EN'!A:L,7,FALSE)","v":"/catalogue_item_notification:catalogueItemNotificationMessage/transaction/documentCommand/catalogue_item_notification:catalogueItemNotification/catalogueItem/tradeItem/tradeItemInformation/extension/*[namespace-uri()='urn:gs1:gdsn:trade_item_description:xsd:3' and local-name()='tradeItemDescriptionModule']/tradeItemDescriptionInformation/tradeItemDescription"},"Global","Verplicht","ANL1017","A","B","C","D","E","F","G","H","I","J","K","L","M","N","O","P","Q","R","S","T"]
[{"$f":"VLOOKUP(Tabel3[[#This Row],[GAE ID]],'BES NL'!A:L,12,FALSE)","v":"Volledige omschrijving taalcode"},{"$f":"VLOOKUP(Tabel3[[#This Row],[GAE ID]],'BES EN'!A:L,5,FALSE)","v":"tradeItemDescription/@languageCode"},"Mandatory",0,3518,"Defined values",{"$f":"VLOOKUP(Tabel3[[#This Row],[GAE ID]],'BES EN'!A:L,7,FALSE)","v":"/catalogue_item_notification:catalogueItemNotificationMessage/transaction/documentCommand/catalogue_item_notification:catalogueItemNotification/catalogueItem/tradeItem/tradeItemInformation/extension/*[namespace-uri()='urn:gs1:gdsn:trade_item_description:xsd:3' and local-name()='tradeItemDescriptionModule']/tradeItemDescriptionInformation/tradeItemDescription/@languageCode"},"Global","Verplicht","ANL1018","A","B","C","D","E","F","G","H","I","J","K","L","M","N","O","P","Q","R","S","T"]
[{"$f":"VLOOKUP(Tabel3[[#This Row],[GAE ID]],'BES NL'!A:L,12,FALSE)","v":"Korte omschrijving"},{"$f":"VLOOKUP(Tabel3[[#This Row],[GAE ID]],'BES EN'!A:L,5,FALSE)","v":"descriptionShort"},"Conditional",0,3506,"an..35",{"$f":"VLOOKUP(Tabel3[[#This Row],[GAE ID]],'BES EN'!A:L,7,FALSE)","v":"/catalogue_item_notification:catalogueItemNotificationMessage/transaction/documentCommand/catalogue_item_notification:catalogueItemNotification/catalogueItem/tradeItem/tradeItemInformation/extension/*[namespace-uri()='urn:gs1:gdsn:trade_item_description:xsd:3' and local-name()='tradeItemDescriptionModule']/tradeItemDescriptionInformation/descriptionShort"},"Regional EU","Verplicht","ANL1029","A","B","C","D","E","F","G","H","I","J","K","L","M","N","O","P","Q","R","S","T"]
[{"$f":"VLOOKUP(Tabel3[[#This Row],[GAE ID]],'BES NL'!A:L,12,FALSE)","v":"Korte omschrijving taalcode"},{"$f":"VLOOKUP(Tabel3[[#This Row],[GAE ID]],'BES EN'!A:L,5,FALSE)","v":"descriptionShort/@languageCode"},"Conditional",0,3507,"Defined values",{"$f":"VLOOKUP(Tabel3[[#This Row],[GAE ID]],'BES EN'!A:L,7,FALSE)","v":"/catalogue_item_notification:catalogueItemNotificationMessage/transaction/documentCommand/catalogue_item_notification:catalogueItemNotification/catalogueItem/tradeItem/tradeItemInformation/extension/*[namespace-uri()='urn:gs1:gdsn:trade_item_description:xsd:3' and local-name()='tradeItemDescriptionModule']/tradeItemDescriptionInformation/descriptionShort/@languageCode"},"Regional EU","Verplicht","ANL1030","A","B","C","D","E","F","G","H","I","J","K","L","M","N","O","P","Q","R","S","T"]
[{"$f":"VLOOKUP(Tabel3[[#This Row],[GAE ID]],'BES NL'!A:L,12,FALSE)","v":"Variant"},{"$f":"VLOOKUP(Tabel3[[#This Row],[GAE ID]],'BES EN'!A:L,5,FALSE)","v":"variantDescription"},"Conditional","X",3520,"an..500",{"$f":"VLOOKUP(Tabel3[[#This Row],[GAE ID]],'BES EN'!A:L,7,FALSE)","v":"/catalogue_item_notification:catalogueItemNotificationMessage/transaction/documentCommand/catalogue_item_notification:catalogueItemNotification/catalogueItem/tradeItem/tradeItemInformation/extension/*[namespace-uri()='urn:gs1:gdsn:trade_item_description:xsd:3' and local-name()='tradeItemDescriptionModule']/tradeItemDescriptionInformation/variantDescription"},"Local","Verplicht als er verschillende varianten van het artikel zijn en de variant niet is ingevuld in ‘Functionele productnaam’ bij de consumenteneenheid.","ANL1027","A","B","C","D","E","F","G","H","I","J","K","L","M","N","O","P","Q","R","S","T"]
[{"$f":"VLOOKUP(Tabel3[[#This Row],[GAE ID]],'BES NL'!A:L,12,FALSE)","v":"Variant taalcode"},{"$f":"VLOOKUP(Tabel3[[#This Row],[GAE ID]],'BES EN'!A:L,5,FALSE)","v":"variantDescription/@languageCode"},"Conditional",0,3521,"Defined values",{"$f":"VLOOKUP(Tabel3[[#This Row],[GAE ID]],'BES EN'!A:L,7,FALSE)","v":"/catalogue_item_notification:catalogueItemNotificationMessage/transaction/documentCommand/catalogue_item_notification:catalogueItemNotification/catalogueItem/tradeItem/tradeItemInformation/extension/*[namespace-uri()='urn:gs1:gdsn:trade_item_description:xsd:3' and local-name()='tradeItemDescriptionModule']/tradeItemDescriptionInformation/variantDescription/@languageCode"},"Local","Verplicht als het veld 'Variant' is ingevuld bij de consumenteneenheid. ","ANL1028","A","B","C","D","E","F","G","H","I","J","K","L","M","N","O","P","Q","R","S","T"]
[{"$f":"VLOOKUP(Tabel3[[#This Row],[GAE ID]],'BES NL'!A:L,12,FALSE)","v":"Aanvullende omschrijving"},{"$f":"VLOOKUP(Tabel3[[#This Row],[GAE ID]],'BES EN'!A:L,5,FALSE)","v":"additionalTradeItemDescription"},"Optional",0,3504,"an..2000",{"$f":"VLOOKUP(Tabel3[[#This Row],[GAE ID]],'BES EN'!A:L,7,FALSE)","v":"/catalogue_item_notification:catalogueItemNotificationMessage/transaction/documentCommand/catalogue_item_notification:catalogueItemNotification/catalogueItem/tradeItem/tradeItemInformation/extension/*[namespace-uri()='urn:gs1:gdsn:trade_item_description:xsd:3' and local-name()='tradeItemDescriptionModule']/tradeItemDescriptionInformation/additionalTradeItemDescription"},"Global"," ","ANL1033","A","B","C","D","E","F","G","H","I","J","K","L","M","N","O","P","Q","R","S","T"]
[{"$f":"VLOOKUP(Tabel3[[#This Row],[GAE ID]],'BES NL'!A:L,12,FALSE)","v":"Aanvullende omschrijving taalcode"},{"$f":"VLOOKUP(Tabel3[[#This Row],[GAE ID]],'BES EN'!A:L,5,FALSE)","v":"additionalTradeItemDescription/@languageCode"},"Optional",0,3505,"Defined values",{"$f":"VLOOKUP(Tabel3[[#This Row],[GAE ID]],'BES EN'!A:L,7,FALSE)","v":"/catalogue_item_notification:catalogueItemNotificationMessage/transaction/documentCommand/catalogue_item_notification:catalogueItemNotification/catalogueItem/tradeItem/tradeItemInformation/extension/*[namespace-uri()='urn:gs1:gdsn:trade_item_description:xsd:3' and local-name()='tradeItemDescriptionModule']/tradeItemDescriptionInformation/additionalTradeItemDescription/@languageCode"},"Global","Verplicht als het veld 'Aanvullende omschrijving' is ingevuld bij de consumenteneenheid. ","ANL1034","A","B","C","D","E","F","G","H","I","J","K","L","M","N","O","P","Q","R","S","T"]
[{"$f":"VLOOKUP(Tabel3[[#This Row],[GAE ID]],'BES NL'!A:L,12,FALSE)","v":"Merknaam"},{"$f":"VLOOKUP(Tabel3[[#This Row],[GAE ID]],'BES EN'!A:L,5,FALSE)","v":"brandName"},"Mandatory","X",3541,"an..70",{"$f":"VLOOKUP(Tabel3[[#This Row],[GAE ID]],'BES EN'!A:L,7,FALSE)","v":"/catalogue_item_notification:catalogueItemNotificationMessage/transaction/documentCommand/catalogue_item_notification:catalogueItemNotification/catalogueItem/tradeItem/tradeItemInformation/extension/*[namespace-uri()='urn:gs1:gdsn:trade_item_description:xsd:3' and local-name()='tradeItemDescriptionModule']/tradeItemDescriptionInformation/brandNameInformation/brandName"},"Global","Verplicht","ANL1019","A","B","C","D","E","F","G","H","I","J","K","L","M","N","O","P","Q","R","S","T"]
[{"$f":"VLOOKUP(Tabel3[[#This Row],[GAE ID]],'BES NL'!A:L,12,FALSE)","v":"Submerk"},{"$f":"VLOOKUP(Tabel3[[#This Row],[GAE ID]],'BES EN'!A:L,5,FALSE)","v":"subBrand"},"Conditional","X",3546,"an..70",{"$f":"VLOOKUP(Tabel3[[#This Row],[GAE ID]],'BES EN'!A:L,7,FALSE)","v":"/catalogue_item_notification:catalogueItemNotificationMessage/transaction/documentCommand/catalogue_item_notification:catalogueItemNotification/catalogueItem/tradeItem/tradeItemInformation/extension/*[namespace-uri()='urn:gs1:gdsn:trade_item_description:xsd:3' and local-name()='tradeItemDescriptionModule']/tradeItemDescriptionInformation/brandNameInformation/subBrand"},"Global"," ","ANL1022","A","B","C","D","E","F","G","H","I","J","K","L","M","N","O","P","Q","R","S","T"]
[{"$f":"VLOOKUP(Tabel3[[#This Row],[GAE ID]],'BES NL'!A:L,12,FALSE)","v":"Functionele productnaam"},{"$f":"VLOOKUP(Tabel3[[#This Row],[GAE ID]],'BES EN'!A:L,5,FALSE)","v":"functionalName"},"Mandatory","X",3508,"an..35",{"$f":"VLOOKUP(Tabel3[[#This Row],[GAE ID]],'BES EN'!A:L,7,FALSE)","v":"/catalogue_item_notification:catalogueItemNotificationMessage/transaction/documentCommand/catalogue_item_notification:catalogueItemNotification/catalogueItem/tradeItem/tradeItemInformation/extension/*[namespace-uri()='urn:gs1:gdsn:trade_item_description:xsd:3' and local-name()='tradeItemDescriptionModule']/tradeItemDescriptionInformation/functionalName"},"Global","Verplicht","ANL1025","A","B","C","D","E","F","G","H","I","J","K","L","M","N","O","P","Q","R","S","T"]
[{"$f":"VLOOKUP(Tabel3[[#This Row],[GAE ID]],'BES NL'!A:L,12,FALSE)","v":"Functionele productnaam taalcode"},{"$f":"VLOOKUP(Tabel3[[#This Row],[GAE ID]],'BES EN'!A:L,5,FALSE)","v":"functionalName/@languageCode"},"Mandatory",0,3509,"Defined values",{"$f":"VLOOKUP(Tabel3[[#This Row],[GAE ID]],'BES EN'!A:L,7,FALSE)","v":"/catalogue_item_notification:catalogueItemNotificationMessage/transaction/documentCommand/catalogue_item_notification:catalogueItemNotification/catalogueItem/tradeItem/tradeItemInformation/extension/*[namespace-uri()='urn:gs1:gdsn:trade_item_description:xsd:3' and local-name()='tradeItemDescriptionModule']/tradeItemDescriptionInformation/functionalName/@languageCode"},"Global","Verplicht","ANL1026","A","B","C","D","E","F","G","H","I","J","K","L","M","N","O","P","Q","R","S","T"]
[{"$f":"VLOOKUP(Tabel3[[#This Row],[GAE ID]],'BES NL'!A:L,12,FALSE)","v":"Alternatieve kleurbeschrijving"},{"$f":"VLOOKUP(Tabel3[[#This Row],[GAE ID]],'BES EN'!A:L,5,FALSE)","v":"colourDescription"},"Conditional",null,3552,"an..80",{"$f":"VLOOKUP(Tabel3[[#This Row],[GAE ID]],'BES EN'!A:L,7,FALSE)","v":"/catalogue_item_notification:catalogueItemNotificationMessage/transaction/documentCommand/catalogue_item_notification:catalogueItemNotification/catalogueItem/tradeItem/tradeItemInformation/extension/*[namespace-uri()='urn:gs1:gdsn:trade_item_description:xsd:3' and local-name()='tradeItemDescriptionModule']/tradeItemDescriptionInformation/colour/colourDescription"},"Global",0,"ANL1474","-","-","-","-","E","-","-","-","-","-","-","-","-","-","-","-","-","-","-","-"]
[{"$f":"VLOOKUP(Tabel3[[#This Row],[GAE ID]],'BES NL'!A:L,12,FALSE)","v":"Alternatieve kleurbeschrijving taalcode"},{"$f":"VLOOKUP(Tabel3[[#This Row],[GAE ID]],'BES EN'!A:L,5,FALSE)","v":"colourDescription/@languagecode"},"Conditional",null,3553,"Defined values",{"$f":"VLOOKUP(Tabel3[[#This Row],[GAE ID]],'BES EN'!A:L,7,FALSE)","v":"/catalogue_item_notification:catalogueItemNotificationMessage/transaction/documentCommand/catalogue_item_notification:catalogueItemNotification/catalogueItem/tradeItem/tradeItemInformation/extension/*[namespace-uri()='urn:gs1:gdsn:trade_item_description:xsd:3' and local-name()='tradeItemDescriptionModule']/tradeItemDescriptionInformation/colour/colourDescription/@languagecode"},"Global","Verplicht als het veld ‘Alternatieve kleurbeschrijving’ is ingevuld bij de consumenteneenheid.","ANL1475","-","-","-","-","E","-","-","-","-","-","-","-","-","-","-","-","-","-","-","-"]
["Artikelhiërarchie",null,null,"",null,"","",null,null,null,"A","B","C","D","E","F","G","H","I","J","K","L","M","N","O","P","Q","R","S","T"]
[{"$f":"VLOOKUP(Tabel3[[#This Row],[GAE ID]],'BES NL'!A:L,12,FALSE)","v":"Aantal kinderen"},{"$f":"VLOOKUP(Tabel3[[#This Row],[GAE ID]],'BES EN'!A:L,5,FALSE)","v":"quantityOfChildren"},"Conditional",0,199,"Non-negative Integer",{"$f":"VLOOKUP(Tabel3[[#This Row],[GAE ID]],'BES EN'!A:L,7,FALSE)","v":"/catalogue_item_notification:catalogueItemNotificationMessage/transaction/documentCommand/catalogue_item_notification:catalogueItemNotification/catalogueItem/tradeItem/nextLowerLevelTradeItemInformation/quantityOfChildren"},"Global","Verplicht als kinderen aanwezig zijn bij de consumenteneenheid.","ANL1035","A","B","C","D","E","F","G","H","I","J","K","L","M","N","O","P","Q","R","S","T"]
[{"$f":"VLOOKUP(Tabel3[[#This Row],[GAE ID]],'BES NL'!A:L,12,FALSE)","v":"Totaal aantal onderliggende eenheden"},{"$f":"VLOOKUP(Tabel3[[#This Row],[GAE ID]],'BES EN'!A:L,5,FALSE)","v":"totalQuantityOfNextLowerLevelTradeItem"},"Conditional",0,200,"Non-negative Integer",{"$f":"VLOOKUP(Tabel3[[#This Row],[GAE ID]],'BES EN'!A:L,7,FALSE)","v":"/catalogue_item_notification:catalogueItemNotificationMessage/transaction/documentCommand/catalogue_item_notification:catalogueItemNotification/catalogueItem/tradeItem/nextLowerLevelTradeItemInformation/totalQuantityOfNextLowerLevelTradeItem"},"Global","Verplicht als kinderen aanwezig zijn bij de consumenteneenheid.","ANL1036","A","B","C","D","E","F","G","H","I","J","K","L","M","N","O","P","Q","R","S","T"]
[{"$f":"VLOOKUP(Tabel3[[#This Row],[GAE ID]],'BES NL'!A:L,12,FALSE)","v":"GS1 artikelcode (GTIN) dochterniveau"},{"$f":"VLOOKUP(Tabel3[[#This Row],[GAE ID]],'BES EN'!A:L,5,FALSE)","v":"gtin"},"Conditional",0,203,"n14",{"$f":"VLOOKUP(Tabel3[[#This Row],[GAE ID]],'BES EN'!A:L,7,FALSE)","v":"/catalogue_item_notification:catalogueItemNotificationMessage/transaction/documentCommand/catalogue_item_notification:catalogueItemNotification/catalogueItem/tradeItem/nextLowerLevelTradeItemInformation/childTradeItem/gtin"},"Global","Verplicht als kinderen aanwezig zijn bij de consumenteneenheid.","ANL1037","A","B","C","D","E","F","G","H","I","J","K","L","M","N","O","P","Q","R","S","T"]
[{"$f":"VLOOKUP(Tabel3[[#This Row],[GAE ID]],'BES NL'!A:L,12,FALSE)","v":"Aantal onderliggende eenheden"},{"$f":"VLOOKUP(Tabel3[[#This Row],[GAE ID]],'BES EN'!A:L,5,FALSE)","v":"quantityOfNextLowerLevelTradeItem"},"Conditional",0,202,"Non-negative Integer",{"$f":"VLOOKUP(Tabel3[[#This Row],[GAE ID]],'BES EN'!A:L,7,FALSE)","v":"/catalogue_item_notification:catalogueItemNotificationMessage/transaction/documentCommand/catalogue_item_notification:catalogueItemNotification/catalogueItem/tradeItem/nextLowerLevelTradeItemInformation/childTradeItem/quantityOfNextLowerLevelTradeItem"},"Global","Verplicht als kinderen aanwezig zijn bij de consumenteneenheid.","ANL1038","A","B","C","D","E","F","G","H","I","J","K","L","M","N","O","P","Q","R","S","T"]
["Producteigenaarinformatie",null,null,"",null,"","",null,null,null,"A","B","C","D","E","F","G","H","I","J","K","L","M","N","O","P","Q","R","S","T"]
[{"$f":"VLOOKUP(Tabel3[[#This Row],[GAE ID]],'BES NL'!A:L,12,FALSE)","v":"GS1 locatiecode (GLN) merkhouder"},{"$f":"VLOOKUP(Tabel3[[#This Row],[GAE ID]],'BES EN'!A:L,5,FALSE)","v":"gln"},"Conditional","X",75,"n13",{"$f":"VLOOKUP(Tabel3[[#This Row],[GAE ID]],'BES EN'!A:L,7,FALSE)","v":"/catalogue_item_notification:catalogueItemNotificationMessage/transaction/documentCommand/catalogue_item_notification:catalogueItemNotification/catalogueItem/tradeItem/brandOwner/gln"},"Global","Verplicht als de dataleverancier niet de merkeigenaar is","ANL1039","A","B","C","D","E","F","G","H","I","J","K","L","M","N","O","P","Q","R","S","T"]
[{"$f":"VLOOKUP(Tabel3[[#This Row],[GAE ID]],'BES NL'!A:L,12,FALSE)","v":"Naam merkhouder"},{"$f":"VLOOKUP(Tabel3[[#This Row],[GAE ID]],'BES EN'!A:L,5,FALSE)","v":"partyName"},"Conditional","X",77,"an..200",{"$f":"VLOOKUP(Tabel3[[#This Row],[GAE ID]],'BES EN'!A:L,7,FALSE)","v":"/catalogue_item_notification:catalogueItemNotificationMessage/transaction/documentCommand/catalogue_item_notification:catalogueItemNotification/catalogueItem/tradeItem/brandOwner/partyName"},"Global","Verplicht als de dataleverancier niet de merkeigenaar is.","ANL1040","A","B","C","D","E","F","G","H","I","J","K","L","M","N","O","P","Q","R","S","T"]
[{"$f":"VLOOKUP(Tabel3[[#This Row],[GAE ID]],'BES NL'!A:L,12,FALSE)","v":"GS1 locatiecode (GLN) fabrikant"},{"$f":"VLOOKUP(Tabel3[[#This Row],[GAE ID]],'BES EN'!A:L,5,FALSE)","v":"gln"},"Conditional",0,91,"n13",{"$f":"VLOOKUP(Tabel3[[#This Row],[GAE ID]],'BES EN'!A:L,7,FALSE)","v":"/catalogue_item_notification:catalogueItemNotificationMessage/transaction/documentCommand/catalogue_item_notification:catalogueItemNotification/catalogueItem/tradeItem/manufacturerOfTradeItem/gln"},"Global","Verplicht voor doelmarkt België als het een alcoholbevattend bier betreft.","ANL1041","A","B","C","D","-","F","G","H","I","J","K","L","M","N","O","P","Q","R","S","T"]
[{"$f":"VLOOKUP(Tabel3[[#This Row],[GAE ID]],'BES NL'!A:L,12,FALSE)","v":"Naam fabrikant"},{"$f":"VLOOKUP(Tabel3[[#This Row],[GAE ID]],'BES EN'!A:L,5,FALSE)","v":"partyName"},"Conditional",0,93,"an..200",{"$f":"VLOOKUP(Tabel3[[#This Row],[GAE ID]],'BES EN'!A:L,7,FALSE)","v":"/catalogue_item_notification:catalogueItemNotificationMessage/transaction/documentCommand/catalogue_item_notification:catalogueItemNotification/catalogueItem/tradeItem/manufacturerOfTradeItem/partyName"},"Global","Verplicht voor doelmarkt België als het een alcoholbevattend bier betreft.","ANL1042","A","B","C","D","-","F","G","H","I","J","K","L","M","N","O","P","Q","R","S","T"]
["Transactie-informatie",null,null,"",null,"","",null,null,null,"A","B","C","D","E","F","G","H","I","J","K","L","M","N","O","P","Q","R","S","T"]
[{"$f":"VLOOKUP(Tabel3[[#This Row],[GAE ID]],'BES NL'!A:L,12,FALSE)","v":"Indicatie basiseenheid"},{"$f":"VLOOKUP(Tabel3[[#This Row],[GAE ID]],'BES EN'!A:L,5,FALSE)","v":"isTradeItemABaseUnit"},"Mandatory",0,56,"Boolean",{"$f":"VLOOKUP(Tabel3[[#This Row],[GAE ID]],'BES EN'!A:L,7,FALSE)","v":"/catalogue_item_notification:catalogueItemNotificationMessage/transaction/documentCommand/catalogue_item_notification:catalogueItemNotification/catalogueItem/tradeItem/isTradeItemABaseUnit"},"Global","Verplicht","ANL1043","A","B","C","D","E","F","G","H","I","J","K","L","M","N","O","P","Q","R","S","T"]
[{"$f":"VLOOKUP(Tabel3[[#This Row],[GAE ID]],'BES NL'!A:L,12,FALSE)","v":"Indicatie consumenteneenheid"},{"$f":"VLOOKUP(Tabel3[[#This Row],[GAE ID]],'BES EN'!A:L,5,FALSE)","v":"isTradeItemAConsumerUnit"},"Mandatory",0,57,"Boolean",{"$f":"VLOOKUP(Tabel3[[#This Row],[GAE ID]],'BES EN'!A:L,7,FALSE)","v":"/catalogue_item_notification:catalogueItemNotificationMessage/transaction/documentCommand/catalogue_item_notification:catalogueItemNotification/catalogueItem/tradeItem/isTradeItemAConsumerUnit"},"Global","Verplicht","ANL1044","A","B","C","D","E","F","G","H","I","J","K","L","M","N","O","P","Q","R","S","T"]
[{"$f":"VLOOKUP(Tabel3[[#This Row],[GAE ID]],'BES NL'!A:L,12,FALSE)","v":"Indicatie besteleenheid"},{"$f":"VLOOKUP(Tabel3[[#This Row],[GAE ID]],'BES EN'!A:L,5,FALSE)","v":"isTradeItemAnOrderableUnit"},"Mandatory",0,60,"Boolean",{"$f":"VLOOKUP(Tabel3[[#This Row],[GAE ID]],'BES EN'!A:L,7,FALSE)","v":"/catalogue_item_notification:catalogueItemNotificationMessage/transaction/documentCommand/catalogue_item_notification:catalogueItemNotification/catalogueItem/tradeItem/isTradeItemAnOrderableUnit"},"Global","Verplicht","ANL1045","A","B","C","D","E","F","G","H","I","J","K","L","M","N","O","P","Q","R","S","T"]
[{"$f":"VLOOKUP(Tabel3[[#This Row],[GAE ID]],'BES NL'!A:L,12,FALSE)","v":"Indicatie levereenheid"},{"$f":"VLOOKUP(Tabel3[[#This Row],[GAE ID]],'BES EN'!A:L,5,FALSE)","v":"isTradeItemADespatchUnit"},"Mandatory",0,58,"Boolean",{"$f":"VLOOKUP(Tabel3[[#This Row],[GAE ID]],'BES EN'!A:L,7,FALSE)","v":"/catalogue_item_notification:catalogueItemNotificationMessage/transaction/documentCommand/catalogue_item_notification:catalogueItemNotification/catalogueItem/tradeItem/isTradeItemADespatchUnit"},"Global","Verplicht","ANL1046","A","B","C","D","E","F","G","H","I","J","K","L","M","N","O","P","Q","R","S","T"]
[{"$f":"VLOOKUP(Tabel3[[#This Row],[GAE ID]],'BES NL'!A:L,12,FALSE)","v":"Indicatie variabel artikel"},{"$f":"VLOOKUP(Tabel3[[#This Row],[GAE ID]],'BES EN'!A:L,5,FALSE)","v":"isTradeItemAVariableUnit"},"Mandatory",0,3908,"Boolean",{"$f":"VLOOKUP(Tabel3[[#This Row],[GAE ID]],'BES EN'!A:L,7,FALSE)","v":"/catalogue_item_notification:catalogueItemNotificationMessage/transaction/documentCommand/catalogue_item_notification:catalogueItemNotification/catalogueItem/tradeItem/tradeItemInformation/extension/*[namespace-uri()='urn:gs1:gdsn:variable_trade_item_information:xsd:3' and local-name()='variableTradeItemInformationModule']/variableTradeItemInformation/isTradeItemAVariableUnit"},"Global","Verplicht","ANL1048","A","B","C","D","E","F","-","-","-","-","K","-","M","N","O","P","Q","R","S","T"]
[{"$f":"VLOOKUP(Tabel3[[#This Row],[GAE ID]],'BES NL'!A:L,12,FALSE)","v":"Indicatie displayeenheid"},{"$f":"VLOOKUP(Tabel3[[#This Row],[GAE ID]],'BES EN'!A:L,5,FALSE)","v":"isTradeItemADisplayUnit"},"Conditional",0,151,"Non-binary logic enumeration",{"$f":"VLOOKUP(Tabel3[[#This Row],[GAE ID]],'BES EN'!A:L,7,FALSE)","v":"/catalogue_item_notification:catalogueItemNotificationMessage/transaction/documentCommand/catalogue_item_notification:catalogueItemNotification/catalogueItem/tradeItem/displayUnitInformation/isTradeItemADisplayUnit"},"Local","Verplicht als de consumenteneenheid een display eenheid is.","ANL1049","A","B","-","-","E","F","G","H","I","J","K","L","M","N","O","P","Q","R","S","T"]
[{"$f":"VLOOKUP(Tabel3[[#This Row],[GAE ID]],'BES NL'!A:L,12,FALSE)","v":"Is seizoensartikel"},{"$f":"VLOOKUP(Tabel3[[#This Row],[GAE ID]],'BES EN'!A:L,5,FALSE)","v":"isTradeItemSeasonal"},"Conditional",0,1550,"Non-binary logic enumeration",{"$f":"VLOOKUP(Tabel3[[#This Row],[GAE ID]],'BES EN'!A:L,7,FALSE)","v":"/catalogue_item_notification:catalogueItemNotificationMessage/transaction/documentCommand/catalogue_item_notification:catalogueItemNotification/catalogueItem/tradeItem/tradeItemInformation/extension/*[namespace-uri()='urn:gs1:gdsn:marketing_information:xsd:3' and local-name()='marketingInformationModule']/marketingInformation/season/isTradeItemSeasonal"},"Regional EU"," ","ANL1050","A","B","C","D","E","F","G","H","I","J","K","-","M","N","O","P","Q","R","S","T"]
[{"$f":"VLOOKUP(Tabel3[[#This Row],[GAE ID]],'BES NL'!A:L,12,FALSE)","v":"Startdatum/tijd beschikbaarheid"},{"$f":"VLOOKUP(Tabel3[[#This Row],[GAE ID]],'BES EN'!A:L,5,FALSE)","v":"startAvailabilityDateTime"},"Mandatory",0,1025,"DateTime",{"$f":"VLOOKUP(Tabel3[[#This Row],[GAE ID]],'BES EN'!A:L,7,FALSE)","v":"/catalogue_item_notification:catalogueItemNotificationMessage/transaction/documentCommand/catalogue_item_notification:catalogueItemNotification/catalogueItem/tradeItem/tradeItemInformation/extension/*[namespace-uri()='urn:gs1:gdsn:delivery_purchasing_information:xsd:3' and local-name()='deliveryPurchasingInformationModule']/deliveryPurchasingInformation/startAvailabilityDateTime"},"Global","Verplicht","ANL1051","A","B","C","D","E","F","G","H","I","J","K","L","M","N","O","P","Q","R","S","T"]
[{"$f":"VLOOKUP(Tabel3[[#This Row],[GAE ID]],'BES NL'!A:L,12,FALSE)","v":"Einddatum/tijd beschikbaarheid"},{"$f":"VLOOKUP(Tabel3[[#This Row],[GAE ID]],'BES EN'!A:L,5,FALSE)","v":"endAvailabilityDateTime"},"Conditional",0,1002,"DateTime",{"$f":"VLOOKUP(Tabel3[[#This Row],[GAE ID]],'BES EN'!A:L,7,FALSE)","v":"/catalogue_item_notification:catalogueItemNotificationMessage/transaction/documentCommand/catalogue_item_notification:catalogueItemNotification/catalogueItem/tradeItem/tradeItemInformation/extension/*[namespace-uri()='urn:gs1:gdsn:delivery_purchasing_information:xsd:3' and local-name()='deliveryPurchasingInformationModule']/deliveryPurchasingInformation/endAvailabilityDateTime"},"Global","Verplicht als het artikel tijdelijk niet beschikbaar is of als de leverancier het artikel definitief wil beëindigen.","ANL1052","A","B","C","D","E","F","G","H","I","J","K","L","M","N","O","P","Q","R","S","T"]
[{"$f":"VLOOKUP(Tabel3[[#This Row],[GAE ID]],'BES NL'!A:L,12,FALSE)","v":"Eerste beschikbaarheid voor consument"},{"$f":"VLOOKUP(Tabel3[[#This Row],[GAE ID]],'BES EN'!A:L,5,FALSE)","v":"consumerFirstAvailabilityDateTime"},"Optional",0,1001,"DateTime",{"$f":"VLOOKUP(Tabel3[[#This Row],[GAE ID]],'BES EN'!A:L,7,FALSE)","v":"/catalogue_item_notification:catalogueItemNotificationMessage/transaction/documentCommand/catalogue_item_notification:catalogueItemNotification/catalogueItem/tradeItem/tradeItemInformation/extension/*[namespace-uri()='urn:gs1:gdsn:delivery_purchasing_information:xsd:3' and local-name()='deliveryPurchasingInformationModule']/deliveryPurchasingInformation/consumerFirstAvailabilityDateTime"},"Local"," ","ANL1056","A","B","C","D","E","F","G","H","I","J","K","L","M","N","O","P","Q","R","S","T"]
[{"$f":"VLOOKUP(Tabel3[[#This Row],[GAE ID]],'BES NL'!A:L,12,FALSE)","v":"Type verwijzing naar GS1 artikelcode (GTIN)"},{"$f":"VLOOKUP(Tabel3[[#This Row],[GAE ID]],'BES EN'!A:L,5,FALSE)","v":"gtin"},"Conditional",0,116,"n14",{"$f":"VLOOKUP(Tabel3[[#This Row],[GAE ID]],'BES EN'!A:L,7,FALSE)","v":"/catalogue_item_notification:catalogueItemNotificationMessage/transaction/documentCommand/catalogue_item_notification:catalogueItemNotification/catalogueItem/tradeItem/referencedTradeItem/gtin"},"Global"," ","ANL1057","A","B","C","D","E","F","G","H","I","J","K","L","M","N","O","P","Q","R","S","T"]
[{"$f":"VLOOKUP(Tabel3[[#This Row],[GAE ID]],'BES NL'!A:L,12,FALSE)","v":"Code type verwijzing naar GS1 artikelcode"},{"$f":"VLOOKUP(Tabel3[[#This Row],[GAE ID]],'BES EN'!A:L,5,FALSE)","v":"referencedTradeItemTypeCode"},"Conditional",0,115,"Defined values",{"$f":"VLOOKUP(Tabel3[[#This Row],[GAE ID]],'BES EN'!A:L,7,FALSE)","v":"/catalogue_item_notification:catalogueItemNotificationMessage/transaction/documentCommand/catalogue_item_notification:catalogueItemNotification/catalogueItem/tradeItem/referencedTradeItem/referencedTradeItemTypeCode"},"Global","Verplicht als het veld 'Type verwijzing naar GS1 artikelcode (GTIN)' is ingevuld bij de consumenteneenheid. ","ANL1058","A","B","C","D","E","F","G","H","I","J","K","L","M","N","O","P","Q","R","S","T"]
[{"$f":"VLOOKUP(Tabel3[[#This Row],[GAE ID]],'BES NL'!A:L,12,FALSE)","v":"Indicatie prijsvermelding"},{"$f":"VLOOKUP(Tabel3[[#This Row],[GAE ID]],'BES EN'!A:L,5,FALSE)","v":"isPriceOnPack"},"Conditional",0,2309,"Boolean",{"$f":"VLOOKUP(Tabel3[[#This Row],[GAE ID]],'BES EN'!A:L,7,FALSE)","v":"/catalogue_item_notification:catalogueItemNotificationMessage/transaction/documentCommand/catalogue_item_notification:catalogueItemNotification/catalogueItem/tradeItem/tradeItemInformation/extension/*[namespace-uri()='urn:gs1:gdsn:packaging_marking:xsd:3' and local-name()='packagingMarkingModule']/packagingMarking/isPriceOnPack"},"Local","Verplicht als de prijs op de verpakking wordt aangegeven (behalve voor artikelen met een in-store code) bij de consumenteneenheid.","ANL1059","A","B","C","D","E","F","G","H","I","J","K","L","M","N","O","P","Q","R","S","T"]
[{"$f":"VLOOKUP(Tabel3[[#This Row],[GAE ID]],'BES NL'!A:L,12,FALSE)","v":"Adviesverkoopprijs"},{"$f":"VLOOKUP(Tabel3[[#This Row],[GAE ID]],'BES EN'!A:L,5,FALSE)","v":"tradeItemPrice"},"Optional",0,3401,"n..18",{"$f":"VLOOKUP(Tabel3[[#This Row],[GAE ID]],'BES EN'!A:L,7,FALSE)","v":"/catalogue_item_notification:catalogueItemNotificationMessage/transaction/documentCommand/catalogue_item_notification:catalogueItemNotification/catalogueItem/tradeItem/tradeItemInformation/extension/*[namespace-uri()='urn:gs1:gdsn:sales_information:xsd:3' and local-name()='salesInformationModule']/tradeItemPriceInformation/suggestedRetailPrice/tradeItemPrice"},"Local"," ","ANL1060","A","B","C","D","E","F","G","H","I","J","K","L","M","N","O","P","Q","R","S","T"]
[{"$f":"VLOOKUP(Tabel3[[#This Row],[GAE ID]],'BES NL'!A:L,12,FALSE)","v":"Adviesverkoopprijs valutacode"},{"$f":"VLOOKUP(Tabel3[[#This Row],[GAE ID]],'BES EN'!A:L,5,FALSE)","v":"tradeItemPrice/@currencyCode"},"Optional",0,3402,"Defined values",{"$f":"VLOOKUP(Tabel3[[#This Row],[GAE ID]],'BES EN'!A:L,7,FALSE)","v":"/catalogue_item_notification:catalogueItemNotificationMessage/transaction/documentCommand/catalogue_item_notification:catalogueItemNotification/catalogueItem/tradeItem/tradeItemInformation/extension/*[namespace-uri()='urn:gs1:gdsn:sales_information:xsd:3' and local-name()='salesInformationModule']/tradeItemPriceInformation/suggestedRetailPrice/tradeItemPrice/@currencyCode"},"Local","Verplicht als het veld 'Adviesverkoopprijs' is ingevuld bij de consumenteneenheid. ","ANL1061","A","B","C","D","E","F","G","H","I","J","K","L","M","N","O","P","Q","R","S","T"]
[{"$f":"VLOOKUP(Tabel3[[#This Row],[GAE ID]],'BES NL'!A:L,12,FALSE)","v":"Product is een service"},{"$f":"VLOOKUP(Tabel3[[#This Row],[GAE ID]],'BES EN'!A:L,5,FALSE)","v":"isTradeItemAService"},"Optional",0,61,"Boolean",{"$f":"VLOOKUP(Tabel3[[#This Row],[GAE ID]],'BES EN'!A:L,7,FALSE)","v":"/catalogue_item_notification:catalogueItemNotificationMessage/transaction/documentCommand/catalogue_item_notification:catalogueItemNotification/catalogueItem/tradeItem/isTradeItemAService"},"Local",0,"ANL1379","A","B","-","-","-","-","-","-","-","-","-","-","-","-","-","-","-","-","-","T"]
[{"$f":"VLOOKUP(Tabel3[[#This Row],[GAE ID]],'BES NL'!A:L,12,FALSE)","v":"Staat van het product"},{"$f":"VLOOKUP(Tabel3[[#This Row],[GAE ID]],'BES EN'!A:L,5,FALSE)","v":"tradeItemConditionCode"},"Optional",0,3334,"Defined values",{"$f":"VLOOKUP(Tabel3[[#This Row],[GAE ID]],'BES EN'!A:L,7,FALSE)","v":"/catalogue_item_notification:catalogueItemNotificationMessage/transaction/documentCommand/catalogue_item_notification:catalogueItemNotification/catalogueItem/tradeItem/tradeItemInformation/extension/*[namespace-uri()='urn:gs1:gdsn:sales_information:xsd:3' and local-name()='salesInformationModule']/salesInformation/tradeItemConditionCode"},"Local",0,"ANL1380","A","B","C","D","E","-","-","-","-","-","-","-","-","-","-","-","-","-","-","-"]
[{"$f":"VLOOKUP(Tabel3[[#This Row],[GAE ID]],'BES NL'!A:L,12,FALSE)","v":"Genetische manipulatie code"},{"$f":"VLOOKUP(Tabel3[[#This Row],[GAE ID]],'BES EN'!A:L,5,FALSE)","v":"geneticallyModifiedDeclarationCode"},"Conditional",0,1258,"Defined values",{"$f":"VLOOKUP(Tabel3[[#This Row],[GAE ID]],'BES EN'!A:L,7,FALSE)","v":"/catalogue_item_notification:catalogueItemNotificationMessage/transaction/documentCommand/catalogue_item_notification:catalogueItemNotification/catalogueItem/tradeItem/tradeItemInformation/extension/*[namespace-uri()='urn:gs1:gdsn:farming_and_processing_information:xsd:3' and local-name()='farmingAndProcessingInformationModule']/tradeItemFarmingAndProcessing/geneticallyModifiedDeclarationCode"},"Regional EU"," ","ANL1230","A","B","C","D","E","F","-","-","-","J","K","-","-","N","O","-","-","-","-","-"]
["Belastinginformatie",null,null,"",null,"","",null,null,null,"A","B","C","D","E","F","G","H","I","J","K","L","M","N","O","P","Q","R","S","T"]
[{"$f":"VLOOKUP(Tabel3[[#This Row],[GAE ID]],'BES NL'!A:L,12,FALSE)","v":"Code soort belasting"},{"$f":"VLOOKUP(Tabel3[[#This Row],[GAE ID]],'BES EN'!A:L,5,FALSE)","v":"dutyFeeTaxTypeCode"},"Conditional",0,1152,"Defined values",{"$f":"VLOOKUP(Tabel3[[#This Row],[GAE ID]],'BES EN'!A:L,7,FALSE)","v":"/catalogue_item_notification:catalogueItemNotificationMessage/transaction/documentCommand/catalogue_item_notification:catalogueItemNotification/catalogueItem/tradeItem/tradeItemInformation/extension/*[namespace-uri()='urn:gs1:gdsn:duty_fee_tax_information:xsd:3' and local-name()='dutyFeeTaxInformationModule']/dutyFeeTaxInformation/dutyFeeTaxTypeCode"},"Regional EU","Verplicht","ANL1065","A","B","C","D","E","F","G","H","I","J","K","L","M","N","O","P","Q","R","S","T"]
[{"$f":"VLOOKUP(Tabel3[[#This Row],[GAE ID]],'BES NL'!A:L,12,FALSE)","v":"Code belastingdienst"},{"$f":"VLOOKUP(Tabel3[[#This Row],[GAE ID]],'BES EN'!A:L,5,FALSE)","v":"dutyFeeTaxAgencyCode"},"Optional",0,1146,"Defined values",{"$f":"VLOOKUP(Tabel3[[#This Row],[GAE ID]],'BES EN'!A:L,7,FALSE)","v":"/catalogue_item_notification:catalogueItemNotificationMessage/transaction/documentCommand/catalogue_item_notification:catalogueItemNotification/catalogueItem/tradeItem/tradeItemInformation/extension/*[namespace-uri()='urn:gs1:gdsn:duty_fee_tax_information:xsd:3' and local-name()='dutyFeeTaxInformationModule']/dutyFeeTaxInformation/dutyFeeTaxAgencyCode"},"Local",0,"ANL1287","A","B","C","D","E","F","G","H","I","J","K","L","M","N","O","P","Q","R","S","T"]
[{"$f":"VLOOKUP(Tabel3[[#This Row],[GAE ID]],'BES NL'!A:L,12,FALSE)","v":"Code belastingtarief"},{"$f":"VLOOKUP(Tabel3[[#This Row],[GAE ID]],'BES EN'!A:L,5,FALSE)","v":"dutyFeeTaxCategoryCode"},"Conditional","X",1175,"an..35",{"$f":"VLOOKUP(Tabel3[[#This Row],[GAE ID]],'BES EN'!A:L,7,FALSE)","v":"/catalogue_item_notification:catalogueItemNotificationMessage/transaction/documentCommand/catalogue_item_notification:catalogueItemNotification/catalogueItem/tradeItem/tradeItemInformation/extension/*[namespace-uri()='urn:gs1:gdsn:duty_fee_tax_information:xsd:3' and local-name()='dutyFeeTaxInformationModule']/dutyFeeTaxInformation/dutyFeeTax/dutyFeeTaxCategoryCode"},"Regional EU","Verplicht","ANL1069","A","B","C","D","E","F","G","H","I","J","K","L","M","N","O","P","Q","R","S","T"]
["Afmetingen en gewichten",null,null,null,null,null,null,null,null,null,"A","B","C","D","E","F","G","H","I","J","K","L","M","N","O","P","Q","R","S","T"]
[{"$f":"VLOOKUP(Tabel3[[#This Row],[GAE ID]],'BES NL'!A:L,12,FALSE)","v":"Diepte"},{"$f":"VLOOKUP(Tabel3[[#This Row],[GAE ID]],'BES EN'!A:L,5,FALSE)","v":"depth"},"Mandatory","X",3721,"n..15",{"$f":"VLOOKUP(Tabel3[[#This Row],[GAE ID]],'BES EN'!A:L,7,FALSE)","v":"/catalogue_item_notification:catalogueItemNotificationMessage/transaction/documentCommand/catalogue_item_notification:catalogueItemNotification/catalogueItem/tradeItem/tradeItemInformation/extension/*[namespace-uri()='urn:gs1:gdsn:trade_item_measurements:xsd:3' and local-name()='tradeItemMeasurementsModule']/tradeItemMeasurements/depth"},"Global","Verplicht","ANL1075","A","B","C","D","E","F","G","H","I","J","K","L","M","N","O","P","Q","R","S","T"]
[{"$f":"VLOOKUP(Tabel3[[#This Row],[GAE ID]],'BES NL'!A:L,12,FALSE)","v":"Eenheid diepte"},{"$f":"VLOOKUP(Tabel3[[#This Row],[GAE ID]],'BES EN'!A:L,5,FALSE)","v":"depth/@measurementUnitcode"},"Mandatory","X",3722,"Defined values",{"$f":"VLOOKUP(Tabel3[[#This Row],[GAE ID]],'BES EN'!A:L,7,FALSE)","v":"/catalogue_item_notification:catalogueItemNotificationMessage/transaction/documentCommand/catalogue_item_notification:catalogueItemNotification/catalogueItem/tradeItem/tradeItemInformation/extension/*[namespace-uri()='urn:gs1:gdsn:trade_item_measurements:xsd:3' and local-name()='tradeItemMeasurementsModule']/tradeItemMeasurements/depth/@measurementUnitcode"},"Global","Verplicht","ANL1076","A","B","C","D","E","F","G","H","I","J","K","L","M","N","O","P","Q","R","S","T"]
[{"$f":"VLOOKUP(Tabel3[[#This Row],[GAE ID]],'BES NL'!A:L,12,FALSE)","v":"Hoogte"},{"$f":"VLOOKUP(Tabel3[[#This Row],[GAE ID]],'BES EN'!A:L,5,FALSE)","v":"height"},"Mandatory","X",3725,"n..15",{"$f":"VLOOKUP(Tabel3[[#This Row],[GAE ID]],'BES EN'!A:L,7,FALSE)","v":"/catalogue_item_notification:catalogueItemNotificationMessage/transaction/documentCommand/catalogue_item_notification:catalogueItemNotification/catalogueItem/tradeItem/tradeItemInformation/extension/*[namespace-uri()='urn:gs1:gdsn:trade_item_measurements:xsd:3' and local-name()='tradeItemMeasurementsModule']/tradeItemMeasurements/height"},"Global","Verplicht","ANL1077","A","B","C","D","E","F","G","H","I","J","K","L","M","N","O","P","Q","R","S","T"]
[{"$f":"VLOOKUP(Tabel3[[#This Row],[GAE ID]],'BES NL'!A:L,12,FALSE)","v":"Eenheid hoogte"},{"$f":"VLOOKUP(Tabel3[[#This Row],[GAE ID]],'BES EN'!A:L,5,FALSE)","v":"height/@measurementUnitcode"},"Mandatory","X",3726,"Defined values",{"$f":"VLOOKUP(Tabel3[[#This Row],[GAE ID]],'BES EN'!A:L,7,FALSE)","v":"/catalogue_item_notification:catalogueItemNotificationMessage/transaction/documentCommand/catalogue_item_notification:catalogueItemNotification/catalogueItem/tradeItem/tradeItemInformation/extension/*[namespace-uri()='urn:gs1:gdsn:trade_item_measurements:xsd:3' and local-name()='tradeItemMeasurementsModule']/tradeItemMeasurements/height/@measurementUnitcode"},"Global","Verplicht","ANL1078","A","B","C","D","E","F","G","H","I","J","K","L","M","N","O","P","Q","R","S","T"]
[{"$f":"VLOOKUP(Tabel3[[#This Row],[GAE ID]],'BES NL'!A:L,12,FALSE)","v":"Breedte"},{"$f":"VLOOKUP(Tabel3[[#This Row],[GAE ID]],'BES EN'!A:L,5,FALSE)","v":"width"},"Mandatory","X",3739,"n..15",{"$f":"VLOOKUP(Tabel3[[#This Row],[GAE ID]],'BES EN'!A:L,7,FALSE)","v":"/catalogue_item_notification:catalogueItemNotificationMessage/transaction/documentCommand/catalogue_item_notification:catalogueItemNotification/catalogueItem/tradeItem/tradeItemInformation/extension/*[namespace-uri()='urn:gs1:gdsn:trade_item_measurements:xsd:3' and local-name()='tradeItemMeasurementsModule']/tradeItemMeasurements/width"},"Global","Verplicht","ANL1079","A","B","C","D","E","F","G","H","I","J","K","L","M","N","O","P","Q","R","S","T"]
[{"$f":"VLOOKUP(Tabel3[[#This Row],[GAE ID]],'BES NL'!A:L,12,FALSE)","v":"Eenheid breedte"},{"$f":"VLOOKUP(Tabel3[[#This Row],[GAE ID]],'BES EN'!A:L,5,FALSE)","v":"width/@measurementUnitcode"},"Mandatory","X",3740,"Defined values",{"$f":"VLOOKUP(Tabel3[[#This Row],[GAE ID]],'BES EN'!A:L,7,FALSE)","v":"/catalogue_item_notification:catalogueItemNotificationMessage/transaction/documentCommand/catalogue_item_notification:catalogueItemNotification/catalogueItem/tradeItem/tradeItemInformation/extension/*[namespace-uri()='urn:gs1:gdsn:trade_item_measurements:xsd:3' and local-name()='tradeItemMeasurementsModule']/tradeItemMeasurements/width/@measurementUnitcode"},"Global","Verplicht","ANL1080","A","B","C","D","E","F","G","H","I","J","K","L","M","N","O","P","Q","R","S","T"]
[{"$f":"VLOOKUP(Tabel3[[#This Row],[GAE ID]],'BES NL'!A:L,12,FALSE)","v":"Brutogewicht"},{"$f":"VLOOKUP(Tabel3[[#This Row],[GAE ID]],'BES EN'!A:L,5,FALSE)","v":"grossWeight"},"Mandatory","X",3777,"n..15",{"$f":"VLOOKUP(Tabel3[[#This Row],[GAE ID]],'BES EN'!A:L,7,FALSE)","v":"/catalogue_item_notification:catalogueItemNotificationMessage/transaction/documentCommand/catalogue_item_notification:catalogueItemNotification/catalogueItem/tradeItem/tradeItemInformation/extension/*[namespace-uri()='urn:gs1:gdsn:trade_item_measurements:xsd:3' and local-name()='tradeItemMeasurementsModule']/tradeItemMeasurements/tradeItemWeight/grossWeight"},"Global","Verplicht","ANL1081","A","B","C","D","E","F","G","H","I","J","K","L","M","N","O","P","Q","R","S","T"]
[{"$f":"VLOOKUP(Tabel3[[#This Row],[GAE ID]],'BES NL'!A:L,12,FALSE)","v":"Eenheid brutogewicht"},{"$f":"VLOOKUP(Tabel3[[#This Row],[GAE ID]],'BES EN'!A:L,5,FALSE)","v":"grossWeight/@measurementUnitCode"},"Mandatory","X",3778,"Defined values",{"$f":"VLOOKUP(Tabel3[[#This Row],[GAE ID]],'BES EN'!A:L,7,FALSE)","v":"/catalogue_item_notification:catalogueItemNotificationMessage/transaction/documentCommand/catalogue_item_notification:catalogueItemNotification/catalogueItem/tradeItem/tradeItemInformation/extension/*[namespace-uri()='urn:gs1:gdsn:trade_item_measurements:xsd:3' and local-name()='tradeItemMeasurementsModule']/tradeItemMeasurements/tradeItemWeight/grossWeight/@measurementUnitCode"},"Global","Verplicht","ANL1082","A","B","C","D","E","F","G","H","I","J","K","L","M","N","O","P","Q","R","S","T"]
[{"$f":"VLOOKUP(Tabel3[[#This Row],[GAE ID]],'BES NL'!A:L,12,FALSE)","v":"Netto-inhoud"},{"$f":"VLOOKUP(Tabel3[[#This Row],[GAE ID]],'BES EN'!A:L,5,FALSE)","v":"netContent"},"Conditional","X",3733,"n..15",{"$f":"VLOOKUP(Tabel3[[#This Row],[GAE ID]],'BES EN'!A:L,7,FALSE)","v":"/catalogue_item_notification:catalogueItemNotificationMessage/transaction/documentCommand/catalogue_item_notification:catalogueItemNotification/catalogueItem/tradeItem/tradeItemInformation/extension/*[namespace-uri()='urn:gs1:gdsn:trade_item_measurements:xsd:3' and local-name()='tradeItemMeasurementsModule']/tradeItemMeasurements/netContent"},"Global","Verplicht","ANL1083","A","B","C","D","E","F","G","H","I","J","K","L","M","N","O","P","Q","R","S","T"]
[{"$f":"VLOOKUP(Tabel3[[#This Row],[GAE ID]],'BES NL'!A:L,12,FALSE)","v":"Eenheid netto-inhoud"},{"$f":"VLOOKUP(Tabel3[[#This Row],[GAE ID]],'BES EN'!A:L,5,FALSE)","v":"netContent/@measurementUnitcode"},"Conditional","X",3734,"Defined values",{"$f":"VLOOKUP(Tabel3[[#This Row],[GAE ID]],'BES EN'!A:L,7,FALSE)","v":"/catalogue_item_notification:catalogueItemNotificationMessage/transaction/documentCommand/catalogue_item_notification:catalogueItemNotification/catalogueItem/tradeItem/tradeItemInformation/extension/*[namespace-uri()='urn:gs1:gdsn:trade_item_measurements:xsd:3' and local-name()='tradeItemMeasurementsModule']/tradeItemMeasurements/netContent/@measurementUnitcode"},"Global","Verplicht","ANL1084","A","B","C","D","E","F","G","H","I","J","K","L","M","N","O","P","Q","R","S","T"]
[{"$f":"VLOOKUP(Tabel3[[#This Row],[GAE ID]],'BES NL'!A:L,12,FALSE)","v":"Uitlekgewicht"},{"$f":"VLOOKUP(Tabel3[[#This Row],[GAE ID]],'BES EN'!A:L,5,FALSE)","v":"drainedWeight"},"Conditional","X",3775,"n..15",{"$f":"VLOOKUP(Tabel3[[#This Row],[GAE ID]],'BES EN'!A:L,7,FALSE)","v":"/catalogue_item_notification:catalogueItemNotificationMessage/transaction/documentCommand/catalogue_item_notification:catalogueItemNotification/catalogueItem/tradeItem/tradeItemInformation/extension/*[namespace-uri()='urn:gs1:gdsn:trade_item_measurements:xsd:3' and local-name()='tradeItemMeasurementsModule']/tradeItemMeasurements/tradeItemWeight/drainedWeight"},"Regional EU","Verplicht als een uitlekgewicht op de verpakking van de consumenteneenheid staat vermeld.","ANL1085","A","B","C","D","E","F","-","-","-","-","-","-","M","N","O","P","Q","R","S","T"]
[{"$f":"VLOOKUP(Tabel3[[#This Row],[GAE ID]],'BES NL'!A:L,12,FALSE)","v":"Eenheid uitlekgewicht"},{"$f":"VLOOKUP(Tabel3[[#This Row],[GAE ID]],'BES EN'!A:L,5,FALSE)","v":"drainedWeight/@measurementUnitCode"},"Conditional","X",3776,"Defined values",{"$f":"VLOOKUP(Tabel3[[#This Row],[GAE ID]],'BES EN'!A:L,7,FALSE)","v":"/catalogue_item_notification:catalogueItemNotificationMessage/transaction/documentCommand/catalogue_item_notification:catalogueItemNotification/catalogueItem/tradeItem/tradeItemInformation/extension/*[namespace-uri()='urn:gs1:gdsn:trade_item_measurements:xsd:3' and local-name()='tradeItemMeasurementsModule']/tradeItemMeasurements/tradeItemWeight/drainedWeight/@measurementUnitCode"},"Regional EU","Verplicht als het veld 'Uitlekgewicht' is ingevuld bij de consumenteneenheid.","ANL1086","A","B","C","D","E","F","-","-","-","-","-","-","M","N","O","P","Q","R","S","T"]
[{"$f":"VLOOKUP(Tabel3[[#This Row],[GAE ID]],'BES NL'!A:L,12,FALSE)","v":"Nettogewicht"},{"$f":"VLOOKUP(Tabel3[[#This Row],[GAE ID]],'BES EN'!A:L,5,FALSE)","v":"netWeight"},"Conditional",0,3779,"n..15",{"$f":"VLOOKUP(Tabel3[[#This Row],[GAE ID]],'BES EN'!A:L,7,FALSE)","v":"/catalogue_item_notification:catalogueItemNotificationMessage/transaction/documentCommand/catalogue_item_notification:catalogueItemNotification/catalogueItem/tradeItem/tradeItemInformation/extension/*[namespace-uri()='urn:gs1:gdsn:trade_item_measurements:xsd:3' and local-name()='tradeItemMeasurementsModule']/tradeItemMeasurements/tradeItemWeight/netWeight"},"Local","Verplicht","ANL1087","A","B","C","D","E","F","G","H","I","J","K","L","M","N","O","P","Q","R","S","T"]
[{"$f":"VLOOKUP(Tabel3[[#This Row],[GAE ID]],'BES NL'!A:L,12,FALSE)","v":"Eenheid nettogewicht"},{"$f":"VLOOKUP(Tabel3[[#This Row],[GAE ID]],'BES EN'!A:L,5,FALSE)","v":"netWeight/@measurementUnitCode"},"Conditional",0,3780,"Defined values",{"$f":"VLOOKUP(Tabel3[[#This Row],[GAE ID]],'BES EN'!A:L,7,FALSE)","v":"/catalogue_item_notification:catalogueItemNotificationMessage/transaction/documentCommand/catalogue_item_notification:catalogueItemNotification/catalogueItem/tradeItem/tradeItemInformation/extension/*[namespace-uri()='urn:gs1:gdsn:trade_item_measurements:xsd:3' and local-name()='tradeItemMeasurementsModule']/tradeItemMeasurements/tradeItemWeight/netWeight/@measurementUnitCode"},"Local","Verplicht","ANL1088","A","B","C","D","E","F","G","H","I","J","K","L","M","N","O","P","Q","R","S","T"]
[{"$f":"VLOOKUP(Tabel3[[#This Row],[GAE ID]],'BES NL'!A:L,12,FALSE)","v":"Aanvullende afmetingen code"},{"$f":"VLOOKUP(Tabel3[[#This Row],[GAE ID]],'BES EN'!A:L,5,FALSE)","v":"dimensionTypeCode"},"Conditional",0,3761,"Defined values",{"$f":"VLOOKUP(Tabel3[[#This Row],[GAE ID]],'BES EN'!A:L,7,FALSE)","v":"/catalogue_item_notification:catalogueItemNotificationMessage/transaction/documentCommand/catalogue_item_notification:catalogueItemNotification/catalogueItem/tradeItem/tradeItemInformation/extension/*[namespace-uri()='urn:gs1:gdsn:trade_item_measurements:xsd:3' and local-name()='tradeItemMeasurementsModule']/tradeItemMeasurements/additionalTradeItemDimensions/dimensionTypeCode"},"Regional EU","Verplicht als de vorm van het product andere afmetingen heeft dan het verpakte product.","ANL1089","A","B","C","D","E","F","G","H","I","J","K","-","M","N","O","P","Q","R","S","T"]
[{"$f":"VLOOKUP(Tabel3[[#This Row],[GAE ID]],'BES NL'!A:L,12,FALSE)","v":"Aanvullende afmetingen: Hoogte"},{"$f":"VLOOKUP(Tabel3[[#This Row],[GAE ID]],'BES EN'!A:L,5,FALSE)","v":"height"},"Conditional",0,3762,"n..15",{"$f":"VLOOKUP(Tabel3[[#This Row],[GAE ID]],'BES EN'!A:L,7,FALSE)","v":"/catalogue_item_notification:catalogueItemNotificationMessage/transaction/documentCommand/catalogue_item_notification:catalogueItemNotification/catalogueItem/tradeItem/tradeItemInformation/extension/*[namespace-uri()='urn:gs1:gdsn:trade_item_measurements:xsd:3' and local-name()='tradeItemMeasurementsModule']/tradeItemMeasurements/additionalTradeItemDimensions/height"},"Regional EU","Verplicht als de vorm van het product andere afmetingen heeft dan het verpakte product.","ANL1090","A","B","C","D","E","F","G","H","I","J","K","-","M","N","O","P","Q","R","S","T"]
[{"$f":"VLOOKUP(Tabel3[[#This Row],[GAE ID]],'BES NL'!A:L,12,FALSE)","v":"Eenheid aanvullende afmetingen: Hoogte"},{"$f":"VLOOKUP(Tabel3[[#This Row],[GAE ID]],'BES EN'!A:L,5,FALSE)","v":"height/@measurementUnitcode"},"Conditional",0,3763,"Defined values",{"$f":"VLOOKUP(Tabel3[[#This Row],[GAE ID]],'BES EN'!A:L,7,FALSE)","v":"/catalogue_item_notification:catalogueItemNotificationMessage/transaction/documentCommand/catalogue_item_notification:catalogueItemNotification/catalogueItem/tradeItem/tradeItemInformation/extension/*[namespace-uri()='urn:gs1:gdsn:trade_item_measurements:xsd:3' and local-name()='tradeItemMeasurementsModule']/tradeItemMeasurements/additionalTradeItemDimensions/height/@measurementUnitcode"},"Regional EU","Verplicht als het veld 'Aanvullende afmetingen: Hoogte' is ingevuld bij de consumenteneenheid. ","ANL1091","A","B","C","D","E","F","G","H","I","J","K","-","M","N","O","P","Q","R","S","T"]
[{"$f":"VLOOKUP(Tabel3[[#This Row],[GAE ID]],'BES NL'!A:L,12,FALSE)","v":"Aanvullende afmetingen: Breedte"},{"$f":"VLOOKUP(Tabel3[[#This Row],[GAE ID]],'BES EN'!A:L,5,FALSE)","v":"width"},"Conditional",0,3764,"n..15",{"$f":"VLOOKUP(Tabel3[[#This Row],[GAE ID]],'BES EN'!A:L,7,FALSE)","v":"/catalogue_item_notification:catalogueItemNotificationMessage/transaction/documentCommand/catalogue_item_notification:catalogueItemNotification/catalogueItem/tradeItem/tradeItemInformation/extension/*[namespace-uri()='urn:gs1:gdsn:trade_item_measurements:xsd:3' and local-name()='tradeItemMeasurementsModule']/tradeItemMeasurements/additionalTradeItemDimensions/width"},"Regional EU","Verplicht als de vorm van het product andere afmetingen heeft dan het verpakte product.","ANL1092","A","B","C","D","E","F","G","H","I","J","K","-","M","N","O","P","Q","R","S","T"]
[{"$f":"VLOOKUP(Tabel3[[#This Row],[GAE ID]],'BES NL'!A:L,12,FALSE)","v":"Eenheid aanvullende afmetingen: Breedte"},{"$f":"VLOOKUP(Tabel3[[#This Row],[GAE ID]],'BES EN'!A:L,5,FALSE)","v":"width/@measurementUnitcode"},"Conditional",0,3765,"Defined values",{"$f":"VLOOKUP(Tabel3[[#This Row],[GAE ID]],'BES EN'!A:L,7,FALSE)","v":"/catalogue_item_notification:catalogueItemNotificationMessage/transaction/documentCommand/catalogue_item_notification:catalogueItemNotification/catalogueItem/tradeItem/tradeItemInformation/extension/*[namespace-uri()='urn:gs1:gdsn:trade_item_measurements:xsd:3' and local-name()='tradeItemMeasurementsModule']/tradeItemMeasurements/additionalTradeItemDimensions/width/@measurementUnitcode"},"Regional EU","Verplicht als het veld 'Aanvullende afmetingen: Breedte' is ingevuld bij de consumenteneenheid. ","ANL1093","A","B","C","D","E","F","G","H","I","J","K","-","M","N","O","P","Q","R","S","T"]
[{"$f":"VLOOKUP(Tabel3[[#This Row],[GAE ID]],'BES NL'!A:L,12,FALSE)","v":"Aanvullende afmetingen: Diepte"},{"$f":"VLOOKUP(Tabel3[[#This Row],[GAE ID]],'BES EN'!A:L,5,FALSE)","v":"depth"},"Conditional",0,3759,"n..15",{"$f":"VLOOKUP(Tabel3[[#This Row],[GAE ID]],'BES EN'!A:L,7,FALSE)","v":"/catalogue_item_notification:catalogueItemNotificationMessage/transaction/documentCommand/catalogue_item_notification:catalogueItemNotification/catalogueItem/tradeItem/tradeItemInformation/extension/*[namespace-uri()='urn:gs1:gdsn:trade_item_measurements:xsd:3' and local-name()='tradeItemMeasurementsModule']/tradeItemMeasurements/additionalTradeItemDimensions/depth"},"Regional EU","Verplicht als de vorm van het product andere afmetingen heeft dan het verpakte product.","ANL1094","A","B","C","D","E","F","G","H","I","J","K","-","M","N","O","P","Q","R","S","T"]
[{"$f":"VLOOKUP(Tabel3[[#This Row],[GAE ID]],'BES NL'!A:L,12,FALSE)","v":"Eenheid aanvullende afmetingen: Diepte"},{"$f":"VLOOKUP(Tabel3[[#This Row],[GAE ID]],'BES EN'!A:L,5,FALSE)","v":"depth/@measurementUnitcode"},"Conditional",0,3760,"Defined values",{"$f":"VLOOKUP(Tabel3[[#This Row],[GAE ID]],'BES EN'!A:L,7,FALSE)","v":"/catalogue_item_notification:catalogueItemNotificationMessage/transaction/documentCommand/catalogue_item_notification:catalogueItemNotification/catalogueItem/tradeItem/tradeItemInformation/extension/*[namespace-uri()='urn:gs1:gdsn:trade_item_measurements:xsd:3' and local-name()='tradeItemMeasurementsModule']/tradeItemMeasurements/additionalTradeItemDimensions/depth/@measurementUnitcode"},"Regional EU","Verplicht als het veld 'Aanvullende afmetingen: Diepte' is ingevuld bij de consumenteneenheid. ","ANL1095","A","B","C","D","E","F","G","H","I","J","K","-","M","N","O","P","Q","R","S","T"]
[{"$f":"VLOOKUP(Tabel3[[#This Row],[GAE ID]],'BES NL'!A:L,12,FALSE)","v":"Handelseenheid samenstelling (SRP) diepte"},{"$f":"VLOOKUP(Tabel3[[#This Row],[GAE ID]],'BES EN'!A:L,5,FALSE)","v":"tradeItemCompositionDepth"},"Optional",0,3735,"n..15",{"$f":"VLOOKUP(Tabel3[[#This Row],[GAE ID]],'BES EN'!A:L,7,FALSE)","v":"/catalogue_item_notification:catalogueItemNotificationMessage/transaction/documentCommand/catalogue_item_notification:catalogueItemNotification/catalogueItem/tradeItem/tradeItemInformation/extension/*[namespace-uri()='urn:gs1:gdsn:trade_item_measurements:xsd:3' and local-name()='tradeItemMeasurementsModule']/tradeItemMeasurements/tradeItemCompositionDepth"},"Local"," ","ANL1096","A","B","C","D","E","F","G","H","I","J","K","L","M","N","O","P","Q","R","S","T"]
[{"$f":"VLOOKUP(Tabel3[[#This Row],[GAE ID]],'BES NL'!A:L,12,FALSE)","v":"Eenheid handelseenheid samenstelling (SRP): diepte"},{"$f":"VLOOKUP(Tabel3[[#This Row],[GAE ID]],'BES EN'!A:L,5,FALSE)","v":"tradeItemCompositionDepth/@measurementUnitcode"},"Optional",0,3736,"Defined values",{"$f":"VLOOKUP(Tabel3[[#This Row],[GAE ID]],'BES EN'!A:L,7,FALSE)","v":"/catalogue_item_notification:catalogueItemNotificationMessage/transaction/documentCommand/catalogue_item_notification:catalogueItemNotification/catalogueItem/tradeItem/tradeItemInformation/extension/*[namespace-uri()='urn:gs1:gdsn:trade_item_measurements:xsd:3' and local-name()='tradeItemMeasurementsModule']/tradeItemMeasurements/tradeItemCompositionDepth/@measurementUnitcode"},"Local","Verplicht als het veld 'Handelseenheid samenstelling (SRP) diepte' is ingevuld bij de consumenteneenheid.","ANL1097","A","B","C","D","E","F","G","H","I","J","K","L","M","N","O","P","Q","R","S","T"]
[{"$f":"VLOOKUP(Tabel3[[#This Row],[GAE ID]],'BES NL'!A:L,12,FALSE)","v":"Handelseenheid samenstelling (SRP) breedte"},{"$f":"VLOOKUP(Tabel3[[#This Row],[GAE ID]],'BES EN'!A:L,5,FALSE)","v":"tradeItemCompositionWidth"},"Optional",0,3737,"n..15",{"$f":"VLOOKUP(Tabel3[[#This Row],[GAE ID]],'BES EN'!A:L,7,FALSE)","v":"/catalogue_item_notification:catalogueItemNotificationMessage/transaction/documentCommand/catalogue_item_notification:catalogueItemNotification/catalogueItem/tradeItem/tradeItemInformation/extension/*[namespace-uri()='urn:gs1:gdsn:trade_item_measurements:xsd:3' and local-name()='tradeItemMeasurementsModule']/tradeItemMeasurements/tradeItemCompositionWidth"},"Local"," ","ANL1098","A","B","C","D","E","F","G","H","I","J","K","L","M","N","O","P","Q","R","S","T"]
[{"$f":"VLOOKUP(Tabel3[[#This Row],[GAE ID]],'BES NL'!A:L,12,FALSE)","v":"Eenheid handelseenheid samenstelling (SRP): breedte"},{"$f":"VLOOKUP(Tabel3[[#This Row],[GAE ID]],'BES EN'!A:L,5,FALSE)","v":"tradeItemCompositionWidth/@measurementUnitcode"},"Optional",0,3738,"Defined values",{"$f":"VLOOKUP(Tabel3[[#This Row],[GAE ID]],'BES EN'!A:L,7,FALSE)","v":"/catalogue_item_notification:catalogueItemNotificationMessage/transaction/documentCommand/catalogue_item_notification:catalogueItemNotification/catalogueItem/tradeItem/tradeItemInformation/extension/*[namespace-uri()='urn:gs1:gdsn:trade_item_measurements:xsd:3' and local-name()='tradeItemMeasurementsModule']/tradeItemMeasurements/tradeItemCompositionWidth/@measurementUnitcode"},"Local"," Verplicht als het veld 'Handelseenheid samenstelling (SRP) breedte' is ingevuld bij de consumenteneenheid.","ANL1099","A","B","C","D","E","F","G","H","I","J","K","L","M","N","O","P","Q","R","S","T"]
["Afhandelingsinformatie",null,null,null,null,null,null,null,null,null,"A","B","C","D","E","F","G","H","I","J","K","L","M","N","O","P","Q","R","S","T"]
[{"$f":"VLOOKUP(Tabel3[[#This Row],[GAE ID]],'BES NL'!A:L,12,FALSE)","v":"Minimale houdbaarheid na productie"},{"$f":"VLOOKUP(Tabel3[[#This Row],[GAE ID]],'BES EN'!A:L,5,FALSE)","v":"minimumTradeItemLifespanFromTimeOfProduction"},"Conditional",0,3704,"Non-negative Integer",{"$f":"VLOOKUP(Tabel3[[#This Row],[GAE ID]],'BES EN'!A:L,7,FALSE)","v":"/catalogue_item_notification:catalogueItemNotificationMessage/transaction/documentCommand/catalogue_item_notification:catalogueItemNotification/catalogueItem/tradeItem/tradeItemInformation/extension/*[namespace-uri()='urn:gs1:gdsn:trade_item_lifespan:xsd:3' and local-name()='tradeItemLifespanModule']/tradeItemLifespan/minimumTradeItemLifespanFromTimeOfProduction"},"Global"," ","ANL1107","A","B","C","D","E","F","G","-","I","J","K","L","M","N","O","P","Q","R","S","T"]
[{"$f":"VLOOKUP(Tabel3[[#This Row],[GAE ID]],'BES NL'!A:L,12,FALSE)","v":"Minimale houdbaarheid vanaf levering"},{"$f":"VLOOKUP(Tabel3[[#This Row],[GAE ID]],'BES EN'!A:L,5,FALSE)","v":"minimumTradeItemLifespanFromTimeOfArrival"},"Conditional",0,3703,"Non-negative Integer",{"$f":"VLOOKUP(Tabel3[[#This Row],[GAE ID]],'BES EN'!A:L,7,FALSE)","v":"/catalogue_item_notification:catalogueItemNotificationMessage/transaction/documentCommand/catalogue_item_notification:catalogueItemNotification/catalogueItem/tradeItem/tradeItemInformation/extension/*[namespace-uri()='urn:gs1:gdsn:trade_item_lifespan:xsd:3' and local-name()='tradeItemLifespanModule']/tradeItemLifespan/minimumTradeItemLifespanFromTimeOfArrival"},"Global","Verplicht als een 'Tenminste Houdbaar Tot datum' op de verpakking staat van de consumenteneenheid.","ANL1108","A","B","C","D","E","F","G","-","I","J","K","L","M","N","O","P","Q","R","S","T"]
[{"$f":"VLOOKUP(Tabel3[[#This Row],[GAE ID]],'BES NL'!A:L,12,FALSE)","v":"Houdbaarheid na opening"},{"$f":"VLOOKUP(Tabel3[[#This Row],[GAE ID]],'BES EN'!A:L,5,FALSE)","v":"openedTradeItemLifespan"},"Optional",0,3705,"Non-negative Integer",{"$f":"VLOOKUP(Tabel3[[#This Row],[GAE ID]],'BES EN'!A:L,7,FALSE)","v":"/catalogue_item_notification:catalogueItemNotificationMessage/transaction/documentCommand/catalogue_item_notification:catalogueItemNotification/catalogueItem/tradeItem/tradeItemInformation/extension/*[namespace-uri()='urn:gs1:gdsn:trade_item_lifespan:xsd:3' and local-name()='tradeItemLifespanModule']/tradeItemLifespan/openedTradeItemLifespan"},"Local","Verplicht indien aanwezig op de verpakking van de consumenteneenheid. Optioneel voor de Nederlandse doelmarkt.","ANL1109","A","B","C","D","E","F","-","-","-","-","K","-","M","N","O","P","Q","R","S","T"]
[{"$f":"VLOOKUP(Tabel3[[#This Row],[GAE ID]],'BES NL'!A:L,12,FALSE)","v":"Minimum temperatuur"},{"$f":"VLOOKUP(Tabel3[[#This Row],[GAE ID]],'BES EN'!A:L,5,FALSE)","v":"minimumTemperature"},"Conditional",0,3826,"n..15",{"$f":"VLOOKUP(Tabel3[[#This Row],[GAE ID]],'BES EN'!A:L,7,FALSE)","v":"/catalogue_item_notification:catalogueItemNotificationMessage/transaction/documentCommand/catalogue_item_notification:catalogueItemNotification/catalogueItem/tradeItem/tradeItemInformation/extension/*[namespace-uri()='urn:gs1:gdsn:trade_item_temperature_information:xsd:3' and local-name()='tradeItemTemperatureInformationModule']/tradeItemTemperatureInformation/minimumTemperature"},"Global"," Verplicht als het product temperatuurgevoelig is en er een minimum temperatuur op het etiket/de verpakking staat","ANL1110","A","B","C","D","E","F","G","-","I","J","K","-","M","N","O","P","Q","R","S","T"]
[{"$f":"VLOOKUP(Tabel3[[#This Row],[GAE ID]],'BES NL'!A:L,12,FALSE)","v":"Eenheid minimum temperatuur"},{"$f":"VLOOKUP(Tabel3[[#This Row],[GAE ID]],'BES EN'!A:L,5,FALSE)","v":"minimumTemperature/@temperatureMeasurementUnitCode"},"Conditional",0,3827,"Defined values",{"$f":"VLOOKUP(Tabel3[[#This Row],[GAE ID]],'BES EN'!A:L,7,FALSE)","v":"/catalogue_item_notification:catalogueItemNotificationMessage/transaction/documentCommand/catalogue_item_notification:catalogueItemNotification/catalogueItem/tradeItem/tradeItemInformation/extension/*[namespace-uri()='urn:gs1:gdsn:trade_item_temperature_information:xsd:3' and local-name()='tradeItemTemperatureInformationModule']/tradeItemTemperatureInformation/minimumTemperature/@temperatureMeasurementUnitCode"},"Global","Verplicht als het veld 'Minimum temperatuur' is ingevuld bij de consumenteneenheid.","ANL1111","A","B","C","D","E","F","G","-","I","J","K","-","M","N","O","P","Q","R","S","T"]
[{"$f":"VLOOKUP(Tabel3[[#This Row],[GAE ID]],'BES NL'!A:L,12,FALSE)","v":"Maximum temperatuur"},{"$f":"VLOOKUP(Tabel3[[#This Row],[GAE ID]],'BES EN'!A:L,5,FALSE)","v":"maximumTemperature"},"Conditional",0,3820,"n..15",{"$f":"VLOOKUP(Tabel3[[#This Row],[GAE ID]],'BES EN'!A:L,7,FALSE)","v":"/catalogue_item_notification:catalogueItemNotificationMessage/transaction/documentCommand/catalogue_item_notification:catalogueItemNotification/catalogueItem/tradeItem/tradeItemInformation/extension/*[namespace-uri()='urn:gs1:gdsn:trade_item_temperature_information:xsd:3' and local-name()='tradeItemTemperatureInformationModule']/tradeItemTemperatureInformation/maximumTemperature"},"Global","Verplicht als het product temperatuurgevoelig is en er een maximum temperatuur op het etiket/de verpakking staat","ANL1112","A","B","C","D","E","F","G","-","I","J","K","-","M","N","O","P","Q","R","S","T"]
[{"$f":"VLOOKUP(Tabel3[[#This Row],[GAE ID]],'BES NL'!A:L,12,FALSE)","v":"Eenheid maximum temperatuur"},{"$f":"VLOOKUP(Tabel3[[#This Row],[GAE ID]],'BES EN'!A:L,5,FALSE)","v":"maximumTemperature/@temperatureMeasurementUnitCode"},"Conditional",0,3821,"Defined values",{"$f":"VLOOKUP(Tabel3[[#This Row],[GAE ID]],'BES EN'!A:L,7,FALSE)","v":"/catalogue_item_notification:catalogueItemNotificationMessage/transaction/documentCommand/catalogue_item_notification:catalogueItemNotification/catalogueItem/tradeItem/tradeItemInformation/extension/*[namespace-uri()='urn:gs1:gdsn:trade_item_temperature_information:xsd:3' and local-name()='tradeItemTemperatureInformationModule']/tradeItemTemperatureInformation/maximumTemperature/@temperatureMeasurementUnitCode"},"Global","Verplicht als het veld 'Maximum temperatuur' is ingevuld bij de consumenteneenheid.","ANL1113","A","B","C","D","E","F","G","-","I","J","K","-","M","N","O","P","Q","R","S","T"]
[{"$f":"VLOOKUP(Tabel3[[#This Row],[GAE ID]],'BES NL'!A:L,12,FALSE)","v":"Soort temperatuur"},{"$f":"VLOOKUP(Tabel3[[#This Row],[GAE ID]],'BES EN'!A:L,5,FALSE)","v":"temperatureQualifierCode"},"Conditional",0,3830,"Defined values",{"$f":"VLOOKUP(Tabel3[[#This Row],[GAE ID]],'BES EN'!A:L,7,FALSE)","v":"/catalogue_item_notification:catalogueItemNotificationMessage/transaction/documentCommand/catalogue_item_notification:catalogueItemNotification/catalogueItem/tradeItem/tradeItemInformation/extension/*[namespace-uri()='urn:gs1:gdsn:trade_item_temperature_information:xsd:3' and local-name()='tradeItemTemperatureInformationModule']/tradeItemTemperatureInformation/temperatureQualifierCode"},"Global","Verplicht als het veld 'Minimum temperatuur' en/of 'Maximum temperatuur' is ingevuld bij de consumenteneenheid.","ANL1114","A","B","C","D","E","F","G","-","I","J","K","-","M","N","O","P","Q","R","S","T"]
[{"$f":"VLOOKUP(Tabel3[[#This Row],[GAE ID]],'BES NL'!A:L,12,FALSE)","v":"Code toestand producttemperatuur"},{"$f":"VLOOKUP(Tabel3[[#This Row],[GAE ID]],'BES EN'!A:L,5,FALSE)","v":"tradeItemTemperatureConditionTypeCode"},"Conditional","X",3804,"Defined values",{"$f":"VLOOKUP(Tabel3[[#This Row],[GAE ID]],'BES EN'!A:L,7,FALSE)","v":"/catalogue_item_notification:catalogueItemNotificationMessage/transaction/documentCommand/catalogue_item_notification:catalogueItemNotification/catalogueItem/tradeItem/tradeItemInformation/extension/*[namespace-uri()='urn:gs1:gdsn:trade_item_temperature_information:xsd:3' and local-name()='tradeItemTemperatureInformationModule']/tradeItemTemperatureConditionTypeCode"},"Regional EU","Verplicht als de temperatuurtoestand van het product op moment van verkoop op het etiket/de verpakking staat.","ANL1486","A","B","C","D","E","F","-","-","-","-","K","-","M","N","O","P","Q","R","S","T"]
[{"$f":"VLOOKUP(Tabel3[[#This Row],[GAE ID]],'BES NL'!A:L,12,FALSE)","v":"Bestelveelvoud"},{"$f":"VLOOKUP(Tabel3[[#This Row],[GAE ID]],'BES EN'!A:L,5,FALSE)","v":"orderQuantityMultiple"},"Optional",0,1021,"Non-negative Integer",{"$f":"VLOOKUP(Tabel3[[#This Row],[GAE ID]],'BES EN'!A:L,7,FALSE)","v":"/catalogue_item_notification:catalogueItemNotificationMessage/transaction/documentCommand/catalogue_item_notification:catalogueItemNotification/catalogueItem/tradeItem/tradeItemInformation/extension/*[namespace-uri()='urn:gs1:gdsn:delivery_purchasing_information:xsd:3' and local-name()='deliveryPurchasingInformationModule']/deliveryPurchasingInformation/orderQuantityMultiple"},"Local","Verplicht als de consumenteneenheid een besteleenheid is. Optioneel voor de Nederlandse doelmarkt.","ANL1116","A","B","C","D","E","F","G","H","I","J","K","L","M","N","O","P","Q","R","S","T"]
[{"$f":"VLOOKUP(Tabel3[[#This Row],[GAE ID]],'BES NL'!A:L,12,FALSE)","v":"Minimaal bestelaantal"},{"$f":"VLOOKUP(Tabel3[[#This Row],[GAE ID]],'BES EN'!A:L,5,FALSE)","v":"orderQuantityMinimum"},"Optional",0,1020,"Non-negative Integer",{"$f":"VLOOKUP(Tabel3[[#This Row],[GAE ID]],'BES EN'!A:L,7,FALSE)","v":"/catalogue_item_notification:catalogueItemNotificationMessage/transaction/documentCommand/catalogue_item_notification:catalogueItemNotification/catalogueItem/tradeItem/tradeItemInformation/extension/*[namespace-uri()='urn:gs1:gdsn:delivery_purchasing_information:xsd:3' and local-name()='deliveryPurchasingInformationModule']/deliveryPurchasingInformation/orderQuantityMinimum"},"Local","Verplicht als de consumenteneenheid een besteleenheid is. Optioneel voor de Nederlandse doelmarkt.","ANL1117","A","B","C","D","E","F","G","H","I","J","K","L","M","N","O","P","Q","R","S","T"]
["Verpakkingsinformatie",null,null,null,null,null,null,null,null,null,"A","B","C","D","E","F","G","H","I","J","K","L","M","N","O","P","Q","R","S","T"]
[{"$f":"VLOOKUP(Tabel3[[#This Row],[GAE ID]],'BES NL'!A:L,12,FALSE)","v":"Verpakkingstype"},{"$f":"VLOOKUP(Tabel3[[#This Row],[GAE ID]],'BES EN'!A:L,5,FALSE)","v":"packagingTypeCode"},"Mandatory","X",2186,"Defined values",{"$f":"VLOOKUP(Tabel3[[#This Row],[GAE ID]],'BES EN'!A:L,7,FALSE)","v":"/catalogue_item_notification:catalogueItemNotificationMessage/transaction/documentCommand/catalogue_item_notification:catalogueItemNotification/catalogueItem/tradeItem/tradeItemInformation/extension/*[namespace-uri()='urn:gs1:gdsn:packaging_information:xsd:3' and local-name()='packagingInformationModule']/packaging/packagingTypeCode"},"Global","Verplicht","ANL1118","A","B","C","D","E","F","G","H","I","J","K","L","M","N","O","P","Q","R","S","T"]
[{"$f":"VLOOKUP(Tabel3[[#This Row],[GAE ID]],'BES NL'!A:L,12,FALSE)","v":"Verpakkingsomschrijving"},{"$f":"VLOOKUP(Tabel3[[#This Row],[GAE ID]],'BES EN'!A:L,5,FALSE)","v":"packagingTypeDescription"},"Optional",0,2187,"an..200",{"$f":"VLOOKUP(Tabel3[[#This Row],[GAE ID]],'BES EN'!A:L,7,FALSE)","v":"/catalogue_item_notification:catalogueItemNotificationMessage/transaction/documentCommand/catalogue_item_notification:catalogueItemNotification/catalogueItem/tradeItem/tradeItemInformation/extension/*[namespace-uri()='urn:gs1:gdsn:packaging_information:xsd:3' and local-name()='packagingInformationModule']/packaging/packagingTypeDescription"},"Local"," ","ANL1119","A","B","C","D","E","F","G","H","I","J","K","L","M","N","O","P","Q","R","S","T"]
[{"$f":"VLOOKUP(Tabel3[[#This Row],[GAE ID]],'BES NL'!A:L,12,FALSE)","v":"Verpakkingsomschrijving taalcode"},{"$f":"VLOOKUP(Tabel3[[#This Row],[GAE ID]],'BES EN'!A:L,5,FALSE)","v":"packagingTypeDescription/@languageCode"},"Optional",0,2188,"Defined values",{"$f":"VLOOKUP(Tabel3[[#This Row],[GAE ID]],'BES EN'!A:L,7,FALSE)","v":"/catalogue_item_notification:catalogueItemNotificationMessage/transaction/documentCommand/catalogue_item_notification:catalogueItemNotification/catalogueItem/tradeItem/tradeItemInformation/extension/*[namespace-uri()='urn:gs1:gdsn:packaging_information:xsd:3' and local-name()='packagingInformationModule']/packaging/packagingTypeDescription/@languageCode"},"Local","Verplicht als het veld 'Verpakkingsomschrijving' is ingevuld bij de consumenteneenheid.","ANL1120","A","B","C","D","E","F","G","H","I","J","K","L","M","N","O","P","Q","R","S","T"]
[{"$f":"VLOOKUP(Tabel3[[#This Row],[GAE ID]],'BES NL'!A:L,12,FALSE)","v":"Verpakkingsniveau"},{"$f":"VLOOKUP(Tabel3[[#This Row],[GAE ID]],'BES EN'!A:L,5,FALSE)","v":"packagingLevel"},"Optional",0,2168,"Non-negative Integer",{"$f":"VLOOKUP(Tabel3[[#This Row],[GAE ID]],'BES EN'!A:L,7,FALSE)","v":"/catalogue_item_notification:catalogueItemNotificationMessage/transaction/documentCommand/catalogue_item_notification:catalogueItemNotification/catalogueItem/tradeItem/tradeItemInformation/extension/*[namespace-uri()='urn:gs1:gdsn:packaging_information:xsd:3' and local-name()='packagingInformationModule']/packaging/packagingLevel"},"Local"," ","ANL1122","A","B","C","D","E","F","G","H","I","J","K","L","M","N","O","P","Q","R","S","T"]
[{"$f":"VLOOKUP(Tabel3[[#This Row],[GAE ID]],'BES NL'!A:L,12,FALSE)","v":"Type datum op verpakking"},{"$f":"VLOOKUP(Tabel3[[#This Row],[GAE ID]],'BES EN'!A:L,5,FALSE)","v":"tradeItemDateOnPackagingTypeCode"},"Conditional",0,2334,"Defined values",{"$f":"VLOOKUP(Tabel3[[#This Row],[GAE ID]],'BES EN'!A:L,7,FALSE)","v":"/catalogue_item_notification:catalogueItemNotificationMessage/transaction/documentCommand/catalogue_item_notification:catalogueItemNotification/catalogueItem/tradeItem/tradeItemInformation/extension/*[namespace-uri()='urn:gs1:gdsn:packaging_marking:xsd:3' and local-name()='packagingMarkingModule']/packagingMarking/packagingDate/tradeItemDateOnPackagingTypeCode"},"Global","Verplicht als het op de verpakking staat.","ANL1123","A","B","C","D","E","F","G","H","I","J","K","L","M","N","O","P","Q","R","S","T"]
[{"$f":"VLOOKUP(Tabel3[[#This Row],[GAE ID]],'BES NL'!A:L,12,FALSE)","v":"Code recyclebaar materiaaltype"},{"$f":"VLOOKUP(Tabel3[[#This Row],[GAE ID]],'BES EN'!A:L,5,FALSE)","v":"packagingRecyclingSchemeCode"},"Optional",0,2172,"Defined values",{"$f":"VLOOKUP(Tabel3[[#This Row],[GAE ID]],'BES EN'!A:L,7,FALSE)","v":"/catalogue_item_notification:catalogueItemNotificationMessage/transaction/documentCommand/catalogue_item_notification:catalogueItemNotification/catalogueItem/tradeItem/tradeItemInformation/extension/*[namespace-uri()='urn:gs1:gdsn:packaging_information:xsd:3' and local-name()='packagingInformationModule']/packaging/packagingRecyclingSchemeCode"},"Local","","ANL1381","A","B","C","D","E","F","G","H","I","J","K","L","M","N","O","P","Q","R","S","T"]
[{"$f":"VLOOKUP(Tabel3[[#This Row],[GAE ID]],'BES NL'!A:L,12,FALSE)","v":"Indicatie recyclable aanwezig"},{"$f":"VLOOKUP(Tabel3[[#This Row],[GAE ID]],'BES EN'!A:L,5,FALSE)","v":"isTradeItemMarkedAsRecyclable"},"Optional",0,2310,"Boolean",{"$f":"VLOOKUP(Tabel3[[#This Row],[GAE ID]],'BES EN'!A:L,7,FALSE)","v":"/catalogue_item_notification:catalogueItemNotificationMessage/transaction/documentCommand/catalogue_item_notification:catalogueItemNotification/catalogueItem/tradeItem/tradeItemInformation/extension/*[namespace-uri()='urn:gs1:gdsn:packaging_marking:xsd:3' and local-name()='packagingMarkingModule']/packagingMarking/isTradeItemMarkedAsRecyclable"},"Local","","ANL1382","A","B","C","D","E","F","G","H","I","J","K","L","M","N","O","P","Q","R","S","T"]
[{"$f":"VLOOKUP(Tabel3[[#This Row],[GAE ID]],'BES NL'!A:L,12,FALSE)","v":"Aanduiding niet-verpakt of voorverpakt"},{"$f":"VLOOKUP(Tabel3[[#This Row],[GAE ID]],'BES EN'!A:L,5,FALSE)","v":"variableTradeItemTypeCode"},"Conditional",null,3909,"Defined values",{"$f":"VLOOKUP(Tabel3[[#This Row],[GAE ID]],'BES EN'!A:L,7,FALSE)","v":"/catalogue_item_notification:catalogueItemNotificationMessage/transaction/documentCommand/catalogue_item_notification:catalogueItemNotification/catalogueItem/tradeItem/tradeItemInformation/extension/*[namespace-uri()='urn:gs1:gdsn:variable_trade_item_information:xsd:3' and local-name()='variableTradeItemInformationModule']/variableTradeItemInformation/variableTradeItemTypeCode"},"Regional EU","Verplicht voor groente, fruit en vlees.","ANL1481","-","-","C","-","E","-","-","-","-","-","-","-","-","-","-","-","-","-","-","-"]
["Verpakkingsmateriaal",null,null,null,null,null,null,null,null,null,"A","B","C","D","E","F","G","H","I","J","K","L","M","N","O","P","Q","R","S","T"]
[{"$f":"VLOOKUP(Tabel3[[#This Row],[GAE ID]],'BES NL'!A:L,12,FALSE)","v":"Code verpakkingsmateriaal"},{"$f":"VLOOKUP(Tabel3[[#This Row],[GAE ID]],'BES EN'!A:L,5,FALSE)","v":"packagingMaterialTypeCode"},"Optional",0,2206,"Defined values",{"$f":"VLOOKUP(Tabel3[[#This Row],[GAE ID]],'BES EN'!A:L,7,FALSE)","v":"/catalogue_item_notification:catalogueItemNotificationMessage/transaction/documentCommand/catalogue_item_notification:catalogueItemNotification/catalogueItem/tradeItem/tradeItemInformation/extension/*[namespace-uri()='urn:gs1:gdsn:packaging_information:xsd:3' and local-name()='packagingInformationModule']/packaging/packagingMaterial/packagingMaterialTypeCode"},"Local"," ","ANL1126","A","B","C","D","E","F","G","H","I","J","K","L","M","N","O","P","Q","R","S","T"]
[{"$f":"VLOOKUP(Tabel3[[#This Row],[GAE ID]],'BES NL'!A:L,12,FALSE)","v":"Hoeveelheid verpakkingsmateriaal"},{"$f":"VLOOKUP(Tabel3[[#This Row],[GAE ID]],'BES EN'!A:L,5,FALSE)","v":"packagingMaterialCompositionQuantity"},"Optional",0,2214,"n..15",{"$f":"VLOOKUP(Tabel3[[#This Row],[GAE ID]],'BES EN'!A:L,7,FALSE)","v":"/catalogue_item_notification:catalogueItemNotificationMessage/transaction/documentCommand/catalogue_item_notification:catalogueItemNotification/catalogueItem/tradeItem/tradeItemInformation/extension/*[namespace-uri()='urn:gs1:gdsn:packaging_information:xsd:3' and local-name()='packagingInformationModule']/packaging/packagingMaterial/packagingMaterialCompositionQuantity"},"Local","Verplicht als het veld ‘Code verpakkingsmateriaal’ is ingevuld en NIET de waarde COMPOSITE heeft.","ANL1127","A","B","C","D","E","F","G","H","I","J","K","L","M","N","O","P","Q","R","S","T"]
[{"$f":"VLOOKUP(Tabel3[[#This Row],[GAE ID]],'BES NL'!A:L,12,FALSE)","v":"Eenheid hoeveelheid verpakkingsmateriaal"},{"$f":"VLOOKUP(Tabel3[[#This Row],[GAE ID]],'BES EN'!A:L,5,FALSE)","v":"packagingMaterialCompositionQuantity/@measurementUnitCode"},"Optional",0,2215,"Defined values",{"$f":"VLOOKUP(Tabel3[[#This Row],[GAE ID]],'BES EN'!A:L,7,FALSE)","v":"/catalogue_item_notification:catalogueItemNotificationMessage/transaction/documentCommand/catalogue_item_notification:catalogueItemNotification/catalogueItem/tradeItem/tradeItemInformation/extension/*[namespace-uri()='urn:gs1:gdsn:packaging_information:xsd:3' and local-name()='packagingInformationModule']/packaging/packagingMaterial/packagingMaterialCompositionQuantity/@measurementUnitCode"},"Local","Verplicht als het veld ‘Code verpakkingsmateriaal’ is ingevuld bij de consumenteneenheid.","ANL1128","A","B","C","D","E","F","G","H","I","J","K","L","M","N","O","P","Q","R","S","T"]
[{"$f":"VLOOKUP(Tabel3[[#This Row],[GAE ID]],'BES NL'!A:L,12,FALSE)","v":"Materiaaldikte"},{"$f":"VLOOKUP(Tabel3[[#This Row],[GAE ID]],'BES EN'!A:L,5,FALSE)","v":"packagingMaterialThickness"},"Optional",0,2218,"n..15",{"$f":"VLOOKUP(Tabel3[[#This Row],[GAE ID]],'BES EN'!A:L,7,FALSE)","v":"/catalogue_item_notification:catalogueItemNotificationMessage/transaction/documentCommand/catalogue_item_notification:catalogueItemNotification/catalogueItem/tradeItem/tradeItemInformation/extension/*[namespace-uri()='urn:gs1:gdsn:packaging_information:xsd:3' and local-name()='packagingInformationModule']/packaging/packagingMaterial/packagingMaterialThickness"},"Local"," Verplicht als 'Code verpakkingsmateriaal' gelijk is aan METAL_STAINLESS_STEEL, METAL_STEEL of METAL_ALUMINUM","ANL1129","A","B","C","D","E","F","G","H","I","J","K","L","M","N","O","P","Q","R","S","T"]
[{"$f":"VLOOKUP(Tabel3[[#This Row],[GAE ID]],'BES NL'!A:L,12,FALSE)","v":"Eenheid materiaaldikte"},{"$f":"VLOOKUP(Tabel3[[#This Row],[GAE ID]],'BES EN'!A:L,5,FALSE)","v":"packagingMaterialThickness/@measurementUnitCode"},"Optional",0,2219,"Defined values",{"$f":"VLOOKUP(Tabel3[[#This Row],[GAE ID]],'BES EN'!A:L,7,FALSE)","v":"/catalogue_item_notification:catalogueItemNotificationMessage/transaction/documentCommand/catalogue_item_notification:catalogueItemNotification/catalogueItem/tradeItem/tradeItemInformation/extension/*[namespace-uri()='urn:gs1:gdsn:packaging_information:xsd:3' and local-name()='packagingInformationModule']/packaging/packagingMaterial/packagingMaterialThickness/@measurementUnitCode"},"Local","Verplicht als het veld ‘Materiaaldikte’ is ingevuld bij de consumenteneenheid.","ANL1130","A","B","C","D","E","F","G","H","I","J","K","L","M","N","O","P","Q","R","S","T"]
[{"$f":"VLOOKUP(Tabel3[[#This Row],[GAE ID]],'BES NL'!A:L,12,FALSE)","v":"Materiaal kleurcode"},{"$f":"VLOOKUP(Tabel3[[#This Row],[GAE ID]],'BES EN'!A:L,5,FALSE)","v":"packagingMaterialColourCodeReference"},"Optional",0,2228,"Defined values",{"$f":"VLOOKUP(Tabel3[[#This Row],[GAE ID]],'BES EN'!A:L,7,FALSE)","v":"/catalogue_item_notification:catalogueItemNotificationMessage/transaction/documentCommand/catalogue_item_notification:catalogueItemNotification/catalogueItem/tradeItem/tradeItemInformation/extension/*[namespace-uri()='urn:gs1:gdsn:packaging_information:xsd:3' and local-name()='packagingInformationModule']/packaging/packagingMaterial/packagingMaterialColourCodeReference"},"Local"," Verplicht als 'Code verpakkingsmateriaal' gelijk is aan POLYMER_PET.","ANL1131","A","B","C","D","E","F","G","H","I","J","K","L","M","N","O","P","Q","R","S","T"]
[{"$f":"VLOOKUP(Tabel3[[#This Row],[GAE ID]],'BES NL'!A:L,12,FALSE)","v":"Is verpakkingsmateriaal valoriseerbaar?"},{"$f":"VLOOKUP(Tabel3[[#This Row],[GAE ID]],'BES EN'!A:L,5,FALSE)","v":"isPackagingMaterialRecoverable"},"Optional",0,2207,"Defined values",{"$f":"VLOOKUP(Tabel3[[#This Row],[GAE ID]],'BES EN'!A:L,7,FALSE)","v":"/catalogue_item_notification:catalogueItemNotificationMessage/transaction/documentCommand/catalogue_item_notification:catalogueItemNotification/catalogueItem/tradeItem/tradeItemInformation/extension/*[namespace-uri()='urn:gs1:gdsn:packaging_information:xsd:3' and local-name()='packagingInformationModule']/packaging/packagingMaterial/isPackagingMaterialRecoverable"},"Local"," Verplicht als 'Code verpakkingsmateriaal' gelijk is aan GLASS of GLASS_COLOURED.","ANL1132","A","B","C","D","E","F","G","H","I","J","K","L","M","N","O","P","Q","R","S","T"]
[{"$f":"VLOOKUP(Tabel3[[#This Row],[GAE ID]],'BES NL'!A:L,12,FALSE)","v":"Samengesteld verpakkingsmateriaal - Code verpakkingsmateriaal"},{"$f":"VLOOKUP(Tabel3[[#This Row],[GAE ID]],'BES EN'!A:L,5,FALSE)","v":"packagingMaterialTypeCode"},"Optional",0,2237,"Defined values",{"$f":"VLOOKUP(Tabel3[[#This Row],[GAE ID]],'BES EN'!A:L,7,FALSE)","v":"/catalogue_item_notification:catalogueItemNotificationMessage/transaction/documentCommand/catalogue_item_notification:catalogueItemNotification/catalogueItem/tradeItem/tradeItemInformation/extension/*[namespace-uri()='urn:gs1:gdsn:packaging_information:xsd:3' and local-name()='packagingInformationModule']/packaging/packagingMaterial/compositeMaterialDetail/packagingMaterialTypeCode"},"Local"," Verplicht als 'Code verpakkingsmateriaal' gelijk is aan COMPOSITE.","ANL1133","A","B","C","D","E","F","G","H","I","J","K","L","M","N","O","P","Q","R","S","T"]
[{"$f":"VLOOKUP(Tabel3[[#This Row],[GAE ID]],'BES NL'!A:L,12,FALSE)","v":"Samengesteld verpakkingsmateriaal - Hoeveelheid verpakkingsmateriaal"},{"$f":"VLOOKUP(Tabel3[[#This Row],[GAE ID]],'BES EN'!A:L,5,FALSE)","v":"packagingMaterialCompositionQuantity"},"Optional",0,2238,"n..15",{"$f":"VLOOKUP(Tabel3[[#This Row],[GAE ID]],'BES EN'!A:L,7,FALSE)","v":"/catalogue_item_notification:catalogueItemNotificationMessage/transaction/documentCommand/catalogue_item_notification:catalogueItemNotification/catalogueItem/tradeItem/tradeItemInformation/extension/*[namespace-uri()='urn:gs1:gdsn:packaging_information:xsd:3' and local-name()='packagingInformationModule']/packaging/packagingMaterial/compositeMaterialDetail/packagingMaterialCompositionQuantity"},"Local","Verplicht als ‘Samengesteld verpakkingsmateriaal – Code verpakkingsmateriaal’ gevuld is bij de consumenteneenheid.","ANL1134","A","B","C","D","E","F","G","H","I","J","K","L","M","N","O","P","Q","R","S","T"]
[{"$f":"VLOOKUP(Tabel3[[#This Row],[GAE ID]],'BES NL'!A:L,12,FALSE)","v":"Samengesteld verpakkingsmateriaal - Eenheid hoeveelheid verpakkingsmateriaal"},{"$f":"VLOOKUP(Tabel3[[#This Row],[GAE ID]],'BES EN'!A:L,5,FALSE)","v":"packagingMaterialCompositionQuantity/@measurementUnitCode"},"Optional",0,2239,"Defined values",{"$f":"VLOOKUP(Tabel3[[#This Row],[GAE ID]],'BES EN'!A:L,7,FALSE)","v":"/catalogue_item_notification:catalogueItemNotificationMessage/transaction/documentCommand/catalogue_item_notification:catalogueItemNotification/catalogueItem/tradeItem/tradeItemInformation/extension/*[namespace-uri()='urn:gs1:gdsn:packaging_information:xsd:3' and local-name()='packagingInformationModule']/packaging/packagingMaterial/compositeMaterialDetail/packagingMaterialCompositionQuantity/@measurementUnitCode"},"Local","Verplicht als het veld ‘Samengesteld verpakkingsmateriaal - Hoeveelheid verpakkingsmateriaal’ is ingevuld bij de consumenteneenheid.","ANL1135","A","B","C","D","E","F","G","H","I","J","K","L","M","N","O","P","Q","R","S","T"]
[{"$f":"VLOOKUP(Tabel3[[#This Row],[GAE ID]],'BES NL'!A:L,12,FALSE)","v":"Samengesteld verpakkingsmateriaal - Materiaaldikte"},{"$f":"VLOOKUP(Tabel3[[#This Row],[GAE ID]],'BES EN'!A:L,5,FALSE)","v":"packagingMaterialThickness"},"Optional",0,2240,"n..15",{"$f":"VLOOKUP(Tabel3[[#This Row],[GAE ID]],'BES EN'!A:L,7,FALSE)","v":"/catalogue_item_notification:catalogueItemNotificationMessage/transaction/documentCommand/catalogue_item_notification:catalogueItemNotification/catalogueItem/tradeItem/tradeItemInformation/extension/*[namespace-uri()='urn:gs1:gdsn:packaging_information:xsd:3' and local-name()='packagingInformationModule']/packaging/packagingMaterial/compositeMaterialDetail/packagingMaterialThickness"},"Local","Verplicht als ‘Samengesteld verpakkingsmateriaal – Code verpakkingsmateriaal’ gelijk is aan METAL_STAINLESS_STEEL, METAL_STEEL of METAL_ALUMINUM.","ANL1136","A","B","C","D","E","F","G","H","I","J","K","L","M","N","O","P","Q","R","S","T"]
[{"$f":"VLOOKUP(Tabel3[[#This Row],[GAE ID]],'BES NL'!A:L,12,FALSE)","v":"Samengesteld verpakkingsmateriaal - Eenheid materiaaldikte"},{"$f":"VLOOKUP(Tabel3[[#This Row],[GAE ID]],'BES EN'!A:L,5,FALSE)","v":"packagingMaterialThickness/@measurementUnitCode"},"Optional",0,2241,"Defined values",{"$f":"VLOOKUP(Tabel3[[#This Row],[GAE ID]],'BES EN'!A:L,7,FALSE)","v":"/catalogue_item_notification:catalogueItemNotificationMessage/transaction/documentCommand/catalogue_item_notification:catalogueItemNotification/catalogueItem/tradeItem/tradeItemInformation/extension/*[namespace-uri()='urn:gs1:gdsn:packaging_information:xsd:3' and local-name()='packagingInformationModule']/packaging/packagingMaterial/compositeMaterialDetail/packagingMaterialThickness/@measurementUnitCode"},"Local","Verplicht als het veld ‘Samengesteld verpakkingsmateriaal - Materiaaldikte’ is ingevuld bij de consumenteneenheid.","ANL1137","A","B","C","D","E","F","G","H","I","J","K","L","M","N","O","P","Q","R","S","T"]
["Emballage-informatie",null,null,null,null,null,null,null,null,null,"A","B","C","D","E","F","G","H","I","J","K","L","M","N","O","P","Q","R","S","T"]
[{"$f":"VLOOKUP(Tabel3[[#This Row],[GAE ID]],'BES NL'!A:L,12,FALSE)","v":"Emballageartikel/herbruikbaar artikel"},{"$f":"VLOOKUP(Tabel3[[#This Row],[GAE ID]],'BES EN'!A:L,5,FALSE)","v":"isPackagingMarkedReturnable"},"Conditional","X",2308,"Boolean",{"$f":"VLOOKUP(Tabel3[[#This Row],[GAE ID]],'BES EN'!A:L,7,FALSE)","v":"/catalogue_item_notification:catalogueItemNotificationMessage/transaction/documentCommand/catalogue_item_notification:catalogueItemNotification/catalogueItem/tradeItem/tradeItemInformation/extension/*[namespace-uri()='urn:gs1:gdsn:packaging_marking:xsd:3' and local-name()='packagingMarkingModule']/packagingMarking/isPackagingMarkedReturnable"},"Global","Verplicht als de productverpakking kan worden geretourneerd.","ANL1138","A","B","C","D","E","F","G","H","I","J","K","L","M","N","O","P","Q","R","S","T"]
[{"$f":"VLOOKUP(Tabel3[[#This Row],[GAE ID]],'BES NL'!A:L,12,FALSE)","v":"Code van het emballageartikel/herbruikbaar artikel"},{"$f":"VLOOKUP(Tabel3[[#This Row],[GAE ID]],'BES EN'!A:L,5,FALSE)","v":"returnablePackageDepositIdentification"},"Conditional",0,2263,"an..80",{"$f":"VLOOKUP(Tabel3[[#This Row],[GAE ID]],'BES EN'!A:L,7,FALSE)","v":"/catalogue_item_notification:catalogueItemNotificationMessage/transaction/documentCommand/catalogue_item_notification:catalogueItemNotification/catalogueItem/tradeItem/tradeItemInformation/extension/*[namespace-uri()='urn:gs1:gdsn:packaging_information:xsd:3' and local-name()='packagingInformationModule']/packaging/packageDeposit/returnablePackageDepositIdentification"},"Regional EU","Verplicht als er een GTIN wordt gebruikt om het emballageartikel/herbruikbaar artikel te identificeren.","ANL1139","A","B","C","D","E","F","G","H","I","J","K","L","M","N","O","P","Q","R","S","T"]
[{"$f":"VLOOKUP(Tabel3[[#This Row],[GAE ID]],'BES NL'!A:L,12,FALSE)","v":"Emballageartikelwaarde/herbruikbaar artikelwaarde"},{"$f":"VLOOKUP(Tabel3[[#This Row],[GAE ID]],'BES EN'!A:L,5,FALSE)","v":"returnablePackageDepositAmount"},"Conditional",0,2261,"n..18",{"$f":"VLOOKUP(Tabel3[[#This Row],[GAE ID]],'BES EN'!A:L,7,FALSE)","v":"/catalogue_item_notification:catalogueItemNotificationMessage/transaction/documentCommand/catalogue_item_notification:catalogueItemNotification/catalogueItem/tradeItem/tradeItemInformation/extension/*[namespace-uri()='urn:gs1:gdsn:packaging_information:xsd:3' and local-name()='packagingInformationModule']/packaging/packageDeposit/returnablePackageDepositAmount"},"Regional EU","Verplicht voor emballage-/herbruikbaar artikelen in doelmarkt Nederland, België en Luxemburg.","ANL1140","A","B","C","D","E","F","G","H","I","J","K","L","M","N","O","P","Q","R","S","T"]
[{"$f":"VLOOKUP(Tabel3[[#This Row],[GAE ID]],'BES NL'!A:L,12,FALSE)","v":"Emballageartikelwaarde/herbruikbaar artikelwaarde valutacode"},{"$f":"VLOOKUP(Tabel3[[#This Row],[GAE ID]],'BES EN'!A:L,5,FALSE)","v":"returnablePackageDepositAmount/@currencyCode"},"Conditional",0,2262,"Defined values",{"$f":"VLOOKUP(Tabel3[[#This Row],[GAE ID]],'BES EN'!A:L,7,FALSE)","v":"/catalogue_item_notification:catalogueItemNotificationMessage/transaction/documentCommand/catalogue_item_notification:catalogueItemNotification/catalogueItem/tradeItem/tradeItemInformation/extension/*[namespace-uri()='urn:gs1:gdsn:packaging_information:xsd:3' and local-name()='packagingInformationModule']/packaging/packageDeposit/returnablePackageDepositAmount/@currencyCode"},"Regional EU","Verplicht als het veld 'Emballageartikelwaarde/herbruikbaar artikelwaarde' is gevuld bij de consumenteneenheid.","ANL1141","A","B","C","D","E","F","G","H","I","J","K","L","M","N","O","P","Q","R","S","T"]
["Palletinformatie",null,null,null,null,null,null,null,null,null,"A","B","C","D","E","F","G","H","I","J","K","L","M","N","O","P","Q","R","S","T"]
[{"$f":"VLOOKUP(Tabel3[[#This Row],[GAE ID]],'BES NL'!A:L,12,FALSE)","v":"Type pallet"},{"$f":"VLOOKUP(Tabel3[[#This Row],[GAE ID]],'BES EN'!A:L,5,FALSE)","v":"platformTypeCode"},"Conditional",0,2181,"Defined values",{"$f":"VLOOKUP(Tabel3[[#This Row],[GAE ID]],'BES EN'!A:L,7,FALSE)","v":"/catalogue_item_notification:catalogueItemNotificationMessage/transaction/documentCommand/catalogue_item_notification:catalogueItemNotification/catalogueItem/tradeItem/tradeItemInformation/extension/*[namespace-uri()='urn:gs1:gdsn:packaging_information:xsd:3' and local-name()='packagingInformationModule']/packaging/platformTypeCode"},"Regional EU","Verplicht als de consumenteneenheid de hoogste eenheid binnen de hiërarchie is.","ANL1142","A","B","C","D","E","F","G","H","I","J","K","L","M","N","O","P","Q","R","S","T"]
[{"$f":"VLOOKUP(Tabel3[[#This Row],[GAE ID]],'BES NL'!A:L,12,FALSE)","v":"Platformvoorwaarden"},{"$f":"VLOOKUP(Tabel3[[#This Row],[GAE ID]],'BES EN'!A:L,5,FALSE)","v":"platformTermsAndConditionsCode"},"Conditional",0,2180,"Defined values",{"$f":"VLOOKUP(Tabel3[[#This Row],[GAE ID]],'BES EN'!A:L,7,FALSE)","v":"/catalogue_item_notification:catalogueItemNotificationMessage/transaction/documentCommand/catalogue_item_notification:catalogueItemNotification/catalogueItem/tradeItem/tradeItemInformation/extension/*[namespace-uri()='urn:gs1:gdsn:packaging_information:xsd:3' and local-name()='packagingInformationModule']/packaging/platformTermsAndConditionsCode"},"Regional EU"," ","ANL1143","A","B","C","D","E","F","G","H","I","J","K","L","M","N","O","P","Q","R","S","T"]
[{"$f":"VLOOKUP(Tabel3[[#This Row],[GAE ID]],'BES NL'!A:L,12,FALSE)","v":"Maximale stapelfactor"},{"$f":"VLOOKUP(Tabel3[[#This Row],[GAE ID]],'BES EN'!A:L,5,FALSE)","v":"stackingFactor"},"Conditional",0,3604,"Non-negative integer",{"$f":"VLOOKUP(Tabel3[[#This Row],[GAE ID]],'BES EN'!A:L,7,FALSE)","v":"/catalogue_item_notification:catalogueItemNotificationMessage/transaction/documentCommand/catalogue_item_notification:catalogueItemNotification/catalogueItem/tradeItem/tradeItemInformation/extension/*[namespace-uri()='urn:gs1:gdsn:trade_item_handling:xsd:3' and local-name()='tradeItemHandlingModule']/tradeItemHandlingInformation/tradeItemStacking/stackingFactor"},"Regional EU"," ","ANL1144","A","B","C","D","E","F","G","H","I","J","K","L","M","N","O","P","Q","R","S","T"]
[{"$f":"VLOOKUP(Tabel3[[#This Row],[GAE ID]],'BES NL'!A:L,12,FALSE)","v":"Type stapelfactor"},{"$f":"VLOOKUP(Tabel3[[#This Row],[GAE ID]],'BES EN'!A:L,5,FALSE)","v":"stackingFactorTypeCode"},"Conditional",0,3607,"Defined values",{"$f":"VLOOKUP(Tabel3[[#This Row],[GAE ID]],'BES EN'!A:L,7,FALSE)","v":"/catalogue_item_notification:catalogueItemNotificationMessage/transaction/documentCommand/catalogue_item_notification:catalogueItemNotification/catalogueItem/tradeItem/tradeItemInformation/extension/*[namespace-uri()='urn:gs1:gdsn:trade_item_handling:xsd:3' and local-name()='tradeItemHandlingModule']/tradeItemHandlingInformation/tradeItemStacking/stackingFactorTypeCode"},"Regional EU"," ","ANL1145","A","B","C","D","E","F","G","H","I","J","K","L","M","N","O","P","Q","R","S","T"]
[{"$f":"VLOOKUP(Tabel3[[#This Row],[GAE ID]],'BES NL'!A:L,12,FALSE)","v":"Aantal lagen van de GTIN pallet"},{"$f":"VLOOKUP(Tabel3[[#This Row],[GAE ID]],'BES EN'!A:L,5,FALSE)","v":"quantityOfCompleteLayersContainedInATradeItem"},"Conditional",0,3614,"Non-negative Integer",{"$f":"VLOOKUP(Tabel3[[#This Row],[GAE ID]],'BES EN'!A:L,7,FALSE)","v":"/catalogue_item_notification:catalogueItemNotificationMessage/transaction/documentCommand/catalogue_item_notification:catalogueItemNotification/catalogueItem/tradeItem/tradeItemInformation/extension/*[namespace-uri()='urn:gs1:gdsn:trade_item_hierarchy:xsd:3' and local-name()='tradeItemHierarchyModule']/tradeItemHierarchy/quantityOfCompleteLayersContainedInATradeItem"},"Global"," ","ANL1146","A","B","C","D","E","F","G","H","I","J","K","L","M","N","O","P","Q","R","S","T"]
[{"$f":"VLOOKUP(Tabel3[[#This Row],[GAE ID]],'BES NL'!A:L,12,FALSE)","v":"Aantal onderliggende eenheden per laag GTIN pallet"},{"$f":"VLOOKUP(Tabel3[[#This Row],[GAE ID]],'BES EN'!A:L,5,FALSE)","v":"quantityOfTradeItemsContainedInACompleteLayer"},"Conditional",0,3618,"Non-negative Integer",{"$f":"VLOOKUP(Tabel3[[#This Row],[GAE ID]],'BES EN'!A:L,7,FALSE)","v":"/catalogue_item_notification:catalogueItemNotificationMessage/transaction/documentCommand/catalogue_item_notification:catalogueItemNotification/catalogueItem/tradeItem/tradeItemInformation/extension/*[namespace-uri()='urn:gs1:gdsn:trade_item_hierarchy:xsd:3' and local-name()='tradeItemHierarchyModule']/tradeItemHierarchy/quantityOfTradeItemsContainedInACompleteLayer"},"Regional EU"," ","ANL1147","A","B","C","D","E","F","G","H","I","J","K","L","M","N","O","P","Q","R","S","T"]
[{"$f":"VLOOKUP(Tabel3[[#This Row],[GAE ID]],'BES NL'!A:L,12,FALSE)","v":"Aantal eenheden per non-GTIN pallet"},{"$f":"VLOOKUP(Tabel3[[#This Row],[GAE ID]],'BES EN'!A:L,5,FALSE)","v":"quantityOfTradeItemsPerPallet"},"Conditional",0,3619,"Non-negative Integer",{"$f":"VLOOKUP(Tabel3[[#This Row],[GAE ID]],'BES EN'!A:L,7,FALSE)","v":"/catalogue_item_notification:catalogueItemNotificationMessage/transaction/documentCommand/catalogue_item_notification:catalogueItemNotification/catalogueItem/tradeItem/tradeItemInformation/extension/*[namespace-uri()='urn:gs1:gdsn:trade_item_hierarchy:xsd:3' and local-name()='tradeItemHierarchyModule']/tradeItemHierarchy/quantityOfTradeItemsPerPallet"},"Global","Verplicht als de consumenteneenheid de hoogste eenheid binnen de hiërarchie is.","ANL1148","A","B","C","D","E","F","G","H","I","J","K","L","M","N","O","P","Q","R","S","T"]
[{"$f":"VLOOKUP(Tabel3[[#This Row],[GAE ID]],'BES NL'!A:L,12,FALSE)","v":"Aantal lagen van de non-GTIN pallet"},{"$f":"VLOOKUP(Tabel3[[#This Row],[GAE ID]],'BES EN'!A:L,5,FALSE)","v":"quantityOfLayersPerPallet"},"Conditional",0,3616,"Non-negative Integer",{"$f":"VLOOKUP(Tabel3[[#This Row],[GAE ID]],'BES EN'!A:L,7,FALSE)","v":"/catalogue_item_notification:catalogueItemNotificationMessage/transaction/documentCommand/catalogue_item_notification:catalogueItemNotification/catalogueItem/tradeItem/tradeItemInformation/extension/*[namespace-uri()='urn:gs1:gdsn:trade_item_hierarchy:xsd:3' and local-name()='tradeItemHierarchyModule']/tradeItemHierarchy/quantityOfLayersPerPallet"},"Global","Verplicht voor groente en fruit als de consumenteneenheid de hoogste eenheid binnen de hiërarchie is.","ANL1149","A","B","C","D","E","F","G","H","I","J","K","L","M","N","O","P","Q","R","S","T"]
[{"$f":"VLOOKUP(Tabel3[[#This Row],[GAE ID]],'BES NL'!A:L,12,FALSE)","v":"Aantal onderliggende eenheden per laag non-GTIN pallet"},{"$f":"VLOOKUP(Tabel3[[#This Row],[GAE ID]],'BES EN'!A:L,5,FALSE)","v":"quantityOfTradeItemsPerPalletLayer"},"Conditional",0,3620,"Non-negative Integer",{"$f":"VLOOKUP(Tabel3[[#This Row],[GAE ID]],'BES EN'!A:L,7,FALSE)","v":"/catalogue_item_notification:catalogueItemNotificationMessage/transaction/documentCommand/catalogue_item_notification:catalogueItemNotification/catalogueItem/tradeItem/tradeItemInformation/extension/*[namespace-uri()='urn:gs1:gdsn:trade_item_hierarchy:xsd:3' and local-name()='tradeItemHierarchyModule']/tradeItemHierarchy/quantityOfTradeItemsPerPalletLayer"},"Global","Verplicht voor groente en fruit als de consumenteneenheid de hoogste eenheid binnen de hiërarchie is.","ANL1150","A","B","C","D","E","F","G","H","I","J","K","L","M","N","O","P","Q","R","S","T"]
[{"$f":"VLOOKUP(Tabel3[[#This Row],[GAE ID]],'BES NL'!A:L,12,FALSE)","v":"Non-GTIN pallethoogte"},{"$f":"VLOOKUP(Tabel3[[#This Row],[GAE ID]],'BES EN'!A:L,5,FALSE)","v":"height"},"Conditional",0,1668,"n..15",{"$f":"VLOOKUP(Tabel3[[#This Row],[GAE ID]],'BES EN'!A:L,7,FALSE)","v":"/catalogue_item_notification:catalogueItemNotificationMessage/transaction/documentCommand/catalogue_item_notification:catalogueItemNotification/catalogueItem/tradeItem/tradeItemInformation/extension/*[namespace-uri()='urn:gs1:gdsn:nongtin_logistics_unit_information:xsd:3' and local-name()='nonGTINLogisticsUnitInformationModule']/nonGTINLogisticsUnitInformation/height"},"Regional EU","Verplicht als de consumenteneenheid de hoogste eenheid binnen de hiërarchie is.","ANL1151","A","B","C","D","E","F","G","H","I","J","K","L","M","N","O","P","Q","R","S","T"]
[{"$f":"VLOOKUP(Tabel3[[#This Row],[GAE ID]],'BES NL'!A:L,12,FALSE)","v":"Non-GTIN pallethoogte eenheid"},{"$f":"VLOOKUP(Tabel3[[#This Row],[GAE ID]],'BES EN'!A:L,5,FALSE)","v":"height/@measurementUnitCode"},"Conditional",0,1669,"Defined values",{"$f":"VLOOKUP(Tabel3[[#This Row],[GAE ID]],'BES EN'!A:L,7,FALSE)","v":"/catalogue_item_notification:catalogueItemNotificationMessage/transaction/documentCommand/catalogue_item_notification:catalogueItemNotification/catalogueItem/tradeItem/tradeItemInformation/extension/*[namespace-uri()='urn:gs1:gdsn:nongtin_logistics_unit_information:xsd:3' and local-name()='nonGTINLogisticsUnitInformationModule']/nonGTINLogisticsUnitInformation/height/@measurementUnitCode"},"Regional EU","Verplicht als het veld 'Non-GTIN pallethoogte' is ingevuld bij de consumenteneenheid.","ANL1152","A","B","C","D","E","F","G","H","I","J","K","L","M","N","O","P","Q","R","S","T"]
[{"$f":"VLOOKUP(Tabel3[[#This Row],[GAE ID]],'BES NL'!A:L,12,FALSE)","v":"Non-GTIN palletbreedte"},{"$f":"VLOOKUP(Tabel3[[#This Row],[GAE ID]],'BES EN'!A:L,5,FALSE)","v":"width"},"Conditional",0,1671,"n..15",{"$f":"VLOOKUP(Tabel3[[#This Row],[GAE ID]],'BES EN'!A:L,7,FALSE)","v":"/catalogue_item_notification:catalogueItemNotificationMessage/transaction/documentCommand/catalogue_item_notification:catalogueItemNotification/catalogueItem/tradeItem/tradeItemInformation/extension/*[namespace-uri()='urn:gs1:gdsn:nongtin_logistics_unit_information:xsd:3' and local-name()='nonGTINLogisticsUnitInformationModule']/nonGTINLogisticsUnitInformation/width"},"Regional EU","Verplicht als de consumenteneenheid de hoogste eenheid binnen de hiërarchie is.","ANL1153","A","B","C","D","E","F","G","H","I","J","K","L","M","N","O","P","Q","R","S","T"]
[{"$f":"VLOOKUP(Tabel3[[#This Row],[GAE ID]],'BES NL'!A:L,12,FALSE)","v":"Non-GTIN palletbreedte eenheid"},{"$f":"VLOOKUP(Tabel3[[#This Row],[GAE ID]],'BES EN'!A:L,5,FALSE)","v":"width/@measurementUnitCode"},"Conditional",0,1672,"Defined values",{"$f":"VLOOKUP(Tabel3[[#This Row],[GAE ID]],'BES EN'!A:L,7,FALSE)","v":"/catalogue_item_notification:catalogueItemNotificationMessage/transaction/documentCommand/catalogue_item_notification:catalogueItemNotification/catalogueItem/tradeItem/tradeItemInformation/extension/*[namespace-uri()='urn:gs1:gdsn:nongtin_logistics_unit_information:xsd:3' and local-name()='nonGTINLogisticsUnitInformationModule']/nonGTINLogisticsUnitInformation/width/@measurementUnitCode"},"Regional EU","Verplicht als het veld 'Non-GTIN palletbreedte' is ingevuld bij de consumenteneenheid.","ANL1154","A","B","C","D","E","F","G","H","I","J","K","L","M","N","O","P","Q","R","S","T"]
[{"$f":"VLOOKUP(Tabel3[[#This Row],[GAE ID]],'BES NL'!A:L,12,FALSE)","v":"Non-GTIN palletdiepte"},{"$f":"VLOOKUP(Tabel3[[#This Row],[GAE ID]],'BES EN'!A:L,5,FALSE)","v":"depth"},"Conditional",0,1664,"n..15",{"$f":"VLOOKUP(Tabel3[[#This Row],[GAE ID]],'BES EN'!A:L,7,FALSE)","v":"/catalogue_item_notification:catalogueItemNotificationMessage/transaction/documentCommand/catalogue_item_notification:catalogueItemNotification/catalogueItem/tradeItem/tradeItemInformation/extension/*[namespace-uri()='urn:gs1:gdsn:nongtin_logistics_unit_information:xsd:3' and local-name()='nonGTINLogisticsUnitInformationModule']/nonGTINLogisticsUnitInformation/depth"},"Regional EU","Verplicht als de consumenteneenheid de hoogste eenheid binnen de hiërarchie is.","ANL1155","A","B","C","D","E","F","G","H","I","J","K","L","M","N","O","P","Q","R","S","T"]
[{"$f":"VLOOKUP(Tabel3[[#This Row],[GAE ID]],'BES NL'!A:L,12,FALSE)","v":"Non-GTIN palletdiepte eenheid"},{"$f":"VLOOKUP(Tabel3[[#This Row],[GAE ID]],'BES EN'!A:L,5,FALSE)","v":"depth/@measurementUnitCode"},"Conditional",0,1665,"Defined values",{"$f":"VLOOKUP(Tabel3[[#This Row],[GAE ID]],'BES EN'!A:L,7,FALSE)","v":"/catalogue_item_notification:catalogueItemNotificationMessage/transaction/documentCommand/catalogue_item_notification:catalogueItemNotification/catalogueItem/tradeItem/tradeItemInformation/extension/*[namespace-uri()='urn:gs1:gdsn:nongtin_logistics_unit_information:xsd:3' and local-name()='nonGTINLogisticsUnitInformationModule']/nonGTINLogisticsUnitInformation/depth/@measurementUnitCode"},"Regional EU","Verplicht als het veld 'Non-GTIN palletdiepte' is ingevuld bij de consumenteneenheid.","ANL1156","A","B","C","D","E","F","G","H","I","J","K","L","M","N","O","P","Q","R","S","T"]
[{"$f":"VLOOKUP(Tabel3[[#This Row],[GAE ID]],'BES NL'!A:L,12,FALSE)","v":"Non-GTIN pallet brutogewicht"},{"$f":"VLOOKUP(Tabel3[[#This Row],[GAE ID]],'BES EN'!A:L,5,FALSE)","v":"grossWeight"},"Conditional",0,1666,"n..15",{"$f":"VLOOKUP(Tabel3[[#This Row],[GAE ID]],'BES EN'!A:L,7,FALSE)","v":"/catalogue_item_notification:catalogueItemNotificationMessage/transaction/documentCommand/catalogue_item_notification:catalogueItemNotification/catalogueItem/tradeItem/tradeItemInformation/extension/*[namespace-uri()='urn:gs1:gdsn:nongtin_logistics_unit_information:xsd:3' and local-name()='nonGTINLogisticsUnitInformationModule']/nonGTINLogisticsUnitInformation/grossWeight"},"Regional EU","Verplicht als de consumenteneenheid de hoogste eenheid binnen de hiërarchie is.","ANL1157","A","B","C","D","E","F","G","H","I","J","K","L","M","N","O","P","Q","R","S","T"]
[{"$f":"VLOOKUP(Tabel3[[#This Row],[GAE ID]],'BES NL'!A:L,12,FALSE)","v":"Non-GTIN pallet brutogewicht eenheid"},{"$f":"VLOOKUP(Tabel3[[#This Row],[GAE ID]],'BES EN'!A:L,5,FALSE)","v":"grossWeight/@measurementUnitCode"},"Conditional",0,1667,"Defined values",{"$f":"VLOOKUP(Tabel3[[#This Row],[GAE ID]],'BES EN'!A:L,7,FALSE)","v":"/catalogue_item_notification:catalogueItemNotificationMessage/transaction/documentCommand/catalogue_item_notification:catalogueItemNotification/catalogueItem/tradeItem/tradeItemInformation/extension/*[namespace-uri()='urn:gs1:gdsn:nongtin_logistics_unit_information:xsd:3' and local-name()='nonGTINLogisticsUnitInformationModule']/nonGTINLogisticsUnitInformation/grossWeight/@measurementUnitCode"},"Regional EU","Verplicht als het veld 'Non-GTIN pallet brutogewicht' is ingevuld bij de consumenteneenheid.","ANL1158","A","B","C","D","E","F","G","H","I","J","K","L","M","N","O","P","Q","R","S","T"]
[{"$f":"VLOOKUP(Tabel3[[#This Row],[GAE ID]],'BES NL'!A:L,12,FALSE)","v":"Non-GTIN pallet stapelfactor"},{"$f":"VLOOKUP(Tabel3[[#This Row],[GAE ID]],'BES EN'!A:L,5,FALSE)","v":"logisticsUnitStackingFactor"},"Conditional",0,1670,"Non-negative Integer",{"$f":"VLOOKUP(Tabel3[[#This Row],[GAE ID]],'BES EN'!A:L,7,FALSE)","v":"/catalogue_item_notification:catalogueItemNotificationMessage/transaction/documentCommand/catalogue_item_notification:catalogueItemNotification/catalogueItem/tradeItem/tradeItemInformation/extension/*[namespace-uri()='urn:gs1:gdsn:nongtin_logistics_unit_information:xsd:3' and local-name()='nonGTINLogisticsUnitInformationModule']/nonGTINLogisticsUnitInformation/logisticsUnitStackingFactor"},"Regional EU","Verplicht als de consumenteneenheid de hoogste eenheid binnen de hiërarchie is. ","ANL1159","A","B","C","D","E","F","G","H","I","J","K","L","M","N","O","P","Q","R","S","T"]
[{"$f":"VLOOKUP(Tabel3[[#This Row],[GAE ID]],'BES NL'!A:L,12,FALSE)","v":"Is de GTIN logistieke eenheid onregelmatig beladen?"},{"$f":"VLOOKUP(Tabel3[[#This Row],[GAE ID]],'BES EN'!A:L,5,FALSE)","v":"isTradeItemPackedIrregularly"},"Conditional",0,3611,"Defined values",{"$f":"VLOOKUP(Tabel3[[#This Row],[GAE ID]],'BES EN'!A:L,7,FALSE)","v":"/catalogue_item_notification:catalogueItemNotificationMessage/transaction/documentCommand/catalogue_item_notification:catalogueItemNotification/catalogueItem/tradeItem/tradeItemInformation/extension/*[namespace-uri()='urn:gs1:gdsn:trade_item_hierarchy:xsd:3' and local-name()='tradeItemHierarchyModule']/tradeItemHierarchy/isTradeItemPackedIrregularly"},"Regional EU"," ","ANL1160","A","B","C","D","E","F","G","H","I","J","K","L","M","N","O","P","Q","R","S","T"]
[{"$f":"VLOOKUP(Tabel3[[#This Row],[GAE ID]],'BES NL'!A:L,12,FALSE)","v":"Is de non-GTIN logistieke eenheid onregelmatig beladen?"},{"$f":"VLOOKUP(Tabel3[[#This Row],[GAE ID]],'BES EN'!A:L,5,FALSE)","v":"isNonGTINLogisticsUnitPackedIrregularly"},"Optional",0,3610,"Defined values",{"$f":"VLOOKUP(Tabel3[[#This Row],[GAE ID]],'BES EN'!A:L,7,FALSE)","v":"/catalogue_item_notification:catalogueItemNotificationMessage/transaction/documentCommand/catalogue_item_notification:catalogueItemNotification/catalogueItem/tradeItem/tradeItemInformation/extension/*[namespace-uri()='urn:gs1:gdsn:trade_item_hierarchy:xsd:3' and local-name()='tradeItemHierarchyModule']/tradeItemHierarchy/isNonGTINLogisticsUnitPackedIrregularly"},"Local"," ","ANL1161","A","B","C","D","E","F","G","H","I","J","K","L","M","N","O","P","Q","R","S","T"]
["Gevaarlijkestoffeninformatie",null,null,null,null,null,null,null,null,null,"A","B","C","D","E","F","G","H","I","J","K","L","M","N","O","P","Q","R","S","T"]
[{"$f":"VLOOKUP(Tabel3[[#This Row],[GAE ID]],'BES NL'!A:L,12,FALSE)","v":"Gevaarlijke stoffen classificatiesysteem"},{"$f":"VLOOKUP(Tabel3[[#This Row],[GAE ID]],'BES EN'!A:L,5,FALSE)","v":"dangerousGoodsRegulationCode"},"Optional",0,3865,"Defined values",{"$f":"VLOOKUP(Tabel3[[#This Row],[GAE ID]],'BES EN'!A:L,7,FALSE)","v":"/catalogue_item_notification:catalogueItemNotificationMessage/transaction/documentCommand/catalogue_item_notification:catalogueItemNotification/catalogueItem/tradeItem/tradeItemInformation/extension/*[namespace-uri()='urn:gs1:gdsn:transportation_hazardous_classification:xsd:3' and local-name()='transportationHazardousClassificationModule']/transportationClassification/regulatedTransportationMode/hazardousInformationHeader/dangerousGoodsRegulationCode"},"Local","Verplicht als de GPC-code van uw product op de lijst ‘GPC-codes die mogelijk een gevaarlijke stof bevatten’ staat.","ANL1162","-","-","-","-","-","-","G","-","I","-","-","-","M","N","O","P","Q","R","S","T"]
[{"$f":"VLOOKUP(Tabel3[[#This Row],[GAE ID]],'BES NL'!A:L,12,FALSE)","v":"ADR klasse"},{"$f":"VLOOKUP(Tabel3[[#This Row],[GAE ID]],'BES EN'!A:L,5,FALSE)","v":"classOfDangerousGoods"},"Optional",0,3879,"Defined values",{"$f":"VLOOKUP(Tabel3[[#This Row],[GAE ID]],'BES EN'!A:L,7,FALSE)","v":"/catalogue_item_notification:catalogueItemNotificationMessage/transaction/documentCommand/catalogue_item_notification:catalogueItemNotification/catalogueItem/tradeItem/tradeItemInformation/extension/*[namespace-uri()='urn:gs1:gdsn:transportation_hazardous_classification:xsd:3' and local-name()='transportationHazardousClassificationModule']/transportationClassification/regulatedTransportationMode/hazardousInformationHeader/hazardousInformationDetail/classOfDangerousGoods"},"Local","Verplicht als het veld ‘Gevaarlijke stoffen classificatiesysteem’ niet is gevuld met ‘ZGE’ of ‘ZNA’.","ANL1163","-","-","-","-","-","-","G","-","I","-","-","-","M","N","O","P","Q","R","S","T"]
[{"$f":"VLOOKUP(Tabel3[[#This Row],[GAE ID]],'BES NL'!A:L,12,FALSE)","v":"Gevarentype (ADR, BRZO)"},{"$f":"VLOOKUP(Tabel3[[#This Row],[GAE ID]],'BES EN'!A:L,5,FALSE)","v":"dangerousGoodsHazardousCode"},"Optional",0,3881,"an..35",{"$f":"VLOOKUP(Tabel3[[#This Row],[GAE ID]],'BES EN'!A:L,7,FALSE)","v":"/catalogue_item_notification:catalogueItemNotificationMessage/transaction/documentCommand/catalogue_item_notification:catalogueItemNotification/catalogueItem/tradeItem/tradeItemInformation/extension/*[namespace-uri()='urn:gs1:gdsn:transportation_hazardous_classification:xsd:3' and local-name()='transportationHazardousClassificationModule']/transportationClassification/regulatedTransportationMode/hazardousInformationHeader/hazardousInformationDetail/dangerousGoodsHazardousCode"},"Local","Verplicht als het veld 'ADR klasse' is gevuld met een waarde uit de reeks 1 t/m 9.","ANL1164","-","-","-","-","-","-","G","-","I","-","-","-","M","N","O","P","Q","R","S","T"]
[{"$f":"VLOOKUP(Tabel3[[#This Row],[GAE ID]],'BES NL'!A:L,12,FALSE)","v":"Gevarentype regelgevende instantie"},{"$f":"VLOOKUP(Tabel3[[#This Row],[GAE ID]],'BES EN'!A:L,5,FALSE)","v":"dangerousGoodsRegulationAgency"},"X",0,3864,"an..70",{"$f":"VLOOKUP(Tabel3[[#This Row],[GAE ID]],'BES EN'!A:L,7,FALSE)","v":"/catalogue_item_notification:catalogueItemNotificationMessage/transaction/documentCommand/catalogue_item_notification:catalogueItemNotification/catalogueItem/tradeItem/tradeItemInformation/extension/*[namespace-uri()='urn:gs1:gdsn:transportation_hazardous_classification:xsd:3' and local-name()='transportationHazardousClassificationModule']/transportationClassification/regulatedTransportationMode/hazardousInformationHeader/dangerousGoodsRegulationAgency"},"Local","Verplicht als het veld ‘Gevarentype (ADR/BRZO)’ gevuld is.","ANL1456","-","-","-","-","-","-","G","-","I","-","-","-","M","N","O","P","Q","R","S","T"]
[{"$f":"VLOOKUP(Tabel3[[#This Row],[GAE ID]],'BES NL'!A:L,12,FALSE)","v":"UN-nummer"},{"$f":"VLOOKUP(Tabel3[[#This Row],[GAE ID]],'BES EN'!A:L,5,FALSE)","v":"unitedNationsDangerousGoodsNumber"},"Optional",0,3894,"Defined values",{"$f":"VLOOKUP(Tabel3[[#This Row],[GAE ID]],'BES EN'!A:L,7,FALSE)","v":"/catalogue_item_notification:catalogueItemNotificationMessage/transaction/documentCommand/catalogue_item_notification:catalogueItemNotification/catalogueItem/tradeItem/tradeItemInformation/extension/*[namespace-uri()='urn:gs1:gdsn:transportation_hazardous_classification:xsd:3' and local-name()='transportationHazardousClassificationModule']/transportationClassification/regulatedTransportationMode/hazardousInformationHeader/hazardousInformationDetail/unitedNationsDangerousGoodsNumber"},"Local","Verplicht als het veld 'ADR klasse' is gevuld met een waarde uit de reeks 1 t/m 9.","ANL1165","-","-","-","-","-","-","G","-","I","-","-","-","M","N","O","P","Q","R","S","T"]
[{"$f":"VLOOKUP(Tabel3[[#This Row],[GAE ID]],'BES NL'!A:L,12,FALSE)","v":"ADR verpakkingsgroep"},{"$f":"VLOOKUP(Tabel3[[#This Row],[GAE ID]],'BES EN'!A:L,5,FALSE)","v":"dangerousGoodsPackingGroup"},"Optional",0,3882,"Defined values",{"$f":"VLOOKUP(Tabel3[[#This Row],[GAE ID]],'BES EN'!A:L,7,FALSE)","v":"/catalogue_item_notification:catalogueItemNotificationMessage/transaction/documentCommand/catalogue_item_notification:catalogueItemNotification/catalogueItem/tradeItem/tradeItemInformation/extension/*[namespace-uri()='urn:gs1:gdsn:transportation_hazardous_classification:xsd:3' and local-name()='transportationHazardousClassificationModule']/transportationClassification/regulatedTransportationMode/hazardousInformationHeader/hazardousInformationDetail/dangerousGoodsPackingGroup"},"Local"," Verplicht als het veld 'ADR klasse' is gevuld met een waarde uit de reeks 1 t/m 9.","ANL1167","-","-","-","-","-","-","G","-","I","-","-","-","M","N","O","P","Q","R","S","T"]
[{"$f":"VLOOKUP(Tabel3[[#This Row],[GAE ID]],'BES NL'!A:L,12,FALSE)","v":"GHS-symbool"},{"$f":"VLOOKUP(Tabel3[[#This Row],[GAE ID]],'BES EN'!A:L,5,FALSE)","v":"gHSSymbolDescriptionCode"},"Conditional","X",3238,"Defined values",{"$f":"VLOOKUP(Tabel3[[#This Row],[GAE ID]],'BES EN'!A:L,7,FALSE)","v":"/catalogue_item_notification:catalogueItemNotificationMessage/transaction/documentCommand/catalogue_item_notification:catalogueItemNotification/catalogueItem/tradeItem/tradeItemInformation/extension/*[namespace-uri()='urn:gs1:gdsn:safety_data_sheet:xsd:3' and local-name()='safetyDataSheetModule']/safetyDataSheetInformation/gHSDetail/gHSSymbolDescriptionCode"},"Local","Verplicht als er een GHS-symbool op de verpakking staat.","ANL1169","-","-","-","-","-","-","G","-","I","-","-","-","M","N","O","P","Q","R","S","T"]
[{"$f":"VLOOKUP(Tabel3[[#This Row],[GAE ID]],'BES NL'!A:L,12,FALSE)","v":"GHS-signaalwoordencode"},{"$f":"VLOOKUP(Tabel3[[#This Row],[GAE ID]],'BES EN'!A:L,5,FALSE)","v":"gHSSignalWordsCode"},"Conditional","X",3237,"Defined values",{"$f":"VLOOKUP(Tabel3[[#This Row],[GAE ID]],'BES EN'!A:L,7,FALSE)","v":"/catalogue_item_notification:catalogueItemNotificationMessage/transaction/documentCommand/catalogue_item_notification:catalogueItemNotification/catalogueItem/tradeItem/tradeItemInformation/extension/*[namespace-uri()='urn:gs1:gdsn:safety_data_sheet:xsd:3' and local-name()='safetyDataSheetModule']/safetyDataSheetInformation/gHSDetail/gHSSignalWordsCode"},"Local","Verplicht als het veld ‘GHS-symbool’ of ‘ADR klasse’ is gevuld.","ANL1171","-","-","-","-","-","-","G","-","I","-","-","-","M","N","O","P","Q","R","S","T"]
[{"$f":"VLOOKUP(Tabel3[[#This Row],[GAE ID]],'BES NL'!A:L,12,FALSE)","v":"Gevarenaanduidingencode (Hazard)"},{"$f":"VLOOKUP(Tabel3[[#This Row],[GAE ID]],'BES EN'!A:L,5,FALSE)","v":"hazardStatementsCode"},"Conditional",0,3240,"an..35",{"$f":"VLOOKUP(Tabel3[[#This Row],[GAE ID]],'BES EN'!A:L,7,FALSE)","v":"/catalogue_item_notification:catalogueItemNotificationMessage/transaction/documentCommand/catalogue_item_notification:catalogueItemNotification/catalogueItem/tradeItem/tradeItemInformation/extension/*[namespace-uri()='urn:gs1:gdsn:safety_data_sheet:xsd:3' and local-name()='safetyDataSheetModule']/safetyDataSheetInformation/gHSDetail/hazardStatement/hazardStatementsCode"},"Local","Verplicht als er een gevarenaanduiding op het etiket of in het SDS-blad staat, optioneel voor cosmetica en persoonlijke verzorgingsproducten.","ANL1172","-","-","-","-","-","-","G","-","I","-","-","-","M","N","O","P","Q","R","S","T"]
[{"$f":"VLOOKUP(Tabel3[[#This Row],[GAE ID]],'BES NL'!A:L,12,FALSE)","v":"Gevarenaanduidingen (Hazard) aanvullende omschrijving"},{"$f":"VLOOKUP(Tabel3[[#This Row],[GAE ID]],'BES EN'!A:L,5,FALSE)","v":"hazardStatementsDescription"},"Conditional",0,3241,"an..1000",{"$f":"VLOOKUP(Tabel3[[#This Row],[GAE ID]],'BES EN'!A:L,7,FALSE)","v":"/catalogue_item_notification:catalogueItemNotificationMessage/transaction/documentCommand/catalogue_item_notification:catalogueItemNotification/catalogueItem/tradeItem/tradeItemInformation/extension/*[namespace-uri()='urn:gs1:gdsn:safety_data_sheet:xsd:3' and local-name()='safetyDataSheetModule']/safetyDataSheetInformation/gHSDetail/hazardStatement/hazardStatementsDescription"},"Local","Verplicht, als de H-zin of EUH-zin die u in het veld ‘Gevarenaanduidingencode (Hazard)’ hebt ingevuld om een aanvulling vraagt.","ANL1173","-","-","-","-","-","-","G","-","I","-","-","-","M","N","O","P","Q","R","S","T"]
[{"$f":"VLOOKUP(Tabel3[[#This Row],[GAE ID]],'BES NL'!A:L,12,FALSE)","v":"Gevarenaanduidingen (Hazard) aanvullende omschrijving taalcode"},{"$f":"VLOOKUP(Tabel3[[#This Row],[GAE ID]],'BES EN'!A:L,5,FALSE)","v":"hazardStatementsDescription/@languageCode"},"Conditional",0,3242,"Defined values",{"$f":"VLOOKUP(Tabel3[[#This Row],[GAE ID]],'BES EN'!A:L,7,FALSE)","v":"/catalogue_item_notification:catalogueItemNotificationMessage/transaction/documentCommand/catalogue_item_notification:catalogueItemNotification/catalogueItem/tradeItem/tradeItemInformation/extension/*[namespace-uri()='urn:gs1:gdsn:safety_data_sheet:xsd:3' and local-name()='safetyDataSheetModule']/safetyDataSheetInformation/gHSDetail/hazardStatement/hazardStatementsDescription/@languageCode"},"Local","Verplicht als 'Gevarenaanduidingen (Hazard) - aanvullende omschrijving' is gevuld bij de consumenteneenheid.","ANL1174","-","-","-","-","-","-","G","-","I","-","-","-","M","N","O","P","Q","R","S","T"]
[{"$f":"VLOOKUP(Tabel3[[#This Row],[GAE ID]],'BES NL'!A:L,12,FALSE)","v":"Is gevaarlijke stof een mengsel?"},{"$f":"VLOOKUP(Tabel3[[#This Row],[GAE ID]],'BES EN'!A:L,5,FALSE)","v":"isDangerousSubstanceAMixture"},"X",0,941,"Non-binary logic enumeration",{"$f":"VLOOKUP(Tabel3[[#This Row],[GAE ID]],'BES EN'!A:L,7,FALSE)","v":"/catalogue_item_notification:catalogueItemNotificationMessage/transaction/documentCommand/catalogue_item_notification:catalogueItemNotification/catalogueItem/tradeItem/tradeItemInformation/extension/*[namespace-uri()='urn:gs1:gdsn:dangerous_substance_information:xsd:3' and local-name()='dangerousSubstanceInformationModule']/dangerousSubstanceInformation/dangerousSubstanceProperties/isDangerousSubstanceAMixture"},"Local","Verplicht als het veld ‘Gevarenaanduidingencode (Hazard)’ is ingevuld voor een mengsel van gevaarlijke stoffen.","ANL1461","-","-","-","-","-","-","G","-","I","-","-","-","M","N","O","P","Q","R","S","T"]
[{"$f":"VLOOKUP(Tabel3[[#This Row],[GAE ID]],'BES NL'!A:L,12,FALSE)","v":"Veiligheidsaanbevelingencode (Precautionary)"},{"$f":"VLOOKUP(Tabel3[[#This Row],[GAE ID]],'BES EN'!A:L,5,FALSE)","v":"precautionaryStatementsCode"},"Conditional",0,3244,"an..35",{"$f":"VLOOKUP(Tabel3[[#This Row],[GAE ID]],'BES EN'!A:L,7,FALSE)","v":"/catalogue_item_notification:catalogueItemNotificationMessage/transaction/documentCommand/catalogue_item_notification:catalogueItemNotification/catalogueItem/tradeItem/tradeItemInformation/extension/*[namespace-uri()='urn:gs1:gdsn:safety_data_sheet:xsd:3' and local-name()='safetyDataSheetModule']/safetyDataSheetInformation/gHSDetail/precautionaryStatement/precautionaryStatementsCode"},"Local","Verplicht als er een veiligheidsaanbeveling op het etiket staat, optioneel voor cosmetica en persoonlijke verzorgingsproducten.","ANL1175","-","-","-","-","-","-","G","-","I","-","-","-","M","N","O","P","Q","R","S","T"]
[{"$f":"VLOOKUP(Tabel3[[#This Row],[GAE ID]],'BES NL'!A:L,12,FALSE)","v":"Veiligheidsaanbevelingen (Precautionary) - aanvullende omschrijving"},{"$f":"VLOOKUP(Tabel3[[#This Row],[GAE ID]],'BES EN'!A:L,5,FALSE)","v":"precautionaryStatementsDescription"},"Conditional",0,3245,"an..1000",{"$f":"VLOOKUP(Tabel3[[#This Row],[GAE ID]],'BES EN'!A:L,7,FALSE)","v":"/catalogue_item_notification:catalogueItemNotificationMessage/transaction/documentCommand/catalogue_item_notification:catalogueItemNotification/catalogueItem/tradeItem/tradeItemInformation/extension/*[namespace-uri()='urn:gs1:gdsn:safety_data_sheet:xsd:3' and local-name()='safetyDataSheetModule']/safetyDataSheetInformation/gHSDetail/precautionaryStatement/precautionaryStatementsDescription"},"Local","Verplicht, indien de P-zin die u in het veld ‘Veiligheidsaanbevelingen (Precautionary)’ hebt ingevuld om een aanvulling vraagt.","ANL1176","-","-","-","-","-","-","G","-","I","-","-","-","M","N","O","P","Q","R","S","T"]
[{"$f":"VLOOKUP(Tabel3[[#This Row],[GAE ID]],'BES NL'!A:L,12,FALSE)","v":"Veiligheidsaanbevelingen (Precautionary) - aanvullende omschrijving taalcode"},{"$f":"VLOOKUP(Tabel3[[#This Row],[GAE ID]],'BES EN'!A:L,5,FALSE)","v":"precautionaryStatementsDescription/@languageCode"},"Conditional",0,3246,"Defined values",{"$f":"VLOOKUP(Tabel3[[#This Row],[GAE ID]],'BES EN'!A:L,7,FALSE)","v":"/catalogue_item_notification:catalogueItemNotificationMessage/transaction/documentCommand/catalogue_item_notification:catalogueItemNotification/catalogueItem/tradeItem/tradeItemInformation/extension/*[namespace-uri()='urn:gs1:gdsn:safety_data_sheet:xsd:3' and local-name()='safetyDataSheetModule']/safetyDataSheetInformation/gHSDetail/precautionaryStatement/precautionaryStatementsDescription/@languageCode"},"Local","Verplicht als het veld 'Veiligheidsaanbevelingen (Precautionary) - aanvullende omschrijving' is ingevuld bij de consumenteneenheid.","ANL1177","-","-","-","-","-","-","G","-","I","-","-","-","M","N","O","P","Q","R","S","T"]
[{"$f":"VLOOKUP(Tabel3[[#This Row],[GAE ID]],'BES NL'!A:L,12,FALSE)","v":"Code SDS"},{"$f":"VLOOKUP(Tabel3[[#This Row],[GAE ID]],'BES EN'!A:L,5,FALSE)","v":"referencedFileTypeCode"},"Conditional",0,3164,"Defined values",{"$f":"VLOOKUP(Tabel3[[#This Row],[GAE ID]],'BES EN'!A:L,7,FALSE)","v":"/catalogue_item_notification:catalogueItemNotificationMessage/transaction/documentCommand/catalogue_item_notification:catalogueItemNotification/catalogueItem/tradeItem/tradeItemInformation/extension/*[namespace-uri()='urn:gs1:gdsn:safety_data_sheet:xsd:3' and local-name()='safetyDataSheetModule']/safetyDataSheetInformation/referencedFileInformation/referencedFileTypeCode"},"Local","Verplicht als er in het veld ‘Type verordening/richtlijn’ de waarde ‘SAFETY_DATA_SHEET_REQUIRED’ is ingevuld.","ANL1332","-","-","-","-","-","-","G","-","I","-","-","-","M","N","O","P","Q","R","S","T"]
[{"$f":"VLOOKUP(Tabel3[[#This Row],[GAE ID]],'BES NL'!A:L,12,FALSE)","v":"URL bestandsnaam SDS"},{"$f":"VLOOKUP(Tabel3[[#This Row],[GAE ID]],'BES EN'!A:L,5,FALSE)","v":"uniformResourceIdentifier"},"Conditional",0,3165,"an..2500",{"$f":"VLOOKUP(Tabel3[[#This Row],[GAE ID]],'BES EN'!A:L,7,FALSE)","v":"/catalogue_item_notification:catalogueItemNotificationMessage/transaction/documentCommand/catalogue_item_notification:catalogueItemNotification/catalogueItem/tradeItem/tradeItemInformation/extension/*[namespace-uri()='urn:gs1:gdsn:safety_data_sheet:xsd:3' and local-name()='safetyDataSheetModule']/safetyDataSheetInformation/referencedFileInformation/uniformResourceIdentifier"},"Local","Verplicht als er in het veld ‘Type verordening/richtlijn’ de waarde ‘SAFETY_DATA_SHEET_REQUIRED’ is ingevuld.","ANL1333","-","-","-","-","-","-","G","-","I","-","-","-","M","N","O","P","Q","R","S","T"]
[{"$f":"VLOOKUP(Tabel3[[#This Row],[GAE ID]],'BES NL'!A:L,12,FALSE)","v":"Naam van extern bestand SDS"},{"$f":"VLOOKUP(Tabel3[[#This Row],[GAE ID]],'BES EN'!A:L,5,FALSE)","v":"fileName"},"Conditional",0,3160,"an..70",{"$f":"VLOOKUP(Tabel3[[#This Row],[GAE ID]],'BES EN'!A:L,7,FALSE)","v":"/catalogue_item_notification:catalogueItemNotificationMessage/transaction/documentCommand/catalogue_item_notification:catalogueItemNotification/catalogueItem/tradeItem/tradeItemInformation/extension/*[namespace-uri()='urn:gs1:gdsn:safety_data_sheet:xsd:3' and local-name()='safetyDataSheetModule']/safetyDataSheetInformation/referencedFileInformation/fileName"},"Local",0,"ANL1334","-","-","-","-","-","-","G","-","I","-","-","-","M","N","O","P","Q","R","S","T"]
[{"$f":"VLOOKUP(Tabel3[[#This Row],[GAE ID]],'BES NL'!A:L,12,FALSE)","v":"Datum laatste herziening SDS"},{"$f":"VLOOKUP(Tabel3[[#This Row],[GAE ID]],'BES EN'!A:L,5,FALSE)","v":"fileEffectiveStartDateTime"},"Conditional",0,3155,"DateTime",{"$f":"VLOOKUP(Tabel3[[#This Row],[GAE ID]],'BES EN'!A:L,7,FALSE)","v":"/catalogue_item_notification:catalogueItemNotificationMessage/transaction/documentCommand/catalogue_item_notification:catalogueItemNotification/catalogueItem/tradeItem/tradeItemInformation/extension/*[namespace-uri()='urn:gs1:gdsn:safety_data_sheet:xsd:3' and local-name()='safetyDataSheetModule']/safetyDataSheetInformation/referencedFileInformation/fileEffectiveStartDateTime"},"Local","Verplicht als er in het veld ‘Type verordening/richtlijn’ de waarde ‘SAFETY_DATA_SHEET_REQUIRED’ is ingevuld.","ANL1335","-","-","-","-","-","-","G","-","I","-","-","-","M","N","O","P","Q","R","S","T"]
[{"$f":"VLOOKUP(Tabel3[[#This Row],[GAE ID]],'BES NL'!A:L,12,FALSE)","v":"SDS taalcode"},{"$f":"VLOOKUP(Tabel3[[#This Row],[GAE ID]],'BES EN'!A:L,5,FALSE)","v":"fileLanguageCode"},"Conditional",0,3159,"Defined values",{"$f":"VLOOKUP(Tabel3[[#This Row],[GAE ID]],'BES EN'!A:L,7,FALSE)","v":"/catalogue_item_notification:catalogueItemNotificationMessage/transaction/documentCommand/catalogue_item_notification:catalogueItemNotification/catalogueItem/tradeItem/tradeItemInformation/extension/*[namespace-uri()='urn:gs1:gdsn:safety_data_sheet:xsd:3' and local-name()='safetyDataSheetModule']/safetyDataSheetInformation/referencedFileInformation/fileLanguageCode"},"Local","Verplicht als er in het veld ‘Type verordening/richtlijn’ de waarde ‘SAFETY_DATA_SHEET_REQUIRED’ is ingevuld.","ANL1336","-","-","-","-","-","-","G","-","I","-","-","-","M","N","O","P","Q","R","S","T"]
[{"$f":"VLOOKUP(Tabel3[[#This Row],[GAE ID]],'BES NL'!A:L,12,FALSE)","v":"Handelsnaam op SDS"},{"$f":"VLOOKUP(Tabel3[[#This Row],[GAE ID]],'BES EN'!A:L,5,FALSE)","v":"contentDescription"},"Conditional",0,3151,"an..70",{"$f":"VLOOKUP(Tabel3[[#This Row],[GAE ID]],'BES EN'!A:L,7,FALSE)","v":"/catalogue_item_notification:catalogueItemNotificationMessage/transaction/documentCommand/catalogue_item_notification:catalogueItemNotification/catalogueItem/tradeItem/tradeItemInformation/extension/*[namespace-uri()='urn:gs1:gdsn:safety_data_sheet:xsd:3' and local-name()='safetyDataSheetModule']/safetyDataSheetInformation/referencedFileInformation/contentDescription"},"Local","Verplicht als er in het veld ‘Type verordening/richtlijn’ de waarde ‘SAFETY_DATA_SHEET_REQUIRED’ is ingevuld.","ANL1337","-","-","-","-","-","-","G","-","I","-","-","-","M","N","O","P","Q","R","S","T"]
[{"$f":"VLOOKUP(Tabel3[[#This Row],[GAE ID]],'BES NL'!A:L,12,FALSE)","v":"Handelsnaam op SDS taalcode"},{"$f":"VLOOKUP(Tabel3[[#This Row],[GAE ID]],'BES EN'!A:L,5,FALSE)","v":"contentDescription/@languageCode"},"Conditional",0,3152,"Defined values",{"$f":"VLOOKUP(Tabel3[[#This Row],[GAE ID]],'BES EN'!A:L,7,FALSE)","v":"/catalogue_item_notification:catalogueItemNotificationMessage/transaction/documentCommand/catalogue_item_notification:catalogueItemNotification/catalogueItem/tradeItem/tradeItemInformation/extension/*[namespace-uri()='urn:gs1:gdsn:safety_data_sheet:xsd:3' and local-name()='safetyDataSheetModule']/safetyDataSheetInformation/referencedFileInformation/contentDescription/@languageCode"},"Local","Verplicht als 'Handelsnaam op SDS' is gevuld bij de consumenteneenheid.","ANL1338","-","-","-","-","-","-","G","-","I","-","-","-","M","N","O","P","Q","R","S","T"]
[{"$f":"VLOOKUP(Tabel3[[#This Row],[GAE ID]],'BES NL'!A:L,12,FALSE)","v":"Limited quantity waarde"},{"$f":"VLOOKUP(Tabel3[[#This Row],[GAE ID]],'BES EN'!A:L,5,FALSE)","v":"dangerousGoodsLimitedQuantityIndex"},"X",null,6063,"n..15",{"$f":"VLOOKUP(Tabel3[[#This Row],[GAE ID]],'BES EN'!A:L,7,FALSE)","v":"/catalogue_item_notification:catalogueItemNotificationMessage/transaction/documentCommand/catalogue_item_notification:catalogueItemNotification/catalogueItem/tradeItem/tradeItemInformation/extension/*[namespace-uri()='urn:gs1:gdsn:transportation_hazardous_classification:xsd:3' and local-name()='transportationHazardousClassificationModule']/transportationClassification/regulatedTransportationMode/hazardousInformationHeader/hazardousInformationDetail/dangerousGoodsLimitedQuantityIndex"},"Local","Verplicht voor een artikel dat valt onder de limited quantity regeling.","ANL1459","-","-","-","-","-","-","G","-","I","-","-","-","M","N","O","P","Q","R","S","T"]
[{"$f":"VLOOKUP(Tabel3[[#This Row],[GAE ID]],'BES NL'!A:L,12,FALSE)","v":"Eenheid limited quantity waarde"},{"$f":"VLOOKUP(Tabel3[[#This Row],[GAE ID]],'BES EN'!A:L,5,FALSE)","v":"dangerousGoodsLimitedQuantityIndex/@measurementUnitcode"},"X",null,6064,"Defined values",{"$f":"VLOOKUP(Tabel3[[#This Row],[GAE ID]],'BES EN'!A:L,7,FALSE)","v":"/catalogue_item_notification:catalogueItemNotificationMessage/transaction/documentCommand/catalogue_item_notification:catalogueItemNotification/catalogueItem/tradeItem/tradeItemInformation/extension/*[namespace-uri()='urn:gs1:gdsn:transportation_hazardous_classification:xsd:3' and local-name()='transportationHazardousClassificationModule']/transportationClassification/regulatedTransportationMode/hazardousInformationHeader/hazardousInformationDetail/dangerousGoodsLimitedQuantityIndex/@measurementUnitCode"},"Local","Verplicht als 'Limited quantity waarde' is ingevuld bij de consumenteneenheid.","ANL1460","-","-","-","-","-","-","G","-","I","-","-","-","M","N","O","P","Q","R","S","T"]
[{"$f":"VLOOKUP(Tabel3[[#This Row],[GAE ID]],'BES NL'!A:L,12,FALSE)","v":"Excepted quantity code"},{"$f":"VLOOKUP(Tabel3[[#This Row],[GAE ID]],'BES EN'!A:L,5,FALSE)","v":"specialPermitOrExemptionIdentification"},"Optional",0,3855,"an..80",{"$f":"VLOOKUP(Tabel3[[#This Row],[GAE ID]],'BES EN'!A:L,7,FALSE)","v":"/catalogue_item_notification:catalogueItemNotificationMessage/transaction/documentCommand/catalogue_item_notification:catalogueItemNotification/catalogueItem/tradeItem/tradeItemInformation/extension/*[namespace-uri()='urn:gs1:gdsn:transportation_hazardous_classification:xsd:3' and local-name()='transportationHazardousClassificationModule']/transportationClassification/regulatedTransportationMode/specialPermitOrExemptionIdentification"},"Local","Verplicht als bij de consumenteneenheid 'ADR klasse' is gevuld met een waarde uit de reeks 1 t/m 9.","ANL1342","-","-","-","-","-","-","G","-","I","-","-","-","M","N","O","P","Q","R","S","T"]
[{"$f":"VLOOKUP(Tabel3[[#This Row],[GAE ID]],'BES NL'!A:L,12,FALSE)","v":"Excepted quantity code - beheersorganisatie"},{"$f":"VLOOKUP(Tabel3[[#This Row],[GAE ID]],'BES EN'!A:L,5,FALSE)","v":"specialPermitOrExemptionIdentification/@identificationSchemeAgencyCode"},"Conditional",0,3856,"an..80",{"$f":"VLOOKUP(Tabel3[[#This Row],[GAE ID]],'BES EN'!A:L,7,FALSE)","v":"/catalogue_item_notification:catalogueItemNotificationMessage/transaction/documentCommand/catalogue_item_notification:catalogueItemNotification/catalogueItem/tradeItem/tradeItemInformation/extension/*[namespace-uri()='urn:gs1:gdsn:transportation_hazardous_classification:xsd:3' and local-name()='transportationHazardousClassificationModule']/transportationClassification/regulatedTransportationMode/specialPermitOrExemptionIdentification/@identificationSchemeAgencyCode"},"Local","Verplicht als 'Excepted quantity code' is gevuld bij de consumenteneenheid.","ANL1343","-","-","-","-","-","-","G","-","I","-","-","-","M","N","O","P","Q","R","S","T"]
[{"$f":"VLOOKUP(Tabel3[[#This Row],[GAE ID]],'BES NL'!A:L,12,FALSE)","v":"ADR tunnelrestrictiecode "},{"$f":"VLOOKUP(Tabel3[[#This Row],[GAE ID]],'BES EN'!A:L,5,FALSE)","v":"aDRTunnelRestrictionCode"},"Optional",0,3863,"Defined values",{"$f":"VLOOKUP(Tabel3[[#This Row],[GAE ID]],'BES EN'!A:L,7,FALSE)","v":"/catalogue_item_notification:catalogueItemNotificationMessage/transaction/documentCommand/catalogue_item_notification:catalogueItemNotification/catalogueItem/tradeItem/tradeItemInformation/extension/*[namespace-uri()='urn:gs1:gdsn:transportation_hazardous_classification:xsd:3' and local-name()='transportationHazardousClassificationModule']/transportationClassification/regulatedTransportationMode/hazardousInformationHeader/aDRTunnelRestrictionCode"},"Local","Verplicht als het veld 'ADR klasse' is gevuld met een waarde uit de reeks 1 t/m 9.","ANL1344","-","-","-","-","-","-","G","-","I","-","-","-","M","N","O","P","Q","R","S","T"]
[{"$f":"VLOOKUP(Tabel3[[#This Row],[GAE ID]],'BES NL'!A:L,12,FALSE)","v":"Classificatiecode (ADR)"},{"$f":"VLOOKUP(Tabel3[[#This Row],[GAE ID]],'BES EN'!A:L,5,FALSE)","v":"dangerousGoodsClassificationCode"},"Optional",0,3880,"Defined values",{"$f":"VLOOKUP(Tabel3[[#This Row],[GAE ID]],'BES EN'!A:L,7,FALSE)","v":"/catalogue_item_notification:catalogueItemNotificationMessage/transaction/documentCommand/catalogue_item_notification:catalogueItemNotification/catalogueItem/tradeItem/tradeItemInformation/extension/*[namespace-uri()='urn:gs1:gdsn:transportation_hazardous_classification:xsd:3' and local-name()='transportationHazardousClassificationModule']/transportationClassification/regulatedTransportationMode/hazardousInformationHeader/hazardousInformationDetail/dangerousGoodsClassificationCode"},"Local","Verplicht als het veld 'ADR klasse' is gevuld met een waarde uit de reeks 1 t/m 9.","ANL1345","-","-","-","-","-","-","G","-","I","-","-","-","M","N","O","P","Q","R","S","T"]
[{"$f":"VLOOKUP(Tabel3[[#This Row],[GAE ID]],'BES NL'!A:L,12,FALSE)","v":"Productgroep"},{"$f":"VLOOKUP(Tabel3[[#This Row],[GAE ID]],'BES EN'!A:L,5,FALSE)","v":"tradeItemGroupIdentificationCodeReference"},"X",null,3522,"Defined values",{"$f":"VLOOKUP(Tabel3[[#This Row],[GAE ID]],'BES EN'!A:L,7,FALSE)","v":"/catalogue_item_notification:catalogueItemNotificationMessage/transaction/documentCommand/catalogue_item_notification:catalogueItemNotification/catalogueItem/tradeItem/tradeItemInformation/extension/*[namespace-uri()='urn:gs1:gdsn:trade_item_description:xsd:3' and local-name()='tradeItemDescriptionModule']/tradeItemDescriptionInformation/tradeItemGroupIdentificationCodeReference"},"Local",0,"ANL1458","-","-","-","-","-","-","G","-","I","-","-","-","M","N","O","P","Q","R","S","T"]
[{"$f":"VLOOKUP(Tabel3[[#This Row],[GAE ID]],'BES NL'!A:L,12,FALSE)","v":"Vervoersnaam - aanvulling"},{"$f":"VLOOKUP(Tabel3[[#This Row],[GAE ID]],'BES EN'!A:L,5,FALSE)","v":"dangerousGoodsShippingName"},"Optional",0,3883,"an..1000",{"$f":"VLOOKUP(Tabel3[[#This Row],[GAE ID]],'BES EN'!A:L,7,FALSE)","v":"/catalogue_item_notification:catalogueItemNotificationMessage/transaction/documentCommand/catalogue_item_notification:catalogueItemNotification/catalogueItem/tradeItem/tradeItemInformation/extension/*[namespace-uri()='urn:gs1:gdsn:transportation_hazardous_classification:xsd:3' and local-name()='transportationHazardousClassificationModule']/transportationClassification/regulatedTransportationMode/hazardousInformationHeader/hazardousInformationDetail/dangerousGoodsShippingName"},"Local","","ANL1348","-","-","-","-","-","-","G","-","I","-","-","-","M","N","O","P","Q","R","S","T"]
[{"$f":"VLOOKUP(Tabel3[[#This Row],[GAE ID]],'BES NL'!A:L,12,FALSE)","v":"Hazard label nummer "},{"$f":"VLOOKUP(Tabel3[[#This Row],[GAE ID]],'BES EN'!A:L,5,FALSE)","v":"dangerousHazardousLabelNumber"},"Optional",0,3896,"Defined values",{"$f":"VLOOKUP(Tabel3[[#This Row],[GAE ID]],'BES EN'!A:L,7,FALSE)","v":"/catalogue_item_notification:catalogueItemNotificationMessage/transaction/documentCommand/catalogue_item_notification:catalogueItemNotification/catalogueItem/tradeItem/tradeItemInformation/extension/*[namespace-uri()='urn:gs1:gdsn:transportation_hazardous_classification:xsd:3' and local-name()='transportationHazardousClassificationModule']/transportationClassification/regulatedTransportationMode/hazardousInformationHeader/hazardousInformationDetail/dangerousHazardousLabel/dangerousHazardousLabelNumber"},"Local","","ANL1349","-","-","-","-","-","-","G","-","I","-","-","-","M","N","O","P","Q","R","S","T"]
[{"$f":"VLOOKUP(Tabel3[[#This Row],[GAE ID]],'BES NL'!A:L,12,FALSE)","v":"Hazard label nummer - volgnummer "},{"$f":"VLOOKUP(Tabel3[[#This Row],[GAE ID]],'BES EN'!A:L,5,FALSE)","v":"dangerousHazardousLabelSequenceNumber"},"Optional",0,3897,"Non-negative Integer",{"$f":"VLOOKUP(Tabel3[[#This Row],[GAE ID]],'BES EN'!A:L,7,FALSE)","v":"/catalogue_item_notification:catalogueItemNotificationMessage/transaction/documentCommand/catalogue_item_notification:catalogueItemNotification/catalogueItem/tradeItem/tradeItemInformation/extension/*[namespace-uri()='urn:gs1:gdsn:transportation_hazardous_classification:xsd:3' and local-name()='transportationHazardousClassificationModule']/transportationClassification/regulatedTransportationMode/hazardousInformationHeader/hazardousInformationDetail/dangerousHazardousLabel/dangerousHazardousLabelSequenceNumber"},"Local","Verplicht als bij de consumenteneenheid 'Hazard label nummer' is gevuld.","ANL1350","-","-","-","-","-","-","G","-","I","-","-","-","M","N","O","P","Q","R","S","T"]
[{"$f":"VLOOKUP(Tabel3[[#This Row],[GAE ID]],'BES NL'!A:L,12,FALSE)","v":"Indicatie stof op kankerverwekkende stoffenlijst SZW "},{"$f":"VLOOKUP(Tabel3[[#This Row],[GAE ID]],'BES EN'!A:L,5,FALSE)","v":"isSubstanceOfVeryHighConcern"},"Optional",0,3143,"Non-binary logic enumeration ",{"$f":"VLOOKUP(Tabel3[[#This Row],[GAE ID]],'BES EN'!A:L,7,FALSE)","v":"/catalogue_item_notification:catalogueItemNotificationMessage/transaction/documentCommand/catalogue_item_notification:catalogueItemNotification/catalogueItem/tradeItem/tradeItemInformation/extension/*[namespace-uri()='urn:gs1:gdsn:safety_data_sheet:xsd:3' and local-name()='safetyDataSheetModule']/safetyDataSheetInformation/rEACHInformation/isSubstanceOfVeryHighConcern"},"Local",0,"ANL1354","-","-","-","-","-","-","G","-","I","-","-","-","M","N","O","P","Q","R","S","T"]
[{"$f":"VLOOKUP(Tabel3[[#This Row],[GAE ID]],'BES NL'!A:L,12,FALSE)","v":"VOS-categorie - beheersorganisatie"},{"$f":"VLOOKUP(Tabel3[[#This Row],[GAE ID]],'BES EN'!A:L,5,FALSE)","v":"chemicalIngredientOrganisation"},"Conditional",0,3181,"an..200",{"$f":"VLOOKUP(Tabel3[[#This Row],[GAE ID]],'BES EN'!A:L,7,FALSE)","v":"/catalogue_item_notification:catalogueItemNotificationMessage/transaction/documentCommand/catalogue_item_notification:catalogueItemNotification/catalogueItem/tradeItem/tradeItemInformation/extension/*[namespace-uri()='urn:gs1:gdsn:safety_data_sheet:xsd:3' and local-name()='safetyDataSheetModule']/safetyDataSheetInformation/chemicalInformation/chemicalIngredientOrganisation"},"Local","Verplicht voor verfproducten.","ANL1357","-","-","-","-","-","-","G","-","I","-","-","-","M","N","O","P","Q","R","S","T"]
[{"$f":"VLOOKUP(Tabel3[[#This Row],[GAE ID]],'BES NL'!A:L,12,FALSE)","v":"Vlampunt - minimum "},{"$f":"VLOOKUP(Tabel3[[#This Row],[GAE ID]],'BES EN'!A:L,5,FALSE)","v":"flashPointTemperatureLowerValue"},"Optional",0,3283,"n..15",{"$f":"VLOOKUP(Tabel3[[#This Row],[GAE ID]],'BES EN'!A:L,7,FALSE)","v":"/catalogue_item_notification:catalogueItemNotificationMessage/transaction/documentCommand/catalogue_item_notification:catalogueItemNotification/catalogueItem/tradeItem/tradeItemInformation/extension/*[namespace-uri()='urn:gs1:gdsn:safety_data_sheet:xsd:3' and local-name()='safetyDataSheetModule']/safetyDataSheetInformation/physicalChemicalPropertyInformation/flashPoint/flashPointTemperatureLowerValue"},"Local",0,"ANL1361","-","-","-","-","-","-","G","-","I","-","-","-","M","N","O","P","Q","R","S","T"]
[{"$f":"VLOOKUP(Tabel3[[#This Row],[GAE ID]],'BES NL'!A:L,12,FALSE)","v":"Eenheid vlampunt - minimum"},{"$f":"VLOOKUP(Tabel3[[#This Row],[GAE ID]],'BES EN'!A:L,5,FALSE)","v":"flashPointTemperatureLowerValue/@temperatureMeasurementUnitCode"},"Optional",0,3284,"Defined values",{"$f":"VLOOKUP(Tabel3[[#This Row],[GAE ID]],'BES EN'!A:L,7,FALSE)","v":"/catalogue_item_notification:catalogueItemNotificationMessage/transaction/documentCommand/catalogue_item_notification:catalogueItemNotification/catalogueItem/tradeItem/tradeItemInformation/extension/*[namespace-uri()='urn:gs1:gdsn:safety_data_sheet:xsd:3' and local-name()='safetyDataSheetModule']/safetyDataSheetInformation/physicalChemicalPropertyInformation/flashPoint/flashPointTemperatureLowerValue/@temperatureMeasurementUnitCode"},"Local","Verplicht als 'Vlampunt - minimum' is ingevuld bij de consumenteneenheid.","ANL1362","-","-","-","-","-","-","G","-","I","-","-","-","M","N","O","P","Q","R","S","T"]
[{"$f":"VLOOKUP(Tabel3[[#This Row],[GAE ID]],'BES NL'!A:L,12,FALSE)","v":"Vlampunt - maximum "},{"$f":"VLOOKUP(Tabel3[[#This Row],[GAE ID]],'BES EN'!A:L,5,FALSE)","v":"flashPointTemperatureUpperValue"},"Optional",0,3286,"n..15",{"$f":"VLOOKUP(Tabel3[[#This Row],[GAE ID]],'BES EN'!A:L,7,FALSE)","v":"/catalogue_item_notification:catalogueItemNotificationMessage/transaction/documentCommand/catalogue_item_notification:catalogueItemNotification/catalogueItem/tradeItem/tradeItemInformation/extension/*[namespace-uri()='urn:gs1:gdsn:safety_data_sheet:xsd:3' and local-name()='safetyDataSheetModule']/safetyDataSheetInformation/physicalChemicalPropertyInformation/flashPoint/flashPointTemperatureUpperValue"},"Local",0,"ANL1363","-","-","-","-","-","-","G","-","I","-","-","-","M","N","O","P","Q","R","S","T"]
[{"$f":"VLOOKUP(Tabel3[[#This Row],[GAE ID]],'BES NL'!A:L,12,FALSE)","v":"Eenheid vlampunt - maximum"},{"$f":"VLOOKUP(Tabel3[[#This Row],[GAE ID]],'BES EN'!A:L,5,FALSE)","v":"flashPointTemperatureUpperValue/@temperatureMeasurementUnitCode"},"Optional",0,3287,"Defined values",{"$f":"VLOOKUP(Tabel3[[#This Row],[GAE ID]],'BES EN'!A:L,7,FALSE)","v":"/catalogue_item_notification:catalogueItemNotificationMessage/transaction/documentCommand/catalogue_item_notification:catalogueItemNotification/catalogueItem/tradeItem/tradeItemInformation/extension/*[namespace-uri()='urn:gs1:gdsn:safety_data_sheet:xsd:3' and local-name()='safetyDataSheetModule']/safetyDataSheetInformation/physicalChemicalPropertyInformation/flashPoint/flashPointTemperatureUpperValue/@temperatureMeasurementUnitCode"},"Local","Verplicht als 'Vlampunt - maximum' is ingevuld bij de consumenteneenheid.","ANL1364","-","-","-","-","-","-","G","-","I","-","-","-","M","N","O","P","Q","R","S","T"]
[{"$f":"VLOOKUP(Tabel3[[#This Row],[GAE ID]],'BES NL'!A:L,12,FALSE)","v":"Bevat artikel pesticide? "},{"$f":"VLOOKUP(Tabel3[[#This Row],[GAE ID]],'BES EN'!A:L,5,FALSE)","v":"doesTradeItemContainPesticide"},"Optional",0,2516,"Non-binary logic enumeration ",{"$f":"VLOOKUP(Tabel3[[#This Row],[GAE ID]],'BES EN'!A:L,7,FALSE)","v":"/catalogue_item_notification:catalogueItemNotificationMessage/transaction/documentCommand/catalogue_item_notification:catalogueItemNotification/catalogueItem/tradeItem/tradeItemInformation/extension/*[namespace-uri()='urn:gs1:gdsn:sustainability_module:xsd:3' and local-name()='sustainabilityModule']/sustainabilityInformation/doesTradeItemContainPesticide"},"Local"," ","ANL1229","-","-","-","-","-","-","G","-","I","-","-","-","M","N","O","P","Q","R","S","T"]
[{"$f":"VLOOKUP(Tabel3[[#This Row],[GAE ID]],'BES NL'!A:L,12,FALSE)","v":"Code functie verpakking"},{"$f":"VLOOKUP(Tabel3[[#This Row],[GAE ID]],'BES EN'!A:L,5,FALSE)","v":"packagingFunctionCode"},"X",null,2167,"Defined values",{"$f":"VLOOKUP(Tabel3[[#This Row],[GAE ID]],'BES EN'!A:L,7,FALSE)","v":"/catalogue_item_notification:catalogueItemNotificationMessage/transaction/documentCommand/catalogue_item_notification:catalogueItemNotification/catalogueItem/tradeItem/tradeItemInformation/extension/*[namespace-uri()='urn:gs1:gdsn:packaging_information:xsd:3' and local-name()='packagingInformationModule']/packaging/packagingFunctionCode"},"Local",0,"ANL1457","-","-","-","-","-","-","G","-","I","-","-","-","M","N","O","P","Q","R","S","T"]
[{"$f":"VLOOKUP(Tabel3[[#This Row],[GAE ID]],'BES NL'!A:L,12,FALSE)","v":"Indicatie viscositeitsuitzondering"},{"$f":"VLOOKUP(Tabel3[[#This Row],[GAE ID]],'BES EN'!A:L,5,FALSE)","v":"specialPermitOrExemptionIdentification"},"Optional",0,3855,"an..80",{"$f":"VLOOKUP(Tabel3[[#This Row],[GAE ID]],'BES EN'!A:L,7,FALSE)","v":"/catalogue_item_notification:catalogueItemNotificationMessage/transaction/documentCommand/catalogue_item_notification:catalogueItemNotification/catalogueItem/tradeItem/tradeItemInformation/extension/*[namespace-uri()='urn:gs1:gdsn:transportation_hazardous_classification:xsd:3' and local-name()='transportationHazardousClassificationModule']/transportationClassification/regulatedTransportationMode/specialPermitOrExemptionIdentification"},"Local","Verplicht als het veld 'ADR klasse' is gevuld met een waarde uit de reeks 1 t/m 9.","ANL1377","-","-","-","-","-","-","G","-","I","-","-","-","M","N","O","P","Q","R","S","T"]
[{"$f":"VLOOKUP(Tabel3[[#This Row],[GAE ID]],'BES NL'!A:L,12,FALSE)","v":"Code viscositeitsuitzondering – beheersorganisatie "},{"$f":"VLOOKUP(Tabel3[[#This Row],[GAE ID]],'BES EN'!A:L,5,FALSE)","v":"specialPermitOrExemptionIdentification/@identificationSchemeAgencyCode"},"Conditional",0,3856,"an..80",{"$f":"VLOOKUP(Tabel3[[#This Row],[GAE ID]],'BES EN'!A:L,7,FALSE)","v":"/catalogue_item_notification:catalogueItemNotificationMessage/transaction/documentCommand/catalogue_item_notification:catalogueItemNotification/catalogueItem/tradeItem/tradeItemInformation/extension/*[namespace-uri()='urn:gs1:gdsn:transportation_hazardous_classification:xsd:3' and local-name()='transportationHazardousClassificationModule']/transportationClassification/regulatedTransportationMode/specialPermitOrExemptionIdentification/@identificationSchemeAgencyCode"},"Local","Verplicht, als het veld ‘Indicatie viscositeitsuitzondering’ is ingevuld met 'TRUE' bij de consumenteneenheid.","ANL1378","-","-","-","-","-","-","G","-","I","-","-","-","M","N","O","P","Q","R","S","T"]
["Precursoren",null,null,null,null,null,null,null,null,null,"A","B","C","D","E","F","G","H","I","J","K","L","M","N","O","P","Q","R","S","T"]
[{"$f":"VLOOKUP(Tabel3[[#This Row],[GAE ID]],'BES NL'!A:L,12,FALSE)","v":"Is artikel conform regelgeving?"},{"$f":"VLOOKUP(Tabel3[[#This Row],[GAE ID]],'BES EN'!A:L,5,FALSE)","v":"isTradeItemRegulationCompliant"},"Optional",0,3074,"Non-binary logic enumeration ",{"$f":"VLOOKUP(Tabel3[[#This Row],[GAE ID]],'BES EN'!A:L,7,FALSE)","v":"/catalogue_item_notification:catalogueItemNotificationMessage/transaction/documentCommand/catalogue_item_notification:catalogueItemNotification/catalogueItem/tradeItem/tradeItemInformation/extension/*[namespace-uri()='urn:gs1:gdsn:regulated_trade_item:xsd:3' and local-name()='regulatedTradeItemModule']/regulatoryInformation/isTradeItemRegulationCompliant"},"Local"," Verplicht voor producten die precursoren voor explosieven bevatten.","ANL1170","-","-","-","-","-","-","G","H","I","-","K","L","M","N","O","P","Q","R","S","T"]
[{"$f":"VLOOKUP(Tabel3[[#This Row],[GAE ID]],'BES NL'!A:L,12,FALSE)","v":"Code gereguleerde grenswaarde wel/niet overschreden"},{"$f":"VLOOKUP(Tabel3[[#This Row],[GAE ID]],'BES EN'!A:L,5,FALSE)","v":"regulatoryActComplianceLevelCode"},"X",null,3075,"Defined values",{"$f":"VLOOKUP(Tabel3[[#This Row],[GAE ID]],'BES EN'!A:L,7,FALSE)","v":"/catalogue_item_notification:catalogueItemNotificationMessage/transaction/documentCommand/catalogue_item_notification:catalogueItemNotification/catalogueItem/tradeItem/tradeItemInformation/extension/*[namespace-uri()='urn:gs1:gdsn:regulated_trade_item:xsd:3' and local-name()='regulatedTradeItemModule']/regulatoryInformation/regulatoryActComplianceLevelCode"},"Local","Verplicht als bij ‘Type verordening/richtlijn’ de code ‘EXPLOSIVES_PRECURSORS_REGISTRATION’ is gebruikt en het veld ‘Is artikel conform regelgeving?’ gevuld is met ‘TRUE’.","ANL1453","-","-","-","-","-","-","G","H","I","-","-","-","M","N","O","P","Q","R","S","T"]
[{"$f":"VLOOKUP(Tabel3[[#This Row],[GAE ID]],'BES NL'!A:L,12,FALSE)","v":"Waarden gedefinieerd in richtlijn"},{"$f":"VLOOKUP(Tabel3[[#This Row],[GAE ID]],'BES EN'!A:L,5,FALSE)","v":"regulationLevelCodeReference"},"X",null,6211,"Defined values",{"$f":"VLOOKUP(Tabel3[[#This Row],[GAE ID]],'BES EN'!A:L,7,FALSE)","v":"/catalogue_item_notification:catalogueItemNotificationMessage/transaction/documentCommand/catalogue_item_notification:catalogueItemNotification/catalogueItem/tradeItem/tradeItemInformation/extension/*[namespace-uri()='urn:gs1:gdsn:regulated_trade_item:xsd:3' and local-name()='regulatedTradeItemModule']/regulatoryInformation/regulationLevelCodeReference"},"Local","Verplicht voor producten die precursoren voor explosieven bevatten.","ANL1454","-","-","-","-","-","-","G","H","I","-","-","-","M","N","O","P","Q","R","S","T"]
[{"$f":"VLOOKUP(Tabel3[[#This Row],[GAE ID]],'BES NL'!A:L,12,FALSE)","v":"Type beheerde lijst met chemische ingrediënten"},{"$f":"VLOOKUP(Tabel3[[#This Row],[GAE ID]],'BES EN'!A:L,5,FALSE)","v":"chemicalIngredientScheme"},"X",null,3182,"an..200",{"$f":"VLOOKUP(Tabel3[[#This Row],[GAE ID]],'BES EN'!A:L,7,FALSE)","v":"/catalogue_item_notification:catalogueItemNotificationMessage/transaction/documentCommand/catalogue_item_notification:catalogueItemNotification/catalogueItem/tradeItem/tradeItemInformation/extension/*[namespace-uri()='urn:gs1:gdsn:safety_data_sheet:xsd:3' and local-name()='safetyDataSheetModule']/safetyDataSheetInformation/chemicalInformation/chemicalIngredientScheme"},"Local","Verplicht voor producten die precursoren voor explosieven bevatten.","ANL1455","-","-","-","-","-","-","G","H","I","-","-","-","M","N","O","P","Q","R","S","T"]
[{"$f":"VLOOKUP(Tabel3[[#This Row],[GAE ID]],'BES NL'!A:L,12,FALSE)","v":"Identificatie chemisch ingrediënt"},{"$f":"VLOOKUP(Tabel3[[#This Row],[GAE ID]],'BES EN'!A:L,5,FALSE)","v":"chemicalIngredientIdentification"},"Conditional",0,3188,"an..35",{"$f":"VLOOKUP(Tabel3[[#This Row],[GAE ID]],'BES EN'!A:L,7,FALSE)","v":"/catalogue_item_notification:catalogueItemNotificationMessage/transaction/documentCommand/catalogue_item_notification:catalogueItemNotification/catalogueItem/tradeItem/tradeItemInformation/extension/*[namespace-uri()='urn:gs1:gdsn:safety_data_sheet:xsd:3' and local-name()='safetyDataSheetModule']/safetyDataSheetInformation/chemicalInformation/chemicalIngredient/chemicalIngredientIdentification"},"Local","Verplicht voor producten die precursoren voor explosieven bevatten en verfproducten.","ANL1356","-","-","-","-","-","-","G","H","I","-","-","-","M","N","O","P","Q","R","S","T"]
[{"$f":"VLOOKUP(Tabel3[[#This Row],[GAE ID]],'BES NL'!A:L,12,FALSE)","v":"Concentratie chemisch ingrediënt"},{"$f":"VLOOKUP(Tabel3[[#This Row],[GAE ID]],'BES EN'!A:L,5,FALSE)","v":"chemicalIngredientConcentration"},"Conditional",0,3184,"n..15",{"$f":"VLOOKUP(Tabel3[[#This Row],[GAE ID]],'BES EN'!A:L,7,FALSE)","v":"/catalogue_item_notification:catalogueItemNotificationMessage/transaction/documentCommand/catalogue_item_notification:catalogueItemNotification/catalogueItem/tradeItem/tradeItemInformation/extension/*[namespace-uri()='urn:gs1:gdsn:safety_data_sheet:xsd:3' and local-name()='safetyDataSheetModule']/safetyDataSheetInformation/chemicalInformation/chemicalIngredient/chemicalIngredientConcentration"},"Local","Verplicht voor producten die precursoren voor explosieven bevatten en verfproducten.","ANL1358","-","-","-","-","-","-","G","H","I","-","-","-","M","N","O","P","Q","R","S","T"]
[{"$f":"VLOOKUP(Tabel3[[#This Row],[GAE ID]],'BES NL'!A:L,12,FALSE)","v":"Concentratie chemisch ingrediënt  eenheid"},{"$f":"VLOOKUP(Tabel3[[#This Row],[GAE ID]],'BES EN'!A:L,5,FALSE)","v":"chemicalIngredientConcentration/@measurementUnitCode"},"Conditional",0,3185,"Defined values",{"$f":"VLOOKUP(Tabel3[[#This Row],[GAE ID]],'BES EN'!A:L,7,FALSE)","v":"/catalogue_item_notification:catalogueItemNotificationMessage/transaction/documentCommand/catalogue_item_notification:catalogueItemNotification/catalogueItem/tradeItem/tradeItemInformation/extension/*[namespace-uri()='urn:gs1:gdsn:safety_data_sheet:xsd:3' and local-name()='safetyDataSheetModule']/safetyDataSheetInformation/chemicalInformation/chemicalIngredient/chemicalIngredientConcentration/@measurementUnitCode"},"Local","Verplicht als 'Concentratie chemisch ingrediënt' is ingevuld bij de consumenteneenheid.","ANL1359","-","-","-","-","-","-","G","H","I","-","-","-","M","N","O","P","Q","R","S","T"]
["Certificaten",null,null,"",null,"","",null,null,null,"A","B","C","D","E","F","G","H","I","J","K","L","M","N","O","P","Q","R","S","T"]
[{"$f":"VLOOKUP(Tabel3[[#This Row],[GAE ID]],'BES NL'!A:L,12,FALSE)","v":"Naam certificerende instantie"},{"$f":"VLOOKUP(Tabel3[[#This Row],[GAE ID]],'BES EN'!A:L,5,FALSE)","v":"certificationAgency"},"Conditional",0,665,"an..200",{"$f":"VLOOKUP(Tabel3[[#This Row],[GAE ID]],'BES EN'!A:L,7,FALSE)","v":"/catalogue_item_notification:catalogueItemNotificationMessage/transaction/documentCommand/catalogue_item_notification:catalogueItemNotification/catalogueItem/tradeItem/tradeItemInformation/extension/*[namespace-uri()='urn:gs1:gdsn:certification_information:xsd:3' and local-name()='certificationInformationModule']/certificationInformation/certificationAgency"},"Local","Verplicht voor voedingssupplementen, medische hulpmiddelen en gezondheidsproducten, indien een KOAG KAG nummer beschikbaar is.","ANL1180","-","-","-","-","-","-","-","-","-","-","-","-","-","-","O","P","Q","-","-","-"]
[{"$f":"VLOOKUP(Tabel3[[#This Row],[GAE ID]],'BES NL'!A:L,12,FALSE)","v":"Certificeringsstandaard"},{"$f":"VLOOKUP(Tabel3[[#This Row],[GAE ID]],'BES EN'!A:L,5,FALSE)","v":"certificationStandard"},"Conditional",0,667,"an..200",{"$f":"VLOOKUP(Tabel3[[#This Row],[GAE ID]],'BES EN'!A:L,7,FALSE)","v":"/catalogue_item_notification:catalogueItemNotificationMessage/transaction/documentCommand/catalogue_item_notification:catalogueItemNotification/catalogueItem/tradeItem/tradeItemInformation/extension/*[namespace-uri()='urn:gs1:gdsn:certification_information:xsd:3' and local-name()='certificationInformationModule']/certificationInformation/certificationStandard"},"Local","Verplicht voor voedingssupplementen, medische hulpmiddelen en gezondheidsproducten, indien een KOAG KAG nummer beschikbaar is.","ANL1181","-","-","-","-","-","-","-","-","-","-","-","-","-","-","O","P","Q","-","-","-"]
[{"$f":"VLOOKUP(Tabel3[[#This Row],[GAE ID]],'BES NL'!A:L,12,FALSE)","v":"Certificeringsnummer"},{"$f":"VLOOKUP(Tabel3[[#This Row],[GAE ID]],'BES EN'!A:L,5,FALSE)","v":"certificationValue"},"Conditional","X",685,"an..200",{"$f":"VLOOKUP(Tabel3[[#This Row],[GAE ID]],'BES EN'!A:L,7,FALSE)","v":"/catalogue_item_notification:catalogueItemNotificationMessage/transaction/documentCommand/catalogue_item_notification:catalogueItemNotification/catalogueItem/tradeItem/tradeItemInformation/extension/*[namespace-uri()='urn:gs1:gdsn:certification_information:xsd:3' and local-name()='certificationInformationModule']/certificationInformation/certification/certificationValue"},"Local","Verplicht voor voedingssupplementen, medische hulpmiddelen en gezondheidsproducten, indien beschikbaar.","ANL1182","-","-","-","-","-","-","-","-","-","-","-","-","-","-","O","P","Q","-","-","-"]
[{"$f":"VLOOKUP(Tabel3[[#This Row],[GAE ID]],'BES NL'!A:L,12,FALSE)","v":"Einddatum certificaat"},{"$f":"VLOOKUP(Tabel3[[#This Row],[GAE ID]],'BES EN'!A:L,5,FALSE)","v":"certificationEffectiveEndDateTime"},"Conditional",0,682,"DateTime",{"$f":"VLOOKUP(Tabel3[[#This Row],[GAE ID]],'BES EN'!A:L,7,FALSE)","v":"/catalogue_item_notification:catalogueItemNotificationMessage/transaction/documentCommand/catalogue_item_notification:catalogueItemNotification/catalogueItem/tradeItem/tradeItemInformation/extension/*[namespace-uri()='urn:gs1:gdsn:certification_information:xsd:3' and local-name()='certificationInformationModule']/certificationInformation/certification/certificationEffectiveEndDateTime"},"Local"," ","ANL1183","-","-","-","-","-","-","-","-","-","-","-","-","-","-","O","P","Q","-","-","-"]
["Bestanden en afbeeldingen",null,null,null,null,null,null,null,null,null,"A","B","C","D","E","F","G","H","I","J","K","L","M","N","O","P","Q","R","S","T"]
[{"$f":"VLOOKUP(Tabel3[[#This Row],[GAE ID]],'BES NL'!A:L,12,FALSE)","v":"Type extern bestand"},{"$f":"VLOOKUP(Tabel3[[#This Row],[GAE ID]],'BES EN'!A:L,5,FALSE)","v":"referencedFileTypeCode"},"Conditional","X",2999,"Defined values",{"$f":"VLOOKUP(Tabel3[[#This Row],[GAE ID]],'BES EN'!A:L,7,FALSE)","v":"/catalogue_item_notification:catalogueItemNotificationMessage/transaction/documentCommand/catalogue_item_notification:catalogueItemNotification/catalogueItem/tradeItem/tradeItemInformation/extension/*[namespace-uri()='urn:gs1:gdsn:referenced_file_detail_information:xsd:3' and local-name()='referencedFileDetailInformationModule']/referencedFileHeader/referencedFileTypeCode"},"Global","Verplicht voor productafbeeldingen en voor zelfzorggeneesmiddelen. Voor medische hulpmiddelen verplicht indien aanwezig.","ANL1253","A","B","C","D","E","F","G","H","I","J","K","L","M","N","O","P","Q","R","S","T"]
[{"$f":"VLOOKUP(Tabel3[[#This Row],[GAE ID]],'BES NL'!A:L,12,FALSE)","v":"Link naar extern bestand"},{"$f":"VLOOKUP(Tabel3[[#This Row],[GAE ID]],'BES EN'!A:L,5,FALSE)","v":"uniformResourceIdentifier"},"Conditional","X",3000,"an..2500",{"$f":"VLOOKUP(Tabel3[[#This Row],[GAE ID]],'BES EN'!A:L,7,FALSE)","v":"/catalogue_item_notification:catalogueItemNotificationMessage/transaction/documentCommand/catalogue_item_notification:catalogueItemNotification/catalogueItem/tradeItem/tradeItemInformation/extension/*[namespace-uri()='urn:gs1:gdsn:referenced_file_detail_information:xsd:3' and local-name()='referencedFileDetailInformationModule']/referencedFileHeader/uniformResourceIdentifier"},"Global","Verplicht voor productafbeeldingen en voor zelfzorggeneesmiddelen. Voor medische hulpmiddelen verplicht indien aanwezig.","ANL1254","A","B","C","D","E","F","G","H","I","J","K","L","M","N","O","P","Q","R","S","T"]
[{"$f":"VLOOKUP(Tabel3[[#This Row],[GAE ID]],'BES NL'!A:L,12,FALSE)","v":"Naam van extern bestand"},{"$f":"VLOOKUP(Tabel3[[#This Row],[GAE ID]],'BES EN'!A:L,5,FALSE)","v":"fileName"},"Conditional",0,2995,"an..70",{"$f":"VLOOKUP(Tabel3[[#This Row],[GAE ID]],'BES EN'!A:L,7,FALSE)","v":"/catalogue_item_notification:catalogueItemNotificationMessage/transaction/documentCommand/catalogue_item_notification:catalogueItemNotification/catalogueItem/tradeItem/tradeItemInformation/extension/*[namespace-uri()='urn:gs1:gdsn:referenced_file_detail_information:xsd:3' and local-name()='referencedFileDetailInformationModule']/referencedFileHeader/fileName"},"Global","Verplicht voor productafbeeldingen.","ANL1256","A","B","C","D","E","F","G","H","I","J","K","L","M","N","O","P","Q","R","S","T"]
[{"$f":"VLOOKUP(Tabel3[[#This Row],[GAE ID]],'BES NL'!A:L,12,FALSE)","v":"Taalcode van extern bestand"},{"$f":"VLOOKUP(Tabel3[[#This Row],[GAE ID]],'BES EN'!A:L,5,FALSE)","v":"fileLanguageCode"},"Optional",0,2994,"Defined values",{"$f":"VLOOKUP(Tabel3[[#This Row],[GAE ID]],'BES EN'!A:L,7,FALSE)","v":"/catalogue_item_notification:catalogueItemNotificationMessage/transaction/documentCommand/catalogue_item_notification:catalogueItemNotification/catalogueItem/tradeItem/tradeItemInformation/extension/*[namespace-uri()='urn:gs1:gdsn:referenced_file_detail_information:xsd:3' and local-name()='referencedFileDetailInformationModule']/referencedFileHeader/fileLanguageCode"},"Local",0,"ANL1435","A","B","C","D","E","F","G","H","I","J","K","L","M","N","O","P","Q","R","S","T"]
[{"$f":"VLOOKUP(Tabel3[[#This Row],[GAE ID]],'BES NL'!A:L,12,FALSE)","v":"Einddatum digital asset"},{"$f":"VLOOKUP(Tabel3[[#This Row],[GAE ID]],'BES EN'!A:L,5,FALSE)","v":"fileEffectiveEndDateTime"},"Conditional","",2989,"DateTime",{"$f":"VLOOKUP(Tabel3[[#This Row],[GAE ID]],'BES EN'!A:L,7,FALSE)","v":"/catalogue_item_notification:catalogueItemNotificationMessage/transaction/documentCommand/catalogue_item_notification:catalogueItemNotification/catalogueItem/tradeItem/tradeItemInformation/extension/*[namespace-uri()='urn:gs1:gdsn:referenced_file_detail_information:xsd:3' and local-name()='referencedFileDetailInformationModule']/referencedFileHeader/fileEffectiveEndDateTime"},"Regional EU","Verplicht als het digital asset na een bepaalde datum niet meer mag worden gebruikt.","ANL1476","A","B","C","D","E","F","G","H","I","J","K","L","M","N","O","P","Q","R","S","T"]
[{"$f":"VLOOKUP(Tabel3[[#This Row],[GAE ID]],'BES NL'!A:L,12,FALSE)","v":"Ingangsdatum van het bestand"},{"$f":"VLOOKUP(Tabel3[[#This Row],[GAE ID]],'BES EN'!A:L,5,FALSE)","v":"fileEffectiveStartDateTime"},"Conditional",0,2990,"DateTime",{"$f":"VLOOKUP(Tabel3[[#This Row],[GAE ID]],'BES EN'!A:L,7,FALSE)","v":"/catalogue_item_notification:catalogueItemNotificationMessage/transaction/documentCommand/catalogue_item_notification:catalogueItemNotification/catalogueItem/tradeItem/tradeItemInformation/extension/*[namespace-uri()='urn:gs1:gdsn:referenced_file_detail_information:xsd:3' and local-name()='referencedFileDetailInformationModule']/referencedFileHeader/fileEffectiveStartDateTime"},"Global",0,"ANL1257","A","B","C","D","E","F","G","H","I","J","K","L","M","N","O","P","Q","R","S","T"]
["Etiketinformatie",null,null,"",null,"","",null,null,null,"A","B","C","D","E","F","G","H","I","J","K","L","M","N","O","P","Q","R","S","T"]
["Naam- en contactgegevens",null,null,"",null,"","",null,null,null,"A","B","C","D","E","F","G","H","I","J","K","L","M","N","O","P","Q","R","S","T"]
[{"$f":"VLOOKUP(Tabel3[[#This Row],[GAE ID]],'BES NL'!A:L,12,FALSE)","v":"Wettelijke benaming"},{"$f":"VLOOKUP(Tabel3[[#This Row],[GAE ID]],'BES EN'!A:L,5,FALSE)","v":"regulatedProductName"},"Conditional","X",3515,"an..500",{"$f":"VLOOKUP(Tabel3[[#This Row],[GAE ID]],'BES EN'!A:L,7,FALSE)","v":"/catalogue_item_notification:catalogueItemNotificationMessage/transaction/documentCommand/catalogue_item_notification:catalogueItemNotification/catalogueItem/tradeItem/tradeItemInformation/extension/*[namespace-uri()='urn:gs1:gdsn:trade_item_description:xsd:3' and local-name()='tradeItemDescriptionModule']/tradeItemDescriptionInformation/regulatedProductName"},"Regional EU","Verplicht voor voedingsmiddelen, voedingssupplementen, bijzondere voedingsmiddelen en diervoeding indien het op het etiket staat.","ANL1184","A","B","C","D","E","F","-","-","-","J","K","-","-","N","O","-","-","-","-","-"]
[{"$f":"VLOOKUP(Tabel3[[#This Row],[GAE ID]],'BES NL'!A:L,12,FALSE)","v":"Wettelijke benaming taalcode"},{"$f":"VLOOKUP(Tabel3[[#This Row],[GAE ID]],'BES EN'!A:L,5,FALSE)","v":"regulatedProductName/@languageCode"},"Conditional","X",3516,"Defined values",{"$f":"VLOOKUP(Tabel3[[#This Row],[GAE ID]],'BES EN'!A:L,7,FALSE)","v":"/catalogue_item_notification:catalogueItemNotificationMessage/transaction/documentCommand/catalogue_item_notification:catalogueItemNotification/catalogueItem/tradeItem/tradeItemInformation/extension/*[namespace-uri()='urn:gs1:gdsn:trade_item_description:xsd:3' and local-name()='tradeItemDescriptionModule']/tradeItemDescriptionInformation/regulatedProductName/@languageCode"},"Regional EU","Verplicht als het veld ‘Wettelijke benaming’ is ingevuld bij de consumenteneenheid.","ANL1185","A","B","C","D","E","F","-","-","-","J","K","-","-","N","O","-","-","-","-","-"]
[{"$f":"VLOOKUP(Tabel3[[#This Row],[GAE ID]],'BES NL'!A:L,12,FALSE)","v":"Wettelijke benaming volgnummer"},{"$f":"VLOOKUP(Tabel3[[#This Row],[GAE ID]],'BES EN'!A:L,5,FALSE)","v":"regulatedProductName/@sequenceNumber"},"Optional",0,6276,"Non-negative integer",{"$f":"VLOOKUP(Tabel3[[#This Row],[GAE ID]],'BES EN'!A:L,7,FALSE)","v":"/catalogue_item_notification:catalogueItemNotificationMessage/transaction/documentCommand/catalogue_item_notification:catalogueItemNotification/catalogueItem/tradeItem/tradeItemInformation/extension/*[namespace-uri()='urn:gs1:gdsn:trade_item_description:xsd:3' and local-name()='tradeItemDescriptionModule']/tradeItemDescriptionInformation/regulatedProductName/@sequenceNumber"},"Local","Verplicht als het veld 'Wettelijke benaming' meerdere keren is ingevuld voor dezelfde taalcode.","ANL1409","A","B","C","D","E","F","-","-","-","J","K","-","-","N","O","-","-","-","-","-"]
[{"$f":"VLOOKUP(Tabel3[[#This Row],[GAE ID]],'BES NL'!A:L,12,FALSE)","v":"Contactnaam"},{"$f":"VLOOKUP(Tabel3[[#This Row],[GAE ID]],'BES EN'!A:L,5,FALSE)","v":"contactName"},"Conditional","X",126,"an..200",{"$f":"VLOOKUP(Tabel3[[#This Row],[GAE ID]],'BES EN'!A:L,7,FALSE)","v":"/catalogue_item_notification:catalogueItemNotificationMessage/transaction/documentCommand/catalogue_item_notification:catalogueItemNotification/catalogueItem/tradeItem/tradeItemContactInformation/contactName"},"Global","Verplicht als de naam van het contact op het etiket staat en/of om wettelijke redenen vereist is (bijv. EU/1169).","ANL1186","A","B","C","D","E","F","G","H","I","J","K","L","M","N","O","P","Q","R","S","T"]
[{"$f":"VLOOKUP(Tabel3[[#This Row],[GAE ID]],'BES NL'!A:L,12,FALSE)","v":"Communicatieadres"},{"$f":"VLOOKUP(Tabel3[[#This Row],[GAE ID]],'BES EN'!A:L,5,FALSE)","v":"contactAddress"},"Conditional","X",123,"an..500",{"$f":"VLOOKUP(Tabel3[[#This Row],[GAE ID]],'BES EN'!A:L,7,FALSE)","v":"/catalogue_item_notification:catalogueItemNotificationMessage/transaction/documentCommand/catalogue_item_notification:catalogueItemNotification/catalogueItem/tradeItem/tradeItemContactInformation/contactAddress"},"Global","Verplicht als het communicatieadres op het etiket staat en/of om wettelijke redenen vereist is (bijv. EU/1169). ","ANL1187","A","B","C","D","E","F","G","H","I","J","K","L","M","N","O","P","Q","R","S","T"]
[{"$f":"VLOOKUP(Tabel3[[#This Row],[GAE ID]],'BES NL'!A:L,12,FALSE)","v":"Soort lokaal contact"},{"$f":"VLOOKUP(Tabel3[[#This Row],[GAE ID]],'BES EN'!A:L,5,FALSE)","v":"contactTypeCode"},"Conditional","X",127,"Defined values",{"$f":"VLOOKUP(Tabel3[[#This Row],[GAE ID]],'BES EN'!A:L,7,FALSE)","v":"/catalogue_item_notification:catalogueItemNotificationMessage/transaction/documentCommand/catalogue_item_notification:catalogueItemNotification/catalogueItem/tradeItem/tradeItemContactInformation/contactTypeCode"},"Global","Verplicht als de velden ‘Contactnaam’ en/of 'Communicatieadres' zijn ingevuld bij de consumenteneenheid.","ANL1188","A","B","C","D","E","F","G","H","I","J","K","L","M","N","O","P","Q","R","S","T"]
[{"$f":"VLOOKUP(Tabel3[[#This Row],[GAE ID]],'BES NL'!A:L,12,FALSE)","v":"Type communicatiekanaal"},{"$f":"VLOOKUP(Tabel3[[#This Row],[GAE ID]],'BES EN'!A:L,5,FALSE)","v":"communicationChannelCode"},"Conditional","X",134,"Defined values",{"$f":"VLOOKUP(Tabel3[[#This Row],[GAE ID]],'BES EN'!A:L,7,FALSE)","v":"/catalogue_item_notification:catalogueItemNotificationMessage/transaction/documentCommand/catalogue_item_notification:catalogueItemNotification/catalogueItem/tradeItem/tradeItemContactInformation/targetMarketCommunicationChannel/communicationChannel/communicationChannelCode"},"Global","Verplicht als het veld ‘Gegevens communicatiekanaal’ is ingevuld bij de consumenteneenheid.","ANL1189","A","B","C","D","E","F","G","H","I","J","K","L","M","N","O","P","Q","R","S","T"]
[{"$f":"VLOOKUP(Tabel3[[#This Row],[GAE ID]],'BES NL'!A:L,12,FALSE)","v":"Gegevens communicatiekanaal"},{"$f":"VLOOKUP(Tabel3[[#This Row],[GAE ID]],'BES EN'!A:L,5,FALSE)","v":"communicationValue"},"Conditional","X",135,"an..200",{"$f":"VLOOKUP(Tabel3[[#This Row],[GAE ID]],'BES EN'!A:L,7,FALSE)","v":"/catalogue_item_notification:catalogueItemNotificationMessage/transaction/documentCommand/catalogue_item_notification:catalogueItemNotification/catalogueItem/tradeItem/tradeItemContactInformation/targetMarketCommunicationChannel/communicationChannel/communicationValue"},"Global","Verplicht voor diervoeding en detergenten indien op etiket/verpakkking","ANL1190","A","B","C","D","E","F","G","H","I","J","K","L","M","N","O","P","Q","R","S","T"]
["Informatie over de inhoud",null,null,"",null,"","",null,null,null,"A","B","C","D","E","F","G","H","I","J","K","L","M","N","O","P","Q","R","S","T"]
[{"$f":"VLOOKUP(Tabel3[[#This Row],[GAE ID]],'BES NL'!A:L,12,FALSE)","v":"Verplichte vermeldingen"},{"$f":"VLOOKUP(Tabel3[[#This Row],[GAE ID]],'BES EN'!A:L,5,FALSE)","v":"compulsoryAdditiveLabelInformation"},"Conditional","X",1457,"an..5000",{"$f":"VLOOKUP(Tabel3[[#This Row],[GAE ID]],'BES EN'!A:L,7,FALSE)","v":"/catalogue_item_notification:catalogueItemNotificationMessage/transaction/documentCommand/catalogue_item_notification:catalogueItemNotification/catalogueItem/tradeItem/tradeItemInformation/extension/*[namespace-uri()='urn:gs1:gdsn:health_related_information:xsd:3' and local-name()='healthRelatedInformationModule']/healthRelatedInformation/compulsoryAdditiveLabelInformation"},"Regional EU","Verplicht indien het op het etiket staat.","ANL1191","A","B","C","D","E","F","G","H","I","J","K","-","M","N","O","P","Q","R","S","T"]
[{"$f":"VLOOKUP(Tabel3[[#This Row],[GAE ID]],'BES NL'!A:L,12,FALSE)","v":"Verplichte vermeldingen taalcode"},{"$f":"VLOOKUP(Tabel3[[#This Row],[GAE ID]],'BES EN'!A:L,5,FALSE)","v":"compulsoryAdditiveLabelInformation/@languageCode"},"Conditional","X",1458,"Defined values",{"$f":"VLOOKUP(Tabel3[[#This Row],[GAE ID]],'BES EN'!A:L,7,FALSE)","v":"/catalogue_item_notification:catalogueItemNotificationMessage/transaction/documentCommand/catalogue_item_notification:catalogueItemNotification/catalogueItem/tradeItem/tradeItemInformation/extension/*[namespace-uri()='urn:gs1:gdsn:health_related_information:xsd:3' and local-name()='healthRelatedInformationModule']/healthRelatedInformation/compulsoryAdditiveLabelInformation/@languageCode"},"Regional EU","Verplicht als het veld ‘Verplichte vermeldingen’ is ingevuld bij de consumenteneenheid.","ANL1192","A","B","C","D","E","F","G","H","I","J","K","-","M","N","O","P","Q","R","S","T"]
[{"$f":"VLOOKUP(Tabel3[[#This Row],[GAE ID]],'BES NL'!A:L,12,FALSE)","v":"Specificatie van de inhoud"},{"$f":"VLOOKUP(Tabel3[[#This Row],[GAE ID]],'BES EN'!A:L,5,FALSE)","v":"netContentStatement"},"Conditional","X",3741,"an..500",{"$f":"VLOOKUP(Tabel3[[#This Row],[GAE ID]],'BES EN'!A:L,7,FALSE)","v":"/catalogue_item_notification:catalogueItemNotificationMessage/transaction/documentCommand/catalogue_item_notification:catalogueItemNotification/catalogueItem/tradeItem/tradeItemInformation/extension/*[namespace-uri()='urn:gs1:gdsn:trade_item_measurements:xsd:3' and local-name()='tradeItemMeasurementsModule']/tradeItemMeasurements/netContentStatement"},"Regional EU","Verplicht, als het niet mogelijk is om de netto-inhoud van een product in te voeren in het veld netto-inhoud. Moet worden verstrekt voor multipacks.","ANL1193","A","B","C","D","E","F","G","H","I","J","K","L","M","N","O","P","Q","R","S","T"]
[{"$f":"VLOOKUP(Tabel3[[#This Row],[GAE ID]],'BES NL'!A:L,12,FALSE)","v":"Specificatie van de inhoud taalcode"},{"$f":"VLOOKUP(Tabel3[[#This Row],[GAE ID]],'BES EN'!A:L,5,FALSE)","v":"netContentStatement/@languageCode"},"Conditional","X",3742,"Defined values",{"$f":"VLOOKUP(Tabel3[[#This Row],[GAE ID]],'BES EN'!A:L,7,FALSE)","v":"/catalogue_item_notification:catalogueItemNotificationMessage/transaction/documentCommand/catalogue_item_notification:catalogueItemNotification/catalogueItem/tradeItem/tradeItemInformation/extension/*[namespace-uri()='urn:gs1:gdsn:trade_item_measurements:xsd:3' and local-name()='tradeItemMeasurementsModule']/tradeItemMeasurements/netContentStatement/@languageCode"},"Regional EU","Verplicht als het veld ‘Specificatie van de inhoud’ is ingevuld bij de consumenteneenheid.","ANL1194","A","B","C","D","E","F","G","H","I","J","K","L","M","N","O","P","Q","R","S","T"]
[{"$f":"VLOOKUP(Tabel3[[#This Row],[GAE ID]],'BES NL'!A:L,12,FALSE)","v":"Aantal porties per verpakking"},{"$f":"VLOOKUP(Tabel3[[#This Row],[GAE ID]],'BES EN'!A:L,5,FALSE)","v":"numberOfServingsPerPackage"},"Conditional","X",1364,"Decimal",{"$f":"VLOOKUP(Tabel3[[#This Row],[GAE ID]],'BES EN'!A:L,7,FALSE)","v":"/catalogue_item_notification:catalogueItemNotificationMessage/transaction/documentCommand/catalogue_item_notification:catalogueItemNotification/catalogueItem/tradeItem/tradeItemInformation/extension/*[namespace-uri()='urn:gs1:gdsn:food_and_beverage_preparation_serving:xsd:3' and local-name()='foodAndBeveragePreparationServingModule']/servingQuantityInformation/numberOfServingsPerPackage"},"Global","Verplicht voor voedingsmiddelen, voedingssupplementen en bijzondere voedingsmiddelen indien het op het etiket staat.","ANL1199","A","B","C","D","E","F","-","-","-","-","K","-","-","N","O","-","-","-","-","T"]
[{"$f":"VLOOKUP(Tabel3[[#This Row],[GAE ID]],'BES NL'!A:L,12,FALSE)","v":"Aantal porties per verpakking meetnauwkeurigheid"},{"$f":"VLOOKUP(Tabel3[[#This Row],[GAE ID]],'BES EN'!A:L,5,FALSE)","v":"numberOfServingsPerPackageMeasurementPrecisionCode"},"Conditional","X",1365,"n..10",{"$f":"VLOOKUP(Tabel3[[#This Row],[GAE ID]],'BES EN'!A:L,7,FALSE)","v":"/catalogue_item_notification:catalogueItemNotificationMessage/transaction/documentCommand/catalogue_item_notification:catalogueItemNotification/catalogueItem/tradeItem/tradeItemInformation/extension/*[namespace-uri()='urn:gs1:gdsn:food_and_beverage_preparation_serving:xsd:3' and local-name()='foodAndBeveragePreparationServingModule']/servingQuantityInformation/numberOfServingsPerPackageMeasurementPrecisionCode"},"Regional EU","Verplicht als er op het etiket de meetnauwkeurigheid wordt aangegeven van het aantal porties per verpakking.","ANL1484","A","B","C","D","E","F","-","-","-","-","K","-","-","N","O","-","-","-","-","T"]
[{"$f":"VLOOKUP(Tabel3[[#This Row],[GAE ID]],'BES NL'!A:L,12,FALSE)","v":"Minimum aantal porties per verpakking"},{"$f":"VLOOKUP(Tabel3[[#This Row],[GAE ID]],'BES EN'!A:L,5,FALSE)","v":"numberOfSmallestUnitsPerPackage"},"Conditional","X",1366,"Non-negative Integer",{"$f":"VLOOKUP(Tabel3[[#This Row],[GAE ID]],'BES EN'!A:L,7,FALSE)","v":"/catalogue_item_notification:catalogueItemNotificationMessage/transaction/documentCommand/catalogue_item_notification:catalogueItemNotification/catalogueItem/tradeItem/tradeItemInformation/extension/*[namespace-uri()='urn:gs1:gdsn:food_and_beverage_preparation_serving:xsd:3' and local-name()='foodAndBeveragePreparationServingModule']/servingQuantityInformation/numberOfSmallestUnitsPerPackage"},"Local","Verplicht voor voedingsmiddelen, voedingssupplementen en bijzondere voedingsmiddelen indien het op het etiket staat.","ANL1200","A","B","C","D","E","F","-","-","-","-","K","-","-","N","O","-","-","-","-","T"]
[{"$f":"VLOOKUP(Tabel3[[#This Row],[GAE ID]],'BES NL'!A:L,12,FALSE)","v":"Maximum aantal porties per verpakking"},{"$f":"VLOOKUP(Tabel3[[#This Row],[GAE ID]],'BES EN'!A:L,5,FALSE)","v":"maximumNumberOfSmallestUnitsPerPackage"},"Conditional","X",1363,"Non-negative Integer",{"$f":"VLOOKUP(Tabel3[[#This Row],[GAE ID]],'BES EN'!A:L,7,FALSE)","v":"/catalogue_item_notification:catalogueItemNotificationMessage/transaction/documentCommand/catalogue_item_notification:catalogueItemNotification/catalogueItem/tradeItem/tradeItemInformation/extension/*[namespace-uri()='urn:gs1:gdsn:food_and_beverage_preparation_serving:xsd:3' and local-name()='foodAndBeveragePreparationServingModule']/servingQuantityInformation/maximumNumberOfSmallestUnitsPerPackage"},"Local","Verplicht voor voedingsmiddelen, voedingssupplementen en bijzondere voedingsmiddelen indien het op het etiket staat.","ANL1201","A","B","C","D","E","F","-","-","-","-","K","-","-","N","O","-","-","-","-","T"]
["Lijst met ingrediënten",null,null,"",null,"","",null,null,null,"A","B","C","D","E","F","G","H","I","J","K","L","M","N","O","P","Q","R","S","T"]
[{"$f":"VLOOKUP(Tabel3[[#This Row],[GAE ID]],'BES NL'!A:L,12,FALSE)","v":"Ingrediëntendeclaratie"},{"$f":"VLOOKUP(Tabel3[[#This Row],[GAE ID]],'BES EN'!A:L,5,FALSE)","v":"ingredientStatement"},"Conditional","X",1268,"an..5000",{"$f":"VLOOKUP(Tabel3[[#This Row],[GAE ID]],'BES EN'!A:L,7,FALSE)","v":"/catalogue_item_notification:catalogueItemNotificationMessage/transaction/documentCommand/catalogue_item_notification:catalogueItemNotification/catalogueItem/tradeItem/tradeItemInformation/extension/*[namespace-uri()='urn:gs1:gdsn:food_and_beverage_ingredient:xsd:3' and local-name()='foodAndBeverageIngredientModule']/ingredientStatement"},"Global","Verplicht voor voedingsmiddelen, voedingssupplementen en bijzondere voedingsmiddelen als het op het etiket/de verpakking staat.","ANL1202","A","B","C","D","E","F","-","-","-","-","K","-","-","N","O","-","-","-","-","-"]
[{"$f":"VLOOKUP(Tabel3[[#This Row],[GAE ID]],'BES NL'!A:L,12,FALSE)","v":"Ingrediëntendeclaratie taalcode"},{"$f":"VLOOKUP(Tabel3[[#This Row],[GAE ID]],'BES EN'!A:L,5,FALSE)","v":"ingredientStatement/@languageCode"},"Conditional","X",1269,"Defined values",{"$f":"VLOOKUP(Tabel3[[#This Row],[GAE ID]],'BES EN'!A:L,7,FALSE)","v":"/catalogue_item_notification:catalogueItemNotificationMessage/transaction/documentCommand/catalogue_item_notification:catalogueItemNotification/catalogueItem/tradeItem/tradeItemInformation/extension/*[namespace-uri()='urn:gs1:gdsn:food_and_beverage_ingredient:xsd:3' and local-name()='foodAndBeverageIngredientModule']/ingredientStatement/@languageCode"},"Global","Verplicht als het veld ‘Ingrediëntendeclaratie’ is ingevuld bij de consumenteneenheid.","ANL1203","A","B","C","D","E","F","-","-","-","-","K","-","-","N","O","-","-","-","-","-"]
["Informatie over allergenen",null,null,"",null,"","",null,null,null,"A","B","C","D","E","F","G","H","I","J","K","L","M","N","O","P","Q","R","S","T"]
[{"$f":"VLOOKUP(Tabel3[[#This Row],[GAE ID]],'BES NL'!A:L,12,FALSE)","v":"Type allergeen"},{"$f":"VLOOKUP(Tabel3[[#This Row],[GAE ID]],'BES EN'!A:L,5,FALSE)","v":"allergenTypeCode"},"Conditional","X",375,"Defined values",{"$f":"VLOOKUP(Tabel3[[#This Row],[GAE ID]],'BES EN'!A:L,7,FALSE)","v":"/catalogue_item_notification:catalogueItemNotificationMessage/transaction/documentCommand/catalogue_item_notification:catalogueItemNotification/catalogueItem/tradeItem/tradeItemInformation/extension/*[namespace-uri()='urn:gs1:gdsn:allergen_information:xsd:3' and local-name()='allergenInformationModule']/allergenRelatedInformation/allergen/allergenTypeCode"},"Global","Verplicht als er allergenen op de verpakking staan vermeld bij de consumenteneenheid, optioneel voor detergenten en biociden.","ANL1204","A","B","C","D","E","F","G","-","I","-","K","-","M","N","O","P","Q","-","-","T"]
[{"$f":"VLOOKUP(Tabel3[[#This Row],[GAE ID]],'BES NL'!A:L,12,FALSE)","v":"Bevat "},{"$f":"VLOOKUP(Tabel3[[#This Row],[GAE ID]],'BES EN'!A:L,5,FALSE)","v":"levelOfContainmentCode"},"Conditional","X",376,"Defined values",{"$f":"VLOOKUP(Tabel3[[#This Row],[GAE ID]],'BES EN'!A:L,7,FALSE)","v":"/catalogue_item_notification:catalogueItemNotificationMessage/transaction/documentCommand/catalogue_item_notification:catalogueItemNotification/catalogueItem/tradeItem/tradeItemInformation/extension/*[namespace-uri()='urn:gs1:gdsn:allergen_information:xsd:3' and local-name()='allergenInformationModule']/allergenRelatedInformation/allergen/levelOfContainmentCode"},"Global","Verplicht als het veld 'Type allergeen' is ingevuld bij de consumenteneenheid.","ANL1205","A","B","C","D","E","F","G","-","I","-","K","-","M","N","O","P","Q","-","-","T"]
[{"$f":"VLOOKUP(Tabel3[[#This Row],[GAE ID]],'BES NL'!A:L,12,FALSE)","v":"Allergeen informatie verstrekt"},{"$f":"VLOOKUP(Tabel3[[#This Row],[GAE ID]],'BES EN'!A:L,5,FALSE)","v":"isAllergenRelevantDataProvided"},"Conditional",0,373,"Boolean",{"$f":"VLOOKUP(Tabel3[[#This Row],[GAE ID]],'BES EN'!A:L,7,FALSE)","v":"/catalogue_item_notification:catalogueItemNotificationMessage/transaction/documentCommand/catalogue_item_notification:catalogueItemNotification/catalogueItem/tradeItem/tradeItemInformation/extension/*[namespace-uri()='urn:gs1:gdsn:allergen_information:xsd:3' and local-name()='allergenInformationModule']/allergenRelatedInformation/isAllergenRelevantDataProvided"},"Local","Verplicht voor artikelen waarvoor etiketinformatie is ingevuld bij de consumenteneenheid, optioneel voor detergenten en biociden.","ANL1206","A","B","C","D","E","F","-","-","-","-","K","-","M","N","O","P","Q","-","-","T"]
["Informatie over nutriënten",null,null,"",null,"","",null,null,null,"A","B","C","D","E","F","G","H","I","J","K","L","M","N","O","P","Q","R","S","T"]
[{"$f":"VLOOKUP(Tabel3[[#This Row],[GAE ID]],'BES NL'!A:L,12,FALSE)","v":"Status van de bereiding"},{"$f":"VLOOKUP(Tabel3[[#This Row],[GAE ID]],'BES EN'!A:L,5,FALSE)","v":"preparationStateCode"},"Conditional","X",1717,"Defined values",{"$f":"VLOOKUP(Tabel3[[#This Row],[GAE ID]],'BES EN'!A:L,7,FALSE)","v":"/catalogue_item_notification:catalogueItemNotificationMessage/transaction/documentCommand/catalogue_item_notification:catalogueItemNotification/catalogueItem/tradeItem/tradeItemInformation/extension/*[namespace-uri()='urn:gs1:gdsn:nutritional_information:xsd:3' and local-name()='nutritionalInformationModule']/nutrientHeader/preparationStateCode"},"Global","Verplicht voor voedingsmiddelen, voedingssupplementen en bijzondere voedingsmiddelen als het op het etiket staat.","ANL1207","A","B","C","D","E","F","-","-","-","-","K","-","-","N","O","-","-","-","-","T"]
[{"$f":"VLOOKUP(Tabel3[[#This Row],[GAE ID]],'BES NL'!A:L,12,FALSE)","v":"Code nutriënttype"},{"$f":"VLOOKUP(Tabel3[[#This Row],[GAE ID]],'BES EN'!A:L,5,FALSE)","v":"nutrientTypeCode"},"Conditional","X",1733,"Defined values",{"$f":"VLOOKUP(Tabel3[[#This Row],[GAE ID]],'BES EN'!A:L,7,FALSE)","v":"/catalogue_item_notification:catalogueItemNotificationMessage/transaction/documentCommand/catalogue_item_notification:catalogueItemNotification/catalogueItem/tradeItem/tradeItemInformation/extension/*[namespace-uri()='urn:gs1:gdsn:nutritional_information:xsd:3' and local-name()='nutritionalInformationModule']/nutrientHeader/nutrientDetail/nutrientTypeCode"},"Global","Verplicht voor voedingsmiddelen, voedingssupplementen en bijzondere voedingsmiddelen als het op het etiket staat.","ANL1208","A","B","C","D","E","F","-","-","-","-","K","-","-","N","O","-","-","-","-","T"]
[{"$f":"VLOOKUP(Tabel3[[#This Row],[GAE ID]],'BES NL'!A:L,12,FALSE)","v":"Meetnauwkeurigheid"},{"$f":"VLOOKUP(Tabel3[[#This Row],[GAE ID]],'BES EN'!A:L,5,FALSE)","v":"measurementPrecisionCode"},"Conditional","X",1732,"Defined values",{"$f":"VLOOKUP(Tabel3[[#This Row],[GAE ID]],'BES EN'!A:L,7,FALSE)","v":"/catalogue_item_notification:catalogueItemNotificationMessage/transaction/documentCommand/catalogue_item_notification:catalogueItemNotification/catalogueItem/tradeItem/tradeItemInformation/extension/*[namespace-uri()='urn:gs1:gdsn:nutritional_information:xsd:3' and local-name()='nutritionalInformationModule']/nutrientHeader/nutrientDetail/measurementPrecisionCode"},"Global","Verplicht voor voedingsmiddelen, voedingssupplementen en bijzondere voedingsmiddelen als het op het etiket staat.","ANL1209","A","B","C","D","E","F","-","-","-","-","K","-","-","N","O","-","-","-","-","T"]
[{"$f":"VLOOKUP(Tabel3[[#This Row],[GAE ID]],'BES NL'!A:L,12,FALSE)","v":"Hoeveelheid nutriënt"},{"$f":"VLOOKUP(Tabel3[[#This Row],[GAE ID]],'BES EN'!A:L,5,FALSE)","v":"quantityContained"},"Conditional","X",1734,"n..15",{"$f":"VLOOKUP(Tabel3[[#This Row],[GAE ID]],'BES EN'!A:L,7,FALSE)","v":"/catalogue_item_notification:catalogueItemNotificationMessage/transaction/documentCommand/catalogue_item_notification:catalogueItemNotification/catalogueItem/tradeItem/tradeItemInformation/extension/*[namespace-uri()='urn:gs1:gdsn:nutritional_information:xsd:3' and local-name()='nutritionalInformationModule']/nutrientHeader/nutrientDetail/quantityContained"},"Global","Verplicht voor voedingsmiddelen, voedingssupplementen en bijzondere voedingsmiddelen als het op het etiket staat.","ANL1210","A","B","C","D","E","F","-","-","-","-","K","-","-","N","O","-","-","-","-","T"]
[{"$f":"VLOOKUP(Tabel3[[#This Row],[GAE ID]],'BES NL'!A:L,12,FALSE)","v":"Hoeveelheid nutriënt eenheid"},{"$f":"VLOOKUP(Tabel3[[#This Row],[GAE ID]],'BES EN'!A:L,5,FALSE)","v":"quantityContained/@measurementUnitCode"},"Conditional","X",1735,"Defined values",{"$f":"VLOOKUP(Tabel3[[#This Row],[GAE ID]],'BES EN'!A:L,7,FALSE)","v":"/catalogue_item_notification:catalogueItemNotificationMessage/transaction/documentCommand/catalogue_item_notification:catalogueItemNotification/catalogueItem/tradeItem/tradeItemInformation/extension/*[namespace-uri()='urn:gs1:gdsn:nutritional_information:xsd:3' and local-name()='nutritionalInformationModule']/nutrientHeader/nutrientDetail/quantityContained/@measurementUnitCode"},"Global","Verplicht als het veld ‘Hoeveelheid nutriënt’ is ingevuld bij de consumenteneenheid.","ANL1211","A","B","C","D","E","F","-","-","-","-","K","-","-","N","O","-","-","-","-","T"]
[{"$f":"VLOOKUP(Tabel3[[#This Row],[GAE ID]],'BES NL'!A:L,12,FALSE)","v":"% Referentie-inname"},{"$f":"VLOOKUP(Tabel3[[#This Row],[GAE ID]],'BES EN'!A:L,5,FALSE)","v":"dailyValueIntakePercent"},"Conditional","X",1731,"Decimal",{"$f":"VLOOKUP(Tabel3[[#This Row],[GAE ID]],'BES EN'!A:L,7,FALSE)","v":"/catalogue_item_notification:catalogueItemNotificationMessage/transaction/documentCommand/catalogue_item_notification:catalogueItemNotification/catalogueItem/tradeItem/tradeItemInformation/extension/*[namespace-uri()='urn:gs1:gdsn:nutritional_information:xsd:3' and local-name()='nutritionalInformationModule']/nutrientHeader/nutrientDetail/dailyValueIntakePercent"},"Global","Verplicht voor voedingsmiddelen, voedingssupplementen en bijzondere voedingsmiddelen als het op het etiket staat.","ANL1217","A","B","C","D","E","F","-","-","-","-","K","-","-","N","O","-","-","-","-","T"]
[{"$f":"VLOOKUP(Tabel3[[#This Row],[GAE ID]],'BES NL'!A:L,12,FALSE)","v":"% Referentie-inname meetnauwkeurigheid"},{"$f":"VLOOKUP(Tabel3[[#This Row],[GAE ID]],'BES EN'!A:L,5,FALSE)","v":"dailyValueIntakePercentMeasurementPrecisionCode"},"Conditional","X",1736,"Defined values",{"$f":"VLOOKUP(Tabel3[[#This Row],[GAE ID]],'BES EN'!A:L,7,FALSE)","v":"/catalogue_item_notification:catalogueItemNotificationMessage/transaction/documentCommand/catalogue_item_notification:catalogueItemNotification/catalogueItem/tradeItem/tradeItemInformation/extension/*[namespace-uri()='urn:gs1:gdsn:nutritional_information:xsd:3' and local-name()='nutritionalInformationModule']/nutrientHeader/nutrientDetail/dailyValueIntakePercentMeasurementPrecisionCode"},"Global"," ","ANL1218","A","B","C","D","E","F","-","-","-","-","K","-","-","N","O","-","-","-","-","T"]
[{"$f":"VLOOKUP(Tabel3[[#This Row],[GAE ID]],'BES NL'!A:L,12,FALSE)","v":"Referentie-inname"},{"$f":"VLOOKUP(Tabel3[[#This Row],[GAE ID]],'BES EN'!A:L,5,FALSE)","v":"dailyValueIntakeReference"},"Conditional","X",1712,"an..500",{"$f":"VLOOKUP(Tabel3[[#This Row],[GAE ID]],'BES EN'!A:L,7,FALSE)","v":"/catalogue_item_notification:catalogueItemNotificationMessage/transaction/documentCommand/catalogue_item_notification:catalogueItemNotification/catalogueItem/tradeItem/tradeItemInformation/extension/*[namespace-uri()='urn:gs1:gdsn:nutritional_information:xsd:3' and local-name()='nutritionalInformationModule']/nutrientHeader/dailyValueIntakeReference"},"Regional EU","Verplicht voor voedingsmiddelen, voedingssupplementen en bijzondere voedingsmiddelen als het op het etiket staat.","ANL1219","A","B","C","D","E","F","-","-","-","-","K","-","-","N","O","-","-","-","-","T"]
[{"$f":"VLOOKUP(Tabel3[[#This Row],[GAE ID]],'BES NL'!A:L,12,FALSE)","v":"Referentie-inname taalcode"},{"$f":"VLOOKUP(Tabel3[[#This Row],[GAE ID]],'BES EN'!A:L,5,FALSE)","v":"dailyValueIntakeReference/@languageCode"},"Conditional","X",1713,"Defined values",{"$f":"VLOOKUP(Tabel3[[#This Row],[GAE ID]],'BES EN'!A:L,7,FALSE)","v":"/catalogue_item_notification:catalogueItemNotificationMessage/transaction/documentCommand/catalogue_item_notification:catalogueItemNotification/catalogueItem/tradeItem/tradeItemInformation/extension/*[namespace-uri()='urn:gs1:gdsn:nutritional_information:xsd:3' and local-name()='nutritionalInformationModule']/nutrientHeader/dailyValueIntakeReference/@languageCode"},"Regional EU","Verplicht als het veld ‘Referentie-inname’ is ingevuld bij de consumenteneenheid.","ANL1220","A","B","C","D","E","F","-","-","-","-","K","-","-","N","O","-","-","-","-","T"]
[{"$f":"VLOOKUP(Tabel3[[#This Row],[GAE ID]],'BES NL'!A:L,12,FALSE)","v":"Aanvullende nutriëntinformatie "},{"$f":"VLOOKUP(Tabel3[[#This Row],[GAE ID]],'BES EN'!A:L,5,FALSE)","v":"nutrientSource"},"Optional","X",5938,"an..500",{"$f":"VLOOKUP(Tabel3[[#This Row],[GAE ID]],'BES EN'!A:L,7,FALSE)","v":"/catalogue_item_notification:catalogueItemNotificationMessage/transaction/documentCommand/catalogue_item_notification:catalogueItemNotification/catalogueItem/tradeItem/tradeItemInformation/extension/*[namespace-uri()='urn:gs1:gdsn:nutritional_information:xsd:3' and local-name()='nutritionalInformationModule']/nutrientHeader/nutrientDetail/nutrientSource"},"Local",0,"ANL1367","A","B","C","D","E","F","-","-","-","-","K","-","-","N","O","-","-","-","-","T"]
[{"$f":"VLOOKUP(Tabel3[[#This Row],[GAE ID]],'BES NL'!A:L,12,FALSE)","v":"Aanvullende nutriëntinformatie taalcode"},{"$f":"VLOOKUP(Tabel3[[#This Row],[GAE ID]],'BES EN'!A:L,5,FALSE)","v":"nutrientSource/@languageCode"},"Optional",0,5939,"Defined values",{"$f":"VLOOKUP(Tabel3[[#This Row],[GAE ID]],'BES EN'!A:L,7,FALSE)","v":"/catalogue_item_notification:catalogueItemNotificationMessage/transaction/documentCommand/catalogue_item_notification:catalogueItemNotification/catalogueItem/tradeItem/tradeItemInformation/extension/*[namespace-uri()='urn:gs1:gdsn:nutritional_information:xsd:3' and local-name()='nutritionalInformationModule']/nutrientHeader/nutrientDetail/nutrientSource/@languageCode"},"Local","Verplicht als het veld ‘Aanvullende nutriëntinformatie ’ is ingevuld bij de consumenteneenheid.","ANL1368","A","B","C","D","E","F","-","-","-","-","K","-","-","N","O","-","-","-","-","T"]
[{"$f":"VLOOKUP(Tabel3[[#This Row],[GAE ID]],'BES NL'!A:L,12,FALSE)","v":"Referentie portiegrootte"},{"$f":"VLOOKUP(Tabel3[[#This Row],[GAE ID]],'BES EN'!A:L,5,FALSE)","v":"nutrientBasisQuantity"},"Conditional","X",1714,"n..15",{"$f":"VLOOKUP(Tabel3[[#This Row],[GAE ID]],'BES EN'!A:L,7,FALSE)","v":"/catalogue_item_notification:catalogueItemNotificationMessage/transaction/documentCommand/catalogue_item_notification:catalogueItemNotification/catalogueItem/tradeItem/tradeItemInformation/extension/*[namespace-uri()='urn:gs1:gdsn:nutritional_information:xsd:3' and local-name()='nutritionalInformationModule']/nutrientHeader/nutrientBasisQuantity"},"Regional EU","Verplicht voor voedingsmiddelen, voedingssupplementen en bijzondere voedingsmiddelen als het op het etiket/de verpakking staat.","ANL1374","A","B","C","D","E","F","-","-","-","-","K","-","-","N","O","-","-","-","-","T"]
[{"$f":"VLOOKUP(Tabel3[[#This Row],[GAE ID]],'BES NL'!A:L,12,FALSE)","v":"Referentie portiegrootte eenheid"},{"$f":"VLOOKUP(Tabel3[[#This Row],[GAE ID]],'BES EN'!A:L,5,FALSE)","v":"nutrientBasisQuantity/@measurementUnitCode"},"Conditional","X",1715,"Defined values",{"$f":"VLOOKUP(Tabel3[[#This Row],[GAE ID]],'BES EN'!A:L,7,FALSE)","v":"/catalogue_item_notification:catalogueItemNotificationMessage/transaction/documentCommand/catalogue_item_notification:catalogueItemNotification/catalogueItem/tradeItem/tradeItemInformation/extension/*[namespace-uri()='urn:gs1:gdsn:nutritional_information:xsd:3' and local-name()='nutritionalInformationModule']/nutrientHeader/nutrientBasisQuantity/@measurementUnitCode"},"Regional EU","Verplicht als het veld ‘Referentie portiegrootte’ is ingevuld bij de consumenteneenheid.","ANL1375","A","B","C","D","E","F","-","-","-","-","K","-","-","N","O","-","-","-","-","T"]
[{"$f":"VLOOKUP(Tabel3[[#This Row],[GAE ID]],'BES NL'!A:L,12,FALSE)","v":"Standaard portiegrootte"},{"$f":"VLOOKUP(Tabel3[[#This Row],[GAE ID]],'BES EN'!A:L,5,FALSE)","v":"nutrientBasisQuantityDescription"},"Conditional","X",5872,"an..500",{"$f":"VLOOKUP(Tabel3[[#This Row],[GAE ID]],'BES EN'!A:L,7,FALSE)","v":"/catalogue_item_notification:catalogueItemNotificationMessage/transaction/documentCommand/catalogue_item_notification:catalogueItemNotification/catalogueItem/tradeItem/tradeItemInformation/extension/*[namespace-uri()='urn:gs1:gdsn:nutritional_information:xsd:3' and local-name()='nutritionalInformationModule']/nutrientHeader/nutrientBasisQuantityDescription"},"Regional EU","Verplicht voor voedingsmiddelen, voedingssupplementen en bijzondere voedingsmiddelen als het op het etiket/de verpakking staat.","ANL1372","A","B","C","D","E","F","-","-","-","-","K","-","-","N","O","-","-","-","-","T"]
[{"$f":"VLOOKUP(Tabel3[[#This Row],[GAE ID]],'BES NL'!A:L,12,FALSE)","v":"Standaard portiegrootte taalcode"},{"$f":"VLOOKUP(Tabel3[[#This Row],[GAE ID]],'BES EN'!A:L,5,FALSE)","v":"nutrientBasisQuantityDescription/@languageCode"},"Conditional","X",5873,"Defined values",{"$f":"VLOOKUP(Tabel3[[#This Row],[GAE ID]],'BES EN'!A:L,7,FALSE)","v":"/catalogue_item_notification:catalogueItemNotificationMessage/transaction/documentCommand/catalogue_item_notification:catalogueItemNotification/catalogueItem/tradeItem/tradeItemInformation/extension/*[namespace-uri()='urn:gs1:gdsn:nutritional_information:xsd:3' and local-name()='nutritionalInformationModule']/nutrientHeader/nutrientBasisQuantityDescription/@languageCode"},"Regional EU","Verplicht als het veld ‘Standaard portiegrootte’ is ingevuld bij de consumenteneenheid.","ANL1373","A","B","C","D","E","F","-","-","-","-","K","-","-","N","O","-","-","-","-","T"]
["Alcoholische productinformatie",null,null,null,null,null,null,null,null,null,"A","B","C","D","E","F","G","H","I","J","K","L","M","N","O","P","Q","R","S","T"]
[{"$f":"VLOOKUP(Tabel3[[#This Row],[GAE ID]],'BES NL'!A:L,12,FALSE)","v":"Alcoholpercentage"},{"$f":"VLOOKUP(Tabel3[[#This Row],[GAE ID]],'BES EN'!A:L,5,FALSE)","v":"percentageOfAlcoholByVolume"},"Conditional","X",352,"Decimal",{"$f":"VLOOKUP(Tabel3[[#This Row],[GAE ID]],'BES EN'!A:L,7,FALSE)","v":"/catalogue_item_notification:catalogueItemNotificationMessage/transaction/documentCommand/catalogue_item_notification:catalogueItemNotification/catalogueItem/tradeItem/tradeItemInformation/extension/*[namespace-uri()='urn:gs1:gdsn:alcohol_information:xsd:3' and local-name()='alcoholInformationModule']/alcoholInformation/percentageOfAlcoholByVolume"},"Global","Verplicht als een alcoholpercentage op de verpakking staat vermeld van de consumenteneenheid.","ANL1104","A","B","-","-","-","F","G","-","I","-","K","-","M","N","O","P","Q","-","-","T"]
[{"$f":"VLOOKUP(Tabel3[[#This Row],[GAE ID]],'BES NL'!A:L,12,FALSE)","v":"Stamwortgehalte"},{"$f":"VLOOKUP(Tabel3[[#This Row],[GAE ID]],'BES EN'!A:L,5,FALSE)","v":"degreeOfOriginalWort"},"Conditional",0,351,"Decimal",{"$f":"VLOOKUP(Tabel3[[#This Row],[GAE ID]],'BES EN'!A:L,7,FALSE)","v":"/catalogue_item_notification:catalogueItemNotificationMessage/transaction/documentCommand/catalogue_item_notification:catalogueItemNotification/catalogueItem/tradeItem/tradeItemInformation/extension/*[namespace-uri()='urn:gs1:gdsn:alcohol_information:xsd:3' and local-name()='alcoholInformationModule']/alcoholInformation/degreeOfOriginalWort"},"Local","Verplicht voor alcoholbevattende bieren.","ANL1105","A","B","-","-","-","-","-","-","-","-","K","-","-","-","-","-","-","-","-","-"]
[{"$f":"VLOOKUP(Tabel3[[#This Row],[GAE ID]],'BES NL'!A:L,12,FALSE)","v":"Wijnjaar"},{"$f":"VLOOKUP(Tabel3[[#This Row],[GAE ID]],'BES EN'!A:L,5,FALSE)","v":"vintage"},"Conditional","X",357,"n4",{"$f":"VLOOKUP(Tabel3[[#This Row],[GAE ID]],'BES EN'!A:L,7,FALSE)","v":"/catalogue_item_notification:catalogueItemNotificationMessage/transaction/documentCommand/catalogue_item_notification:catalogueItemNotification/catalogueItem/tradeItem/tradeItemInformation/extension/*[namespace-uri()='urn:gs1:gdsn:alcohol_information:xsd:3' and local-name()='alcoholInformationModule']/alcoholInformation/vintage"},"Regional EU","Verplicht voor wijn als het wijnjaar op het etiket/de verpakking staat.","ANL1106","A","B","-","-","-","-","-","-","-","-","K","-","-","-","-","-","-","-","-","-"]
["Informatie over oorsprong",null,null,"",null,"","",null,null,null,"A","B","C","D","E","F","G","H","I","J","K","L","M","N","O","P","Q","R","S","T"]
[{"$f":"VLOOKUP(Tabel3[[#This Row],[GAE ID]],'BES NL'!A:L,12,FALSE)","v":"Informatie over herkomst"},{"$f":"VLOOKUP(Tabel3[[#This Row],[GAE ID]],'BES EN'!A:L,5,FALSE)","v":"provenanceStatement"},"Conditional","X",2783,"an..500",{"$f":"VLOOKUP(Tabel3[[#This Row],[GAE ID]],'BES EN'!A:L,7,FALSE)","v":"/catalogue_item_notification:catalogueItemNotificationMessage/transaction/documentCommand/catalogue_item_notification:catalogueItemNotification/catalogueItem/tradeItem/tradeItemInformation/extension/*[namespace-uri()='urn:gs1:gdsn:place_of_item_activity:xsd:3' and local-name()='placeOfItemActivityModule']/placeOfProductActivity/provenanceStatement"},"Regional EU","Verplicht als het op het etiket/de verpakking staat.","ANL1221","A","B","C","D","E","F","-","-","-","-","K","-","-","N","O","-","-","-","-","T"]
[{"$f":"VLOOKUP(Tabel3[[#This Row],[GAE ID]],'BES NL'!A:L,12,FALSE)","v":"Informatie over herkomst taalcode"},{"$f":"VLOOKUP(Tabel3[[#This Row],[GAE ID]],'BES EN'!A:L,5,FALSE)","v":"provenanceStatement/@languageCode"},"Conditional","X",2784,"Defined values",{"$f":"VLOOKUP(Tabel3[[#This Row],[GAE ID]],'BES EN'!A:L,7,FALSE)","v":"/catalogue_item_notification:catalogueItemNotificationMessage/transaction/documentCommand/catalogue_item_notification:catalogueItemNotification/catalogueItem/tradeItem/tradeItemInformation/extension/*[namespace-uri()='urn:gs1:gdsn:place_of_item_activity:xsd:3' and local-name()='placeOfItemActivityModule']/placeOfProductActivity/provenanceStatement/@languageCode"},"Regional EU","Verplicht als het veld ‘Informatie over herkomst’ is ingevuld bij de consumenteneenheid.","ANL1222","A","B","C","D","E","F","G","H","I","-","K","-","-","N","O","-","-","-","-","T"]
[{"$f":"VLOOKUP(Tabel3[[#This Row],[GAE ID]],'BES NL'!A:L,12,FALSE)","v":"Code vangstgebied"},{"$f":"VLOOKUP(Tabel3[[#This Row],[GAE ID]],'BES EN'!A:L,5,FALSE)","v":"catchAreaCode"},"Conditional","X",6147,"Defined values",{"$f":"VLOOKUP(Tabel3[[#This Row],[GAE ID]],'BES EN'!A:L,7,FALSE)","v":"/catalogue_item_notification:catalogueItemNotificationMessage/transaction/documentCommand/catalogue_item_notification:catalogueItemNotification/catalogueItem/tradeItem/tradeItemInformation/extension/*[namespace-uri()='urn:gs1:gdsn:dairy_fish_meat_poultry:xsd:3' and local-name()='dairyFishMeatPoultryItemModule']/dairyFishMeatPoultryInformation/fishReportingInformation/fishCatchInformation/catchAreaCode"},"Regional EU","Verplicht voor vis als het vangstgebied op het etiket/de verpakking staat, met uitzondering van kweekvis en gekweekte schelp- en schaaldieren.","ANL1227","A","B","-","D","-","F","-","-","-","-","-","-","-","-","-","-","-","-","-","-"]
[{"$f":"VLOOKUP(Tabel3[[#This Row],[GAE ID]],'BES NL'!A:L,12,FALSE)","v":"Wetenschappelijke naam van vis en schaal- en schelpdieren"},{"$f":"VLOOKUP(Tabel3[[#This Row],[GAE ID]],'BES EN'!A:L,5,FALSE)","v":"speciesForFisheryStatisticsPurposesName"},"Conditional","X",912,"an..500",{"$f":"VLOOKUP(Tabel3[[#This Row],[GAE ID]],'BES EN'!A:L,7,FALSE)","v":"/catalogue_item_notification:catalogueItemNotificationMessage/transaction/documentCommand/catalogue_item_notification:catalogueItemNotification/catalogueItem/tradeItem/tradeItemInformation/extension/*[namespace-uri()='urn:gs1:gdsn:dairy_fish_meat_poultry:xsd:3' and local-name()='dairyFishMeatPoultryItemModule']/dairyFishMeatPoultryInformation/fishReportingInformation/speciesForFisheryStatisticsPurposesName"},"Regional EU","Verplicht voor vis en schaal- en schelpdieren als dit op het etiket/de verpakking staat.","ANL1478","A","B","-","D","-","F","-","-","-","-","-","-","-","-","-","-","-","-","-","-"]
[{"$f":"VLOOKUP(Tabel3[[#This Row],[GAE ID]],'BES NL'!A:L,12,FALSE)","v":"Code ingevroren vis"},{"$f":"VLOOKUP(Tabel3[[#This Row],[GAE ID]],'BES EN'!A:L,5,FALSE)","v":"storageStateCode"},"Conditional","X",916,"Defined values",{"$f":"VLOOKUP(Tabel3[[#This Row],[GAE ID]],'BES EN'!A:L,7,FALSE)","v":"/catalogue_item_notification:catalogueItemNotificationMessage/transaction/documentCommand/catalogue_item_notification:catalogueItemNotification/catalogueItem/tradeItem/tradeItemInformation/extension/*[namespace-uri()='urn:gs1:gdsn:dairy_fish_meat_poultry:xsd:3' and local-name()='dairyFishMeatPoultryItemModule']/dairyFishMeatPoultryInformation/fishReportingInformation/fishCatchInformation/storageStateCode"},"Regional EU","Verplicht voor een product waar vis in zit (volgens de EU-verordening 1379/2013) en als dit op het etiket/de verpakking staat.","ANL1477","A","B","-","D","-","F","-","-","-","-","-","-","-","-","-","-","-","-","-","-"]
[{"$f":"VLOOKUP(Tabel3[[#This Row],[GAE ID]],'BES NL'!A:L,12,FALSE)","v":"Vangstmethode"},{"$f":"VLOOKUP(Tabel3[[#This Row],[GAE ID]],'BES EN'!A:L,5,FALSE)","v":"catchMethodCode"},"Conditional","X",914,"Defined values",{"$f":"VLOOKUP(Tabel3[[#This Row],[GAE ID]],'BES EN'!A:L,7,FALSE)","v":"/catalogue_item_notification:catalogueItemNotificationMessage/transaction/documentCommand/catalogue_item_notification:catalogueItemNotification/catalogueItem/tradeItem/tradeItemInformation/extension/*[namespace-uri()='urn:gs1:gdsn:dairy_fish_meat_poultry:xsd:3' and local-name()='dairyFishMeatPoultryItemModule']/dairyFishMeatPoultryInformation/fishReportingInformation/fishCatchInformation/catchMethodCode"},"Regional EU","Verplicht voor vis, als de vangstmethode op het etiket/de verpakking staat, met uitzondering van kweekvis en gekweekte schelp- en schaaldieren.","ANL1228","A","B","-","D","-","F","-","-","-","-","-","-","-","-","-","-","-","-","-","-"]
[{"$f":"VLOOKUP(Tabel3[[#This Row],[GAE ID]],'BES NL'!A:L,12,FALSE)","v":"Productiemethode voor vis"},{"$f":"VLOOKUP(Tabel3[[#This Row],[GAE ID]],'BES EN'!A:L,5,FALSE)","v":"productionMethodForFishAndSeaFoodCode"},"Conditional",0,915,"Defined values",{"$f":"VLOOKUP(Tabel3[[#This Row],[GAE ID]],'BES EN'!A:L,7,FALSE)","v":"/catalogue_item_notification:catalogueItemNotificationMessage/transaction/documentCommand/catalogue_item_notification:catalogueItemNotification/catalogueItem/tradeItem/tradeItemInformation/extension/*[namespace-uri()='urn:gs1:gdsn:dairy_fish_meat_poultry:xsd:3' and local-name()='dairyFishMeatPoultryItemModule']/dairyFishMeatPoultryInformation/fishReportingInformation/fishCatchInformation/productionMethodForFishAndSeaFoodCode"},"Regional EU","Verplicht voor vis en schaal- en schelpdieren","ANL1399","A","B","-","D","-","F","-","-","-","-","-","-","-","-","-","-","-","-","-","-"]
["Bereiding en gebruik",null,null,null,null,null,null,null,null,null,"A","B","C","D","E","F","G","H","I","J","K","L","M","N","O","P","Q","R","S","T"]
[{"$f":"VLOOKUP(Tabel3[[#This Row],[GAE ID]],'BES NL'!A:L,12,FALSE)","v":"Bereidingsinstructies"},{"$f":"VLOOKUP(Tabel3[[#This Row],[GAE ID]],'BES EN'!A:L,5,FALSE)","v":"preparationInstructions"},"Conditional","X",1377,"an..2500",{"$f":"VLOOKUP(Tabel3[[#This Row],[GAE ID]],'BES EN'!A:L,7,FALSE)","v":"/catalogue_item_notification:catalogueItemNotificationMessage/transaction/documentCommand/catalogue_item_notification:catalogueItemNotification/catalogueItem/tradeItem/tradeItemInformation/extension/*[namespace-uri()='urn:gs1:gdsn:food_and_beverage_preparation_serving:xsd:3' and local-name()='foodAndBeveragePreparationServingModule']/preparationServing/preparationInstructions"},"Global","Verplicht als er op het etiket/de verpakking instructies staan over hoe het product bereid moet worden voor consumptie.","ANL1231","A","B","C","D","E","F","-","-","-","-","-","-","-","N","-","-","-","-","-","T"]
[{"$f":"VLOOKUP(Tabel3[[#This Row],[GAE ID]],'BES NL'!A:L,12,FALSE)","v":"Bereidingsinstructies taalcode"},{"$f":"VLOOKUP(Tabel3[[#This Row],[GAE ID]],'BES EN'!A:L,5,FALSE)","v":"preparationInstructions/@languageCode"},"Conditional","X",1378,"Defined values",{"$f":"VLOOKUP(Tabel3[[#This Row],[GAE ID]],'BES EN'!A:L,7,FALSE)","v":"/catalogue_item_notification:catalogueItemNotificationMessage/transaction/documentCommand/catalogue_item_notification:catalogueItemNotification/catalogueItem/tradeItem/tradeItemInformation/extension/*[namespace-uri()='urn:gs1:gdsn:food_and_beverage_preparation_serving:xsd:3' and local-name()='foodAndBeveragePreparationServingModule']/preparationServing/preparationInstructions/@languageCode"},"Global","Verplicht als het veld ‘Bereidingsinstructies’ is ingevuld bij de consumenteneenheid.","ANL1232","A","B","C","D","E","F","-","-","-","-","-","-","-","N","-","-","-","-","-","T"]
[{"$f":"VLOOKUP(Tabel3[[#This Row],[GAE ID]],'BES NL'!A:L,12,FALSE)","v":"Code type bereiding"},{"$f":"VLOOKUP(Tabel3[[#This Row],[GAE ID]],'BES EN'!A:L,5,FALSE)","v":"preparationTypeCode"},"Conditional","X",1379,"Defined values",{"$f":"VLOOKUP(Tabel3[[#This Row],[GAE ID]],'BES EN'!A:L,7,FALSE)","v":"/catalogue_item_notification:catalogueItemNotificationMessage/transaction/documentCommand/catalogue_item_notification:catalogueItemNotification/catalogueItem/tradeItem/tradeItemInformation/extension/*[namespace-uri()='urn:gs1:gdsn:food_and_beverage_preparation_serving:xsd:3' and local-name()='foodAndBeveragePreparationServingModule']/preparationServing/preparationTypeCode"},"Global","Verplicht als de bereidingstechniek op het etiket/de verpakking staat.","ANL1485","A","B","C","D","E","F","-","-","-","-","-","-","-","N","-","-","-","-","-","T"]
[{"$f":"VLOOKUP(Tabel3[[#This Row],[GAE ID]],'BES NL'!A:L,12,FALSE)","v":"Beoogde consumentenleeftijd"},{"$f":"VLOOKUP(Tabel3[[#This Row],[GAE ID]],'BES EN'!A:L,5,FALSE)","v":"targetConsumerAge"},"Conditional","X",1558,"an..500",{"$f":"VLOOKUP(Tabel3[[#This Row],[GAE ID]],'BES EN'!A:L,7,FALSE)","v":"/catalogue_item_notification:catalogueItemNotificationMessage/transaction/documentCommand/catalogue_item_notification:catalogueItemNotification/catalogueItem/tradeItem/tradeItemInformation/extension/*[namespace-uri()='urn:gs1:gdsn:marketing_information:xsd:3' and local-name()='marketingInformationModule']/marketingInformation/targetConsumer/targetConsumerAge"},"Global","Verplicht indien de beoogde leeftijd of leeftijdscategorie op het etiket/de verpakking staat.","ANL1488","A","B","C","D","E","F","-","-","I","-","-","-","M","N","O","P","Q","-","-","T"]
[{"$f":"VLOOKUP(Tabel3[[#This Row],[GAE ID]],'BES NL'!A:L,12,FALSE)","v":"Beoogde consumentenleeftijd taalcode"},{"$f":"VLOOKUP(Tabel3[[#This Row],[GAE ID]],'BES EN'!A:L,5,FALSE)","v":"targetConsumerAge/@languageCode"},"Conditional","X",1559,"Defined values",{"$f":"VLOOKUP(Tabel3[[#This Row],[GAE ID]],'BES EN'!A:L,7,FALSE)","v":"/catalogue_item_notification:catalogueItemNotificationMessage/transaction/documentCommand/catalogue_item_notification:catalogueItemNotification/catalogueItem/tradeItem/tradeItemInformation/extension/*[namespace-uri()='urn:gs1:gdsn:marketing_information:xsd:3' and local-name()='marketingInformationModule']/marketingInformation/targetConsumer/targetConsumerAge/@languageCode"},"Global","Verplicht, als ‘Beoogde consumentenleeftijd’ is ingevuld bij de consumenteenheid.","ANL1489","A","B","C","D","E","F","-","-","I","-","-","-","M","N","O","P","Q","-","-","T"]
[{"$f":"VLOOKUP(Tabel3[[#This Row],[GAE ID]],'BES NL'!A:L,12,FALSE)","v":"Gebruiksinstructies"},{"$f":"VLOOKUP(Tabel3[[#This Row],[GAE ID]],'BES EN'!A:L,5,FALSE)","v":"consumerUsageInstructions"},"Conditional","X",791,"an..5000",{"$f":"VLOOKUP(Tabel3[[#This Row],[GAE ID]],'BES EN'!A:L,7,FALSE)","v":"/catalogue_item_notification:catalogueItemNotificationMessage/transaction/documentCommand/catalogue_item_notification:catalogueItemNotification/catalogueItem/tradeItem/tradeItemInformation/extension/*[namespace-uri()='urn:gs1:gdsn:consumer_instructions:xsd:3' and local-name()='consumerInstructionsModule']/consumerInstructions/consumerUsageInstructions"},"Global","Verplicht voor voedingsmiddelen, voedingssupplementen, bijzondere voedingsmiddelen, zelfzorggeneesmiddelen, gezondheidsproducten, cosmetica en persoonlijke verzorgingsproducten, diervoeding, detergenten en biociden.","ANL1233","A","B","C","D","E","F","G","H","I","J","K","L","M","N","O","P","-","-","-","T"]
[{"$f":"VLOOKUP(Tabel3[[#This Row],[GAE ID]],'BES NL'!A:L,12,FALSE)","v":"Gebruiksinstructies taalcode"},{"$f":"VLOOKUP(Tabel3[[#This Row],[GAE ID]],'BES EN'!A:L,5,FALSE)","v":"consumerUsageInstructions/@languageCode"},"Conditional","X",792,"Defined values",{"$f":"VLOOKUP(Tabel3[[#This Row],[GAE ID]],'BES EN'!A:L,7,FALSE)","v":"/catalogue_item_notification:catalogueItemNotificationMessage/transaction/documentCommand/catalogue_item_notification:catalogueItemNotification/catalogueItem/tradeItem/tradeItemInformation/extension/*[namespace-uri()='urn:gs1:gdsn:consumer_instructions:xsd:3' and local-name()='consumerInstructionsModule']/consumerInstructions/consumerUsageInstructions/@languageCode"},"Global","Verplicht als het veld ‘Gebruiksinstructies’ is ingevuld bij de consumenteneenheid.","ANL1234","A","B","C","D","E","F","G","H","I","J","K","L","M","N","O","P","-","-","-","T"]
[{"$f":"VLOOKUP(Tabel3[[#This Row],[GAE ID]],'BES NL'!A:L,12,FALSE)","v":"Serveersuggestie"},{"$f":"VLOOKUP(Tabel3[[#This Row],[GAE ID]],'BES EN'!A:L,5,FALSE)","v":"servingSuggestion"},"Conditional",0,1380,"an..1000",{"$f":"VLOOKUP(Tabel3[[#This Row],[GAE ID]],'BES EN'!A:L,7,FALSE)","v":"/catalogue_item_notification:catalogueItemNotificationMessage/transaction/documentCommand/catalogue_item_notification:catalogueItemNotification/catalogueItem/tradeItem/tradeItemInformation/extension/*[namespace-uri()='urn:gs1:gdsn:food_and_beverage_preparation_serving:xsd:3' and local-name()='foodAndBeveragePreparationServingModule']/preparationServing/servingSuggestion"},"Global"," Verplicht als er een serveersuggestie op het etiket staat.","ANL1239","A","B","C","D","E","F","-","-","-","-","K","-","-","N","-","-","-","-","-","T"]
[{"$f":"VLOOKUP(Tabel3[[#This Row],[GAE ID]],'BES NL'!A:L,12,FALSE)","v":"Serveersuggestie taalcode"},{"$f":"VLOOKUP(Tabel3[[#This Row],[GAE ID]],'BES EN'!A:L,5,FALSE)","v":"servingSuggestion/@languageCode"},"Conditional",0,1381,"Defined values",{"$f":"VLOOKUP(Tabel3[[#This Row],[GAE ID]],'BES EN'!A:L,7,FALSE)","v":"/catalogue_item_notification:catalogueItemNotificationMessage/transaction/documentCommand/catalogue_item_notification:catalogueItemNotification/catalogueItem/tradeItem/tradeItemInformation/extension/*[namespace-uri()='urn:gs1:gdsn:food_and_beverage_preparation_serving:xsd:3' and local-name()='foodAndBeveragePreparationServingModule']/preparationServing/servingSuggestion/@languageCode"},"Global","Verplicht als het veld ‘Serveersuggestie’ is ingevuld bij de consumenteneenheid.","ANL1240","A","B","C","D","E","F","-","-","-","-","K","-","-","N","-","-","-","-","-","T"]
[{"$f":"VLOOKUP(Tabel3[[#This Row],[GAE ID]],'BES NL'!A:L,12,FALSE)","v":"Bewaarinstructies"},{"$f":"VLOOKUP(Tabel3[[#This Row],[GAE ID]],'BES EN'!A:L,5,FALSE)","v":"consumerStorageInstructions"},"Conditional","X",789,"an..5000",{"$f":"VLOOKUP(Tabel3[[#This Row],[GAE ID]],'BES EN'!A:L,7,FALSE)","v":"/catalogue_item_notification:catalogueItemNotificationMessage/transaction/documentCommand/catalogue_item_notification:catalogueItemNotification/catalogueItem/tradeItem/tradeItemInformation/extension/*[namespace-uri()='urn:gs1:gdsn:consumer_instructions:xsd:3' and local-name()='consumerInstructionsModule']/consumerInstructions/consumerStorageInstructions"},"Global","Verplicht als op het etiket/de verpakking instructies en informatie voor de consument staan over het goed bewaren van het product. ","ANL1235","A","B","C","D","E","F","G","H","I","J","K","L","M","N","O","P","-","R","S","T"]
[{"$f":"VLOOKUP(Tabel3[[#This Row],[GAE ID]],'BES NL'!A:L,12,FALSE)","v":"Bewaarinstructies taalcode"},{"$f":"VLOOKUP(Tabel3[[#This Row],[GAE ID]],'BES EN'!A:L,5,FALSE)","v":"consumerStorageInstructions/@languageCode"},"Conditional","X",790,"Defined values",{"$f":"VLOOKUP(Tabel3[[#This Row],[GAE ID]],'BES EN'!A:L,7,FALSE)","v":"/catalogue_item_notification:catalogueItemNotificationMessage/transaction/documentCommand/catalogue_item_notification:catalogueItemNotification/catalogueItem/tradeItem/tradeItemInformation/extension/*[namespace-uri()='urn:gs1:gdsn:consumer_instructions:xsd:3' and local-name()='consumerInstructionsModule']/consumerInstructions/consumerStorageInstructions/@languageCode"},"Global","Verplicht als het veld ‘Bewaarinstructies’ is ingevuld bij de consumenteneenheid.","ANL1236","A","B","C","D","E","F","G","H","I","J","K","L","M","N","O","P","-","R","S","T"]
["Claims / labels / logo's",null,null,"",null,"","",null,null,null,"A","B","C","D","E","F","G","H","I","J","K","L","M","N","O","P","Q","R","S","T"]
[{"$f":"VLOOKUP(Tabel3[[#This Row],[GAE ID]],'BES NL'!A:L,12,FALSE)","v":"Voedingsclaim"},{"$f":"VLOOKUP(Tabel3[[#This Row],[GAE ID]],'BES EN'!A:L,5,FALSE)","v":"nutritionalClaim"},"Conditional","X",1682,"an..5000",{"$f":"VLOOKUP(Tabel3[[#This Row],[GAE ID]],'BES EN'!A:L,7,FALSE)","v":"/catalogue_item_notification:catalogueItemNotificationMessage/transaction/documentCommand/catalogue_item_notification:catalogueItemNotification/catalogueItem/tradeItem/tradeItemInformation/extension/*[namespace-uri()='urn:gs1:gdsn:nutritional_information:xsd:3' and local-name()='nutritionalInformationModule']/nutritionalClaim"},"Global","Verplicht voor voedingsmiddelen, bijzondere voedingsmiddelen en voedingssupplementen als er voedingsclaims op het etiket staan","ANL1237","A","B","C","D","E","F","-","-","-","-","K","-","M","N","O","P","Q","R","S","T"]
[{"$f":"VLOOKUP(Tabel3[[#This Row],[GAE ID]],'BES NL'!A:L,12,FALSE)","v":"Voedingsclaim taalcode"},{"$f":"VLOOKUP(Tabel3[[#This Row],[GAE ID]],'BES EN'!A:L,5,FALSE)","v":"nutritionalClaim/@languageCode"},"Conditional","X",1683,"Defined values",{"$f":"VLOOKUP(Tabel3[[#This Row],[GAE ID]],'BES EN'!A:L,7,FALSE)","v":"/catalogue_item_notification:catalogueItemNotificationMessage/transaction/documentCommand/catalogue_item_notification:catalogueItemNotification/catalogueItem/tradeItem/tradeItemInformation/extension/*[namespace-uri()='urn:gs1:gdsn:nutritional_information:xsd:3' and local-name()='nutritionalInformationModule']/nutritionalClaim/@languageCode"},"Global","Verplicht als het veld ‘Voedingsclaim’ is ingevuld bij de consumenteneenheid.","ANL1238","A","B","C","D","E","F","-","-","-","-","K","-","M","N","O","P","Q","R","S","T"]
[{"$f":"VLOOKUP(Tabel3[[#This Row],[GAE ID]],'BES NL'!A:L,12,FALSE)","v":"Gezondheidsclaim"},{"$f":"VLOOKUP(Tabel3[[#This Row],[GAE ID]],'BES EN'!A:L,5,FALSE)","v":"healthClaimDescription"},"Conditional","X",1461,"an..1000",{"$f":"VLOOKUP(Tabel3[[#This Row],[GAE ID]],'BES EN'!A:L,7,FALSE)","v":"/catalogue_item_notification:catalogueItemNotificationMessage/transaction/documentCommand/catalogue_item_notification:catalogueItemNotification/catalogueItem/tradeItem/tradeItemInformation/extension/*[namespace-uri()='urn:gs1:gdsn:health_related_information:xsd:3' and local-name()='healthRelatedInformationModule']/healthRelatedInformation/healthClaimDescription"},"Global","Verplicht als er gezondheidsclaims en/of medische claims op de verpakking staan.","ANL1241","A","B","-","-","-","-","-","-","-","-","-","-","M","N","O","P","Q","R","S","T"]
[{"$f":"VLOOKUP(Tabel3[[#This Row],[GAE ID]],'BES NL'!A:L,12,FALSE)","v":"Gezondheidsclaim taalcode"},{"$f":"VLOOKUP(Tabel3[[#This Row],[GAE ID]],'BES EN'!A:L,5,FALSE)","v":"healthClaimDescription/@languageCode"},"Conditional","X",5455,"Defined values",{"$f":"VLOOKUP(Tabel3[[#This Row],[GAE ID]],'BES EN'!A:L,7,FALSE)","v":"/catalogue_item_notification:catalogueItemNotificationMessage/transaction/documentCommand/catalogue_item_notification:catalogueItemNotification/catalogueItem/tradeItem/tradeItemInformation/extension/*[namespace-uri()='urn:gs1:gdsn:health_related_information:xsd:3' and local-name()='healthRelatedInformationModule']/healthRelatedInformation/healthClaimDescription/@languageCode"},"Global","Verplicht als het veld ‘Gezondheidsclaim’ is ingevuld bij de consumenteneenheid.","ANL1242","A","B","-","-","-","-","-","-","-","-","-","-","M","N","O","P","Q","R","S","T"]
[{"$f":"VLOOKUP(Tabel3[[#This Row],[GAE ID]],'BES NL'!A:L,12,FALSE)","v":"Overige keurmerken"},{"$f":"VLOOKUP(Tabel3[[#This Row],[GAE ID]],'BES EN'!A:L,5,FALSE)","v":"packagingMarkedLabelAccreditationCode"},"Conditional","X",2312,"Defined values",{"$f":"VLOOKUP(Tabel3[[#This Row],[GAE ID]],'BES EN'!A:L,7,FALSE)","v":"/catalogue_item_notification:catalogueItemNotificationMessage/transaction/documentCommand/catalogue_item_notification:catalogueItemNotification/catalogueItem/tradeItem/tradeItemInformation/extension/*[namespace-uri()='urn:gs1:gdsn:packaging_marking:xsd:3' and local-name()='packagingMarkingModule']/packagingMarking/packagingMarkedLabelAccreditationCode"},"Regional EU","Verplicht als er een keurmerk op de verpakking staat van de consumenteneenheid die voorkomt in de internationale keurmerkenlijst, optioneel voor detergenten en biociden.","ANL1248","A","B","C","D","E","F","G","H","I","J","K","-","M","N","O","P","Q","R","S","T"]
[{"$f":"VLOOKUP(Tabel3[[#This Row],[GAE ID]],'BES NL'!A:L,12,FALSE)","v":"Aanvullend logo op product/verpakking"},{"$f":"VLOOKUP(Tabel3[[#This Row],[GAE ID]],'BES EN'!A:L,5,FALSE)","v":"localPackagingMarkedLabelAccreditationCodeReference"},"Conditional","X",2318,"Defined values",{"$f":"VLOOKUP(Tabel3[[#This Row],[GAE ID]],'BES EN'!A:L,7,FALSE)","v":"/catalogue_item_notification:catalogueItemNotificationMessage/transaction/documentCommand/catalogue_item_notification:catalogueItemNotification/catalogueItem/tradeItem/tradeItemInformation/extension/*[namespace-uri()='urn:gs1:gdsn:packaging_marking:xsd:3' and local-name()='packagingMarkingModule']/packagingMarking/localPackagingMarkedLabelAccreditationCodeReference"},"Local","Verplicht voor voedingsmiddelen, voedingssupplementen, bijzondere voedingsmiddelen, cosmetica en persoonlijke verzorgingsproducten, gezondheidsproducten en batterijen als het op het etiket/de verpakking staat.","ANL1249","A","B","C","D","E","F","G","H","I","J","K","L","M","N","O","P","Q","R","S","T"]
[{"$f":"VLOOKUP(Tabel3[[#This Row],[GAE ID]],'BES NL'!A:L,12,FALSE)","v":"Code bestanddeelclaim"},{"$f":"VLOOKUP(Tabel3[[#This Row],[GAE ID]],'BES EN'!A:L,5,FALSE)","v":"nutritionalClaimNutrientElementCode"},"Conditional","X",1709,"Defined values",{"$f":"VLOOKUP(Tabel3[[#This Row],[GAE ID]],'BES EN'!A:L,7,FALSE)","v":"/catalogue_item_notification:catalogueItemNotificationMessage/transaction/documentCommand/catalogue_item_notification:catalogueItemNotification/catalogueItem/tradeItem/tradeItemInformation/extension/*[namespace-uri()='urn:gs1:gdsn:nutritional_information:xsd:3' and local-name()='nutritionalInformationModule']/nutritionalClaimDetail/nutritionalClaimNutrientElementCode"},"Global","Verplicht als op het etiket/de verpakking een claim over een specifiek bestanddeel van het product staat.","ANL1482","A","B","C","D","E","F","G","H","I","-","K","-","M","N","O","P","Q","R","S","T"]
[{"$f":"VLOOKUP(Tabel3[[#This Row],[GAE ID]],'BES NL'!A:L,12,FALSE)","v":"Code type claim"},{"$f":"VLOOKUP(Tabel3[[#This Row],[GAE ID]],'BES EN'!A:L,5,FALSE)","v":"nutritionalClaimTypeCode"},"Conditional","X",1710,"Defined values",{"$f":"VLOOKUP(Tabel3[[#This Row],[GAE ID]],'BES EN'!A:L,7,FALSE)","v":"/catalogue_item_notification:catalogueItemNotificationMessage/transaction/documentCommand/catalogue_item_notification:catalogueItemNotification/catalogueItem/tradeItem/tradeItemInformation/extension/*[namespace-uri()='urn:gs1:gdsn:nutritional_information:xsd:3' and local-name()='nutritionalInformationModule']/nutritionalClaimDetail/nutritionalClaimTypeCode"},"Global","Verplicht als het veld ‘Code bestanddeelclaim’ is gevuld.","ANL1483","A","B","C","D","E","F","G","H","I","-","K","-","M","N","O","P","Q","R","S","T"]
[{"$f":"VLOOKUP(Tabel3[[#This Row],[GAE ID]],'BES NL'!A:L,12,FALSE)","v":"Indicatie claim bestanddeel op verpakking"},{"$f":"VLOOKUP(Tabel3[[#This Row],[GAE ID]],'BES EN'!A:L,5,FALSE)","v":"claimMarkedOnPackage"},"X","X",6339,"Non-binary logic enumeration",{"$f":"VLOOKUP(Tabel3[[#This Row],[GAE ID]],'BES EN'!A:L,7,FALSE)","v":"/catalogue_item_notification:catalogueItemNotificationMessage/transaction/documentCommand/catalogue_item_notification:catalogueItemNotification/catalogueItem/tradeItem/tradeItemInformation/extension/*[namespace-uri()='urn:gs1:gdsn:nutritional_information:xsd:3' and local-name()='nutritionalInformationModule']/nutritionalClaimDetail/claimMarkedOnPackage"},"Local","Verplicht als de claim die in het veld ‘Code bestanddeelclaim’ is ingevuld niet op de verpakking staat.","ANL1451","A","B","C","D","E","F","G","H","I","-","K","-","M","N","O","P","Q","R","S","T"]
[{"$f":"VLOOKUP(Tabel3[[#This Row],[GAE ID]],'BES NL'!A:L,12,FALSE)","v":"Code dieettype"},{"$f":"VLOOKUP(Tabel3[[#This Row],[GAE ID]],'BES EN'!A:L,5,FALSE)","v":"dietTypeCode"},"Conditional","X",1066,"Defined values",{"$f":"VLOOKUP(Tabel3[[#This Row],[GAE ID]],'BES EN'!A:L,7,FALSE)","v":"/catalogue_item_notification:catalogueItemNotificationMessage/transaction/documentCommand/catalogue_item_notification:catalogueItemNotification/catalogueItem/tradeItem/tradeItemInformation/extension/*[namespace-uri()='urn:gs1:gdsn:diet_information:xsd:3' and local-name()='dietInformationModule']/dietInformation/dietTypeInformation/dietTypeCode"},"Global","Verplicht als het product geschikt is voor een bepaald dieet","ANL1246","A","B","C","D","E","F","-","-","-","-","K","-","M","N","O","P","Q","R","S","T"]
[{"$f":"VLOOKUP(Tabel3[[#This Row],[GAE ID]],'BES NL'!A:L,12,FALSE)","v":"Indicatie dieettype op verpakking"},{"$f":"VLOOKUP(Tabel3[[#This Row],[GAE ID]],'BES EN'!A:L,5,FALSE)","v":"isDietTypeMarkedOnPackage"},"X","X",6302,"Non-binary logic enumeration",{"$f":"VLOOKUP(Tabel3[[#This Row],[GAE ID]],'BES EN'!A:L,7,FALSE)","v":"/catalogue_item_notification:catalogueItemNotificationMessage/transaction/documentCommand/catalogue_item_notification:catalogueItemNotification/catalogueItem/tradeItem/tradeItemInformation/extension/*[namespace-uri()='urn:gs1:gdsn:diet_information:xsd:3' and local-name()='dietInformationModule']/dietInformation/dietTypeInformation/isDietTypeMarkedOnPackage"},"Local","Verplicht, als de claim die in het veld ‘Code dieettype’ is ingevuld niet op de verpakking staat.","ANL1452","A","B","C","D","E","F","-","-","-","-","K","-","M","N","O","P","Q","R","S","T"]
[{"$f":"VLOOKUP(Tabel3[[#This Row],[GAE ID]],'BES NL'!A:L,12,FALSE)","v":"Code voedingsprogramma"},{"$f":"VLOOKUP(Tabel3[[#This Row],[GAE ID]],'BES EN'!A:L,5,FALSE)","v":"nutritionalProgramCode"},"X",null,268,"Defined values",{"$f":"VLOOKUP(Tabel3[[#This Row],[GAE ID]],'BES EN'!A:L,7,FALSE)","v":"/catalogue_item_notification:catalogueItemNotificationMessage/transaction/documentCommand/catalogue_item_notification:catalogueItemNotification/catalogueItem/tradeItem/tradeItemInformation/extension/*[namespace-uri()='urn:gs1:gdsn:health_related_information:xsd:3' and local-name()='healthRelatedInformationModule']/healthRelatedInformation/nutritionalProgram/nutritionalProgramCode"},"Local","Verplicht voor voedingsmiddelen en bijzondere voedingsmiddelen als de Nutri-Score op de verpakking staat.","ANL1436","A","B","C","D","E","F","-","-","-","-","-","-","-","N","-","-","-","-","-","-"]
[{"$f":"VLOOKUP(Tabel3[[#This Row],[GAE ID]],'BES NL'!A:L,12,FALSE)","v":"Code Nutri-Score"},{"$f":"VLOOKUP(Tabel3[[#This Row],[GAE ID]],'BES EN'!A:L,5,FALSE)","v":"nutritionalScore"},"X",null,6160,"an..80",{"$f":"VLOOKUP(Tabel3[[#This Row],[GAE ID]],'BES EN'!A:L,7,FALSE)","v":"/catalogue_item_notification:catalogueItemNotificationMessage/transaction/documentCommand/catalogue_item_notification:catalogueItemNotification/catalogueItem/tradeItem/tradeItemInformation/extension/*[namespace-uri()='urn:gs1:gdsn:health_related_information:xsd:3' and local-name()='healthRelatedInformationModule']/healthRelatedInformation/nutritionalProgram/nutritionalScore"},"Local","Verplicht voor voedingsmiddelen en bijzondere voedingsmiddelen als de Nutri-Score op de verpakking staat.","ANL1437","A","B","C","D","E","F","-","-","-","-","-","-","-","N","-","-","-","-","-","-"]
[{"$f":"VLOOKUP(Tabel3[[#This Row],[GAE ID]],'BES NL'!A:L,12,FALSE)","v":"Voedingsprogramma ingrediënt type"},{"$f":"VLOOKUP(Tabel3[[#This Row],[GAE ID]],'BES EN'!A:L,5,FALSE)","v":"nutritionalProgramIngredientTypeCode"},"X",null,6268,"Defined values",{"$f":"VLOOKUP(Tabel3[[#This Row],[GAE ID]],'BES EN'!A:L,7,FALSE)","v":"/catalogue_item_notification:catalogueItemNotificationMessage/transaction/documentCommand/catalogue_item_notification:catalogueItemNotification/catalogueItem/tradeItem/tradeItemInformation/extension/*[namespace-uri()='urn:gs1:gdsn:health_related_information:xsd:3' and local-name()='healthRelatedInformationModule']/healthRelatedInformation/nutritionalProgram/nutritionalProgramIngredients/nutritionalProgramIngredientTypeCode"},"Local",0,"ANL1438","A","B","C","D","E","F","-","-","-","-","-","-","-","N","-","-","-","-","-","-"]
[{"$f":"VLOOKUP(Tabel3[[#This Row],[GAE ID]],'BES NL'!A:L,12,FALSE)","v":"Voedingsprogramma ingrediënt hoeveelheid"},{"$f":"VLOOKUP(Tabel3[[#This Row],[GAE ID]],'BES EN'!A:L,5,FALSE)","v":"nutritionalProgramIngredientMeasurement"},"X",null,6270,"n..15",{"$f":"VLOOKUP(Tabel3[[#This Row],[GAE ID]],'BES EN'!A:L,7,FALSE)","v":"/catalogue_item_notification:catalogueItemNotificationMessage/transaction/documentCommand/catalogue_item_notification:catalogueItemNotification/catalogueItem/tradeItem/tradeItemInformation/extension/*[namespace-uri()='urn:gs1:gdsn:health_related_information:xsd:3' and local-name()='healthRelatedInformationModule']/healthRelatedInformation/nutritionalProgram/nutritionalProgramIngredients/nutritionalProgramIngredientMeasurement"},"Local",0,"ANL1439","A","B","C","D","E","F","-","-","-","-","-","-","-","N","-","-","-","-","-","-"]
[{"$f":"VLOOKUP(Tabel3[[#This Row],[GAE ID]],'BES NL'!A:L,12,FALSE)","v":"Eenheid voedingsprogramma ingrediënt hoeveelheid"},{"$f":"VLOOKUP(Tabel3[[#This Row],[GAE ID]],'BES EN'!A:L,5,FALSE)","v":"nutritionalProgramIngredientMeasurement/@measurementUnitCode"},"X",null,6271,"Defined values",{"$f":"VLOOKUP(Tabel3[[#This Row],[GAE ID]],'BES EN'!A:L,7,FALSE)","v":"/catalogue_item_notification:catalogueItemNotificationMessage/transaction/documentCommand/catalogue_item_notification:catalogueItemNotification/catalogueItem/tradeItem/tradeItemInformation/extension/*[namespace-uri()='urn:gs1:gdsn:health_related_information:xsd:3' and local-name()='healthRelatedInformationModule']/healthRelatedInformation/nutritionalProgram/nutritionalProgramIngredients/nutritionalProgramIngredientMeasurement/@measurementUnitCode"},"Local","Verplicht als 'Voedingsprogramma ingrediënt hoeveelheid' is ingevuld.","ANL1440","A","B","C","D","E","F","-","-","-","-","-","-","-","N","-","-","-","-","-","-"]
["E-commerce-informatie",null,null,"",null,"","",null,null,null,"A","B","C","D","E","F","G","H","I","J","K","L","M","N","O","P","Q","R","S","T"]
[{"$f":"VLOOKUP(Tabel3[[#This Row],[GAE ID]],'BES NL'!A:L,12,FALSE)","v":"Marketinginformatie"},{"$f":"VLOOKUP(Tabel3[[#This Row],[GAE ID]],'BES EN'!A:L,5,FALSE)","v":"tradeItemMarketingMessage"},"Conditional",0,1498,"an..4000",{"$f":"VLOOKUP(Tabel3[[#This Row],[GAE ID]],'BES EN'!A:L,7,FALSE)","v":"/catalogue_item_notification:catalogueItemNotificationMessage/transaction/documentCommand/catalogue_item_notification:catalogueItemNotification/catalogueItem/tradeItem/tradeItemInformation/extension/*[namespace-uri()='urn:gs1:gdsn:marketing_information:xsd:3' and local-name()='marketingInformationModule']/marketingInformation/tradeItemMarketingMessage"},"Global"," ","ANL1243","A","B","C","D","E","F","G","H","I","J","K","-","M","N","O","P","Q","R","S","T"]
[{"$f":"VLOOKUP(Tabel3[[#This Row],[GAE ID]],'BES NL'!A:L,12,FALSE)","v":"Marketinginformatie taalcode"},{"$f":"VLOOKUP(Tabel3[[#This Row],[GAE ID]],'BES EN'!A:L,5,FALSE)","v":"tradeItemMarketingMessage/@languageCode"},"Conditional",0,1499,"Defined values",{"$f":"VLOOKUP(Tabel3[[#This Row],[GAE ID]],'BES EN'!A:L,7,FALSE)","v":"/catalogue_item_notification:catalogueItemNotificationMessage/transaction/documentCommand/catalogue_item_notification:catalogueItemNotification/catalogueItem/tradeItem/tradeItemInformation/extension/*[namespace-uri()='urn:gs1:gdsn:marketing_information:xsd:3' and local-name()='marketingInformationModule']/marketingInformation/tradeItemMarketingMessage/@languageCode"},"Global","Verplicht als het veld ‘Marketinginformatie’ is ingevuld bij de consumenteneenheid.","ANL1244","A","B","C","D","E","F","G","H","I","J","K","-","M","N","O","P","Q","R","S","T"]
[{"$f":"VLOOKUP(Tabel3[[#This Row],[GAE ID]],'BES NL'!A:L,12,FALSE)","v":"Marketinginformatie volgnummer"},{"$f":"VLOOKUP(Tabel3[[#This Row],[GAE ID]],'BES EN'!A:L,5,FALSE)","v":"tradeItemMarketingMessage/@sequenceNumber"},"Conditional",0,5835,"Non-negative integer",{"$f":"VLOOKUP(Tabel3[[#This Row],[GAE ID]],'BES EN'!A:L,7,FALSE)","v":"/catalogue_item_notification:catalogueItemNotificationMessage/transaction/documentCommand/catalogue_item_notification:catalogueItemNotification/catalogueItem/tradeItem/tradeItemInformation/extension/*[namespace-uri()='urn:gs1:gdsn:marketing_information:xsd:3' and local-name()='marketingInformationModule']/marketingInformation/tradeItemMarketingMessage/@sequenceNumber"},"Global","Verplicht als het veld 'Marketinginformatie' meerdere keren is ingevuld voor dezelfde taalcode.","ANL1410","A","B","C","D","E","F","G","H","I","J","K","-","M","N","O","P","Q","R","S","T"]
[{"$f":"VLOOKUP(Tabel3[[#This Row],[GAE ID]],'BES NL'!A:L,12,FALSE)","v":"Sleutelwoorden van het product"},{"$f":"VLOOKUP(Tabel3[[#This Row],[GAE ID]],'BES EN'!A:L,5,FALSE)","v":"tradeItemKeyWords"},"Conditional",0,1530,"an..1000",{"$f":"VLOOKUP(Tabel3[[#This Row],[GAE ID]],'BES EN'!A:L,7,FALSE)","v":"/catalogue_item_notification:catalogueItemNotificationMessage/transaction/documentCommand/catalogue_item_notification:catalogueItemNotification/catalogueItem/tradeItem/tradeItemInformation/extension/*[namespace-uri()='urn:gs1:gdsn:marketing_information:xsd:3' and local-name()='marketingInformationModule']/marketingInformation/tradeItemKeyWords"},"Regional EU",0,"ANL1400","A","B","C","D","E","F","G","H","I","J","K","L","M","N","O","P","Q","R","S","T"]
[{"$f":"VLOOKUP(Tabel3[[#This Row],[GAE ID]],'BES NL'!A:L,12,FALSE)","v":"Sleutelwoorden van het product taalcode"},{"$f":"VLOOKUP(Tabel3[[#This Row],[GAE ID]],'BES EN'!A:L,5,FALSE)","v":"tradeItemKeyWords/@languageCode"},"Conditional",0,1531,"Defined values",{"$f":"VLOOKUP(Tabel3[[#This Row],[GAE ID]],'BES EN'!A:L,7,FALSE)","v":"/catalogue_item_notification:catalogueItemNotificationMessage/transaction/documentCommand/catalogue_item_notification:catalogueItemNotification/catalogueItem/tradeItem/tradeItemInformation/extension/*[namespace-uri()='urn:gs1:gdsn:marketing_information:xsd:3' and local-name()='marketingInformationModule']/marketingInformation/tradeItemKeyWords/@languageCode"},"Regional EU","Verplicht als het veld 'Sleutelwoorden van het product' is ingevuld bij de consumenteneenheid.","ANL1401","A","B","C","D","E","F","G","H","I","J","K","L","M","N","O","P","Q","R","S","T"]
[{"$f":"VLOOKUP(Tabel3[[#This Row],[GAE ID]],'BES NL'!A:L,12,FALSE)","v":"Code verpakkingskenmerk"},{"$f":"VLOOKUP(Tabel3[[#This Row],[GAE ID]],'BES EN'!A:L,5,FALSE)","v":"packagingFeatureCode"},"Optional","",2166,"Defined values",{"$f":"VLOOKUP(Tabel3[[#This Row],[GAE ID]],'BES EN'!A:L,7,FALSE)","v":"/catalogue_item_notification:catalogueItemNotificationMessage/transaction/documentCommand/catalogue_item_notification:catalogueItemNotification/catalogueItem/tradeItem/tradeItemInformation/extension/*[namespace-uri()='urn:gs1:gdsn:packaging_information:xsd:3' and local-name()='packagingInformationModule']/packaging/packagingFeatureCode"},"Regional EU",0,"ANL1468","A","B","C","D","E","F","G","H","I","J","K","L","M","N","O","P","Q","R","S","T"]
[{"$f":"VLOOKUP(Tabel3[[#This Row],[GAE ID]],'BES NL'!A:L,12,FALSE)","v":"Unique selling point van het product"},{"$f":"VLOOKUP(Tabel3[[#This Row],[GAE ID]],'BES EN'!A:L,5,FALSE)","v":"tradeItemFeatureBenefit"},"Conditional",0,1494,"an..250",{"$f":"VLOOKUP(Tabel3[[#This Row],[GAE ID]],'BES EN'!A:L,7,FALSE)","v":"/catalogue_item_notification:catalogueItemNotificationMessage/transaction/documentCommand/catalogue_item_notification:catalogueItemNotification/catalogueItem/tradeItem/tradeItemInformation/extension/*[namespace-uri()='urn:gs1:gdsn:marketing_information:xsd:3' and local-name()='marketingInformationModule']/marketingInformation/tradeItemFeatureBenefit"},"Global",0,"ANL1402","A","B","C","D","E","F","G","H","I","J","K","L","M","N","O","P","Q","R","S","T"]
[{"$f":"VLOOKUP(Tabel3[[#This Row],[GAE ID]],'BES NL'!A:L,12,FALSE)","v":"Unique selling point van het product taalcode"},{"$f":"VLOOKUP(Tabel3[[#This Row],[GAE ID]],'BES EN'!A:L,5,FALSE)","v":"tradeItemFeatureBenefit/@languageCode"},"Conditional",0,1495,"Defined values",{"$f":"VLOOKUP(Tabel3[[#This Row],[GAE ID]],'BES EN'!A:L,7,FALSE)","v":"/catalogue_item_notification:catalogueItemNotificationMessage/transaction/documentCommand/catalogue_item_notification:catalogueItemNotification/catalogueItem/tradeItem/tradeItemInformation/extension/*[namespace-uri()='urn:gs1:gdsn:marketing_information:xsd:3' and local-name()='marketingInformationModule']/marketingInformation/tradeItemFeatureBenefit/@languageCode"},"Global","Verplicht als het veld 'Unique selling point van het product' is ingevuld bij de consumenteneenheid.","ANL1403","A","B","C","D","E","F","G","H","I","J","K","L","M","N","O","P","Q","R","S","T"]
[{"$f":"VLOOKUP(Tabel3[[#This Row],[GAE ID]],'BES NL'!A:L,12,FALSE)","v":"Unique selling point van het product volgnummer"},{"$f":"VLOOKUP(Tabel3[[#This Row],[GAE ID]],'BES EN'!A:L,5,FALSE)","v":"tradeItemFeatureBenefit/@sequenceNumber"},"Conditional",0,6094,"Non-negative integer",{"$f":"VLOOKUP(Tabel3[[#This Row],[GAE ID]],'BES EN'!A:L,7,FALSE)","v":"/catalogue_item_notification:catalogueItemNotificationMessage/transaction/documentCommand/catalogue_item_notification:catalogueItemNotification/catalogueItem/tradeItem/tradeItemInformation/extension/*[namespace-uri()='urn:gs1:gdsn:marketing_information:xsd:3' and local-name()='marketingInformationModule']/marketingInformation/tradeItemFeatureBenefit/@sequenceNumber"},"Global","Verplicht als het veld 'Unique selling point van het product' meerdere keren is ingevuld voor dezelfde taalcode.","ANL1411","A","B","C","D","E","F","G","H","I","J","K","L","M","N","O","P","Q","R","S","T"]
[{"$f":"VLOOKUP(Tabel3[[#This Row],[GAE ID]],'BES NL'!A:L,12,FALSE)","v":"Kwaliteitscode"},{"$f":"VLOOKUP(Tabel3[[#This Row],[GAE ID]],'BES EN'!A:L,5,FALSE)","v":"gradeCodeReference"},"Conditional","X",1506,"Defined values",{"$f":"VLOOKUP(Tabel3[[#This Row],[GAE ID]],'BES EN'!A:L,7,FALSE)","v":"/catalogue_item_notification:catalogueItemNotificationMessage/transaction/documentCommand/catalogue_item_notification:catalogueItemNotification/catalogueItem/tradeItem/tradeItemInformation/extension/*[namespace-uri()='urn:gs1:gdsn:marketing_information:xsd:3' and local-name()='marketingInformationModule']/marketingInformation/gradeCodeReference"},"Regional EU","Verplicht als de kwaliteitscode (zoals grootte, gewicht, kwaliteit) op het etiket/de verpakking staat.","ANL1404","A","B","C","D","E","F","-","-","-","-","-","-","M","N","O","P","Q","R","S","T"]
[{"$f":"VLOOKUP(Tabel3[[#This Row],[GAE ID]],'BES NL'!A:L,12,FALSE)","v":"Functie of behandelmogelijkheid van het huidproduct"},{"$f":"VLOOKUP(Tabel3[[#This Row],[GAE ID]],'BES EN'!A:L,5,FALSE)","v":"skinProductFunctionOrTreatmentCode"},"X",null,6552,"Defined values",{"$f":"VLOOKUP(Tabel3[[#This Row],[GAE ID]],'BES EN'!A:L,7,FALSE)","v":"/catalogue_item_notification:catalogueItemNotificationMessage/transaction/documentCommand/catalogue_item_notification:catalogueItemNotification/catalogueItem/tradeItem/tradeItemInformation/extension/*[namespace-uri()='urn:gs1:gdsn:product_information:xsd:3' and local-name()='productInformationModule']/productInformationDetail/beautyPersonalCareHygieneDetail/skinProductInformation/skinProductFunctionOrTreatmentCode"},"Local",0,"ANL1441","-","-","-","-","-","-","-","-","I","-","-","-","M","-","O","P","Q","-","-","-"]
[{"$f":"VLOOKUP(Tabel3[[#This Row],[GAE ID]],'BES NL'!A:L,12,FALSE)","v":"Huidtype"},{"$f":"VLOOKUP(Tabel3[[#This Row],[GAE ID]],'BES EN'!A:L,5,FALSE)","v":"targetSkinTypeCode"},"X",null,6553,"Defined values",{"$f":"VLOOKUP(Tabel3[[#This Row],[GAE ID]],'BES EN'!A:L,7,FALSE)","v":"/catalogue_item_notification:catalogueItemNotificationMessage/transaction/documentCommand/catalogue_item_notification:catalogueItemNotification/catalogueItem/tradeItem/tradeItemInformation/extension/*[namespace-uri()='urn:gs1:gdsn:product_information:xsd:3' and local-name()='productInformationModule']/productInformationDetail/beautyPersonalCareHygieneDetail/skinProductInformation/targetSkinTypeCode"},"Local",0,"ANL1442","-","-","-","-","-","-","-","-","I","-","-","-","M","-","O","P","Q","-","-","-"]
[{"$f":"VLOOKUP(Tabel3[[#This Row],[GAE ID]],'BES NL'!A:L,12,FALSE)","v":"Functie of behandelmogelijkheid van het haarproduct"},{"$f":"VLOOKUP(Tabel3[[#This Row],[GAE ID]],'BES EN'!A:L,5,FALSE)","v":"hairProductFunctionOrTreatmentCode"},"X",null,6548,"Defined values",{"$f":"VLOOKUP(Tabel3[[#This Row],[GAE ID]],'BES EN'!A:L,7,FALSE)","v":"/catalogue_item_notification:catalogueItemNotificationMessage/transaction/documentCommand/catalogue_item_notification:catalogueItemNotification/catalogueItem/tradeItem/tradeItemInformation/extension/*[namespace-uri()='urn:gs1:gdsn:product_information:xsd:3' and local-name()='productInformationModule']/productInformationDetail/beautyPersonalCareHygieneDetail/hairProductInformation/hairProductFunctionOrTreatmentCode"},"Local",0,"ANL1443","-","-","-","-","-","-","-","-","I","-","-","-","M","-","O","P","Q","-","-","-"]
[{"$f":"VLOOKUP(Tabel3[[#This Row],[GAE ID]],'BES NL'!A:L,12,FALSE)","v":"Haartype"},{"$f":"VLOOKUP(Tabel3[[#This Row],[GAE ID]],'BES EN'!A:L,5,FALSE)","v":"targetHairTypeCode"},"X",null,6549,"Defined values",{"$f":"VLOOKUP(Tabel3[[#This Row],[GAE ID]],'BES EN'!A:L,7,FALSE)","v":"/catalogue_item_notification:catalogueItemNotificationMessage/transaction/documentCommand/catalogue_item_notification:catalogueItemNotification/catalogueItem/tradeItem/tradeItemInformation/extension/*[namespace-uri()='urn:gs1:gdsn:product_information:xsd:3' and local-name()='productInformationModule']/productInformationDetail/beautyPersonalCareHygieneDetail/hairProductInformation/targetHairTypeCode"},"Local",0,"ANL1444","-","-","-","-","-","-","-","-","I","-","-","-","M","-","O","P","Q","-","-","-"]
[{"$f":"VLOOKUP(Tabel3[[#This Row],[GAE ID]],'BES NL'!A:L,12,FALSE)","v":"Natuurlijke haarkleurcode"},{"$f":"VLOOKUP(Tabel3[[#This Row],[GAE ID]],'BES EN'!A:L,5,FALSE)","v":"naturalHairColourCode"},"X",null,6550,"Defined values",{"$f":"VLOOKUP(Tabel3[[#This Row],[GAE ID]],'BES EN'!A:L,7,FALSE)","v":"/catalogue_item_notification:catalogueItemNotificationMessage/transaction/documentCommand/catalogue_item_notification:catalogueItemNotification/catalogueItem/tradeItem/tradeItemInformation/extension/*[namespace-uri()='urn:gs1:gdsn:product_information:xsd:3' and local-name()='productInformationModule']/productInformationDetail/beautyPersonalCareHygieneDetail/hairProductInformation/naturalHairColourCode"},"Local",0,"ANL1445","-","-","-","-","-","-","-","-","I","-","-","-","M","-","O","P","Q","-","-","-"]
[{"$f":"VLOOKUP(Tabel3[[#This Row],[GAE ID]],'BES NL'!A:L,12,FALSE)","v":"Functie van de tandheelkundige producten"},{"$f":"VLOOKUP(Tabel3[[#This Row],[GAE ID]],'BES EN'!A:L,5,FALSE)","v":"dentalProductFunctionCode"},"X",null,6546,"Defined values",{"$f":"VLOOKUP(Tabel3[[#This Row],[GAE ID]],'BES EN'!A:L,7,FALSE)","v":"/catalogue_item_notification:catalogueItemNotificationMessage/transaction/documentCommand/catalogue_item_notification:catalogueItemNotification/catalogueItem/tradeItem/tradeItemInformation/extension/*[namespace-uri()='urn:gs1:gdsn:product_information:xsd:3' and local-name()='productInformationModule']/productInformationDetail/beautyPersonalCareHygieneDetail/dentalProductInformation/dentalProductFunctionCode"},"Local",0,"ANL1446","-","-","-","-","-","-","-","-","I","-","-","-","M","-","O","P","Q","-","-","-"]
[{"$f":"VLOOKUP(Tabel3[[#This Row],[GAE ID]],'BES NL'!A:L,12,FALSE)","v":"Tijdstip van gebruik"},{"$f":"VLOOKUP(Tabel3[[#This Row],[GAE ID]],'BES EN'!A:L,5,FALSE)","v":"timeOfApplicationCode"},"X",null,6529,"Defined values",{"$f":"VLOOKUP(Tabel3[[#This Row],[GAE ID]],'BES EN'!A:L,7,FALSE)","v":"/catalogue_item_notification:catalogueItemNotificationMessage/transaction/documentCommand/catalogue_item_notification:catalogueItemNotification/catalogueItem/tradeItem/tradeItemInformation/extension/*[namespace-uri()='urn:gs1:gdsn:product_information:xsd:3' and local-name()='productInformationModule']/productInformationDetail/timeOfApplicationCode"},"Local",0,"ANL1447","-","-","-","-","-","-","-","-","I","-","-","-","M","-","O","P","Q","-","-","-"]
[{"$f":"VLOOKUP(Tabel3[[#This Row],[GAE ID]],'BES NL'!A:L,12,FALSE)","v":"Code geslacht van de doelgroep"},{"$f":"VLOOKUP(Tabel3[[#This Row],[GAE ID]],'BES EN'!A:L,5,FALSE)","v":"targetConsumerGender"},"Optional",null,1560,"Defined values",{"$f":"VLOOKUP(Tabel3[[#This Row],[GAE ID]],'BES EN'!A:L,7,FALSE)","v":"/catalogue_item_notification:catalogueItemNotificationMessage/transaction/documentCommand/catalogue_item_notification:catalogueItemNotification/catalogueItem/tradeItem/tradeItemInformation/extension/*[namespace-uri()='urn:gs1:gdsn:marketing_information:xsd:3' and local-name()='marketingInformationModule']/marketingInformation/targetConsumer/targetConsumerGender"},"Local",0,"ANL1448","-","-","-","-","-","-","G","H","I","J","-","L","M","N","O","P","Q","R","S","T"]
[{"$f":"VLOOKUP(Tabel3[[#This Row],[GAE ID]],'BES NL'!A:L,12,FALSE)","v":"Code leeftijd van de doelgroep"},{"$f":"VLOOKUP(Tabel3[[#This Row],[GAE ID]],'BES EN'!A:L,5,FALSE)","v":"targetConsumerAgeGroupCode"},"X",null,6158,"Defined values",{"$f":"VLOOKUP(Tabel3[[#This Row],[GAE ID]],'BES EN'!A:L,7,FALSE)","v":"/catalogue_item_notification:catalogueItemNotificationMessage/transaction/documentCommand/catalogue_item_notification:catalogueItemNotification/catalogueItem/tradeItem/tradeItemInformation/extension/*[namespace-uri()='urn:gs1:gdsn:marketing_information:xsd:3' and local-name()='marketingInformationModule']/marketingInformation/targetConsumer/targetConsumerAgeGroupCode"},"Local",0,"ANL1449","-","-","-","-","-","-","G","H","I","J","-","L","M","N","O","P","Q","R","S","T"]
[{"$f":"VLOOKUP(Tabel3[[#This Row],[GAE ID]],'BES NL'!A:L,12,FALSE)","v":"Substantie"},{"$f":"VLOOKUP(Tabel3[[#This Row],[GAE ID]],'BES EN'!A:L,5,FALSE)","v":"formationTypeCode"},"X",null,6528,"Defined values",{"$f":"VLOOKUP(Tabel3[[#This Row],[GAE ID]],'BES EN'!A:L,7,FALSE)","v":"/catalogue_item_notification:catalogueItemNotificationMessage/transaction/documentCommand/catalogue_item_notification:catalogueItemNotification/catalogueItem/tradeItem/tradeItemInformation/extension/*[namespace-uri()='urn:gs1:gdsn:product_information:xsd:3' and local-name()='productInformationModule']/productInformationDetail/formationTypeCode"},"Local",0,"ANL1450","-","-","-","-","-","-","-","-","I","-","-","-","M","-","O","P","Q","-","-","-"]
[{"$f":"VLOOKUP(Tabel3[[#This Row],[GAE ID]],'BES NL'!A:L,12,FALSE)","v":"Code voor de kleur van de alcoholische drank"},{"$f":"VLOOKUP(Tabel3[[#This Row],[GAE ID]],'BES EN'!A:L,5,FALSE)","v":"alcoholicBeverageColourCode"},"X",null,6569,"Defined values",{"$f":"VLOOKUP(Tabel3[[#This Row],[GAE ID]],'BES EN'!A:L,7,FALSE)","v":"/catalogue_item_notification:catalogueItemNotificationMessage/transaction/documentCommand/catalogue_item_notification:catalogueItemNotification/catalogueItem/tradeItem/tradeItemInformation/extension/*[namespace-uri()='urn:gs1:gdsn:alcohol_information:xsd:3' and local-name()='alcoholInformationModule']/alcoholInformation/alcoholicBeverageColourCode"},"Local",0,"ANL1462","-","-","-","-","-","-","-","-","-","-","K","-","-","-","-","-","-","-","-","-"]
[{"$f":"VLOOKUP(Tabel3[[#This Row],[GAE ID]],'BES NL'!A:L,12,FALSE)","v":"Type alcoholische drank"},{"$f":"VLOOKUP(Tabel3[[#This Row],[GAE ID]],'BES EN'!A:L,5,FALSE)","v":"alcoholBeverageTypeCode"},"X",null,6314,"Defined values",{"$f":"VLOOKUP(Tabel3[[#This Row],[GAE ID]],'BES EN'!A:L,7,FALSE)","v":"/catalogue_item_notification:catalogueItemNotificationMessage/transaction/documentCommand/catalogue_item_notification:catalogueItemNotification/catalogueItem/tradeItem/tradeItemInformation/extension/*[namespace-uri()='urn:gs1:gdsn:alcohol_information:xsd:3' and local-name()='alcoholInformationModule']/alcoholInformation/alcoholBeverageTypeCode"},"Local",0,"ANL1463","-","-","-","-","-","-","-","-","-","-","K","-","-","-","-","-","-","-","-","-"]
[{"$f":"VLOOKUP(Tabel3[[#This Row],[GAE ID]],'BES NL'!A:L,12,FALSE)","v":"Zoetheid van het alcoholische product"},{"$f":"VLOOKUP(Tabel3[[#This Row],[GAE ID]],'BES EN'!A:L,5,FALSE)","v":"sweetnessLevelOfAlcoholicBeverageCode"},"X",null,6574,"Defined values",{"$f":"VLOOKUP(Tabel3[[#This Row],[GAE ID]],'BES EN'!A:L,7,FALSE)","v":"/catalogue_item_notification:catalogueItemNotificationMessage/transaction/documentCommand/catalogue_item_notification:catalogueItemNotification/catalogueItem/tradeItem/tradeItemInformation/extension/*[namespace-uri()='urn:gs1:gdsn:alcohol_information:xsd:3' and local-name()='alcoholInformationModule']/alcoholInformation/sweetnessLevelOfAlcoholicBeverageCode"},"Local",0,"ANL1464","-","-","-","-","-","-","-","-","-","-","K","-","-","-","-","-","-","-","-","-"]
[{"$f":"VLOOKUP(Tabel3[[#This Row],[GAE ID]],'BES NL'!A:L,12,FALSE)","v":"Code voor oorsprong van wijn"},{"$f":"VLOOKUP(Tabel3[[#This Row],[GAE ID]],'BES EN'!A:L,5,FALSE)","v":"originOfWineCode"},"X",null,6572,"Defined values",{"$f":"VLOOKUP(Tabel3[[#This Row],[GAE ID]],'BES EN'!A:L,7,FALSE)","v":"/catalogue_item_notification:catalogueItemNotificationMessage/transaction/documentCommand/catalogue_item_notification:catalogueItemNotification/catalogueItem/tradeItem/tradeItemInformation/extension/*[namespace-uri()='urn:gs1:gdsn:alcohol_information:xsd:3' and local-name()='alcoholInformationModule']/alcoholInformation/originOfWineCode"},"Local",0,"ANL1465","-","-","-","-","-","-","-","-","-","-","K","-","-","-","-","-","-","-","-","-"]
[{"$f":"VLOOKUP(Tabel3[[#This Row],[GAE ID]],'BES NL'!A:L,12,FALSE)","v":"Code voor druivensoort"},{"$f":"VLOOKUP(Tabel3[[#This Row],[GAE ID]],'BES EN'!A:L,5,FALSE)","v":"grapeVarietyCode"},"X",null,1283,"Defined values",{"$f":"VLOOKUP(Tabel3[[#This Row],[GAE ID]],'BES EN'!A:L,7,FALSE)","v":"/catalogue_item_notification:catalogueItemNotificationMessage/transaction/documentCommand/catalogue_item_notification:catalogueItemNotification/catalogueItem/tradeItem/tradeItemInformation/extension/*[namespace-uri()='urn:gs1:gdsn:food_and_beverage_ingredient:xsd:3' and local-name()='foodAndBeverageIngredientModule']/foodAndBeverageIngredient/grapeVarietyCode"},"Local",0,"ANL1466","-","-","-","-","-","-","-","-","-","-","K","-","-","-","-","-","-","-","-","-"]
[{"$f":"VLOOKUP(Tabel3[[#This Row],[GAE ID]],'BES NL'!A:L,12,FALSE)","v":"Code voor smaakprofiel van de alcoholische drank"},{"$f":"VLOOKUP(Tabel3[[#This Row],[GAE ID]],'BES EN'!A:L,5,FALSE)","v":"productCharacteristicValueCode"},"X",null,2860,"Defined values",{"$f":"VLOOKUP(Tabel3[[#This Row],[GAE ID]],'BES EN'!A:L,7,FALSE)","v":"/catalogue_item_notification:catalogueItemNotificationMessage/transaction/documentCommand/catalogue_item_notification:catalogueItemNotification/catalogueItem/tradeItem/tradeItemInformation/extension/*[namespace-uri()='urn:gs1:gdsn:product_characteristics:xsd:3' and local-name()='productCharacteristicsModule']/productCharacteristics/productCharacteristicValueCode"},"Local",0,"ANL1467","-","-","-","-","-","-","-","-","-","-","K","-","-","-","-","-","-","-","-","-"]
[{"$f":"VLOOKUP(Tabel3[[#This Row],[GAE ID]],'BES NL'!A:L,12,FALSE)","v":"Merkomschrijving"},{"$f":"VLOOKUP(Tabel3[[#This Row],[GAE ID]],'BES EN'!A:L,5,FALSE)","v":"brandMarketingDescription"},"Optional",null,5891,"an..5000",{"$f":"VLOOKUP(Tabel3[[#This Row],[GAE ID]],'BES EN'!A:L,7,FALSE)","v":"/catalogue_item_notification:catalogueItemNotificationMessage/transaction/documentCommand/catalogue_item_notification:catalogueItemNotification/catalogueItem/tradeItem/tradeItemInformation/extension/*[namespace-uri()='urn:gs1:gdsn:marketing_information:xsd:3' and local-name()='marketingInformationModule']/marketingInformation/brandMarketingDescription"},"Local",0,"ANL1469","A","B","C","D","E","F","G","H","I","J","K","-","M","N","O","P","Q","R","S","T"]
[{"$f":"VLOOKUP(Tabel3[[#This Row],[GAE ID]],'BES NL'!A:L,12,FALSE)","v":"Code voor type basissmaak"},{"$f":"VLOOKUP(Tabel3[[#This Row],[GAE ID]],'BES EN'!A:L,5,FALSE)","v":"typeOfBasicTasteCode"},"X",null,6584,"Defined values",{"$f":"VLOOKUP(Tabel3[[#This Row],[GAE ID]],'BES EN'!A:L,7,FALSE)","v":"/catalogue_item_notification:catalogueItemNotificationMessage/transaction/documentCommand/catalogue_item_notification:catalogueItemNotification/catalogueItem/tradeItem/tradeItemInformation/extension/*[namespace-uri()='urn:gs1:gdsn:marketing_information:xsd:3' and local-name()='marketingInformationModule']/marketingInformation/basicTasteInformation/typeOfBasicTasteCode"},"Local",0,"ANL1470","-","-","-","-","-","-","-","-","-","-","K","-","-","-","-","-","-","-","-","-"]
[{"$f":"VLOOKUP(Tabel3[[#This Row],[GAE ID]],'BES NL'!A:L,12,FALSE)","v":"Code voor de sterkte van de basissmaak"},{"$f":"VLOOKUP(Tabel3[[#This Row],[GAE ID]],'BES EN'!A:L,5,FALSE)","v":"strongnessOfBasicTasteCode"},"X",null,6583,"Defined values",{"$f":"VLOOKUP(Tabel3[[#This Row],[GAE ID]],'BES EN'!A:L,7,FALSE)","v":"/catalogue_item_notification:catalogueItemNotificationMessage/transaction/documentCommand/catalogue_item_notification:catalogueItemNotification/catalogueItem/tradeItem/tradeItemInformation/extension/*[namespace-uri()='urn:gs1:gdsn:marketing_information:xsd:3' and local-name()='marketingInformationModule']/marketingInformation/basicTasteInformation/strongnessOfBasicTasteCode"},"Local",0,"ANL1471","-","-","-","-","-","-","-","-","-","-","K","-","-","-","-","-","-","-","-","-"]
[{"$f":"VLOOKUP(Tabel3[[#This Row],[GAE ID]],'BES NL'!A:L,12,FALSE)","v":"Waarde van de bitterheid van bier"},{"$f":"VLOOKUP(Tabel3[[#This Row],[GAE ID]],'BES EN'!A:L,5,FALSE)","v":"bitternessOfBeerMeasurement"},"X",null,6570,"n..15",{"$f":"VLOOKUP(Tabel3[[#This Row],[GAE ID]],'BES EN'!A:L,7,FALSE)","v":"/catalogue_item_notification:catalogueItemNotificationMessage/transaction/documentCommand/catalogue_item_notification:catalogueItemNotification/catalogueItem/tradeItem/tradeItemInformation/extension/*[namespace-uri()='urn:gs1:gdsn:alcohol_information:xsd:3' and local-name()='alcoholInformationModule']/alcoholInformation/bitternessOfBeerMeasurement"},"Local",0,"ANL1472","-","-","-","-","-","-","-","-","-","-","K","-","-","-","-","-","-","-","-","-"]
[{"$f":"VLOOKUP(Tabel3[[#This Row],[GAE ID]],'BES NL'!A:L,12,FALSE)","v":"Eenheid waarde bitterheid van bier "},{"$f":"VLOOKUP(Tabel3[[#This Row],[GAE ID]],'BES EN'!A:L,5,FALSE)","v":"bitternessOfBeerMeasurement/@measurementUnitCode"},"X",null,"n.a.","Defined values",{"$f":"VLOOKUP(Tabel3[[#This Row],[GAE ID]],'BES EN'!A:L,7,FALSE)","v":"/catalogue_item_notification:catalogueItemNotificationMessage/transaction/documentCommand/catalogue_item_notification:catalogueItemNotification/catalogueItem/tradeItem/tradeItemInformation/extension/*[namespace-uri()='urn:gs1:gdsn:alcohol_information:xsd:3' and local-name()='alcoholInformationModule']/alcoholInformation/bitternessOfBeerMeasurement/@codeListVersion"},"Local","Verplicht, als het veld ‘Waarde van de bitterheid van bier’ is ingevuld.","ANL1473","-","-","-","-","-","-","-","-","-","-","K","-","-","-","-","-","-","-","-","-"]
["Informatie over aardappelen, groente en fruit (vers)",null,null,null,null,null,null,null,null,null,"A","B","C","D","E","F","G","H","I","J","K","L","M","N","O","P","Q","R","S","T"]
[{"$f":"VLOOKUP(Tabel3[[#This Row],[GAE ID]],'BES NL'!A:L,12,FALSE)","v":"Groottebeschrijving (AGF)"},{"$f":"VLOOKUP(Tabel3[[#This Row],[GAE ID]],'BES EN'!A:L,5,FALSE)","v":"descriptiveSize"},"Conditional",0,3800,"an..80",{"$f":"VLOOKUP(Tabel3[[#This Row],[GAE ID]],'BES EN'!A:L,7,FALSE)","v":"/catalogue_item_notification:catalogueItemNotificationMessage/transaction/documentCommand/catalogue_item_notification:catalogueItemNotification/catalogueItem/tradeItem/tradeItemInformation/extension/*[namespace-uri()='urn:gs1:gdsn:trade_item_size:xsd:3' and local-name()='tradeItemSizeModule']/size/descriptiveSize"},"Global","Verplicht als het product valt in de categorie groente en fruit.","ANL1195","-","-","-","-","E","-","-","-","-","-","-","-","-","-","-","-","-","-","-","-"]
[{"$f":"VLOOKUP(Tabel3[[#This Row],[GAE ID]],'BES NL'!A:L,12,FALSE)","v":"Groottebeschrijving (AGF) taalcode"},{"$f":"VLOOKUP(Tabel3[[#This Row],[GAE ID]],'BES EN'!A:L,5,FALSE)","v":"descriptiveSize/@languageCode"},"Conditional",0,3801,"Defined values",{"$f":"VLOOKUP(Tabel3[[#This Row],[GAE ID]],'BES EN'!A:L,7,FALSE)","v":"/catalogue_item_notification:catalogueItemNotificationMessage/transaction/documentCommand/catalogue_item_notification:catalogueItemNotification/catalogueItem/tradeItem/tradeItemInformation/extension/*[namespace-uri()='urn:gs1:gdsn:trade_item_size:xsd:3' and local-name()='tradeItemSizeModule']/size/descriptiveSize/@languageCode"},"Global","Verplicht als het veld ‘Groottebeschrijving (AGF)’ is ingevuld bij de consumenteneenheid.","ANL1196","-","-","-","-","E","-","-","-","-","-","-","-","-","-","-","-","-","-","-","-"]
[{"$f":"VLOOKUP(Tabel3[[#This Row],[GAE ID]],'BES NL'!A:L,12,FALSE)","v":"GPC-attribuut"},{"$f":"VLOOKUP(Tabel3[[#This Row],[GAE ID]],'BES EN'!A:L,5,FALSE)","v":"gpcAttributeTypeCode"},"Optional",0,165,"n8",{"$f":"VLOOKUP(Tabel3[[#This Row],[GAE ID]],'BES EN'!A:L,7,FALSE)","v":"/catalogue_item_notification:catalogueItemNotificationMessage/transaction/documentCommand/catalogue_item_notification:catalogueItemNotification/catalogueItem/tradeItem/gDSNTradeItemClassification/gDSNTradeItemClassificationAttribute/gpcAttributeTypeCode"},"Local",0,"ANL1311","-","-","-","-","E","-","-","-","-","-","-","-","-","-","-","-","-","-","-","-"]
[{"$f":"VLOOKUP(Tabel3[[#This Row],[GAE ID]],'BES NL'!A:L,12,FALSE)","v":"GPC-attribuutwaarde"},{"$f":"VLOOKUP(Tabel3[[#This Row],[GAE ID]],'BES EN'!A:L,5,FALSE)","v":"gpcAttributeValueCode"},"Optional",0,166,"n8",{"$f":"VLOOKUP(Tabel3[[#This Row],[GAE ID]],'BES EN'!A:L,7,FALSE)","v":"/catalogue_item_notification:catalogueItemNotificationMessage/transaction/documentCommand/catalogue_item_notification:catalogueItemNotification/catalogueItem/tradeItem/gDSNTradeItemClassification/gDSNTradeItemClassificationAttribute/gpcAttributeValueCode"},"Local","Verplicht indien 'GPC-attribuut' is ingevuld","ANL1312","-","-","-","-","E","-","-","-","-","-","-","-","-","-","-","-","-","-","-","-"]
[{"$f":"VLOOKUP(Tabel3[[#This Row],[GAE ID]],'BES NL'!A:L,12,FALSE)","v":"Type cultuurvariëteit"},{"$f":"VLOOKUP(Tabel3[[#This Row],[GAE ID]],'BES EN'!A:L,5,FALSE)","v":"productCharacteristicValueDescription"},"Optional",0,2862,"an..5000",{"$f":"VLOOKUP(Tabel3[[#This Row],[GAE ID]],'BES EN'!A:L,7,FALSE)","v":"/catalogue_item_notification:catalogueItemNotificationMessage/transaction/documentCommand/catalogue_item_notification:catalogueItemNotification/catalogueItem/tradeItem/tradeItemInformation/extension/*[namespace-uri()='urn:gs1:gdsn:product_characteristics:xsd:3' and local-name()='productCharacteristicsModule']/productCharacteristics/productCharacteristicValueDescription"},"Local",0,"ANL1313","-","-","-","-","E","-","-","-","-","-","-","-","-","-","-","-","-","-","-","-"]
[{"$f":"VLOOKUP(Tabel3[[#This Row],[GAE ID]],'BES NL'!A:L,12,FALSE)","v":"Type cultuurvariëteit taalcode"},{"$f":"VLOOKUP(Tabel3[[#This Row],[GAE ID]],'BES EN'!A:L,5,FALSE)","v":"productCharacteristicValueDescription/@languageCode"},"Optional",0,2863,"Defined values",{"$f":"VLOOKUP(Tabel3[[#This Row],[GAE ID]],'BES EN'!A:L,7,FALSE)","v":"/catalogue_item_notification:catalogueItemNotificationMessage/transaction/documentCommand/catalogue_item_notification:catalogueItemNotification/catalogueItem/tradeItem/tradeItemInformation/extension/*[namespace-uri()='urn:gs1:gdsn:product_characteristics:xsd:3' and local-name()='productCharacteristicsModule']/productCharacteristics/productCharacteristicValueDescription/@languageCode"},"Local","Verplicht indien 'Type cultuurvariëteit' is ingevuld.","ANL1314","-","-","-","-","E","-","-","-","-","-","-","-","-","-","-","-","-","-","-","-"]
[{"$f":"VLOOKUP(Tabel3[[#This Row],[GAE ID]],'BES NL'!A:L,12,FALSE)","v":"Teeltwijze"},{"$f":"VLOOKUP(Tabel3[[#This Row],[GAE ID]],'BES EN'!A:L,5,FALSE)","v":"growingMethodCode"},"Conditional",0,1259,"Defined values",{"$f":"VLOOKUP(Tabel3[[#This Row],[GAE ID]],'BES EN'!A:L,7,FALSE)","v":"/catalogue_item_notification:catalogueItemNotificationMessage/transaction/documentCommand/catalogue_item_notification:catalogueItemNotification/catalogueItem/tradeItem/tradeItemInformation/extension/*[namespace-uri()='urn:gs1:gdsn:farming_and_processing_information:xsd:3' and local-name()='farmingAndProcessingInformationModule']/tradeItemFarmingAndProcessing/growingMethodCode"},"Global","Verplicht als er op het etiket staat hoe het product is gekweekt, gecultiveerd, verbouwd en/of geteeld. Niet verplicht voor vis","ANL1315","A","B","C","-","E","F","-","-","-","-","-","-","-","-","-","-","-","-","-","-"]
[{"$f":"VLOOKUP(Tabel3[[#This Row],[GAE ID]],'BES NL'!A:L,12,FALSE)","v":"Geslacht"},{"$f":"VLOOKUP(Tabel3[[#This Row],[GAE ID]],'BES EN'!A:L,5,FALSE)","v":"genus"},"Conditional","X",2145,"an..70",{"$f":"VLOOKUP(Tabel3[[#This Row],[GAE ID]],'BES EN'!A:L,7,FALSE)","v":"/catalogue_item_notification:catalogueItemNotificationMessage/transaction/documentCommand/catalogue_item_notification:catalogueItemNotification/catalogueItem/tradeItem/tradeItemInformation/extension/*[namespace-uri()='urn:gs1:gdsn:organism_classification:xsd:3' and local-name()='organismClassificationModule']/organismClassification/genus"},"Regional EU","Verplicht voor groente en fruit.","ANL1479","-","-","-","-","E","-","-","-","-","-","-","-","-","-","-","-","-","-","-","-"]
[{"$f":"VLOOKUP(Tabel3[[#This Row],[GAE ID]],'BES NL'!A:L,12,FALSE)","v":"Soortaanduiding"},{"$f":"VLOOKUP(Tabel3[[#This Row],[GAE ID]],'BES EN'!A:L,5,FALSE)","v":"species"},"Conditional","X",2147,"an..70",{"$f":"VLOOKUP(Tabel3[[#This Row],[GAE ID]],'BES EN'!A:L,7,FALSE)","v":"/catalogue_item_notification:catalogueItemNotificationMessage/transaction/documentCommand/catalogue_item_notification:catalogueItemNotification/catalogueItem/tradeItem/tradeItemInformation/extension/*[namespace-uri()='urn:gs1:gdsn:organism_classification:xsd:3' and local-name()='organismClassificationModule']/organismClassification/species"},"Regional EU","Verplicht voor groente en fruit.","ANL1480","-","-","-","-","E","-","-","-","-","-","-","-","-","-","-","-","-","-","-","-"]
[{"$f":"VLOOKUP(Tabel3[[#This Row],[GAE ID]],'BES NL'!A:L,12,FALSE)","v":"Vorm van het product"},{"$f":"VLOOKUP(Tabel3[[#This Row],[GAE ID]],'BES EN'!A:L,5,FALSE)","v":"tradeItemFormCode"},"Conditional","",3531,"Defined values",{"$f":"VLOOKUP(Tabel3[[#This Row],[GAE ID]],'BES EN'!A:L,7,FALSE)","v":"/catalogue_item_notification:catalogueItemNotificationMessage/transaction/documentCommand/catalogue_item_notification:catalogueItemNotification/catalogueItem/tradeItem/tradeItemInformation/extension/*[namespace-uri()='urn:gs1:gdsn:trade_item_description:xsd:3' and local-name()='tradeItemDescriptionModule']/tradeItemDescriptionInformation/tradeItemFormCode"},"Regional EU","Verplicht als het product in de categorie groente en fruit valt en de vorm van het artikel aan de koper moet worden gecommuniceerd.","ANL1487","-","-","-","-","E","-","-","-","-","-","-","-","-","-","-","-","-","-","-","-"]
[{"$f":"VLOOKUP(Tabel3[[#This Row],[GAE ID]],'BES NL'!A:L,12,FALSE)","v":"Beheerorganisatie biologische producten"},{"$f":"VLOOKUP(Tabel3[[#This Row],[GAE ID]],'BES EN'!A:L,5,FALSE)","v":"organicClaimAgencyCode"},"Conditional",null,1246,"Defined values",{"$f":"VLOOKUP(Tabel3[[#This Row],[GAE ID]],'BES EN'!A:L,7,FALSE)","v":"/catalogue_item_notification:catalogueItemNotificationMessage/transaction/documentCommand/catalogue_item_notification:catalogueItemNotification/catalogueItem/tradeItem/tradeItemInformation/extension/*[namespace-uri()='urn:gs1:gdsn:farming_and_processing_information:xsd:3' and local-name()='farmingAndProcessingInformationModule']/tradeItemOrganicInformation/organicClaim/organicClaimAgencyCode"},"Local","Verplicht voor biologische producten","ANL1316","A","B","C","D","E","F","-","-","-","J","K","-","-","N","-","-","-","-","-","-"]
[{"$f":"VLOOKUP(Tabel3[[#This Row],[GAE ID]],'BES NL'!A:L,12,FALSE)","v":"Biologische statuscode"},{"$f":"VLOOKUP(Tabel3[[#This Row],[GAE ID]],'BES EN'!A:L,5,FALSE)","v":"organicTradeItemCode"},"Conditional",null,1248,"Defined values",{"$f":"VLOOKUP(Tabel3[[#This Row],[GAE ID]],'BES EN'!A:L,7,FALSE)","v":"/catalogue_item_notification:catalogueItemNotificationMessage/transaction/documentCommand/catalogue_item_notification:catalogueItemNotification/catalogueItem/tradeItem/tradeItemInformation/extension/*[namespace-uri()='urn:gs1:gdsn:farming_and_processing_information:xsd:3' and local-name()='farmingAndProcessingInformationModule']/tradeItemOrganicInformation/organicClaim/organicTradeItemCode"},"Local","Verplicht voor biologische producten","ANL1317","A","B","C","D","E","F","-","-","-","J","K","-","-","N","-","-","-","-","-","-"]
[{"$f":"VLOOKUP(Tabel3[[#This Row],[GAE ID]],'BES NL'!A:L,12,FALSE)","v":"Herkomstlocatie biologische producten"},{"$f":"VLOOKUP(Tabel3[[#This Row],[GAE ID]],'BES EN'!A:L,5,FALSE)","v":"organicProductPlaceOfFarmingCode"},"Conditional",0,1244,"Defined values",{"$f":"VLOOKUP(Tabel3[[#This Row],[GAE ID]],'BES EN'!A:L,7,FALSE)","v":"/catalogue_item_notification:catalogueItemNotificationMessage/transaction/documentCommand/catalogue_item_notification:catalogueItemNotification/catalogueItem/tradeItem/tradeItemInformation/extension/*[namespace-uri()='urn:gs1:gdsn:farming_and_processing_information:xsd:3' and local-name()='farmingAndProcessingInformationModule']/tradeItemOrganicInformation/organicProductPlaceOfFarmingCode"},"Local","Verplicht voor biologische producten (voedingsmiddelen of diervoeding) als de herkomstlocatie op de verpakking staat.","ANL1413","A","B","C","D","E","F","-","-","-","J","K","-","-","N","-","-","-","-","-","-"]
[{"$f":"VLOOKUP(Tabel3[[#This Row],[GAE ID]],'BES NL'!A:L,12,FALSE)","v":"Chemische behandeling na oogsten"},{"$f":"VLOOKUP(Tabel3[[#This Row],[GAE ID]],'BES EN'!A:L,5,FALSE)","v":"postHarvestTreatmentChemicalCode"},"Optional",0,1264,"Defined values",{"$f":"VLOOKUP(Tabel3[[#This Row],[GAE ID]],'BES EN'!A:L,7,FALSE)","v":"/catalogue_item_notification:catalogueItemNotificationMessage/transaction/documentCommand/catalogue_item_notification:catalogueItemNotification/catalogueItem/tradeItem/tradeItemInformation/extension/*[namespace-uri()='urn:gs1:gdsn:farming_and_processing_information:xsd:3' and local-name()='farmingAndProcessingInformationModule']/tradeItemFarmingAndProcessing/postHarvestTreatmentChemicalCode"},"Local",0,"ANL1318","-","-","-","-","E","-","-","-","-","-","-","-","-","-","-","-","-","-","-","-"]
["Informatie over drogisterijartikelen",null,null,"",null,"","",null,null,null,"A","B","C","D","E","F","G","H","I","J","K","L","M","N","O","P","Q","R","S","T"]
[{"$f":"VLOOKUP(Tabel3[[#This Row],[GAE ID]],'BES NL'!A:L,12,FALSE)","v":"Dosering"},{"$f":"VLOOKUP(Tabel3[[#This Row],[GAE ID]],'BES EN'!A:L,5,FALSE)","v":"dosageRecommendation"},"Conditional","X",2707,"an..2500",{"$f":"VLOOKUP(Tabel3[[#This Row],[GAE ID]],'BES EN'!A:L,7,FALSE)","v":"/catalogue_item_notification:catalogueItemNotificationMessage/transaction/documentCommand/catalogue_item_notification:catalogueItemNotification/catalogueItem/tradeItem/tradeItemInformation/extension/*[namespace-uri()='urn:gs1:gdsn:pharmaceutical_item_information:xsd:3' and local-name()='pharmaceuticalItemInformationModule']/pharmaceuticalItemInformation/dosage/dosageRecommendation"},"Local","Verplicht voor bijzondere voedingsmiddelen, medische hulpmiddelen, voedingssupplementen, zelfzorggeneesmiddelen, gezondheidsproducten, cosmetica en persoonlijke verzorgingsproducten indien op de verpakking. Niet voor België.","ANL1258","-","-","-","-","-","-","-","-","I","-","-","-","M","N","O","P","Q","-","-","T"]
[{"$f":"VLOOKUP(Tabel3[[#This Row],[GAE ID]],'BES NL'!A:L,12,FALSE)","v":"Dosering taalcode"},{"$f":"VLOOKUP(Tabel3[[#This Row],[GAE ID]],'BES EN'!A:L,5,FALSE)","v":"dosageRecommendation/@languageCode"},"Conditional","X",2708,"Defined values",{"$f":"VLOOKUP(Tabel3[[#This Row],[GAE ID]],'BES EN'!A:L,7,FALSE)","v":"/catalogue_item_notification:catalogueItemNotificationMessage/transaction/documentCommand/catalogue_item_notification:catalogueItemNotification/catalogueItem/tradeItem/tradeItemInformation/extension/*[namespace-uri()='urn:gs1:gdsn:pharmaceutical_item_information:xsd:3' and local-name()='pharmaceuticalItemInformationModule']/pharmaceuticalItemInformation/dosage/dosageRecommendation/@languageCode"},"Local","Verplicht als het veld ‘Dosering’ is ingevuld bij de consumenteneenheid.","ANL1259","-","-","-","-","-","-","-","-","I","-","-","-","M","N","O","P","Q","-","-","T"]
[{"$f":"VLOOKUP(Tabel3[[#This Row],[GAE ID]],'BES NL'!A:L,12,FALSE)","v":"Waarschuwingen en gebruiksbeperkingen"},{"$f":"VLOOKUP(Tabel3[[#This Row],[GAE ID]],'BES EN'!A:L,5,FALSE)","v":"drugSideEffectsAndWarnings"},"Conditional","X",2682,"an..2500",{"$f":"VLOOKUP(Tabel3[[#This Row],[GAE ID]],'BES EN'!A:L,7,FALSE)","v":"/catalogue_item_notification:catalogueItemNotificationMessage/transaction/documentCommand/catalogue_item_notification:catalogueItemNotification/catalogueItem/tradeItem/tradeItemInformation/extension/*[namespace-uri()='urn:gs1:gdsn:pharmaceutical_item_information:xsd:3' and local-name()='pharmaceuticalItemInformationModule']/pharmaceuticalItemInformation/drugSideEffectsAndWarnings"},"Local","Verplicht voor bijzondere voedingsmiddelen, medische hulpmiddelen, voedingssupplementen, zelfzorggeneesmiddelen, gezondheidsproducten, cosmetica en persoonlijke verzorgingsproducten als dit op het etiket/de verpakking staat. Niet voor België.","ANL1260","-","-","-","-","-","-","-","-","I","-","-","-","M","N","O","P","Q","-","-","T"]
[{"$f":"VLOOKUP(Tabel3[[#This Row],[GAE ID]],'BES NL'!A:L,12,FALSE)","v":"Waarschuwingen en gebruiksbeperkingen taalcode"},{"$f":"VLOOKUP(Tabel3[[#This Row],[GAE ID]],'BES EN'!A:L,5,FALSE)","v":"drugSideEffectsAndWarnings/@languageCode"},"Conditional","X",2683,"Defined values",{"$f":"VLOOKUP(Tabel3[[#This Row],[GAE ID]],'BES EN'!A:L,7,FALSE)","v":"/catalogue_item_notification:catalogueItemNotificationMessage/transaction/documentCommand/catalogue_item_notification:catalogueItemNotification/catalogueItem/tradeItem/tradeItemInformation/extension/*[namespace-uri()='urn:gs1:gdsn:pharmaceutical_item_information:xsd:3' and local-name()='pharmaceuticalItemInformationModule']/pharmaceuticalItemInformation/drugSideEffectsAndWarnings/@languageCode"},"Local","Verplicht als het veld ‘Waarschuwingen en gebruiksbeperkingen’ is ingevuld bij de consumenteneenheid.","ANL1261","-","-","-","-","-","-","-","-","I","-","-","-","M","N","O","P","Q","-","-","T"]
[{"$f":"VLOOKUP(Tabel3[[#This Row],[GAE ID]],'BES NL'!A:L,12,FALSE)","v":"Samenstelling/ingrediënten"},{"$f":"VLOOKUP(Tabel3[[#This Row],[GAE ID]],'BES EN'!A:L,5,FALSE)","v":"nonfoodIngredientStatement"},"Conditional","X",1623,"an..5000",{"$f":"VLOOKUP(Tabel3[[#This Row],[GAE ID]],'BES EN'!A:L,7,FALSE)","v":"/catalogue_item_notification:catalogueItemNotificationMessage/transaction/documentCommand/catalogue_item_notification:catalogueItemNotification/catalogueItem/tradeItem/tradeItemInformation/extension/*[namespace-uri()='urn:gs1:gdsn:nonfood_ingredient:xsd:3' and local-name()='nonfoodIngredientModule']/nonfoodIngredientStatement"},"Regional EU","Verplicht voor zelfzorggeneesmiddelen, medische hulpmiddelen, voedingssupplementen, gezondheidsproducten, cosmetica en persoonlijke verzorgingsproducten, detergenten en biociden als dit op de verpakking staat.","ANL1262","-","-","-","-","-","-","G","-","I","-","-","L","M","N","O","P","Q","-","-","T"]
[{"$f":"VLOOKUP(Tabel3[[#This Row],[GAE ID]],'BES NL'!A:L,12,FALSE)","v":"Samenstelling/ingrediënten taalcode"},{"$f":"VLOOKUP(Tabel3[[#This Row],[GAE ID]],'BES EN'!A:L,5,FALSE)","v":"nonfoodIngredientStatement/@languageCode"},"Conditional","X",1624,"Defined values",{"$f":"VLOOKUP(Tabel3[[#This Row],[GAE ID]],'BES EN'!A:L,7,FALSE)","v":"/catalogue_item_notification:catalogueItemNotificationMessage/transaction/documentCommand/catalogue_item_notification:catalogueItemNotification/catalogueItem/tradeItem/tradeItemInformation/extension/*[namespace-uri()='urn:gs1:gdsn:nonfood_ingredient:xsd:3' and local-name()='nonfoodIngredientModule']/nonfoodIngredientStatement/@languageCode"},"Regional EU","Verplicht als het veld ‘Samenstelling/Ingrediënten’ is ingevuld bij de consumenteneenheid.","ANL1263","-","-","-","-","-","-","G","-","I","-","-","L","M","N","O","P","Q","-","-","T"]
[{"$f":"VLOOKUP(Tabel3[[#This Row],[GAE ID]],'BES NL'!A:L,12,FALSE)","v":"Samenstelling/ingrediënten volgnummer"},{"$f":"VLOOKUP(Tabel3[[#This Row],[GAE ID]],'BES EN'!A:L,5,FALSE)","v":"nonfoodIngredientStatement/@sequenceNumber"},"Conditional",0,1627,"Non-negative integer",{"$f":"VLOOKUP(Tabel3[[#This Row],[GAE ID]],'BES EN'!A:L,7,FALSE)","v":"/catalogue_item_notification:catalogueItemNotificationMessage/transaction/documentCommand/catalogue_item_notification:catalogueItemNotification/catalogueItem/tradeItem/tradeItemInformation/extension/*[namespace-uri()='urn:gs1:gdsn:nonfood_ingredient:xsd:3' and local-name()='nonfoodIngredientModule']/nonfoodIngredientStatement/@sequenceNumber"},"Regional EU","Verplicht als het veld 'Samenstelling/ingrediënten' meerdere keren is ingevuld voor dezelfde taalcode.","ANL1412","-","-","-","-","-","-","G","-","I","-","-","L","M","N","O","P","Q","-","-","T"]
[{"$f":"VLOOKUP(Tabel3[[#This Row],[GAE ID]],'BES NL'!A:L,12,FALSE)","v":"Afleverstatus"},{"$f":"VLOOKUP(Tabel3[[#This Row],[GAE ID]],'BES EN'!A:L,5,FALSE)","v":"consumerSalesConditionCode"},"Conditional","X",3325,"Defined values",{"$f":"VLOOKUP(Tabel3[[#This Row],[GAE ID]],'BES EN'!A:L,7,FALSE)","v":"/catalogue_item_notification:catalogueItemNotificationMessage/transaction/documentCommand/catalogue_item_notification:catalogueItemNotification/catalogueItem/tradeItem/tradeItemInformation/extension/*[namespace-uri()='urn:gs1:gdsn:sales_information:xsd:3' and local-name()='salesInformationModule']/salesInformation/consumerSalesConditionCode"},"Local","Verplicht voor zelfzorggeneesmiddelen. Optioneel voor de Belgische doelmarkt.","ANL1264","-","-","-","-","-","-","-","-","-","-","-","-","M","-","-","-","-","-","-","-"]
[{"$f":"VLOOKUP(Tabel3[[#This Row],[GAE ID]],'BES NL'!A:L,12,FALSE)","v":"Toedieningsvorm"},{"$f":"VLOOKUP(Tabel3[[#This Row],[GAE ID]],'BES EN'!A:L,5,FALSE)","v":"dosageFormTypeCodeReference"},"Conditional","X",2699,"an..80",{"$f":"VLOOKUP(Tabel3[[#This Row],[GAE ID]],'BES EN'!A:L,7,FALSE)","v":"/catalogue_item_notification:catalogueItemNotificationMessage/transaction/documentCommand/catalogue_item_notification:catalogueItemNotification/catalogueItem/tradeItem/tradeItemInformation/extension/*[namespace-uri()='urn:gs1:gdsn:pharmaceutical_item_information:xsd:3' and local-name()='pharmaceuticalItemInformationModule']/pharmaceuticalItemInformation/dosage/dosageFormTypeCodeReference"},"Local","Verplicht voor bijzondere voedingsmiddelen, medische hulpmiddelen, voedingssupplementen en zelfzorggeneesmiddelen als dit op de verpakking van de consumenteneenheid staat. Optioneel voor de Belgische doelmarkt.","ANL1265","-","-","-","-","-","-","-","-","-","-","-","-","M","N","O","P","Q","-","-","T"]
[{"$f":"VLOOKUP(Tabel3[[#This Row],[GAE ID]],'BES NL'!A:L,12,FALSE)","v":"Type verordening/richtlijn"},{"$f":"VLOOKUP(Tabel3[[#This Row],[GAE ID]],'BES EN'!A:L,5,FALSE)","v":"regulationTypeCode"},"Conditional","X",3070,"Defined values",{"$f":"VLOOKUP(Tabel3[[#This Row],[GAE ID]],'BES EN'!A:L,7,FALSE)","v":"/catalogue_item_notification:catalogueItemNotificationMessage/transaction/documentCommand/catalogue_item_notification:catalogueItemNotification/catalogueItem/tradeItem/tradeItemInformation/extension/*[namespace-uri()='urn:gs1:gdsn:regulated_trade_item:xsd:3' and local-name()='regulatedTradeItemModule']/regulatoryInformation/regulationTypeCode"},"Regional EU","Verplicht als het onder bepaalde regelgeving valt. Voor medische hulpmiddelen, diervoeding, producten die precursoren voor explosieven bevatten, als het veld ‘Gevaarlijke stoffen classificatiesysteem’ is ingevuld en niet de waarde ‘ZNA’ heeft en biociden.","ANL1266","A","B","C","D","E","F","G","H","I","J","K","L","M","N","O","P","Q","R","S","T"]
[{"$f":"VLOOKUP(Tabel3[[#This Row],[GAE ID]],'BES NL'!A:L,12,FALSE)","v":"Identificatie aangemelde instantie"},{"$f":"VLOOKUP(Tabel3[[#This Row],[GAE ID]],'BES EN'!A:L,5,FALSE)","v":"regulatoryPermitIdentification"},"Conditional","X",3087,"an..200",{"$f":"VLOOKUP(Tabel3[[#This Row],[GAE ID]],'BES EN'!A:L,7,FALSE)","v":"/catalogue_item_notification:catalogueItemNotificationMessage/transaction/documentCommand/catalogue_item_notification:catalogueItemNotification/catalogueItem/tradeItem/tradeItemInformation/extension/*[namespace-uri()='urn:gs1:gdsn:regulated_trade_item:xsd:3' and local-name()='regulatedTradeItemModule']/regulatoryInformation/permitIdentification/regulatoryPermitIdentification"},"Regional EU","Verplicht voor medische hulpmiddelen klasse IIa, IIb en III (optioneel voor de Belgische doelmarkt), diervoeding en biociden.","ANL1267","-","-","-","-","-","-","G","-","-","J","-","-","-","-","-","-","Q","-","-","-"]
[{"$f":"VLOOKUP(Tabel3[[#This Row],[GAE ID]],'BES NL'!A:L,12,FALSE)","v":"Toelatingsnummer einddatum"},{"$f":"VLOOKUP(Tabel3[[#This Row],[GAE ID]],'BES EN'!A:L,5,FALSE)","v":"permitEndDateTime"},"X",null,3085,"DateTime",{"$f":"VLOOKUP(Tabel3[[#This Row],[GAE ID]],'BES EN'!A:L,7,FALSE)","v":"/catalogue_item_notification:catalogueItemNotificationMessage/transaction/documentCommand/catalogue_item_notification:catalogueItemNotification/catalogueItem/tradeItem/tradeItemInformation/extension/*[namespace-uri()='urn:gs1:gdsn:regulated_trade_item:xsd:3' and local-name()='regulatedTradeItemModule']/regulatoryInformation/permitIdentification/permitEndDateTime"},"Local","Verplicht voor biociden indien beschikbaar","ANL1398","-","-","-","-","-","-","G","-","-","J","-","-","-","-","-","-","Q","-","-","-"]
[{"$f":"VLOOKUP(Tabel3[[#This Row],[GAE ID]],'BES NL'!A:L,12,FALSE)","v":"Leeftijdsindicatie vanaf "},{"$f":"VLOOKUP(Tabel3[[#This Row],[GAE ID]],'BES EN'!A:L,5,FALSE)","v":"healthcareItemMinimumUsageAge"},"Conditional","X",5924,"n..15",{"$f":"VLOOKUP(Tabel3[[#This Row],[GAE ID]],'BES EN'!A:L,7,FALSE)","v":"/catalogue_item_notification:catalogueItemNotificationMessage/transaction/documentCommand/catalogue_item_notification:catalogueItemNotification/catalogueItem/tradeItem/tradeItemInformation/extension/*[namespace-uri()='urn:gs1:gdsn:healthcare_item_information:xsd:3' and local-name()='healthcareItemInformationModule']/healthcareItemInformation/healthcareItemMinimumUsageAge"},"Local","Verplicht voor zelfzorggeneesmiddelen als het op de verpakking staat.","ANL1319","-","-","-","-","-","-","-","-","-","-","-","-","M","-","-","-","-","-","-","-"]
[{"$f":"VLOOKUP(Tabel3[[#This Row],[GAE ID]],'BES NL'!A:L,12,FALSE)","v":"Eenheid leeftijdsindicatie vanaf "},{"$f":"VLOOKUP(Tabel3[[#This Row],[GAE ID]],'BES EN'!A:L,5,FALSE)","v":"healthcareItemMinimumUsageAge/@timeMeasurementUnitCode"},"Conditional","X",5925,"Defined values",{"$f":"VLOOKUP(Tabel3[[#This Row],[GAE ID]],'BES EN'!A:L,7,FALSE)","v":"/catalogue_item_notification:catalogueItemNotificationMessage/transaction/documentCommand/catalogue_item_notification:catalogueItemNotification/catalogueItem/tradeItem/tradeItemInformation/extension/*[namespace-uri()='urn:gs1:gdsn:healthcare_item_information:xsd:3' and local-name()='healthcareItemInformationModule']/healthcareItemInformation/healthcareItemMinimumUsageAge/@timeMeasurementUnitCode"},"Local","Verplicht als het veld 'Leeftijdsindicatie vanaf' is ingevuld bij de consumenteneenheid. ","ANL1320","-","-","-","-","-","-","-","-","-","-","-","-","M","-","-","-","-","-","-","-"]
[{"$f":"VLOOKUP(Tabel3[[#This Row],[GAE ID]],'BES NL'!A:L,12,FALSE)","v":"Leeftijdsindicatie tot"},{"$f":"VLOOKUP(Tabel3[[#This Row],[GAE ID]],'BES EN'!A:L,5,FALSE)","v":"healthcareItemMaximumUsageAge"},"Conditional","X",5922,"n..15",{"$f":"VLOOKUP(Tabel3[[#This Row],[GAE ID]],'BES EN'!A:L,7,FALSE)","v":"/catalogue_item_notification:catalogueItemNotificationMessage/transaction/documentCommand/catalogue_item_notification:catalogueItemNotification/catalogueItem/tradeItem/tradeItemInformation/extension/*[namespace-uri()='urn:gs1:gdsn:healthcare_item_information:xsd:3' and local-name()='healthcareItemInformationModule']/healthcareItemInformation/healthcareItemMaximumUsageAge"},"Local","Verplicht voor zelfzorggeneesmiddelen als het op het etiket of de verpakking staat.","ANL1321","-","-","-","-","-","-","-","-","-","-","-","-","M","-","-","-","-","-","-","-"]
[{"$f":"VLOOKUP(Tabel3[[#This Row],[GAE ID]],'BES NL'!A:L,12,FALSE)","v":"Eenheid leeftijdsindicatie tot"},{"$f":"VLOOKUP(Tabel3[[#This Row],[GAE ID]],'BES EN'!A:L,5,FALSE)","v":"healthcareItemMaximumUsageAge/@timeMeasurementUnitCode"},"Conditional","X",5923,"Defined values",{"$f":"VLOOKUP(Tabel3[[#This Row],[GAE ID]],'BES EN'!A:L,7,FALSE)","v":"/catalogue_item_notification:catalogueItemNotificationMessage/transaction/documentCommand/catalogue_item_notification:catalogueItemNotification/catalogueItem/tradeItem/tradeItemInformation/extension/*[namespace-uri()='urn:gs1:gdsn:healthcare_item_information:xsd:3' and local-name()='healthcareItemInformationModule']/healthcareItemInformation/healthcareItemMaximumUsageAge/@timeMeasurementUnitCode"},"Local","Verplicht als het veld 'Leeftijdsindicatie tot' is ingevuld bij de consumenteneenheid. ","ANL1322","-","-","-","-","-","-","-","-","-","-","-","-","M","-","-","-","-","-","-","-"]
[{"$f":"VLOOKUP(Tabel3[[#This Row],[GAE ID]],'BES NL'!A:L,12,FALSE)","v":"Aanvulling leeftijdsindicatie"},{"$f":"VLOOKUP(Tabel3[[#This Row],[GAE ID]],'BES EN'!A:L,5,FALSE)","v":"healthcareItemUsageAgeDescription"},"Conditional","X",5926,"an..500",{"$f":"VLOOKUP(Tabel3[[#This Row],[GAE ID]],'BES EN'!A:L,7,FALSE)","v":"/catalogue_item_notification:catalogueItemNotificationMessage/transaction/documentCommand/catalogue_item_notification:catalogueItemNotification/catalogueItem/tradeItem/tradeItemInformation/extension/*[namespace-uri()='urn:gs1:gdsn:healthcare_item_information:xsd:3' and local-name()='healthcareItemInformationModule']/healthcareItemInformation/healthcareItemUsageAgeDescription"},"Local","Verplicht voor zelfzorggeneesmiddelen als het op de verpakking staat.","ANL1323","-","-","-","-","-","-","-","-","-","-","-","-","M","-","-","-","-","-","-","-"]
[{"$f":"VLOOKUP(Tabel3[[#This Row],[GAE ID]],'BES NL'!A:L,12,FALSE)","v":"Aanvulling leeftijdsindicatie taalcode"},{"$f":"VLOOKUP(Tabel3[[#This Row],[GAE ID]],'BES EN'!A:L,5,FALSE)","v":"healthcareItemUsageAgeDescription/@languageCode"},"Conditional","X",5927,"Defined values",{"$f":"VLOOKUP(Tabel3[[#This Row],[GAE ID]],'BES EN'!A:L,7,FALSE)","v":"/catalogue_item_notification:catalogueItemNotificationMessage/transaction/documentCommand/catalogue_item_notification:catalogueItemNotification/catalogueItem/tradeItem/tradeItemInformation/extension/*[namespace-uri()='urn:gs1:gdsn:healthcare_item_information:xsd:3' and local-name()='healthcareItemInformationModule']/healthcareItemInformation/healthcareItemUsageAgeDescription/@languageCode"},"Local","Verplicht als het veld 'Aanvulling leeftijdsindicatie' is ingevuld bij de consumenteneenheid. ","ANL1324","-","-","-","-","-","-","-","-","-","-","-","-","M","-","-","-","-","-","-","-"]
[{"$f":"VLOOKUP(Tabel3[[#This Row],[GAE ID]],'BES NL'!A:L,12,FALSE)","v":"Te gebruiken tijdens zwangerschap"},{"$f":"VLOOKUP(Tabel3[[#This Row],[GAE ID]],'BES EN'!A:L,5,FALSE)","v":"usageDuringPregnancyCode"},"Conditional","X",5929,"Defined values",{"$f":"VLOOKUP(Tabel3[[#This Row],[GAE ID]],'BES EN'!A:L,7,FALSE)","v":"/catalogue_item_notification:catalogueItemNotificationMessage/transaction/documentCommand/catalogue_item_notification:catalogueItemNotification/catalogueItem/tradeItem/tradeItemInformation/extension/*[namespace-uri()='urn:gs1:gdsn:healthcare_item_information:xsd:3' and local-name()='healthcareItemInformationModule']/healthcareItemInformation/usageDuringPregnancyCode"},"Local","Verplicht voor zelfzorggeneesmiddelen want retailers willen dit altijd ontvangen.","ANL1325","-","-","-","-","-","-","-","-","-","-","-","-","M","-","-","-","-","-","-","-"]
[{"$f":"VLOOKUP(Tabel3[[#This Row],[GAE ID]],'BES NL'!A:L,12,FALSE)","v":"Te gebruiken tijdens borstvoeding"},{"$f":"VLOOKUP(Tabel3[[#This Row],[GAE ID]],'BES EN'!A:L,5,FALSE)","v":"usageDuringBreastFeedingCode"},"Conditional","X",5928,"Defined values",{"$f":"VLOOKUP(Tabel3[[#This Row],[GAE ID]],'BES EN'!A:L,7,FALSE)","v":"/catalogue_item_notification:catalogueItemNotificationMessage/transaction/documentCommand/catalogue_item_notification:catalogueItemNotification/catalogueItem/tradeItem/tradeItemInformation/extension/*[namespace-uri()='urn:gs1:gdsn:healthcare_item_information:xsd:3' and local-name()='healthcareItemInformationModule']/healthcareItemInformation/usageDuringBreastFeedingCode"},"Local","Verplicht voor zelfzorggeneesmiddelen want retailers willen dit altijd ontvangen.","ANL1326","-","-","-","-","-","-","-","-","-","-","-","-","M","-","-","-","-","-","-","-"]
[{"$f":"VLOOKUP(Tabel3[[#This Row],[GAE ID]],'BES NL'!A:L,12,FALSE)","v":"Aanvullend classificatiesysteem"},{"$f":"VLOOKUP(Tabel3[[#This Row],[GAE ID]],'BES EN'!A:L,5,FALSE)","v":"additionalTradeItemClassificationSystemCode"},"Conditional",0,171,"Defined values",{"$f":"VLOOKUP(Tabel3[[#This Row],[GAE ID]],'BES EN'!A:L,7,FALSE)","v":"/catalogue_item_notification:catalogueItemNotificationMessage/transaction/documentCommand/catalogue_item_notification:catalogueItemNotification/catalogueItem/tradeItem/gDSNTradeItemClassification/additionalTradeItemClassification/additionalTradeItemClassificationSystemCode"},"Local","Verplicht als het veld 'Aanvullend classificatiesysteem waarde' is ingevuld bij de consumenteneenheid. ","ANL1328","-","-","-","-","-","-","G","-","I","-","-","L","M","-","-","-","Q","-","-","-"]
[{"$f":"VLOOKUP(Tabel3[[#This Row],[GAE ID]],'BES NL'!A:L,12,FALSE)","v":"Aanvullend classificatiesysteem waarde"},{"$f":"VLOOKUP(Tabel3[[#This Row],[GAE ID]],'BES EN'!A:L,5,FALSE)","v":"additionalTradeItemClassificationCodeValue"},"Conditional",0,173,"an..80",{"$f":"VLOOKUP(Tabel3[[#This Row],[GAE ID]],'BES EN'!A:L,7,FALSE)","v":"/catalogue_item_notification:catalogueItemNotificationMessage/transaction/documentCommand/catalogue_item_notification:catalogueItemNotification/catalogueItem/tradeItem/gDSNTradeItemClassification/additionalTradeItemClassification/additionalTradeItemClassificationValue/additionalTradeItemClassificationCodeValue"},"Local","Verplicht voor zelfzorggeneesmiddelen en medische hulpmiddelen.","ANL1329","-","-","-","-","-","-","G","-","I","-","-","L","M","-","-","-","Q","-","-","-"]
[{"$f":"VLOOKUP(Tabel3[[#This Row],[GAE ID]],'BES NL'!A:L,12,FALSE)","v":"Code karakteristieke functionaliteit"},{"$f":"VLOOKUP(Tabel3[[#This Row],[GAE ID]],'BES EN'!A:L,5,FALSE)","v":"tradeItemFeatureCodeReference"},"Conditional","X",1514,"an..80",{"$f":"VLOOKUP(Tabel3[[#This Row],[GAE ID]],'BES EN'!A:L,7,FALSE)","v":"/catalogue_item_notification:catalogueItemNotificationMessage/transaction/documentCommand/catalogue_item_notification:catalogueItemNotification/catalogueItem/tradeItem/tradeItemInformation/extension/*[namespace-uri()='urn:gs1:gdsn:marketing_information:xsd:3' and local-name()='marketingInformationModule']/marketingInformation/tradeItemFeatureCodeReference"},"Local","Verplicht voor medische hulpmiddelen als op de verpakking staat (in tekst of als logo) dat het een steriel product betreft en voor lampen als op de verpakking staat aangegeven dat de lamp gedimd kan worden.","ANL1365","-","-","-","-","-","-","-","-","-","-","-","-","-","-","-","-","Q","-","S","-"]
[{"$f":"VLOOKUP(Tabel3[[#This Row],[GAE ID]],'BES NL'!A:L,12,FALSE)","v":"Type sterilisatie gebruikt door fabrikant"},{"$f":"VLOOKUP(Tabel3[[#This Row],[GAE ID]],'BES EN'!A:L,5,FALSE)","v":"initialManufacturerSterilisationCode"},"Conditional",0,1593,"an..80",{"$f":"VLOOKUP(Tabel3[[#This Row],[GAE ID]],'BES EN'!A:L,7,FALSE)","v":"/catalogue_item_notification:catalogueItemNotificationMessage/transaction/documentCommand/catalogue_item_notification:catalogueItemNotification/catalogueItem/tradeItem/tradeItemInformation/extension/*[namespace-uri()='urn:gs1:gdsn:medical_device_trade_item:xsd:3' and local-name()='medicalDeviceTradeItemModule']/medicalDeviceInformation/tradeItemSterilityInformation/initialManufacturerSterilisationCode"},"Local","Verplicht voor medische hulpmiddelen als de sterilisatiemethode op de verpakking staat.","ANL1366","-","-","-","-","-","-","-","-","-","-","-","-","-","-","-","-","Q","-","-","-"]
[{"$f":"VLOOKUP(Tabel3[[#This Row],[GAE ID]],'BES NL'!A:L,12,FALSE)","v":"Zonbeschermingsfactor (SPF)"},{"$f":"VLOOKUP(Tabel3[[#This Row],[GAE ID]],'BES EN'!A:L,5,FALSE)","v":"sunProtectionFactor"},"Conditional","X",273,"an..4",{"$f":"VLOOKUP(Tabel3[[#This Row],[GAE ID]],'BES EN'!A:L,7,FALSE)","v":"/catalogue_item_notification:catalogueItemNotificationMessage/transaction/documentCommand/catalogue_item_notification:catalogueItemNotification/catalogueItem/tradeItem/tradeItemInformation/extension/*[namespace-uri()='urn:gs1:gdsn:health_related_information:xsd:3' and local-name()='healthRelatedInformationModule']/healthRelatedInformation/sunProtectionFactor"},"Local","Verplicht als de zonbeschermingsfactor op de verpakking staat.","ANL1369","-","-","-","-","-","-","-","-","I","-","-","-","M","-","-","P","Q","-","-","T"]
[{"$f":"VLOOKUP(Tabel3[[#This Row],[GAE ID]],'BES NL'!A:L,12,FALSE)","v":"Houdbaarheid voor een klant na opening"},{"$f":"VLOOKUP(Tabel3[[#This Row],[GAE ID]],'BES EN'!A:L,5,FALSE)","v":"itemPeriodSafeToUseAfterOpening"},"Conditional","X",3709,"n..15",{"$f":"VLOOKUP(Tabel3[[#This Row],[GAE ID]],'BES EN'!A:L,7,FALSE)","v":"/catalogue_item_notification:catalogueItemNotificationMessage/transaction/documentCommand/catalogue_item_notification:catalogueItemNotification/catalogueItem/tradeItem/tradeItemInformation/extension/*[namespace-uri()='urn:gs1:gdsn:trade_item_lifespan:xsd:3' and local-name()='tradeItemLifespanModule']/tradeItemLifespan/itemPeriodSafeToUseAfterOpening"},"Local","Verplicht voor bijzondere voedingsmiddelen, medische hulpmiddelen, voedingssupplementen, zelfzorggeneesmiddelen, gezondheidsproducten, cosmetica en persoonlijke verzorgingsproducten als dit op het etiket/de verpakking van de consumenteneenheid staat.","ANL1370","-","-","-","-","-","-","-","-","I","-","-","-","M","N","O","P","Q","-","-","T"]
[{"$f":"VLOOKUP(Tabel3[[#This Row],[GAE ID]],'BES NL'!A:L,12,FALSE)","v":"Houdbaarheid voor een klant na opening eenheid"},{"$f":"VLOOKUP(Tabel3[[#This Row],[GAE ID]],'BES EN'!A:L,5,FALSE)","v":"itemPeriodSafeToUseAfterOpening/@timeMeasurementUnitCode"},"Conditional",0,3710,"Defined values",{"$f":"VLOOKUP(Tabel3[[#This Row],[GAE ID]],'BES EN'!A:L,7,FALSE)","v":"/catalogue_item_notification:catalogueItemNotificationMessage/transaction/documentCommand/catalogue_item_notification:catalogueItemNotification/catalogueItem/tradeItem/tradeItemInformation/extension/*[namespace-uri()='urn:gs1:gdsn:trade_item_lifespan:xsd:3' and local-name()='tradeItemLifespanModule']/tradeItemLifespan/itemPeriodSafeToUseAfterOpening/@timeMeasurementUnitCode"},"Local","Verplicht als het veld ‘Houdbaarheid voor een klant na opening’ is ingevuld bij de consumenteneenheid.","ANL1371","-","-","-","-","-","-","-","-","I","-","-","-","M","N","O","P","Q","-","-","T"]
["Diervoeding",null,null,null,null,null,null,null,null,null,"A","B","C","D","E","F","G","H","I","J","K","L","M","N","O","P","Q","R","S","T"]
[{"$f":"VLOOKUP(Tabel3[[#This Row],[GAE ID]],'BES NL'!A:L,12,FALSE)","v":"Soort diervoeder"},{"$f":"VLOOKUP(Tabel3[[#This Row],[GAE ID]],'BES EN'!A:L,5,FALSE)","v":"feedType"},"Conditional","X",388,"Defined values",{"$f":"VLOOKUP(Tabel3[[#This Row],[GAE ID]],'BES EN'!A:L,7,FALSE)","v":"/catalogue_item_notification:catalogueItemNotificationMessage/transaction/documentCommand/catalogue_item_notification:catalogueItemNotification/catalogueItem/tradeItem/tradeItemInformation/extension/*[namespace-uri()='urn:gs1:gdsn:animal_feeding:xsd:3' and local-name()='animalFeedingModule']/feedType"},"Regional EU","Verplicht voor diervoeder","ANL1288","-","-","-","-","-","-","-","-","-","J","-","-","-","-","-","-","-","-","-","-"]
[{"$f":"VLOOKUP(Tabel3[[#This Row],[GAE ID]],'BES NL'!A:L,12,FALSE)","v":"Voer bedoeld voor diersoort"},{"$f":"VLOOKUP(Tabel3[[#This Row],[GAE ID]],'BES EN'!A:L,5,FALSE)","v":"targetedConsumptionBy"},"Conditional","X",389,"Defined values",{"$f":"VLOOKUP(Tabel3[[#This Row],[GAE ID]],'BES EN'!A:L,7,FALSE)","v":"/catalogue_item_notification:catalogueItemNotificationMessage/transaction/documentCommand/catalogue_item_notification:catalogueItemNotification/catalogueItem/tradeItem/tradeItemInformation/extension/*[namespace-uri()='urn:gs1:gdsn:animal_feeding:xsd:3' and local-name()='animalFeedingModule']/targetedConsumptionBy"},"Regional EU","Verplicht voor diervoeder","ANL1289","-","-","-","-","-","-","-","-","-","J","-","-","-","-","-","-","-","-","-","-"]
[{"$f":"VLOOKUP(Tabel3[[#This Row],[GAE ID]],'BES NL'!A:L,12,FALSE)","v":"Samenstelling diervoeder "},{"$f":"VLOOKUP(Tabel3[[#This Row],[GAE ID]],'BES EN'!A:L,5,FALSE)","v":"feedCompositionStatement"},"Conditional","X",5911,"an..5000",{"$f":"VLOOKUP(Tabel3[[#This Row],[GAE ID]],'BES EN'!A:L,7,FALSE)","v":"/catalogue_item_notification:catalogueItemNotificationMessage/transaction/documentCommand/catalogue_item_notification:catalogueItemNotification/catalogueItem/tradeItem/tradeItemInformation/extension/*[namespace-uri()='urn:gs1:gdsn:animal_feeding:xsd:3' and local-name()='animalFeedingModule']/feedCompositionStatement"},"Regional EU","Verplicht voor diervoeder indien het op het etiket staat.","ANL1290","-","-","-","-","-","-","-","-","-","J","-","-","-","-","-","-","-","-","-","-"]
[{"$f":"VLOOKUP(Tabel3[[#This Row],[GAE ID]],'BES NL'!A:L,12,FALSE)","v":"Samenstelling diervoeder taalcode"},{"$f":"VLOOKUP(Tabel3[[#This Row],[GAE ID]],'BES EN'!A:L,5,FALSE)","v":"feedCompositionStatement/@languageCode"},"Conditional","X",5912,"Defined values",{"$f":"VLOOKUP(Tabel3[[#This Row],[GAE ID]],'BES EN'!A:L,7,FALSE)","v":"/catalogue_item_notification:catalogueItemNotificationMessage/transaction/documentCommand/catalogue_item_notification:catalogueItemNotification/catalogueItem/tradeItem/tradeItemInformation/extension/*[namespace-uri()='urn:gs1:gdsn:animal_feeding:xsd:3' and local-name()='animalFeedingModule']/feedCompositionStatement/@languageCode"},"Regional EU","Verplicht als het veld 'Samenstelling diervoeder' is ingevuld bij de consumenteneenheid. ","ANL1291","-","-","-","-","-","-","-","-","-","J","-","-","-","-","-","-","-","-","-","-"]
[{"$f":"VLOOKUP(Tabel3[[#This Row],[GAE ID]],'BES NL'!A:L,12,FALSE)","v":"Analytische bestanddelen diervoeder "},{"$f":"VLOOKUP(Tabel3[[#This Row],[GAE ID]],'BES EN'!A:L,5,FALSE)","v":"feedAnalyticalConstituentsStatement"},"Conditional","X",5909,"an..5000",{"$f":"VLOOKUP(Tabel3[[#This Row],[GAE ID]],'BES EN'!A:L,7,FALSE)","v":"/catalogue_item_notification:catalogueItemNotificationMessage/transaction/documentCommand/catalogue_item_notification:catalogueItemNotification/catalogueItem/tradeItem/tradeItemInformation/extension/*[namespace-uri()='urn:gs1:gdsn:animal_feeding:xsd:3' and local-name()='animalFeedingModule']/feedAnalyticalConstituentsStatement"},"Regional EU","Verplicht voor diervoeder indien het op het etiket staat.","ANL1292","-","-","-","-","-","-","-","-","-","J","-","-","-","-","-","-","-","-","-","-"]
[{"$f":"VLOOKUP(Tabel3[[#This Row],[GAE ID]],'BES NL'!A:L,12,FALSE)","v":"Analytische bestanddelen diervoeder taalcode"},{"$f":"VLOOKUP(Tabel3[[#This Row],[GAE ID]],'BES EN'!A:L,5,FALSE)","v":"feedAnalyticalConstituentsStatement/@languageCode"},"Conditional","X",5910,"Defined values",{"$f":"VLOOKUP(Tabel3[[#This Row],[GAE ID]],'BES EN'!A:L,7,FALSE)","v":"/catalogue_item_notification:catalogueItemNotificationMessage/transaction/documentCommand/catalogue_item_notification:catalogueItemNotification/catalogueItem/tradeItem/tradeItemInformation/extension/*[namespace-uri()='urn:gs1:gdsn:animal_feeding:xsd:3' and local-name()='animalFeedingModule']/feedAnalyticalConstituentsStatement/@languageCode"},"Regional EU","Verplicht als het veld 'Analytische bestanddelen diervoeder' is ingevuld bij de consumenteneenheid. ","ANL1293","-","-","-","-","-","-","-","-","-","J","-","-","-","-","-","-","-","-","-","-"]
[{"$f":"VLOOKUP(Tabel3[[#This Row],[GAE ID]],'BES NL'!A:L,12,FALSE)","v":"Toevoegingsmiddelen diervoeder"},{"$f":"VLOOKUP(Tabel3[[#This Row],[GAE ID]],'BES EN'!A:L,5,FALSE)","v":"feedAdditiveStatement"},"Conditional","X",5907,"an..5000",{"$f":"VLOOKUP(Tabel3[[#This Row],[GAE ID]],'BES EN'!A:L,7,FALSE)","v":"/catalogue_item_notification:catalogueItemNotificationMessage/transaction/documentCommand/catalogue_item_notification:catalogueItemNotification/catalogueItem/tradeItem/tradeItemInformation/extension/*[namespace-uri()='urn:gs1:gdsn:animal_feeding:xsd:3' and local-name()='animalFeedingModule']/feedAdditiveStatement"},"Regional EU","Verplicht voor diervoeder indien het op het etiket staat.","ANL1294","-","-","-","-","-","-","-","-","-","J","-","-","-","-","-","-","-","-","-","-"]
[{"$f":"VLOOKUP(Tabel3[[#This Row],[GAE ID]],'BES NL'!A:L,12,FALSE)","v":"Toevoegingsmiddelen diervoeder taalcode"},{"$f":"VLOOKUP(Tabel3[[#This Row],[GAE ID]],'BES EN'!A:L,5,FALSE)","v":"feedAdditiveStatement/@languageCode"},"Conditional","X",5908,"Defined values",{"$f":"VLOOKUP(Tabel3[[#This Row],[GAE ID]],'BES EN'!A:L,7,FALSE)","v":"/catalogue_item_notification:catalogueItemNotificationMessage/transaction/documentCommand/catalogue_item_notification:catalogueItemNotification/catalogueItem/tradeItem/tradeItemInformation/extension/*[namespace-uri()='urn:gs1:gdsn:animal_feeding:xsd:3' and local-name()='animalFeedingModule']/feedAdditiveStatement/@languageCode"},"Regional EU","Verplicht als het veld 'Toevoegingsmiddelen diervoeder' is ingevuld bij de consumenteneenheid. ","ANL1295","-","-","-","-","-","-","-","-","-","J","-","-","-","-","-","-","-","-","-","-"]
[{"$f":"VLOOKUP(Tabel3[[#This Row],[GAE ID]],'BES NL'!A:L,12,FALSE)","v":"Leeftijd/levensfase dier"},{"$f":"VLOOKUP(Tabel3[[#This Row],[GAE ID]],'BES EN'!A:L,5,FALSE)","v":"feedLifestage"},"Conditional","X",399,"an..500",{"$f":"VLOOKUP(Tabel3[[#This Row],[GAE ID]],'BES EN'!A:L,7,FALSE)","v":"/catalogue_item_notification:catalogueItemNotificationMessage/transaction/documentCommand/catalogue_item_notification:catalogueItemNotification/catalogueItem/tradeItem/tradeItemInformation/extension/*[namespace-uri()='urn:gs1:gdsn:animal_feeding:xsd:3' and local-name()='animalFeedingModule']/animalFeeding/feedLifestage"},"Regional EU","Verplicht als de leeftijd/levensfase onderdeel uitmaakt van de voedingstabel op het etiket. Als de voedingstabel te complex is en alleen via een afbeelding kan worden meegeleverd, laat dit veld dan leeg.","ANL1296","-","-","-","-","-","-","-","-","-","J","-","-","-","-","-","-","-","-","-","-"]
[{"$f":"VLOOKUP(Tabel3[[#This Row],[GAE ID]],'BES NL'!A:L,12,FALSE)","v":"Leeftijd/levensfase dier taalcode"},{"$f":"VLOOKUP(Tabel3[[#This Row],[GAE ID]],'BES EN'!A:L,5,FALSE)","v":"feedLifestage/@languageCode"},"Conditional","X",400,"Defined values",{"$f":"VLOOKUP(Tabel3[[#This Row],[GAE ID]],'BES EN'!A:L,7,FALSE)","v":"/catalogue_item_notification:catalogueItemNotificationMessage/transaction/documentCommand/catalogue_item_notification:catalogueItemNotification/catalogueItem/tradeItem/tradeItemInformation/extension/*[namespace-uri()='urn:gs1:gdsn:animal_feeding:xsd:3' and local-name()='animalFeedingModule']/animalFeeding/feedLifestage/@languageCode"},"Regional EU","Verplicht als het veld 'Leeftijd/Levensfase dier' is ingevuld bij de consumenteneenheid. ","ANL1383","-","-","-","-","-","-","-","-","-","J","-","-","-","-","-","-","-","-","-","-"]
[{"$f":"VLOOKUP(Tabel3[[#This Row],[GAE ID]],'BES NL'!A:L,12,FALSE)","v":"Minimumgewicht van het dier"},{"$f":"VLOOKUP(Tabel3[[#This Row],[GAE ID]],'BES EN'!A:L,5,FALSE)","v":"minimumWeightOfAnimalBeingFed"},"Conditional","X",403,"n..15",{"$f":"VLOOKUP(Tabel3[[#This Row],[GAE ID]],'BES EN'!A:L,7,FALSE)","v":"/catalogue_item_notification:catalogueItemNotificationMessage/transaction/documentCommand/catalogue_item_notification:catalogueItemNotification/catalogueItem/tradeItem/tradeItemInformation/extension/*[namespace-uri()='urn:gs1:gdsn:animal_feeding:xsd:3' and local-name()='animalFeedingModule']/animalFeeding/minimumWeightOfAnimalBeingFed"},"Regional EU","Verplicht als er een minimumgewicht staat in de voedingstabel op het etiket. Als de voedingstabel te complex is en alleen via een afbeelding kan worden meegeleverd, laat dit veld dan leeg.","ANL1297","-","-","-","-","-","-","-","-","-","J","-","-","-","-","-","-","-","-","-","-"]
[{"$f":"VLOOKUP(Tabel3[[#This Row],[GAE ID]],'BES NL'!A:L,12,FALSE)","v":"Eenheid minimumgewicht van het dier"},{"$f":"VLOOKUP(Tabel3[[#This Row],[GAE ID]],'BES EN'!A:L,5,FALSE)","v":"minimumWeightOfAnimalBeingFed/@measurementUnitCode"},"Conditional","X",404,"Defined values",{"$f":"VLOOKUP(Tabel3[[#This Row],[GAE ID]],'BES EN'!A:L,7,FALSE)","v":"/catalogue_item_notification:catalogueItemNotificationMessage/transaction/documentCommand/catalogue_item_notification:catalogueItemNotification/catalogueItem/tradeItem/tradeItemInformation/extension/*[namespace-uri()='urn:gs1:gdsn:animal_feeding:xsd:3' and local-name()='animalFeedingModule']/animalFeeding/minimumWeightOfAnimalBeingFed/@measurementUnitCode"},"Regional EU","Verplicht als het veld 'Minimumgewicht van het dier' is ingevuld bij de consumenteneenheid. ","ANL1298","-","-","-","-","-","-","-","-","-","J","-","-","-","-","-","-","-","-","-","-"]
[{"$f":"VLOOKUP(Tabel3[[#This Row],[GAE ID]],'BES NL'!A:L,12,FALSE)","v":"Maximumgewicht van het dier"},{"$f":"VLOOKUP(Tabel3[[#This Row],[GAE ID]],'BES EN'!A:L,5,FALSE)","v":"maximumWeightOfAnimalBeingFed"},"Conditional","X",401,"n..15",{"$f":"VLOOKUP(Tabel3[[#This Row],[GAE ID]],'BES EN'!A:L,7,FALSE)","v":"/catalogue_item_notification:catalogueItemNotificationMessage/transaction/documentCommand/catalogue_item_notification:catalogueItemNotification/catalogueItem/tradeItem/tradeItemInformation/extension/*[namespace-uri()='urn:gs1:gdsn:animal_feeding:xsd:3' and local-name()='animalFeedingModule']/animalFeeding/maximumWeightOfAnimalBeingFed"},"Regional EU","Verplicht als er een maximumgewicht staat in de voedingstabel op het etiket. Als de voedingstabel te complex is en alleen via een afbeelding kan worden meegeleverd, laat dit veld dan leeg.","ANL1299","-","-","-","-","-","-","-","-","-","J","-","-","-","-","-","-","-","-","-","-"]
[{"$f":"VLOOKUP(Tabel3[[#This Row],[GAE ID]],'BES NL'!A:L,12,FALSE)","v":"Eenheid maximumgewicht van het dier"},{"$f":"VLOOKUP(Tabel3[[#This Row],[GAE ID]],'BES EN'!A:L,5,FALSE)","v":"maximumWeightOfAnimalBeingFed/@measurementUnitCode"},"Conditional","X",402,"Defined values",{"$f":"VLOOKUP(Tabel3[[#This Row],[GAE ID]],'BES EN'!A:L,7,FALSE)","v":"/catalogue_item_notification:catalogueItemNotificationMessage/transaction/documentCommand/catalogue_item_notification:catalogueItemNotification/catalogueItem/tradeItem/tradeItemInformation/extension/*[namespace-uri()='urn:gs1:gdsn:animal_feeding:xsd:3' and local-name()='animalFeedingModule']/animalFeeding/maximumWeightOfAnimalBeingFed/@measurementUnitCode"},"Regional EU","Verplicht als het veld 'Maximumgewicht van het dier' is ingevuld bij de consumenteneenheid. ","ANL1300","-","-","-","-","-","-","-","-","-","J","-","-","-","-","-","-","-","-","-","-"]
[{"$f":"VLOOKUP(Tabel3[[#This Row],[GAE ID]],'BES NL'!A:L,12,FALSE)","v":"Hoeveelheid diervoeder"},{"$f":"VLOOKUP(Tabel3[[#This Row],[GAE ID]],'BES EN'!A:L,5,FALSE)","v":"feedingAmount"},"Conditional","X",416,"n..15",{"$f":"VLOOKUP(Tabel3[[#This Row],[GAE ID]],'BES EN'!A:L,7,FALSE)","v":"/catalogue_item_notification:catalogueItemNotificationMessage/transaction/documentCommand/catalogue_item_notification:catalogueItemNotification/catalogueItem/tradeItem/tradeItemInformation/extension/*[namespace-uri()='urn:gs1:gdsn:animal_feeding:xsd:3' and local-name()='animalFeedingModule']/animalFeeding/animalFeedingDetail/feedingAmount"},"Regional EU","Verplicht als er een exacte hoeveelheid diervoeder in de voedingstabel staat op het etiket. Als de voedingstabel te complex is en alleen via een afbeelding kan worden meegeleverd, laat dit veld dan leeg.","ANL1301","-","-","-","-","-","-","-","-","-","J","-","-","-","-","-","-","-","-","-","-"]
[{"$f":"VLOOKUP(Tabel3[[#This Row],[GAE ID]],'BES NL'!A:L,12,FALSE)","v":"Eenheid hoeveelheid diervoeder"},{"$f":"VLOOKUP(Tabel3[[#This Row],[GAE ID]],'BES EN'!A:L,5,FALSE)","v":"feedingAmount/@measurementUnitCode"},"Conditional","X",417,"Defined values",{"$f":"VLOOKUP(Tabel3[[#This Row],[GAE ID]],'BES EN'!A:L,7,FALSE)","v":"/catalogue_item_notification:catalogueItemNotificationMessage/transaction/documentCommand/catalogue_item_notification:catalogueItemNotification/catalogueItem/tradeItem/tradeItemInformation/extension/*[namespace-uri()='urn:gs1:gdsn:animal_feeding:xsd:3' and local-name()='animalFeedingModule']/animalFeeding/animalFeedingDetail/feedingAmount/@measurementUnitCode"},"Regional EU","Verplicht als het veld 'Hoeveelheid diervoeder' is ingevuld bij de consumenteneenheid. ","ANL1302","-","-","-","-","-","-","-","-","-","J","-","-","-","-","-","-","-","-","-","-"]
[{"$f":"VLOOKUP(Tabel3[[#This Row],[GAE ID]],'BES NL'!A:L,12,FALSE)","v":"Minimumhoeveelheid diervoeder"},{"$f":"VLOOKUP(Tabel3[[#This Row],[GAE ID]],'BES EN'!A:L,5,FALSE)","v":"minimumFeedingAmount"},"Conditional","X",422,"n..15",{"$f":"VLOOKUP(Tabel3[[#This Row],[GAE ID]],'BES EN'!A:L,7,FALSE)","v":"/catalogue_item_notification:catalogueItemNotificationMessage/transaction/documentCommand/catalogue_item_notification:catalogueItemNotification/catalogueItem/tradeItem/tradeItemInformation/extension/*[namespace-uri()='urn:gs1:gdsn:animal_feeding:xsd:3' and local-name()='animalFeedingModule']/animalFeeding/animalFeedingDetail/minimumFeedingAmount"},"Regional EU","Verplicht als er een minimumhoeveelheid diervoeder in de voedingstabel staat op het etiket. Als de voedingstabel te complex is en alleen via een afbeelding kan worden meegeleverd, laat dit veld dan leeg.","ANL1303","-","-","-","-","-","-","-","-","-","J","-","-","-","-","-","-","-","-","-","-"]
[{"$f":"VLOOKUP(Tabel3[[#This Row],[GAE ID]],'BES NL'!A:L,12,FALSE)","v":"Eenheid minimumhoeveelheid diervoeder"},{"$f":"VLOOKUP(Tabel3[[#This Row],[GAE ID]],'BES EN'!A:L,5,FALSE)","v":"minimumFeedingAmount/@measurementUnitCode"},"Conditional","X",423,"Defined values",{"$f":"VLOOKUP(Tabel3[[#This Row],[GAE ID]],'BES EN'!A:L,7,FALSE)","v":"/catalogue_item_notification:catalogueItemNotificationMessage/transaction/documentCommand/catalogue_item_notification:catalogueItemNotification/catalogueItem/tradeItem/tradeItemInformation/extension/*[namespace-uri()='urn:gs1:gdsn:animal_feeding:xsd:3' and local-name()='animalFeedingModule']/animalFeeding/animalFeedingDetail/minimumFeedingAmount/@measurementUnitCode"},"Regional EU","Verplicht als het veld 'Minimumhoeveelheid diervoeder' is ingevuld bij de consumenteneenheid. ","ANL1304","-","-","-","-","-","-","-","-","-","J","-","-","-","-","-","-","-","-","-","-"]
[{"$f":"VLOOKUP(Tabel3[[#This Row],[GAE ID]],'BES NL'!A:L,12,FALSE)","v":"Maximumhoeveelheid diervoeder"},{"$f":"VLOOKUP(Tabel3[[#This Row],[GAE ID]],'BES EN'!A:L,5,FALSE)","v":"maximumFeedingAmount"},"Conditional","X",420,"n..15",{"$f":"VLOOKUP(Tabel3[[#This Row],[GAE ID]],'BES EN'!A:L,7,FALSE)","v":"/catalogue_item_notification:catalogueItemNotificationMessage/transaction/documentCommand/catalogue_item_notification:catalogueItemNotification/catalogueItem/tradeItem/tradeItemInformation/extension/*[namespace-uri()='urn:gs1:gdsn:animal_feeding:xsd:3' and local-name()='animalFeedingModule']/animalFeeding/animalFeedingDetail/maximumFeedingAmount"},"Regional EU","Verplicht als er een maximumhoeveelheid diervoeder in de voedingstabel staat op het etiket. Als de voedingstabel te complex is en alleen via een afbeelding kan worden meegeleverd, laat dit veld dan leeg.","ANL1305","-","-","-","-","-","-","-","-","-","J","-","-","-","-","-","-","-","-","-","-"]
[{"$f":"VLOOKUP(Tabel3[[#This Row],[GAE ID]],'BES NL'!A:L,12,FALSE)","v":"Eenheid maximumhoeveelheid diervoeder"},{"$f":"VLOOKUP(Tabel3[[#This Row],[GAE ID]],'BES EN'!A:L,5,FALSE)","v":"maximumFeedingAmount/@measurementUnitCode"},"Conditional","X",421,"Defined values",{"$f":"VLOOKUP(Tabel3[[#This Row],[GAE ID]],'BES EN'!A:L,7,FALSE)","v":"/catalogue_item_notification:catalogueItemNotificationMessage/transaction/documentCommand/catalogue_item_notification:catalogueItemNotification/catalogueItem/tradeItem/tradeItemInformation/extension/*[namespace-uri()='urn:gs1:gdsn:animal_feeding:xsd:3' and local-name()='animalFeedingModule']/animalFeeding/animalFeedingDetail/maximumFeedingAmount/@measurementUnitCode"},"Regional EU","Verplicht als het veld 'Maximumhoeveelheid diervoeder' is ingevuld bij de consumenteneenheid. ","ANL1306","-","-","-","-","-","-","-","-","-","J","-","-","-","-","-","-","-","-","-","-"]
[{"$f":"VLOOKUP(Tabel3[[#This Row],[GAE ID]],'BES NL'!A:L,12,FALSE)","v":"Aanbeveling aantal keren voeren "},{"$f":"VLOOKUP(Tabel3[[#This Row],[GAE ID]],'BES EN'!A:L,5,FALSE)","v":"recommendedFrequencyOfFeeding"},"Conditional","X",424,"an..500",{"$f":"VLOOKUP(Tabel3[[#This Row],[GAE ID]],'BES EN'!A:L,7,FALSE)","v":"/catalogue_item_notification:catalogueItemNotificationMessage/transaction/documentCommand/catalogue_item_notification:catalogueItemNotification/catalogueItem/tradeItem/tradeItemInformation/extension/*[namespace-uri()='urn:gs1:gdsn:animal_feeding:xsd:3' and local-name()='animalFeedingModule']/animalFeeding/animalFeedingDetail/recommendedFrequencyOfFeeding"},"Regional EU","Verplicht als er in de voedingstabel een aanbeveling staat voor het aantal keren voeren op het etiket. Als de voedingstabel te complex is en alleen via een afbeelding kan worden meegeleverd, laat dit veld dan leeg.","ANL1307","-","-","-","-","-","-","-","-","-","J","-","-","-","-","-","-","-","-","-","-"]
[{"$f":"VLOOKUP(Tabel3[[#This Row],[GAE ID]],'BES NL'!A:L,12,FALSE)","v":"Aanbeveling aantal keren voeren taalcode"},{"$f":"VLOOKUP(Tabel3[[#This Row],[GAE ID]],'BES EN'!A:L,5,FALSE)","v":"recommendedFrequencyOfFeeding/@languageCode"},"Conditional","X",425,"Defined values",{"$f":"VLOOKUP(Tabel3[[#This Row],[GAE ID]],'BES EN'!A:L,7,FALSE)","v":"/catalogue_item_notification:catalogueItemNotificationMessage/transaction/documentCommand/catalogue_item_notification:catalogueItemNotification/catalogueItem/tradeItem/tradeItemInformation/extension/*[namespace-uri()='urn:gs1:gdsn:animal_feeding:xsd:3' and local-name()='animalFeedingModule']/animalFeeding/animalFeedingDetail/recommendedFrequencyOfFeeding/@languageCode"},"Regional EU","Verplicht als het veld 'Aanbeveling aantal keren voeren' is ingevuld bij de consumenteneenheid. ","ANL1308","-","-","-","-","-","-","-","-","-","J","-","-","-","-","-","-","-","-","-","-"]
[{"$f":"VLOOKUP(Tabel3[[#This Row],[GAE ID]],'BES NL'!A:L,12,FALSE)","v":"Voedingsadvies"},{"$f":"VLOOKUP(Tabel3[[#This Row],[GAE ID]],'BES EN'!A:L,5,FALSE)","v":"feedingInstructions"},"Conditional","X",5913,"an..5000",{"$f":"VLOOKUP(Tabel3[[#This Row],[GAE ID]],'BES EN'!A:L,7,FALSE)","v":"/catalogue_item_notification:catalogueItemNotificationMessage/transaction/documentCommand/catalogue_item_notification:catalogueItemNotification/catalogueItem/tradeItem/tradeItemInformation/extension/*[namespace-uri()='urn:gs1:gdsn:animal_feeding:xsd:3' and local-name()='animalFeedingModule']/feedingInstructions"},"Regional EU","Verplicht voor diervoeder indien het op het etiket staat.","ANL1309","-","-","-","-","-","-","-","-","-","J","-","-","-","-","-","-","-","-","-","-"]
[{"$f":"VLOOKUP(Tabel3[[#This Row],[GAE ID]],'BES NL'!A:L,12,FALSE)","v":"Voedingsadvies taalcode"},{"$f":"VLOOKUP(Tabel3[[#This Row],[GAE ID]],'BES EN'!A:L,5,FALSE)","v":"feedingInstructions/@languageCode"},"Conditional","X",5914,"Defined values",{"$f":"VLOOKUP(Tabel3[[#This Row],[GAE ID]],'BES EN'!A:L,7,FALSE)","v":"/catalogue_item_notification:catalogueItemNotificationMessage/transaction/documentCommand/catalogue_item_notification:catalogueItemNotification/catalogueItem/tradeItem/tradeItemInformation/extension/*[namespace-uri()='urn:gs1:gdsn:animal_feeding:xsd:3' and local-name()='animalFeedingModule']/feedingInstructions/@languageCode"},"Regional EU","Verplicht als het veld 'Voedingsadvies' is ingevuld bij de consumenteneenheid. ","ANL1310","-","-","-","-","-","-","-","-","-","J","-","-","-","-","-","-","-","-","-","-"]
["Batterijen",null,null,"",null,"","",null,null,null,"A","B","C","D","E","F","G","H","I","J","K","L","M","N","O","P","Q","R","S","T"]
[{"$f":"VLOOKUP(Tabel3[[#This Row],[GAE ID]],'BES NL'!A:L,12,FALSE)","v":"Zijn accu’s/batterijen inbegrepen"},{"$f":"VLOOKUP(Tabel3[[#This Row],[GAE ID]],'BES EN'!A:L,5,FALSE)","v":"areBatteriesIncluded"},"Conditional",0,600,"Boolean",{"$f":"VLOOKUP(Tabel3[[#This Row],[GAE ID]],'BES EN'!A:L,7,FALSE)","v":"/catalogue_item_notification:catalogueItemNotificationMessage/transaction/documentCommand/catalogue_item_notification:catalogueItemNotification/catalogueItem/tradeItem/tradeItemInformation/extension/*[namespace-uri()='urn:gs1:gdsn:battery_information:xsd:3' and local-name()='batteryInformationModule']/areBatteriesIncluded"},"Local","Verplicht als het veld ‘Zijn accu's/batterijen vereist’ is ingevuld met de waarde ‘TRUE’","ANL1276","-","-","-","-","-","-","-","-","-","-","-","-","-","-","-","-","Q","R","-","T"]
[{"$f":"VLOOKUP(Tabel3[[#This Row],[GAE ID]],'BES NL'!A:L,12,FALSE)","v":"Zijn accu’s/batterijen vereist"},{"$f":"VLOOKUP(Tabel3[[#This Row],[GAE ID]],'BES EN'!A:L,5,FALSE)","v":"areBatteriesRequired"},"Conditional",0,601,"Boolean",{"$f":"VLOOKUP(Tabel3[[#This Row],[GAE ID]],'BES EN'!A:L,7,FALSE)","v":"/catalogue_item_notification:catalogueItemNotificationMessage/transaction/documentCommand/catalogue_item_notification:catalogueItemNotification/catalogueItem/tradeItem/tradeItemInformation/extension/*[namespace-uri()='urn:gs1:gdsn:battery_information:xsd:3' and local-name()='batteryInformationModule']/areBatteriesRequired"},"Local","Verplicht als BEBAT van toepassing is.","ANL1277","-","-","-","-","-","-","-","-","-","-","-","-","-","-","-","-","Q","R","-","T"]
[{"$f":"VLOOKUP(Tabel3[[#This Row],[GAE ID]],'BES NL'!A:L,12,FALSE)","v":"Zijn accu’s/batterijen ingebouwd"},{"$f":"VLOOKUP(Tabel3[[#This Row],[GAE ID]],'BES EN'!A:L,5,FALSE)","v":"areBatteriesBuiltIn"},"Conditional",0,612,"Defined values",{"$f":"VLOOKUP(Tabel3[[#This Row],[GAE ID]],'BES EN'!A:L,7,FALSE)","v":"/catalogue_item_notification:catalogueItemNotificationMessage/transaction/documentCommand/catalogue_item_notification:catalogueItemNotification/catalogueItem/tradeItem/tradeItemInformation/extension/*[namespace-uri()='urn:gs1:gdsn:battery_information:xsd:3' and local-name()='batteryInformationModule']/batteryDetail/areBatteriesBuiltIn"},"Local","Verplicht als het veld 'Zijn accu's/batterijen inbegrepen' is ingevuld","ANL1278","-","-","-","-","-","-","-","-","-","-","-","-","-","-","-","-","Q","R","-","T"]
[{"$f":"VLOOKUP(Tabel3[[#This Row],[GAE ID]],'BES NL'!A:L,12,FALSE)","v":"Accu/batterij technologie code"},{"$f":"VLOOKUP(Tabel3[[#This Row],[GAE ID]],'BES EN'!A:L,5,FALSE)","v":"batteryTechnologyTypeCode"},"Optional",0,613,"Defined values",{"$f":"VLOOKUP(Tabel3[[#This Row],[GAE ID]],'BES EN'!A:L,7,FALSE)","v":"/catalogue_item_notification:catalogueItemNotificationMessage/transaction/documentCommand/catalogue_item_notification:catalogueItemNotification/catalogueItem/tradeItem/tradeItemInformation/extension/*[namespace-uri()='urn:gs1:gdsn:battery_information:xsd:3' and local-name()='batteryInformationModule']/batteryDetail/batteryTechnologyTypeCode"},"Local","Verplicht als een product een specifiek type accu/batterij nodig heeft om te kunnen werken of als de accu's/batterijen zijn meegeleverd met of ingebouwd in het product.","ANL1279","-","-","-","-","-","-","-","-","-","-","-","-","-","-","-","-","Q","R","-","T"]
[{"$f":"VLOOKUP(Tabel3[[#This Row],[GAE ID]],'BES NL'!A:L,12,FALSE)","v":"Type accu/batterij"},{"$f":"VLOOKUP(Tabel3[[#This Row],[GAE ID]],'BES EN'!A:L,5,FALSE)","v":"batteryTypeCode"},"Conditional",0,614,"Defined values",{"$f":"VLOOKUP(Tabel3[[#This Row],[GAE ID]],'BES EN'!A:L,7,FALSE)","v":"/catalogue_item_notification:catalogueItemNotificationMessage/transaction/documentCommand/catalogue_item_notification:catalogueItemNotification/catalogueItem/tradeItem/tradeItemInformation/extension/*[namespace-uri()='urn:gs1:gdsn:battery_information:xsd:3' and local-name()='batteryInformationModule']/batteryDetail/batteryTypeCode"},"Local","Verplicht voor accu's/batterijen","ANL1280","-","-","-","-","-","-","-","-","-","-","-","-","-","-","-","-","Q","R","-","T"]
[{"$f":"VLOOKUP(Tabel3[[#This Row],[GAE ID]],'BES NL'!A:L,12,FALSE)","v":"Gewicht accu/batterij"},{"$f":"VLOOKUP(Tabel3[[#This Row],[GAE ID]],'BES EN'!A:L,5,FALSE)","v":"batteryWeight"},"Conditional",0,615,"n..15",{"$f":"VLOOKUP(Tabel3[[#This Row],[GAE ID]],'BES EN'!A:L,7,FALSE)","v":"/catalogue_item_notification:catalogueItemNotificationMessage/transaction/documentCommand/catalogue_item_notification:catalogueItemNotification/catalogueItem/tradeItem/tradeItemInformation/extension/*[namespace-uri()='urn:gs1:gdsn:battery_information:xsd:3' and local-name()='batteryInformationModule']/batteryDetail/batteryWeight"},"Local","Verplicht voor accu's/batterijen of als een product een specifiek type accu/batterij nodig heeft om te kunnen werken en als de accu's/batterijen zijn meegeleverd met of ingebouwd in het product.","ANL1281","-","-","-","-","-","-","-","-","-","-","-","-","-","-","-","-","Q","R","-","T"]
[{"$f":"VLOOKUP(Tabel3[[#This Row],[GAE ID]],'BES NL'!A:L,12,FALSE)","v":"Eenheid gewicht accu/batterij"},{"$f":"VLOOKUP(Tabel3[[#This Row],[GAE ID]],'BES EN'!A:L,5,FALSE)","v":"batteryWeight/@measurementUnitCode"},"Conditional",0,616,"Defined values",{"$f":"VLOOKUP(Tabel3[[#This Row],[GAE ID]],'BES EN'!A:L,7,FALSE)","v":"/catalogue_item_notification:catalogueItemNotificationMessage/transaction/documentCommand/catalogue_item_notification:catalogueItemNotification/catalogueItem/tradeItem/tradeItemInformation/extension/*[namespace-uri()='urn:gs1:gdsn:battery_information:xsd:3' and local-name()='batteryInformationModule']/batteryDetail/batteryWeight/@measurementUnitCode"},"Local","Verplicht als het veld ‘Gewicht accu/batterij’ is ingevuld bij de consumenteneenheid.","ANL1282","-","-","-","-","-","-","-","-","-","-","-","-","-","-","-","-","Q","R","-","T"]
[{"$f":"VLOOKUP(Tabel3[[#This Row],[GAE ID]],'BES NL'!A:L,12,FALSE)","v":"Aantal ingebouwde accu’s/batterijen"},{"$f":"VLOOKUP(Tabel3[[#This Row],[GAE ID]],'BES EN'!A:L,5,FALSE)","v":"quantityOfBatteriesBuiltIn"},"Conditional",0,617,"Non-negative integer",{"$f":"VLOOKUP(Tabel3[[#This Row],[GAE ID]],'BES EN'!A:L,7,FALSE)","v":"/catalogue_item_notification:catalogueItemNotificationMessage/transaction/documentCommand/catalogue_item_notification:catalogueItemNotification/catalogueItem/tradeItem/tradeItemInformation/extension/*[namespace-uri()='urn:gs1:gdsn:battery_information:xsd:3' and local-name()='batteryInformationModule']/batteryDetail/quantityOfBatteriesBuiltIn"},"Local","Verplicht, als het veld ‘Zijn accu's/batterijen ingebouwd’ is gevuld met de waarde ‘TRUE’","ANL1283","-","-","-","-","-","-","-","-","-","-","-","-","-","-","-","-","Q","R","-","T"]
[{"$f":"VLOOKUP(Tabel3[[#This Row],[GAE ID]],'BES NL'!A:L,12,FALSE)","v":"Aantal vereiste accu’s/batterijen"},{"$f":"VLOOKUP(Tabel3[[#This Row],[GAE ID]],'BES EN'!A:L,5,FALSE)","v":"quantityOfBatteriesRequired"},"Conditional",0,618,"Non-negative integer",{"$f":"VLOOKUP(Tabel3[[#This Row],[GAE ID]],'BES EN'!A:L,7,FALSE)","v":"/catalogue_item_notification:catalogueItemNotificationMessage/transaction/documentCommand/catalogue_item_notification:catalogueItemNotification/catalogueItem/tradeItem/tradeItemInformation/extension/*[namespace-uri()='urn:gs1:gdsn:battery_information:xsd:3' and local-name()='batteryInformationModule']/batteryDetail/quantityOfBatteriesRequired"},"Local","Verplicht als het veld ‘Zijn accu's/batterijen vereist’ is ingevuld met de waarde TRUE’","ANL1284","-","-","-","-","-","-","-","-","-","-","-","-","-","-","-","-","Q","R","-","T"]
[{"$f":"VLOOKUP(Tabel3[[#This Row],[GAE ID]],'BES NL'!A:L,12,FALSE)","v":"Aantal inbegrepen accu’s/batterijen"},{"$f":"VLOOKUP(Tabel3[[#This Row],[GAE ID]],'BES EN'!A:L,5,FALSE)","v":"quantityOfBatteriesIncluded"},"Conditional",0,6295,"Non-negative integer",{"$f":"VLOOKUP(Tabel3[[#This Row],[GAE ID]],'BES EN'!A:L,7,FALSE)","v":"/catalogue_item_notification:catalogueItemNotificationMessage/transaction/documentCommand/catalogue_item_notification:catalogueItemNotification/catalogueItem/tradeItem/tradeItemInformation/extension/*[namespace-uri()='urn:gs1:gdsn:battery_information:xsd:3' and local-name()='batteryInformationModule']/batteryDetail/quantityOfBatteriesIncluded"},"Local","Verplicht, als het veld ‘Zijn accu's/batterijen inbegrepen’ is gevuld met de waarde ‘TRUE’","ANL1419","-","-","-","-","-","-","-","-","-","-","-","-","-","-","-","-","Q","R","-","T"]
[{"$f":"VLOOKUP(Tabel3[[#This Row],[GAE ID]],'BES NL'!A:L,12,FALSE)","v":"Materiaalcode"},{"$f":"VLOOKUP(Tabel3[[#This Row],[GAE ID]],'BES EN'!A:L,5,FALSE)","v":"materialCode"},"Conditional",0,644,"an..35",{"$f":"VLOOKUP(Tabel3[[#This Row],[GAE ID]],'BES EN'!A:L,7,FALSE)","v":"/catalogue_item_notification:catalogueItemNotificationMessage/transaction/documentCommand/catalogue_item_notification:catalogueItemNotification/catalogueItem/tradeItem/tradeItemInformation/extension/*[namespace-uri()='urn:gs1:gdsn:battery_information:xsd:3' and local-name()='batteryInformationModule']/batteryDetail/batteryMaterials/tradeItemMaterialComposition/materialCode"},"Local","Verplicht als de grenswaarden van de materialen lood, kwik, cadmium en lithium voor batterijen worden overschreden.","ANL1396","-","-","-","-","-","-","-","-","-","-","-","-","-","-","-","-","Q","R","-","T"]
[{"$f":"VLOOKUP(Tabel3[[#This Row],[GAE ID]],'BES NL'!A:L,12,FALSE)","v":"Beheersorganisatie voor materiaalcodes"},{"$f":"VLOOKUP(Tabel3[[#This Row],[GAE ID]],'BES EN'!A:L,5,FALSE)","v":"materialAgencyCode"},"Conditional",0,632,"Defined values",{"$f":"VLOOKUP(Tabel3[[#This Row],[GAE ID]],'BES EN'!A:L,7,FALSE)","v":"/catalogue_item_notification:catalogueItemNotificationMessage/transaction/documentCommand/catalogue_item_notification:catalogueItemNotification/catalogueItem/tradeItem/tradeItemInformation/extension/*[namespace-uri()='urn:gs1:gdsn:battery_information:xsd:3' and local-name()='batteryInformationModule']/batteryDetail/batteryMaterials/materialAgencyCode"},"Local","Verplicht als het veld 'Materiaalcode' is ingevuld bij de consumenteneenheid.","ANL1397","-","-","-","-","-","-","-","-","-","-","-","-","-","-","-","-","Q","R","-","T"]
[{"$f":"VLOOKUP(Tabel3[[#This Row],[GAE ID]],'BES NL'!A:L,12,FALSE)","v":"Is accu/batterij oplaadbaar"},{"$f":"VLOOKUP(Tabel3[[#This Row],[GAE ID]],'BES EN'!A:L,5,FALSE)","v":"isBatteryRechargeable"},"Conditional",0,6294,"Defined values",{"$f":"VLOOKUP(Tabel3[[#This Row],[GAE ID]],'BES EN'!A:L,7,FALSE)","v":"/catalogue_item_notification:catalogueItemNotificationMessage/transaction/documentCommand/catalogue_item_notification:catalogueItemNotification/catalogueItem/tradeItem/tradeItemInformation/extension/*[namespace-uri()='urn:gs1:gdsn:battery_information:xsd:3' and local-name()='batteryInformationModule']/batteryDetail/isBatteryRechargeable"},"Local","Verplicht voor oplaadbare batterijen","ANL1418","-","-","-","-","-","-","-","-","-","-","-","-","-","-","-","-","Q","R","-","T"]
[{"$f":"VLOOKUP(Tabel3[[#This Row],[GAE ID]],'BES NL'!A:L,12,FALSE)","v":"Capaciteit accu/batterij"},{"$f":"VLOOKUP(Tabel3[[#This Row],[GAE ID]],'BES EN'!A:L,5,FALSE)","v":"batteryCapacity"},"Conditional",0,6290,"n..15",{"$f":"VLOOKUP(Tabel3[[#This Row],[GAE ID]],'BES EN'!A:L,7,FALSE)","v":"/catalogue_item_notification:catalogueItemNotificationMessage/transaction/documentCommand/catalogue_item_notification:catalogueItemNotification/catalogueItem/tradeItem/tradeItemInformation/extension/*[namespace-uri()='urn:gs1:gdsn:battery_information:xsd:3' and local-name()='batteryInformationModule']/batteryDetail/batteryCapacity"},"Local","Verplicht voor batterijen als het op de verpakking/het etiket staat.","ANL1414","-","-","-","-","-","-","-","-","-","-","-","-","-","-","-","-","Q","R","-","T"]
[{"$f":"VLOOKUP(Tabel3[[#This Row],[GAE ID]],'BES NL'!A:L,12,FALSE)","v":"Eenheid capaciteit accu/batterij"},{"$f":"VLOOKUP(Tabel3[[#This Row],[GAE ID]],'BES EN'!A:L,5,FALSE)","v":"batteryCapacity/@measurementUnitCode"},"Conditional",0,6291,"Defined values",{"$f":"VLOOKUP(Tabel3[[#This Row],[GAE ID]],'BES EN'!A:L,7,FALSE)","v":"/catalogue_item_notification:catalogueItemNotificationMessage/transaction/documentCommand/catalogue_item_notification:catalogueItemNotification/catalogueItem/tradeItem/tradeItemInformation/extension/*[namespace-uri()='urn:gs1:gdsn:battery_information:xsd:3' and local-name()='batteryInformationModule']/batteryDetail/batteryCapacity/@measurementUnitCode"},"Local","Verplicht als het veld 'Capaciteit accu/batterij’ is ingevuld bij de consumenteneenheid.","ANL1415","-","-","-","-","-","-","-","-","-","-","-","-","-","-","-","-","Q","R","-","T"]
[{"$f":"VLOOKUP(Tabel3[[#This Row],[GAE ID]],'BES NL'!A:L,12,FALSE)","v":"Voltage"},{"$f":"VLOOKUP(Tabel3[[#This Row],[GAE ID]],'BES EN'!A:L,5,FALSE)","v":"batteryVoltage"},"Conditional",0,6292,"n..15",{"$f":"VLOOKUP(Tabel3[[#This Row],[GAE ID]],'BES EN'!A:L,7,FALSE)","v":"/catalogue_item_notification:catalogueItemNotificationMessage/transaction/documentCommand/catalogue_item_notification:catalogueItemNotification/catalogueItem/tradeItem/tradeItemInformation/extension/*[namespace-uri()='urn:gs1:gdsn:battery_information:xsd:3' and local-name()='batteryInformationModule']/batteryDetail/batteryVoltage"},"Local","Verplicht voor batterijen als het op de verpakking/het etiket staat.","ANL1416","-","-","-","-","-","-","-","-","-","-","-","-","-","-","-","-","Q","R","-","T"]
[{"$f":"VLOOKUP(Tabel3[[#This Row],[GAE ID]],'BES NL'!A:L,12,FALSE)","v":"Eenheid voltage"},{"$f":"VLOOKUP(Tabel3[[#This Row],[GAE ID]],'BES EN'!A:L,5,FALSE)","v":"batteryVoltage/@measurementUnitCode"},"Conditional",0,6293,"Defined values",{"$f":"VLOOKUP(Tabel3[[#This Row],[GAE ID]],'BES EN'!A:L,7,FALSE)","v":"/catalogue_item_notification:catalogueItemNotificationMessage/transaction/documentCommand/catalogue_item_notification:catalogueItemNotification/catalogueItem/tradeItem/tradeItemInformation/extension/*[namespace-uri()='urn:gs1:gdsn:battery_information:xsd:3' and local-name()='batteryInformationModule']/batteryDetail/batteryVoltage/@measurementUnitCode"},"Local","Verplicht als het veld 'Voltage' is ingevuld bij de consumenteneenheid.","ANL1417","-","-","-","-","-","-","-","-","-","-","-","-","-","-","-","-","Q","R","-","T"]
["Lampen",null,null,"",null,"","",null,null,null,"A","B","C","D","E","F","G","H","I","J","K","L","M","N","O","P","Q","R","S","T"]
[{"$f":"VLOOKUP(Tabel3[[#This Row],[GAE ID]],'BES NL'!A:L,12,FALSE)","v":"Type lampfitting"},{"$f":"VLOOKUP(Tabel3[[#This Row],[GAE ID]],'BES EN'!A:L,5,FALSE)","v":"lightBulbBaseType"},"Optional",0,5463,"an..500",{"$f":"VLOOKUP(Tabel3[[#This Row],[GAE ID]],'BES EN'!A:L,7,FALSE)","v":"/catalogue_item_notification:catalogueItemNotificationMessage/transaction/documentCommand/catalogue_item_notification:catalogueItemNotification/catalogueItem/tradeItem/tradeItemInformation/extension/*[namespace-uri()='urn:gs1:gdsn:lighting_device:xsd:3' and local-name()='lightingDeviceModule']/lightBulbInformation/lightBulbBaseType"},"Local",0,"ANL1384","-","-","-","-","-","-","-","-","-","-","-","-","-","-","-","-","-","-","S","-"]
[{"$f":"VLOOKUP(Tabel3[[#This Row],[GAE ID]],'BES NL'!A:L,12,FALSE)","v":"Nuttige lichtstroom"},{"$f":"VLOOKUP(Tabel3[[#This Row],[GAE ID]],'BES EN'!A:L,5,FALSE)","v":"visibleLight"},"Optional",0,5932,"n..15",{"$f":"VLOOKUP(Tabel3[[#This Row],[GAE ID]],'BES EN'!A:L,7,FALSE)","v":"/catalogue_item_notification:catalogueItemNotificationMessage/transaction/documentCommand/catalogue_item_notification:catalogueItemNotification/catalogueItem/tradeItem/tradeItemInformation/extension/*[namespace-uri()='urn:gs1:gdsn:lighting_device:xsd:3' and local-name()='lightingDeviceModule']/lightBulbInformation/visibleLight"},"Local",0,"ANL1385","-","-","-","-","-","-","-","-","-","-","-","-","-","-","-","-","-","-","S","-"]
[{"$f":"VLOOKUP(Tabel3[[#This Row],[GAE ID]],'BES NL'!A:L,12,FALSE)","v":"Eenheid nuttige lichtstroom"},{"$f":"VLOOKUP(Tabel3[[#This Row],[GAE ID]],'BES EN'!A:L,5,FALSE)","v":"visibleLight/@measurementUnitCode"},"Optional",0,5933,"Defined values",{"$f":"VLOOKUP(Tabel3[[#This Row],[GAE ID]],'BES EN'!A:L,7,FALSE)","v":"/catalogue_item_notification:catalogueItemNotificationMessage/transaction/documentCommand/catalogue_item_notification:catalogueItemNotification/catalogueItem/tradeItem/tradeItemInformation/extension/*[namespace-uri()='urn:gs1:gdsn:lighting_device:xsd:3' and local-name()='lightingDeviceModule']/lightBulbInformation/visibleLight/@measurementUnitCode"},"Local","Verplicht als het veld 'Nuttige lichtstroom' is ingevuld bij de consumenteneenheid.","ANL1386","-","-","-","-","-","-","-","-","-","-","-","-","-","-","-","-","-","-","S","-"]
[{"$f":"VLOOKUP(Tabel3[[#This Row],[GAE ID]],'BES NL'!A:L,12,FALSE)","v":"Kleurtemperatuur"},{"$f":"VLOOKUP(Tabel3[[#This Row],[GAE ID]],'BES EN'!A:L,5,FALSE)","v":"colourTemperature"},"Optional",0,5930,"n..15",{"$f":"VLOOKUP(Tabel3[[#This Row],[GAE ID]],'BES EN'!A:L,7,FALSE)","v":"/catalogue_item_notification:catalogueItemNotificationMessage/transaction/documentCommand/catalogue_item_notification:catalogueItemNotification/catalogueItem/tradeItem/tradeItemInformation/extension/*[namespace-uri()='urn:gs1:gdsn:lighting_device:xsd:3' and local-name()='lightingDeviceModule']/lightBulbInformation/colourTemperature"},"Local",0,"ANL1387","-","-","-","-","-","-","-","-","-","-","-","-","-","-","-","-","-","-","S","-"]
[{"$f":"VLOOKUP(Tabel3[[#This Row],[GAE ID]],'BES NL'!A:L,12,FALSE)","v":"Eenheid kleurtemperatuur"},{"$f":"VLOOKUP(Tabel3[[#This Row],[GAE ID]],'BES EN'!A:L,5,FALSE)","v":"colourTemperature/@temperatureMeasurementUnitCode"},"Optional",0,5931,"Defined values",{"$f":"VLOOKUP(Tabel3[[#This Row],[GAE ID]],'BES EN'!A:L,7,FALSE)","v":"/catalogue_item_notification:catalogueItemNotificationMessage/transaction/documentCommand/catalogue_item_notification:catalogueItemNotification/catalogueItem/tradeItem/tradeItemInformation/extension/*[namespace-uri()='urn:gs1:gdsn:lighting_device:xsd:3' and local-name()='lightingDeviceModule']/lightBulbInformation/colourTemperature/@temperatureMeasurementUnitCode"},"Local","Verplicht als het veld 'Kleurtemperatuur' is ingevuld bij de consumenteneenheid.","ANL1388","-","-","-","-","-","-","-","-","-","-","-","-","-","-","-","-","-","-","S","-"]
[{"$f":"VLOOKUP(Tabel3[[#This Row],[GAE ID]],'BES NL'!A:L,12,FALSE)","v":"Minimum kleurtemperatuur"},{"$f":"VLOOKUP(Tabel3[[#This Row],[GAE ID]],'BES EN'!A:L,5,FALSE)","v":"minimumColourTemperature"},"Optional",0,6335,"n.. 15",{"$f":"VLOOKUP(Tabel3[[#This Row],[GAE ID]],'BES EN'!A:L,7,FALSE)","v":"/catalogue_item_notification:catalogueItemNotificationMessage/transaction/documentCommand/catalogue_item_notification:catalogueItemNotification/catalogueItem/tradeItem/tradeItemInformation/extension/*[namespace-uri()='urn:gs1:gdsn:lighting_device:xsd:3' and local-name()='lightingDeviceModule']/lightBulbInformation/minimumColourTemperature"},"Local",0,"ANL1428","-","-","-","-","-","-","-","-","-","-","-","-","-","-","-","-","-","-","S","-"]
[{"$f":"VLOOKUP(Tabel3[[#This Row],[GAE ID]],'BES NL'!A:L,12,FALSE)","v":"Minimum kleurtemperatuur eenheid"},{"$f":"VLOOKUP(Tabel3[[#This Row],[GAE ID]],'BES EN'!A:L,5,FALSE)","v":"minimumColourTemperature/@temperatureMeasurementUnitCode"},"Optional",0,6336,"Defined values",{"$f":"VLOOKUP(Tabel3[[#This Row],[GAE ID]],'BES EN'!A:L,7,FALSE)","v":"/catalogue_item_notification:catalogueItemNotificationMessage/transaction/documentCommand/catalogue_item_notification:catalogueItemNotification/catalogueItem/tradeItem/tradeItemInformation/extension/*[namespace-uri()='urn:gs1:gdsn:lighting_device:xsd:3' and local-name()='lightingDeviceModule']/lightBulbInformation/minimumColourTemperature/@temperatureMeasurementUnitCode"},"Local","Verplicht als het veld 'Minimum kleurtemperatuur' is gevuld.","ANL1429","-","-","-","-","-","-","-","-","-","-","-","-","-","-","-","-","-","-","S","-"]
[{"$f":"VLOOKUP(Tabel3[[#This Row],[GAE ID]],'BES NL'!A:L,12,FALSE)","v":"Maximum kleurtemperatuur"},{"$f":"VLOOKUP(Tabel3[[#This Row],[GAE ID]],'BES EN'!A:L,5,FALSE)","v":"maximumColourTemperature"},"Optional",0,6337,"n.. 15",{"$f":"VLOOKUP(Tabel3[[#This Row],[GAE ID]],'BES EN'!A:L,7,FALSE)","v":"/catalogue_item_notification:catalogueItemNotificationMessage/transaction/documentCommand/catalogue_item_notification:catalogueItemNotification/catalogueItem/tradeItem/tradeItemInformation/extension/*[namespace-uri()='urn:gs1:gdsn:lighting_device:xsd:3' and local-name()='lightingDeviceModule']/lightBulbInformation/maximumColourTemperature"},"Local",0,"ANL1430","-","-","-","-","-","-","-","-","-","-","-","-","-","-","-","-","-","-","S","-"]
[{"$f":"VLOOKUP(Tabel3[[#This Row],[GAE ID]],'BES NL'!A:L,12,FALSE)","v":"Maximum kleurtemperatuur eenheid"},{"$f":"VLOOKUP(Tabel3[[#This Row],[GAE ID]],'BES EN'!A:L,5,FALSE)","v":"maximumColourTemperature/@temperatureMeasurementUnitCode"},"Optional",0,6338,"Defined values",{"$f":"VLOOKUP(Tabel3[[#This Row],[GAE ID]],'BES EN'!A:L,7,FALSE)","v":"/catalogue_item_notification:catalogueItemNotificationMessage/transaction/documentCommand/catalogue_item_notification:catalogueItemNotification/catalogueItem/tradeItem/tradeItemInformation/extension/*[namespace-uri()='urn:gs1:gdsn:lighting_device:xsd:3' and local-name()='lightingDeviceModule']/lightBulbInformation/maximumColourTemperature/@temperatureMeasurementUnitCode"},"Local","Verplicht als het veld 'Maximum kleurtemperatuur' is gevuld.","ANL1431","-","-","-","-","-","-","-","-","-","-","-","-","-","-","-","-","-","-","S","-"]
[{"$f":"VLOOKUP(Tabel3[[#This Row],[GAE ID]],'BES NL'!A:L,12,FALSE)","v":"Lampdiameter"},{"$f":"VLOOKUP(Tabel3[[#This Row],[GAE ID]],'BES EN'!A:L,5,FALSE)","v":"lightBulbDiameterValue"},"Optional",0,5464,"n..15",{"$f":"VLOOKUP(Tabel3[[#This Row],[GAE ID]],'BES EN'!A:L,7,FALSE)","v":"/catalogue_item_notification:catalogueItemNotificationMessage/transaction/documentCommand/catalogue_item_notification:catalogueItemNotification/catalogueItem/tradeItem/tradeItemInformation/extension/*[namespace-uri()='urn:gs1:gdsn:lighting_device:xsd:3' and local-name()='lightingDeviceModule']/lightBulbInformation/lightBulbDiameterValue"},"Local",0,"ANL1389","-","-","-","-","-","-","-","-","-","-","-","-","-","-","-","-","-","-","S","-"]
[{"$f":"VLOOKUP(Tabel3[[#This Row],[GAE ID]],'BES NL'!A:L,12,FALSE)","v":"Eenheid lampdiameter"},{"$f":"VLOOKUP(Tabel3[[#This Row],[GAE ID]],'BES EN'!A:L,5,FALSE)","v":"lightBulbDiameterValue/@measurementUnitCode"},"Optional",0,5465,"Defined values",{"$f":"VLOOKUP(Tabel3[[#This Row],[GAE ID]],'BES EN'!A:L,7,FALSE)","v":"/catalogue_item_notification:catalogueItemNotificationMessage/transaction/documentCommand/catalogue_item_notification:catalogueItemNotification/catalogueItem/tradeItem/tradeItemInformation/extension/*[namespace-uri()='urn:gs1:gdsn:lighting_device:xsd:3' and local-name()='lightingDeviceModule']/lightBulbInformation/lightBulbDiameterValue/@measurementUnitCode"},"Local","Verplicht als het veld 'Lampdiameter' is ingevuld bij de consumenteneenheid. ","ANL1390","-","-","-","-","-","-","-","-","-","-","-","-","-","-","-","-","-","-","S","-"]
[{"$f":"VLOOKUP(Tabel3[[#This Row],[GAE ID]],'BES NL'!A:L,12,FALSE)","v":"Waarde van de afmeting"},{"$f":"VLOOKUP(Tabel3[[#This Row],[GAE ID]],'BES EN'!A:L,5,FALSE)","v":"sizeDimension"},"Optional",0,3784,"n..15",{"$f":"VLOOKUP(Tabel3[[#This Row],[GAE ID]],'BES EN'!A:L,7,FALSE)","v":"/catalogue_item_notification:catalogueItemNotificationMessage/transaction/documentCommand/catalogue_item_notification:catalogueItemNotification/catalogueItem/tradeItem/tradeItemInformation/extension/*[namespace-uri()='urn:gs1:gdsn:trade_item_measurements:xsd:3' and local-name()='tradeItemMeasurementsModule']/tradeItemMeasurements/tradeItemNonPackagedSize/sizeDimension"},"Local",0,"ANL1391","-","-","-","-","-","-","-","-","-","-","-","-","-","-","-","-","-","-","S","-"]
[{"$f":"VLOOKUP(Tabel3[[#This Row],[GAE ID]],'BES NL'!A:L,12,FALSE)","v":"Eenheid waarde van de afmeting"},{"$f":"VLOOKUP(Tabel3[[#This Row],[GAE ID]],'BES EN'!A:L,5,FALSE)","v":"sizeDimension/@measurementUnitCode"},"Optional",0,3785,"Defined values",{"$f":"VLOOKUP(Tabel3[[#This Row],[GAE ID]],'BES EN'!A:L,7,FALSE)","v":"/catalogue_item_notification:catalogueItemNotificationMessage/transaction/documentCommand/catalogue_item_notification:catalogueItemNotification/catalogueItem/tradeItem/tradeItemInformation/extension/*[namespace-uri()='urn:gs1:gdsn:trade_item_measurements:xsd:3' and local-name()='tradeItemMeasurementsModule']/tradeItemMeasurements/tradeItemNonPackagedSize/sizeDimension/@measurementUnitCode"},"Local","Verplicht als het veld 'Waarde van de afmeting' is ingevuld bij de consumenteneenheid.","ANL1392","-","-","-","-","-","-","-","-","-","-","-","-","-","-","-","-","-","-","S","-"]
[{"$f":"VLOOKUP(Tabel3[[#This Row],[GAE ID]],'BES NL'!A:L,12,FALSE)","v":"Code type afmeting"},{"$f":"VLOOKUP(Tabel3[[#This Row],[GAE ID]],'BES EN'!A:L,5,FALSE)","v":"sizeTypeCode"},"Optional",0,3787,"Defined values",{"$f":"VLOOKUP(Tabel3[[#This Row],[GAE ID]],'BES EN'!A:L,7,FALSE)","v":"/catalogue_item_notification:catalogueItemNotificationMessage/transaction/documentCommand/catalogue_item_notification:catalogueItemNotification/catalogueItem/tradeItem/tradeItemInformation/extension/*[namespace-uri()='urn:gs1:gdsn:trade_item_measurements:xsd:3' and local-name()='tradeItemMeasurementsModule']/tradeItemMeasurements/tradeItemNonPackagedSize/sizeTypeCode"},"Local","Verplicht als het veld 'Waarde van de afmeting' is ingevuld bij de consumenteneenheid.","ANL1393","-","-","-","-","-","-","-","-","-","-","-","-","-","-","-","-","-","-","S","-"]
[{"$f":"VLOOKUP(Tabel3[[#This Row],[GAE ID]],'BES NL'!A:L,12,FALSE)","v":"Type lamp"},{"$f":"VLOOKUP(Tabel3[[#This Row],[GAE ID]],'BES EN'!A:L,5,FALSE)","v":"lightBulbLampTypeCode"},"Optional",0,1486,"Defined values",{"$f":"VLOOKUP(Tabel3[[#This Row],[GAE ID]],'BES EN'!A:L,7,FALSE)","v":"/catalogue_item_notification:catalogueItemNotificationMessage/transaction/documentCommand/catalogue_item_notification:catalogueItemNotification/catalogueItem/tradeItem/tradeItemInformation/extension/*[namespace-uri()='urn:gs1:gdsn:lighting_device:xsd:3' and local-name()='lightingDeviceModule']/lightBulbInformation/lightBulbLampTypeCode"},"Local",0,"ANL1407","-","-","-","-","-","-","-","-","-","-","-","-","-","-","-","-","-","-","S","-"]
[{"$f":"VLOOKUP(Tabel3[[#This Row],[GAE ID]],'BES NL'!A:L,12,FALSE)","v":"Aanduiding gebruik"},{"$f":"VLOOKUP(Tabel3[[#This Row],[GAE ID]],'BES EN'!A:L,5,FALSE)","v":"recommendedUsageLocation"},"Optional",0,793,"an..5000",{"$f":"VLOOKUP(Tabel3[[#This Row],[GAE ID]],'BES EN'!A:L,7,FALSE)","v":"/catalogue_item_notification:catalogueItemNotificationMessage/transaction/documentCommand/catalogue_item_notification:catalogueItemNotification/catalogueItem/tradeItem/tradeItemInformation/extension/*[namespace-uri()='urn:gs1:gdsn:consumer_instructions:xsd:3' and local-name()='consumerInstructionsModule']/consumerInstructions/recommendedUsageLocation"},"Local",0,"ANL1394","-","-","-","-","-","-","-","-","-","-","-","-","-","-","-","-","-","-","S","-"]
[{"$f":"VLOOKUP(Tabel3[[#This Row],[GAE ID]],'BES NL'!A:L,12,FALSE)","v":"Aanduiding gebruik taalcode"},{"$f":"VLOOKUP(Tabel3[[#This Row],[GAE ID]],'BES EN'!A:L,5,FALSE)","v":"recommendedUsageLocation/@languageCode"},"Optional",0,794,"Defined values",{"$f":"VLOOKUP(Tabel3[[#This Row],[GAE ID]],'BES EN'!A:L,7,FALSE)","v":"/catalogue_item_notification:catalogueItemNotificationMessage/transaction/documentCommand/catalogue_item_notification:catalogueItemNotification/catalogueItem/tradeItem/tradeItemInformation/extension/*[namespace-uri()='urn:gs1:gdsn:consumer_instructions:xsd:3' and local-name()='consumerInstructionsModule']/consumerInstructions/recommendedUsageLocation/@languageCode"},"Local","Verplicht als het veld 'Aanduiding gebruik' is ingevuld bij de consumenteneenheid.","ANL1395","-","-","-","-","-","-","-","-","-","-","-","-","-","-","-","-","-","-","S","-"]
[{"$f":"VLOOKUP(Tabel3[[#This Row],[GAE ID]],'BES NL'!A:L,12,FALSE)","v":"Indicatie accentverlichting"},{"$f":"VLOOKUP(Tabel3[[#This Row],[GAE ID]],'BES EN'!A:L,5,FALSE)","v":"isLightBulbSuitableForAccentLighting"},"Optional",0,6334,"Non-binary logic enumeration ",{"$f":"VLOOKUP(Tabel3[[#This Row],[GAE ID]],'BES EN'!A:L,7,FALSE)","v":"/catalogue_item_notification:catalogueItemNotificationMessage/transaction/documentCommand/catalogue_item_notification:catalogueItemNotification/catalogueItem/tradeItem/tradeItemInformation/extension/*[namespace-uri()='urn:gs1:gdsn:lighting_device:xsd:3' and local-name()='lightingDeviceModule']/lightBulbInformation/isLightBulbSuitableForAccentLighting"},"Local",0,"ANL1434","-","-","-","-","-","-","-","-","-","-","-","-","-","-","-","-","-","-","S","-"]
[{"$f":"VLOOKUP(Tabel3[[#This Row],[GAE ID]],'BES NL'!A:L,12,FALSE)","v":"Opgegeven vermogen"},{"$f":"VLOOKUP(Tabel3[[#This Row],[GAE ID]],'BES EN'!A:L,5,FALSE)","v":"declaredPower"},"Optional",0,6328,"n.. 15",{"$f":"VLOOKUP(Tabel3[[#This Row],[GAE ID]],'BES EN'!A:L,7,FALSE)","v":"/catalogue_item_notification:catalogueItemNotificationMessage/transaction/documentCommand/catalogue_item_notification:catalogueItemNotification/catalogueItem/tradeItem/tradeItemInformation/extension/*[namespace-uri()='urn:gs1:gdsn:lighting_device:xsd:3' and local-name()='lightingDeviceModule']/lightBulbInformation/declaredPower"},"Local",0,"ANL1421","-","-","-","-","-","-","-","-","-","-","-","-","-","-","-","-","-","-","S","-"]
[{"$f":"VLOOKUP(Tabel3[[#This Row],[GAE ID]],'BES NL'!A:L,12,FALSE)","v":"Opgegeven vermogen eenheid"},{"$f":"VLOOKUP(Tabel3[[#This Row],[GAE ID]],'BES EN'!A:L,5,FALSE)","v":"declaredPower/@measurementUnitCode"},"Optional",0,6329,"Defined values",{"$f":"VLOOKUP(Tabel3[[#This Row],[GAE ID]],'BES EN'!A:L,7,FALSE)","v":"/catalogue_item_notification:catalogueItemNotificationMessage/transaction/documentCommand/catalogue_item_notification:catalogueItemNotification/catalogueItem/tradeItem/tradeItemInformation/extension/*[namespace-uri()='urn:gs1:gdsn:lighting_device:xsd:3' and local-name()='lightingDeviceModule']/lightBulbInformation/declaredPower/@measurementUnitCode"},"Local","Verplicht als het veld 'Opgegeven vermogen' is gevuld","ANL1422","-","-","-","-","-","-","-","-","-","-","-","-","-","-","-","-","-","-","S","-"]
[{"$f":"VLOOKUP(Tabel3[[#This Row],[GAE ID]],'BES NL'!A:L,12,FALSE)","v":"Lampvermogen equivalent"},{"$f":"VLOOKUP(Tabel3[[#This Row],[GAE ID]],'BES EN'!A:L,5,FALSE)","v":"equivalentLightBulbPower"},"Optional",0,6330,"n.. 15",{"$f":"VLOOKUP(Tabel3[[#This Row],[GAE ID]],'BES EN'!A:L,7,FALSE)","v":"/catalogue_item_notification:catalogueItemNotificationMessage/transaction/documentCommand/catalogue_item_notification:catalogueItemNotification/catalogueItem/tradeItem/tradeItemInformation/extension/*[namespace-uri()='urn:gs1:gdsn:lighting_device:xsd:3' and local-name()='lightingDeviceModule']/lightBulbInformation/equivalentLightBulbPower"},"Local",0,"ANL1423","-","-","-","-","-","-","-","-","-","-","-","-","-","-","-","-","-","-","S","-"]
[{"$f":"VLOOKUP(Tabel3[[#This Row],[GAE ID]],'BES NL'!A:L,12,FALSE)","v":"Lampvermogen equivalent eenheid"},{"$f":"VLOOKUP(Tabel3[[#This Row],[GAE ID]],'BES EN'!A:L,5,FALSE)","v":"equivalentLightBulbPower/@measurementUnitCode"},"Optional",0,6331,"Defined values",{"$f":"VLOOKUP(Tabel3[[#This Row],[GAE ID]],'BES EN'!A:L,7,FALSE)","v":"/catalogue_item_notification:catalogueItemNotificationMessage/transaction/documentCommand/catalogue_item_notification:catalogueItemNotification/catalogueItem/tradeItem/tradeItemInformation/extension/*[namespace-uri()='urn:gs1:gdsn:lighting_device:xsd:3' and local-name()='lightingDeviceModule']/lightBulbInformation/equivalentLightBulbPower/@measurementUnitCode"},"Local","Verplicht als het veld 'Lampvermogen equivalent' is gevuld.","ANL1424","-","-","-","-","-","-","-","-","-","-","-","-","-","-","-","-","-","-","S","-"]
[{"$f":"VLOOKUP(Tabel3[[#This Row],[GAE ID]],'BES NL'!A:L,12,FALSE)","v":"Levensduur lamp"},{"$f":"VLOOKUP(Tabel3[[#This Row],[GAE ID]],'BES EN'!A:L,5,FALSE)","v":"productCharacteristicValueMeasurement"},"Optional",0,2864,"n..15",{"$f":"VLOOKUP(Tabel3[[#This Row],[GAE ID]],'BES EN'!A:L,7,FALSE)","v":"/catalogue_item_notification:catalogueItemNotificationMessage/transaction/documentCommand/catalogue_item_notification:catalogueItemNotification/catalogueItem/tradeItem/tradeItemInformation/extension/*[namespace-uri()='urn:gs1:gdsn:product_characteristics:xsd:3' and local-name()='productCharacteristicsModule']/productCharacteristics/productCharacteristicValueMeasurement"},"Local",0,"ANL1425","-","-","-","-","-","-","-","-","-","-","-","-","-","-","-","-","-","-","S","-"]
[{"$f":"VLOOKUP(Tabel3[[#This Row],[GAE ID]],'BES NL'!A:L,12,FALSE)","v":"Levensduur lamp eenheid"},{"$f":"VLOOKUP(Tabel3[[#This Row],[GAE ID]],'BES EN'!A:L,5,FALSE)","v":"productCharacteristicValueMeasurement/@measurementUnitCode"},"Optional",0,2865,"Defined values",{"$f":"VLOOKUP(Tabel3[[#This Row],[GAE ID]],'BES EN'!A:L,7,FALSE)","v":"/catalogue_item_notification:catalogueItemNotificationMessage/transaction/documentCommand/catalogue_item_notification:catalogueItemNotification/catalogueItem/tradeItem/tradeItemInformation/extension/*[namespace-uri()='urn:gs1:gdsn:product_characteristics:xsd:3' and local-name()='productCharacteristicsModule']/productCharacteristics/productCharacteristicValueMeasurement/@measurementUnitCode"},"Local","Verplicht als het veld 'Levensduur lamp' is ingevuld.","ANL1426","-","-","-","-","-","-","-","-","-","-","-","-","-","-","-","-","-","-","S","-"]
[{"$f":"VLOOKUP(Tabel3[[#This Row],[GAE ID]],'BES NL'!A:L,12,FALSE)","v":"Aantal schakelcycli voor defect"},{"$f":"VLOOKUP(Tabel3[[#This Row],[GAE ID]],'BES EN'!A:L,5,FALSE)","v":"productCharacteristicValueInteger"},"Optional",0,5460,"n..15",{"$f":"VLOOKUP(Tabel3[[#This Row],[GAE ID]],'BES EN'!A:L,7,FALSE)","v":"/catalogue_item_notification:catalogueItemNotificationMessage/transaction/documentCommand/catalogue_item_notification:catalogueItemNotification/catalogueItem/tradeItem/tradeItemInformation/extension/*[namespace-uri()='urn:gs1:gdsn:product_characteristics:xsd:3' and local-name()='productCharacteristicsModule']/productCharacteristics/productCharacteristicValueInteger"},"Local",0,"ANL1427","-","-","-","-","-","-","-","-","-","-","-","-","-","-","-","-","-","-","S","-"]
[{"$f":"VLOOKUP(Tabel3[[#This Row],[GAE ID]],'BES NL'!A:L,12,FALSE)","v":"Opwarmtijd tot 60%"},{"$f":"VLOOKUP(Tabel3[[#This Row],[GAE ID]],'BES EN'!A:L,5,FALSE)","v":"lightBulbWarmUpTime"},"Optional",0,6332,"n.. 15",{"$f":"VLOOKUP(Tabel3[[#This Row],[GAE ID]],'BES EN'!A:L,7,FALSE)","v":"/catalogue_item_notification:catalogueItemNotificationMessage/transaction/documentCommand/catalogue_item_notification:catalogueItemNotification/catalogueItem/tradeItem/tradeItemInformation/extension/*[namespace-uri()='urn:gs1:gdsn:lighting_device:xsd:3' and local-name()='lightingDeviceModule']/lightBulbInformation/lightBulbWarmUpTime"},"Local",0,"ANL1432","-","-","-","-","-","-","-","-","-","-","-","-","-","-","-","-","-","-","S","-"]
[{"$f":"VLOOKUP(Tabel3[[#This Row],[GAE ID]],'BES NL'!A:L,12,FALSE)","v":"Opwarmtijd tot 60% eenheid"},{"$f":"VLOOKUP(Tabel3[[#This Row],[GAE ID]],'BES EN'!A:L,5,FALSE)","v":"lightBulbWarmUpTime/@measurementUnitCode"},"Optional",0,6333,"Defined values",{"$f":"VLOOKUP(Tabel3[[#This Row],[GAE ID]],'BES EN'!A:L,7,FALSE)","v":"/catalogue_item_notification:catalogueItemNotificationMessage/transaction/documentCommand/catalogue_item_notification:catalogueItemNotification/catalogueItem/tradeItem/tradeItemInformation/extension/*[namespace-uri()='urn:gs1:gdsn:lighting_device:xsd:3' and local-name()='lightingDeviceModule']/lightBulbInformation/lightBulbWarmUpTime/@measurementUnitCode"},"Local","Verplicht als het veld 'Opwarmtijd tot 60%' is gevuld.","ANL1433","-","-","-","-","-","-","-","-","-","-","-","-","-","-","-","-","-","-","S","-"]
[{"$f":"VLOOKUP(Tabel3[[#This Row],[GAE ID]],'BES NL'!A:L,12,FALSE)","v":"Gewicht materiaal"},{"$f":"VLOOKUP(Tabel3[[#This Row],[GAE ID]],'BES EN'!A:L,5,FALSE)","v":"materialWeight"},"Optional",0,648,"n..15",{"$f":"VLOOKUP(Tabel3[[#This Row],[GAE ID]],'BES EN'!A:L,7,FALSE)","v":"/catalogue_item_notification:catalogueItemNotificationMessage/transaction/documentCommand/catalogue_item_notification:catalogueItemNotification/catalogueItem/tradeItem/tradeItemInformation/extension/*[namespace-uri()='urn:gs1:gdsn:battery_information:xsd:3' and local-name()='batteryInformationModule']/batteryDetail/batteryMaterials/tradeItemMaterialComposition/materialWeight"},"Local","Verplicht indien de gloeilamp kwik bevat.","ANL1405","-","-","-","-","-","-","-","-","-","-","-","-","-","-","-","-","-","-","S","-"]
[{"$f":"VLOOKUP(Tabel3[[#This Row],[GAE ID]],'BES NL'!A:L,12,FALSE)","v":"Eenheid gewicht materiaal"},{"$f":"VLOOKUP(Tabel3[[#This Row],[GAE ID]],'BES EN'!A:L,5,FALSE)","v":"materialWeight/@measurementUnitCode"},"Optional",0,649,"Defined values",{"$f":"VLOOKUP(Tabel3[[#This Row],[GAE ID]],'BES EN'!A:L,7,FALSE)","v":"/catalogue_item_notification:catalogueItemNotificationMessage/transaction/documentCommand/catalogue_item_notification:catalogueItemNotification/catalogueItem/tradeItem/tradeItemInformation/extension/*[namespace-uri()='urn:gs1:gdsn:battery_information:xsd:3' and local-name()='batteryInformationModule']/batteryDetail/batteryMaterials/tradeItemMaterialComposition/materialWeight/@measurementUnitCode"},"Local","Verplicht als het veld 'gewicht materiaal' is ingevuld bij de consumenteneenheid. ","ANL1406","-","-","-","-","-","-","-","-","-","-","-","-","-","-","-","-","-","-","S","-"]

{"sheet":"List of Fields (EN)","index":2,"n_rows":457,"n_cols":52,"rows_kept":457,"cut":false,"hidden":false,"merged":[]}
[{"$f":"'Uitleg | Explanation'!S1","v":"Versie: 3.1.18 Concept       Datum: 8-2-2022"},null,null,null,null,"Basic →  ̶",null,null,null,"+ ← Advanced","No Fields/Cat →  ̶",null,null,null,null,null,null,null,null,null,null,null,null,null,null,null,null,null,null,null,"+ ← Fields/Cat"]
["Global Data Model Product category",{"$f":"IF(LEN(B3)>1,B3,_xlfn.IFNA(VLOOKUP(B4,Tabel4[#All],5,FALSE),\"No specific group\"))","v":"No specific group"}]
["Product\ncategory",null,null,null,null,null,null,null,null,null,null,null,null,null,null,null,null,null,null,null,null,null,null,null,null,null,null,null,null,null,null,null,null,null,null,null,null,null,null,null,null,"Filter criteria for advanced filtering"]
["GPC",null,{"$f":"_xlfn.IFNA(VLOOKUP(B4,Tabel4[#All],2,FALSE),\"\")","v":""}]
["Basic / Advanced","Press + or - above columns J or AE",{"$f":"_xlfn.IFNA(VLOOKUP(B3,Tabel4[#All],2,FALSE),\"\")","v":""}]
[]
[]
["Field name","GDSN name","GDM Mandatory","DMS  check","BMS ID","Format","X Path","GDM layer","Condition"," ","Dairy, Refrigerated & Frozen","Deli & Prepared","Fresh Meat","Fresh Fish","Fresh Fruits & Vegetables","Grocery","Cleaners","Disposables","Beauty & Personal Care","Petfood","Alcoholic Beverages","Tobacco","Self-care medicines","Special Food","Food Supplements","Healthcare Products","Medical Devices","Batteries","Light Bulbs","Other Categories",null,"Kolom1","Dairy, Refrigerated & Frozen","Deli & Prepared","Fresh Meat","Fresh Fish","Fresh Fruits & Vegetables","Grocery","Cleaners","Disposables","Beauty & Personal Care","Petfood","Alcoholic Beverages","Tobacco","Medicines","Special Food","Food Supplements","Healthcare Products","Medical Devices","Batteries","Light Bulbs","Other Categories"]
[null,null,{"$f":"Tabel3[[#This Row],[GDM Verplicht / Conditioneel]]","v":0},null,null,null,{"$error":"#N/A"},null,null,null,"A","B","C","D","E","F","G","H","I","J","K","L","M","N","O","P","Q","R","S","T",null,null,{"$f":"_xlfn.IFNA(HLOOKUP('List of Fields (EN)'!$B$2,'List of Fields (EN)'!$K$8:$AD$9,2,FALSE),\"\")","v":""}]
["General and logistic information",null,{"$f":"Tabel3[[#This Row],[GDM Verplicht / Conditioneel]]","v":0},"",null,"","",null,null,null,"A","B","C","D","E","F","G","H","I","J","K","L","M","N","O","P","Q","R","S","T",null,null,null,{"$f":"_xlfn.IFNA(HLOOKUP('List of Fields (EN)'!$B$2,'List of Fields (EN)'!$K$8:$AD$9,2,FALSE),\"\")","v":""}]
["General information",null,{"$f":"Tabel3[[#This Row],[GDM Verplicht / Conditioneel]]","v":0},"",null,"","",null,null,null,"A","B","C","D","E","F","G","H","I","J","K","L","M","N","O","P","Q","R","S","T",null,null,null,null,{"$f":"_xlfn.IFNA(HLOOKUP('List of Fields (EN)'!$B$2,'List of Fields (EN)'!$K$8:$AD$9,2,FALSE),\"\")","v":""}]
[{"$f":"VLOOKUP(Tabel3[[#This Row],[GAE ID]],'BES EN'!A:AJ,36,FALSE)","v":"Information provider (GLN)"},{"$f":"Tabel3[[#This Row],[GDSN-naam]]","v":"gln"},{"$f":"Tabel3[[#This Row],[GDM Verplicht / Conditioneel]]","v":"Mandatory"},{"$f":"Tabel3[[#This Row],[DMS controle]]","v":0},{"$f":"Tabel3[[#This Row],[BMS ID]]","v":83},{"$f":"Tabel3[[#This Row],[Formaat]]","v":"n13"},{"$f":"Tabel3[[#This Row],[X Path]]","v":"/catalogue_item_notification:catalogueItemNotificationMessage/transaction/documentCommand/catalogue_item_notification:catalogueItemNotification/catalogueItem/tradeItem/informationProviderOfTradeItem/gln"},{"$f":"Tabel3[[#This Row],[GDM laag]]","v":"Global"},{"$f":"VLOOKUP(Tabel3[[#This Row],[GAE ID]],'BES EN'!A:AJ,27,FALSE)","v":"Mandatory"},null,{"$f":"Tabel3[[#This Row],[Dairy, Refrigerated & Frozen]]","v":"A"},{"$f":"Tabel3[[#This Row],[Deli & Prepared]]","v":"B"},{"$f":"Tabel3[[#This Row],[Fresh Meat]]","v":"C"},{"$f":"Tabel3[[#This Row],[Fresh Fish]]","v":"D"},{"$f":"Tabel3[[#This Row],[Fresh Fruits & Vegetables]]","v":"E"},{"$f":"Tabel3[[#This Row],[Grocery]]","v":"F"},{"$f":"Tabel3[[#This Row],[Cleaners]]","v":"G"},{"$f":"Tabel3[[#This Row],[Disposables]]","v":"H"},{"$f":"Tabel3[[#This Row],[Beauty & Personal Care]]","v":"I"},{"$f":"Tabel3[[#This Row],[Petfood]]","v":"J"},{"$f":"Tabel3[[#This Row],[Alcoholic Beverages]]","v":"K"},{"$f":"Tabel3[[#This Row],[Tobacco]]","v":"L"},{"$f":"Tabel3[[#This Row],[Self-care medicines]]","v":"M"},{"$f":"Tabel3[[#This Row],[Special Food]]","v":"N"},{"$f":"Tabel3[[#This Row],[Food Supplements]]","v":"O"},{"$f":"Tabel3[[#This Row],[Healthcare Products]]","v":"P"},{"$f":"Tabel3[[#This Row],[Medical Devices]]","v":"Q"},{"$f":"Tabel3[[#This Row],[Batteries]]","v":"R"},{"$f":"Tabel3[[#This Row],[Light Bulbs]]","v":"S"},{"$f":"Tabel3[[#This Row],[Other Categories]]","v":"T"},null,null,null,null,null,{"$f":"_xlfn.IFNA(HLOOKUP('List of Fields (EN)'!$B$2,'List of Fields (EN)'!$K$8:$AD$9,2,FALSE),\"\")","v":""}]
[{"$f":"VLOOKUP(Tabel3[[#This Row],[GAE ID]],'BES EN'!A:AJ,36,FALSE)","v":"Name of information provider"},{"$f":"Tabel3[[#This Row],[GDSN-naam]]","v":"partyName"},{"$f":"Tabel3[[#This Row],[GDM Verplicht / Conditioneel]]","v":"Mandatory"},{"$f":"Tabel3[[#This Row],[DMS controle]]","v":0},{"$f":"Tabel3[[#This Row],[BMS ID]]","v":85},{"$f":"Tabel3[[#This Row],[Formaat]]","v":"an..200"},{"$f":"Tabel3[[#This Row],[X Path]]","v":"/catalogue_item_notification:catalogueItemNotificationMessage/transaction/documentCommand/catalogue_item_notification:catalogueItemNotification/catalogueItem/tradeItem/informationProviderOfTradeItem/partyName"},{"$f":"Tabel3[[#This Row],[GDM laag]]","v":"Global"},{"$f":"VLOOKUP(Tabel3[[#This Row],[GAE ID]],'BES EN'!A:AJ,27,FALSE)","v":" "},null,{"$f":"Tabel3[[#This Row],[Dairy, Refrigerated & Frozen]]","v":"A"},{"$f":"Tabel3[[#This Row],[Deli & Prepared]]","v":"B"},{"$f":"Tabel3[[#This Row],[Fresh Meat]]","v":"C"},{"$f":"Tabel3[[#This Row],[Fresh Fish]]","v":"D"},{"$f":"Tabel3[[#This Row],[Fresh Fruits & Vegetables]]","v":"E"},{"$f":"Tabel3[[#This Row],[Grocery]]","v":"F"},{"$f":"Tabel3[[#This Row],[Cleaners]]","v":"G"},{"$f":"Tabel3[[#This Row],[Disposables]]","v":"H"},{"$f":"Tabel3[[#This Row],[Beauty & Personal Care]]","v":"I"},{"$f":"Tabel3[[#This Row],[Petfood]]","v":"J"},{"$f":"Tabel3[[#This Row],[Alcoholic Beverages]]","v":"K"},{"$f":"Tabel3[[#This Row],[Tobacco]]","v":"L"},{"$f":"Tabel3[[#This Row],[Self-care medicines]]","v":"M"},{"$f":"Tabel3[[#This Row],[Special Food]]","v":"N"},{"$f":"Tabel3[[#This Row],[Food Supplements]]","v":"O"},{"$f":"Tabel3[[#This Row],[Healthcare Products]]","v":"P"},{"$f":"Tabel3[[#This Row],[Medical Devices]]","v":"Q"},{"$f":"Tabel3[[#This Row],[Batteries]]","v":"R"},{"$f":"Tabel3[[#This Row],[Light Bulbs]]","v":"S"},{"$f":"Tabel3[[#This Row],[Other Categories]]","v":"T"},null,null,null,null,null,null,{"$f":"_xlfn.IFNA(HLOOKUP('List of Fields (EN)'!$B$2,'List of Fields (EN)'!$K$8:$AD$9,2,FALSE),\"\")","v":""}]
[{"$f":"VLOOKUP(Tabel3[[#This Row],[GAE ID]],'BES EN'!A:AJ,36,FALSE)","v":"Global trade item number (GTIN)"},{"$f":"Tabel3[[#This Row],[GDSN-naam]]","v":"gtin"},{"$f":"Tabel3[[#This Row],[GDM Verplicht / Conditioneel]]","v":"Mandatory"},{"$f":"Tabel3[[#This Row],[DMS controle]]","v":0},{"$f":"Tabel3[[#This Row],[BMS ID]]","v":67},{"$f":"Tabel3[[#This Row],[Formaat]]","v":"n14"},{"$f":"Tabel3[[#This Row],[X Path]]","v":"/catalogue_item_notification:catalogueItemNotificationMessage/transaction/documentCommand/catalogue_item_notification:catalogueItemNotification/catalogueItem/tradeItem/gtin"},{"$f":"Tabel3[[#This Row],[GDM laag]]","v":"Global"},{"$f":"VLOOKUP(Tabel3[[#This Row],[GAE ID]],'BES EN'!A:AJ,27,FALSE)","v":"Mandatory"},null,{"$f":"Tabel3[[#This Row],[Dairy, Refrigerated & Frozen]]","v":"A"},{"$f":"Tabel3[[#This Row],[Deli & Prepared]]","v":"B"},{"$f":"Tabel3[[#This Row],[Fresh Meat]]","v":"C"},{"$f":"Tabel3[[#This Row],[Fresh Fish]]","v":"D"},{"$f":"Tabel3[[#This Row],[Fresh Fruits & Vegetables]]","v":"E"},{"$f":"Tabel3[[#This Row],[Grocery]]","v":"F"},{"$f":"Tabel3[[#This Row],[Cleaners]]","v":"G"},{"$f":"Tabel3[[#This Row],[Disposables]]","v":"H"},{"$f":"Tabel3[[#This Row],[Beauty & Personal Care]]","v":"I"},{"$f":"Tabel3[[#This Row],[Petfood]]","v":"J"},{"$f":"Tabel3[[#This Row],[Alcoholic Beverages]]","v":"K"},{"$f":"Tabel3[[#This Row],[Tobacco]]","v":"L"},{"$f":"Tabel3[[#This Row],[Self-care medicines]]","v":"M"},{"$f":"Tabel3[[#This Row],[Special Food]]","v":"N"},{"$f":"Tabel3[[#This Row],[Food Supplements]]","v":"O"},{"$f":"Tabel3[[#This Row],[Healthcare Products]]","v":"P"},{"$f":"Tabel3[[#This Row],[Medical Devices]]","v":"Q"},{"$f":"Tabel3[[#This Row],[Batteries]]","v":"R"},{"$f":"Tabel3[[#This Row],[Light Bulbs]]","v":"S"},{"$f":"Tabel3[[#This Row],[Other Categories]]","v":"T"},null,null,null,null,null,null,null,{"$f":"_xlfn.IFNA(HLOOKUP('List of Fields (EN)'!$B$2,'List of Fields (EN)'!$K$8:$AD$9,2,FALSE),\"\")","v":""}]
[{"$f":"VLOOKUP(Tabel3[[#This Row],[GAE ID]],'BES EN'!A:AJ,36,FALSE)","v":"Target market country code"},{"$f":"Tabel3[[#This Row],[GDSN-naam]]","v":"targetMarketCountryCode"},{"$f":"Tabel3[[#This Row],[GDM Verplicht / Conditioneel]]","v":"Mandatory"},{"$f":"Tabel3[[#This Row],[DMS controle]]","v":0},{"$f":"Tabel3[[#This Row],[BMS ID]]","v":112},{"$f":"Tabel3[[#This Row],[Formaat]]","v":"Defined values"},{"$f":"Tabel3[[#This Row],[X Path]]","v":"/catalogue_item_notification:catalogueItemNotificationMessage/transaction/documentCommand/catalogue_item_notification:catalogueItemNotification/catalogueItem/tradeItem/targetMarket/targetMarketCountryCode"},{"$f":"Tabel3[[#This Row],[GDM laag]]","v":"Global"},{"$f":"VLOOKUP(Tabel3[[#This Row],[GAE ID]],'BES EN'!A:AJ,27,FALSE)","v":"Mandatory"},null,{"$f":"Tabel3[[#This Row],[Dairy, Refrigerated & Frozen]]","v":"A"},{"$f":"Tabel3[[#This Row],[Deli & Prepared]]","v":"B"},{"$f":"Tabel3[[#This Row],[Fresh Meat]]","v":"C"},{"$f":"Tabel3[[#This Row],[Fresh Fish]]","v":"D"},{"$f":"Tabel3[[#This Row],[Fresh Fruits & Vegetables]]","v":"E"},{"$f":"Tabel3[[#This Row],[Grocery]]","v":"F"},{"$f":"Tabel3[[#This Row],[Cleaners]]","v":"G"},{"$f":"Tabel3[[#This Row],[Disposables]]","v":"H"},{"$f":"Tabel3[[#This Row],[Beauty & Personal Care]]","v":"I"},{"$f":"Tabel3[[#This Row],[Petfood]]","v":"J"},{"$f":"Tabel3[[#This Row],[Alcoholic Beverages]]","v":"K"},{"$f":"Tabel3[[#This Row],[Tobacco]]","v":"L"},{"$f":"Tabel3[[#This Row],[Self-care medicines]]","v":"M"},{"$f":"Tabel3[[#This Row],[Special Food]]","v":"N"},{"$f":"Tabel3[[#This Row],[Food Supplements]]","v":"O"},{"$f":"Tabel3[[#This Row],[Healthcare Products]]","v":"P"},{"$f":"Tabel3[[#This Row],[Medical Devices]]","v":"Q"},{"$f":"Tabel3[[#This Row],[Batteries]]","v":"R"},{"$f":"Tabel3[[#This Row],[Light Bulbs]]","v":"S"},{"$f":"Tabel3[[#This Row],[Other Categories]]","v":"T"},null,null,null,null,null,null,null,null,{"$f":"_xlfn.IFNA(HLOOKUP('List of Fields (EN)'!$B$2,'List of Fields (EN)'!$K$8:$AD$9,2,FALSE),\"\")","v":""}]
[{"$f":"VLOOKUP(Tabel3[[#This Row],[GAE ID]],'BES EN'!A:AJ,36,FALSE)","v":"GPC classification category code"},{"$f":"Tabel3[[#This Row],[GDSN-naam]]","v":"gpcCategoryCode"},{"$f":"Tabel3[[#This Row],[GDM Verplicht / Conditioneel]]","v":"Mandatory"},{"$f":"Tabel3[[#This Row],[DMS controle]]","v":"X"},{"$f":"Tabel3[[#This Row],[BMS ID]]","v":161},{"$f":"Tabel3[[#This Row],[Formaat]]","v":"n8"},{"$f":"Tabel3[[#This Row],[X Path]]","v":"/catalogue_item_notification:catalogueItemNotificationMessage/transaction/documentCommand/catalogue_item_notification:catalogueItemNotification/catalogueItem/tradeItem/gDSNTradeItemClassification/gpcCategoryCode"},{"$f":"Tabel3[[#This Row],[GDM laag]]","v":"Global"},{"$f":"VLOOKUP(Tabel3[[#This Row],[GAE ID]],'BES EN'!A:AJ,27,FALSE)","v":"Mandatory"},null,{"$f":"Tabel3[[#This Row],[Dairy, Refrigerated & Frozen]]","v":"A"},{"$f":"Tabel3[[#This Row],[Deli & Prepared]]","v":"B"},{"$f":"Tabel3[[#This Row],[Fresh Meat]]","v":"C"},{"$f":"Tabel3[[#This Row],[Fresh Fish]]","v":"D"},{"$f":"Tabel3[[#This Row],[Fresh Fruits & Vegetables]]","v":"E"},{"$f":"Tabel3[[#This Row],[Grocery]]","v":"F"},{"$f":"Tabel3[[#This Row],[Cleaners]]","v":"G"},{"$f":"Tabel3[[#This Row],[Disposables]]","v":"H"},{"$f":"Tabel3[[#This Row],[Beauty & Personal Care]]","v":"I"},{"$f":"Tabel3[[#This Row],[Petfood]]","v":"J"},{"$f":"Tabel3[[#This Row],[Alcoholic Beverages]]","v":"K"},{"$f":"Tabel3[[#This Row],[Tobacco]]","v":"L"},{"$f":"Tabel3[[#This Row],[Self-care medicines]]","v":"M"},{"$f":"Tabel3[[#This Row],[Special Food]]","v":"N"},{"$f":"Tabel3[[#This Row],[Food Supplements]]","v":"O"},{"$f":"Tabel3[[#This Row],[Healthcare Products]]","v":"P"},{"$f":"Tabel3[[#This Row],[Medical Devices]]","v":"Q"},{"$f":"Tabel3[[#This Row],[Batteries]]","v":"R"},{"$f":"Tabel3[[#This Row],[Light Bulbs]]","v":"S"},{"$f":"Tabel3[[#This Row],[Other Categories]]","v":"T"},null,null,null,null,null,null,null,null,null,{"$f":"_xlfn.IFNA(HLOOKUP('List of Fields (EN)'!$B$2,'List of Fields (EN)'!$K$8:$AD$9,2,FALSE),\"\")","v":""}]
[{"$f":"VLOOKUP(Tabel3[[#This Row],[GAE ID]],'BES EN'!A:AJ,36,FALSE)","v":"Trade item unit descriptor"},{"$f":"Tabel3[[#This Row],[GDSN-naam]]","v":"tradeItemUnitDescriptorCode"},{"$f":"Tabel3[[#This Row],[GDM Verplicht / Conditioneel]]","v":"Mandatory"},{"$f":"Tabel3[[#This Row],[DMS controle]]","v":0},{"$f":"Tabel3[[#This Row],[BMS ID]]","v":66},{"$f":"Tabel3[[#This Row],[Formaat]]","v":"Defined values"},{"$f":"Tabel3[[#This Row],[X Path]]","v":"/catalogue_item_notification:catalogueItemNotificationMessage/transaction/documentCommand/catalogue_item_notification:catalogueItemNotification/catalogueItem/tradeItem/tradeItemUnitDescriptorCode"},{"$f":"Tabel3[[#This Row],[GDM laag]]","v":"Global"},{"$f":"VLOOKUP(Tabel3[[#This Row],[GAE ID]],'BES EN'!A:AJ,27,FALSE)","v":"Mandatory"},null,{"$f":"Tabel3[[#This Row],[Dairy, Refrigerated & Frozen]]","v":"A"},{"$f":"Tabel3[[#This Row],[Deli & Prepared]]","v":"B"},{"$f":"Tabel3[[#This Row],[Fresh Meat]]","v":"C"},{"$f":"Tabel3[[#This Row],[Fresh Fish]]","v":"D"},{"$f":"Tabel3[[#This Row],[Fresh Fruits & Vegetables]]","v":"E"},{"$f":"Tabel3[[#This Row],[Grocery]]","v":"F"},{"$f":"Tabel3[[#This Row],[Cleaners]]","v":"G"},{"$f":"Tabel3[[#This Row],[Disposables]]","v":"H"},{"$f":"Tabel3[[#This Row],[Beauty & Personal Care]]","v":"I"},{"$f":"Tabel3[[#This Row],[Petfood]]","v":"J"},{"$f":"Tabel3[[#This Row],[Alcoholic Beverages]]","v":"K"},{"$f":"Tabel3[[#This Row],[Tobacco]]","v":"L"},{"$f":"Tabel3[[#This Row],[Self-care medicines]]","v":"M"},{"$f":"Tabel3[[#This Row],[Special Food]]","v":"N"},{"$f":"Tabel3[[#This Row],[Food Supplements]]","v":"O"},{"$f":"Tabel3[[#This Row],[Healthcare Products]]","v":"P"},{"$f":"Tabel3[[#This Row],[Medical Devices]]","v":"Q"},{"$f":"Tabel3[[#This Row],[Batteries]]","v":"R"},{"$f":"Tabel3[[#This Row],[Light Bulbs]]","v":"S"},{"$f":"Tabel3[[#This Row],[Other Categories]]","v":"T"},null,null,null,null,null,null,null,null,null,null,{"$f":"_xlfn.IFNA(HLOOKUP('List of Fields (EN)'!$B$2,'List of Fields (EN)'!$K$8:$AD$9,2,FALSE),\"\")","v":""}]
[{"$f":"VLOOKUP(Tabel3[[#This Row],[GAE ID]],'BES EN'!A:AJ,36,FALSE)","v":"Type of display"},{"$f":"Tabel3[[#This Row],[GDSN-naam]]","v":"displayTypeCode"},{"$f":"Tabel3[[#This Row],[GDM Verplicht / Conditioneel]]","v":"Conditional"},{"$f":"Tabel3[[#This Row],[DMS controle]]","v":0},{"$f":"Tabel3[[#This Row],[BMS ID]]","v":149},{"$f":"Tabel3[[#This Row],[Formaat]]","v":"Defined values"},{"$f":"Tabel3[[#This Row],[X Path]]","v":"/catalogue_item_notification:catalogueItemNotificationMessage/transaction/documentCommand/catalogue_item_notification:catalogueItemNotification/catalogueItem/tradeItem/displayUnitInformation/displayTypeCode"},{"$f":"Tabel3[[#This Row],[GDM laag]]","v":"Local"},{"$f":"VLOOKUP(Tabel3[[#This Row],[GAE ID]],'BES EN'!A:AJ,27,FALSE)","v":"Mandatory if it's a display."},null,{"$f":"Tabel3[[#This Row],[Dairy, Refrigerated & Frozen]]","v":"A"},{"$f":"Tabel3[[#This Row],[Deli & Prepared]]","v":"B"},{"$f":"Tabel3[[#This Row],[Fresh Meat]]","v":"-"},{"$f":"Tabel3[[#This Row],[Fresh Fish]]","v":"-"},{"$f":"Tabel3[[#This Row],[Fresh Fruits & Vegetables]]","v":"E"},{"$f":"Tabel3[[#This Row],[Grocery]]","v":"F"},{"$f":"Tabel3[[#This Row],[Cleaners]]","v":"G"},{"$f":"Tabel3[[#This Row],[Disposables]]","v":"H"},{"$f":"Tabel3[[#This Row],[Beauty & Personal Care]]","v":"I"},{"$f":"Tabel3[[#This Row],[Petfood]]","v":"J"},{"$f":"Tabel3[[#This Row],[Alcoholic Beverages]]","v":"K"},{"$f":"Tabel3[[#This Row],[Tobacco]]","v":"L"},{"$f":"Tabel3[[#This Row],[Self-care medicines]]","v":"M"},{"$f":"Tabel3[[#This Row],[Special Food]]","v":"N"},{"$f":"Tabel3[[#This Row],[Food Supplements]]","v":"O"},{"$f":"Tabel3[[#This Row],[Healthcare Products]]","v":"P"},{"$f":"Tabel3[[#This Row],[Medical Devices]]","v":"Q"},{"$f":"Tabel3[[#This Row],[Batteries]]","v":"R"},{"$f":"Tabel3[[#This Row],[Light Bulbs]]","v":"S"},{"$f":"Tabel3[[#This Row],[Other Categories]]","v":"T"},null,null,null,null,null,null,null,null,null,null,null,{"$f":"_xlfn.IFNA(HLOOKUP('List of Fields (EN)'!$B$2,'List of Fields (EN)'!$K$8:$AD$9,2,FALSE),\"\")","v":""}]
[{"$f":"VLOOKUP(Tabel3[[#This Row],[GAE ID]],'BES EN'!A:AJ,36,FALSE)","v":"Effective date time"},{"$f":"Tabel3[[#This Row],[GDSN-naam]]","v":"effectiveDateTime"},{"$f":"Tabel3[[#This Row],[GDM Verplicht / Conditioneel]]","v":"Mandatory"},{"$f":"Tabel3[[#This Row],[DMS controle]]","v":0},{"$f":"Tabel3[[#This Row],[BMS ID]]","v":144},{"$f":"Tabel3[[#This Row],[Formaat]]","v":"DateTime"},{"$f":"Tabel3[[#This Row],[X Path]]","v":"/catalogue_item_notification:catalogueItemNotificationMessage/transaction/documentCommand/catalogue_item_notification:catalogueItemNotification/catalogueItem/tradeItem/tradeItemSynchronisationDates/effectiveDateTime"},{"$f":"Tabel3[[#This Row],[GDM laag]]","v":"Global"},{"$f":"VLOOKUP(Tabel3[[#This Row],[GAE ID]],'BES EN'!A:AJ,27,FALSE)","v":"Mandatory"},null,{"$f":"Tabel3[[#This Row],[Dairy, Refrigerated & Frozen]]","v":"A"},{"$f":"Tabel3[[#This Row],[Deli & Prepared]]","v":"B"},{"$f":"Tabel3[[#This Row],[Fresh Meat]]","v":"C"},{"$f":"Tabel3[[#This Row],[Fresh Fish]]","v":"D"},{"$f":"Tabel3[[#This Row],[Fresh Fruits & Vegetables]]","v":"E"},{"$f":"Tabel3[[#This Row],[Grocery]]","v":"F"},{"$f":"Tabel3[[#This Row],[Cleaners]]","v":"G"},{"$f":"Tabel3[[#This Row],[Disposables]]","v":"H"},{"$f":"Tabel3[[#This Row],[Beauty & Personal Care]]","v":"I"},{"$f":"Tabel3[[#This Row],[Petfood]]","v":"J"},{"$f":"Tabel3[[#This Row],[Alcoholic Beverages]]","v":"K"},{"$f":"Tabel3[[#This Row],[Tobacco]]","v":"L"},{"$f":"Tabel3[[#This Row],[Self-care medicines]]","v":"M"},{"$f":"Tabel3[[#This Row],[Special Food]]","v":"N"},{"$f":"Tabel3[[#This Row],[Food Supplements]]","v":"O"},{"$f":"Tabel3[[#This Row],[Healthcare Products]]","v":"P"},{"$f":"Tabel3[[#This Row],[Medical Devices]]","v":"Q"},{"$f":"Tabel3[[#This Row],[Batteries]]","v":"R"},{"$f":"Tabel3[[#This Row],[Light Bulbs]]","v":"S"},{"$f":"Tabel3[[#This Row],[Other Categories]]","v":"T"},null,null,null,null,null,null,null,null,null,null,null,null,{"$f":"_xlfn.IFNA(HLOOKUP('List of Fields (EN)'!$B$2,'List of Fields (EN)'!$K$8:$AD$9,2,FALSE),\"\")","v":""}]
[{"$f":"VLOOKUP(Tabel3[[#This Row],[GAE ID]],'BES EN'!A:AJ,36,FALSE)","v":"Contact (GLN)"},{"$f":"Tabel3[[#This Row],[GDSN-naam]]","v":"gln"},{"$f":"Tabel3[[#This Row],[GDM Verplicht / Conditioneel]]","v":"Optional"},{"$f":"Tabel3[[#This Row],[DMS controle]]","v":0},{"$f":"Tabel3[[#This Row],[BMS ID]]","v":128},{"$f":"Tabel3[[#This Row],[Formaat]]","v":"n13"},{"$f":"Tabel3[[#This Row],[X Path]]","v":"/catalogue_item_notification:catalogueItemNotificationMessage/transaction/documentCommand/catalogue_item_notification:catalogueItemNotification/catalogueItem/tradeItem/tradeItemContactInformation/gln"},{"$f":"Tabel3[[#This Row],[GDM laag]]","v":"Local"},{"$f":"VLOOKUP(Tabel3[[#This Row],[GAE ID]],'BES EN'!A:AJ,27,FALSE)","v":" "},null,{"$f":"Tabel3[[#This Row],[Dairy, Refrigerated & Frozen]]","v":"A"},{"$f":"Tabel3[[#This Row],[Deli & Prepared]]","v":"B"},{"$f":"Tabel3[[#This Row],[Fresh Meat]]","v":"C"},{"$f":"Tabel3[[#This Row],[Fresh Fish]]","v":"D"},{"$f":"Tabel3[[#This Row],[Fresh Fruits & Vegetables]]","v":"E"},{"$f":"Tabel3[[#This Row],[Grocery]]","v":"F"},{"$f":"Tabel3[[#This Row],[Cleaners]]","v":"G"},{"$f":"Tabel3[[#This Row],[Disposables]]","v":"H"},{"$f":"Tabel3[[#This Row],[Beauty & Personal Care]]","v":"I"},{"$f":"Tabel3[[#This Row],[Petfood]]","v":"J"},{"$f":"Tabel3[[#This Row],[Alcoholic Beverages]]","v":"K"},{"$f":"Tabel3[[#This Row],[Tobacco]]","v":"L"},{"$f":"Tabel3[[#This Row],[Self-care medicines]]","v":"M"},{"$f":"Tabel3[[#This Row],[Special Food]]","v":"N"},{"$f":"Tabel3[[#This Row],[Food Supplements]]","v":"O"},{"$f":"Tabel3[[#This Row],[Healthcare Products]]","v":"P"},{"$f":"Tabel3[[#This Row],[Medical Devices]]","v":"Q"},{"$f":"Tabel3[[#This Row],[Batteries]]","v":"R"},{"$f":"Tabel3[[#This Row],[Light Bulbs]]","v":"S"},{"$f":"Tabel3[[#This Row],[Other Categories]]","v":"T"},null,null,null,null,null,null,null,null,null,null,null,null,null,{"$f":"_xlfn.IFNA(HLOOKUP('List of Fields (EN)'!$B$2,'List of Fields (EN)'!$K$8:$AD$9,2,FALSE),\"\")","v":""}]
[{"$f":"VLOOKUP(Tabel3[[#This Row],[GAE ID]],'BES EN'!A:AJ,36,FALSE)","v":"Additional trade item identification"},{"$f":"Tabel3[[#This Row],[GDSN-naam]]","v":"additionalTradeItemIdentification"},{"$f":"Tabel3[[#This Row],[GDM Verplicht / Conditioneel]]","v":"Conditional"},{"$f":"Tabel3[[#This Row],[DMS controle]]","v":0},{"$f":"Tabel3[[#This Row],[BMS ID]]","v":68},{"$f":"Tabel3[[#This Row],[Formaat]]","v":"an..80"},{"$f":"Tabel3[[#This Row],[X Path]]","v":"/catalogue_item_notification:catalogueItemNotificationMessage/transaction/documentCommand/catalogue_item_notification:catalogueItemNotification/catalogueItem/tradeItem/additionalTradeItemIdentification"},{"$f":"Tabel3[[#This Row],[GDM laag]]","v":"Global"},{"$f":"VLOOKUP(Tabel3[[#This Row],[GAE ID]],'BES EN'!A:AJ,27,FALSE)","v":"Mandatory for self-care medicines."},null,{"$f":"Tabel3[[#This Row],[Dairy, Refrigerated & Frozen]]","v":"A"},{"$f":"Tabel3[[#This Row],[Deli & Prepared]]","v":"B"},{"$f":"Tabel3[[#This Row],[Fresh Meat]]","v":"C"},{"$f":"Tabel3[[#This Row],[Fresh Fish]]","v":"D"},{"$f":"Tabel3[[#This Row],[Fresh Fruits & Vegetables]]","v":"E"},{"$f":"Tabel3[[#This Row],[Grocery]]","v":"F"},{"$f":"Tabel3[[#This Row],[Cleaners]]","v":"G"},{"$f":"Tabel3[[#This Row],[Disposables]]","v":"H"},{"$f":"Tabel3[[#This Row],[Beauty & Personal Care]]","v":"I"},{"$f":"Tabel3[[#This Row],[Petfood]]","v":"J"},{"$f":"Tabel3[[#This Row],[Alcoholic Beverages]]","v":"K"},{"$f":"Tabel3[[#This Row],[Tobacco]]","v":"L"},{"$f":"Tabel3[[#This Row],[Self-care medicines]]","v":"M"},{"$f":"Tabel3[[#This Row],[Special Food]]","v":"N"},{"$f":"Tabel3[[#This Row],[Food Supplements]]","v":"O"},{"$f":"Tabel3[[#This Row],[Healthcare Products]]","v":"P"},{"$f":"Tabel3[[#This Row],[Medical Devices]]","v":"Q"},{"$f":"Tabel3[[#This Row],[Batteries]]","v":"R"},{"$f":"Tabel3[[#This Row],[Light Bulbs]]","v":"S"},{"$f":"Tabel3[[#This Row],[Other Categories]]","v":"T"},null,null,null,null,null,null,null,null,null,null,null,null,null,null,{"$f":"_xlfn.IFNA(HLOOKUP('List of Fields (EN)'!$B$2,'List of Fields (EN)'!$K$8:$AD$9,2,FALSE),\"\")","v":""}]
[{"$f":"VLOOKUP(Tabel3[[#This Row],[GAE ID]],'BES EN'!A:AJ,36,FALSE)","v":"Additional trade item identification type"},{"$f":"Tabel3[[#This Row],[GDSN-naam]]","v":"additionalTradeItemIdentification/@additionalTradeItemIdentificationTypeCode"},{"$f":"Tabel3[[#This Row],[GDM Verplicht / Conditioneel]]","v":"Conditional"},{"$f":"Tabel3[[#This Row],[DMS controle]]","v":0},{"$f":"Tabel3[[#This Row],[BMS ID]]","v":69},{"$f":"Tabel3[[#This Row],[Formaat]]","v":"Defined values"},{"$f":"Tabel3[[#This Row],[X Path]]","v":"/catalogue_item_notification:catalogueItemNotificationMessage/transaction/documentCommand/catalogue_item_notification:catalogueItemNotification/catalogueItem/tradeItem/additionalTradeItemIdentification/@additionalTradeItemIdentificationTypeCode"},{"$f":"Tabel3[[#This Row],[GDM laag]]","v":"Global"},{"$f":"VLOOKUP(Tabel3[[#This Row],[GAE ID]],'BES EN'!A:AJ,27,FALSE)","v":"Mandatory in case the field 'Additional trade item identification' is populated. "},null,{"$f":"Tabel3[[#This Row],[Dairy, Refrigerated & Frozen]]","v":"A"},{"$f":"Tabel3[[#This Row],[Deli & Prepared]]","v":"B"},{"$f":"Tabel3[[#This Row],[Fresh Meat]]","v":"C"},{"$f":"Tabel3[[#This Row],[Fresh Fish]]","v":"D"},{"$f":"Tabel3[[#This Row],[Fresh Fruits & Vegetables]]","v":"E"},{"$f":"Tabel3[[#This Row],[Grocery]]","v":"F"},{"$f":"Tabel3[[#This Row],[Cleaners]]","v":"G"},{"$f":"Tabel3[[#This Row],[Disposables]]","v":"H"},{"$f":"Tabel3[[#This Row],[Beauty & Personal Care]]","v":"I"},{"$f":"Tabel3[[#This Row],[Petfood]]","v":"J"},{"$f":"Tabel3[[#This Row],[Alcoholic Beverages]]","v":"K"},{"$f":"Tabel3[[#This Row],[Tobacco]]","v":"L"},{"$f":"Tabel3[[#This Row],[Self-care medicines]]","v":"M"},{"$f":"Tabel3[[#This Row],[Special Food]]","v":"N"},{"$f":"Tabel3[[#This Row],[Food Supplements]]","v":"O"},{"$f":"Tabel3[[#This Row],[Healthcare Products]]","v":"P"},{"$f":"Tabel3[[#This Row],[Medical Devices]]","v":"Q"},{"$f":"Tabel3[[#This Row],[Batteries]]","v":"R"},{"$f":"Tabel3[[#This Row],[Light Bulbs]]","v":"S"},{"$f":"Tabel3[[#This Row],[Other Categories]]","v":"T"},null,null,null,null,null,null,null,null,null,null,null,null,null,null,null,{"$f":"_xlfn.IFNA(HLOOKUP('List of Fields (EN)'!$B$2,'List of Fields (EN)'!$K$8:$AD$9,2,FALSE),\"\")","v":""}]
[{"$f":"VLOOKUP(Tabel3[[#This Row],[GAE ID]],'BES EN'!A:AJ,36,FALSE)","v":"Import classification value"},{"$f":"Tabel3[[#This Row],[GDSN-naam]]","v":"importClassificationValue"},{"$f":"Tabel3[[#This Row],[GDM Verplicht / Conditioneel]]","v":"Conditional"},{"$f":"Tabel3[[#This Row],[DMS controle]]","v":0},{"$f":"Tabel3[[#This Row],[BMS ID]]","v":2777},{"$f":"Tabel3[[#This Row],[Formaat]]","v":"an..70"},{"$f":"Tabel3[[#This Row],[X Path]]","v":"/catalogue_item_notification:catalogueItemNotificationMessage/transaction/documentCommand/catalogue_item_notification:catalogueItemNotification/catalogueItem/tradeItem/tradeItemInformation/extension/*[namespace-uri()='urn:gs1:gdsn:place_of_item_activity:xsd:3' and local-name()='placeOfItemActivityModule']/importClassification/importClassificationValue"},{"$f":"Tabel3[[#This Row],[GDM laag]]","v":"Global"},{"$f":"VLOOKUP(Tabel3[[#This Row],[GAE ID]],'BES EN'!A:AJ,27,FALSE)","v":"Mandatory"},null,{"$f":"Tabel3[[#This Row],[Dairy, Refrigerated & Frozen]]","v":"A"},{"$f":"Tabel3[[#This Row],[Deli & Prepared]]","v":"B"},{"$f":"Tabel3[[#This Row],[Fresh Meat]]","v":"C"},{"$f":"Tabel3[[#This Row],[Fresh Fish]]","v":"D"},{"$f":"Tabel3[[#This Row],[Fresh Fruits & Vegetables]]","v":"E"},{"$f":"Tabel3[[#This Row],[Grocery]]","v":"F"},{"$f":"Tabel3[[#This Row],[Cleaners]]","v":"G"},{"$f":"Tabel3[[#This Row],[Disposables]]","v":"H"},{"$f":"Tabel3[[#This Row],[Beauty & Personal Care]]","v":"I"},{"$f":"Tabel3[[#This Row],[Petfood]]","v":"J"},{"$f":"Tabel3[[#This Row],[Alcoholic Beverages]]","v":"K"},{"$f":"Tabel3[[#This Row],[Tobacco]]","v":"L"},{"$f":"Tabel3[[#This Row],[Self-care medicines]]","v":"M"},{"$f":"Tabel3[[#This Row],[Special Food]]","v":"N"},{"$f":"Tabel3[[#This Row],[Food Supplements]]","v":"O"},{"$f":"Tabel3[[#This Row],[Healthcare Products]]","v":"P"},{"$f":"Tabel3[[#This Row],[Medical Devices]]","v":"Q"},{"$f":"Tabel3[[#This Row],[Batteries]]","v":"R"},{"$f":"Tabel3[[#This Row],[Light Bulbs]]","v":"S"},{"$f":"Tabel3[[#This Row],[Other Categories]]","v":"T"},null,null,null,null,null,null,null,null,null,null,null,null,null,null,null,null,{"$f":"_xlfn.IFNA(HLOOKUP('List of Fields (EN)'!$B$2,'List of Fields (EN)'!$K$8:$AD$9,2,FALSE),\"\")","v":""}]
[{"$f":"VLOOKUP(Tabel3[[#This Row],[GAE ID]],'BES EN'!A:AJ,36,FALSE)","v":"Import classification type"},{"$f":"Tabel3[[#This Row],[GDSN-naam]]","v":"importClassificationTypeCode"},{"$f":"Tabel3[[#This Row],[GDM Verplicht / Conditioneel]]","v":"Conditional"},{"$f":"Tabel3[[#This Row],[DMS controle]]","v":0},{"$f":"Tabel3[[#This Row],[BMS ID]]","v":2776},{"$f":"Tabel3[[#This Row],[Formaat]]","v":"Defined values"},{"$f":"Tabel3[[#This Row],[X Path]]","v":"/catalogue_item_notification:catalogueItemNotificationMessage/transaction/documentCommand/catalogue_item_notification:catalogueItemNotification/catalogueItem/tradeItem/tradeItemInformation/extension/*[namespace-uri()='urn:gs1:gdsn:place_of_item_activity:xsd:3' and local-name()='placeOfItemActivityModule']/importClassification/importClassificationTypeCode"},{"$f":"Tabel3[[#This Row],[GDM laag]]","v":"Global"},{"$f":"VLOOKUP(Tabel3[[#This Row],[GAE ID]],'BES EN'!A:AJ,27,FALSE)","v":"Mandatory"},null,{"$f":"Tabel3[[#This Row],[Dairy, Refrigerated & Frozen]]","v":"A"},{"$f":"Tabel3[[#This Row],[Deli & Prepared]]","v":"B"},{"$f":"Tabel3[[#This Row],[Fresh Meat]]","v":"C"},{"$f":"Tabel3[[#This Row],[Fresh Fish]]","v":"D"},{"$f":"Tabel3[[#This Row],[Fresh Fruits & Vegetables]]","v":"E"},{"$f":"Tabel3[[#This Row],[Grocery]]","v":"F"},{"$f":"Tabel3[[#This Row],[Cleaners]]","v":"G"},{"$f":"Tabel3[[#This Row],[Disposables]]","v":"H"},{"$f":"Tabel3[[#This Row],[Beauty & Personal Care]]","v":"I"},{"$f":"Tabel3[[#This Row],[Petfood]]","v":"J"},{"$f":"Tabel3[[#This Row],[Alcoholic Beverages]]","v":"K"},{"$f":"Tabel3[[#This Row],[Tobacco]]","v":"L"},{"$f":"Tabel3[[#This Row],[Self-care medicines]]","v":"M"},{"$f":"Tabel3[[#This Row],[Special Food]]","v":"N"},{"$f":"Tabel3[[#This Row],[Food Supplements]]","v":"O"},{"$f":"Tabel3[[#This Row],[Healthcare Products]]","v":"P"},{"$f":"Tabel3[[#This Row],[Medical Devices]]","v":"Q"},{"$f":"Tabel3[[#This Row],[Batteries]]","v":"R"},{"$f":"Tabel3[[#This Row],[Light Bulbs]]","v":"S"},{"$f":"Tabel3[[#This Row],[Other Categories]]","v":"T"},null,null,null,null,null,null,null,null,null,null,null,null,null,null,null,null,null,{"$f":"_xlfn.IFNA(HLOOKUP('List of Fields (EN)'!$B$2,'List of Fields (EN)'!$K$8:$AD$9,2,FALSE),\"\")","v":""}]
[{"$f":"VLOOKUP(Tabel3[[#This Row],[GAE ID]],'BES EN'!A:AJ,36,FALSE)","v":"Trade item country of origin"},{"$f":"Tabel3[[#This Row],[GDSN-naam]]","v":"countryCode"},{"$f":"Tabel3[[#This Row],[GDM Verplicht / Conditioneel]]","v":"Conditional"},{"$f":"Tabel3[[#This Row],[DMS controle]]","v":0},{"$f":"Tabel3[[#This Row],[BMS ID]]","v":2794},{"$f":"Tabel3[[#This Row],[Formaat]]","v":"Defined values"},{"$f":"Tabel3[[#This Row],[X Path]]","v":"/catalogue_item_notification:catalogueItemNotificationMessage/transaction/documentCommand/catalogue_item_notification:catalogueItemNotification/catalogueItem/tradeItem/tradeItemInformation/extension/*[namespace-uri()='urn:gs1:gdsn:place_of_item_activity:xsd:3' and local-name()='placeOfItemActivityModule']/placeOfProductActivity/countryOfOrigin/countryCode"},{"$f":"Tabel3[[#This Row],[GDM laag]]","v":"Regional EU"},{"$f":"VLOOKUP(Tabel3[[#This Row],[GAE ID]],'BES EN'!A:AJ,27,FALSE)","v":"Mandatory"},null,{"$f":"Tabel3[[#This Row],[Dairy, Refrigerated & Frozen]]","v":"A"},{"$f":"Tabel3[[#This Row],[Deli & Prepared]]","v":"B"},{"$f":"Tabel3[[#This Row],[Fresh Meat]]","v":"C"},{"$f":"Tabel3[[#This Row],[Fresh Fish]]","v":"D"},{"$f":"Tabel3[[#This Row],[Fresh Fruits & Vegetables]]","v":"E"},{"$f":"Tabel3[[#This Row],[Grocery]]","v":"F"},{"$f":"Tabel3[[#This Row],[Cleaners]]","v":"G"},{"$f":"Tabel3[[#This Row],[Disposables]]","v":"H"},{"$f":"Tabel3[[#This Row],[Beauty & Personal Care]]","v":"I"},{"$f":"Tabel3[[#This Row],[Petfood]]","v":"J"},{"$f":"Tabel3[[#This Row],[Alcoholic Beverages]]","v":"K"},{"$f":"Tabel3[[#This Row],[Tobacco]]","v":"L"},{"$f":"Tabel3[[#This Row],[Self-care medicines]]","v":"M"},{"$f":"Tabel3[[#This Row],[Special Food]]","v":"N"},{"$f":"Tabel3[[#This Row],[Food Supplements]]","v":"O"},{"$f":"Tabel3[[#This Row],[Healthcare Products]]","v":"P"},{"$f":"Tabel3[[#This Row],[Medical Devices]]","v":"Q"},{"$f":"Tabel3[[#This Row],[Batteries]]","v":"R"},{"$f":"Tabel3[[#This Row],[Light Bulbs]]","v":"S"},{"$f":"Tabel3[[#This Row],[Other Categories]]","v":"T"},null,null,null,null,null,null,null,null,null,null,null,null,null,null,null,null,null,null,{"$f":"_xlfn.IFNA(HLOOKUP('List of Fields (EN)'!$B$2,'List of Fields (EN)'!$K$8:$AD$9,2,FALSE),\"\")","v":""}]
[{"$f":"VLOOKUP(Tabel3[[#This Row],[GAE ID]],'BES EN'!A:AJ,36,FALSE)","v":"Preliminary item status code"},{"$f":"Tabel3[[#This Row],[GDSN-naam]]","v":"preliminaryItemStatusCode"},{"$f":"Tabel3[[#This Row],[GDM Verplicht / Conditioneel]]","v":"Optional"},{"$f":"Tabel3[[#This Row],[DMS controle]]","v":0},{"$f":"Tabel3[[#This Row],[BMS ID]]","v":64},{"$f":"Tabel3[[#This Row],[Formaat]]","v":"Defined values"},{"$f":"Tabel3[[#This Row],[X Path]]","v":"/catalogue_item_notification:catalogueItemNotificationMessage/transaction/documentCommand/catalogue_item_notification:catalogueItemNotification/catalogueItem/tradeItem/preliminaryItemStatusCode"},{"$f":"Tabel3[[#This Row],[GDM laag]]","v":"Local"},{"$f":"VLOOKUP(Tabel3[[#This Row],[GAE ID]],'BES EN'!A:AJ,27,FALSE)","v":" "},null,{"$f":"Tabel3[[#This Row],[Dairy, Refrigerated & Frozen]]","v":"A"},{"$f":"Tabel3[[#This Row],[Deli & Prepared]]","v":"B"},{"$f":"Tabel3[[#This Row],[Fresh Meat]]","v":"C"},{"$f":"Tabel3[[#This Row],[Fresh Fish]]","v":"D"},{"$f":"Tabel3[[#This Row],[Fresh Fruits & Vegetables]]","v":"E"},{"$f":"Tabel3[[#This Row],[Grocery]]","v":"F"},{"$f":"Tabel3[[#This Row],[Cleaners]]","v":"G"},{"$f":"Tabel3[[#This Row],[Disposables]]","v":"H"},{"$f":"Tabel3[[#This Row],[Beauty & Personal Care]]","v":"I"},{"$f":"Tabel3[[#This Row],[Petfood]]","v":"J"},{"$f":"Tabel3[[#This Row],[Alcoholic Beverages]]","v":"K"},{"$f":"Tabel3[[#This Row],[Tobacco]]","v":"L"},{"$f":"Tabel3[[#This Row],[Self-care medicines]]","v":"M"},{"$f":"Tabel3[[#This Row],[Special Food]]","v":"N"},{"$f":"Tabel3[[#This Row],[Food Supplements]]","v":"O"},{"$f":"Tabel3[[#This Row],[Healthcare Products]]","v":"P"},{"$f":"Tabel3[[#This Row],[Medical Devices]]","v":"Q"},{"$f":"Tabel3[[#This Row],[Batteries]]","v":"R"},{"$f":"Tabel3[[#This Row],[Light Bulbs]]","v":"S"},{"$f":"Tabel3[[#This Row],[Other Categories]]","v":"T"},null,null,null,null,null,null,null,null,null,null,null,null,null,null,null,null,null,null,null,{"$f":"_xlfn.IFNA(HLOOKUP('List of Fields (EN)'!$B$2,'List of Fields (EN)'!$K$8:$AD$9,2,FALSE),\"\")","v":""}]
[{"$f":"VLOOKUP(Tabel3[[#This Row],[GAE ID]],'BES EN'!A:AJ,36,FALSE)","v":"First ship date time"},{"$f":"Tabel3[[#This Row],[GDSN-naam]]","v":"firstShipDateTime"},{"$f":"Tabel3[[#This Row],[GDM Verplicht / Conditioneel]]","v":"Optional"},{"$f":"Tabel3[[#This Row],[DMS controle]]","v":0},{"$f":"Tabel3[[#This Row],[BMS ID]]","v":1008},{"$f":"Tabel3[[#This Row],[Formaat]]","v":"DateTime"},{"$f":"Tabel3[[#This Row],[X Path]]","v":"/catalogue_item_notification:catalogueItemNotificationMessage/transaction/documentCommand/catalogue_item_notification:catalogueItemNotification/catalogueItem/tradeItem/tradeItemInformation/extension/*[namespace-uri()='urn:gs1:gdsn:delivery_purchasing_information:xsd:3' and local-name()='deliveryPurchasingInformationModule']/deliveryPurchasingInformation/firstShipDateTime"},{"$f":"Tabel3[[#This Row],[GDM laag]]","v":"Local"},{"$f":"VLOOKUP(Tabel3[[#This Row],[GAE ID]],'BES EN'!A:AJ,27,FALSE)","v":"Mandatory in case the 'Preliminary item status code' field is populated."},null,{"$f":"Tabel3[[#This Row],[Dairy, Refrigerated & Frozen]]","v":"A"},{"$f":"Tabel3[[#This Row],[Deli & Prepared]]","v":"B"},{"$f":"Tabel3[[#This Row],[Fresh Meat]]","v":"C"},{"$f":"Tabel3[[#This Row],[Fresh Fish]]","v":"D"},{"$f":"Tabel3[[#This Row],[Fresh Fruits & Vegetables]]","v":"E"},{"$f":"Tabel3[[#This Row],[Grocery]]","v":"F"},{"$f":"Tabel3[[#This Row],[Cleaners]]","v":"G"},{"$f":"Tabel3[[#This Row],[Disposables]]","v":"H"},{"$f":"Tabel3[[#This Row],[Beauty & Personal Care]]","v":"I"},{"$f":"Tabel3[[#This Row],[Petfood]]","v":"J"},{"$f":"Tabel3[[#This Row],[Alcoholic Beverages]]","v":"K"},{"$f":"Tabel3[[#This Row],[Tobacco]]","v":"L"},{"$f":"Tabel3[[#This Row],[Self-care medicines]]","v":"M"},{"$f":"Tabel3[[#This Row],[Special Food]]","v":"N"},{"$f":"Tabel3[[#This Row],[Food Supplements]]","v":"O"},{"$f":"Tabel3[[#This Row],[Healthcare Products]]","v":"P"},{"$f":"Tabel3[[#This Row],[Medical Devices]]","v":"Q"},{"$f":"Tabel3[[#This Row],[Batteries]]","v":"R"},{"$f":"Tabel3[[#This Row],[Light Bulbs]]","v":"S"},{"$f":"Tabel3[[#This Row],[Other Categories]]","v":"T"},null,null,null,null,null,null,null,null,null,null,null,null,null,null,null,null,null,null,null,null,{"$f":"_xlfn.IFNA(HLOOKUP('List of Fields (EN)'!$B$2,'List of Fields (EN)'!$K$8:$AD$9,2,FALSE),\"\")","v":""}]
[{"$f":"VLOOKUP(Tabel3[[#This Row],[GAE ID]],'BES EN'!A:AJ,36,FALSE)","v":"Special item code"},{"$f":"Tabel3[[#This Row],[GDSN-naam]]","v":"specialItemCode"},{"$f":"Tabel3[[#This Row],[GDM Verplicht / Conditioneel]]","v":"Conditional"},{"$f":"Tabel3[[#This Row],[DMS controle]]","v":"X"},{"$f":"Tabel3[[#This Row],[BMS ID]]","v":1493},{"$f":"Tabel3[[#This Row],[Formaat]]","v":"Defined values"},{"$f":"Tabel3[[#This Row],[X Path]]","v":"/catalogue_item_notification:catalogueItemNotificationMessage/transaction/documentCommand/catalogue_item_notification:catalogueItemNotification/catalogueItem/tradeItem/tradeItemInformation/extension/*[namespace-uri()='urn:gs1:gdsn:marketing_information:xsd:3' and local-name()='marketingInformationModule']/marketingInformation/specialItemCode"},{"$f":"Tabel3[[#This Row],[GDM laag]]","v":"Local"},{"$f":"VLOOKUP(Tabel3[[#This Row],[GAE ID]],'BES EN'!A:AJ,27,FALSE)","v":"Mandatory if a value pack indication is stated on the packaging, optional for detergents and biocides."},null,{"$f":"Tabel3[[#This Row],[Dairy, Refrigerated & Frozen]]","v":"A"},{"$f":"Tabel3[[#This Row],[Deli & Prepared]]","v":"B"},{"$f":"Tabel3[[#This Row],[Fresh Meat]]","v":"C"},{"$f":"Tabel3[[#This Row],[Fresh Fish]]","v":"D"},{"$f":"Tabel3[[#This Row],[Fresh Fruits & Vegetables]]","v":"E"},{"$f":"Tabel3[[#This Row],[Grocery]]","v":"F"},{"$f":"Tabel3[[#This Row],[Cleaners]]","v":"G"},{"$f":"Tabel3[[#This Row],[Disposables]]","v":"H"},{"$f":"Tabel3[[#This Row],[Beauty & Personal Care]]","v":"I"},{"$f":"Tabel3[[#This Row],[Petfood]]","v":"J"},{"$f":"Tabel3[[#This Row],[Alcoholic Beverages]]","v":"K"},{"$f":"Tabel3[[#This Row],[Tobacco]]","v":"L"},{"$f":"Tabel3[[#This Row],[Self-care medicines]]","v":"M"},{"$f":"Tabel3[[#This Row],[Special Food]]","v":"N"},{"$f":"Tabel3[[#This Row],[Food Supplements]]","v":"O"},{"$f":"Tabel3[[#This Row],[Healthcare Products]]","v":"P"},{"$f":"Tabel3[[#This Row],[Medical Devices]]","v":"Q"},{"$f":"Tabel3[[#This Row],[Batteries]]","v":"R"},{"$f":"Tabel3[[#This Row],[Light Bulbs]]","v":"S"},{"$f":"Tabel3[[#This Row],[Other Categories]]","v":"T"},null,null,null,null,null,null,null,null,null,null,null,null,null,null,null,null,null,null,null,null,null,{"$f":"_xlfn.IFNA(HLOOKUP('List of Fields (EN)'!$B$2,'List of Fields (EN)'!$K$8:$AD$9,2,FALSE),\"\")","v":""}]
[{"$f":"VLOOKUP(Tabel3[[#This Row],[GAE ID]],'BES EN'!A:AJ,36,FALSE)","v":"Targetsector"},{"$f":"Tabel3[[#This Row],[GDSN-naam]]","v":"stringAVP/@attributeName"},{"$f":"Tabel3[[#This Row],[GDM Verplicht / Conditioneel]]","v":"Optional"},{"$f":"Tabel3[[#This Row],[DMS controle]]","v":0},{"$f":"Tabel3[[#This Row],[BMS ID]]","v":110},{"$f":"Tabel3[[#This Row],[Formaat]]","v":"Defined values"},{"$f":"Tabel3[[#This Row],[X Path]]","v":"/catalogue_item_notification:catalogueItemNotificationMessage/transaction/documentCommand/catalogue_item_notification:catalogueItemNotification/catalogueItem/tradeItem/avpList/stringAVP/@attributeName"},{"$f":"Tabel3[[#This Row],[GDM laag]]","v":"Local "},{"$f":"VLOOKUP(Tabel3[[#This Row],[GAE ID]],'BES EN'!A:AJ,27,FALSE)","v":0},null,{"$f":"Tabel3[[#This Row],[Dairy, Refrigerated & Frozen]]","v":"A"},{"$f":"Tabel3[[#This Row],[Deli & Prepared]]","v":"B"},{"$f":"Tabel3[[#This Row],[Fresh Meat]]","v":"C"},{"$f":"Tabel3[[#This Row],[Fresh Fish]]","v":"D"},{"$f":"Tabel3[[#This Row],[Fresh Fruits & Vegetables]]","v":"E"},{"$f":"Tabel3[[#This Row],[Grocery]]","v":"F"},{"$f":"Tabel3[[#This Row],[Cleaners]]","v":"G"},{"$f":"Tabel3[[#This Row],[Disposables]]","v":"H"},{"$f":"Tabel3[[#This Row],[Beauty & Personal Care]]","v":"I"},{"$f":"Tabel3[[#This Row],[Petfood]]","v":"J"},{"$f":"Tabel3[[#This Row],[Alcoholic Beverages]]","v":"K"},{"$f":"Tabel3[[#This Row],[Tobacco]]","v":"L"},{"$f":"Tabel3[[#This Row],[Self-care medicines]]","v":"M"},{"$f":"Tabel3[[#This Row],[Special Food]]","v":"N"},{"$f":"Tabel3[[#This Row],[Food Supplements]]","v":"O"},{"$f":"Tabel3[[#This Row],[Healthcare Products]]","v":"P"},{"$f":"Tabel3[[#This Row],[Medical Devices]]","v":"Q"},{"$f":"Tabel3[[#This Row],[Batteries]]","v":"R"},{"$f":"Tabel3[[#This Row],[Light Bulbs]]","v":"S"},{"$f":"Tabel3[[#This Row],[Other Categories]]","v":"T"}]
["Descriptions",null,{"$f":"Tabel3[[#This Row],[GDM Verplicht / Conditioneel]]","v":0},"",null,"","",null,null,null,"A","B","C","D","E","F","G","H","I","J","K","L","M","N","O","P","Q","R","S","T"]
[{"$f":"VLOOKUP(Tabel3[[#This Row],[GAE ID]],'BES EN'!A:AJ,36,FALSE)","v":"Trade item description"},{"$f":"Tabel3[[#This Row],[GDSN-naam]]","v":"tradeItemDescription"},{"$f":"Tabel3[[#This Row],[GDM Verplicht / Conditioneel]]","v":"Mandatory"},{"$f":"Tabel3[[#This Row],[DMS controle]]","v":0},{"$f":"Tabel3[[#This Row],[BMS ID]]","v":3517},{"$f":"Tabel3[[#This Row],[Formaat]]","v":"an..200"},{"$f":"Tabel3[[#This Row],[X Path]]","v":"/catalogue_item_notification:catalogueItemNotificationMessage/transaction/documentCommand/catalogue_item_notification:catalogueItemNotification/catalogueItem/tradeItem/tradeItemInformation/extension/*[namespace-uri()='urn:gs1:gdsn:trade_item_description:xsd:3' and local-name()='tradeItemDescriptionModule']/tradeItemDescriptionInformation/tradeItemDescription"},{"$f":"Tabel3[[#This Row],[GDM laag]]","v":"Global"},{"$f":"VLOOKUP(Tabel3[[#This Row],[GAE ID]],'BES EN'!A:AJ,27,FALSE)","v":"Mandatory"},null,{"$f":"Tabel3[[#This Row],[Dairy, Refrigerated & Frozen]]","v":"A"},{"$f":"Tabel3[[#This Row],[Deli & Prepared]]","v":"B"},{"$f":"Tabel3[[#This Row],[Fresh Meat]]","v":"C"},{"$f":"Tabel3[[#This Row],[Fresh Fish]]","v":"D"},{"$f":"Tabel3[[#This Row],[Fresh Fruits & Vegetables]]","v":"E"},{"$f":"Tabel3[[#This Row],[Grocery]]","v":"F"},{"$f":"Tabel3[[#This Row],[Cleaners]]","v":"G"},{"$f":"Tabel3[[#This Row],[Disposables]]","v":"H"},{"$f":"Tabel3[[#This Row],[Beauty & Personal Care]]","v":"I"},{"$f":"Tabel3[[#This Row],[Petfood]]","v":"J"},{"$f":"Tabel3[[#This Row],[Alcoholic Beverages]]","v":"K"},{"$f":"Tabel3[[#This Row],[Tobacco]]","v":"L"},{"$f":"Tabel3[[#This Row],[Self-care medicines]]","v":"M"},{"$f":"Tabel3[[#This Row],[Special Food]]","v":"N"},{"$f":"Tabel3[[#This Row],[Food Supplements]]","v":"O"},{"$f":"Tabel3[[#This Row],[Healthcare Products]]","v":"P"},{"$f":"Tabel3[[#This Row],[Medical Devices]]","v":"Q"},{"$f":"Tabel3[[#This Row],[Batteries]]","v":"R"},{"$f":"Tabel3[[#This Row],[Light Bulbs]]","v":"S"},{"$f":"Tabel3[[#This Row],[Other Categories]]","v":"T"}]
[{"$f":"VLOOKUP(Tabel3[[#This Row],[GAE ID]],'BES EN'!A:AJ,36,FALSE)","v":"Trade item description language code"},{"$f":"Tabel3[[#This Row],[GDSN-naam]]","v":"tradeItemDescription/@languageCode"},{"$f":"Tabel3[[#This Row],[GDM Verplicht / Conditioneel]]","v":"Mandatory"},{"$f":"Tabel3[[#This Row],[DMS controle]]","v":0},{"$f":"Tabel3[[#This Row],[BMS ID]]","v":3518},{"$f":"Tabel3[[#This Row],[Formaat]]","v":"Defined values"},{"$f":"Tabel3[[#This Row],[X Path]]","v":"/catalogue_item_notification:catalogueItemNotificationMessage/transaction/documentCommand/catalogue_item_notification:catalogueItemNotification/catalogueItem/tradeItem/tradeItemInformation/extension/*[namespace-uri()='urn:gs1:gdsn:trade_item_description:xsd:3' and local-name()='tradeItemDescriptionModule']/tradeItemDescriptionInformation/tradeItemDescription/@languageCode"},{"$f":"Tabel3[[#This Row],[GDM laag]]","v":"Global"},{"$f":"VLOOKUP(Tabel3[[#This Row],[GAE ID]],'BES EN'!A:AJ,27,FALSE)","v":"Mandatory"},null,{"$f":"Tabel3[[#This Row],[Dairy, Refrigerated & Frozen]]","v":"A"},{"$f":"Tabel3[[#This Row],[Deli & Prepared]]","v":"B"},{"$f":"Tabel3[[#This Row],[Fresh Meat]]","v":"C"},{"$f":"Tabel3[[#This Row],[Fresh Fish]]","v":"D"},{"$f":"Tabel3[[#This Row],[Fresh Fruits & Vegetables]]","v":"E"},{"$f":"Tabel3[[#This Row],[Grocery]]","v":"F"},{"$f":"Tabel3[[#This Row],[Cleaners]]","v":"G"},{"$f":"Tabel3[[#This Row],[Disposables]]","v":"H"},{"$f":"Tabel3[[#This Row],[Beauty & Personal Care]]","v":"I"},{"$f":"Tabel3[[#This Row],[Petfood]]","v":"J"},{"$f":"Tabel3[[#This Row],[Alcoholic Beverages]]","v":"K"},{"$f":"Tabel3[[#This Row],[Tobacco]]","v":"L"},{"$f":"Tabel3[[#This Row],[Self-care medicines]]","v":"M"},{"$f":"Tabel3[[#This Row],[Special Food]]","v":"N"},{"$f":"Tabel3[[#This Row],[Food Supplements]]","v":"O"},{"$f":"Tabel3[[#This Row],[Healthcare Products]]","v":"P"},{"$f":"Tabel3[[#This Row],[Medical Devices]]","v":"Q"},{"$f":"Tabel3[[#This Row],[Batteries]]","v":"R"},{"$f":"Tabel3[[#This Row],[Light Bulbs]]","v":"S"},{"$f":"Tabel3[[#This Row],[Other Categories]]","v":"T"}]
[{"$f":"VLOOKUP(Tabel3[[#This Row],[GAE ID]],'BES EN'!A:AJ,36,FALSE)","v":"Description short"},{"$f":"Tabel3[[#This Row],[GDSN-naam]]","v":"descriptionShort"},{"$f":"Tabel3[[#This Row],[GDM Verplicht / Conditioneel]]","v":"Conditional"},{"$f":"Tabel3[[#This Row],[DMS controle]]","v":0},{"$f":"Tabel3[[#This Row],[BMS ID]]","v":3506},{"$f":"Tabel3[[#This Row],[Formaat]]","v":"an..35"},{"$f":"Tabel3[[#This Row],[X Path]]","v":"/catalogue_item_notification:catalogueItemNotificationMessage/transaction/documentCommand/catalogue_item_notification:catalogueItemNotification/catalogueItem/tradeItem/tradeItemInformation/extension/*[namespace-uri()='urn:gs1:gdsn:trade_item_description:xsd:3' and local-name()='tradeItemDescriptionModule']/tradeItemDescriptionInformation/descriptionShort"},{"$f":"Tabel3[[#This Row],[GDM laag]]","v":"Regional EU"},{"$f":"VLOOKUP(Tabel3[[#This Row],[GAE ID]],'BES EN'!A:AJ,27,FALSE)","v":"Mandatory"},null,{"$f":"Tabel3[[#This Row],[Dairy, Refrigerated & Frozen]]","v":"A"},{"$f":"Tabel3[[#This Row],[Deli & Prepared]]","v":"B"},{"$f":"Tabel3[[#This Row],[Fresh Meat]]","v":"C"},{"$f":"Tabel3[[#This Row],[Fresh Fish]]","v":"D"},{"$f":"Tabel3[[#This Row],[Fresh Fruits & Vegetables]]","v":"E"},{"$f":"Tabel3[[#This Row],[Grocery]]","v":"F"},{"$f":"Tabel3[[#This Row],[Cleaners]]","v":"G"},{"$f":"Tabel3[[#This Row],[Disposables]]","v":"H"},{"$f":"Tabel3[[#This Row],[Beauty & Personal Care]]","v":"I"},{"$f":"Tabel3[[#This Row],[Petfood]]","v":"J"},{"$f":"Tabel3[[#This Row],[Alcoholic Beverages]]","v":"K"},{"$f":"Tabel3[[#This Row],[Tobacco]]","v":"L"},{"$f":"Tabel3[[#This Row],[Self-care medicines]]","v":"M"},{"$f":"Tabel3[[#This Row],[Special Food]]","v":"N"},{"$f":"Tabel3[[#This Row],[Food Supplements]]","v":"O"},{"$f":"Tabel3[[#This Row],[Healthcare Products]]","v":"P"},{"$f":"Tabel3[[#This Row],[Medical Devices]]","v":"Q"},{"$f":"Tabel3[[#This Row],[Batteries]]","v":"R"},{"$f":"Tabel3[[#This Row],[Light Bulbs]]","v":"S"},{"$f":"Tabel3[[#This Row],[Other Categories]]","v":"T"}]
[{"$f":"VLOOKUP(Tabel3[[#This Row],[GAE ID]],'BES EN'!A:AJ,36,FALSE)","v":"Description short language code"},{"$f":"Tabel3[[#This Row],[GDSN-naam]]","v":"descriptionShort/@languageCode"},{"$f":"Tabel3[[#This Row],[GDM Verplicht / Conditioneel]]","v":"Conditional"},{"$f":"Tabel3[[#This Row],[DMS controle]]","v":0},{"$f":"Tabel3[[#This Row],[BMS ID]]","v":3507},{"$f":"Tabel3[[#This Row],[Formaat]]","v":"Defined values"},{"$f":"Tabel3[[#This Row],[X Path]]","v":"/catalogue_item_notification:catalogueItemNotificationMessage/transaction/documentCommand/catalogue_item_notification:catalogueItemNotification/catalogueItem/tradeItem/tradeItemInformation/extension/*[namespace-uri()='urn:gs1:gdsn:trade_item_description:xsd:3' and local-name()='tradeItemDescriptionModule']/tradeItemDescriptionInformation/descriptionShort/@languageCode"},{"$f":"Tabel3[[#This Row],[GDM laag]]","v":"Regional EU"},{"$f":"VLOOKUP(Tabel3[[#This Row],[GAE ID]],'BES EN'!A:AJ,27,FALSE)","v":"Mandatory"},null,{"$f":"Tabel3[[#This Row],[Dairy, Refrigerated & Frozen]]","v":"A"},{"$f":"Tabel3[[#This Row],[Deli & Prepared]]","v":"B"},{"$f":"Tabel3[[#This Row],[Fresh Meat]]","v":"C"},{"$f":"Tabel3[[#This Row],[Fresh Fish]]","v":"D"},{"$f":"Tabel3[[#This Row],[Fresh Fruits & Vegetables]]","v":"E"},{"$f":"Tabel3[[#This Row],[Grocery]]","v":"F"},{"$f":"Tabel3[[#This Row],[Cleaners]]","v":"G"},{"$f":"Tabel3[[#This Row],[Disposables]]","v":"H"},{"$f":"Tabel3[[#This Row],[Beauty & Personal Care]]","v":"I"},{"$f":"Tabel3[[#This Row],[Petfood]]","v":"J"},{"$f":"Tabel3[[#This Row],[Alcoholic Beverages]]","v":"K"},{"$f":"Tabel3[[#This Row],[Tobacco]]","v":"L"},{"$f":"Tabel3[[#This Row],[Self-care medicines]]","v":"M"},{"$f":"Tabel3[[#This Row],[Special Food]]","v":"N"},{"$f":"Tabel3[[#This Row],[Food Supplements]]","v":"O"},{"$f":"Tabel3[[#This Row],[Healthcare Products]]","v":"P"},{"$f":"Tabel3[[#This Row],[Medical Devices]]","v":"Q"},{"$f":"Tabel3[[#This Row],[Batteries]]","v":"R"},{"$f":"Tabel3[[#This Row],[Light Bulbs]]","v":"S"},{"$f":"Tabel3[[#This Row],[Other Categories]]","v":"T"}]
[{"$f":"VLOOKUP(Tabel3[[#This Row],[GAE ID]],'BES EN'!A:AJ,36,FALSE)","v":"Variant description"},{"$f":"Tabel3[[#This Row],[GDSN-naam]]","v":"variantDescription"},{"$f":"Tabel3[[#This Row],[GDM Verplicht / Conditioneel]]","v":"Conditional"},{"$f":"Tabel3[[#This Row],[DMS controle]]","v":"X"},{"$f":"Tabel3[[#This Row],[BMS ID]]","v":3520},{"$f":"Tabel3[[#This Row],[Formaat]]","v":"an..500"},{"$f":"Tabel3[[#This Row],[X Path]]","v":"/catalogue_item_notification:catalogueItemNotificationMessage/transaction/documentCommand/catalogue_item_notification:catalogueItemNotification/catalogueItem/tradeItem/tradeItemInformation/extension/*[namespace-uri()='urn:gs1:gdsn:trade_item_description:xsd:3' and local-name()='tradeItemDescriptionModule']/tradeItemDescriptionInformation/variantDescription"},{"$f":"Tabel3[[#This Row],[GDM laag]]","v":"Local"},{"$f":"VLOOKUP(Tabel3[[#This Row],[GAE ID]],'BES EN'!A:AJ,27,FALSE)","v":"Mandatory if there are different variants of the same type of item and the variant is not entered in ‘Functional name’."},null,{"$f":"Tabel3[[#This Row],[Dairy, Refrigerated & Frozen]]","v":"A"},{"$f":"Tabel3[[#This Row],[Deli & Prepared]]","v":"B"},{"$f":"Tabel3[[#This Row],[Fresh Meat]]","v":"C"},{"$f":"Tabel3[[#This Row],[Fresh Fish]]","v":"D"},{"$f":"Tabel3[[#This Row],[Fresh Fruits & Vegetables]]","v":"E"},{"$f":"Tabel3[[#This Row],[Grocery]]","v":"F"},{"$f":"Tabel3[[#This Row],[Cleaners]]","v":"G"},{"$f":"Tabel3[[#This Row],[Disposables]]","v":"H"},{"$f":"Tabel3[[#This Row],[Beauty & Personal Care]]","v":"I"},{"$f":"Tabel3[[#This Row],[Petfood]]","v":"J"},{"$f":"Tabel3[[#This Row],[Alcoholic Beverages]]","v":"K"},{"$f":"Tabel3[[#This Row],[Tobacco]]","v":"L"},{"$f":"Tabel3[[#This Row],[Self-care medicines]]","v":"M"},{"$f":"Tabel3[[#This Row],[Special Food]]","v":"N"},{"$f":"Tabel3[[#This Row],[Food Supplements]]","v":"O"},{"$f":"Tabel3[[#This Row],[Healthcare Products]]","v":"P"},{"$f":"Tabel3[[#This Row],[Medical Devices]]","v":"Q"},{"$f":"Tabel3[[#This Row],[Batteries]]","v":"R"},{"$f":"Tabel3[[#This Row],[Light Bulbs]]","v":"S"},{"$f":"Tabel3[[#This Row],[Other Categories]]","v":"T"}]
[{"$f":"VLOOKUP(Tabel3[[#This Row],[GAE ID]],'BES EN'!A:AJ,36,FALSE)","v":"Variant description language code"},{"$f":"Tabel3[[#This Row],[GDSN-naam]]","v":"variantDescription/@languageCode"},{"$f":"Tabel3[[#This Row],[GDM Verplicht / Conditioneel]]","v":"Conditional"},{"$f":"Tabel3[[#This Row],[DMS controle]]","v":0},{"$f":"Tabel3[[#This Row],[BMS ID]]","v":3521},{"$f":"Tabel3[[#This Row],[Formaat]]","v":"Defined values"},{"$f":"Tabel3[[#This Row],[X Path]]","v":"/catalogue_item_notification:catalogueItemNotificationMessage/transaction/documentCommand/catalogue_item_notification:catalogueItemNotification/catalogueItem/tradeItem/tradeItemInformation/extension/*[namespace-uri()='urn:gs1:gdsn:trade_item_description:xsd:3' and local-name()='tradeItemDescriptionModule']/tradeItemDescriptionInformation/variantDescription/@languageCode"},{"$f":"Tabel3[[#This Row],[GDM laag]]","v":"Local"},{"$f":"VLOOKUP(Tabel3[[#This Row],[GAE ID]],'BES EN'!A:AJ,27,FALSE)","v":"Mandatory in case the 'Variant description' field is populated."},null,{"$f":"Tabel3[[#This Row],[Dairy, Refrigerated & Frozen]]","v":"A"},{"$f":"Tabel3[[#This Row],[Deli & Prepared]]","v":"B"},{"$f":"Tabel3[[#This Row],[Fresh Meat]]","v":"C"},{"$f":"Tabel3[[#This Row],[Fresh Fish]]","v":"D"},{"$f":"Tabel3[[#This Row],[Fresh Fruits & Vegetables]]","v":"E"},{"$f":"Tabel3[[#This Row],[Grocery]]","v":"F"},{"$f":"Tabel3[[#This Row],[Cleaners]]","v":"G"},{"$f":"Tabel3[[#This Row],[Disposables]]","v":"H"},{"$f":"Tabel3[[#This Row],[Beauty & Personal Care]]","v":"I"},{"$f":"Tabel3[[#This Row],[Petfood]]","v":"J"},{"$f":"Tabel3[[#This Row],[Alcoholic Beverages]]","v":"K"},{"$f":"Tabel3[[#This Row],[Tobacco]]","v":"L"},{"$f":"Tabel3[[#This Row],[Self-care medicines]]","v":"M"},{"$f":"Tabel3[[#This Row],[Special Food]]","v":"N"},{"$f":"Tabel3[[#This Row],[Food Supplements]]","v":"O"},{"$f":"Tabel3[[#This Row],[Healthcare Products]]","v":"P"},{"$f":"Tabel3[[#This Row],[Medical Devices]]","v":"Q"},{"$f":"Tabel3[[#This Row],[Batteries]]","v":"R"},{"$f":"Tabel3[[#This Row],[Light Bulbs]]","v":"S"},{"$f":"Tabel3[[#This Row],[Other Categories]]","v":"T"}]
[{"$f":"VLOOKUP(Tabel3[[#This Row],[GAE ID]],'BES EN'!A:AJ,36,FALSE)","v":"Additional trade item description"},{"$f":"Tabel3[[#This Row],[GDSN-naam]]","v":"additionalTradeItemDescription"},{"$f":"Tabel3[[#This Row],[GDM Verplicht / Conditioneel]]","v":"Optional"},{"$f":"Tabel3[[#This Row],[DMS controle]]","v":0},{"$f":"Tabel3[[#This Row],[BMS ID]]","v":3504},{"$f":"Tabel3[[#This Row],[Formaat]]","v":"an..2000"},{"$f":"Tabel3[[#This Row],[X Path]]","v":"/catalogue_item_notification:catalogueItemNotificationMessage/transaction/documentCommand/catalogue_item_notification:catalogueItemNotification/catalogueItem/tradeItem/tradeItemInformation/extension/*[namespace-uri()='urn:gs1:gdsn:trade_item_description:xsd:3' and local-name()='tradeItemDescriptionModule']/tradeItemDescriptionInformation/additionalTradeItemDescription"},{"$f":"Tabel3[[#This Row],[GDM laag]]","v":"Global"},{"$f":"VLOOKUP(Tabel3[[#This Row],[GAE ID]],'BES EN'!A:AJ,27,FALSE)","v":" "},null,{"$f":"Tabel3[[#This Row],[Dairy, Refrigerated & Frozen]]","v":"A"},{"$f":"Tabel3[[#This Row],[Deli & Prepared]]","v":"B"},{"$f":"Tabel3[[#This Row],[Fresh Meat]]","v":"C"},{"$f":"Tabel3[[#This Row],[Fresh Fish]]","v":"D"},{"$f":"Tabel3[[#This Row],[Fresh Fruits & Vegetables]]","v":"E"},{"$f":"Tabel3[[#This Row],[Grocery]]","v":"F"},{"$f":"Tabel3[[#This Row],[Cleaners]]","v":"G"},{"$f":"Tabel3[[#This Row],[Disposables]]","v":"H"},{"$f":"Tabel3[[#This Row],[Beauty & Personal Care]]","v":"I"},{"$f":"Tabel3[[#This Row],[Petfood]]","v":"J"},{"$f":"Tabel3[[#This Row],[Alcoholic Beverages]]","v":"K"},{"$f":"Tabel3[[#This Row],[Tobacco]]","v":"L"},{"$f":"Tabel3[[#This Row],[Self-care medicines]]","v":"M"},{"$f":"Tabel3[[#This Row],[Special Food]]","v":"N"},{"$f":"Tabel3[[#This Row],[Food Supplements]]","v":"O"},{"$f":"Tabel3[[#This Row],[Healthcare Products]]","v":"P"},{"$f":"Tabel3[[#This Row],[Medical Devices]]","v":"Q"},{"$f":"Tabel3[[#This Row],[Batteries]]","v":"R"},{"$f":"Tabel3[[#This Row],[Light Bulbs]]","v":"S"},{"$f":"Tabel3[[#This Row],[Other Categories]]","v":"T"}]
[{"$f":"VLOOKUP(Tabel3[[#This Row],[GAE ID]],'BES EN'!A:AJ,36,FALSE)","v":"Additional trade item description language code"},{"$f":"Tabel3[[#This Row],[GDSN-naam]]","v":"additionalTradeItemDescription/@languageCode"},{"$f":"Tabel3[[#This Row],[GDM Verplicht / Conditioneel]]","v":"Optional"},{"$f":"Tabel3[[#This Row],[DMS controle]]","v":0},{"$f":"Tabel3[[#This Row],[BMS ID]]","v":3505},{"$f":"Tabel3[[#This Row],[Formaat]]","v":"Defined values"},{"$f":"Tabel3[[#This Row],[X Path]]","v":"/catalogue_item_notification:catalogueItemNotificationMessage/transaction/documentCommand/catalogue_item_notification:catalogueItemNotification/catalogueItem/tradeItem/tradeItemInformation/extension/*[namespace-uri()='urn:gs1:gdsn:trade_item_description:xsd:3' and local-name()='tradeItemDescriptionModule']/tradeItemDescriptionInformation/additionalTradeItemDescription/@languageCode"},{"$f":"Tabel3[[#This Row],[GDM laag]]","v":"Global"},{"$f":"VLOOKUP(Tabel3[[#This Row],[GAE ID]],'BES EN'!A:AJ,27,FALSE)","v":"Mandatory in case the 'Additional trade item description' field is populated."},null,{"$f":"Tabel3[[#This Row],[Dairy, Refrigerated & Frozen]]","v":"A"},{"$f":"Tabel3[[#This Row],[Deli & Prepared]]","v":"B"},{"$f":"Tabel3[[#This Row],[Fresh Meat]]","v":"C"},{"$f":"Tabel3[[#This Row],[Fresh Fish]]","v":"D"},{"$f":"Tabel3[[#This Row],[Fresh Fruits & Vegetables]]","v":"E"},{"$f":"Tabel3[[#This Row],[Grocery]]","v":"F"},{"$f":"Tabel3[[#This Row],[Cleaners]]","v":"G"},{"$f":"Tabel3[[#This Row],[Disposables]]","v":"H"},{"$f":"Tabel3[[#This Row],[Beauty & Personal Care]]","v":"I"},{"$f":"Tabel3[[#This Row],[Petfood]]","v":"J"},{"$f":"Tabel3[[#This Row],[Alcoholic Beverages]]","v":"K"},{"$f":"Tabel3[[#This Row],[Tobacco]]","v":"L"},{"$f":"Tabel3[[#This Row],[Self-care medicines]]","v":"M"},{"$f":"Tabel3[[#This Row],[Special Food]]","v":"N"},{"$f":"Tabel3[[#This Row],[Food Supplements]]","v":"O"},{"$f":"Tabel3[[#This Row],[Healthcare Products]]","v":"P"},{"$f":"Tabel3[[#This Row],[Medical Devices]]","v":"Q"},{"$f":"Tabel3[[#This Row],[Batteries]]","v":"R"},{"$f":"Tabel3[[#This Row],[Light Bulbs]]","v":"S"},{"$f":"Tabel3[[#This Row],[Other Categories]]","v":"T"}]
[{"$f":"VLOOKUP(Tabel3[[#This Row],[GAE ID]],'BES EN'!A:AJ,36,FALSE)","v":"Brand name"},{"$f":"Tabel3[[#This Row],[GDSN-naam]]","v":"brandName"},{"$f":"Tabel3[[#This Row],[GDM Verplicht / Conditioneel]]","v":"Mandatory"},{"$f":"Tabel3[[#This Row],[DMS controle]]","v":"X"},{"$f":"Tabel3[[#This Row],[BMS ID]]","v":3541},{"$f":"Tabel3[[#This Row],[Formaat]]","v":"an..70"},{"$f":"Tabel3[[#This Row],[X Path]]","v":"/catalogue_item_notification:catalogueItemNotificationMessage/transaction/documentCommand/catalogue_item_notification:catalogueItemNotification/catalogueItem/tradeItem/tradeItemInformation/extension/*[namespace-uri()='urn:gs1:gdsn:trade_item_description:xsd:3' and local-name()='tradeItemDescriptionModule']/tradeItemDescriptionInformation/brandNameInformation/brandName"},{"$f":"Tabel3[[#This Row],[GDM laag]]","v":"Global"},{"$f":"VLOOKUP(Tabel3[[#This Row],[GAE ID]],'BES EN'!A:AJ,27,FALSE)","v":"Mandatory"},null,{"$f":"Tabel3[[#This Row],[Dairy, Refrigerated & Frozen]]","v":"A"},{"$f":"Tabel3[[#This Row],[Deli & Prepared]]","v":"B"},{"$f":"Tabel3[[#This Row],[Fresh Meat]]","v":"C"},{"$f":"Tabel3[[#This Row],[Fresh Fish]]","v":"D"},{"$f":"Tabel3[[#This Row],[Fresh Fruits & Vegetables]]","v":"E"},{"$f":"Tabel3[[#This Row],[Grocery]]","v":"F"},{"$f":"Tabel3[[#This Row],[Cleaners]]","v":"G"},{"$f":"Tabel3[[#This Row],[Disposables]]","v":"H"},{"$f":"Tabel3[[#This Row],[Beauty & Personal Care]]","v":"I"},{"$f":"Tabel3[[#This Row],[Petfood]]","v":"J"},{"$f":"Tabel3[[#This Row],[Alcoholic Beverages]]","v":"K"},{"$f":"Tabel3[[#This Row],[Tobacco]]","v":"L"},{"$f":"Tabel3[[#This Row],[Self-care medicines]]","v":"M"},{"$f":"Tabel3[[#This Row],[Special Food]]","v":"N"},{"$f":"Tabel3[[#This Row],[Food Supplements]]","v":"O"},{"$f":"Tabel3[[#This Row],[Healthcare Products]]","v":"P"},{"$f":"Tabel3[[#This Row],[Medical Devices]]","v":"Q"},{"$f":"Tabel3[[#This Row],[Batteries]]","v":"R"},{"$f":"Tabel3[[#This Row],[Light Bulbs]]","v":"S"},{"$f":"Tabel3[[#This Row],[Other Categories]]","v":"T"}]
[{"$f":"VLOOKUP(Tabel3[[#This Row],[GAE ID]],'BES EN'!A:AJ,36,FALSE)","v":"Sub brand"},{"$f":"Tabel3[[#This Row],[GDSN-naam]]","v":"subBrand"},{"$f":"Tabel3[[#This Row],[GDM Verplicht / Conditioneel]]","v":"Conditional"},{"$f":"Tabel3[[#This Row],[DMS controle]]","v":"X"},{"$f":"Tabel3[[#This Row],[BMS ID]]","v":3546},{"$f":"Tabel3[[#This Row],[Formaat]]","v":"an..70"},{"$f":"Tabel3[[#This Row],[X Path]]","v":"/catalogue_item_notification:catalogueItemNotificationMessage/transaction/documentCommand/catalogue_item_notification:catalogueItemNotification/catalogueItem/tradeItem/tradeItemInformation/extension/*[namespace-uri()='urn:gs1:gdsn:trade_item_description:xsd:3' and local-name()='tradeItemDescriptionModule']/tradeItemDescriptionInformation/brandNameInformation/subBrand"},{"$f":"Tabel3[[#This Row],[GDM laag]]","v":"Global"},{"$f":"VLOOKUP(Tabel3[[#This Row],[GAE ID]],'BES EN'!A:AJ,27,FALSE)","v":" "},null,{"$f":"Tabel3[[#This Row],[Dairy, Refrigerated & Frozen]]","v":"A"},{"$f":"Tabel3[[#This Row],[Deli & Prepared]]","v":"B"},{"$f":"Tabel3[[#This Row],[Fresh Meat]]","v":"C"},{"$f":"Tabel3[[#This Row],[Fresh Fish]]","v":"D"},{"$f":"Tabel3[[#This Row],[Fresh Fruits & Vegetables]]","v":"E"},{"$f":"Tabel3[[#This Row],[Grocery]]","v":"F"},{"$f":"Tabel3[[#This Row],[Cleaners]]","v":"G"},{"$f":"Tabel3[[#This Row],[Disposables]]","v":"H"},{"$f":"Tabel3[[#This Row],[Beauty & Personal Care]]","v":"I"},{"$f":"Tabel3[[#This Row],[Petfood]]","v":"J"},{"$f":"Tabel3[[#This Row],[Alcoholic Beverages]]","v":"K"},{"$f":"Tabel3[[#This Row],[Tobacco]]","v":"L"},{"$f":"Tabel3[[#This Row],[Self-care medicines]]","v":"M"},{"$f":"Tabel3[[#This Row],[Special Food]]","v":"N"},{"$f":"Tabel3[[#This Row],[Food Supplements]]","v":"O"},{"$f":"Tabel3[[#This Row],[Healthcare Products]]","v":"P"},{"$f":"Tabel3[[#This Row],[Medical Devices]]","v":"Q"},{"$f":"Tabel3[[#This Row],[Batteries]]","v":"R"},{"$f":"Tabel3[[#This Row],[Light Bulbs]]","v":"S"},{"$f":"Tabel3[[#This Row],[Other Categories]]","v":"T"}]
[{"$f":"VLOOKUP(Tabel3[[#This Row],[GAE ID]],'BES EN'!A:AJ,36,FALSE)","v":"Functional name"},{"$f":"Tabel3[[#This Row],[GDSN-naam]]","v":"functionalName"},{"$f":"Tabel3[[#This Row],[GDM Verplicht / Conditioneel]]","v":"Mandatory"},{"$f":"Tabel3[[#This Row],[DMS controle]]","v":"X"},{"$f":"Tabel3[[#This Row],[BMS ID]]","v":3508},{"$f":"Tabel3[[#This Row],[Formaat]]","v":"an..35"},{"$f":"Tabel3[[#This Row],[X Path]]","v":"/catalogue_item_notification:catalogueItemNotificationMessage/transaction/documentCommand/catalogue_item_notification:catalogueItemNotification/catalogueItem/tradeItem/tradeItemInformation/extension/*[namespace-uri()='urn:gs1:gdsn:trade_item_description:xsd:3' and local-name()='tradeItemDescriptionModule']/tradeItemDescriptionInformation/functionalName"},{"$f":"Tabel3[[#This Row],[GDM laag]]","v":"Global"},{"$f":"VLOOKUP(Tabel3[[#This Row],[GAE ID]],'BES EN'!A:AJ,27,FALSE)","v":"Mandatory"},null,{"$f":"Tabel3[[#This Row],[Dairy, Refrigerated & Frozen]]","v":"A"},{"$f":"Tabel3[[#This Row],[Deli & Prepared]]","v":"B"},{"$f":"Tabel3[[#This Row],[Fresh Meat]]","v":"C"},{"$f":"Tabel3[[#This Row],[Fresh Fish]]","v":"D"},{"$f":"Tabel3[[#This Row],[Fresh Fruits & Vegetables]]","v":"E"},{"$f":"Tabel3[[#This Row],[Grocery]]","v":"F"},{"$f":"Tabel3[[#This Row],[Cleaners]]","v":"G"},{"$f":"Tabel3[[#This Row],[Disposables]]","v":"H"},{"$f":"Tabel3[[#This Row],[Beauty & Personal Care]]","v":"I"},{"$f":"Tabel3[[#This Row],[Petfood]]","v":"J"},{"$f":"Tabel3[[#This Row],[Alcoholic Beverages]]","v":"K"},{"$f":"Tabel3[[#This Row],[Tobacco]]","v":"L"},{"$f":"Tabel3[[#This Row],[Self-care medicines]]","v":"M"},{"$f":"Tabel3[[#This Row],[Special Food]]","v":"N"},{"$f":"Tabel3[[#This Row],[Food Supplements]]","v":"O"},{"$f":"Tabel3[[#This Row],[Healthcare Products]]","v":"P"},{"$f":"Tabel3[[#This Row],[Medical Devices]]","v":"Q"},{"$f":"Tabel3[[#This Row],[Batteries]]","v":"R"},{"$f":"Tabel3[[#This Row],[Light Bulbs]]","v":"S"},{"$f":"Tabel3[[#This Row],[Other Categories]]","v":"T"}]
[{"$f":"VLOOKUP(Tabel3[[#This Row],[GAE ID]],'BES EN'!A:AJ,36,FALSE)","v":"Functional name language code"},{"$f":"Tabel3[[#This Row],[GDSN-naam]]","v":"functionalName/@languageCode"},{"$f":"Tabel3[[#This Row],[GDM Verplicht / Conditioneel]]","v":"Mandatory"},{"$f":"Tabel3[[#This Row],[DMS controle]]","v":0},{"$f":"Tabel3[[#This Row],[BMS ID]]","v":3509},{"$f":"Tabel3[[#This Row],[Formaat]]","v":"Defined values"},{"$f":"Tabel3[[#This Row],[X Path]]","v":"/catalogue_item_notification:catalogueItemNotificationMessage/transaction/documentCommand/catalogue_item_notification:catalogueItemNotification/catalogueItem/tradeItem/tradeItemInformation/extension/*[namespace-uri()='urn:gs1:gdsn:trade_item_description:xsd:3' and local-name()='tradeItemDescriptionModule']/tradeItemDescriptionInformation/functionalName/@languageCode"},{"$f":"Tabel3[[#This Row],[GDM laag]]","v":"Global"},{"$f":"VLOOKUP(Tabel3[[#This Row],[GAE ID]],'BES EN'!A:AJ,27,FALSE)","v":"Mandatory"},null,{"$f":"Tabel3[[#This Row],[Dairy, Refrigerated & Frozen]]","v":"A"},{"$f":"Tabel3[[#This Row],[Deli & Prepared]]","v":"B"},{"$f":"Tabel3[[#This Row],[Fresh Meat]]","v":"C"},{"$f":"Tabel3[[#This Row],[Fresh Fish]]","v":"D"},{"$f":"Tabel3[[#This Row],[Fresh Fruits & Vegetables]]","v":"E"},{"$f":"Tabel3[[#This Row],[Grocery]]","v":"F"},{"$f":"Tabel3[[#This Row],[Cleaners]]","v":"G"},{"$f":"Tabel3[[#This Row],[Disposables]]","v":"H"},{"$f":"Tabel3[[#This Row],[Beauty & Personal Care]]","v":"I"},{"$f":"Tabel3[[#This Row],[Petfood]]","v":"J"},{"$f":"Tabel3[[#This Row],[Alcoholic Beverages]]","v":"K"},{"$f":"Tabel3[[#This Row],[Tobacco]]","v":"L"},{"$f":"Tabel3[[#This Row],[Self-care medicines]]","v":"M"},{"$f":"Tabel3[[#This Row],[Special Food]]","v":"N"},{"$f":"Tabel3[[#This Row],[Food Supplements]]","v":"O"},{"$f":"Tabel3[[#This Row],[Healthcare Products]]","v":"P"},{"$f":"Tabel3[[#This Row],[Medical Devices]]","v":"Q"},{"$f":"Tabel3[[#This Row],[Batteries]]","v":"R"},{"$f":"Tabel3[[#This Row],[Light Bulbs]]","v":"S"},{"$f":"Tabel3[[#This Row],[Other Categories]]","v":"T"}]
[{"$f":"VLOOKUP(Tabel3[[#This Row],[GAE ID]],'BES EN'!A:AJ,36,FALSE)","v":"Alternative colour description"},{"$f":"Tabel3[[#This Row],[GDSN-naam]]","v":"colourDescription"},{"$f":"Tabel3[[#This Row],[GDM Verplicht / Conditioneel]]","v":"Conditional"},null,{"$f":"Tabel3[[#This Row],[BMS ID]]","v":3552},{"$f":"Tabel3[[#This Row],[Formaat]]","v":"an..80"},{"$f":"Tabel3[[#This Row],[X Path]]","v":"/catalogue_item_notification:catalogueItemNotificationMessage/transaction/documentCommand/catalogue_item_notification:catalogueItemNotification/catalogueItem/tradeItem/tradeItemInformation/extension/*[namespace-uri()='urn:gs1:gdsn:trade_item_description:xsd:3' and local-name()='tradeItemDescriptionModule']/tradeItemDescriptionInformation/colour/colourDescription"},{"$f":"Tabel3[[#This Row],[GDM laag]]","v":"Global"},{"$f":"VLOOKUP(Tabel3[[#This Row],[GAE ID]],'BES EN'!A:AJ,27,FALSE)","v":0},null,{"$f":"Tabel3[[#This Row],[Dairy, Refrigerated & Frozen]]","v":"-"},{"$f":"Tabel3[[#This Row],[Deli & Prepared]]","v":"-"},{"$f":"Tabel3[[#This Row],[Fresh Meat]]","v":"-"},{"$f":"Tabel3[[#This Row],[Fresh Fish]]","v":"-"},{"$f":"Tabel3[[#This Row],[Fresh Fruits & Vegetables]]","v":"E"},{"$f":"Tabel3[[#This Row],[Grocery]]","v":"-"},{"$f":"Tabel3[[#This Row],[Cleaners]]","v":"-"},{"$f":"Tabel3[[#This Row],[Disposables]]","v":"-"},{"$f":"Tabel3[[#This Row],[Beauty & Personal Care]]","v":"-"},{"$f":"Tabel3[[#This Row],[Petfood]]","v":"-"},{"$f":"Tabel3[[#This Row],[Alcoholic Beverages]]","v":"-"},{"$f":"Tabel3[[#This Row],[Tobacco]]","v":"-"},{"$f":"Tabel3[[#This Row],[Self-care medicines]]","v":"-"},{"$f":"Tabel3[[#This Row],[Special Food]]","v":"-"},{"$f":"Tabel3[[#This Row],[Food Supplements]]","v":"-"},{"$f":"Tabel3[[#This Row],[Healthcare Products]]","v":"-"},{"$f":"Tabel3[[#This Row],[Medical Devices]]","v":"-"},{"$f":"Tabel3[[#This Row],[Batteries]]","v":"-"},{"$f":"Tabel3[[#This Row],[Light Bulbs]]","v":"-"},{"$f":"Tabel3[[#This Row],[Other Categories]]","v":"-"}]
[{"$f":"VLOOKUP(Tabel3[[#This Row],[GAE ID]],'BES EN'!A:AJ,36,FALSE)","v":"Alternative colour description language code"},{"$f":"Tabel3[[#This Row],[GDSN-naam]]","v":"colourDescription/@languagecode"},{"$f":"Tabel3[[#This Row],[GDM Verplicht / Conditioneel]]","v":"Conditional"},null,{"$f":"Tabel3[[#This Row],[BMS ID]]","v":3553},{"$f":"Tabel3[[#This Row],[Formaat]]","v":"Defined values"},{"$f":"Tabel3[[#This Row],[X Path]]","v":"/catalogue_item_notification:catalogueItemNotificationMessage/transaction/documentCommand/catalogue_item_notification:catalogueItemNotification/catalogueItem/tradeItem/tradeItemInformation/extension/*[namespace-uri()='urn:gs1:gdsn:trade_item_description:xsd:3' and local-name()='tradeItemDescriptionModule']/tradeItemDescriptionInformation/colour/colourDescription/@languagecode"},{"$f":"Tabel3[[#This Row],[GDM laag]]","v":"Global"},{"$f":"VLOOKUP(Tabel3[[#This Row],[GAE ID]],'BES EN'!A:AJ,27,FALSE)","v":"Mandatory if the ‘Alternative colour description’ field is populated for the consumer unit."},null,{"$f":"Tabel3[[#This Row],[Dairy, Refrigerated & Frozen]]","v":"-"},{"$f":"Tabel3[[#This Row],[Deli & Prepared]]","v":"-"},{"$f":"Tabel3[[#This Row],[Fresh Meat]]","v":"-"},{"$f":"Tabel3[[#This Row],[Fresh Fish]]","v":"-"},{"$f":"Tabel3[[#This Row],[Fresh Fruits & Vegetables]]","v":"E"},{"$f":"Tabel3[[#This Row],[Grocery]]","v":"-"},{"$f":"Tabel3[[#This Row],[Cleaners]]","v":"-"},{"$f":"Tabel3[[#This Row],[Disposables]]","v":"-"},{"$f":"Tabel3[[#This Row],[Beauty & Personal Care]]","v":"-"},{"$f":"Tabel3[[#This Row],[Petfood]]","v":"-"},{"$f":"Tabel3[[#This Row],[Alcoholic Beverages]]","v":"-"},{"$f":"Tabel3[[#This Row],[Tobacco]]","v":"-"},{"$f":"Tabel3[[#This Row],[Self-care medicines]]","v":"-"},{"$f":"Tabel3[[#This Row],[Special Food]]","v":"-"},{"$f":"Tabel3[[#This Row],[Food Supplements]]","v":"-"},{"$f":"Tabel3[[#This Row],[Healthcare Products]]","v":"-"},{"$f":"Tabel3[[#This Row],[Medical Devices]]","v":"-"},{"$f":"Tabel3[[#This Row],[Batteries]]","v":"-"},{"$f":"Tabel3[[#This Row],[Light Bulbs]]","v":"-"},{"$f":"Tabel3[[#This Row],[Other Categories]]","v":"-"}]
["Hierarchy",null,{"$f":"Tabel3[[#This Row],[GDM Verplicht / Conditioneel]]","v":0},"",null,"","",null,null,null,"A","B","C","D","E","F","G","H","I","J","K","L","M","N","O","P","Q","R","S","T"]
[{"$f":"VLOOKUP(Tabel3[[#This Row],[GAE ID]],'BES EN'!A:AJ,36,FALSE)","v":"Quantity of children"},{"$f":"Tabel3[[#This Row],[GDSN-naam]]","v":"quantityOfChildren"},{"$f":"Tabel3[[#This Row],[GDM Verplicht / Conditioneel]]","v":"Conditional"},{"$f":"Tabel3[[#This Row],[DMS controle]]","v":0},{"$f":"Tabel3[[#This Row],[BMS ID]]","v":199},{"$f":"Tabel3[[#This Row],[Formaat]]","v":"Non-negative Integer"},{"$f":"Tabel3[[#This Row],[X Path]]","v":"/catalogue_item_notification:catalogueItemNotificationMessage/transaction/documentCommand/catalogue_item_notification:catalogueItemNotification/catalogueItem/tradeItem/nextLowerLevelTradeItemInformation/quantityOfChildren"},{"$f":"Tabel3[[#This Row],[GDM laag]]","v":"Global"},{"$f":"VLOOKUP(Tabel3[[#This Row],[GAE ID]],'BES EN'!A:AJ,27,FALSE)","v":"Mandatory if there are children"},null,{"$f":"Tabel3[[#This Row],[Dairy, Refrigerated & Frozen]]","v":"A"},{"$f":"Tabel3[[#This Row],[Deli & Prepared]]","v":"B"},{"$f":"Tabel3[[#This Row],[Fresh Meat]]","v":"C"},{"$f":"Tabel3[[#This Row],[Fresh Fish]]","v":"D"},{"$f":"Tabel3[[#This Row],[Fresh Fruits & Vegetables]]","v":"E"},{"$f":"Tabel3[[#This Row],[Grocery]]","v":"F"},{"$f":"Tabel3[[#This Row],[Cleaners]]","v":"G"},{"$f":"Tabel3[[#This Row],[Disposables]]","v":"H"},{"$f":"Tabel3[[#This Row],[Beauty & Personal Care]]","v":"I"},{"$f":"Tabel3[[#This Row],[Petfood]]","v":"J"},{"$f":"Tabel3[[#This Row],[Alcoholic Beverages]]","v":"K"},{"$f":"Tabel3[[#This Row],[Tobacco]]","v":"L"},{"$f":"Tabel3[[#This Row],[Self-care medicines]]","v":"M"},{"$f":"Tabel3[[#This Row],[Special Food]]","v":"N"},{"$f":"Tabel3[[#This Row],[Food Supplements]]","v":"O"},{"$f":"Tabel3[[#This Row],[Healthcare Products]]","v":"P"},{"$f":"Tabel3[[#This Row],[Medical Devices]]","v":"Q"},{"$f":"Tabel3[[#This Row],[Batteries]]","v":"R"},{"$f":"Tabel3[[#This Row],[Light Bulbs]]","v":"S"},{"$f":"Tabel3[[#This Row],[Other Categories]]","v":"T"}]
[{"$f":"VLOOKUP(Tabel3[[#This Row],[GAE ID]],'BES EN'!A:AJ,36,FALSE)","v":"Total quantity of next lower level trade item"},{"$f":"Tabel3[[#This Row],[GDSN-naam]]","v":"totalQuantityOfNextLowerLevelTradeItem"},{"$f":"Tabel3[[#This Row],[GDM Verplicht / Conditioneel]]","v":"Conditional"},{"$f":"Tabel3[[#This Row],[DMS controle]]","v":0},{"$f":"Tabel3[[#This Row],[BMS ID]]","v":200},{"$f":"Tabel3[[#This Row],[Formaat]]","v":"Non-negative Integer"},{"$f":"Tabel3[[#This Row],[X Path]]","v":"/catalogue_item_notification:catalogueItemNotificationMessage/transaction/documentCommand/catalogue_item_notification:catalogueItemNotification/catalogueItem/tradeItem/nextLowerLevelTradeItemInformation/totalQuantityOfNextLowerLevelTradeItem"},{"$f":"Tabel3[[#This Row],[GDM laag]]","v":"Global"},{"$f":"VLOOKUP(Tabel3[[#This Row],[GAE ID]],'BES EN'!A:AJ,27,FALSE)","v":"Mandatory if there are children"},null,{"$f":"Tabel3[[#This Row],[Dairy, Refrigerated & Frozen]]","v":"A"},{"$f":"Tabel3[[#This Row],[Deli & Prepared]]","v":"B"},{"$f":"Tabel3[[#This Row],[Fresh Meat]]","v":"C"},{"$f":"Tabel3[[#This Row],[Fresh Fish]]","v":"D"},{"$f":"Tabel3[[#This Row],[Fresh Fruits & Vegetables]]","v":"E"},{"$f":"Tabel3[[#This Row],[Grocery]]","v":"F"},{"$f":"Tabel3[[#This Row],[Cleaners]]","v":"G"},{"$f":"Tabel3[[#This Row],[Disposables]]","v":"H"},{"$f":"Tabel3[[#This Row],[Beauty & Personal Care]]","v":"I"},{"$f":"Tabel3[[#This Row],[Petfood]]","v":"J"},{"$f":"Tabel3[[#This Row],[Alcoholic Beverages]]","v":"K"},{"$f":"Tabel3[[#This Row],[Tobacco]]","v":"L"},{"$f":"Tabel3[[#This Row],[Self-care medicines]]","v":"M"},{"$f":"Tabel3[[#This Row],[Special Food]]","v":"N"},{"$f":"Tabel3[[#This Row],[Food Supplements]]","v":"O"},{"$f":"Tabel3[[#This Row],[Healthcare Products]]","v":"P"},{"$f":"Tabel3[[#This Row],[Medical Devices]]","v":"Q"},{"$f":"Tabel3[[#This Row],[Batteries]]","v":"R"},{"$f":"Tabel3[[#This Row],[Light Bulbs]]","v":"S"},{"$f":"Tabel3[[#This Row],[Other Categories]]","v":"T"}]
[{"$f":"VLOOKUP(Tabel3[[#This Row],[GAE ID]],'BES EN'!A:AJ,36,FALSE)","v":"Next lower level trade item information (GTIN)"},{"$f":"Tabel3[[#This Row],[GDSN-naam]]","v":"gtin"},{"$f":"Tabel3[[#This Row],[GDM Verplicht / Conditioneel]]","v":"Conditional"},{"$f":"Tabel3[[#This Row],[DMS controle]]","v":0},{"$f":"Tabel3[[#This Row],[BMS ID]]","v":203},{"$f":"Tabel3[[#This Row],[Formaat]]","v":"n14"},{"$f":"Tabel3[[#This Row],[X Path]]","v":"/catalogue_item_notification:catalogueItemNotificationMessage/transaction/documentCommand/catalogue_item_notification:catalogueItemNotification/catalogueItem/tradeItem/nextLowerLevelTradeItemInformation/childTradeItem/gtin"},{"$f":"Tabel3[[#This Row],[GDM laag]]","v":"Global"},{"$f":"VLOOKUP(Tabel3[[#This Row],[GAE ID]],'BES EN'!A:AJ,27,FALSE)","v":"Mandatory if there are children"},null,{"$f":"Tabel3[[#This Row],[Dairy, Refrigerated & Frozen]]","v":"A"},{"$f":"Tabel3[[#This Row],[Deli & Prepared]]","v":"B"},{"$f":"Tabel3[[#This Row],[Fresh Meat]]","v":"C"},{"$f":"Tabel3[[#This Row],[Fresh Fish]]","v":"D"},{"$f":"Tabel3[[#This Row],[Fresh Fruits & Vegetables]]","v":"E"},{"$f":"Tabel3[[#This Row],[Grocery]]","v":"F"},{"$f":"Tabel3[[#This Row],[Cleaners]]","v":"G"},{"$f":"Tabel3[[#This Row],[Disposables]]","v":"H"},{"$f":"Tabel3[[#This Row],[Beauty & Personal Care]]","v":"I"},{"$f":"Tabel3[[#This Row],[Petfood]]","v":"J"},{"$f":"Tabel3[[#This Row],[Alcoholic Beverages]]","v":"K"},{"$f":"Tabel3[[#This Row],[Tobacco]]","v":"L"},{"$f":"Tabel3[[#This Row],[Self-care medicines]]","v":"M"},{"$f":"Tabel3[[#This Row],[Special Food]]","v":"N"},{"$f":"Tabel3[[#This Row],[Food Supplements]]","v":"O"},{"$f":"Tabel3[[#This Row],[Healthcare Products]]","v":"P"},{"$f":"Tabel3[[#This Row],[Medical Devices]]","v":"Q"},{"$f":"Tabel3[[#This Row],[Batteries]]","v":"R"},{"$f":"Tabel3[[#This Row],[Light Bulbs]]","v":"S"},{"$f":"Tabel3[[#This Row],[Other Categories]]","v":"T"}]
[{"$f":"VLOOKUP(Tabel3[[#This Row],[GAE ID]],'BES EN'!A:AJ,36,FALSE)","v":"Quantity of next lower level trade item"},{"$f":"Tabel3[[#This Row],[GDSN-naam]]","v":"quantityOfNextLowerLevelTradeItem"},{"$f":"Tabel3[[#This Row],[GDM Verplicht / Conditioneel]]","v":"Conditional"},{"$f":"Tabel3[[#This Row],[DMS controle]]","v":0},{"$f":"Tabel3[[#This Row],[BMS ID]]","v":202},{"$f":"Tabel3[[#This Row],[Formaat]]","v":"Non-negative Integer"},{"$f":"Tabel3[[#This Row],[X Path]]","v":"/catalogue_item_notification:catalogueItemNotificationMessage/transaction/documentCommand/catalogue_item_notification:catalogueItemNotification/catalogueItem/tradeItem/nextLowerLevelTradeItemInformation/childTradeItem/quantityOfNextLowerLevelTradeItem"},{"$f":"Tabel3[[#This Row],[GDM laag]]","v":"Global"},{"$f":"VLOOKUP(Tabel3[[#This Row],[GAE ID]],'BES EN'!A:AJ,27,FALSE)","v":"Mandatory if there are children"},null,{"$f":"Tabel3[[#This Row],[Dairy, Refrigerated & Frozen]]","v":"A"},{"$f":"Tabel3[[#This Row],[Deli & Prepared]]","v":"B"},{"$f":"Tabel3[[#This Row],[Fresh Meat]]","v":"C"},{"$f":"Tabel3[[#This Row],[Fresh Fish]]","v":"D"},{"$f":"Tabel3[[#This Row],[Fresh Fruits & Vegetables]]","v":"E"},{"$f":"Tabel3[[#This Row],[Grocery]]","v":"F"},{"$f":"Tabel3[[#This Row],[Cleaners]]","v":"G"},{"$f":"Tabel3[[#This Row],[Disposables]]","v":"H"},{"$f":"Tabel3[[#This Row],[Beauty & Personal Care]]","v":"I"},{"$f":"Tabel3[[#This Row],[Petfood]]","v":"J"},{"$f":"Tabel3[[#This Row],[Alcoholic Beverages]]","v":"K"},{"$f":"Tabel3[[#This Row],[Tobacco]]","v":"L"},{"$f":"Tabel3[[#This Row],[Self-care medicines]]","v":"M"},{"$f":"Tabel3[[#This Row],[Special Food]]","v":"N"},{"$f":"Tabel3[[#This Row],[Food Supplements]]","v":"O"},{"$f":"Tabel3[[#This Row],[Healthcare Products]]","v":"P"},{"$f":"Tabel3[[#This Row],[Medical Devices]]","v":"Q"},{"$f":"Tabel3[[#This Row],[Batteries]]","v":"R"},{"$f":"Tabel3[[#This Row],[Light Bulbs]]","v":"S"},{"$f":"Tabel3[[#This Row],[Other Categories]]","v":"T"}]
["Productowner information",null,{"$f":"Tabel3[[#This Row],[GDM Verplicht / Conditioneel]]","v":0},"",null,"","",null,null,null,"A","B","C","D","E","F","G","H","I","J","K","L","M","N","O","P","Q","R","S","T"]
[{"$f":"VLOOKUP(Tabel3[[#This Row],[GAE ID]],'BES EN'!A:AJ,36,FALSE)","v":"Brand owner (GLN)"},{"$f":"Tabel3[[#This Row],[GDSN-naam]]","v":"gln"},{"$f":"Tabel3[[#This Row],[GDM Verplicht / Conditioneel]]","v":"Conditional"},{"$f":"Tabel3[[#This Row],[DMS controle]]","v":"X"},{"$f":"Tabel3[[#This Row],[BMS ID]]","v":75},{"$f":"Tabel3[[#This Row],[Formaat]]","v":"n13"},{"$f":"Tabel3[[#This Row],[X Path]]","v":"/catalogue_item_notification:catalogueItemNotificationMessage/transaction/documentCommand/catalogue_item_notification:catalogueItemNotification/catalogueItem/tradeItem/brandOwner/gln"},{"$f":"Tabel3[[#This Row],[GDM laag]]","v":"Global"},{"$f":"VLOOKUP(Tabel3[[#This Row],[GAE ID]],'BES EN'!A:AJ,27,FALSE)","v":"Mandatory if the information provider is not the brand owner"},null,{"$f":"Tabel3[[#This Row],[Dairy, Refrigerated & Frozen]]","v":"A"},{"$f":"Tabel3[[#This Row],[Deli & Prepared]]","v":"B"},{"$f":"Tabel3[[#This Row],[Fresh Meat]]","v":"C"},{"$f":"Tabel3[[#This Row],[Fresh Fish]]","v":"D"},{"$f":"Tabel3[[#This Row],[Fresh Fruits & Vegetables]]","v":"E"},{"$f":"Tabel3[[#This Row],[Grocery]]","v":"F"},{"$f":"Tabel3[[#This Row],[Cleaners]]","v":"G"},{"$f":"Tabel3[[#This Row],[Disposables]]","v":"H"},{"$f":"Tabel3[[#This Row],[Beauty & Personal Care]]","v":"I"},{"$f":"Tabel3[[#This Row],[Petfood]]","v":"J"},{"$f":"Tabel3[[#This Row],[Alcoholic Beverages]]","v":"K"},{"$f":"Tabel3[[#This Row],[Tobacco]]","v":"L"},{"$f":"Tabel3[[#This Row],[Self-care medicines]]","v":"M"},{"$f":"Tabel3[[#This Row],[Special Food]]","v":"N"},{"$f":"Tabel3[[#This Row],[Food Supplements]]","v":"O"},{"$f":"Tabel3[[#This Row],[Healthcare Products]]","v":"P"},{"$f":"Tabel3[[#This Row],[Medical Devices]]","v":"Q"},{"$f":"Tabel3[[#This Row],[Batteries]]","v":"R"},{"$f":"Tabel3[[#This Row],[Light Bulbs]]","v":"S"},{"$f":"Tabel3[[#This Row],[Other Categories]]","v":"T"}]
[{"$f":"VLOOKUP(Tabel3[[#This Row],[GAE ID]],'BES EN'!A:AJ,36,FALSE)","v":"Name of brand owner"},{"$f":"Tabel3[[#This Row],[GDSN-naam]]","v":"partyName"},{"$f":"Tabel3[[#This Row],[GDM Verplicht / Conditioneel]]","v":"Conditional"},{"$f":"Tabel3[[#This Row],[DMS controle]]","v":"X"},{"$f":"Tabel3[[#This Row],[BMS ID]]","v":77},{"$f":"Tabel3[[#This Row],[Formaat]]","v":"an..200"},{"$f":"Tabel3[[#This Row],[X Path]]","v":"/catalogue_item_notification:catalogueItemNotificationMessage/transaction/documentCommand/catalogue_item_notification:catalogueItemNotification/catalogueItem/tradeItem/brandOwner/partyName"},{"$f":"Tabel3[[#This Row],[GDM laag]]","v":"Global"},{"$f":"VLOOKUP(Tabel3[[#This Row],[GAE ID]],'BES EN'!A:AJ,27,FALSE)","v":"Mandatory if the information provider is not the brand owner"},null,{"$f":"Tabel3[[#This Row],[Dairy, Refrigerated & Frozen]]","v":"A"},{"$f":"Tabel3[[#This Row],[Deli & Prepared]]","v":"B"},{"$f":"Tabel3[[#This Row],[Fresh Meat]]","v":"C"},{"$f":"Tabel3[[#This Row],[Fresh Fish]]","v":"D"},{"$f":"Tabel3[[#This Row],[Fresh Fruits & Vegetables]]","v":"E"},{"$f":"Tabel3[[#This Row],[Grocery]]","v":"F"},{"$f":"Tabel3[[#This Row],[Cleaners]]","v":"G"},{"$f":"Tabel3[[#This Row],[Disposables]]","v":"H"},{"$f":"Tabel3[[#This Row],[Beauty & Personal Care]]","v":"I"},{"$f":"Tabel3[[#This Row],[Petfood]]","v":"J"},{"$f":"Tabel3[[#This Row],[Alcoholic Beverages]]","v":"K"},{"$f":"Tabel3[[#This Row],[Tobacco]]","v":"L"},{"$f":"Tabel3[[#This Row],[Self-care medicines]]","v":"M"},{"$f":"Tabel3[[#This Row],[Special Food]]","v":"N"},{"$f":"Tabel3[[#This Row],[Food Supplements]]","v":"O"},{"$f":"Tabel3[[#This Row],[Healthcare Products]]","v":"P"},{"$f":"Tabel3[[#This Row],[Medical Devices]]","v":"Q"},{"$f":"Tabel3[[#This Row],[Batteries]]","v":"R"},{"$f":"Tabel3[[#This Row],[Light Bulbs]]","v":"S"},{"$f":"Tabel3[[#This Row],[Other Categories]]","v":"T"}]
[{"$f":"VLOOKUP(Tabel3[[#This Row],[GAE ID]],'BES EN'!A:AJ,36,FALSE)","v":"Manufacturer (GLN)"},{"$f":"Tabel3[[#This Row],[GDSN-naam]]","v":"gln"},{"$f":"Tabel3[[#This Row],[GDM Verplicht / Conditioneel]]","v":"Conditional"},{"$f":"Tabel3[[#This Row],[DMS controle]]","v":0},{"$f":"Tabel3[[#This Row],[BMS ID]]","v":91},{"$f":"Tabel3[[#This Row],[Formaat]]","v":"n13"},{"$f":"Tabel3[[#This Row],[X Path]]","v":"/catalogue_item_notification:catalogueItemNotificationMessage/transaction/documentCommand/catalogue_item_notification:catalogueItemNotification/catalogueItem/tradeItem/manufacturerOfTradeItem/gln"},{"$f":"Tabel3[[#This Row],[GDM laag]]","v":"Global"},{"$f":"VLOOKUP(Tabel3[[#This Row],[GAE ID]],'BES EN'!A:AJ,27,FALSE)","v":"Mandatory for the Belgian target market if it is an alcoholic beer."},null,{"$f":"Tabel3[[#This Row],[Dairy, Refrigerated & Frozen]]","v":"A"},{"$f":"Tabel3[[#This Row],[Deli & Prepared]]","v":"B"},{"$f":"Tabel3[[#This Row],[Fresh Meat]]","v":"C"},{"$f":"Tabel3[[#This Row],[Fresh Fish]]","v":"D"},{"$f":"Tabel3[[#This Row],[Fresh Fruits & Vegetables]]","v":"-"},{"$f":"Tabel3[[#This Row],[Grocery]]","v":"F"},{"$f":"Tabel3[[#This Row],[Cleaners]]","v":"G"},{"$f":"Tabel3[[#This Row],[Disposables]]","v":"H"},{"$f":"Tabel3[[#This Row],[Beauty & Personal Care]]","v":"I"},{"$f":"Tabel3[[#This Row],[Petfood]]","v":"J"},{"$f":"Tabel3[[#This Row],[Alcoholic Beverages]]","v":"K"},{"$f":"Tabel3[[#This Row],[Tobacco]]","v":"L"},{"$f":"Tabel3[[#This Row],[Self-care medicines]]","v":"M"},{"$f":"Tabel3[[#This Row],[Special Food]]","v":"N"},{"$f":"Tabel3[[#This Row],[Food Supplements]]","v":"O"},{"$f":"Tabel3[[#This Row],[Healthcare Products]]","v":"P"},{"$f":"Tabel3[[#This Row],[Medical Devices]]","v":"Q"},{"$f":"Tabel3[[#This Row],[Batteries]]","v":"R"},{"$f":"Tabel3[[#This Row],[Light Bulbs]]","v":"S"},{"$f":"Tabel3[[#This Row],[Other Categories]]","v":"T"}]
[{"$f":"VLOOKUP(Tabel3[[#This Row],[GAE ID]],'BES EN'!A:AJ,36,FALSE)","v":"Name of manufacturer of trade item"},{"$f":"Tabel3[[#This Row],[GDSN-naam]]","v":"partyName"},{"$f":"Tabel3[[#This Row],[GDM Verplicht / Conditioneel]]","v":"Conditional"},{"$f":"Tabel3[[#This Row],[DMS controle]]","v":0},{"$f":"Tabel3[[#This Row],[BMS ID]]","v":93},{"$f":"Tabel3[[#This Row],[Formaat]]","v":"an..200"},{"$f":"Tabel3[[#This Row],[X Path]]","v":"/catalogue_item_notification:catalogueItemNotificationMessage/transaction/documentCommand/catalogue_item_notification:catalogueItemNotification/catalogueItem/tradeItem/manufacturerOfTradeItem/partyName"},{"$f":"Tabel3[[#This Row],[GDM laag]]","v":"Global"},{"$f":"VLOOKUP(Tabel3[[#This Row],[GAE ID]],'BES EN'!A:AJ,27,FALSE)","v":"Mandatory for the Belgian target market if it is an alcoholic beer."},null,{"$f":"Tabel3[[#This Row],[Dairy, Refrigerated & Frozen]]","v":"A"},{"$f":"Tabel3[[#This Row],[Deli & Prepared]]","v":"B"},{"$f":"Tabel3[[#This Row],[Fresh Meat]]","v":"C"},{"$f":"Tabel3[[#This Row],[Fresh Fish]]","v":"D"},{"$f":"Tabel3[[#This Row],[Fresh Fruits & Vegetables]]","v":"-"},{"$f":"Tabel3[[#This Row],[Grocery]]","v":"F"},{"$f":"Tabel3[[#This Row],[Cleaners]]","v":"G"},{"$f":"Tabel3[[#This Row],[Disposables]]","v":"H"},{"$f":"Tabel3[[#This Row],[Beauty & Personal Care]]","v":"I"},{"$f":"Tabel3[[#This Row],[Petfood]]","v":"J"},{"$f":"Tabel3[[#This Row],[Alcoholic Beverages]]","v":"K"},{"$f":"Tabel3[[#This Row],[Tobacco]]","v":"L"},{"$f":"Tabel3[[#This Row],[Self-care medicines]]","v":"M"},{"$f":"Tabel3[[#This Row],[Special Food]]","v":"N"},{"$f":"Tabel3[[#This Row],[Food Supplements]]","v":"O"},{"$f":"Tabel3[[#This Row],[Healthcare Products]]","v":"P"},{"$f":"Tabel3[[#This Row],[Medical Devices]]","v":"Q"},{"$f":"Tabel3[[#This Row],[Batteries]]","v":"R"},{"$f":"Tabel3[[#This Row],[Light Bulbs]]","v":"S"},{"$f":"Tabel3[[#This Row],[Other Categories]]","v":"T"}]
["Transactional information",null,{"$f":"Tabel3[[#This Row],[GDM Verplicht / Conditioneel]]","v":0},"",null,"","",null,null,null,"A","B","C","D","E","F","G","H","I","J","K","L","M","N","O","P","Q","R","S","T"]
[{"$f":"VLOOKUP(Tabel3[[#This Row],[GAE ID]],'BES EN'!A:AJ,36,FALSE)","v":"Is trade item a base unit"},{"$f":"Tabel3[[#This Row],[GDSN-naam]]","v":"isTradeItemABaseUnit"},{"$f":"Tabel3[[#This Row],[GDM Verplicht / Conditioneel]]","v":"Mandatory"},{"$f":"Tabel3[[#This Row],[DMS controle]]","v":0},{"$f":"Tabel3[[#This Row],[BMS ID]]","v":56},{"$f":"Tabel3[[#This Row],[Formaat]]","v":"Boolean"},{"$f":"Tabel3[[#This Row],[X Path]]","v":"/catalogue_item_notification:catalogueItemNotificationMessage/transaction/documentCommand/catalogue_item_notification:catalogueItemNotification/catalogueItem/tradeItem/isTradeItemABaseUnit"},{"$f":"Tabel3[[#This Row],[GDM laag]]","v":"Global"},{"$f":"VLOOKUP(Tabel3[[#This Row],[GAE ID]],'BES EN'!A:AJ,27,FALSE)","v":"Mandatory"},null,{"$f":"Tabel3[[#This Row],[Dairy, Refrigerated & Frozen]]","v":"A"},{"$f":"Tabel3[[#This Row],[Deli & Prepared]]","v":"B"},{"$f":"Tabel3[[#This Row],[Fresh Meat]]","v":"C"},{"$f":"Tabel3[[#This Row],[Fresh Fish]]","v":"D"},{"$f":"Tabel3[[#This Row],[Fresh Fruits & Vegetables]]","v":"E"},{"$f":"Tabel3[[#This Row],[Grocery]]","v":"F"},{"$f":"Tabel3[[#This Row],[Cleaners]]","v":"G"},{"$f":"Tabel3[[#This Row],[Disposables]]","v":"H"},{"$f":"Tabel3[[#This Row],[Beauty & Personal Care]]","v":"I"},{"$f":"Tabel3[[#This Row],[Petfood]]","v":"J"},{"$f":"Tabel3[[#This Row],[Alcoholic Beverages]]","v":"K"},{"$f":"Tabel3[[#This Row],[Tobacco]]","v":"L"},{"$f":"Tabel3[[#This Row],[Self-care medicines]]","v":"M"},{"$f":"Tabel3[[#This Row],[Special Food]]","v":"N"},{"$f":"Tabel3[[#This Row],[Food Supplements]]","v":"O"},{"$f":"Tabel3[[#This Row],[Healthcare Products]]","v":"P"},{"$f":"Tabel3[[#This Row],[Medical Devices]]","v":"Q"},{"$f":"Tabel3[[#This Row],[Batteries]]","v":"R"},{"$f":"Tabel3[[#This Row],[Light Bulbs]]","v":"S"},{"$f":"Tabel3[[#This Row],[Other Categories]]","v":"T"}]
[{"$f":"VLOOKUP(Tabel3[[#This Row],[GAE ID]],'BES EN'!A:AJ,36,FALSE)","v":"Is trade item a consumer unit"},{"$f":"Tabel3[[#This Row],[GDSN-naam]]","v":"isTradeItemAConsumerUnit"},{"$f":"Tabel3[[#This Row],[GDM Verplicht / Conditioneel]]","v":"Mandatory"},{"$f":"Tabel3[[#This Row],[DMS controle]]","v":0},{"$f":"Tabel3[[#This Row],[BMS ID]]","v":57},{"$f":"Tabel3[[#This Row],[Formaat]]","v":"Boolean"},{"$f":"Tabel3[[#This Row],[X Path]]","v":"/catalogue_item_notification:catalogueItemNotificationMessage/transaction/documentCommand/catalogue_item_notification:catalogueItemNotification/catalogueItem/tradeItem/isTradeItemAConsumerUnit"},{"$f":"Tabel3[[#This Row],[GDM laag]]","v":"Global"},{"$f":"VLOOKUP(Tabel3[[#This Row],[GAE ID]],'BES EN'!A:AJ,27,FALSE)","v":"Mandatory"},null,{"$f":"Tabel3[[#This Row],[Dairy, Refrigerated & Frozen]]","v":"A"},{"$f":"Tabel3[[#This Row],[Deli & Prepared]]","v":"B"},{"$f":"Tabel3[[#This Row],[Fresh Meat]]","v":"C"},{"$f":"Tabel3[[#This Row],[Fresh Fish]]","v":"D"},{"$f":"Tabel3[[#This Row],[Fresh Fruits & Vegetables]]","v":"E"},{"$f":"Tabel3[[#This Row],[Grocery]]","v":"F"},{"$f":"Tabel3[[#This Row],[Cleaners]]","v":"G"},{"$f":"Tabel3[[#This Row],[Disposables]]","v":"H"},{"$f":"Tabel3[[#This Row],[Beauty & Personal Care]]","v":"I"},{"$f":"Tabel3[[#This Row],[Petfood]]","v":"J"},{"$f":"Tabel3[[#This Row],[Alcoholic Beverages]]","v":"K"},{"$f":"Tabel3[[#This Row],[Tobacco]]","v":"L"},{"$f":"Tabel3[[#This Row],[Self-care medicines]]","v":"M"},{"$f":"Tabel3[[#This Row],[Special Food]]","v":"N"},{"$f":"Tabel3[[#This Row],[Food Supplements]]","v":"O"},{"$f":"Tabel3[[#This Row],[Healthcare Products]]","v":"P"},{"$f":"Tabel3[[#This Row],[Medical Devices]]","v":"Q"},{"$f":"Tabel3[[#This Row],[Batteries]]","v":"R"},{"$f":"Tabel3[[#This Row],[Light Bulbs]]","v":"S"},{"$f":"Tabel3[[#This Row],[Other Categories]]","v":"T"}]
[{"$f":"VLOOKUP(Tabel3[[#This Row],[GAE ID]],'BES EN'!A:AJ,36,FALSE)","v":"Is trade item an orderable unit"},{"$f":"Tabel3[[#This Row],[GDSN-naam]]","v":"isTradeItemAnOrderableUnit"},{"$f":"Tabel3[[#This Row],[GDM Verplicht / Conditioneel]]","v":"Mandatory"},{"$f":"Tabel3[[#This Row],[DMS controle]]","v":0},{"$f":"Tabel3[[#This Row],[BMS ID]]","v":60},{"$f":"Tabel3[[#This Row],[Formaat]]","v":"Boolean"},{"$f":"Tabel3[[#This Row],[X Path]]","v":"/catalogue_item_notification:catalogueItemNotificationMessage/transaction/documentCommand/catalogue_item_notification:catalogueItemNotification/catalogueItem/tradeItem/isTradeItemAnOrderableUnit"},{"$f":"Tabel3[[#This Row],[GDM laag]]","v":"Global"},{"$f":"VLOOKUP(Tabel3[[#This Row],[GAE ID]],'BES EN'!A:AJ,27,FALSE)","v":"Mandatory"},null,{"$f":"Tabel3[[#This Row],[Dairy, Refrigerated & Frozen]]","v":"A"},{"$f":"Tabel3[[#This Row],[Deli & Prepared]]","v":"B"},{"$f":"Tabel3[[#This Row],[Fresh Meat]]","v":"C"},{"$f":"Tabel3[[#This Row],[Fresh Fish]]","v":"D"},{"$f":"Tabel3[[#This Row],[Fresh Fruits & Vegetables]]","v":"E"},{"$f":"Tabel3[[#This Row],[Grocery]]","v":"F"},{"$f":"Tabel3[[#This Row],[Cleaners]]","v":"G"},{"$f":"Tabel3[[#This Row],[Disposables]]","v":"H"},{"$f":"Tabel3[[#This Row],[Beauty & Personal Care]]","v":"I"},{"$f":"Tabel3[[#This Row],[Petfood]]","v":"J"},{"$f":"Tabel3[[#This Row],[Alcoholic Beverages]]","v":"K"},{"$f":"Tabel3[[#This Row],[Tobacco]]","v":"L"},{"$f":"Tabel3[[#This Row],[Self-care medicines]]","v":"M"},{"$f":"Tabel3[[#This Row],[Special Food]]","v":"N"},{"$f":"Tabel3[[#This Row],[Food Supplements]]","v":"O"},{"$f":"Tabel3[[#This Row],[Healthcare Products]]","v":"P"},{"$f":"Tabel3[[#This Row],[Medical Devices]]","v":"Q"},{"$f":"Tabel3[[#This Row],[Batteries]]","v":"R"},{"$f":"Tabel3[[#This Row],[Light Bulbs]]","v":"S"},{"$f":"Tabel3[[#This Row],[Other Categories]]","v":"T"}]
[{"$f":"VLOOKUP(Tabel3[[#This Row],[GAE ID]],'BES EN'!A:AJ,36,FALSE)","v":"Is trade item a despatch unit"},{"$f":"Tabel3[[#This Row],[GDSN-naam]]","v":"isTradeItemADespatchUnit"},{"$f":"Tabel3[[#This Row],[GDM Verplicht / Conditioneel]]","v":"Mandatory"},{"$f":"Tabel3[[#This Row],[DMS controle]]","v":0},{"$f":"Tabel3[[#This Row],[BMS ID]]","v":58},{"$f":"Tabel3[[#This Row],[Formaat]]","v":"Boolean"},{"$f":"Tabel3[[#This Row],[X Path]]","v":"/catalogue_item_notification:catalogueItemNotificationMessage/transaction/documentCommand/catalogue_item_notification:catalogueItemNotification/catalogueItem/tradeItem/isTradeItemADespatchUnit"},{"$f":"Tabel3[[#This Row],[GDM laag]]","v":"Global"},{"$f":"VLOOKUP(Tabel3[[#This Row],[GAE ID]],'BES EN'!A:AJ,27,FALSE)","v":"Mandatory"},null,{"$f":"Tabel3[[#This Row],[Dairy, Refrigerated & Frozen]]","v":"A"},{"$f":"Tabel3[[#This Row],[Deli & Prepared]]","v":"B"},{"$f":"Tabel3[[#This Row],[Fresh Meat]]","v":"C"},{"$f":"Tabel3[[#This Row],[Fresh Fish]]","v":"D"},{"$f":"Tabel3[[#This Row],[Fresh Fruits & Vegetables]]","v":"E"},{"$f":"Tabel3[[#This Row],[Grocery]]","v":"F"},{"$f":"Tabel3[[#This Row],[Cleaners]]","v":"G"},{"$f":"Tabel3[[#This Row],[Disposables]]","v":"H"},{"$f":"Tabel3[[#This Row],[Beauty & Personal Care]]","v":"I"},{"$f":"Tabel3[[#This Row],[Petfood]]","v":"J"},{"$f":"Tabel3[[#This Row],[Alcoholic Beverages]]","v":"K"},{"$f":"Tabel3[[#This Row],[Tobacco]]","v":"L"},{"$f":"Tabel3[[#This Row],[Self-care medicines]]","v":"M"},{"$f":"Tabel3[[#This Row],[Special Food]]","v":"N"},{"$f":"Tabel3[[#This Row],[Food Supplements]]","v":"O"},{"$f":"Tabel3[[#This Row],[Healthcare Products]]","v":"P"},{"$f":"Tabel3[[#This Row],[Medical Devices]]","v":"Q"},{"$f":"Tabel3[[#This Row],[Batteries]]","v":"R"},{"$f":"Tabel3[[#This Row],[Light Bulbs]]","v":"S"},{"$f":"Tabel3[[#This Row],[Other Categories]]","v":"T"}]
[{"$f":"VLOOKUP(Tabel3[[#This Row],[GAE ID]],'BES EN'!A:AJ,36,FALSE)","v":"Is trade item a variable unit"},{"$f":"Tabel3[[#This Row],[GDSN-naam]]","v":"isTradeItemAVariableUnit"},{"$f":"Tabel3[[#This Row],[GDM Verplicht / Conditioneel]]","v":"Mandatory"},{"$f":"Tabel3[[#This Row],[DMS controle]]","v":0},{"$f":"Tabel3[[#This Row],[BMS ID]]","v":3908},{"$f":"Tabel3[[#This Row],[Formaat]]","v":"Boolean"},{"$f":"Tabel3[[#This Row],[X Path]]","v":"/catalogue_item_notification:catalogueItemNotificationMessage/transaction/documentCommand/catalogue_item_notification:catalogueItemNotification/catalogueItem/tradeItem/tradeItemInformation/extension/*[namespace-uri()='urn:gs1:gdsn:variable_trade_item_information:xsd:3' and local-name()='variableTradeItemInformationModule']/variableTradeItemInformation/isTradeItemAVariableUnit"},{"$f":"Tabel3[[#This Row],[GDM laag]]","v":"Global"},{"$f":"VLOOKUP(Tabel3[[#This Row],[GAE ID]],'BES EN'!A:AJ,27,FALSE)","v":"Mandatory"},null,{"$f":"Tabel3[[#This Row],[Dairy, Refrigerated & Frozen]]","v":"A"},{"$f":"Tabel3[[#This Row],[Deli & Prepared]]","v":"B"},{"$f":"Tabel3[[#This Row],[Fresh Meat]]","v":"C"},{"$f":"Tabel3[[#This Row],[Fresh Fish]]","v":"D"},{"$f":"Tabel3[[#This Row],[Fresh Fruits & Vegetables]]","v":"E"},{"$f":"Tabel3[[#This Row],[Grocery]]","v":"F"},{"$f":"Tabel3[[#This Row],[Cleaners]]","v":"-"},{"$f":"Tabel3[[#This Row],[Disposables]]","v":"-"},{"$f":"Tabel3[[#This Row],[Beauty & Personal Care]]","v":"-"},{"$f":"Tabel3[[#This Row],[Petfood]]","v":"-"},{"$f":"Tabel3[[#This Row],[Alcoholic Beverages]]","v":"K"},{"$f":"Tabel3[[#This Row],[Tobacco]]","v":"-"},{"$f":"Tabel3[[#This Row],[Self-care medicines]]","v":"M"},{"$f":"Tabel3[[#This Row],[Special Food]]","v":"N"},{"$f":"Tabel3[[#This Row],[Food Supplements]]","v":"O"},{"$f":"Tabel3[[#This Row],[Healthcare Products]]","v":"P"},{"$f":"Tabel3[[#This Row],[Medical Devices]]","v":"Q"},{"$f":"Tabel3[[#This Row],[Batteries]]","v":"R"},{"$f":"Tabel3[[#This Row],[Light Bulbs]]","v":"S"},{"$f":"Tabel3[[#This Row],[Other Categories]]","v":"T"}]
[{"$f":"VLOOKUP(Tabel3[[#This Row],[GAE ID]],'BES EN'!A:AJ,36,FALSE)","v":"Is trade item a display unit"},{"$f":"Tabel3[[#This Row],[GDSN-naam]]","v":"isTradeItemADisplayUnit"},{"$f":"Tabel3[[#This Row],[GDM Verplicht / Conditioneel]]","v":"Conditional"},{"$f":"Tabel3[[#This Row],[DMS controle]]","v":0},{"$f":"Tabel3[[#This Row],[BMS ID]]","v":151},{"$f":"Tabel3[[#This Row],[Formaat]]","v":"Non-binary logic enumeration"},{"$f":"Tabel3[[#This Row],[X Path]]","v":"/catalogue_item_notification:catalogueItemNotificationMessage/transaction/documentCommand/catalogue_item_notification:catalogueItemNotification/catalogueItem/tradeItem/displayUnitInformation/isTradeItemADisplayUnit"},{"$f":"Tabel3[[#This Row],[GDM laag]]","v":"Local"},{"$f":"VLOOKUP(Tabel3[[#This Row],[GAE ID]],'BES EN'!A:AJ,27,FALSE)","v":"Mandatory if the item is a display unit."},null,{"$f":"Tabel3[[#This Row],[Dairy, Refrigerated & Frozen]]","v":"A"},{"$f":"Tabel3[[#This Row],[Deli & Prepared]]","v":"B"},{"$f":"Tabel3[[#This Row],[Fresh Meat]]","v":"-"},{"$f":"Tabel3[[#This Row],[Fresh Fish]]","v":"-"},{"$f":"Tabel3[[#This Row],[Fresh Fruits & Vegetables]]","v":"E"},{"$f":"Tabel3[[#This Row],[Grocery]]","v":"F"},{"$f":"Tabel3[[#This Row],[Cleaners]]","v":"G"},{"$f":"Tabel3[[#This Row],[Disposables]]","v":"H"},{"$f":"Tabel3[[#This Row],[Beauty & Personal Care]]","v":"I"},{"$f":"Tabel3[[#This Row],[Petfood]]","v":"J"},{"$f":"Tabel3[[#This Row],[Alcoholic Beverages]]","v":"K"},{"$f":"Tabel3[[#This Row],[Tobacco]]","v":"L"},{"$f":"Tabel3[[#This Row],[Self-care medicines]]","v":"M"},{"$f":"Tabel3[[#This Row],[Special Food]]","v":"N"},{"$f":"Tabel3[[#This Row],[Food Supplements]]","v":"O"},{"$f":"Tabel3[[#This Row],[Healthcare Products]]","v":"P"},{"$f":"Tabel3[[#This Row],[Medical Devices]]","v":"Q"},{"$f":"Tabel3[[#This Row],[Batteries]]","v":"R"},{"$f":"Tabel3[[#This Row],[Light Bulbs]]","v":"S"},{"$f":"Tabel3[[#This Row],[Other Categories]]","v":"T"}]
[{"$f":"VLOOKUP(Tabel3[[#This Row],[GAE ID]],'BES EN'!A:AJ,36,FALSE)","v":"Is trade item seasonal"},{"$f":"Tabel3[[#This Row],[GDSN-naam]]","v":"isTradeItemSeasonal"},{"$f":"Tabel3[[#This Row],[GDM Verplicht / Conditioneel]]","v":"Conditional"},{"$f":"Tabel3[[#This Row],[DMS controle]]","v":0},{"$f":"Tabel3[[#This Row],[BMS ID]]","v":1550},{"$f":"Tabel3[[#This Row],[Formaat]]","v":"Non-binary logic enumeration"},{"$f":"Tabel3[[#This Row],[X Path]]","v":"/catalogue_item_notification:catalogueItemNotificationMessage/transaction/documentCommand/catalogue_item_notification:catalogueItemNotification/catalogueItem/tradeItem/tradeItemInformation/extension/*[namespace-uri()='urn:gs1:gdsn:marketing_information:xsd:3' and local-name()='marketingInformationModule']/marketingInformation/season/isTradeItemSeasonal"},{"$f":"Tabel3[[#This Row],[GDM laag]]","v":"Regional EU"},{"$f":"VLOOKUP(Tabel3[[#This Row],[GAE ID]],'BES EN'!A:AJ,27,FALSE)","v":" "},null,{"$f":"Tabel3[[#This Row],[Dairy, Refrigerated & Frozen]]","v":"A"},{"$f":"Tabel3[[#This Row],[Deli & Prepared]]","v":"B"},{"$f":"Tabel3[[#This Row],[Fresh Meat]]","v":"C"},{"$f":"Tabel3[[#This Row],[Fresh Fish]]","v":"D"},{"$f":"Tabel3[[#This Row],[Fresh Fruits & Vegetables]]","v":"E"},{"$f":"Tabel3[[#This Row],[Grocery]]","v":"F"},{"$f":"Tabel3[[#This Row],[Cleaners]]","v":"G"},{"$f":"Tabel3[[#This Row],[Disposables]]","v":"H"},{"$f":"Tabel3[[#This Row],[Beauty & Personal Care]]","v":"I"},{"$f":"Tabel3[[#This Row],[Petfood]]","v":"J"},{"$f":"Tabel3[[#This Row],[Alcoholic Beverages]]","v":"K"},{"$f":"Tabel3[[#This Row],[Tobacco]]","v":"-"},{"$f":"Tabel3[[#This Row],[Self-care medicines]]","v":"M"},{"$f":"Tabel3[[#This Row],[Special Food]]","v":"N"},{"$f":"Tabel3[[#This Row],[Food Supplements]]","v":"O"},{"$f":"Tabel3[[#This Row],[Healthcare Products]]","v":"P"},{"$f":"Tabel3[[#This Row],[Medical Devices]]","v":"Q"},{"$f":"Tabel3[[#This Row],[Batteries]]","v":"R"},{"$f":"Tabel3[[#This Row],[Light Bulbs]]","v":"S"},{"$f":"Tabel3[[#This Row],[Other Categories]]","v":"T"}]
[{"$f":"VLOOKUP(Tabel3[[#This Row],[GAE ID]],'BES EN'!A:AJ,36,FALSE)","v":"Start availability date time"},{"$f":"Tabel3[[#This Row],[GDSN-naam]]","v":"startAvailabilityDateTime"},{"$f":"Tabel3[[#This Row],[GDM Verplicht / Conditioneel]]","v":"Mandatory"},{"$f":"Tabel3[[#This Row],[DMS controle]]","v":0},{"$f":"Tabel3[[#This Row],[BMS ID]]","v":1025},{"$f":"Tabel3[[#This Row],[Formaat]]","v":"DateTime"},{"$f":"Tabel3[[#This Row],[X Path]]","v":"/catalogue_item_notification:catalogueItemNotificationMessage/transaction/documentCommand/catalogue_item_notification:catalogueItemNotification/catalogueItem/tradeItem/tradeItemInformation/extension/*[namespace-uri()='urn:gs1:gdsn:delivery_purchasing_information:xsd:3' and local-name()='deliveryPurchasingInformationModule']/deliveryPurchasingInformation/startAvailabilityDateTime"},{"$f":"Tabel3[[#This Row],[GDM laag]]","v":"Global"},{"$f":"VLOOKUP(Tabel3[[#This Row],[GAE ID]],'BES EN'!A:AJ,27,FALSE)","v":"Mandatory"},null,{"$f":"Tabel3[[#This Row],[Dairy, Refrigerated & Frozen]]","v":"A"},{"$f":"Tabel3[[#This Row],[Deli & Prepared]]","v":"B"},{"$f":"Tabel3[[#This Row],[Fresh Meat]]","v":"C"},{"$f":"Tabel3[[#This Row],[Fresh Fish]]","v":"D"},{"$f":"Tabel3[[#This Row],[Fresh Fruits & Vegetables]]","v":"E"},{"$f":"Tabel3[[#This Row],[Grocery]]","v":"F"},{"$f":"Tabel3[[#This Row],[Cleaners]]","v":"G"},{"$f":"Tabel3[[#This Row],[Disposables]]","v":"H"},{"$f":"Tabel3[[#This Row],[Beauty & Personal Care]]","v":"I"},{"$f":"Tabel3[[#This Row],[Petfood]]","v":"J"},{"$f":"Tabel3[[#This Row],[Alcoholic Beverages]]","v":"K"},{"$f":"Tabel3[[#This Row],[Tobacco]]","v":"L"},{"$f":"Tabel3[[#This Row],[Self-care medicines]]","v":"M"},{"$f":"Tabel3[[#This Row],[Special Food]]","v":"N"},{"$f":"Tabel3[[#This Row],[Food Supplements]]","v":"O"},{"$f":"Tabel3[[#This Row],[Healthcare Products]]","v":"P"},{"$f":"Tabel3[[#This Row],[Medical Devices]]","v":"Q"},{"$f":"Tabel3[[#This Row],[Batteries]]","v":"R"},{"$f":"Tabel3[[#This Row],[Light Bulbs]]","v":"S"},{"$f":"Tabel3[[#This Row],[Other Categories]]","v":"T"}]
[{"$f":"VLOOKUP(Tabel3[[#This Row],[GAE ID]],'BES EN'!A:AJ,36,FALSE)","v":"End availability date time"},{"$f":"Tabel3[[#This Row],[GDSN-naam]]","v":"endAvailabilityDateTime"},{"$f":"Tabel3[[#This Row],[GDM Verplicht / Conditioneel]]","v":"Conditional"},{"$f":"Tabel3[[#This Row],[DMS controle]]","v":0},{"$f":"Tabel3[[#This Row],[BMS ID]]","v":1002},{"$f":"Tabel3[[#This Row],[Formaat]]","v":"DateTime"},{"$f":"Tabel3[[#This Row],[X Path]]","v":"/catalogue_item_notification:catalogueItemNotificationMessage/transaction/documentCommand/catalogue_item_notification:catalogueItemNotification/catalogueItem/tradeItem/tradeItemInformation/extension/*[namespace-uri()='urn:gs1:gdsn:delivery_purchasing_information:xsd:3' and local-name()='deliveryPurchasingInformationModule']/deliveryPurchasingInformation/endAvailabilityDateTime"},{"$f":"Tabel3[[#This Row],[GDM laag]]","v":"Global"},{"$f":"VLOOKUP(Tabel3[[#This Row],[GAE ID]],'BES EN'!A:AJ,27,FALSE)","v":"Mandatory if the trade item is temporarily not available or if the supplier wants to terminate the trade item permanently."},null,{"$f":"Tabel3[[#This Row],[Dairy, Refrigerated & Frozen]]","v":"A"},{"$f":"Tabel3[[#This Row],[Deli & Prepared]]","v":"B"},{"$f":"Tabel3[[#This Row],[Fresh Meat]]","v":"C"},{"$f":"Tabel3[[#This Row],[Fresh Fish]]","v":"D"},{"$f":"Tabel3[[#This Row],[Fresh Fruits & Vegetables]]","v":"E"},{"$f":"Tabel3[[#This Row],[Grocery]]","v":"F"},{"$f":"Tabel3[[#This Row],[Cleaners]]","v":"G"},{"$f":"Tabel3[[#This Row],[Disposables]]","v":"H"},{"$f":"Tabel3[[#This Row],[Beauty & Personal Care]]","v":"I"},{"$f":"Tabel3[[#This Row],[Petfood]]","v":"J"},{"$f":"Tabel3[[#This Row],[Alcoholic Beverages]]","v":"K"},{"$f":"Tabel3[[#This Row],[Tobacco]]","v":"L"},{"$f":"Tabel3[[#This Row],[Self-care medicines]]","v":"M"},{"$f":"Tabel3[[#This Row],[Special Food]]","v":"N"},{"$f":"Tabel3[[#This Row],[Food Supplements]]","v":"O"},{"$f":"Tabel3[[#This Row],[Healthcare Products]]","v":"P"},{"$f":"Tabel3[[#This Row],[Medical Devices]]","v":"Q"},{"$f":"Tabel3[[#This Row],[Batteries]]","v":"R"},{"$f":"Tabel3[[#This Row],[Light Bulbs]]","v":"S"},{"$f":"Tabel3[[#This Row],[Other Categories]]","v":"T"}]
[{"$f":"VLOOKUP(Tabel3[[#This Row],[GAE ID]],'BES EN'!A:AJ,36,FALSE)","v":"Consumer first availability date time"},{"$f":"Tabel3[[#This Row],[GDSN-naam]]","v":"consumerFirstAvailabilityDateTime"},{"$f":"Tabel3[[#This Row],[GDM Verplicht / Conditioneel]]","v":"Optional"},{"$f":"Tabel3[[#This Row],[DMS controle]]","v":0},{"$f":"Tabel3[[#This Row],[BMS ID]]","v":1001},{"$f":"Tabel3[[#This Row],[Formaat]]","v":"DateTime"},{"$f":"Tabel3[[#This Row],[X Path]]","v":"/catalogue_item_notification:catalogueItemNotificationMessage/transaction/documentCommand/catalogue_item_notification:catalogueItemNotification/catalogueItem/tradeItem/tradeItemInformation/extension/*[namespace-uri()='urn:gs1:gdsn:delivery_purchasing_information:xsd:3' and local-name()='deliveryPurchasingInformationModule']/deliveryPurchasingInformation/consumerFirstAvailabilityDateTime"},{"$f":"Tabel3[[#This Row],[GDM laag]]","v":"Local"},{"$f":"VLOOKUP(Tabel3[[#This Row],[GAE ID]],'BES EN'!A:AJ,27,FALSE)","v":" "},null,{"$f":"Tabel3[[#This Row],[Dairy, Refrigerated & Frozen]]","v":"A"},{"$f":"Tabel3[[#This Row],[Deli & Prepared]]","v":"B"},{"$f":"Tabel3[[#This Row],[Fresh Meat]]","v":"C"},{"$f":"Tabel3[[#This Row],[Fresh Fish]]","v":"D"},{"$f":"Tabel3[[#This Row],[Fresh Fruits & Vegetables]]","v":"E"},{"$f":"Tabel3[[#This Row],[Grocery]]","v":"F"},{"$f":"Tabel3[[#This Row],[Cleaners]]","v":"G"},{"$f":"Tabel3[[#This Row],[Disposables]]","v":"H"},{"$f":"Tabel3[[#This Row],[Beauty & Personal Care]]","v":"I"},{"$f":"Tabel3[[#This Row],[Petfood]]","v":"J"},{"$f":"Tabel3[[#This Row],[Alcoholic Beverages]]","v":"K"},{"$f":"Tabel3[[#This Row],[Tobacco]]","v":"L"},{"$f":"Tabel3[[#This Row],[Self-care medicines]]","v":"M"},{"$f":"Tabel3[[#This Row],[Special Food]]","v":"N"},{"$f":"Tabel3[[#This Row],[Food Supplements]]","v":"O"},{"$f":"Tabel3[[#This Row],[Healthcare Products]]","v":"P"},{"$f":"Tabel3[[#This Row],[Medical Devices]]","v":"Q"},{"$f":"Tabel3[[#This Row],[Batteries]]","v":"R"},{"$f":"Tabel3[[#This Row],[Light Bulbs]]","v":"S"},{"$f":"Tabel3[[#This Row],[Other Categories]]","v":"T"}]
[{"$f":"VLOOKUP(Tabel3[[#This Row],[GAE ID]],'BES EN'!A:AJ,36,FALSE)","v":"Refererenced trade item (GTIN)"},{"$f":"Tabel3[[#This Row],[GDSN-naam]]","v":"gtin"},{"$f":"Tabel3[[#This Row],[GDM Verplicht / Conditioneel]]","v":"Conditional"},{"$f":"Tabel3[[#This Row],[DMS controle]]","v":0},{"$f":"Tabel3[[#This Row],[BMS ID]]","v":116},{"$f":"Tabel3[[#This Row],[Formaat]]","v":"n14"},{"$f":"Tabel3[[#This Row],[X Path]]","v":"/catalogue_item_notification:catalogueItemNotificationMessage/transaction/documentCommand/catalogue_item_notification:catalogueItemNotification/catalogueItem/tradeItem/referencedTradeItem/gtin"},{"$f":"Tabel3[[#This Row],[GDM laag]]","v":"Global"},{"$f":"VLOOKUP(Tabel3[[#This Row],[GAE ID]],'BES EN'!A:AJ,27,FALSE)","v":" "},null,{"$f":"Tabel3[[#This Row],[Dairy, Refrigerated & Frozen]]","v":"A"},{"$f":"Tabel3[[#This Row],[Deli & Prepared]]","v":"B"},{"$f":"Tabel3[[#This Row],[Fresh Meat]]","v":"C"},{"$f":"Tabel3[[#This Row],[Fresh Fish]]","v":"D"},{"$f":"Tabel3[[#This Row],[Fresh Fruits & Vegetables]]","v":"E"},{"$f":"Tabel3[[#This Row],[Grocery]]","v":"F"},{"$f":"Tabel3[[#This Row],[Cleaners]]","v":"G"},{"$f":"Tabel3[[#This Row],[Disposables]]","v":"H"},{"$f":"Tabel3[[#This Row],[Beauty & Personal Care]]","v":"I"},{"$f":"Tabel3[[#This Row],[Petfood]]","v":"J"},{"$f":"Tabel3[[#This Row],[Alcoholic Beverages]]","v":"K"},{"$f":"Tabel3[[#This Row],[Tobacco]]","v":"L"},{"$f":"Tabel3[[#This Row],[Self-care medicines]]","v":"M"},{"$f":"Tabel3[[#This Row],[Special Food]]","v":"N"},{"$f":"Tabel3[[#This Row],[Food Supplements]]","v":"O"},{"$f":"Tabel3[[#This Row],[Healthcare Products]]","v":"P"},{"$f":"Tabel3[[#This Row],[Medical Devices]]","v":"Q"},{"$f":"Tabel3[[#This Row],[Batteries]]","v":"R"},{"$f":"Tabel3[[#This Row],[Light Bulbs]]","v":"S"},{"$f":"Tabel3[[#This Row],[Other Categories]]","v":"T"}]
[{"$f":"VLOOKUP(Tabel3[[#This Row],[GAE ID]],'BES EN'!A:AJ,36,FALSE)","v":"Referenced trade item type code"},{"$f":"Tabel3[[#This Row],[GDSN-naam]]","v":"referencedTradeItemTypeCode"},{"$f":"Tabel3[[#This Row],[GDM Verplicht / Conditioneel]]","v":"Conditional"},{"$f":"Tabel3[[#This Row],[DMS controle]]","v":0},{"$f":"Tabel3[[#This Row],[BMS ID]]","v":115},{"$f":"Tabel3[[#This Row],[Formaat]]","v":"Defined values"},{"$f":"Tabel3[[#This Row],[X Path]]","v":"/catalogue_item_notification:catalogueItemNotificationMessage/transaction/documentCommand/catalogue_item_notification:catalogueItemNotification/catalogueItem/tradeItem/referencedTradeItem/referencedTradeItemTypeCode"},{"$f":"Tabel3[[#This Row],[GDM laag]]","v":"Global"},{"$f":"VLOOKUP(Tabel3[[#This Row],[GAE ID]],'BES EN'!A:AJ,27,FALSE)","v":"Mandatory in case the 'Refererenced trade item (GTIN)' field is populated."},null,{"$f":"Tabel3[[#This Row],[Dairy, Refrigerated & Frozen]]","v":"A"},{"$f":"Tabel3[[#This Row],[Deli & Prepared]]","v":"B"},{"$f":"Tabel3[[#This Row],[Fresh Meat]]","v":"C"},{"$f":"Tabel3[[#This Row],[Fresh Fish]]","v":"D"},{"$f":"Tabel3[[#This Row],[Fresh Fruits & Vegetables]]","v":"E"},{"$f":"Tabel3[[#This Row],[Grocery]]","v":"F"},{"$f":"Tabel3[[#This Row],[Cleaners]]","v":"G"},{"$f":"Tabel3[[#This Row],[Disposables]]","v":"H"},{"$f":"Tabel3[[#This Row],[Beauty & Personal Care]]","v":"I"},{"$f":"Tabel3[[#This Row],[Petfood]]","v":"J"},{"$f":"Tabel3[[#This Row],[Alcoholic Beverages]]","v":"K"},{"$f":"Tabel3[[#This Row],[Tobacco]]","v":"L"},{"$f":"Tabel3[[#This Row],[Self-care medicines]]","v":"M"},{"$f":"Tabel3[[#This Row],[Special Food]]","v":"N"},{"$f":"Tabel3[[#This Row],[Food Supplements]]","v":"O"},{"$f":"Tabel3[[#This Row],[Healthcare Products]]","v":"P"},{"$f":"Tabel3[[#This Row],[Medical Devices]]","v":"Q"},{"$f":"Tabel3[[#This Row],[Batteries]]","v":"R"},{"$f":"Tabel3[[#This Row],[Light Bulbs]]","v":"S"},{"$f":"Tabel3[[#This Row],[Other Categories]]","v":"T"}]
[{"$f":"VLOOKUP(Tabel3[[#This Row],[GAE ID]],'BES EN'!A:AJ,36,FALSE)","v":"Is price on pack"},{"$f":"Tabel3[[#This Row],[GDSN-naam]]","v":"isPriceOnPack"},{"$f":"Tabel3[[#This Row],[GDM Verplicht / Conditioneel]]","v":"Conditional"},{"$f":"Tabel3[[#This Row],[DMS controle]]","v":0},{"$f":"Tabel3[[#This Row],[BMS ID]]","v":2309},{"$f":"Tabel3[[#This Row],[Formaat]]","v":"Boolean"},{"$f":"Tabel3[[#This Row],[X Path]]","v":"/catalogue_item_notification:catalogueItemNotificationMessage/transaction/documentCommand/catalogue_item_notification:catalogueItemNotification/catalogueItem/tradeItem/tradeItemInformation/extension/*[namespace-uri()='urn:gs1:gdsn:packaging_marking:xsd:3' and local-name()='packagingMarkingModule']/packagingMarking/isPriceOnPack"},{"$f":"Tabel3[[#This Row],[GDM laag]]","v":"Local"},{"$f":"VLOOKUP(Tabel3[[#This Row],[GAE ID]],'BES EN'!A:AJ,27,FALSE)","v":"Mandatory if the price is shown on the consumer unit (except for items with an in-store code)."},null,{"$f":"Tabel3[[#This Row],[Dairy, Refrigerated & Frozen]]","v":"A"},{"$f":"Tabel3[[#This Row],[Deli & Prepared]]","v":"B"},{"$f":"Tabel3[[#This Row],[Fresh Meat]]","v":"C"},{"$f":"Tabel3[[#This Row],[Fresh Fish]]","v":"D"},{"$f":"Tabel3[[#This Row],[Fresh Fruits & Vegetables]]","v":"E"},{"$f":"Tabel3[[#This Row],[Grocery]]","v":"F"},{"$f":"Tabel3[[#This Row],[Cleaners]]","v":"G"},{"$f":"Tabel3[[#This Row],[Disposables]]","v":"H"},{"$f":"Tabel3[[#This Row],[Beauty & Personal Care]]","v":"I"},{"$f":"Tabel3[[#This Row],[Petfood]]","v":"J"},{"$f":"Tabel3[[#This Row],[Alcoholic Beverages]]","v":"K"},{"$f":"Tabel3[[#This Row],[Tobacco]]","v":"L"},{"$f":"Tabel3[[#This Row],[Self-care medicines]]","v":"M"},{"$f":"Tabel3[[#This Row],[Special Food]]","v":"N"},{"$f":"Tabel3[[#This Row],[Food Supplements]]","v":"O"},{"$f":"Tabel3[[#This Row],[Healthcare Products]]","v":"P"},{"$f":"Tabel3[[#This Row],[Medical Devices]]","v":"Q"},{"$f":"Tabel3[[#This Row],[Batteries]]","v":"R"},{"$f":"Tabel3[[#This Row],[Light Bulbs]]","v":"S"},{"$f":"Tabel3[[#This Row],[Other Categories]]","v":"T"}]
[{"$f":"VLOOKUP(Tabel3[[#This Row],[GAE ID]],'BES EN'!A:AJ,36,FALSE)","v":"Suggested retail price"},{"$f":"Tabel3[[#This Row],[GDSN-naam]]","v":"tradeItemPrice"},{"$f":"Tabel3[[#This Row],[GDM Verplicht / Conditioneel]]","v":"Optional"},{"$f":"Tabel3[[#This Row],[DMS controle]]","v":0},{"$f":"Tabel3[[#This Row],[BMS ID]]","v":3401},{"$f":"Tabel3[[#This Row],[Formaat]]","v":"n..18"},{"$f":"Tabel3[[#This Row],[X Path]]","v":"/catalogue_item_notification:catalogueItemNotificationMessage/transaction/documentCommand/catalogue_item_notification:catalogueItemNotification/catalogueItem/tradeItem/tradeItemInformation/extension/*[namespace-uri()='urn:gs1:gdsn:sales_information:xsd:3' and local-name()='salesInformationModule']/tradeItemPriceInformation/suggestedRetailPrice/tradeItemPrice"},{"$f":"Tabel3[[#This Row],[GDM laag]]","v":"Local"},{"$f":"VLOOKUP(Tabel3[[#This Row],[GAE ID]],'BES EN'!A:AJ,27,FALSE)","v":" "},null,{"$f":"Tabel3[[#This Row],[Dairy, Refrigerated & Frozen]]","v":"A"},{"$f":"Tabel3[[#This Row],[Deli & Prepared]]","v":"B"},{"$f":"Tabel3[[#This Row],[Fresh Meat]]","v":"C"},{"$f":"Tabel3[[#This Row],[Fresh Fish]]","v":"D"},{"$f":"Tabel3[[#This Row],[Fresh Fruits & Vegetables]]","v":"E"},{"$f":"Tabel3[[#This Row],[Grocery]]","v":"F"},{"$f":"Tabel3[[#This Row],[Cleaners]]","v":"G"},{"$f":"Tabel3[[#This Row],[Disposables]]","v":"H"},{"$f":"Tabel3[[#This Row],[Beauty & Personal Care]]","v":"I"},{"$f":"Tabel3[[#This Row],[Petfood]]","v":"J"},{"$f":"Tabel3[[#This Row],[Alcoholic Beverages]]","v":"K"},{"$f":"Tabel3[[#This Row],[Tobacco]]","v":"L"},{"$f":"Tabel3[[#This Row],[Self-care medicines]]","v":"M"},{"$f":"Tabel3[[#This Row],[Special Food]]","v":"N"},{"$f":"Tabel3[[#This Row],[Food Supplements]]","v":"O"},{"$f":"Tabel3[[#This Row],[Healthcare Products]]","v":"P"},{"$f":"Tabel3[[#This Row],[Medical Devices]]","v":"Q"},{"$f":"Tabel3[[#This Row],[Batteries]]","v":"R"},{"$f":"Tabel3[[#This Row],[Light Bulbs]]","v":"S"},{"$f":"Tabel3[[#This Row],[Other Categories]]","v":"T"}]
[{"$f":"VLOOKUP(Tabel3[[#This Row],[GAE ID]],'BES EN'!A:AJ,36,FALSE)","v":"Suggested retail price currency code"},{"$f":"Tabel3[[#This Row],[GDSN-naam]]","v":"tradeItemPrice/@currencyCode"},{"$f":"Tabel3[[#This Row],[GDM Verplicht / Conditioneel]]","v":"Optional"},{"$f":"Tabel3[[#This Row],[DMS controle]]","v":0},{"$f":"Tabel3[[#This Row],[BMS ID]]","v":3402},{"$f":"Tabel3[[#This Row],[Formaat]]","v":"Defined values"},{"$f":"Tabel3[[#This Row],[X Path]]","v":"/catalogue_item_notification:catalogueItemNotificationMessage/transaction/documentCommand/catalogue_item_notification:catalogueItemNotification/catalogueItem/tradeItem/tradeItemInformation/extension/*[namespace-uri()='urn:gs1:gdsn:sales_information:xsd:3' and local-name()='salesInformationModule']/tradeItemPriceInformation/suggestedRetailPrice/tradeItemPrice/@currencyCode"},{"$f":"Tabel3[[#This Row],[GDM laag]]","v":"Local"},{"$f":"VLOOKUP(Tabel3[[#This Row],[GAE ID]],'BES EN'!A:AJ,27,FALSE)","v":"Mandatory in case the 'Suggested retail price' field is populated."},null,{"$f":"Tabel3[[#This Row],[Dairy, Refrigerated & Frozen]]","v":"A"},{"$f":"Tabel3[[#This Row],[Deli & Prepared]]","v":"B"},{"$f":"Tabel3[[#This Row],[Fresh Meat]]","v":"C"},{"$f":"Tabel3[[#This Row],[Fresh Fish]]","v":"D"},{"$f":"Tabel3[[#This Row],[Fresh Fruits & Vegetables]]","v":"E"},{"$f":"Tabel3[[#This Row],[Grocery]]","v":"F"},{"$f":"Tabel3[[#This Row],[Cleaners]]","v":"G"},{"$f":"Tabel3[[#This Row],[Disposables]]","v":"H"},{"$f":"Tabel3[[#This Row],[Beauty & Personal Care]]","v":"I"},{"$f":"Tabel3[[#This Row],[Petfood]]","v":"J"},{"$f":"Tabel3[[#This Row],[Alcoholic Beverages]]","v":"K"},{"$f":"Tabel3[[#This Row],[Tobacco]]","v":"L"},{"$f":"Tabel3[[#This Row],[Self-care medicines]]","v":"M"},{"$f":"Tabel3[[#This Row],[Special Food]]","v":"N"},{"$f":"Tabel3[[#This Row],[Food Supplements]]","v":"O"},{"$f":"Tabel3[[#This Row],[Healthcare Products]]","v":"P"},{"$f":"Tabel3[[#This Row],[Medical Devices]]","v":"Q"},{"$f":"Tabel3[[#This Row],[Batteries]]","v":"R"},{"$f":"Tabel3[[#This Row],[Light Bulbs]]","v":"S"},{"$f":"Tabel3[[#This Row],[Other Categories]]","v":"T"}]
[{"$f":"VLOOKUP(Tabel3[[#This Row],[GAE ID]],'BES EN'!A:AJ,36,FALSE)","v":"Is trade item a service"},{"$f":"Tabel3[[#This Row],[GDSN-naam]]","v":"isTradeItemAService"},{"$f":"Tabel3[[#This Row],[GDM Verplicht / Conditioneel]]","v":"Optional"},{"$f":"Tabel3[[#This Row],[DMS controle]]","v":0},{"$f":"Tabel3[[#This Row],[BMS ID]]","v":61},{"$f":"Tabel3[[#This Row],[Formaat]]","v":"Boolean"},{"$f":"Tabel3[[#This Row],[X Path]]","v":"/catalogue_item_notification:catalogueItemNotificationMessage/transaction/documentCommand/catalogue_item_notification:catalogueItemNotification/catalogueItem/tradeItem/isTradeItemAService"},{"$f":"Tabel3[[#This Row],[GDM laag]]","v":"Local"},{"$f":"VLOOKUP(Tabel3[[#This Row],[GAE ID]],'BES EN'!A:AJ,27,FALSE)","v":0},null,{"$f":"Tabel3[[#This Row],[Dairy, Refrigerated & Frozen]]","v":"A"},{"$f":"Tabel3[[#This Row],[Deli & Prepared]]","v":"B"},{"$f":"Tabel3[[#This Row],[Fresh Meat]]","v":"-"},{"$f":"Tabel3[[#This Row],[Fresh Fish]]","v":"-"},{"$f":"Tabel3[[#This Row],[Fresh Fruits & Vegetables]]","v":"-"},{"$f":"Tabel3[[#This Row],[Grocery]]","v":"-"},{"$f":"Tabel3[[#This Row],[Cleaners]]","v":"-"},{"$f":"Tabel3[[#This Row],[Disposables]]","v":"-"},{"$f":"Tabel3[[#This Row],[Beauty & Personal Care]]","v":"-"},{"$f":"Tabel3[[#This Row],[Petfood]]","v":"-"},{"$f":"Tabel3[[#This Row],[Alcoholic Beverages]]","v":"-"},{"$f":"Tabel3[[#This Row],[Tobacco]]","v":"-"},{"$f":"Tabel3[[#This Row],[Self-care medicines]]","v":"-"},{"$f":"Tabel3[[#This Row],[Special Food]]","v":"-"},{"$f":"Tabel3[[#This Row],[Food Supplements]]","v":"-"},{"$f":"Tabel3[[#This Row],[Healthcare Products]]","v":"-"},{"$f":"Tabel3[[#This Row],[Medical Devices]]","v":"-"},{"$f":"Tabel3[[#This Row],[Batteries]]","v":"-"},{"$f":"Tabel3[[#This Row],[Light Bulbs]]","v":"-"},{"$f":"Tabel3[[#This Row],[Other Categories]]","v":"T"}]
[{"$f":"VLOOKUP(Tabel3[[#This Row],[GAE ID]],'BES EN'!A:AJ,36,FALSE)","v":"Trade item condition code"},{"$f":"Tabel3[[#This Row],[GDSN-naam]]","v":"tradeItemConditionCode"},{"$f":"Tabel3[[#This Row],[GDM Verplicht / Conditioneel]]","v":"Optional"},{"$f":"Tabel3[[#This Row],[DMS controle]]","v":0},{"$f":"Tabel3[[#This Row],[BMS ID]]","v":3334},{"$f":"Tabel3[[#This Row],[Formaat]]","v":"Defined values"},{"$f":"Tabel3[[#This Row],[X Path]]","v":"/catalogue_item_notification:catalogueItemNotificationMessage/transaction/documentCommand/catalogue_item_notification:catalogueItemNotification/catalogueItem/tradeItem/tradeItemInformation/extension/*[namespace-uri()='urn:gs1:gdsn:sales_information:xsd:3' and local-name()='salesInformationModule']/salesInformation/tradeItemConditionCode"},{"$f":"Tabel3[[#This Row],[GDM laag]]","v":"Local"},{"$f":"VLOOKUP(Tabel3[[#This Row],[GAE ID]],'BES EN'!A:AJ,27,FALSE)","v":0},null,{"$f":"Tabel3[[#This Row],[Dairy, Refrigerated & Frozen]]","v":"A"},{"$f":"Tabel3[[#This Row],[Deli & Prepared]]","v":"B"},{"$f":"Tabel3[[#This Row],[Fresh Meat]]","v":"C"},{"$f":"Tabel3[[#This Row],[Fresh Fish]]","v":"D"},{"$f":"Tabel3[[#This Row],[Fresh Fruits & Vegetables]]","v":"E"},{"$f":"Tabel3[[#This Row],[Grocery]]","v":"-"},{"$f":"Tabel3[[#This Row],[Cleaners]]","v":"-"},{"$f":"Tabel3[[#This Row],[Disposables]]","v":"-"},{"$f":"Tabel3[[#This Row],[Beauty & Personal Care]]","v":"-"},{"$f":"Tabel3[[#This Row],[Petfood]]","v":"-"},{"$f":"Tabel3[[#This Row],[Alcoholic Beverages]]","v":"-"},{"$f":"Tabel3[[#This Row],[Tobacco]]","v":"-"},{"$f":"Tabel3[[#This Row],[Self-care medicines]]","v":"-"},{"$f":"Tabel3[[#This Row],[Special Food]]","v":"-"},{"$f":"Tabel3[[#This Row],[Food Supplements]]","v":"-"},{"$f":"Tabel3[[#This Row],[Healthcare Products]]","v":"-"},{"$f":"Tabel3[[#This Row],[Medical Devices]]","v":"-"},{"$f":"Tabel3[[#This Row],[Batteries]]","v":"-"},{"$f":"Tabel3[[#This Row],[Light Bulbs]]","v":"-"},{"$f":"Tabel3[[#This Row],[Other Categories]]","v":"-"}]
[{"$f":"VLOOKUP(Tabel3[[#This Row],[GAE ID]],'BES EN'!A:AJ,36,FALSE)","v":"Genetically modified declaration code"},{"$f":"Tabel3[[#This Row],[GDSN-naam]]","v":"geneticallyModifiedDeclarationCode"},{"$f":"Tabel3[[#This Row],[GDM Verplicht / Conditioneel]]","v":"Conditional"},null,{"$f":"Tabel3[[#This Row],[BMS ID]]","v":1258},{"$f":"Tabel3[[#This Row],[Formaat]]","v":"Defined values"},{"$f":"Tabel3[[#This Row],[X Path]]","v":"/catalogue_item_notification:catalogueItemNotificationMessage/transaction/documentCommand/catalogue_item_notification:catalogueItemNotification/catalogueItem/tradeItem/tradeItemInformation/extension/*[namespace-uri()='urn:gs1:gdsn:farming_and_processing_information:xsd:3' and local-name()='farmingAndProcessingInformationModule']/tradeItemFarmingAndProcessing/geneticallyModifiedDeclarationCode"},{"$f":"Tabel3[[#This Row],[GDM laag]]","v":"Regional EU"},{"$f":"VLOOKUP(Tabel3[[#This Row],[GAE ID]],'BES EN'!A:AJ,27,FALSE)","v":" "},null,{"$f":"Tabel3[[#This Row],[Dairy, Refrigerated & Frozen]]","v":"A"},{"$f":"Tabel3[[#This Row],[Deli & Prepared]]","v":"B"},{"$f":"Tabel3[[#This Row],[Fresh Meat]]","v":"C"},{"$f":"Tabel3[[#This Row],[Fresh Fish]]","v":"D"},{"$f":"Tabel3[[#This Row],[Fresh Fruits & Vegetables]]","v":"E"},{"$f":"Tabel3[[#This Row],[Grocery]]","v":"F"},{"$f":"Tabel3[[#This Row],[Cleaners]]","v":"-"},{"$f":"Tabel3[[#This Row],[Disposables]]","v":"-"},{"$f":"Tabel3[[#This Row],[Beauty & Personal Care]]","v":"-"},{"$f":"Tabel3[[#This Row],[Petfood]]","v":"J"},{"$f":"Tabel3[[#This Row],[Alcoholic Beverages]]","v":"K"},{"$f":"Tabel3[[#This Row],[Tobacco]]","v":"-"},{"$f":"Tabel3[[#This Row],[Self-care medicines]]","v":"-"},{"$f":"Tabel3[[#This Row],[Special Food]]","v":"N"},{"$f":"Tabel3[[#This Row],[Food Supplements]]","v":"O"},{"$f":"Tabel3[[#This Row],[Healthcare Products]]","v":"-"},{"$f":"Tabel3[[#This Row],[Medical Devices]]","v":"-"},{"$f":"Tabel3[[#This Row],[Batteries]]","v":"-"},{"$f":"Tabel3[[#This Row],[Light Bulbs]]","v":"-"},{"$f":"Tabel3[[#This Row],[Other Categories]]","v":"-"}]
["Tax information",null,{"$f":"Tabel3[[#This Row],[GDM Verplicht / Conditioneel]]","v":0},"",null,"","",null,null,null,"A","B","C","D","E","F","G","H","I","J","K","L","M","N","O","P","Q","R","S","T"]
[{"$f":"VLOOKUP(Tabel3[[#This Row],[GAE ID]],'BES EN'!A:AJ,36,FALSE)","v":"Tax type code"},{"$f":"Tabel3[[#This Row],[GDSN-naam]]","v":"dutyFeeTaxTypeCode"},{"$f":"Tabel3[[#This Row],[GDM Verplicht / Conditioneel]]","v":"Conditional"},{"$f":"Tabel3[[#This Row],[DMS controle]]","v":0},{"$f":"Tabel3[[#This Row],[BMS ID]]","v":1152},{"$f":"Tabel3[[#This Row],[Formaat]]","v":"Defined values"},{"$f":"Tabel3[[#This Row],[X Path]]","v":"/catalogue_item_notification:catalogueItemNotificationMessage/transaction/documentCommand/catalogue_item_notification:catalogueItemNotification/catalogueItem/tradeItem/tradeItemInformation/extension/*[namespace-uri()='urn:gs1:gdsn:duty_fee_tax_information:xsd:3' and local-name()='dutyFeeTaxInformationModule']/dutyFeeTaxInformation/dutyFeeTaxTypeCode"},{"$f":"Tabel3[[#This Row],[GDM laag]]","v":"Regional EU"},{"$f":"VLOOKUP(Tabel3[[#This Row],[GAE ID]],'BES EN'!A:AJ,27,FALSE)","v":"Mandatory"},null,{"$f":"Tabel3[[#This Row],[Dairy, Refrigerated & Frozen]]","v":"A"},{"$f":"Tabel3[[#This Row],[Deli & Prepared]]","v":"B"},{"$f":"Tabel3[[#This Row],[Fresh Meat]]","v":"C"},{"$f":"Tabel3[[#This Row],[Fresh Fish]]","v":"D"},{"$f":"Tabel3[[#This Row],[Fresh Fruits & Vegetables]]","v":"E"},{"$f":"Tabel3[[#This Row],[Grocery]]","v":"F"},{"$f":"Tabel3[[#This Row],[Cleaners]]","v":"G"},{"$f":"Tabel3[[#This Row],[Disposables]]","v":"H"},{"$f":"Tabel3[[#This Row],[Beauty & Personal Care]]","v":"I"},{"$f":"Tabel3[[#This Row],[Petfood]]","v":"J"},{"$f":"Tabel3[[#This Row],[Alcoholic Beverages]]","v":"K"},{"$f":"Tabel3[[#This Row],[Tobacco]]","v":"L"},{"$f":"Tabel3[[#This Row],[Self-care medicines]]","v":"M"},{"$f":"Tabel3[[#This Row],[Special Food]]","v":"N"},{"$f":"Tabel3[[#This Row],[Food Supplements]]","v":"O"},{"$f":"Tabel3[[#This Row],[Healthcare Products]]","v":"P"},{"$f":"Tabel3[[#This Row],[Medical Devices]]","v":"Q"},{"$f":"Tabel3[[#This Row],[Batteries]]","v":"R"},{"$f":"Tabel3[[#This Row],[Light Bulbs]]","v":"S"},{"$f":"Tabel3[[#This Row],[Other Categories]]","v":"T"}]
[{"$f":"VLOOKUP(Tabel3[[#This Row],[GAE ID]],'BES EN'!A:AJ,36,FALSE)","v":"Tax agency code"},{"$f":"Tabel3[[#This Row],[GDSN-naam]]","v":"dutyFeeTaxAgencyCode"},{"$f":"Tabel3[[#This Row],[GDM Verplicht / Conditioneel]]","v":"Optional"},{"$f":"Tabel3[[#This Row],[DMS controle]]","v":0},{"$f":"Tabel3[[#This Row],[BMS ID]]","v":1146},{"$f":"Tabel3[[#This Row],[Formaat]]","v":"Defined values"},{"$f":"Tabel3[[#This Row],[X Path]]","v":"/catalogue_item_notification:catalogueItemNotificationMessage/transaction/documentCommand/catalogue_item_notification:catalogueItemNotification/catalogueItem/tradeItem/tradeItemInformation/extension/*[namespace-uri()='urn:gs1:gdsn:duty_fee_tax_information:xsd:3' and local-name()='dutyFeeTaxInformationModule']/dutyFeeTaxInformation/dutyFeeTaxAgencyCode"},{"$f":"Tabel3[[#This Row],[GDM laag]]","v":"Local"},{"$f":"VLOOKUP(Tabel3[[#This Row],[GAE ID]],'BES EN'!A:AJ,27,FALSE)","v":" "},null,{"$f":"Tabel3[[#This Row],[Dairy, Refrigerated & Frozen]]","v":"A"},{"$f":"Tabel3[[#This Row],[Deli & Prepared]]","v":"B"},{"$f":"Tabel3[[#This Row],[Fresh Meat]]","v":"C"},{"$f":"Tabel3[[#This Row],[Fresh Fish]]","v":"D"},{"$f":"Tabel3[[#This Row],[Fresh Fruits & Vegetables]]","v":"E"},{"$f":"Tabel3[[#This Row],[Grocery]]","v":"F"},{"$f":"Tabel3[[#This Row],[Cleaners]]","v":"G"},{"$f":"Tabel3[[#This Row],[Disposables]]","v":"H"},{"$f":"Tabel3[[#This Row],[Beauty & Personal Care]]","v":"I"},{"$f":"Tabel3[[#This Row],[Petfood]]","v":"J"},{"$f":"Tabel3[[#This Row],[Alcoholic Beverages]]","v":"K"},{"$f":"Tabel3[[#This Row],[Tobacco]]","v":"L"},{"$f":"Tabel3[[#This Row],[Self-care medicines]]","v":"M"},{"$f":"Tabel3[[#This Row],[Special Food]]","v":"N"},{"$f":"Tabel3[[#This Row],[Food Supplements]]","v":"O"},{"$f":"Tabel3[[#This Row],[Healthcare Products]]","v":"P"},{"$f":"Tabel3[[#This Row],[Medical Devices]]","v":"Q"},{"$f":"Tabel3[[#This Row],[Batteries]]","v":"R"},{"$f":"Tabel3[[#This Row],[Light Bulbs]]","v":"S"},{"$f":"Tabel3[[#This Row],[Other Categories]]","v":"T"}]
[{"$f":"VLOOKUP(Tabel3[[#This Row],[GAE ID]],'BES EN'!A:AJ,36,FALSE)","v":"Tax category code"},{"$f":"Tabel3[[#This Row],[GDSN-naam]]","v":"dutyFeeTaxCategoryCode"},{"$f":"Tabel3[[#This Row],[GDM Verplicht / Conditioneel]]","v":"Conditional"},{"$f":"Tabel3[[#This Row],[DMS controle]]","v":"X"},{"$f":"Tabel3[[#This Row],[BMS ID]]","v":1175},{"$f":"Tabel3[[#This Row],[Formaat]]","v":"an..35"},{"$f":"Tabel3[[#This Row],[X Path]]","v":"/catalogue_item_notification:catalogueItemNotificationMessage/transaction/documentCommand/catalogue_item_notification:catalogueItemNotification/catalogueItem/tradeItem/tradeItemInformation/extension/*[namespace-uri()='urn:gs1:gdsn:duty_fee_tax_information:xsd:3' and local-name()='dutyFeeTaxInformationModule']/dutyFeeTaxInformation/dutyFeeTax/dutyFeeTaxCategoryCode"},{"$f":"Tabel3[[#This Row],[GDM laag]]","v":"Regional EU"},{"$f":"VLOOKUP(Tabel3[[#This Row],[GAE ID]],'BES EN'!A:AJ,27,FALSE)","v":"Mandatory"},null,{"$f":"Tabel3[[#This Row],[Dairy, Refrigerated & Frozen]]","v":"A"},{"$f":"Tabel3[[#This Row],[Deli & Prepared]]","v":"B"},{"$f":"Tabel3[[#This Row],[Fresh Meat]]","v":"C"},{"$f":"Tabel3[[#This Row],[Fresh Fish]]","v":"D"},{"$f":"Tabel3[[#This Row],[Fresh Fruits & Vegetables]]","v":"E"},{"$f":"Tabel3[[#This Row],[Grocery]]","v":"F"},{"$f":"Tabel3[[#This Row],[Cleaners]]","v":"G"},{"$f":"Tabel3[[#This Row],[Disposables]]","v":"H"},{"$f":"Tabel3[[#This Row],[Beauty & Personal Care]]","v":"I"},{"$f":"Tabel3[[#This Row],[Petfood]]","v":"J"},{"$f":"Tabel3[[#This Row],[Alcoholic Beverages]]","v":"K"},{"$f":"Tabel3[[#This Row],[Tobacco]]","v":"L"},{"$f":"Tabel3[[#This Row],[Self-care medicines]]","v":"M"},{"$f":"Tabel3[[#This Row],[Special Food]]","v":"N"},{"$f":"Tabel3[[#This Row],[Food Supplements]]","v":"O"},{"$f":"Tabel3[[#This Row],[Healthcare Products]]","v":"P"},{"$f":"Tabel3[[#This Row],[Medical Devices]]","v":"Q"},{"$f":"Tabel3[[#This Row],[Batteries]]","v":"R"},{"$f":"Tabel3[[#This Row],[Light Bulbs]]","v":"S"},{"$f":"Tabel3[[#This Row],[Other Categories]]","v":"T"}]
["Measures and Weights",null,{"$f":"Tabel3[[#This Row],[GDM Verplicht / Conditioneel]]","v":0},null,null,null,null,null,null,null,"A","B","C","D","E","F","G","H","I","J","K","L","M","N","O","P","Q","R","S","T"]
[{"$f":"VLOOKUP(Tabel3[[#This Row],[GAE ID]],'BES EN'!A:AJ,36,FALSE)","v":"Depth"},{"$f":"Tabel3[[#This Row],[GDSN-naam]]","v":"depth"},{"$f":"Tabel3[[#This Row],[GDM Verplicht / Conditioneel]]","v":"Mandatory"},{"$f":"Tabel3[[#This Row],[DMS controle]]","v":"X"},{"$f":"Tabel3[[#This Row],[BMS ID]]","v":3721},{"$f":"Tabel3[[#This Row],[Formaat]]","v":"n..15"},{"$f":"Tabel3[[#This Row],[X Path]]","v":"/catalogue_item_notification:catalogueItemNotificationMessage/transaction/documentCommand/catalogue_item_notification:catalogueItemNotification/catalogueItem/tradeItem/tradeItemInformation/extension/*[namespace-uri()='urn:gs1:gdsn:trade_item_measurements:xsd:3' and local-name()='tradeItemMeasurementsModule']/tradeItemMeasurements/depth"},{"$f":"Tabel3[[#This Row],[GDM laag]]","v":"Global"},{"$f":"VLOOKUP(Tabel3[[#This Row],[GAE ID]],'BES EN'!A:AJ,27,FALSE)","v":"Mandatory"},null,{"$f":"Tabel3[[#This Row],[Dairy, Refrigerated & Frozen]]","v":"A"},{"$f":"Tabel3[[#This Row],[Deli & Prepared]]","v":"B"},{"$f":"Tabel3[[#This Row],[Fresh Meat]]","v":"C"},{"$f":"Tabel3[[#This Row],[Fresh Fish]]","v":"D"},{"$f":"Tabel3[[#This Row],[Fresh Fruits & Vegetables]]","v":"E"},{"$f":"Tabel3[[#This Row],[Grocery]]","v":"F"},{"$f":"Tabel3[[#This Row],[Cleaners]]","v":"G"},{"$f":"Tabel3[[#This Row],[Disposables]]","v":"H"},{"$f":"Tabel3[[#This Row],[Beauty & Personal Care]]","v":"I"},{"$f":"Tabel3[[#This Row],[Petfood]]","v":"J"},{"$f":"Tabel3[[#This Row],[Alcoholic Beverages]]","v":"K"},{"$f":"Tabel3[[#This Row],[Tobacco]]","v":"L"},{"$f":"Tabel3[[#This Row],[Self-care medicines]]","v":"M"},{"$f":"Tabel3[[#This Row],[Special Food]]","v":"N"},{"$f":"Tabel3[[#This Row],[Food Supplements]]","v":"O"},{"$f":"Tabel3[[#This Row],[Healthcare Products]]","v":"P"},{"$f":"Tabel3[[#This Row],[Medical Devices]]","v":"Q"},{"$f":"Tabel3[[#This Row],[Batteries]]","v":"R"},{"$f":"Tabel3[[#This Row],[Light Bulbs]]","v":"S"},{"$f":"Tabel3[[#This Row],[Other Categories]]","v":"T"}]
[{"$f":"VLOOKUP(Tabel3[[#This Row],[GAE ID]],'BES EN'!A:AJ,36,FALSE)","v":"Depth UOM"},{"$f":"Tabel3[[#This Row],[GDSN-naam]]","v":"depth/@measurementUnitcode"},{"$f":"Tabel3[[#This Row],[GDM Verplicht / Conditioneel]]","v":"Mandatory"},{"$f":"Tabel3[[#This Row],[DMS controle]]","v":"X"},{"$f":"Tabel3[[#This Row],[BMS ID]]","v":3722},{"$f":"Tabel3[[#This Row],[Formaat]]","v":"Defined values"},{"$f":"Tabel3[[#This Row],[X Path]]","v":"/catalogue_item_notification:catalogueItemNotificationMessage/transaction/documentCommand/catalogue_item_notification:catalogueItemNotification/catalogueItem/tradeItem/tradeItemInformation/extension/*[namespace-uri()='urn:gs1:gdsn:trade_item_measurements:xsd:3' and local-name()='tradeItemMeasurementsModule']/tradeItemMeasurements/depth/@measurementUnitcode"},{"$f":"Tabel3[[#This Row],[GDM laag]]","v":"Global"},{"$f":"VLOOKUP(Tabel3[[#This Row],[GAE ID]],'BES EN'!A:AJ,27,FALSE)","v":"Mandatory"},null,{"$f":"Tabel3[[#This Row],[Dairy, Refrigerated & Frozen]]","v":"A"},{"$f":"Tabel3[[#This Row],[Deli & Prepared]]","v":"B"},{"$f":"Tabel3[[#This Row],[Fresh Meat]]","v":"C"},{"$f":"Tabel3[[#This Row],[Fresh Fish]]","v":"D"},{"$f":"Tabel3[[#This Row],[Fresh Fruits & Vegetables]]","v":"E"},{"$f":"Tabel3[[#This Row],[Grocery]]","v":"F"},{"$f":"Tabel3[[#This Row],[Cleaners]]","v":"G"},{"$f":"Tabel3[[#This Row],[Disposables]]","v":"H"},{"$f":"Tabel3[[#This Row],[Beauty & Personal Care]]","v":"I"},{"$f":"Tabel3[[#This Row],[Petfood]]","v":"J"},{"$f":"Tabel3[[#This Row],[Alcoholic Beverages]]","v":"K"},{"$f":"Tabel3[[#This Row],[Tobacco]]","v":"L"},{"$f":"Tabel3[[#This Row],[Self-care medicines]]","v":"M"},{"$f":"Tabel3[[#This Row],[Special Food]]","v":"N"},{"$f":"Tabel3[[#This Row],[Food Supplements]]","v":"O"},{"$f":"Tabel3[[#This Row],[Healthcare Products]]","v":"P"},{"$f":"Tabel3[[#This Row],[Medical Devices]]","v":"Q"},{"$f":"Tabel3[[#This Row],[Batteries]]","v":"R"},{"$f":"Tabel3[[#This Row],[Light Bulbs]]","v":"S"},{"$f":"Tabel3[[#This Row],[Other Categories]]","v":"T"}]
[{"$f":"VLOOKUP(Tabel3[[#This Row],[GAE ID]],'BES EN'!A:AJ,36,FALSE)","v":"Height"},{"$f":"Tabel3[[#This Row],[GDSN-naam]]","v":"height"},{"$f":"Tabel3[[#This Row],[GDM Verplicht / Conditioneel]]","v":"Mandatory"},{"$f":"Tabel3[[#This Row],[DMS controle]]","v":"X"},{"$f":"Tabel3[[#This Row],[BMS ID]]","v":3725},{"$f":"Tabel3[[#This Row],[Formaat]]","v":"n..15"},{"$f":"Tabel3[[#This Row],[X Path]]","v":"/catalogue_item_notification:catalogueItemNotificationMessage/transaction/documentCommand/catalogue_item_notification:catalogueItemNotification/catalogueItem/tradeItem/tradeItemInformation/extension/*[namespace-uri()='urn:gs1:gdsn:trade_item_measurements:xsd:3' and local-name()='tradeItemMeasurementsModule']/tradeItemMeasurements/height"},{"$f":"Tabel3[[#This Row],[GDM laag]]","v":"Global"},{"$f":"VLOOKUP(Tabel3[[#This Row],[GAE ID]],'BES EN'!A:AJ,27,FALSE)","v":"Mandatory"},null,{"$f":"Tabel3[[#This Row],[Dairy, Refrigerated & Frozen]]","v":"A"},{"$f":"Tabel3[[#This Row],[Deli & Prepared]]","v":"B"},{"$f":"Tabel3[[#This Row],[Fresh Meat]]","v":"C"},{"$f":"Tabel3[[#This Row],[Fresh Fish]]","v":"D"},{"$f":"Tabel3[[#This Row],[Fresh Fruits & Vegetables]]","v":"E"},{"$f":"Tabel3[[#This Row],[Grocery]]","v":"F"},{"$f":"Tabel3[[#This Row],[Cleaners]]","v":"G"},{"$f":"Tabel3[[#This Row],[Disposables]]","v":"H"},{"$f":"Tabel3[[#This Row],[Beauty & Personal Care]]","v":"I"},{"$f":"Tabel3[[#This Row],[Petfood]]","v":"J"},{"$f":"Tabel3[[#This Row],[Alcoholic Beverages]]","v":"K"},{"$f":"Tabel3[[#This Row],[Tobacco]]","v":"L"},{"$f":"Tabel3[[#This Row],[Self-care medicines]]","v":"M"},{"$f":"Tabel3[[#This Row],[Special Food]]","v":"N"},{"$f":"Tabel3[[#This Row],[Food Supplements]]","v":"O"},{"$f":"Tabel3[[#This Row],[Healthcare Products]]","v":"P"},{"$f":"Tabel3[[#This Row],[Medical Devices]]","v":"Q"},{"$f":"Tabel3[[#This Row],[Batteries]]","v":"R"},{"$f":"Tabel3[[#This Row],[Light Bulbs]]","v":"S"},{"$f":"Tabel3[[#This Row],[Other Categories]]","v":"T"}]
[{"$f":"VLOOKUP(Tabel3[[#This Row],[GAE ID]],'BES EN'!A:AJ,36,FALSE)","v":"Height UOM"},{"$f":"Tabel3[[#This Row],[GDSN-naam]]","v":"height/@measurementUnitcode"},{"$f":"Tabel3[[#This Row],[GDM Verplicht / Conditioneel]]","v":"Mandatory"},{"$f":"Tabel3[[#This Row],[DMS controle]]","v":"X"},{"$f":"Tabel3[[#This Row],[BMS ID]]","v":3726},{"$f":"Tabel3[[#This Row],[Formaat]]","v":"Defined values"},{"$f":"Tabel3[[#This Row],[X Path]]","v":"/catalogue_item_notification:catalogueItemNotificationMessage/transaction/documentCommand/catalogue_item_notification:catalogueItemNotification/catalogueItem/tradeItem/tradeItemInformation/extension/*[namespace-uri()='urn:gs1:gdsn:trade_item_measurements:xsd:3' and local-name()='tradeItemMeasurementsModule']/tradeItemMeasurements/height/@measurementUnitcode"},{"$f":"Tabel3[[#This Row],[GDM laag]]","v":"Global"},{"$f":"VLOOKUP(Tabel3[[#This Row],[GAE ID]],'BES EN'!A:AJ,27,FALSE)","v":"Mandatory"},null,{"$f":"Tabel3[[#This Row],[Dairy, Refrigerated & Frozen]]","v":"A"},{"$f":"Tabel3[[#This Row],[Deli & Prepared]]","v":"B"},{"$f":"Tabel3[[#This Row],[Fresh Meat]]","v":"C"},{"$f":"Tabel3[[#This Row],[Fresh Fish]]","v":"D"},{"$f":"Tabel3[[#This Row],[Fresh Fruits & Vegetables]]","v":"E"},{"$f":"Tabel3[[#This Row],[Grocery]]","v":"F"},{"$f":"Tabel3[[#This Row],[Cleaners]]","v":"G"},{"$f":"Tabel3[[#This Row],[Disposables]]","v":"H"},{"$f":"Tabel3[[#This Row],[Beauty & Personal Care]]","v":"I"},{"$f":"Tabel3[[#This Row],[Petfood]]","v":"J"},{"$f":"Tabel3[[#This Row],[Alcoholic Beverages]]","v":"K"},{"$f":"Tabel3[[#This Row],[Tobacco]]","v":"L"},{"$f":"Tabel3[[#This Row],[Self-care medicines]]","v":"M"},{"$f":"Tabel3[[#This Row],[Special Food]]","v":"N"},{"$f":"Tabel3[[#This Row],[Food Supplements]]","v":"O"},{"$f":"Tabel3[[#This Row],[Healthcare Products]]","v":"P"},{"$f":"Tabel3[[#This Row],[Medical Devices]]","v":"Q"},{"$f":"Tabel3[[#This Row],[Batteries]]","v":"R"},{"$f":"Tabel3[[#This Row],[Light Bulbs]]","v":"S"},{"$f":"Tabel3[[#This Row],[Other Categories]]","v":"T"}]
[{"$f":"VLOOKUP(Tabel3[[#This Row],[GAE ID]],'BES EN'!A:AJ,36,FALSE)","v":"Width"},{"$f":"Tabel3[[#This Row],[GDSN-naam]]","v":"width"},{"$f":"Tabel3[[#This Row],[GDM Verplicht / Conditioneel]]","v":"Mandatory"},{"$f":"Tabel3[[#This Row],[DMS controle]]","v":"X"},{"$f":"Tabel3[[#This Row],[BMS ID]]","v":3739},{"$f":"Tabel3[[#This Row],[Formaat]]","v":"n..15"},{"$f":"Tabel3[[#This Row],[X Path]]","v":"/catalogue_item_notification:catalogueItemNotificationMessage/transaction/documentCommand/catalogue_item_notification:catalogueItemNotification/catalogueItem/tradeItem/tradeItemInformation/extension/*[namespace-uri()='urn:gs1:gdsn:trade_item_measurements:xsd:3' and local-name()='tradeItemMeasurementsModule']/tradeItemMeasurements/width"},{"$f":"Tabel3[[#This Row],[GDM laag]]","v":"Global"},{"$f":"VLOOKUP(Tabel3[[#This Row],[GAE ID]],'BES EN'!A:AJ,27,FALSE)","v":"Mandatory"},null,{"$f":"Tabel3[[#This Row],[Dairy, Refrigerated & Frozen]]","v":"A"},{"$f":"Tabel3[[#This Row],[Deli & Prepared]]","v":"B"},{"$f":"Tabel3[[#This Row],[Fresh Meat]]","v":"C"},{"$f":"Tabel3[[#This Row],[Fresh Fish]]","v":"D"},{"$f":"Tabel3[[#This Row],[Fresh Fruits & Vegetables]]","v":"E"},{"$f":"Tabel3[[#This Row],[Grocery]]","v":"F"},{"$f":"Tabel3[[#This Row],[Cleaners]]","v":"G"},{"$f":"Tabel3[[#This Row],[Disposables]]","v":"H"},{"$f":"Tabel3[[#This Row],[Beauty & Personal Care]]","v":"I"},{"$f":"Tabel3[[#This Row],[Petfood]]","v":"J"},{"$f":"Tabel3[[#This Row],[Alcoholic Beverages]]","v":"K"},{"$f":"Tabel3[[#This Row],[Tobacco]]","v":"L"},{"$f":"Tabel3[[#This Row],[Self-care medicines]]","v":"M"},{"$f":"Tabel3[[#This Row],[Special Food]]","v":"N"},{"$f":"Tabel3[[#This Row],[Food Supplements]]","v":"O"},{"$f":"Tabel3[[#This Row],[Healthcare Products]]","v":"P"},{"$f":"Tabel3[[#This Row],[Medical Devices]]","v":"Q"},{"$f":"Tabel3[[#This Row],[Batteries]]","v":"R"},{"$f":"Tabel3[[#This Row],[Light Bulbs]]","v":"S"},{"$f":"Tabel3[[#This Row],[Other Categories]]","v":"T"}]
[{"$f":"VLOOKUP(Tabel3[[#This Row],[GAE ID]],'BES EN'!A:AJ,36,FALSE)","v":"Width UOM"},{"$f":"Tabel3[[#This Row],[GDSN-naam]]","v":"width/@measurementUnitcode"},{"$f":"Tabel3[[#This Row],[GDM Verplicht / Conditioneel]]","v":"Mandatory"},{"$f":"Tabel3[[#This Row],[DMS controle]]","v":"X"},{"$f":"Tabel3[[#This Row],[BMS ID]]","v":3740},{"$f":"Tabel3[[#This Row],[Formaat]]","v":"Defined values"},{"$f":"Tabel3[[#This Row],[X Path]]","v":"/catalogue_item_notification:catalogueItemNotificationMessage/transaction/documentCommand/catalogue_item_notification:catalogueItemNotification/catalogueItem/tradeItem/tradeItemInformation/extension/*[namespace-uri()='urn:gs1:gdsn:trade_item_measurements:xsd:3' and local-name()='tradeItemMeasurementsModule']/tradeItemMeasurements/width/@measurementUnitcode"},{"$f":"Tabel3[[#This Row],[GDM laag]]","v":"Global"},{"$f":"VLOOKUP(Tabel3[[#This Row],[GAE ID]],'BES EN'!A:AJ,27,FALSE)","v":"Mandatory"},null,{"$f":"Tabel3[[#This Row],[Dairy, Refrigerated & Frozen]]","v":"A"},{"$f":"Tabel3[[#This Row],[Deli & Prepared]]","v":"B"},{"$f":"Tabel3[[#This Row],[Fresh Meat]]","v":"C"},{"$f":"Tabel3[[#This Row],[Fresh Fish]]","v":"D"},{"$f":"Tabel3[[#This Row],[Fresh Fruits & Vegetables]]","v":"E"},{"$f":"Tabel3[[#This Row],[Grocery]]","v":"F"},{"$f":"Tabel3[[#This Row],[Cleaners]]","v":"G"},{"$f":"Tabel3[[#This Row],[Disposables]]","v":"H"},{"$f":"Tabel3[[#This Row],[Beauty & Personal Care]]","v":"I"},{"$f":"Tabel3[[#This Row],[Petfood]]","v":"J"},{"$f":"Tabel3[[#This Row],[Alcoholic Beverages]]","v":"K"},{"$f":"Tabel3[[#This Row],[Tobacco]]","v":"L"},{"$f":"Tabel3[[#This Row],[Self-care medicines]]","v":"M"},{"$f":"Tabel3[[#This Row],[Special Food]]","v":"N"},{"$f":"Tabel3[[#This Row],[Food Supplements]]","v":"O"},{"$f":"Tabel3[[#This Row],[Healthcare Products]]","v":"P"},{"$f":"Tabel3[[#This Row],[Medical Devices]]","v":"Q"},{"$f":"Tabel3[[#This Row],[Batteries]]","v":"R"},{"$f":"Tabel3[[#This Row],[Light Bulbs]]","v":"S"},{"$f":"Tabel3[[#This Row],[Other Categories]]","v":"T"}]
[{"$f":"VLOOKUP(Tabel3[[#This Row],[GAE ID]],'BES EN'!A:AJ,36,FALSE)","v":"Gross weight"},{"$f":"Tabel3[[#This Row],[GDSN-naam]]","v":"grossWeight"},{"$f":"Tabel3[[#This Row],[GDM Verplicht / Conditioneel]]","v":"Mandatory"},{"$f":"Tabel3[[#This Row],[DMS controle]]","v":"X"},{"$f":"Tabel3[[#This Row],[BMS ID]]","v":3777},{"$f":"Tabel3[[#This Row],[Formaat]]","v":"n..15"},{"$f":"Tabel3[[#This Row],[X Path]]","v":"/catalogue_item_notification:catalogueItemNotificationMessage/transaction/documentCommand/catalogue_item_notification:catalogueItemNotification/catalogueItem/tradeItem/tradeItemInformation/extension/*[namespace-uri()='urn:gs1:gdsn:trade_item_measurements:xsd:3' and local-name()='tradeItemMeasurementsModule']/tradeItemMeasurements/tradeItemWeight/grossWeight"},{"$f":"Tabel3[[#This Row],[GDM laag]]","v":"Global"},{"$f":"VLOOKUP(Tabel3[[#This Row],[GAE ID]],'BES EN'!A:AJ,27,FALSE)","v":"Mandatory"},null,{"$f":"Tabel3[[#This Row],[Dairy, Refrigerated & Frozen]]","v":"A"},{"$f":"Tabel3[[#This Row],[Deli & Prepared]]","v":"B"},{"$f":"Tabel3[[#This Row],[Fresh Meat]]","v":"C"},{"$f":"Tabel3[[#This Row],[Fresh Fish]]","v":"D"},{"$f":"Tabel3[[#This Row],[Fresh Fruits & Vegetables]]","v":"E"},{"$f":"Tabel3[[#This Row],[Grocery]]","v":"F"},{"$f":"Tabel3[[#This Row],[Cleaners]]","v":"G"},{"$f":"Tabel3[[#This Row],[Disposables]]","v":"H"},{"$f":"Tabel3[[#This Row],[Beauty & Personal Care]]","v":"I"},{"$f":"Tabel3[[#This Row],[Petfood]]","v":"J"},{"$f":"Tabel3[[#This Row],[Alcoholic Beverages]]","v":"K"},{"$f":"Tabel3[[#This Row],[Tobacco]]","v":"L"},{"$f":"Tabel3[[#This Row],[Self-care medicines]]","v":"M"},{"$f":"Tabel3[[#This Row],[Special Food]]","v":"N"},{"$f":"Tabel3[[#This Row],[Food Supplements]]","v":"O"},{"$f":"Tabel3[[#This Row],[Healthcare Products]]","v":"P"},{"$f":"Tabel3[[#This Row],[Medical Devices]]","v":"Q"},{"$f":"Tabel3[[#This Row],[Batteries]]","v":"R"},{"$f":"Tabel3[[#This Row],[Light Bulbs]]","v":"S"},{"$f":"Tabel3[[#This Row],[Other Categories]]","v":"T"}]
[{"$f":"VLOOKUP(Tabel3[[#This Row],[GAE ID]],'BES EN'!A:AJ,36,FALSE)","v":"Gross weight UOM"},{"$f":"Tabel3[[#This Row],[GDSN-naam]]","v":"grossWeight/@measurementUnitCode"},{"$f":"Tabel3[[#This Row],[GDM Verplicht / Conditioneel]]","v":"Mandatory"},{"$f":"Tabel3[[#This Row],[DMS controle]]","v":"X"},{"$f":"Tabel3[[#This Row],[BMS ID]]","v":3778},{"$f":"Tabel3[[#This Row],[Formaat]]","v":"Defined values"},{"$f":"Tabel3[[#This Row],[X Path]]","v":"/catalogue_item_notification:catalogueItemNotificationMessage/transaction/documentCommand/catalogue_item_notification:catalogueItemNotification/catalogueItem/tradeItem/tradeItemInformation/extension/*[namespace-uri()='urn:gs1:gdsn:trade_item_measurements:xsd:3' and local-name()='tradeItemMeasurementsModule']/tradeItemMeasurements/tradeItemWeight/grossWeight/@measurementUnitCode"},{"$f":"Tabel3[[#This Row],[GDM laag]]","v":"Global"},{"$f":"VLOOKUP(Tabel3[[#This Row],[GAE ID]],'BES EN'!A:AJ,27,FALSE)","v":"Mandatory"},null,{"$f":"Tabel3[[#This Row],[Dairy, Refrigerated & Frozen]]","v":"A"},{"$f":"Tabel3[[#This Row],[Deli & Prepared]]","v":"B"},{"$f":"Tabel3[[#This Row],[Fresh Meat]]","v":"C"},{"$f":"Tabel3[[#This Row],[Fresh Fish]]","v":"D"},{"$f":"Tabel3[[#This Row],[Fresh Fruits & Vegetables]]","v":"E"},{"$f":"Tabel3[[#This Row],[Grocery]]","v":"F"},{"$f":"Tabel3[[#This Row],[Cleaners]]","v":"G"},{"$f":"Tabel3[[#This Row],[Disposables]]","v":"H"},{"$f":"Tabel3[[#This Row],[Beauty & Personal Care]]","v":"I"},{"$f":"Tabel3[[#This Row],[Petfood]]","v":"J"},{"$f":"Tabel3[[#This Row],[Alcoholic Beverages]]","v":"K"},{"$f":"Tabel3[[#This Row],[Tobacco]]","v":"L"},{"$f":"Tabel3[[#This Row],[Self-care medicines]]","v":"M"},{"$f":"Tabel3[[#This Row],[Special Food]]","v":"N"},{"$f":"Tabel3[[#This Row],[Food Supplements]]","v":"O"},{"$f":"Tabel3[[#This Row],[Healthcare Products]]","v":"P"},{"$f":"Tabel3[[#This Row],[Medical Devices]]","v":"Q"},{"$f":"Tabel3[[#This Row],[Batteries]]","v":"R"},{"$f":"Tabel3[[#This Row],[Light Bulbs]]","v":"S"},{"$f":"Tabel3[[#This Row],[Other Categories]]","v":"T"}]
[{"$f":"VLOOKUP(Tabel3[[#This Row],[GAE ID]],'BES EN'!A:AJ,36,FALSE)","v":"Net content"},{"$f":"Tabel3[[#This Row],[GDSN-naam]]","v":"netContent"},{"$f":"Tabel3[[#This Row],[GDM Verplicht / Conditioneel]]","v":"Conditional"},{"$f":"Tabel3[[#This Row],[DMS controle]]","v":"X"},{"$f":"Tabel3[[#This Row],[BMS ID]]","v":3733},{"$f":"Tabel3[[#This Row],[Formaat]]","v":"n..15"},{"$f":"Tabel3[[#This Row],[X Path]]","v":"/catalogue_item_notification:catalogueItemNotificationMessage/transaction/documentCommand/catalogue_item_notification:catalogueItemNotification/catalogueItem/tradeItem/tradeItemInformation/extension/*[namespace-uri()='urn:gs1:gdsn:trade_item_measurements:xsd:3' and local-name()='tradeItemMeasurementsModule']/tradeItemMeasurements/netContent"},{"$f":"Tabel3[[#This Row],[GDM laag]]","v":"Global"},{"$f":"VLOOKUP(Tabel3[[#This Row],[GAE ID]],'BES EN'!A:AJ,27,FALSE)","v":"Mandatory"},null,{"$f":"Tabel3[[#This Row],[Dairy, Refrigerated & Frozen]]","v":"A"},{"$f":"Tabel3[[#This Row],[Deli & Prepared]]","v":"B"},{"$f":"Tabel3[[#This Row],[Fresh Meat]]","v":"C"},{"$f":"Tabel3[[#This Row],[Fresh Fish]]","v":"D"},{"$f":"Tabel3[[#This Row],[Fresh Fruits & Vegetables]]","v":"E"},{"$f":"Tabel3[[#This Row],[Grocery]]","v":"F"},{"$f":"Tabel3[[#This Row],[Cleaners]]","v":"G"},{"$f":"Tabel3[[#This Row],[Disposables]]","v":"H"},{"$f":"Tabel3[[#This Row],[Beauty & Personal Care]]","v":"I"},{"$f":"Tabel3[[#This Row],[Petfood]]","v":"J"},{"$f":"Tabel3[[#This Row],[Alcoholic Beverages]]","v":"K"},{"$f":"Tabel3[[#This Row],[Tobacco]]","v":"L"},{"$f":"Tabel3[[#This Row],[Self-care medicines]]","v":"M"},{"$f":"Tabel3[[#This Row],[Special Food]]","v":"N"},{"$f":"Tabel3[[#This Row],[Food Supplements]]","v":"O"},{"$f":"Tabel3[[#This Row],[Healthcare Products]]","v":"P"},{"$f":"Tabel3[[#This Row],[Medical Devices]]","v":"Q"},{"$f":"Tabel3[[#This Row],[Batteries]]","v":"R"},{"$f":"Tabel3[[#This Row],[Light Bulbs]]","v":"S"},{"$f":"Tabel3[[#This Row],[Other Categories]]","v":"T"}]
[{"$f":"VLOOKUP(Tabel3[[#This Row],[GAE ID]],'BES EN'!A:AJ,36,FALSE)","v":"Net content UOM"},{"$f":"Tabel3[[#This Row],[GDSN-naam]]","v":"netContent/@measurementUnitcode"},{"$f":"Tabel3[[#This Row],[GDM Verplicht / Conditioneel]]","v":"Conditional"},{"$f":"Tabel3[[#This Row],[DMS controle]]","v":"X"},{"$f":"Tabel3[[#This Row],[BMS ID]]","v":3734},{"$f":"Tabel3[[#This Row],[Formaat]]","v":"Defined values"},{"$f":"Tabel3[[#This Row],[X Path]]","v":"/catalogue_item_notification:catalogueItemNotificationMessage/transaction/documentCommand/catalogue_item_notification:catalogueItemNotification/catalogueItem/tradeItem/tradeItemInformation/extension/*[namespace-uri()='urn:gs1:gdsn:trade_item_measurements:xsd:3' and local-name()='tradeItemMeasurementsModule']/tradeItemMeasurements/netContent/@measurementUnitcode"},{"$f":"Tabel3[[#This Row],[GDM laag]]","v":"Global"},{"$f":"VLOOKUP(Tabel3[[#This Row],[GAE ID]],'BES EN'!A:AJ,27,FALSE)","v":"Mandatory"},null,{"$f":"Tabel3[[#This Row],[Dairy, Refrigerated & Frozen]]","v":"A"},{"$f":"Tabel3[[#This Row],[Deli & Prepared]]","v":"B"},{"$f":"Tabel3[[#This Row],[Fresh Meat]]","v":"C"},{"$f":"Tabel3[[#This Row],[Fresh Fish]]","v":"D"},{"$f":"Tabel3[[#This Row],[Fresh Fruits & Vegetables]]","v":"E"},{"$f":"Tabel3[[#This Row],[Grocery]]","v":"F"},{"$f":"Tabel3[[#This Row],[Cleaners]]","v":"G"},{"$f":"Tabel3[[#This Row],[Disposables]]","v":"H"},{"$f":"Tabel3[[#This Row],[Beauty & Personal Care]]","v":"I"},{"$f":"Tabel3[[#This Row],[Petfood]]","v":"J"},{"$f":"Tabel3[[#This Row],[Alcoholic Beverages]]","v":"K"},{"$f":"Tabel3[[#This Row],[Tobacco]]","v":"L"},{"$f":"Tabel3[[#This Row],[Self-care medicines]]","v":"M"},{"$f":"Tabel3[[#This Row],[Special Food]]","v":"N"},{"$f":"Tabel3[[#This Row],[Food Supplements]]","v":"O"},{"$f":"Tabel3[[#This Row],[Healthcare Products]]","v":"P"},{"$f":"Tabel3[[#This Row],[Medical Devices]]","v":"Q"},{"$f":"Tabel3[[#This Row],[Batteries]]","v":"R"},{"$f":"Tabel3[[#This Row],[Light Bulbs]]","v":"S"},{"$f":"Tabel3[[#This Row],[Other Categories]]","v":"T"}]
[{"$f":"VLOOKUP(Tabel3[[#This Row],[GAE ID]],'BES EN'!A:AJ,36,FALSE)","v":"Drained weight"},{"$f":"Tabel3[[#This Row],[GDSN-naam]]","v":"drainedWeight"},{"$f":"Tabel3[[#This Row],[GDM Verplicht / Conditioneel]]","v":"Conditional"},{"$f":"Tabel3[[#This Row],[DMS controle]]","v":"X"},{"$f":"Tabel3[[#This Row],[BMS ID]]","v":3775},{"$f":"Tabel3[[#This Row],[Formaat]]","v":"n..15"},{"$f":"Tabel3[[#This Row],[X Path]]","v":"/catalogue_item_notification:catalogueItemNotificationMessage/transaction/documentCommand/catalogue_item_notification:catalogueItemNotification/catalogueItem/tradeItem/tradeItemInformation/extension/*[namespace-uri()='urn:gs1:gdsn:trade_item_measurements:xsd:3' and local-name()='tradeItemMeasurementsModule']/tradeItemMeasurements/tradeItemWeight/drainedWeight"},{"$f":"Tabel3[[#This Row],[GDM laag]]","v":"Regional EU"},{"$f":"VLOOKUP(Tabel3[[#This Row],[GAE ID]],'BES EN'!A:AJ,27,FALSE)","v":"Mandatory if a drained weight is shown on the packaging."},null,{"$f":"Tabel3[[#This Row],[Dairy, Refrigerated & Frozen]]","v":"A"},{"$f":"Tabel3[[#This Row],[Deli & Prepared]]","v":"B"},{"$f":"Tabel3[[#This Row],[Fresh Meat]]","v":"C"},{"$f":"Tabel3[[#This Row],[Fresh Fish]]","v":"D"},{"$f":"Tabel3[[#This Row],[Fresh Fruits & Vegetables]]","v":"E"},{"$f":"Tabel3[[#This Row],[Grocery]]","v":"F"},{"$f":"Tabel3[[#This Row],[Cleaners]]","v":"-"},{"$f":"Tabel3[[#This Row],[Disposables]]","v":"-"},{"$f":"Tabel3[[#This Row],[Beauty & Personal Care]]","v":"-"},{"$f":"Tabel3[[#This Row],[Petfood]]","v":"-"},{"$f":"Tabel3[[#This Row],[Alcoholic Beverages]]","v":"-"},{"$f":"Tabel3[[#This Row],[Tobacco]]","v":"-"},{"$f":"Tabel3[[#This Row],[Self-care medicines]]","v":"M"},{"$f":"Tabel3[[#This Row],[Special Food]]","v":"N"},{"$f":"Tabel3[[#This Row],[Food Supplements]]","v":"O"},{"$f":"Tabel3[[#This Row],[Healthcare Products]]","v":"P"},{"$f":"Tabel3[[#This Row],[Medical Devices]]","v":"Q"},{"$f":"Tabel3[[#This Row],[Batteries]]","v":"R"},{"$f":"Tabel3[[#This Row],[Light Bulbs]]","v":"S"},{"$f":"Tabel3[[#This Row],[Other Categories]]","v":"T"}]
[{"$f":"VLOOKUP(Tabel3[[#This Row],[GAE ID]],'BES EN'!A:AJ,36,FALSE)","v":"Drained weight UOM"},{"$f":"Tabel3[[#This Row],[GDSN-naam]]","v":"drainedWeight/@measurementUnitCode"},{"$f":"Tabel3[[#This Row],[GDM Verplicht / Conditioneel]]","v":"Conditional"},{"$f":"Tabel3[[#This Row],[DMS controle]]","v":"X"},{"$f":"Tabel3[[#This Row],[BMS ID]]","v":3776},{"$f":"Tabel3[[#This Row],[Formaat]]","v":"Defined values"},{"$f":"Tabel3[[#This Row],[X Path]]","v":"/catalogue_item_notification:catalogueItemNotificationMessage/transaction/documentCommand/catalogue_item_notification:catalogueItemNotification/catalogueItem/tradeItem/tradeItemInformation/extension/*[namespace-uri()='urn:gs1:gdsn:trade_item_measurements:xsd:3' and local-name()='tradeItemMeasurementsModule']/tradeItemMeasurements/tradeItemWeight/drainedWeight/@measurementUnitCode"},{"$f":"Tabel3[[#This Row],[GDM laag]]","v":"Regional EU"},{"$f":"VLOOKUP(Tabel3[[#This Row],[GAE ID]],'BES EN'!A:AJ,27,FALSE)","v":"Mandatory in case the 'Drained weight' field is populated for the consumer unit."},null,{"$f":"Tabel3[[#This Row],[Dairy, Refrigerated & Frozen]]","v":"A"},{"$f":"Tabel3[[#This Row],[Deli & Prepared]]","v":"B"},{"$f":"Tabel3[[#This Row],[Fresh Meat]]","v":"C"},{"$f":"Tabel3[[#This Row],[Fresh Fish]]","v":"D"},{"$f":"Tabel3[[#This Row],[Fresh Fruits & Vegetables]]","v":"E"},{"$f":"Tabel3[[#This Row],[Grocery]]","v":"F"},{"$f":"Tabel3[[#This Row],[Cleaners]]","v":"-"},{"$f":"Tabel3[[#This Row],[Disposables]]","v":"-"},{"$f":"Tabel3[[#This Row],[Beauty & Personal Care]]","v":"-"},{"$f":"Tabel3[[#This Row],[Petfood]]","v":"-"},{"$f":"Tabel3[[#This Row],[Alcoholic Beverages]]","v":"-"},{"$f":"Tabel3[[#This Row],[Tobacco]]","v":"-"},{"$f":"Tabel3[[#This Row],[Self-care medicines]]","v":"M"},{"$f":"Tabel3[[#This Row],[Special Food]]","v":"N"},{"$f":"Tabel3[[#This Row],[Food Supplements]]","v":"O"},{"$f":"Tabel3[[#This Row],[Healthcare Products]]","v":"P"},{"$f":"Tabel3[[#This Row],[Medical Devices]]","v":"Q"},{"$f":"Tabel3[[#This Row],[Batteries]]","v":"R"},{"$f":"Tabel3[[#This Row],[Light Bulbs]]","v":"S"},{"$f":"Tabel3[[#This Row],[Other Categories]]","v":"T"}]
[{"$f":"VLOOKUP(Tabel3[[#This Row],[GAE ID]],'BES EN'!A:AJ,36,FALSE)","v":"Net weight"},{"$f":"Tabel3[[#This Row],[GDSN-naam]]","v":"netWeight"},{"$f":"Tabel3[[#This Row],[GDM Verplicht / Conditioneel]]","v":"Conditional"},{"$f":"Tabel3[[#This Row],[DMS controle]]","v":0},{"$f":"Tabel3[[#This Row],[BMS ID]]","v":3779},{"$f":"Tabel3[[#This Row],[Formaat]]","v":"n..15"},{"$f":"Tabel3[[#This Row],[X Path]]","v":"/catalogue_item_notification:catalogueItemNotificationMessage/transaction/documentCommand/catalogue_item_notification:catalogueItemNotification/catalogueItem/tradeItem/tradeItemInformation/extension/*[namespace-uri()='urn:gs1:gdsn:trade_item_measurements:xsd:3' and local-name()='tradeItemMeasurementsModule']/tradeItemMeasurements/tradeItemWeight/netWeight"},{"$f":"Tabel3[[#This Row],[GDM laag]]","v":"Local"},{"$f":"VLOOKUP(Tabel3[[#This Row],[GAE ID]],'BES EN'!A:AJ,27,FALSE)","v":"Mandatory"},null,{"$f":"Tabel3[[#This Row],[Dairy, Refrigerated & Frozen]]","v":"A"},{"$f":"Tabel3[[#This Row],[Deli & Prepared]]","v":"B"},{"$f":"Tabel3[[#This Row],[Fresh Meat]]","v":"C"},{"$f":"Tabel3[[#This Row],[Fresh Fish]]","v":"D"},{"$f":"Tabel3[[#This Row],[Fresh Fruits & Vegetables]]","v":"E"},{"$f":"Tabel3[[#This Row],[Grocery]]","v":"F"},{"$f":"Tabel3[[#This Row],[Cleaners]]","v":"G"},{"$f":"Tabel3[[#This Row],[Disposables]]","v":"H"},{"$f":"Tabel3[[#This Row],[Beauty & Personal Care]]","v":"I"},{"$f":"Tabel3[[#This Row],[Petfood]]","v":"J"},{"$f":"Tabel3[[#This Row],[Alcoholic Beverages]]","v":"K"},{"$f":"Tabel3[[#This Row],[Tobacco]]","v":"L"},{"$f":"Tabel3[[#This Row],[Self-care medicines]]","v":"M"},{"$f":"Tabel3[[#This Row],[Special Food]]","v":"N"},{"$f":"Tabel3[[#This Row],[Food Supplements]]","v":"O"},{"$f":"Tabel3[[#This Row],[Healthcare Products]]","v":"P"},{"$f":"Tabel3[[#This Row],[Medical Devices]]","v":"Q"},{"$f":"Tabel3[[#This Row],[Batteries]]","v":"R"},{"$f":"Tabel3[[#This Row],[Light Bulbs]]","v":"S"},{"$f":"Tabel3[[#This Row],[Other Categories]]","v":"T"}]
[{"$f":"VLOOKUP(Tabel3[[#This Row],[GAE ID]],'BES EN'!A:AJ,36,FALSE)","v":"Net weight UOM"},{"$f":"Tabel3[[#This Row],[GDSN-naam]]","v":"netWeight/@measurementUnitCode"},{"$f":"Tabel3[[#This Row],[GDM Verplicht / Conditioneel]]","v":"Conditional"},{"$f":"Tabel3[[#This Row],[DMS controle]]","v":0},{"$f":"Tabel3[[#This Row],[BMS ID]]","v":3780},{"$f":"Tabel3[[#This Row],[Formaat]]","v":"Defined values"},{"$f":"Tabel3[[#This Row],[X Path]]","v":"/catalogue_item_notification:catalogueItemNotificationMessage/transaction/documentCommand/catalogue_item_notification:catalogueItemNotification/catalogueItem/tradeItem/tradeItemInformation/extension/*[namespace-uri()='urn:gs1:gdsn:trade_item_measurements:xsd:3' and local-name()='tradeItemMeasurementsModule']/tradeItemMeasurements/tradeItemWeight/netWeight/@measurementUnitCode"},{"$f":"Tabel3[[#This Row],[GDM laag]]","v":"Local"},{"$f":"VLOOKUP(Tabel3[[#This Row],[GAE ID]],'BES EN'!A:AJ,27,FALSE)","v":"Mandatory"},null,{"$f":"Tabel3[[#This Row],[Dairy, Refrigerated & Frozen]]","v":"A"},{"$f":"Tabel3[[#This Row],[Deli & Prepared]]","v":"B"},{"$f":"Tabel3[[#This Row],[Fresh Meat]]","v":"C"},{"$f":"Tabel3[[#This Row],[Fresh Fish]]","v":"D"},{"$f":"Tabel3[[#This Row],[Fresh Fruits & Vegetables]]","v":"E"},{"$f":"Tabel3[[#This Row],[Grocery]]","v":"F"},{"$f":"Tabel3[[#This Row],[Cleaners]]","v":"G"},{"$f":"Tabel3[[#This Row],[Disposables]]","v":"H"},{"$f":"Tabel3[[#This Row],[Beauty & Personal Care]]","v":"I"},{"$f":"Tabel3[[#This Row],[Petfood]]","v":"J"},{"$f":"Tabel3[[#This Row],[Alcoholic Beverages]]","v":"K"},{"$f":"Tabel3[[#This Row],[Tobacco]]","v":"L"},{"$f":"Tabel3[[#This Row],[Self-care medicines]]","v":"M"},{"$f":"Tabel3[[#This Row],[Special Food]]","v":"N"},{"$f":"Tabel3[[#This Row],[Food Supplements]]","v":"O"},{"$f":"Tabel3[[#This Row],[Healthcare Products]]","v":"P"},{"$f":"Tabel3[[#This Row],[Medical Devices]]","v":"Q"},{"$f":"Tabel3[[#This Row],[Batteries]]","v":"R"},{"$f":"Tabel3[[#This Row],[Light Bulbs]]","v":"S"},{"$f":"Tabel3[[#This Row],[Other Categories]]","v":"T"}]
[{"$f":"VLOOKUP(Tabel3[[#This Row],[GAE ID]],'BES EN'!A:AJ,36,FALSE)","v":"Dimension type code"},{"$f":"Tabel3[[#This Row],[GDSN-naam]]","v":"dimensionTypeCode"},{"$f":"Tabel3[[#This Row],[GDM Verplicht / Conditioneel]]","v":"Conditional"},{"$f":"Tabel3[[#This Row],[DMS controle]]","v":0},{"$f":"Tabel3[[#This Row],[BMS ID]]","v":3761},{"$f":"Tabel3[[#This Row],[Formaat]]","v":"Defined values"},{"$f":"Tabel3[[#This Row],[X Path]]","v":"/catalogue_item_notification:catalogueItemNotificationMessage/transaction/documentCommand/catalogue_item_notification:catalogueItemNotification/catalogueItem/tradeItem/tradeItemInformation/extension/*[namespace-uri()='urn:gs1:gdsn:trade_item_measurements:xsd:3' and local-name()='tradeItemMeasurementsModule']/tradeItemMeasurements/additionalTradeItemDimensions/dimensionTypeCode"},{"$f":"Tabel3[[#This Row],[GDM laag]]","v":"Regional EU"},{"$f":"VLOOKUP(Tabel3[[#This Row],[GAE ID]],'BES EN'!A:AJ,27,FALSE)","v":"Mandatory if the physical form of the product has different dimensions than the packaged product."},null,{"$f":"Tabel3[[#This Row],[Dairy, Refrigerated & Frozen]]","v":"A"},{"$f":"Tabel3[[#This Row],[Deli & Prepared]]","v":"B"},{"$f":"Tabel3[[#This Row],[Fresh Meat]]","v":"C"},{"$f":"Tabel3[[#This Row],[Fresh Fish]]","v":"D"},{"$f":"Tabel3[[#This Row],[Fresh Fruits & Vegetables]]","v":"E"},{"$f":"Tabel3[[#This Row],[Grocery]]","v":"F"},{"$f":"Tabel3[[#This Row],[Cleaners]]","v":"G"},{"$f":"Tabel3[[#This Row],[Disposables]]","v":"H"},{"$f":"Tabel3[[#This Row],[Beauty & Personal Care]]","v":"I"},{"$f":"Tabel3[[#This Row],[Petfood]]","v":"J"},{"$f":"Tabel3[[#This Row],[Alcoholic Beverages]]","v":"K"},{"$f":"Tabel3[[#This Row],[Tobacco]]","v":"-"},{"$f":"Tabel3[[#This Row],[Self-care medicines]]","v":"M"},{"$f":"Tabel3[[#This Row],[Special Food]]","v":"N"},{"$f":"Tabel3[[#This Row],[Food Supplements]]","v":"O"},{"$f":"Tabel3[[#This Row],[Healthcare Products]]","v":"P"},{"$f":"Tabel3[[#This Row],[Medical Devices]]","v":"Q"},{"$f":"Tabel3[[#This Row],[Batteries]]","v":"R"},{"$f":"Tabel3[[#This Row],[Light Bulbs]]","v":"S"},{"$f":"Tabel3[[#This Row],[Other Categories]]","v":"T"}]
[{"$f":"VLOOKUP(Tabel3[[#This Row],[GAE ID]],'BES EN'!A:AJ,36,FALSE)","v":"Additional trade item dimension: height"},{"$f":"Tabel3[[#This Row],[GDSN-naam]]","v":"height"},{"$f":"Tabel3[[#This Row],[GDM Verplicht / Conditioneel]]","v":"Conditional"},{"$f":"Tabel3[[#This Row],[DMS controle]]","v":0},{"$f":"Tabel3[[#This Row],[BMS ID]]","v":3762},{"$f":"Tabel3[[#This Row],[Formaat]]","v":"n..15"},{"$f":"Tabel3[[#This Row],[X Path]]","v":"/catalogue_item_notification:catalogueItemNotificationMessage/transaction/documentCommand/catalogue_item_notification:catalogueItemNotification/catalogueItem/tradeItem/tradeItemInformation/extension/*[namespace-uri()='urn:gs1:gdsn:trade_item_measurements:xsd:3' and local-name()='tradeItemMeasurementsModule']/tradeItemMeasurements/additionalTradeItemDimensions/height"},{"$f":"Tabel3[[#This Row],[GDM laag]]","v":"Regional EU"},{"$f":"VLOOKUP(Tabel3[[#This Row],[GAE ID]],'BES EN'!A:AJ,27,FALSE)","v":"Mandatory if the physical form of the product has different dimensions than the packaged product."},null,{"$f":"Tabel3[[#This Row],[Dairy, Refrigerated & Frozen]]","v":"A"},{"$f":"Tabel3[[#This Row],[Deli & Prepared]]","v":"B"},{"$f":"Tabel3[[#This Row],[Fresh Meat]]","v":"C"},{"$f":"Tabel3[[#This Row],[Fresh Fish]]","v":"D"},{"$f":"Tabel3[[#This Row],[Fresh Fruits & Vegetables]]","v":"E"},{"$f":"Tabel3[[#This Row],[Grocery]]","v":"F"},{"$f":"Tabel3[[#This Row],[Cleaners]]","v":"G"},{"$f":"Tabel3[[#This Row],[Disposables]]","v":"H"},{"$f":"Tabel3[[#This Row],[Beauty & Personal Care]]","v":"I"},{"$f":"Tabel3[[#This Row],[Petfood]]","v":"J"},{"$f":"Tabel3[[#This Row],[Alcoholic Beverages]]","v":"K"},{"$f":"Tabel3[[#This Row],[Tobacco]]","v":"-"},{"$f":"Tabel3[[#This Row],[Self-care medicines]]","v":"M"},{"$f":"Tabel3[[#This Row],[Special Food]]","v":"N"},{"$f":"Tabel3[[#This Row],[Food Supplements]]","v":"O"},{"$f":"Tabel3[[#This Row],[Healthcare Products]]","v":"P"},{"$f":"Tabel3[[#This Row],[Medical Devices]]","v":"Q"},{"$f":"Tabel3[[#This Row],[Batteries]]","v":"R"},{"$f":"Tabel3[[#This Row],[Light Bulbs]]","v":"S"},{"$f":"Tabel3[[#This Row],[Other Categories]]","v":"T"}]
[{"$f":"VLOOKUP(Tabel3[[#This Row],[GAE ID]],'BES EN'!A:AJ,36,FALSE)","v":"Additional trade item dimension: height UOM"},{"$f":"Tabel3[[#This Row],[GDSN-naam]]","v":"height/@measurementUnitcode"},{"$f":"Tabel3[[#This Row],[GDM Verplicht / Conditioneel]]","v":"Conditional"},{"$f":"Tabel3[[#This Row],[DMS controle]]","v":0},{"$f":"Tabel3[[#This Row],[BMS ID]]","v":3763},{"$f":"Tabel3[[#This Row],[Formaat]]","v":"Defined values"},{"$f":"Tabel3[[#This Row],[X Path]]","v":"/catalogue_item_notification:catalogueItemNotificationMessage/transaction/documentCommand/catalogue_item_notification:catalogueItemNotification/catalogueItem/tradeItem/tradeItemInformation/extension/*[namespace-uri()='urn:gs1:gdsn:trade_item_measurements:xsd:3' and local-name()='tradeItemMeasurementsModule']/tradeItemMeasurements/additionalTradeItemDimensions/height/@measurementUnitcode"},{"$f":"Tabel3[[#This Row],[GDM laag]]","v":"Regional EU"},{"$f":"VLOOKUP(Tabel3[[#This Row],[GAE ID]],'BES EN'!A:AJ,27,FALSE)","v":"Mandatory in case the 'Additional trade item dimension: height' field is populated."},null,{"$f":"Tabel3[[#This Row],[Dairy, Refrigerated & Frozen]]","v":"A"},{"$f":"Tabel3[[#This Row],[Deli & Prepared]]","v":"B"},{"$f":"Tabel3[[#This Row],[Fresh Meat]]","v":"C"},{"$f":"Tabel3[[#This Row],[Fresh Fish]]","v":"D"},{"$f":"Tabel3[[#This Row],[Fresh Fruits & Vegetables]]","v":"E"},{"$f":"Tabel3[[#This Row],[Grocery]]","v":"F"},{"$f":"Tabel3[[#This Row],[Cleaners]]","v":"G"},{"$f":"Tabel3[[#This Row],[Disposables]]","v":"H"},{"$f":"Tabel3[[#This Row],[Beauty & Personal Care]]","v":"I"},{"$f":"Tabel3[[#This Row],[Petfood]]","v":"J"},{"$f":"Tabel3[[#This Row],[Alcoholic Beverages]]","v":"K"},{"$f":"Tabel3[[#This Row],[Tobacco]]","v":"-"},{"$f":"Tabel3[[#This Row],[Self-care medicines]]","v":"M"},{"$f":"Tabel3[[#This Row],[Special Food]]","v":"N"},{"$f":"Tabel3[[#This Row],[Food Supplements]]","v":"O"},{"$f":"Tabel3[[#This Row],[Healthcare Products]]","v":"P"},{"$f":"Tabel3[[#This Row],[Medical Devices]]","v":"Q"},{"$f":"Tabel3[[#This Row],[Batteries]]","v":"R"},{"$f":"Tabel3[[#This Row],[Light Bulbs]]","v":"S"},{"$f":"Tabel3[[#This Row],[Other Categories]]","v":"T"}]
[{"$f":"VLOOKUP(Tabel3[[#This Row],[GAE ID]],'BES EN'!A:AJ,36,FALSE)","v":"Additional trade item dimension: width"},{"$f":"Tabel3[[#This Row],[GDSN-naam]]","v":"width"},{"$f":"Tabel3[[#This Row],[GDM Verplicht / Conditioneel]]","v":"Conditional"},{"$f":"Tabel3[[#This Row],[DMS controle]]","v":0},{"$f":"Tabel3[[#This Row],[BMS ID]]","v":3764},{"$f":"Tabel3[[#This Row],[Formaat]]","v":"n..15"},{"$f":"Tabel3[[#This Row],[X Path]]","v":"/catalogue_item_notification:catalogueItemNotificationMessage/transaction/documentCommand/catalogue_item_notification:catalogueItemNotification/catalogueItem/tradeItem/tradeItemInformation/extension/*[namespace-uri()='urn:gs1:gdsn:trade_item_measurements:xsd:3' and local-name()='tradeItemMeasurementsModule']/tradeItemMeasurements/additionalTradeItemDimensions/width"},{"$f":"Tabel3[[#This Row],[GDM laag]]","v":"Regional EU"},{"$f":"VLOOKUP(Tabel3[[#This Row],[GAE ID]],'BES EN'!A:AJ,27,FALSE)","v":"Mandatory if the physical form of the product has different dimensions than the packaged product."},null,{"$f":"Tabel3[[#This Row],[Dairy, Refrigerated & Frozen]]","v":"A"},{"$f":"Tabel3[[#This Row],[Deli & Prepared]]","v":"B"},{"$f":"Tabel3[[#This Row],[Fresh Meat]]","v":"C"},{"$f":"Tabel3[[#This Row],[Fresh Fish]]","v":"D"},{"$f":"Tabel3[[#This Row],[Fresh Fruits & Vegetables]]","v":"E"},{"$f":"Tabel3[[#This Row],[Grocery]]","v":"F"},{"$f":"Tabel3[[#This Row],[Cleaners]]","v":"G"},{"$f":"Tabel3[[#This Row],[Disposables]]","v":"H"},{"$f":"Tabel3[[#This Row],[Beauty & Personal Care]]","v":"I"},{"$f":"Tabel3[[#This Row],[Petfood]]","v":"J"},{"$f":"Tabel3[[#This Row],[Alcoholic Beverages]]","v":"K"},{"$f":"Tabel3[[#This Row],[Tobacco]]","v":"-"},{"$f":"Tabel3[[#This Row],[Self-care medicines]]","v":"M"},{"$f":"Tabel3[[#This Row],[Special Food]]","v":"N"},{"$f":"Tabel3[[#This Row],[Food Supplements]]","v":"O"},{"$f":"Tabel3[[#This Row],[Healthcare Products]]","v":"P"},{"$f":"Tabel3[[#This Row],[Medical Devices]]","v":"Q"},{"$f":"Tabel3[[#This Row],[Batteries]]","v":"R"},{"$f":"Tabel3[[#This Row],[Light Bulbs]]","v":"S"},{"$f":"Tabel3[[#This Row],[Other Categories]]","v":"T"}]
[{"$f":"VLOOKUP(Tabel3[[#This Row],[GAE ID]],'BES EN'!A:AJ,36,FALSE)","v":"Additional trade item dimension: width UOM"},{"$f":"Tabel3[[#This Row],[GDSN-naam]]","v":"width/@measurementUnitcode"},{"$f":"Tabel3[[#This Row],[GDM Verplicht / Conditioneel]]","v":"Conditional"},{"$f":"Tabel3[[#This Row],[DMS controle]]","v":0},{"$f":"Tabel3[[#This Row],[BMS ID]]","v":3765},{"$f":"Tabel3[[#This Row],[Formaat]]","v":"Defined values"},{"$f":"Tabel3[[#This Row],[X Path]]","v":"/catalogue_item_notification:catalogueItemNotificationMessage/transaction/documentCommand/catalogue_item_notification:catalogueItemNotification/catalogueItem/tradeItem/tradeItemInformation/extension/*[namespace-uri()='urn:gs1:gdsn:trade_item_measurements:xsd:3' and local-name()='tradeItemMeasurementsModule']/tradeItemMeasurements/additionalTradeItemDimensions/width/@measurementUnitcode"},{"$f":"Tabel3[[#This Row],[GDM laag]]","v":"Regional EU"},{"$f":"VLOOKUP(Tabel3[[#This Row],[GAE ID]],'BES EN'!A:AJ,27,FALSE)","v":"Mandatory in case the 'Additional trade item dimension: width' field is populated."},null,{"$f":"Tabel3[[#This Row],[Dairy, Refrigerated & Frozen]]","v":"A"},{"$f":"Tabel3[[#This Row],[Deli & Prepared]]","v":"B"},{"$f":"Tabel3[[#This Row],[Fresh Meat]]","v":"C"},{"$f":"Tabel3[[#This Row],[Fresh Fish]]","v":"D"},{"$f":"Tabel3[[#This Row],[Fresh Fruits & Vegetables]]","v":"E"},{"$f":"Tabel3[[#This Row],[Grocery]]","v":"F"},{"$f":"Tabel3[[#This Row],[Cleaners]]","v":"G"},{"$f":"Tabel3[[#This Row],[Disposables]]","v":"H"},{"$f":"Tabel3[[#This Row],[Beauty & Personal Care]]","v":"I"},{"$f":"Tabel3[[#This Row],[Petfood]]","v":"J"},{"$f":"Tabel3[[#This Row],[Alcoholic Beverages]]","v":"K"},{"$f":"Tabel3[[#This Row],[Tobacco]]","v":"-"},{"$f":"Tabel3[[#This Row],[Self-care medicines]]","v":"M"},{"$f":"Tabel3[[#This Row],[Special Food]]","v":"N"},{"$f":"Tabel3[[#This Row],[Food Supplements]]","v":"O"},{"$f":"Tabel3[[#This Row],[Healthcare Products]]","v":"P"},{"$f":"Tabel3[[#This Row],[Medical Devices]]","v":"Q"},{"$f":"Tabel3[[#This Row],[Batteries]]","v":"R"},{"$f":"Tabel3[[#This Row],[Light Bulbs]]","v":"S"},{"$f":"Tabel3[[#This Row],[Other Categories]]","v":"T"}]
[{"$f":"VLOOKUP(Tabel3[[#This Row],[GAE ID]],'BES EN'!A:AJ,36,FALSE)","v":"Additional trade item dimension: depth"},{"$f":"Tabel3[[#This Row],[GDSN-naam]]","v":"depth"},{"$f":"Tabel3[[#This Row],[GDM Verplicht / Conditioneel]]","v":"Conditional"},{"$f":"Tabel3[[#This Row],[DMS controle]]","v":0},{"$f":"Tabel3[[#This Row],[BMS ID]]","v":3759},{"$f":"Tabel3[[#This Row],[Formaat]]","v":"n..15"},{"$f":"Tabel3[[#This Row],[X Path]]","v":"/catalogue_item_notification:catalogueItemNotificationMessage/transaction/documentCommand/catalogue_item_notification:catalogueItemNotification/catalogueItem/tradeItem/tradeItemInformation/extension/*[namespace-uri()='urn:gs1:gdsn:trade_item_measurements:xsd:3' and local-name()='tradeItemMeasurementsModule']/tradeItemMeasurements/additionalTradeItemDimensions/depth"},{"$f":"Tabel3[[#This Row],[GDM laag]]","v":"Regional EU"},{"$f":"VLOOKUP(Tabel3[[#This Row],[GAE ID]],'BES EN'!A:AJ,27,FALSE)","v":"Mandatory if the physical form of the product has different dimensions than the packaged product."},null,{"$f":"Tabel3[[#This Row],[Dairy, Refrigerated & Frozen]]","v":"A"},{"$f":"Tabel3[[#This Row],[Deli & Prepared]]","v":"B"},{"$f":"Tabel3[[#This Row],[Fresh Meat]]","v":"C"},{"$f":"Tabel3[[#This Row],[Fresh Fish]]","v":"D"},{"$f":"Tabel3[[#This Row],[Fresh Fruits & Vegetables]]","v":"E"},{"$f":"Tabel3[[#This Row],[Grocery]]","v":"F"},{"$f":"Tabel3[[#This Row],[Cleaners]]","v":"G"},{"$f":"Tabel3[[#This Row],[Disposables]]","v":"H"},{"$f":"Tabel3[[#This Row],[Beauty & Personal Care]]","v":"I"},{"$f":"Tabel3[[#This Row],[Petfood]]","v":"J"},{"$f":"Tabel3[[#This Row],[Alcoholic Beverages]]","v":"K"},{"$f":"Tabel3[[#This Row],[Tobacco]]","v":"-"},{"$f":"Tabel3[[#This Row],[Self-care medicines]]","v":"M"},{"$f":"Tabel3[[#This Row],[Special Food]]","v":"N"},{"$f":"Tabel3[[#This Row],[Food Supplements]]","v":"O"},{"$f":"Tabel3[[#This Row],[Healthcare Products]]","v":"P"},{"$f":"Tabel3[[#This Row],[Medical Devices]]","v":"Q"},{"$f":"Tabel3[[#This Row],[Batteries]]","v":"R"},{"$f":"Tabel3[[#This Row],[Light Bulbs]]","v":"S"},{"$f":"Tabel3[[#This Row],[Other Categories]]","v":"T"}]
[{"$f":"VLOOKUP(Tabel3[[#This Row],[GAE ID]],'BES EN'!A:AJ,36,FALSE)","v":"Additional trade item dimension: depth UOM"},{"$f":"Tabel3[[#This Row],[GDSN-naam]]","v":"depth/@measurementUnitcode"},{"$f":"Tabel3[[#This Row],[GDM Verplicht / Conditioneel]]","v":"Conditional"},{"$f":"Tabel3[[#This Row],[DMS controle]]","v":0},{"$f":"Tabel3[[#This Row],[BMS ID]]","v":3760},{"$f":"Tabel3[[#This Row],[Formaat]]","v":"Defined values"},{"$f":"Tabel3[[#This Row],[X Path]]","v":"/catalogue_item_notification:catalogueItemNotificationMessage/transaction/documentCommand/catalogue_item_notification:catalogueItemNotification/catalogueItem/tradeItem/tradeItemInformation/extension/*[namespace-uri()='urn:gs1:gdsn:trade_item_measurements:xsd:3' and local-name()='tradeItemMeasurementsModule']/tradeItemMeasurements/additionalTradeItemDimensions/depth/@measurementUnitcode"},{"$f":"Tabel3[[#This Row],[GDM laag]]","v":"Regional EU"},{"$f":"VLOOKUP(Tabel3[[#This Row],[GAE ID]],'BES EN'!A:AJ,27,FALSE)","v":"Mandatory in case the 'Additional trade item dimension: depth' field is populated."},null,{"$f":"Tabel3[[#This Row],[Dairy, Refrigerated & Frozen]]","v":"A"},{"$f":"Tabel3[[#This Row],[Deli & Prepared]]","v":"B"},{"$f":"Tabel3[[#This Row],[Fresh Meat]]","v":"C"},{"$f":"Tabel3[[#This Row],[Fresh Fish]]","v":"D"},{"$f":"Tabel3[[#This Row],[Fresh Fruits & Vegetables]]","v":"E"},{"$f":"Tabel3[[#This Row],[Grocery]]","v":"F"},{"$f":"Tabel3[[#This Row],[Cleaners]]","v":"G"},{"$f":"Tabel3[[#This Row],[Disposables]]","v":"H"},{"$f":"Tabel3[[#This Row],[Beauty & Personal Care]]","v":"I"},{"$f":"Tabel3[[#This Row],[Petfood]]","v":"J"},{"$f":"Tabel3[[#This Row],[Alcoholic Beverages]]","v":"K"},{"$f":"Tabel3[[#This Row],[Tobacco]]","v":"-"},{"$f":"Tabel3[[#This Row],[Self-care medicines]]","v":"M"},{"$f":"Tabel3[[#This Row],[Special Food]]","v":"N"},{"$f":"Tabel3[[#This Row],[Food Supplements]]","v":"O"},{"$f":"Tabel3[[#This Row],[Healthcare Products]]","v":"P"},{"$f":"Tabel3[[#This Row],[Medical Devices]]","v":"Q"},{"$f":"Tabel3[[#This Row],[Batteries]]","v":"R"},{"$f":"Tabel3[[#This Row],[Light Bulbs]]","v":"S"},{"$f":"Tabel3[[#This Row],[Other Categories]]","v":"T"}]
[{"$f":"VLOOKUP(Tabel3[[#This Row],[GAE ID]],'BES EN'!A:AJ,36,FALSE)","v":"Trade item composition depth"},{"$f":"Tabel3[[#This Row],[GDSN-naam]]","v":"tradeItemCompositionDepth"},{"$f":"Tabel3[[#This Row],[GDM Verplicht / Conditioneel]]","v":"Optional"},{"$f":"Tabel3[[#This Row],[DMS controle]]","v":0},{"$f":"Tabel3[[#This Row],[BMS ID]]","v":3735},{"$f":"Tabel3[[#This Row],[Formaat]]","v":"n..15"},{"$f":"Tabel3[[#This Row],[X Path]]","v":"/catalogue_item_notification:catalogueItemNotificationMessage/transaction/documentCommand/catalogue_item_notification:catalogueItemNotification/catalogueItem/tradeItem/tradeItemInformation/extension/*[namespace-uri()='urn:gs1:gdsn:trade_item_measurements:xsd:3' and local-name()='tradeItemMeasurementsModule']/tradeItemMeasurements/tradeItemCompositionDepth"},{"$f":"Tabel3[[#This Row],[GDM laag]]","v":"Local"},{"$f":"VLOOKUP(Tabel3[[#This Row],[GAE ID]],'BES EN'!A:AJ,27,FALSE)","v":" "},null,{"$f":"Tabel3[[#This Row],[Dairy, Refrigerated & Frozen]]","v":"A"},{"$f":"Tabel3[[#This Row],[Deli & Prepared]]","v":"B"},{"$f":"Tabel3[[#This Row],[Fresh Meat]]","v":"C"},{"$f":"Tabel3[[#This Row],[Fresh Fish]]","v":"D"},{"$f":"Tabel3[[#This Row],[Fresh Fruits & Vegetables]]","v":"E"},{"$f":"Tabel3[[#This Row],[Grocery]]","v":"F"},{"$f":"Tabel3[[#This Row],[Cleaners]]","v":"G"},{"$f":"Tabel3[[#This Row],[Disposables]]","v":"H"},{"$f":"Tabel3[[#This Row],[Beauty & Personal Care]]","v":"I"},{"$f":"Tabel3[[#This Row],[Petfood]]","v":"J"},{"$f":"Tabel3[[#This Row],[Alcoholic Beverages]]","v":"K"},{"$f":"Tabel3[[#This Row],[Tobacco]]","v":"L"},{"$f":"Tabel3[[#This Row],[Self-care medicines]]","v":"M"},{"$f":"Tabel3[[#This Row],[Special Food]]","v":"N"},{"$f":"Tabel3[[#This Row],[Food Supplements]]","v":"O"},{"$f":"Tabel3[[#This Row],[Healthcare Products]]","v":"P"},{"$f":"Tabel3[[#This Row],[Medical Devices]]","v":"Q"},{"$f":"Tabel3[[#This Row],[Batteries]]","v":"R"},{"$f":"Tabel3[[#This Row],[Light Bulbs]]","v":"S"},{"$f":"Tabel3[[#This Row],[Other Categories]]","v":"T"}]
[{"$f":"VLOOKUP(Tabel3[[#This Row],[GAE ID]],'BES EN'!A:AJ,36,FALSE)","v":"Trade item composition depth UOM"},{"$f":"Tabel3[[#This Row],[GDSN-naam]]","v":"tradeItemCompositionDepth/@measurementUnitcode"},{"$f":"Tabel3[[#This Row],[GDM Verplicht / Conditioneel]]","v":"Optional"},{"$f":"Tabel3[[#This Row],[DMS controle]]","v":0},{"$f":"Tabel3[[#This Row],[BMS ID]]","v":3736},{"$f":"Tabel3[[#This Row],[Formaat]]","v":"Defined values"},{"$f":"Tabel3[[#This Row],[X Path]]","v":"/catalogue_item_notification:catalogueItemNotificationMessage/transaction/documentCommand/catalogue_item_notification:catalogueItemNotification/catalogueItem/tradeItem/tradeItemInformation/extension/*[namespace-uri()='urn:gs1:gdsn:trade_item_measurements:xsd:3' and local-name()='tradeItemMeasurementsModule']/tradeItemMeasurements/tradeItemCompositionDepth/@measurementUnitcode"},{"$f":"Tabel3[[#This Row],[GDM laag]]","v":"Local"},{"$f":"VLOOKUP(Tabel3[[#This Row],[GAE ID]],'BES EN'!A:AJ,27,FALSE)","v":"Mandatory in case the 'Trade item composition depth' field is populated."},null,{"$f":"Tabel3[[#This Row],[Dairy, Refrigerated & Frozen]]","v":"A"},{"$f":"Tabel3[[#This Row],[Deli & Prepared]]","v":"B"},{"$f":"Tabel3[[#This Row],[Fresh Meat]]","v":"C"},{"$f":"Tabel3[[#This Row],[Fresh Fish]]","v":"D"},{"$f":"Tabel3[[#This Row],[Fresh Fruits & Vegetables]]","v":"E"},{"$f":"Tabel3[[#This Row],[Grocery]]","v":"F"},{"$f":"Tabel3[[#This Row],[Cleaners]]","v":"G"},{"$f":"Tabel3[[#This Row],[Disposables]]","v":"H"},{"$f":"Tabel3[[#This Row],[Beauty & Personal Care]]","v":"I"},{"$f":"Tabel3[[#This Row],[Petfood]]","v":"J"},{"$f":"Tabel3[[#This Row],[Alcoholic Beverages]]","v":"K"},{"$f":"Tabel3[[#This Row],[Tobacco]]","v":"L"},{"$f":"Tabel3[[#This Row],[Self-care medicines]]","v":"M"},{"$f":"Tabel3[[#This Row],[Special Food]]","v":"N"},{"$f":"Tabel3[[#This Row],[Food Supplements]]","v":"O"},{"$f":"Tabel3[[#This Row],[Healthcare Products]]","v":"P"},{"$f":"Tabel3[[#This Row],[Medical Devices]]","v":"Q"},{"$f":"Tabel3[[#This Row],[Batteries]]","v":"R"},{"$f":"Tabel3[[#This Row],[Light Bulbs]]","v":"S"},{"$f":"Tabel3[[#This Row],[Other Categories]]","v":"T"}]
[{"$f":"VLOOKUP(Tabel3[[#This Row],[GAE ID]],'BES EN'!A:AJ,36,FALSE)","v":"Trade item composition width "},{"$f":"Tabel3[[#This Row],[GDSN-naam]]","v":"tradeItemCompositionWidth"},{"$f":"Tabel3[[#This Row],[GDM Verplicht / Conditioneel]]","v":"Optional"},{"$f":"Tabel3[[#This Row],[DMS controle]]","v":0},{"$f":"Tabel3[[#This Row],[BMS ID]]","v":3737},{"$f":"Tabel3[[#This Row],[Formaat]]","v":"n..15"},{"$f":"Tabel3[[#This Row],[X Path]]","v":"/catalogue_item_notification:catalogueItemNotificationMessage/transaction/documentCommand/catalogue_item_notification:catalogueItemNotification/catalogueItem/tradeItem/tradeItemInformation/extension/*[namespace-uri()='urn:gs1:gdsn:trade_item_measurements:xsd:3' and local-name()='tradeItemMeasurementsModule']/tradeItemMeasurements/tradeItemCompositionWidth"},{"$f":"Tabel3[[#This Row],[GDM laag]]","v":"Local"},{"$f":"VLOOKUP(Tabel3[[#This Row],[GAE ID]],'BES EN'!A:AJ,27,FALSE)","v":" "},null,{"$f":"Tabel3[[#This Row],[Dairy, Refrigerated & Frozen]]","v":"A"},{"$f":"Tabel3[[#This Row],[Deli & Prepared]]","v":"B"},{"$f":"Tabel3[[#This Row],[Fresh Meat]]","v":"C"},{"$f":"Tabel3[[#This Row],[Fresh Fish]]","v":"D"},{"$f":"Tabel3[[#This Row],[Fresh Fruits & Vegetables]]","v":"E"},{"$f":"Tabel3[[#This Row],[Grocery]]","v":"F"},{"$f":"Tabel3[[#This Row],[Cleaners]]","v":"G"},{"$f":"Tabel3[[#This Row],[Disposables]]","v":"H"},{"$f":"Tabel3[[#This Row],[Beauty & Personal Care]]","v":"I"},{"$f":"Tabel3[[#This Row],[Petfood]]","v":"J"},{"$f":"Tabel3[[#This Row],[Alcoholic Beverages]]","v":"K"},{"$f":"Tabel3[[#This Row],[Tobacco]]","v":"L"},{"$f":"Tabel3[[#This Row],[Self-care medicines]]","v":"M"},{"$f":"Tabel3[[#This Row],[Special Food]]","v":"N"},{"$f":"Tabel3[[#This Row],[Food Supplements]]","v":"O"},{"$f":"Tabel3[[#This Row],[Healthcare Products]]","v":"P"},{"$f":"Tabel3[[#This Row],[Medical Devices]]","v":"Q"},{"$f":"Tabel3[[#This Row],[Batteries]]","v":"R"},{"$f":"Tabel3[[#This Row],[Light Bulbs]]","v":"S"},{"$f":"Tabel3[[#This Row],[Other Categories]]","v":"T"}]
[{"$f":"VLOOKUP(Tabel3[[#This Row],[GAE ID]],'BES EN'!A:AJ,36,FALSE)","v":"Trade item composition width UOM"},{"$f":"Tabel3[[#This Row],[GDSN-naam]]","v":"tradeItemCompositionWidth/@measurementUnitcode"},{"$f":"Tabel3[[#This Row],[GDM Verplicht / Conditioneel]]","v":"Optional"},{"$f":"Tabel3[[#This Row],[DMS controle]]","v":0},{"$f":"Tabel3[[#This Row],[BMS ID]]","v":3738},{"$f":"Tabel3[[#This Row],[Formaat]]","v":"Defined values"},{"$f":"Tabel3[[#This Row],[X Path]]","v":"/catalogue_item_notification:catalogueItemNotificationMessage/transaction/documentCommand/catalogue_item_notification:catalogueItemNotification/catalogueItem/tradeItem/tradeItemInformation/extension/*[namespace-uri()='urn:gs1:gdsn:trade_item_measurements:xsd:3' and local-name()='tradeItemMeasurementsModule']/tradeItemMeasurements/tradeItemCompositionWidth/@measurementUnitcode"},{"$f":"Tabel3[[#This Row],[GDM laag]]","v":"Local"},{"$f":"VLOOKUP(Tabel3[[#This Row],[GAE ID]],'BES EN'!A:AJ,27,FALSE)","v":"Mandatory in case the 'Trade item composition width' field is populated."},null,{"$f":"Tabel3[[#This Row],[Dairy, Refrigerated & Frozen]]","v":"A"},{"$f":"Tabel3[[#This Row],[Deli & Prepared]]","v":"B"},{"$f":"Tabel3[[#This Row],[Fresh Meat]]","v":"C"},{"$f":"Tabel3[[#This Row],[Fresh Fish]]","v":"D"},{"$f":"Tabel3[[#This Row],[Fresh Fruits & Vegetables]]","v":"E"},{"$f":"Tabel3[[#This Row],[Grocery]]","v":"F"},{"$f":"Tabel3[[#This Row],[Cleaners]]","v":"G"},{"$f":"Tabel3[[#This Row],[Disposables]]","v":"H"},{"$f":"Tabel3[[#This Row],[Beauty & Personal Care]]","v":"I"},{"$f":"Tabel3[[#This Row],[Petfood]]","v":"J"},{"$f":"Tabel3[[#This Row],[Alcoholic Beverages]]","v":"K"},{"$f":"Tabel3[[#This Row],[Tobacco]]","v":"L"},{"$f":"Tabel3[[#This Row],[Self-care medicines]]","v":"M"},{"$f":"Tabel3[[#This Row],[Special Food]]","v":"N"},{"$f":"Tabel3[[#This Row],[Food Supplements]]","v":"O"},{"$f":"Tabel3[[#This Row],[Healthcare Products]]","v":"P"},{"$f":"Tabel3[[#This Row],[Medical Devices]]","v":"Q"},{"$f":"Tabel3[[#This Row],[Batteries]]","v":"R"},{"$f":"Tabel3[[#This Row],[Light Bulbs]]","v":"S"},{"$f":"Tabel3[[#This Row],[Other Categories]]","v":"T"}]
["Handling informatie",null,{"$f":"Tabel3[[#This Row],[GDM Verplicht / Conditioneel]]","v":0},null,null,null,null,null,null,null,"A","B","C","D","E","F","G","H","I","J","K","L","M","N","O","P","Q","R","S","T"]
[{"$f":"VLOOKUP(Tabel3[[#This Row],[GAE ID]],'BES EN'!A:AJ,36,FALSE)","v":"Minimum trade item lifespan from time of production"},{"$f":"Tabel3[[#This Row],[GDSN-naam]]","v":"minimumTradeItemLifespanFromTimeOfProduction"},{"$f":"Tabel3[[#This Row],[GDM Verplicht / Conditioneel]]","v":"Conditional"},{"$f":"Tabel3[[#This Row],[DMS controle]]","v":0},{"$f":"Tabel3[[#This Row],[BMS ID]]","v":3704},{"$f":"Tabel3[[#This Row],[Formaat]]","v":"Non-negative Integer"},{"$f":"Tabel3[[#This Row],[X Path]]","v":"/catalogue_item_notification:catalogueItemNotificationMessage/transaction/documentCommand/catalogue_item_notification:catalogueItemNotification/catalogueItem/tradeItem/tradeItemInformation/extension/*[namespace-uri()='urn:gs1:gdsn:trade_item_lifespan:xsd:3' and local-name()='tradeItemLifespanModule']/tradeItemLifespan/minimumTradeItemLifespanFromTimeOfProduction"},{"$f":"Tabel3[[#This Row],[GDM laag]]","v":"Global"},{"$f":"VLOOKUP(Tabel3[[#This Row],[GAE ID]],'BES EN'!A:AJ,27,FALSE)","v":" "},null,{"$f":"Tabel3[[#This Row],[Dairy, Refrigerated & Frozen]]","v":"A"},{"$f":"Tabel3[[#This Row],[Deli & Prepared]]","v":"B"},{"$f":"Tabel3[[#This Row],[Fresh Meat]]","v":"C"},{"$f":"Tabel3[[#This Row],[Fresh Fish]]","v":"D"},{"$f":"Tabel3[[#This Row],[Fresh Fruits & Vegetables]]","v":"E"},{"$f":"Tabel3[[#This Row],[Grocery]]","v":"F"},{"$f":"Tabel3[[#This Row],[Cleaners]]","v":"G"},{"$f":"Tabel3[[#This Row],[Disposables]]","v":"-"},{"$f":"Tabel3[[#This Row],[Beauty & Personal Care]]","v":"I"},{"$f":"Tabel3[[#This Row],[Petfood]]","v":"J"},{"$f":"Tabel3[[#This Row],[Alcoholic Beverages]]","v":"K"},{"$f":"Tabel3[[#This Row],[Tobacco]]","v":"L"},{"$f":"Tabel3[[#This Row],[Self-care medicines]]","v":"M"},{"$f":"Tabel3[[#This Row],[Special Food]]","v":"N"},{"$f":"Tabel3[[#This Row],[Food Supplements]]","v":"O"},{"$f":"Tabel3[[#This Row],[Healthcare Products]]","v":"P"},{"$f":"Tabel3[[#This Row],[Medical Devices]]","v":"Q"},{"$f":"Tabel3[[#This Row],[Batteries]]","v":"R"},{"$f":"Tabel3[[#This Row],[Light Bulbs]]","v":"S"},{"$f":"Tabel3[[#This Row],[Other Categories]]","v":"T"}]
[{"$f":"VLOOKUP(Tabel3[[#This Row],[GAE ID]],'BES EN'!A:AJ,36,FALSE)","v":"Minimum trade item lifespan from time of arrival"},{"$f":"Tabel3[[#This Row],[GDSN-naam]]","v":"minimumTradeItemLifespanFromTimeOfArrival"},{"$f":"Tabel3[[#This Row],[GDM Verplicht / Conditioneel]]","v":"Conditional"},{"$f":"Tabel3[[#This Row],[DMS controle]]","v":0},{"$f":"Tabel3[[#This Row],[BMS ID]]","v":3703},{"$f":"Tabel3[[#This Row],[Formaat]]","v":"Non-negative Integer"},{"$f":"Tabel3[[#This Row],[X Path]]","v":"/catalogue_item_notification:catalogueItemNotificationMessage/transaction/documentCommand/catalogue_item_notification:catalogueItemNotification/catalogueItem/tradeItem/tradeItemInformation/extension/*[namespace-uri()='urn:gs1:gdsn:trade_item_lifespan:xsd:3' and local-name()='tradeItemLifespanModule']/tradeItemLifespan/minimumTradeItemLifespanFromTimeOfArrival"},{"$f":"Tabel3[[#This Row],[GDM laag]]","v":"Global"},{"$f":"VLOOKUP(Tabel3[[#This Row],[GAE ID]],'BES EN'!A:AJ,27,FALSE)","v":"Mandatory if a best before date is shown on the packaging."},null,{"$f":"Tabel3[[#This Row],[Dairy, Refrigerated & Frozen]]","v":"A"},{"$f":"Tabel3[[#This Row],[Deli & Prepared]]","v":"B"},{"$f":"Tabel3[[#This Row],[Fresh Meat]]","v":"C"},{"$f":"Tabel3[[#This Row],[Fresh Fish]]","v":"D"},{"$f":"Tabel3[[#This Row],[Fresh Fruits & Vegetables]]","v":"E"},{"$f":"Tabel3[[#This Row],[Grocery]]","v":"F"},{"$f":"Tabel3[[#This Row],[Cleaners]]","v":"G"},{"$f":"Tabel3[[#This Row],[Disposables]]","v":"-"},{"$f":"Tabel3[[#This Row],[Beauty & Personal Care]]","v":"I"},{"$f":"Tabel3[[#This Row],[Petfood]]","v":"J"},{"$f":"Tabel3[[#This Row],[Alcoholic Beverages]]","v":"K"},{"$f":"Tabel3[[#This Row],[Tobacco]]","v":"L"},{"$f":"Tabel3[[#This Row],[Self-care medicines]]","v":"M"},{"$f":"Tabel3[[#This Row],[Special Food]]","v":"N"},{"$f":"Tabel3[[#This Row],[Food Supplements]]","v":"O"},{"$f":"Tabel3[[#This Row],[Healthcare Products]]","v":"P"},{"$f":"Tabel3[[#This Row],[Medical Devices]]","v":"Q"},{"$f":"Tabel3[[#This Row],[Batteries]]","v":"R"},{"$f":"Tabel3[[#This Row],[Light Bulbs]]","v":"S"},{"$f":"Tabel3[[#This Row],[Other Categories]]","v":"T"}]
[{"$f":"VLOOKUP(Tabel3[[#This Row],[GAE ID]],'BES EN'!A:AJ,36,FALSE)","v":"Opened trade item lifespan"},{"$f":"Tabel3[[#This Row],[GDSN-naam]]","v":"openedTradeItemLifespan"},{"$f":"Tabel3[[#This Row],[GDM Verplicht / Conditioneel]]","v":"Optional"},{"$f":"Tabel3[[#This Row],[DMS controle]]","v":0},{"$f":"Tabel3[[#This Row],[BMS ID]]","v":3705},{"$f":"Tabel3[[#This Row],[Formaat]]","v":"Non-negative Integer"},{"$f":"Tabel3[[#This Row],[X Path]]","v":"/catalogue_item_notification:catalogueItemNotificationMessage/transaction/documentCommand/catalogue_item_notification:catalogueItemNotification/catalogueItem/tradeItem/tradeItemInformation/extension/*[namespace-uri()='urn:gs1:gdsn:trade_item_lifespan:xsd:3' and local-name()='tradeItemLifespanModule']/tradeItemLifespan/openedTradeItemLifespan"},{"$f":"Tabel3[[#This Row],[GDM laag]]","v":"Local"},{"$f":"VLOOKUP(Tabel3[[#This Row],[GAE ID]],'BES EN'!A:AJ,27,FALSE)","v":"Mandatory when available. Optional for the Dutch target market."},null,{"$f":"Tabel3[[#This Row],[Dairy, Refrigerated & Frozen]]","v":"A"},{"$f":"Tabel3[[#This Row],[Deli & Prepared]]","v":"B"},{"$f":"Tabel3[[#This Row],[Fresh Meat]]","v":"C"},{"$f":"Tabel3[[#This Row],[Fresh Fish]]","v":"D"},{"$f":"Tabel3[[#This Row],[Fresh Fruits & Vegetables]]","v":"E"},{"$f":"Tabel3[[#This Row],[Grocery]]","v":"F"},{"$f":"Tabel3[[#This Row],[Cleaners]]","v":"-"},{"$f":"Tabel3[[#This Row],[Disposables]]","v":"-"},{"$f":"Tabel3[[#This Row],[Beauty & Personal Care]]","v":"-"},{"$f":"Tabel3[[#This Row],[Petfood]]","v":"-"},{"$f":"Tabel3[[#This Row],[Alcoholic Beverages]]","v":"K"},{"$f":"Tabel3[[#This Row],[Tobacco]]","v":"-"},{"$f":"Tabel3[[#This Row],[Self-care medicines]]","v":"M"},{"$f":"Tabel3[[#This Row],[Special Food]]","v":"N"},{"$f":"Tabel3[[#This Row],[Food Supplements]]","v":"O"},{"$f":"Tabel3[[#This Row],[Healthcare Products]]","v":"P"},{"$f":"Tabel3[[#This Row],[Medical Devices]]","v":"Q"},{"$f":"Tabel3[[#This Row],[Batteries]]","v":"R"},{"$f":"Tabel3[[#This Row],[Light Bulbs]]","v":"S"},{"$f":"Tabel3[[#This Row],[Other Categories]]","v":"T"}]
[{"$f":"VLOOKUP(Tabel3[[#This Row],[GAE ID]],'BES EN'!A:AJ,36,FALSE)","v":"Minimum temperature"},{"$f":"Tabel3[[#This Row],[GDSN-naam]]","v":"minimumTemperature"},{"$f":"Tabel3[[#This Row],[GDM Verplicht / Conditioneel]]","v":"Conditional"},{"$f":"Tabel3[[#This Row],[DMS controle]]","v":0},{"$f":"Tabel3[[#This Row],[BMS ID]]","v":3826},{"$f":"Tabel3[[#This Row],[Formaat]]","v":"n..15"},{"$f":"Tabel3[[#This Row],[X Path]]","v":"/catalogue_item_notification:catalogueItemNotificationMessage/transaction/documentCommand/catalogue_item_notification:catalogueItemNotification/catalogueItem/tradeItem/tradeItemInformation/extension/*[namespace-uri()='urn:gs1:gdsn:trade_item_temperature_information:xsd:3' and local-name()='tradeItemTemperatureInformationModule']/tradeItemTemperatureInformation/minimumTemperature"},{"$f":"Tabel3[[#This Row],[GDM laag]]","v":"Global"},{"$f":"VLOOKUP(Tabel3[[#This Row],[GAE ID]],'BES EN'!A:AJ,27,FALSE)","v":"Mandatory if the product is temperature sensitive and minimum temperature is stated on the packaging."},null,{"$f":"Tabel3[[#This Row],[Dairy, Refrigerated & Frozen]]","v":"A"},{"$f":"Tabel3[[#This Row],[Deli & Prepared]]","v":"B"},{"$f":"Tabel3[[#This Row],[Fresh Meat]]","v":"C"},{"$f":"Tabel3[[#This Row],[Fresh Fish]]","v":"D"},{"$f":"Tabel3[[#This Row],[Fresh Fruits & Vegetables]]","v":"E"},{"$f":"Tabel3[[#This Row],[Grocery]]","v":"F"},{"$f":"Tabel3[[#This Row],[Cleaners]]","v":"G"},{"$f":"Tabel3[[#This Row],[Disposables]]","v":"-"},{"$f":"Tabel3[[#This Row],[Beauty & Personal Care]]","v":"I"},{"$f":"Tabel3[[#This Row],[Petfood]]","v":"J"},{"$f":"Tabel3[[#This Row],[Alcoholic Beverages]]","v":"K"},{"$f":"Tabel3[[#This Row],[Tobacco]]","v":"-"},{"$f":"Tabel3[[#This Row],[Self-care medicines]]","v":"M"},{"$f":"Tabel3[[#This Row],[Special Food]]","v":"N"},{"$f":"Tabel3[[#This Row],[Food Supplements]]","v":"O"},{"$f":"Tabel3[[#This Row],[Healthcare Products]]","v":"P"},{"$f":"Tabel3[[#This Row],[Medical Devices]]","v":"Q"},{"$f":"Tabel3[[#This Row],[Batteries]]","v":"R"},{"$f":"Tabel3[[#This Row],[Light Bulbs]]","v":"S"},{"$f":"Tabel3[[#This Row],[Other Categories]]","v":"T"}]
[{"$f":"VLOOKUP(Tabel3[[#This Row],[GAE ID]],'BES EN'!A:AJ,36,FALSE)","v":"Minimum temperature measurement unit code"},{"$f":"Tabel3[[#This Row],[GDSN-naam]]","v":"minimumTemperature/@temperatureMeasurementUnitCode"},{"$f":"Tabel3[[#This Row],[GDM Verplicht / Conditioneel]]","v":"Conditional"},{"$f":"Tabel3[[#This Row],[DMS controle]]","v":0},{"$f":"Tabel3[[#This Row],[BMS ID]]","v":3827},{"$f":"Tabel3[[#This Row],[Formaat]]","v":"Defined values"},{"$f":"Tabel3[[#This Row],[X Path]]","v":"/catalogue_item_notification:catalogueItemNotificationMessage/transaction/documentCommand/catalogue_item_notification:catalogueItemNotification/catalogueItem/tradeItem/tradeItemInformation/extension/*[namespace-uri()='urn:gs1:gdsn:trade_item_temperature_information:xsd:3' and local-name()='tradeItemTemperatureInformationModule']/tradeItemTemperatureInformation/minimumTemperature/@temperatureMeasurementUnitCode"},{"$f":"Tabel3[[#This Row],[GDM laag]]","v":"Global"},{"$f":"VLOOKUP(Tabel3[[#This Row],[GAE ID]],'BES EN'!A:AJ,27,FALSE)","v":"Mandatory in case the 'Minimum temperature' field is populated."},null,{"$f":"Tabel3[[#This Row],[Dairy, Refrigerated & Frozen]]","v":"A"},{"$f":"Tabel3[[#This Row],[Deli & Prepared]]","v":"B"},{"$f":"Tabel3[[#This Row],[Fresh Meat]]","v":"C"},{"$f":"Tabel3[[#This Row],[Fresh Fish]]","v":"D"},{"$f":"Tabel3[[#This Row],[Fresh Fruits & Vegetables]]","v":"E"},{"$f":"Tabel3[[#This Row],[Grocery]]","v":"F"},{"$f":"Tabel3[[#This Row],[Cleaners]]","v":"G"},{"$f":"Tabel3[[#This Row],[Disposables]]","v":"-"},{"$f":"Tabel3[[#This Row],[Beauty & Personal Care]]","v":"I"},{"$f":"Tabel3[[#This Row],[Petfood]]","v":"J"},{"$f":"Tabel3[[#This Row],[Alcoholic Beverages]]","v":"K"},{"$f":"Tabel3[[#This Row],[Tobacco]]","v":"-"},{"$f":"Tabel3[[#This Row],[Self-care medicines]]","v":"M"},{"$f":"Tabel3[[#This Row],[Special Food]]","v":"N"},{"$f":"Tabel3[[#This Row],[Food Supplements]]","v":"O"},{"$f":"Tabel3[[#This Row],[Healthcare Products]]","v":"P"},{"$f":"Tabel3[[#This Row],[Medical Devices]]","v":"Q"},{"$f":"Tabel3[[#This Row],[Batteries]]","v":"R"},{"$f":"Tabel3[[#This Row],[Light Bulbs]]","v":"S"},{"$f":"Tabel3[[#This Row],[Other Categories]]","v":"T"}]
[{"$f":"VLOOKUP(Tabel3[[#This Row],[GAE ID]],'BES EN'!A:AJ,36,FALSE)","v":"Maximum temperature"},{"$f":"Tabel3[[#This Row],[GDSN-naam]]","v":"maximumTemperature"},{"$f":"Tabel3[[#This Row],[GDM Verplicht / Conditioneel]]","v":"Conditional"},{"$f":"Tabel3[[#This Row],[DMS controle]]","v":0},{"$f":"Tabel3[[#This Row],[BMS ID]]","v":3820},{"$f":"Tabel3[[#This Row],[Formaat]]","v":"n..15"},{"$f":"Tabel3[[#This Row],[X Path]]","v":"/catalogue_item_notification:catalogueItemNotificationMessage/transaction/documentCommand/catalogue_item_notification:catalogueItemNotification/catalogueItem/tradeItem/tradeItemInformation/extension/*[namespace-uri()='urn:gs1:gdsn:trade_item_temperature_information:xsd:3' and local-name()='tradeItemTemperatureInformationModule']/tradeItemTemperatureInformation/maximumTemperature"},{"$f":"Tabel3[[#This Row],[GDM laag]]","v":"Global"},{"$f":"VLOOKUP(Tabel3[[#This Row],[GAE ID]],'BES EN'!A:AJ,27,FALSE)","v":"Mandatory if the product is temperature sensitive and maximum temperature is stated on the packaging."},null,{"$f":"Tabel3[[#This Row],[Dairy, Refrigerated & Frozen]]","v":"A"},{"$f":"Tabel3[[#This Row],[Deli & Prepared]]","v":"B"},{"$f":"Tabel3[[#This Row],[Fresh Meat]]","v":"C"},{"$f":"Tabel3[[#This Row],[Fresh Fish]]","v":"D"},{"$f":"Tabel3[[#This Row],[Fresh Fruits & Vegetables]]","v":"E"},{"$f":"Tabel3[[#This Row],[Grocery]]","v":"F"},{"$f":"Tabel3[[#This Row],[Cleaners]]","v":"G"},{"$f":"Tabel3[[#This Row],[Disposables]]","v":"-"},{"$f":"Tabel3[[#This Row],[Beauty & Personal Care]]","v":"I"},{"$f":"Tabel3[[#This Row],[Petfood]]","v":"J"},{"$f":"Tabel3[[#This Row],[Alcoholic Beverages]]","v":"K"},{"$f":"Tabel3[[#This Row],[Tobacco]]","v":"-"},{"$f":"Tabel3[[#This Row],[Self-care medicines]]","v":"M"},{"$f":"Tabel3[[#This Row],[Special Food]]","v":"N"},{"$f":"Tabel3[[#This Row],[Food Supplements]]","v":"O"},{"$f":"Tabel3[[#This Row],[Healthcare Products]]","v":"P"},{"$f":"Tabel3[[#This Row],[Medical Devices]]","v":"Q"},{"$f":"Tabel3[[#This Row],[Batteries]]","v":"R"},{"$f":"Tabel3[[#This Row],[Light Bulbs]]","v":"S"},{"$f":"Tabel3[[#This Row],[Other Categories]]","v":"T"}]
[{"$f":"VLOOKUP(Tabel3[[#This Row],[GAE ID]],'BES EN'!A:AJ,36,FALSE)","v":"Maximum temperature measurement unit code"},{"$f":"Tabel3[[#This Row],[GDSN-naam]]","v":"maximumTemperature/@temperatureMeasurementUnitCode"},{"$f":"Tabel3[[#This Row],[GDM Verplicht / Conditioneel]]","v":"Conditional"},{"$f":"Tabel3[[#This Row],[DMS controle]]","v":0},{"$f":"Tabel3[[#This Row],[BMS ID]]","v":3821},{"$f":"Tabel3[[#This Row],[Formaat]]","v":"Defined values"},{"$f":"Tabel3[[#This Row],[X Path]]","v":"/catalogue_item_notification:catalogueItemNotificationMessage/transaction/documentCommand/catalogue_item_notification:catalogueItemNotification/catalogueItem/tradeItem/tradeItemInformation/extension/*[namespace-uri()='urn:gs1:gdsn:trade_item_temperature_information:xsd:3' and local-name()='tradeItemTemperatureInformationModule']/tradeItemTemperatureInformation/maximumTemperature/@temperatureMeasurementUnitCode"},{"$f":"Tabel3[[#This Row],[GDM laag]]","v":"Global"},{"$f":"VLOOKUP(Tabel3[[#This Row],[GAE ID]],'BES EN'!A:AJ,27,FALSE)","v":"Mandatory in case the 'Maximum temperature' field is populated."},null,{"$f":"Tabel3[[#This Row],[Dairy, Refrigerated & Frozen]]","v":"A"},{"$f":"Tabel3[[#This Row],[Deli & Prepared]]","v":"B"},{"$f":"Tabel3[[#This Row],[Fresh Meat]]","v":"C"},{"$f":"Tabel3[[#This Row],[Fresh Fish]]","v":"D"},{"$f":"Tabel3[[#This Row],[Fresh Fruits & Vegetables]]","v":"E"},{"$f":"Tabel3[[#This Row],[Grocery]]","v":"F"},{"$f":"Tabel3[[#This Row],[Cleaners]]","v":"G"},{"$f":"Tabel3[[#This Row],[Disposables]]","v":"-"},{"$f":"Tabel3[[#This Row],[Beauty & Personal Care]]","v":"I"},{"$f":"Tabel3[[#This Row],[Petfood]]","v":"J"},{"$f":"Tabel3[[#This Row],[Alcoholic Beverages]]","v":"K"},{"$f":"Tabel3[[#This Row],[Tobacco]]","v":"-"},{"$f":"Tabel3[[#This Row],[Self-care medicines]]","v":"M"},{"$f":"Tabel3[[#This Row],[Special Food]]","v":"N"},{"$f":"Tabel3[[#This Row],[Food Supplements]]","v":"O"},{"$f":"Tabel3[[#This Row],[Healthcare Products]]","v":"P"},{"$f":"Tabel3[[#This Row],[Medical Devices]]","v":"Q"},{"$f":"Tabel3[[#This Row],[Batteries]]","v":"R"},{"$f":"Tabel3[[#This Row],[Light Bulbs]]","v":"S"},{"$f":"Tabel3[[#This Row],[Other Categories]]","v":"T"}]
[{"$f":"VLOOKUP(Tabel3[[#This Row],[GAE ID]],'BES EN'!A:AJ,36,FALSE)","v":"Temperature qualifier code"},{"$f":"Tabel3[[#This Row],[GDSN-naam]]","v":"temperatureQualifierCode"},{"$f":"Tabel3[[#This Row],[GDM Verplicht / Conditioneel]]","v":"Conditional"},{"$f":"Tabel3[[#This Row],[DMS controle]]","v":0},{"$f":"Tabel3[[#This Row],[BMS ID]]","v":3830},{"$f":"Tabel3[[#This Row],[Formaat]]","v":"Defined values"},{"$f":"Tabel3[[#This Row],[X Path]]","v":"/catalogue_item_notification:catalogueItemNotificationMessage/transaction/documentCommand/catalogue_item_notification:catalogueItemNotification/catalogueItem/tradeItem/tradeItemInformation/extension/*[namespace-uri()='urn:gs1:gdsn:trade_item_temperature_information:xsd:3' and local-name()='tradeItemTemperatureInformationModule']/tradeItemTemperatureInformation/temperatureQualifierCode"},{"$f":"Tabel3[[#This Row],[GDM laag]]","v":"Global"},{"$f":"VLOOKUP(Tabel3[[#This Row],[GAE ID]],'BES EN'!A:AJ,27,FALSE)","v":"Mandatory if either minimum temperature or maximum temperature is populated"},null,{"$f":"Tabel3[[#This Row],[Dairy, Refrigerated & Frozen]]","v":"A"},{"$f":"Tabel3[[#This Row],[Deli & Prepared]]","v":"B"},{"$f":"Tabel3[[#This Row],[Fresh Meat]]","v":"C"},{"$f":"Tabel3[[#This Row],[Fresh Fish]]","v":"D"},{"$f":"Tabel3[[#This Row],[Fresh Fruits & Vegetables]]","v":"E"},{"$f":"Tabel3[[#This Row],[Grocery]]","v":"F"},{"$f":"Tabel3[[#This Row],[Cleaners]]","v":"G"},{"$f":"Tabel3[[#This Row],[Disposables]]","v":"-"},{"$f":"Tabel3[[#This Row],[Beauty & Personal Care]]","v":"I"},{"$f":"Tabel3[[#This Row],[Petfood]]","v":"J"},{"$f":"Tabel3[[#This Row],[Alcoholic Beverages]]","v":"K"},{"$f":"Tabel3[[#This Row],[Tobacco]]","v":"-"},{"$f":"Tabel3[[#This Row],[Self-care medicines]]","v":"M"},{"$f":"Tabel3[[#This Row],[Special Food]]","v":"N"},{"$f":"Tabel3[[#This Row],[Food Supplements]]","v":"O"},{"$f":"Tabel3[[#This Row],[Healthcare Products]]","v":"P"},{"$f":"Tabel3[[#This Row],[Medical Devices]]","v":"Q"},{"$f":"Tabel3[[#This Row],[Batteries]]","v":"R"},{"$f":"Tabel3[[#This Row],[Light Bulbs]]","v":"S"},{"$f":"Tabel3[[#This Row],[Other Categories]]","v":"T"}]
[{"$f":"VLOOKUP(Tabel3[[#This Row],[GAE ID]],'BES EN'!A:AJ,36,FALSE)","v":"Product temperature condition code"},{"$f":"Tabel3[[#This Row],[GDSN-naam]]","v":"tradeItemTemperatureConditionTypeCode"},{"$f":"Tabel3[[#This Row],[GDM Verplicht / Conditioneel]]","v":"Conditional"},{"$f":"Tabel3[[#This Row],[DMS controle]]","v":"X"},{"$f":"Tabel3[[#This Row],[BMS ID]]","v":3804},{"$f":"Tabel3[[#This Row],[Formaat]]","v":"Defined values"},{"$f":"Tabel3[[#This Row],[X Path]]","v":"/catalogue_item_notification:catalogueItemNotificationMessage/transaction/documentCommand/catalogue_item_notification:catalogueItemNotification/catalogueItem/tradeItem/tradeItemInformation/extension/*[namespace-uri()='urn:gs1:gdsn:trade_item_temperature_information:xsd:3' and local-name()='tradeItemTemperatureInformationModule']/tradeItemTemperatureConditionTypeCode"},{"$f":"Tabel3[[#This Row],[GDM laag]]","v":"Regional EU"},{"$f":"VLOOKUP(Tabel3[[#This Row],[GAE ID]],'BES EN'!A:AJ,27,FALSE)","v":"Mandatory if the temperature condition of the product at the moment of sale is present on the packaging."},null,{"$f":"Tabel3[[#This Row],[Dairy, Refrigerated & Frozen]]","v":"A"},{"$f":"Tabel3[[#This Row],[Deli & Prepared]]","v":"B"},{"$f":"Tabel3[[#This Row],[Fresh Meat]]","v":"C"},{"$f":"Tabel3[[#This Row],[Fresh Fish]]","v":"D"},{"$f":"Tabel3[[#This Row],[Fresh Fruits & Vegetables]]","v":"E"},{"$f":"Tabel3[[#This Row],[Grocery]]","v":"F"},{"$f":"Tabel3[[#This Row],[Cleaners]]","v":"-"},{"$f":"Tabel3[[#This Row],[Disposables]]","v":"-"},{"$f":"Tabel3[[#This Row],[Beauty & Personal Care]]","v":"-"},{"$f":"Tabel3[[#This Row],[Petfood]]","v":"-"},{"$f":"Tabel3[[#This Row],[Alcoholic Beverages]]","v":"K"},{"$f":"Tabel3[[#This Row],[Tobacco]]","v":"-"},{"$f":"Tabel3[[#This Row],[Self-care medicines]]","v":"M"},{"$f":"Tabel3[[#This Row],[Special Food]]","v":"N"},{"$f":"Tabel3[[#This Row],[Food Supplements]]","v":"O"},{"$f":"Tabel3[[#This Row],[Healthcare Products]]","v":"P"},{"$f":"Tabel3[[#This Row],[Medical Devices]]","v":"Q"},{"$f":"Tabel3[[#This Row],[Batteries]]","v":"R"},{"$f":"Tabel3[[#This Row],[Light Bulbs]]","v":"S"},{"$f":"Tabel3[[#This Row],[Other Categories]]","v":"T"}]
[{"$f":"VLOOKUP(Tabel3[[#This Row],[GAE ID]],'BES EN'!A:AJ,36,FALSE)","v":"Order quantity multiple"},{"$f":"Tabel3[[#This Row],[GDSN-naam]]","v":"orderQuantityMultiple"},{"$f":"Tabel3[[#This Row],[GDM Verplicht / Conditioneel]]","v":"Optional"},{"$f":"Tabel3[[#This Row],[DMS controle]]","v":0},{"$f":"Tabel3[[#This Row],[BMS ID]]","v":1021},{"$f":"Tabel3[[#This Row],[Formaat]]","v":"Non-negative Integer"},{"$f":"Tabel3[[#This Row],[X Path]]","v":"/catalogue_item_notification:catalogueItemNotificationMessage/transaction/documentCommand/catalogue_item_notification:catalogueItemNotification/catalogueItem/tradeItem/tradeItemInformation/extension/*[namespace-uri()='urn:gs1:gdsn:delivery_purchasing_information:xsd:3' and local-name()='deliveryPurchasingInformationModule']/deliveryPurchasingInformation/orderQuantityMultiple"},{"$f":"Tabel3[[#This Row],[GDM laag]]","v":"Local"},{"$f":"VLOOKUP(Tabel3[[#This Row],[GAE ID]],'BES EN'!A:AJ,27,FALSE)","v":"Mandatory if orderable unit. Optional for the Dutch target market."},null,{"$f":"Tabel3[[#This Row],[Dairy, Refrigerated & Frozen]]","v":"A"},{"$f":"Tabel3[[#This Row],[Deli & Prepared]]","v":"B"},{"$f":"Tabel3[[#This Row],[Fresh Meat]]","v":"C"},{"$f":"Tabel3[[#This Row],[Fresh Fish]]","v":"D"},{"$f":"Tabel3[[#This Row],[Fresh Fruits & Vegetables]]","v":"E"},{"$f":"Tabel3[[#This Row],[Grocery]]","v":"F"},{"$f":"Tabel3[[#This Row],[Cleaners]]","v":"G"},{"$f":"Tabel3[[#This Row],[Disposables]]","v":"H"},{"$f":"Tabel3[[#This Row],[Beauty & Personal Care]]","v":"I"},{"$f":"Tabel3[[#This Row],[Petfood]]","v":"J"},{"$f":"Tabel3[[#This Row],[Alcoholic Beverages]]","v":"K"},{"$f":"Tabel3[[#This Row],[Tobacco]]","v":"L"},{"$f":"Tabel3[[#This Row],[Self-care medicines]]","v":"M"},{"$f":"Tabel3[[#This Row],[Special Food]]","v":"N"},{"$f":"Tabel3[[#This Row],[Food Supplements]]","v":"O"},{"$f":"Tabel3[[#This Row],[Healthcare Products]]","v":"P"},{"$f":"Tabel3[[#This Row],[Medical Devices]]","v":"Q"},{"$f":"Tabel3[[#This Row],[Batteries]]","v":"R"},{"$f":"Tabel3[[#This Row],[Light Bulbs]]","v":"S"},{"$f":"Tabel3[[#This Row],[Other Categories]]","v":"T"}]
[{"$f":"VLOOKUP(Tabel3[[#This Row],[GAE ID]],'BES EN'!A:AJ,36,FALSE)","v":"Order quantity minimum"},{"$f":"Tabel3[[#This Row],[GDSN-naam]]","v":"orderQuantityMinimum"},{"$f":"Tabel3[[#This Row],[GDM Verplicht / Conditioneel]]","v":"Optional"},{"$f":"Tabel3[[#This Row],[DMS controle]]","v":0},{"$f":"Tabel3[[#This Row],[BMS ID]]","v":1020},{"$f":"Tabel3[[#This Row],[Formaat]]","v":"Non-negative Integer"},{"$f":"Tabel3[[#This Row],[X Path]]","v":"/catalogue_item_notification:catalogueItemNotificationMessage/transaction/documentCommand/catalogue_item_notification:catalogueItemNotification/catalogueItem/tradeItem/tradeItemInformation/extension/*[namespace-uri()='urn:gs1:gdsn:delivery_purchasing_information:xsd:3' and local-name()='deliveryPurchasingInformationModule']/deliveryPurchasingInformation/orderQuantityMinimum"},{"$f":"Tabel3[[#This Row],[GDM laag]]","v":"Local"},{"$f":"VLOOKUP(Tabel3[[#This Row],[GAE ID]],'BES EN'!A:AJ,27,FALSE)","v":"Mandatory if orderable unit. Optional for the Dutch target market."},null,{"$f":"Tabel3[[#This Row],[Dairy, Refrigerated & Frozen]]","v":"A"},{"$f":"Tabel3[[#This Row],[Deli & Prepared]]","v":"B"},{"$f":"Tabel3[[#This Row],[Fresh Meat]]","v":"C"},{"$f":"Tabel3[[#This Row],[Fresh Fish]]","v":"D"},{"$f":"Tabel3[[#This Row],[Fresh Fruits & Vegetables]]","v":"E"},{"$f":"Tabel3[[#This Row],[Grocery]]","v":"F"},{"$f":"Tabel3[[#This Row],[Cleaners]]","v":"G"},{"$f":"Tabel3[[#This Row],[Disposables]]","v":"H"},{"$f":"Tabel3[[#This Row],[Beauty & Personal Care]]","v":"I"},{"$f":"Tabel3[[#This Row],[Petfood]]","v":"J"},{"$f":"Tabel3[[#This Row],[Alcoholic Beverages]]","v":"K"},{"$f":"Tabel3[[#This Row],[Tobacco]]","v":"L"},{"$f":"Tabel3[[#This Row],[Self-care medicines]]","v":"M"},{"$f":"Tabel3[[#This Row],[Special Food]]","v":"N"},{"$f":"Tabel3[[#This Row],[Food Supplements]]","v":"O"},{"$f":"Tabel3[[#This Row],[Healthcare Products]]","v":"P"},{"$f":"Tabel3[[#This Row],[Medical Devices]]","v":"Q"},{"$f":"Tabel3[[#This Row],[Batteries]]","v":"R"},{"$f":"Tabel3[[#This Row],[Light Bulbs]]","v":"S"},{"$f":"Tabel3[[#This Row],[Other Categories]]","v":"T"}]
["Packaging information",null,{"$f":"Tabel3[[#This Row],[GDM Verplicht / Conditioneel]]","v":0},null,null,null,null,null,null,null,"A","B","C","D","E","F","G","H","I","J","K","L","M","N","O","P","Q","R","S","T"]
[{"$f":"VLOOKUP(Tabel3[[#This Row],[GAE ID]],'BES EN'!A:AJ,36,FALSE)","v":"Packaging type code"},{"$f":"Tabel3[[#This Row],[GDSN-naam]]","v":"packagingTypeCode"},{"$f":"Tabel3[[#This Row],[GDM Verplicht / Conditioneel]]","v":"Mandatory"},{"$f":"Tabel3[[#This Row],[DMS controle]]","v":"X"},{"$f":"Tabel3[[#This Row],[BMS ID]]","v":2186},{"$f":"Tabel3[[#This Row],[Formaat]]","v":"Defined values"},{"$f":"Tabel3[[#This Row],[X Path]]","v":"/catalogue_item_notification:catalogueItemNotificationMessage/transaction/documentCommand/catalogue_item_notification:catalogueItemNotification/catalogueItem/tradeItem/tradeItemInformation/extension/*[namespace-uri()='urn:gs1:gdsn:packaging_information:xsd:3' and local-name()='packagingInformationModule']/packaging/packagingTypeCode"},{"$f":"Tabel3[[#This Row],[GDM laag]]","v":"Global"},{"$f":"VLOOKUP(Tabel3[[#This Row],[GAE ID]],'BES EN'!A:AJ,27,FALSE)","v":"Mandatory"},null,{"$f":"Tabel3[[#This Row],[Dairy, Refrigerated & Frozen]]","v":"A"},{"$f":"Tabel3[[#This Row],[Deli & Prepared]]","v":"B"},{"$f":"Tabel3[[#This Row],[Fresh Meat]]","v":"C"},{"$f":"Tabel3[[#This Row],[Fresh Fish]]","v":"D"},{"$f":"Tabel3[[#This Row],[Fresh Fruits & Vegetables]]","v":"E"},{"$f":"Tabel3[[#This Row],[Grocery]]","v":"F"},{"$f":"Tabel3[[#This Row],[Cleaners]]","v":"G"},{"$f":"Tabel3[[#This Row],[Disposables]]","v":"H"},{"$f":"Tabel3[[#This Row],[Beauty & Personal Care]]","v":"I"},{"$f":"Tabel3[[#This Row],[Petfood]]","v":"J"},{"$f":"Tabel3[[#This Row],[Alcoholic Beverages]]","v":"K"},{"$f":"Tabel3[[#This Row],[Tobacco]]","v":"L"},{"$f":"Tabel3[[#This Row],[Self-care medicines]]","v":"M"},{"$f":"Tabel3[[#This Row],[Special Food]]","v":"N"},{"$f":"Tabel3[[#This Row],[Food Supplements]]","v":"O"},{"$f":"Tabel3[[#This Row],[Healthcare Products]]","v":"P"},{"$f":"Tabel3[[#This Row],[Medical Devices]]","v":"Q"},{"$f":"Tabel3[[#This Row],[Batteries]]","v":"R"},{"$f":"Tabel3[[#This Row],[Light Bulbs]]","v":"S"},{"$f":"Tabel3[[#This Row],[Other Categories]]","v":"T"}]
[{"$f":"VLOOKUP(Tabel3[[#This Row],[GAE ID]],'BES EN'!A:AJ,36,FALSE)","v":"Packaging type description"},{"$f":"Tabel3[[#This Row],[GDSN-naam]]","v":"packagingTypeDescription"},{"$f":"Tabel3[[#This Row],[GDM Verplicht / Conditioneel]]","v":"Optional"},{"$f":"Tabel3[[#This Row],[DMS controle]]","v":0},{"$f":"Tabel3[[#This Row],[BMS ID]]","v":2187},{"$f":"Tabel3[[#This Row],[Formaat]]","v":"an..200"},{"$f":"Tabel3[[#This Row],[X Path]]","v":"/catalogue_item_notification:catalogueItemNotificationMessage/transaction/documentCommand/catalogue_item_notification:catalogueItemNotification/catalogueItem/tradeItem/tradeItemInformation/extension/*[namespace-uri()='urn:gs1:gdsn:packaging_information:xsd:3' and local-name()='packagingInformationModule']/packaging/packagingTypeDescription"},{"$f":"Tabel3[[#This Row],[GDM laag]]","v":"Local"},{"$f":"VLOOKUP(Tabel3[[#This Row],[GAE ID]],'BES EN'!A:AJ,27,FALSE)","v":" "},null,{"$f":"Tabel3[[#This Row],[Dairy, Refrigerated & Frozen]]","v":"A"},{"$f":"Tabel3[[#This Row],[Deli & Prepared]]","v":"B"},{"$f":"Tabel3[[#This Row],[Fresh Meat]]","v":"C"},{"$f":"Tabel3[[#This Row],[Fresh Fish]]","v":"D"},{"$f":"Tabel3[[#This Row],[Fresh Fruits & Vegetables]]","v":"E"},{"$f":"Tabel3[[#This Row],[Grocery]]","v":"F"},{"$f":"Tabel3[[#This Row],[Cleaners]]","v":"G"},{"$f":"Tabel3[[#This Row],[Disposables]]","v":"H"},{"$f":"Tabel3[[#This Row],[Beauty & Personal Care]]","v":"I"},{"$f":"Tabel3[[#This Row],[Petfood]]","v":"J"},{"$f":"Tabel3[[#This Row],[Alcoholic Beverages]]","v":"K"},{"$f":"Tabel3[[#This Row],[Tobacco]]","v":"L"},{"$f":"Tabel3[[#This Row],[Self-care medicines]]","v":"M"},{"$f":"Tabel3[[#This Row],[Special Food]]","v":"N"},{"$f":"Tabel3[[#This Row],[Food Supplements]]","v":"O"},{"$f":"Tabel3[[#This Row],[Healthcare Products]]","v":"P"},{"$f":"Tabel3[[#This Row],[Medical Devices]]","v":"Q"},{"$f":"Tabel3[[#This Row],[Batteries]]","v":"R"},{"$f":"Tabel3[[#This Row],[Light Bulbs]]","v":"S"},{"$f":"Tabel3[[#This Row],[Other Categories]]","v":"T"}]
[{"$f":"VLOOKUP(Tabel3[[#This Row],[GAE ID]],'BES EN'!A:AJ,36,FALSE)","v":"Packaging type description language code"},{"$f":"Tabel3[[#This Row],[GDSN-naam]]","v":"packagingTypeDescription/@languageCode"},{"$f":"Tabel3[[#This Row],[GDM Verplicht / Conditioneel]]","v":"Optional"},{"$f":"Tabel3[[#This Row],[DMS controle]]","v":0},{"$f":"Tabel3[[#This Row],[BMS ID]]","v":2188},{"$f":"Tabel3[[#This Row],[Formaat]]","v":"Defined values"},{"$f":"Tabel3[[#This Row],[X Path]]","v":"/catalogue_item_notification:catalogueItemNotificationMessage/transaction/documentCommand/catalogue_item_notification:catalogueItemNotification/catalogueItem/tradeItem/tradeItemInformation/extension/*[namespace-uri()='urn:gs1:gdsn:packaging_information:xsd:3' and local-name()='packagingInformationModule']/packaging/packagingTypeDescription/@languageCode"},{"$f":"Tabel3[[#This Row],[GDM laag]]","v":"Local"},{"$f":"VLOOKUP(Tabel3[[#This Row],[GAE ID]],'BES EN'!A:AJ,27,FALSE)","v":"Mandatory if 'Packaging type description' is populated."},null,{"$f":"Tabel3[[#This Row],[Dairy, Refrigerated & Frozen]]","v":"A"},{"$f":"Tabel3[[#This Row],[Deli & Prepared]]","v":"B"},{"$f":"Tabel3[[#This Row],[Fresh Meat]]","v":"C"},{"$f":"Tabel3[[#This Row],[Fresh Fish]]","v":"D"},{"$f":"Tabel3[[#This Row],[Fresh Fruits & Vegetables]]","v":"E"},{"$f":"Tabel3[[#This Row],[Grocery]]","v":"F"},{"$f":"Tabel3[[#This Row],[Cleaners]]","v":"G"},{"$f":"Tabel3[[#This Row],[Disposables]]","v":"H"},{"$f":"Tabel3[[#This Row],[Beauty & Personal Care]]","v":"I"},{"$f":"Tabel3[[#This Row],[Petfood]]","v":"J"},{"$f":"Tabel3[[#This Row],[Alcoholic Beverages]]","v":"K"},{"$f":"Tabel3[[#This Row],[Tobacco]]","v":"L"},{"$f":"Tabel3[[#This Row],[Self-care medicines]]","v":"M"},{"$f":"Tabel3[[#This Row],[Special Food]]","v":"N"},{"$f":"Tabel3[[#This Row],[Food Supplements]]","v":"O"},{"$f":"Tabel3[[#This Row],[Healthcare Products]]","v":"P"},{"$f":"Tabel3[[#This Row],[Medical Devices]]","v":"Q"},{"$f":"Tabel3[[#This Row],[Batteries]]","v":"R"},{"$f":"Tabel3[[#This Row],[Light Bulbs]]","v":"S"},{"$f":"Tabel3[[#This Row],[Other Categories]]","v":"T"}]
[{"$f":"VLOOKUP(Tabel3[[#This Row],[GAE ID]],'BES EN'!A:AJ,36,FALSE)","v":"Packaging level"},{"$f":"Tabel3[[#This Row],[GDSN-naam]]","v":"packagingLevel"},{"$f":"Tabel3[[#This Row],[GDM Verplicht / Conditioneel]]","v":"Optional"},{"$f":"Tabel3[[#This Row],[DMS controle]]","v":0},{"$f":"Tabel3[[#This Row],[BMS ID]]","v":2168},{"$f":"Tabel3[[#This Row],[Formaat]]","v":"Non-negative Integer"},{"$f":"Tabel3[[#This Row],[X Path]]","v":"/catalogue_item_notification:catalogueItemNotificationMessage/transaction/documentCommand/catalogue_item_notification:catalogueItemNotification/catalogueItem/tradeItem/tradeItemInformation/extension/*[namespace-uri()='urn:gs1:gdsn:packaging_information:xsd:3' and local-name()='packagingInformationModule']/packaging/packagingLevel"},{"$f":"Tabel3[[#This Row],[GDM laag]]","v":"Local"},{"$f":"VLOOKUP(Tabel3[[#This Row],[GAE ID]],'BES EN'!A:AJ,27,FALSE)","v":" "},null,{"$f":"Tabel3[[#This Row],[Dairy, Refrigerated & Frozen]]","v":"A"},{"$f":"Tabel3[[#This Row],[Deli & Prepared]]","v":"B"},{"$f":"Tabel3[[#This Row],[Fresh Meat]]","v":"C"},{"$f":"Tabel3[[#This Row],[Fresh Fish]]","v":"D"},{"$f":"Tabel3[[#This Row],[Fresh Fruits & Vegetables]]","v":"E"},{"$f":"Tabel3[[#This Row],[Grocery]]","v":"F"},{"$f":"Tabel3[[#This Row],[Cleaners]]","v":"G"},{"$f":"Tabel3[[#This Row],[Disposables]]","v":"H"},{"$f":"Tabel3[[#This Row],[Beauty & Personal Care]]","v":"I"},{"$f":"Tabel3[[#This Row],[Petfood]]","v":"J"},{"$f":"Tabel3[[#This Row],[Alcoholic Beverages]]","v":"K"},{"$f":"Tabel3[[#This Row],[Tobacco]]","v":"L"},{"$f":"Tabel3[[#This Row],[Self-care medicines]]","v":"M"},{"$f":"Tabel3[[#This Row],[Special Food]]","v":"N"},{"$f":"Tabel3[[#This Row],[Food Supplements]]","v":"O"},{"$f":"Tabel3[[#This Row],[Healthcare Products]]","v":"P"},{"$f":"Tabel3[[#This Row],[Medical Devices]]","v":"Q"},{"$f":"Tabel3[[#This Row],[Batteries]]","v":"R"},{"$f":"Tabel3[[#This Row],[Light Bulbs]]","v":"S"},{"$f":"Tabel3[[#This Row],[Other Categories]]","v":"T"}]
[{"$f":"VLOOKUP(Tabel3[[#This Row],[GAE ID]],'BES EN'!A:AJ,36,FALSE)","v":"Trade item date on packaging type code"},{"$f":"Tabel3[[#This Row],[GDSN-naam]]","v":"tradeItemDateOnPackagingTypeCode"},{"$f":"Tabel3[[#This Row],[GDM Verplicht / Conditioneel]]","v":"Conditional"},{"$f":"Tabel3[[#This Row],[DMS controle]]","v":0},{"$f":"Tabel3[[#This Row],[BMS ID]]","v":2334},{"$f":"Tabel3[[#This Row],[Formaat]]","v":"Defined values"},{"$f":"Tabel3[[#This Row],[X Path]]","v":"/catalogue_item_notification:catalogueItemNotificationMessage/transaction/documentCommand/catalogue_item_notification:catalogueItemNotification/catalogueItem/tradeItem/tradeItemInformation/extension/*[namespace-uri()='urn:gs1:gdsn:packaging_marking:xsd:3' and local-name()='packagingMarkingModule']/packagingMarking/packagingDate/tradeItemDateOnPackagingTypeCode"},{"$f":"Tabel3[[#This Row],[GDM laag]]","v":"Global"},{"$f":"VLOOKUP(Tabel3[[#This Row],[GAE ID]],'BES EN'!A:AJ,27,FALSE)","v":"Mandatory if on the packaging. "},null,{"$f":"Tabel3[[#This Row],[Dairy, Refrigerated & Frozen]]","v":"A"},{"$f":"Tabel3[[#This Row],[Deli & Prepared]]","v":"B"},{"$f":"Tabel3[[#This Row],[Fresh Meat]]","v":"C"},{"$f":"Tabel3[[#This Row],[Fresh Fish]]","v":"D"},{"$f":"Tabel3[[#This Row],[Fresh Fruits & Vegetables]]","v":"E"},{"$f":"Tabel3[[#This Row],[Grocery]]","v":"F"},{"$f":"Tabel3[[#This Row],[Cleaners]]","v":"G"},{"$f":"Tabel3[[#This Row],[Disposables]]","v":"H"},{"$f":"Tabel3[[#This Row],[Beauty & Personal Care]]","v":"I"},{"$f":"Tabel3[[#This Row],[Petfood]]","v":"J"},{"$f":"Tabel3[[#This Row],[Alcoholic Beverages]]","v":"K"},{"$f":"Tabel3[[#This Row],[Tobacco]]","v":"L"},{"$f":"Tabel3[[#This Row],[Self-care medicines]]","v":"M"},{"$f":"Tabel3[[#This Row],[Special Food]]","v":"N"},{"$f":"Tabel3[[#This Row],[Food Supplements]]","v":"O"},{"$f":"Tabel3[[#This Row],[Healthcare Products]]","v":"P"},{"$f":"Tabel3[[#This Row],[Medical Devices]]","v":"Q"},{"$f":"Tabel3[[#This Row],[Batteries]]","v":"R"},{"$f":"Tabel3[[#This Row],[Light Bulbs]]","v":"S"},{"$f":"Tabel3[[#This Row],[Other Categories]]","v":"T"}]
[{"$f":"VLOOKUP(Tabel3[[#This Row],[GAE ID]],'BES EN'!A:AJ,36,FALSE)","v":"Packaging recycling scheme code"},{"$f":"Tabel3[[#This Row],[GDSN-naam]]","v":"packagingRecyclingSchemeCode"},{"$f":"Tabel3[[#This Row],[GDM Verplicht / Conditioneel]]","v":"Optional"},{"$f":"Tabel3[[#This Row],[DMS controle]]","v":0},{"$f":"Tabel3[[#This Row],[BMS ID]]","v":2172},{"$f":"Tabel3[[#This Row],[Formaat]]","v":"Defined values"},{"$f":"Tabel3[[#This Row],[X Path]]","v":"/catalogue_item_notification:catalogueItemNotificationMessage/transaction/documentCommand/catalogue_item_notification:catalogueItemNotification/catalogueItem/tradeItem/tradeItemInformation/extension/*[namespace-uri()='urn:gs1:gdsn:packaging_information:xsd:3' and local-name()='packagingInformationModule']/packaging/packagingRecyclingSchemeCode"},{"$f":"Tabel3[[#This Row],[GDM laag]]","v":"Local"},{"$f":"VLOOKUP(Tabel3[[#This Row],[GAE ID]],'BES EN'!A:AJ,27,FALSE)","v":0},null,{"$f":"Tabel3[[#This Row],[Dairy, Refrigerated & Frozen]]","v":"A"},{"$f":"Tabel3[[#This Row],[Deli & Prepared]]","v":"B"},{"$f":"Tabel3[[#This Row],[Fresh Meat]]","v":"C"},{"$f":"Tabel3[[#This Row],[Fresh Fish]]","v":"D"},{"$f":"Tabel3[[#This Row],[Fresh Fruits & Vegetables]]","v":"E"},{"$f":"Tabel3[[#This Row],[Grocery]]","v":"F"},{"$f":"Tabel3[[#This Row],[Cleaners]]","v":"G"},{"$f":"Tabel3[[#This Row],[Disposables]]","v":"H"},{"$f":"Tabel3[[#This Row],[Beauty & Personal Care]]","v":"I"},{"$f":"Tabel3[[#This Row],[Petfood]]","v":"J"},{"$f":"Tabel3[[#This Row],[Alcoholic Beverages]]","v":"K"},{"$f":"Tabel3[[#This Row],[Tobacco]]","v":"L"},{"$f":"Tabel3[[#This Row],[Self-care medicines]]","v":"M"},{"$f":"Tabel3[[#This Row],[Special Food]]","v":"N"},{"$f":"Tabel3[[#This Row],[Food Supplements]]","v":"O"},{"$f":"Tabel3[[#This Row],[Healthcare Products]]","v":"P"},{"$f":"Tabel3[[#This Row],[Medical Devices]]","v":"Q"},{"$f":"Tabel3[[#This Row],[Batteries]]","v":"R"},{"$f":"Tabel3[[#This Row],[Light Bulbs]]","v":"S"},{"$f":"Tabel3[[#This Row],[Other Categories]]","v":"T"}]
[{"$f":"VLOOKUP(Tabel3[[#This Row],[GAE ID]],'BES EN'!A:AJ,36,FALSE)","v":"Is trade item marked as recyclable"},{"$f":"Tabel3[[#This Row],[GDSN-naam]]","v":"isTradeItemMarkedAsRecyclable"},{"$f":"Tabel3[[#This Row],[GDM Verplicht / Conditioneel]]","v":"Optional"},{"$f":"Tabel3[[#This Row],[DMS controle]]","v":0},{"$f":"Tabel3[[#This Row],[BMS ID]]","v":2310},{"$f":"Tabel3[[#This Row],[Formaat]]","v":"Boolean"},{"$f":"Tabel3[[#This Row],[X Path]]","v":"/catalogue_item_notification:catalogueItemNotificationMessage/transaction/documentCommand/catalogue_item_notification:catalogueItemNotification/catalogueItem/tradeItem/tradeItemInformation/extension/*[namespace-uri()='urn:gs1:gdsn:packaging_marking:xsd:3' and local-name()='packagingMarkingModule']/packagingMarking/isTradeItemMarkedAsRecyclable"},{"$f":"Tabel3[[#This Row],[GDM laag]]","v":"Local"},{"$f":"VLOOKUP(Tabel3[[#This Row],[GAE ID]],'BES EN'!A:AJ,27,FALSE)","v":0},null,{"$f":"Tabel3[[#This Row],[Dairy, Refrigerated & Frozen]]","v":"A"},{"$f":"Tabel3[[#This Row],[Deli & Prepared]]","v":"B"},{"$f":"Tabel3[[#This Row],[Fresh Meat]]","v":"C"},{"$f":"Tabel3[[#This Row],[Fresh Fish]]","v":"D"},{"$f":"Tabel3[[#This Row],[Fresh Fruits & Vegetables]]","v":"E"},{"$f":"Tabel3[[#This Row],[Grocery]]","v":"F"},{"$f":"Tabel3[[#This Row],[Cleaners]]","v":"G"},{"$f":"Tabel3[[#This Row],[Disposables]]","v":"H"},{"$f":"Tabel3[[#This Row],[Beauty & Personal Care]]","v":"I"},{"$f":"Tabel3[[#This Row],[Petfood]]","v":"J"},{"$f":"Tabel3[[#This Row],[Alcoholic Beverages]]","v":"K"},{"$f":"Tabel3[[#This Row],[Tobacco]]","v":"L"},{"$f":"Tabel3[[#This Row],[Self-care medicines]]","v":"M"},{"$f":"Tabel3[[#This Row],[Special Food]]","v":"N"},{"$f":"Tabel3[[#This Row],[Food Supplements]]","v":"O"},{"$f":"Tabel3[[#This Row],[Healthcare Products]]","v":"P"},{"$f":"Tabel3[[#This Row],[Medical Devices]]","v":"Q"},{"$f":"Tabel3[[#This Row],[Batteries]]","v":"R"},{"$f":"Tabel3[[#This Row],[Light Bulbs]]","v":"S"},{"$f":"Tabel3[[#This Row],[Other Categories]]","v":"T"}]
[{"$f":"VLOOKUP(Tabel3[[#This Row],[GAE ID]],'BES EN'!A:AJ,36,FALSE)","v":"Loose or pre-packed code"},{"$f":"Tabel3[[#This Row],[GDSN-naam]]","v":"variableTradeItemTypeCode"},{"$f":"Tabel3[[#This Row],[GDM Verplicht / Conditioneel]]","v":"Conditional"},{"$f":"Tabel3[[#This Row],[DMS controle]]","v":0},{"$f":"Tabel3[[#This Row],[BMS ID]]","v":3909},{"$f":"Tabel3[[#This Row],[Formaat]]","v":"Defined values"},{"$f":"Tabel3[[#This Row],[X Path]]","v":"/catalogue_item_notification:catalogueItemNotificationMessage/transaction/documentCommand/catalogue_item_notification:catalogueItemNotification/catalogueItem/tradeItem/tradeItemInformation/extension/*[namespace-uri()='urn:gs1:gdsn:variable_trade_item_information:xsd:3' and local-name()='variableTradeItemInformationModule']/variableTradeItemInformation/variableTradeItemTypeCode"},{"$f":"Tabel3[[#This Row],[GDM laag]]","v":"Regional EU"},{"$f":"VLOOKUP(Tabel3[[#This Row],[GAE ID]],'BES EN'!A:AJ,27,FALSE)","v":"Mandatory for fruits and vegetables and meat."},null,{"$f":"Tabel3[[#This Row],[Dairy, Refrigerated & Frozen]]","v":"-"},{"$f":"Tabel3[[#This Row],[Deli & Prepared]]","v":"-"},{"$f":"Tabel3[[#This Row],[Fresh Meat]]","v":"C"},{"$f":"Tabel3[[#This Row],[Fresh Fish]]","v":"-"},{"$f":"Tabel3[[#This Row],[Fresh Fruits & Vegetables]]","v":"E"},{"$f":"Tabel3[[#This Row],[Grocery]]","v":"-"},{"$f":"Tabel3[[#This Row],[Cleaners]]","v":"-"},{"$f":"Tabel3[[#This Row],[Disposables]]","v":"-"},{"$f":"Tabel3[[#This Row],[Beauty & Personal Care]]","v":"-"},{"$f":"Tabel3[[#This Row],[Petfood]]","v":"-"},{"$f":"Tabel3[[#This Row],[Alcoholic Beverages]]","v":"-"},{"$f":"Tabel3[[#This Row],[Tobacco]]","v":"-"},{"$f":"Tabel3[[#This Row],[Self-care medicines]]","v":"-"},{"$f":"Tabel3[[#This Row],[Special Food]]","v":"-"},{"$f":"Tabel3[[#This Row],[Food Supplements]]","v":"-"},{"$f":"Tabel3[[#This Row],[Healthcare Products]]","v":"-"},{"$f":"Tabel3[[#This Row],[Medical Devices]]","v":"-"},{"$f":"Tabel3[[#This Row],[Batteries]]","v":"-"},{"$f":"Tabel3[[#This Row],[Light Bulbs]]","v":"-"},{"$f":"Tabel3[[#This Row],[Other Categories]]","v":"-"}]
["Packaging material",null,{"$f":"Tabel3[[#This Row],[GDM Verplicht / Conditioneel]]","v":0},null,null,null,null,null,null,null,"A","B","C","D","E","F","G","H","I","J","K","L","M","N","O","P","Q","R","S","T"]
[{"$f":"VLOOKUP(Tabel3[[#This Row],[GAE ID]],'BES EN'!A:AJ,36,FALSE)","v":"Packaging material type code"},{"$f":"Tabel3[[#This Row],[GDSN-naam]]","v":"packagingMaterialTypeCode"},{"$f":"Tabel3[[#This Row],[GDM Verplicht / Conditioneel]]","v":"Optional"},{"$f":"Tabel3[[#This Row],[DMS controle]]","v":0},{"$f":"Tabel3[[#This Row],[BMS ID]]","v":2206},{"$f":"Tabel3[[#This Row],[Formaat]]","v":"Defined values"},{"$f":"Tabel3[[#This Row],[X Path]]","v":"/catalogue_item_notification:catalogueItemNotificationMessage/transaction/documentCommand/catalogue_item_notification:catalogueItemNotification/catalogueItem/tradeItem/tradeItemInformation/extension/*[namespace-uri()='urn:gs1:gdsn:packaging_information:xsd:3' and local-name()='packagingInformationModule']/packaging/packagingMaterial/packagingMaterialTypeCode"},{"$f":"Tabel3[[#This Row],[GDM laag]]","v":"Local"},{"$f":"VLOOKUP(Tabel3[[#This Row],[GAE ID]],'BES EN'!A:AJ,27,FALSE)","v":" "},null,{"$f":"Tabel3[[#This Row],[Dairy, Refrigerated & Frozen]]","v":"A"},{"$f":"Tabel3[[#This Row],[Deli & Prepared]]","v":"B"},{"$f":"Tabel3[[#This Row],[Fresh Meat]]","v":"C"},{"$f":"Tabel3[[#This Row],[Fresh Fish]]","v":"D"},{"$f":"Tabel3[[#This Row],[Fresh Fruits & Vegetables]]","v":"E"},{"$f":"Tabel3[[#This Row],[Grocery]]","v":"F"},{"$f":"Tabel3[[#This Row],[Cleaners]]","v":"G"},{"$f":"Tabel3[[#This Row],[Disposables]]","v":"H"},{"$f":"Tabel3[[#This Row],[Beauty & Personal Care]]","v":"I"},{"$f":"Tabel3[[#This Row],[Petfood]]","v":"J"},{"$f":"Tabel3[[#This Row],[Alcoholic Beverages]]","v":"K"},{"$f":"Tabel3[[#This Row],[Tobacco]]","v":"L"},{"$f":"Tabel3[[#This Row],[Self-care medicines]]","v":"M"},{"$f":"Tabel3[[#This Row],[Special Food]]","v":"N"},{"$f":"Tabel3[[#This Row],[Food Supplements]]","v":"O"},{"$f":"Tabel3[[#This Row],[Healthcare Products]]","v":"P"},{"$f":"Tabel3[[#This Row],[Medical Devices]]","v":"Q"},{"$f":"Tabel3[[#This Row],[Batteries]]","v":"R"},{"$f":"Tabel3[[#This Row],[Light Bulbs]]","v":"S"},{"$f":"Tabel3[[#This Row],[Other Categories]]","v":"T"}]
[{"$f":"VLOOKUP(Tabel3[[#This Row],[GAE ID]],'BES EN'!A:AJ,36,FALSE)","v":"Packaging material composition quantity"},{"$f":"Tabel3[[#This Row],[GDSN-naam]]","v":"packagingMaterialCompositionQuantity"},{"$f":"Tabel3[[#This Row],[GDM Verplicht / Conditioneel]]","v":"Optional"},{"$f":"Tabel3[[#This Row],[DMS controle]]","v":0},{"$f":"Tabel3[[#This Row],[BMS ID]]","v":2214},{"$f":"Tabel3[[#This Row],[Formaat]]","v":"n..15"},{"$f":"Tabel3[[#This Row],[X Path]]","v":"/catalogue_item_notification:catalogueItemNotificationMessage/transaction/documentCommand/catalogue_item_notification:catalogueItemNotification/catalogueItem/tradeItem/tradeItemInformation/extension/*[namespace-uri()='urn:gs1:gdsn:packaging_information:xsd:3' and local-name()='packagingInformationModule']/packaging/packagingMaterial/packagingMaterialCompositionQuantity"},{"$f":"Tabel3[[#This Row],[GDM laag]]","v":"Local"},{"$f":"VLOOKUP(Tabel3[[#This Row],[GAE ID]],'BES EN'!A:AJ,27,FALSE)","v":"Mandatory if ‘Packaging material type code’ is populated and NOT equal to COMPOSITE"},null,{"$f":"Tabel3[[#This Row],[Dairy, Refrigerated & Frozen]]","v":"A"},{"$f":"Tabel3[[#This Row],[Deli & Prepared]]","v":"B"},{"$f":"Tabel3[[#This Row],[Fresh Meat]]","v":"C"},{"$f":"Tabel3[[#This Row],[Fresh Fish]]","v":"D"},{"$f":"Tabel3[[#This Row],[Fresh Fruits & Vegetables]]","v":"E"},{"$f":"Tabel3[[#This Row],[Grocery]]","v":"F"},{"$f":"Tabel3[[#This Row],[Cleaners]]","v":"G"},{"$f":"Tabel3[[#This Row],[Disposables]]","v":"H"},{"$f":"Tabel3[[#This Row],[Beauty & Personal Care]]","v":"I"},{"$f":"Tabel3[[#This Row],[Petfood]]","v":"J"},{"$f":"Tabel3[[#This Row],[Alcoholic Beverages]]","v":"K"},{"$f":"Tabel3[[#This Row],[Tobacco]]","v":"L"},{"$f":"Tabel3[[#This Row],[Self-care medicines]]","v":"M"},{"$f":"Tabel3[[#This Row],[Special Food]]","v":"N"},{"$f":"Tabel3[[#This Row],[Food Supplements]]","v":"O"},{"$f":"Tabel3[[#This Row],[Healthcare Products]]","v":"P"},{"$f":"Tabel3[[#This Row],[Medical Devices]]","v":"Q"},{"$f":"Tabel3[[#This Row],[Batteries]]","v":"R"},{"$f":"Tabel3[[#This Row],[Light Bulbs]]","v":"S"},{"$f":"Tabel3[[#This Row],[Other Categories]]","v":"T"}]
[{"$f":"VLOOKUP(Tabel3[[#This Row],[GAE ID]],'BES EN'!A:AJ,36,FALSE)","v":"Packaging material composition quantity UOM"},{"$f":"Tabel3[[#This Row],[GDSN-naam]]","v":"packagingMaterialCompositionQuantity/@measurementUnitCode"},{"$f":"Tabel3[[#This Row],[GDM Verplicht / Conditioneel]]","v":"Optional"},{"$f":"Tabel3[[#This Row],[DMS controle]]","v":0},{"$f":"Tabel3[[#This Row],[BMS ID]]","v":2215},{"$f":"Tabel3[[#This Row],[Formaat]]","v":"Defined values"},{"$f":"Tabel3[[#This Row],[X Path]]","v":"/catalogue_item_notification:catalogueItemNotificationMessage/transaction/documentCommand/catalogue_item_notification:catalogueItemNotification/catalogueItem/tradeItem/tradeItemInformation/extension/*[namespace-uri()='urn:gs1:gdsn:packaging_information:xsd:3' and local-name()='packagingInformationModule']/packaging/packagingMaterial/packagingMaterialCompositionQuantity/@measurementUnitCode"},{"$f":"Tabel3[[#This Row],[GDM laag]]","v":"Local"},{"$f":"VLOOKUP(Tabel3[[#This Row],[GAE ID]],'BES EN'!A:AJ,27,FALSE)","v":"Mandatory if ‘Packaging material type code’ is populated"},null,{"$f":"Tabel3[[#This Row],[Dairy, Refrigerated & Frozen]]","v":"A"},{"$f":"Tabel3[[#This Row],[Deli & Prepared]]","v":"B"},{"$f":"Tabel3[[#This Row],[Fresh Meat]]","v":"C"},{"$f":"Tabel3[[#This Row],[Fresh Fish]]","v":"D"},{"$f":"Tabel3[[#This Row],[Fresh Fruits & Vegetables]]","v":"E"},{"$f":"Tabel3[[#This Row],[Grocery]]","v":"F"},{"$f":"Tabel3[[#This Row],[Cleaners]]","v":"G"},{"$f":"Tabel3[[#This Row],[Disposables]]","v":"H"},{"$f":"Tabel3[[#This Row],[Beauty & Personal Care]]","v":"I"},{"$f":"Tabel3[[#This Row],[Petfood]]","v":"J"},{"$f":"Tabel3[[#This Row],[Alcoholic Beverages]]","v":"K"},{"$f":"Tabel3[[#This Row],[Tobacco]]","v":"L"},{"$f":"Tabel3[[#This Row],[Self-care medicines]]","v":"M"},{"$f":"Tabel3[[#This Row],[Special Food]]","v":"N"},{"$f":"Tabel3[[#This Row],[Food Supplements]]","v":"O"},{"$f":"Tabel3[[#This Row],[Healthcare Products]]","v":"P"},{"$f":"Tabel3[[#This Row],[Medical Devices]]","v":"Q"},{"$f":"Tabel3[[#This Row],[Batteries]]","v":"R"},{"$f":"Tabel3[[#This Row],[Light Bulbs]]","v":"S"},{"$f":"Tabel3[[#This Row],[Other Categories]]","v":"T"}]
[{"$f":"VLOOKUP(Tabel3[[#This Row],[GAE ID]],'BES EN'!A:AJ,36,FALSE)","v":"Packaging material thickness"},{"$f":"Tabel3[[#This Row],[GDSN-naam]]","v":"packagingMaterialThickness"},{"$f":"Tabel3[[#This Row],[GDM Verplicht / Conditioneel]]","v":"Optional"},{"$f":"Tabel3[[#This Row],[DMS controle]]","v":0},{"$f":"Tabel3[[#This Row],[BMS ID]]","v":2218},{"$f":"Tabel3[[#This Row],[Formaat]]","v":"n..15"},{"$f":"Tabel3[[#This Row],[X Path]]","v":"/catalogue_item_notification:catalogueItemNotificationMessage/transaction/documentCommand/catalogue_item_notification:catalogueItemNotification/catalogueItem/tradeItem/tradeItemInformation/extension/*[namespace-uri()='urn:gs1:gdsn:packaging_information:xsd:3' and local-name()='packagingInformationModule']/packaging/packagingMaterial/packagingMaterialThickness"},{"$f":"Tabel3[[#This Row],[GDM laag]]","v":"Local"},{"$f":"VLOOKUP(Tabel3[[#This Row],[GAE ID]],'BES EN'!A:AJ,27,FALSE)","v":"Mandatory if 'Packaging material type code' is equal to METAL_STAINLESS_STEEL, METAL_STEEL or METAL_ALUMINUM"},null,{"$f":"Tabel3[[#This Row],[Dairy, Refrigerated & Frozen]]","v":"A"},{"$f":"Tabel3[[#This Row],[Deli & Prepared]]","v":"B"},{"$f":"Tabel3[[#This Row],[Fresh Meat]]","v":"C"},{"$f":"Tabel3[[#This Row],[Fresh Fish]]","v":"D"},{"$f":"Tabel3[[#This Row],[Fresh Fruits & Vegetables]]","v":"E"},{"$f":"Tabel3[[#This Row],[Grocery]]","v":"F"},{"$f":"Tabel3[[#This Row],[Cleaners]]","v":"G"},{"$f":"Tabel3[[#This Row],[Disposables]]","v":"H"},{"$f":"Tabel3[[#This Row],[Beauty & Personal Care]]","v":"I"},{"$f":"Tabel3[[#This Row],[Petfood]]","v":"J"},{"$f":"Tabel3[[#This Row],[Alcoholic Beverages]]","v":"K"},{"$f":"Tabel3[[#This Row],[Tobacco]]","v":"L"},{"$f":"Tabel3[[#This Row],[Self-care medicines]]","v":"M"},{"$f":"Tabel3[[#This Row],[Special Food]]","v":"N"},{"$f":"Tabel3[[#This Row],[Food Supplements]]","v":"O"},{"$f":"Tabel3[[#This Row],[Healthcare Products]]","v":"P"},{"$f":"Tabel3[[#This Row],[Medical Devices]]","v":"Q"},{"$f":"Tabel3[[#This Row],[Batteries]]","v":"R"},{"$f":"Tabel3[[#This Row],[Light Bulbs]]","v":"S"},{"$f":"Tabel3[[#This Row],[Other Categories]]","v":"T"}]
[{"$f":"VLOOKUP(Tabel3[[#This Row],[GAE ID]],'BES EN'!A:AJ,36,FALSE)","v":"Packaging material thickness UOM"},{"$f":"Tabel3[[#This Row],[GDSN-naam]]","v":"packagingMaterialThickness/@measurementUnitCode"},{"$f":"Tabel3[[#This Row],[GDM Verplicht / Conditioneel]]","v":"Optional"},{"$f":"Tabel3[[#This Row],[DMS controle]]","v":0},{"$f":"Tabel3[[#This Row],[BMS ID]]","v":2219},{"$f":"Tabel3[[#This Row],[Formaat]]","v":"Defined values"},{"$f":"Tabel3[[#This Row],[X Path]]","v":"/catalogue_item_notification:catalogueItemNotificationMessage/transaction/documentCommand/catalogue_item_notification:catalogueItemNotification/catalogueItem/tradeItem/tradeItemInformation/extension/*[namespace-uri()='urn:gs1:gdsn:packaging_information:xsd:3' and local-name()='packagingInformationModule']/packaging/packagingMaterial/packagingMaterialThickness/@measurementUnitCode"},{"$f":"Tabel3[[#This Row],[GDM laag]]","v":"Local"},{"$f":"VLOOKUP(Tabel3[[#This Row],[GAE ID]],'BES EN'!A:AJ,27,FALSE)","v":"Mandatory if 'Packaging material thickness' is populated"},null,{"$f":"Tabel3[[#This Row],[Dairy, Refrigerated & Frozen]]","v":"A"},{"$f":"Tabel3[[#This Row],[Deli & Prepared]]","v":"B"},{"$f":"Tabel3[[#This Row],[Fresh Meat]]","v":"C"},{"$f":"Tabel3[[#This Row],[Fresh Fish]]","v":"D"},{"$f":"Tabel3[[#This Row],[Fresh Fruits & Vegetables]]","v":"E"},{"$f":"Tabel3[[#This Row],[Grocery]]","v":"F"},{"$f":"Tabel3[[#This Row],[Cleaners]]","v":"G"},{"$f":"Tabel3[[#This Row],[Disposables]]","v":"H"},{"$f":"Tabel3[[#This Row],[Beauty & Personal Care]]","v":"I"},{"$f":"Tabel3[[#This Row],[Petfood]]","v":"J"},{"$f":"Tabel3[[#This Row],[Alcoholic Beverages]]","v":"K"},{"$f":"Tabel3[[#This Row],[Tobacco]]","v":"L"},{"$f":"Tabel3[[#This Row],[Self-care medicines]]","v":"M"},{"$f":"Tabel3[[#This Row],[Special Food]]","v":"N"},{"$f":"Tabel3[[#This Row],[Food Supplements]]","v":"O"},{"$f":"Tabel3[[#This Row],[Healthcare Products]]","v":"P"},{"$f":"Tabel3[[#This Row],[Medical Devices]]","v":"Q"},{"$f":"Tabel3[[#This Row],[Batteries]]","v":"R"},{"$f":"Tabel3[[#This Row],[Light Bulbs]]","v":"S"},{"$f":"Tabel3[[#This Row],[Other Categories]]","v":"T"}]
[{"$f":"VLOOKUP(Tabel3[[#This Row],[GAE ID]],'BES EN'!A:AJ,36,FALSE)","v":"Packaging material colour code reference"},{"$f":"Tabel3[[#This Row],[GDSN-naam]]","v":"packagingMaterialColourCodeReference"},{"$f":"Tabel3[[#This Row],[GDM Verplicht / Conditioneel]]","v":"Optional"},{"$f":"Tabel3[[#This Row],[DMS controle]]","v":0},{"$f":"Tabel3[[#This Row],[BMS ID]]","v":2228},{"$f":"Tabel3[[#This Row],[Formaat]]","v":"Defined values"},{"$f":"Tabel3[[#This Row],[X Path]]","v":"/catalogue_item_notification:catalogueItemNotificationMessage/transaction/documentCommand/catalogue_item_notification:catalogueItemNotification/catalogueItem/tradeItem/tradeItemInformation/extension/*[namespace-uri()='urn:gs1:gdsn:packaging_information:xsd:3' and local-name()='packagingInformationModule']/packaging/packagingMaterial/packagingMaterialColourCodeReference"},{"$f":"Tabel3[[#This Row],[GDM laag]]","v":"Local"},{"$f":"VLOOKUP(Tabel3[[#This Row],[GAE ID]],'BES EN'!A:AJ,27,FALSE)","v":"Mandatory if 'Packaging material type code' is POLYMER_PET."},null,{"$f":"Tabel3[[#This Row],[Dairy, Refrigerated & Frozen]]","v":"A"},{"$f":"Tabel3[[#This Row],[Deli & Prepared]]","v":"B"},{"$f":"Tabel3[[#This Row],[Fresh Meat]]","v":"C"},{"$f":"Tabel3[[#This Row],[Fresh Fish]]","v":"D"},{"$f":"Tabel3[[#This Row],[Fresh Fruits & Vegetables]]","v":"E"},{"$f":"Tabel3[[#This Row],[Grocery]]","v":"F"},{"$f":"Tabel3[[#This Row],[Cleaners]]","v":"G"},{"$f":"Tabel3[[#This Row],[Disposables]]","v":"H"},{"$f":"Tabel3[[#This Row],[Beauty & Personal Care]]","v":"I"},{"$f":"Tabel3[[#This Row],[Petfood]]","v":"J"},{"$f":"Tabel3[[#This Row],[Alcoholic Beverages]]","v":"K"},{"$f":"Tabel3[[#This Row],[Tobacco]]","v":"L"},{"$f":"Tabel3[[#This Row],[Self-care medicines]]","v":"M"},{"$f":"Tabel3[[#This Row],[Special Food]]","v":"N"},{"$f":"Tabel3[[#This Row],[Food Supplements]]","v":"O"},{"$f":"Tabel3[[#This Row],[Healthcare Products]]","v":"P"},{"$f":"Tabel3[[#This Row],[Medical Devices]]","v":"Q"},{"$f":"Tabel3[[#This Row],[Batteries]]","v":"R"},{"$f":"Tabel3[[#This Row],[Light Bulbs]]","v":"S"},{"$f":"Tabel3[[#This Row],[Other Categories]]","v":"T"}]
[{"$f":"VLOOKUP(Tabel3[[#This Row],[GAE ID]],'BES EN'!A:AJ,36,FALSE)","v":"Is packaging material recoverable"},{"$f":"Tabel3[[#This Row],[GDSN-naam]]","v":"isPackagingMaterialRecoverable"},{"$f":"Tabel3[[#This Row],[GDM Verplicht / Conditioneel]]","v":"Optional"},{"$f":"Tabel3[[#This Row],[DMS controle]]","v":0},{"$f":"Tabel3[[#This Row],[BMS ID]]","v":2207},{"$f":"Tabel3[[#This Row],[Formaat]]","v":"Defined values"},{"$f":"Tabel3[[#This Row],[X Path]]","v":"/catalogue_item_notification:catalogueItemNotificationMessage/transaction/documentCommand/catalogue_item_notification:catalogueItemNotification/catalogueItem/tradeItem/tradeItemInformation/extension/*[namespace-uri()='urn:gs1:gdsn:packaging_information:xsd:3' and local-name()='packagingInformationModule']/packaging/packagingMaterial/isPackagingMaterialRecoverable"},{"$f":"Tabel3[[#This Row],[GDM laag]]","v":"Local"},{"$f":"VLOOKUP(Tabel3[[#This Row],[GAE ID]],'BES EN'!A:AJ,27,FALSE)","v":"Mandatory if 'Packaging material type code' is GLASS or GLASS_COLOURED."},null,{"$f":"Tabel3[[#This Row],[Dairy, Refrigerated & Frozen]]","v":"A"},{"$f":"Tabel3[[#This Row],[Deli & Prepared]]","v":"B"},{"$f":"Tabel3[[#This Row],[Fresh Meat]]","v":"C"},{"$f":"Tabel3[[#This Row],[Fresh Fish]]","v":"D"},{"$f":"Tabel3[[#This Row],[Fresh Fruits & Vegetables]]","v":"E"},{"$f":"Tabel3[[#This Row],[Grocery]]","v":"F"},{"$f":"Tabel3[[#This Row],[Cleaners]]","v":"G"},{"$f":"Tabel3[[#This Row],[Disposables]]","v":"H"},{"$f":"Tabel3[[#This Row],[Beauty & Personal Care]]","v":"I"},{"$f":"Tabel3[[#This Row],[Petfood]]","v":"J"},{"$f":"Tabel3[[#This Row],[Alcoholic Beverages]]","v":"K"},{"$f":"Tabel3[[#This Row],[Tobacco]]","v":"L"},{"$f":"Tabel3[[#This Row],[Self-care medicines]]","v":"M"},{"$f":"Tabel3[[#This Row],[Special Food]]","v":"N"},{"$f":"Tabel3[[#This Row],[Food Supplements]]","v":"O"},{"$f":"Tabel3[[#This Row],[Healthcare Products]]","v":"P"},{"$f":"Tabel3[[#This Row],[Medical Devices]]","v":"Q"},{"$f":"Tabel3[[#This Row],[Batteries]]","v":"R"},{"$f":"Tabel3[[#This Row],[Light Bulbs]]","v":"S"},{"$f":"Tabel3[[#This Row],[Other Categories]]","v":"T"}]
[{"$f":"VLOOKUP(Tabel3[[#This Row],[GAE ID]],'BES EN'!A:AJ,36,FALSE)","v":"Composite material detail packaging material type code"},{"$f":"Tabel3[[#This Row],[GDSN-naam]]","v":"packagingMaterialTypeCode"},{"$f":"Tabel3[[#This Row],[GDM Verplicht / Conditioneel]]","v":"Optional"},{"$f":"Tabel3[[#This Row],[DMS controle]]","v":0},{"$f":"Tabel3[[#This Row],[BMS ID]]","v":2237},{"$f":"Tabel3[[#This Row],[Formaat]]","v":"Defined values"},{"$f":"Tabel3[[#This Row],[X Path]]","v":"/catalogue_item_notification:catalogueItemNotificationMessage/transaction/documentCommand/catalogue_item_notification:catalogueItemNotification/catalogueItem/tradeItem/tradeItemInformation/extension/*[namespace-uri()='urn:gs1:gdsn:packaging_information:xsd:3' and local-name()='packagingInformationModule']/packaging/packagingMaterial/compositeMaterialDetail/packagingMaterialTypeCode"},{"$f":"Tabel3[[#This Row],[GDM laag]]","v":"Local"},{"$f":"VLOOKUP(Tabel3[[#This Row],[GAE ID]],'BES EN'!A:AJ,27,FALSE)","v":"Mandatory if 'Packaging material type code' is COMPOSITE."},null,{"$f":"Tabel3[[#This Row],[Dairy, Refrigerated & Frozen]]","v":"A"},{"$f":"Tabel3[[#This Row],[Deli & Prepared]]","v":"B"},{"$f":"Tabel3[[#This Row],[Fresh Meat]]","v":"C"},{"$f":"Tabel3[[#This Row],[Fresh Fish]]","v":"D"},{"$f":"Tabel3[[#This Row],[Fresh Fruits & Vegetables]]","v":"E"},{"$f":"Tabel3[[#This Row],[Grocery]]","v":"F"},{"$f":"Tabel3[[#This Row],[Cleaners]]","v":"G"},{"$f":"Tabel3[[#This Row],[Disposables]]","v":"H"},{"$f":"Tabel3[[#This Row],[Beauty & Personal Care]]","v":"I"},{"$f":"Tabel3[[#This Row],[Petfood]]","v":"J"},{"$f":"Tabel3[[#This Row],[Alcoholic Beverages]]","v":"K"},{"$f":"Tabel3[[#This Row],[Tobacco]]","v":"L"},{"$f":"Tabel3[[#This Row],[Self-care medicines]]","v":"M"},{"$f":"Tabel3[[#This Row],[Special Food]]","v":"N"},{"$f":"Tabel3[[#This Row],[Food Supplements]]","v":"O"},{"$f":"Tabel3[[#This Row],[Healthcare Products]]","v":"P"},{"$f":"Tabel3[[#This Row],[Medical Devices]]","v":"Q"},{"$f":"Tabel3[[#This Row],[Batteries]]","v":"R"},{"$f":"Tabel3[[#This Row],[Light Bulbs]]","v":"S"},{"$f":"Tabel3[[#This Row],[Other Categories]]","v":"T"}]
[{"$f":"VLOOKUP(Tabel3[[#This Row],[GAE ID]],'BES EN'!A:AJ,36,FALSE)","v":"Composite material detail packaging material composition quantity"},{"$f":"Tabel3[[#This Row],[GDSN-naam]]","v":"packagingMaterialCompositionQuantity"},{"$f":"Tabel3[[#This Row],[GDM Verplicht / Conditioneel]]","v":"Optional"},{"$f":"Tabel3[[#This Row],[DMS controle]]","v":0},{"$f":"Tabel3[[#This Row],[BMS ID]]","v":2238},{"$f":"Tabel3[[#This Row],[Formaat]]","v":"n..15"},{"$f":"Tabel3[[#This Row],[X Path]]","v":"/catalogue_item_notification:catalogueItemNotificationMessage/transaction/documentCommand/catalogue_item_notification:catalogueItemNotification/catalogueItem/tradeItem/tradeItemInformation/extension/*[namespace-uri()='urn:gs1:gdsn:packaging_information:xsd:3' and local-name()='packagingInformationModule']/packaging/packagingMaterial/compositeMaterialDetail/packagingMaterialCompositionQuantity"},{"$f":"Tabel3[[#This Row],[GDM laag]]","v":"Local"},{"$f":"VLOOKUP(Tabel3[[#This Row],[GAE ID]],'BES EN'!A:AJ,27,FALSE)","v":"Mandatory if 'Composite material detail packaging material type code' is populated."},null,{"$f":"Tabel3[[#This Row],[Dairy, Refrigerated & Frozen]]","v":"A"},{"$f":"Tabel3[[#This Row],[Deli & Prepared]]","v":"B"},{"$f":"Tabel3[[#This Row],[Fresh Meat]]","v":"C"},{"$f":"Tabel3[[#This Row],[Fresh Fish]]","v":"D"},{"$f":"Tabel3[[#This Row],[Fresh Fruits & Vegetables]]","v":"E"},{"$f":"Tabel3[[#This Row],[Grocery]]","v":"F"},{"$f":"Tabel3[[#This Row],[Cleaners]]","v":"G"},{"$f":"Tabel3[[#This Row],[Disposables]]","v":"H"},{"$f":"Tabel3[[#This Row],[Beauty & Personal Care]]","v":"I"},{"$f":"Tabel3[[#This Row],[Petfood]]","v":"J"},{"$f":"Tabel3[[#This Row],[Alcoholic Beverages]]","v":"K"},{"$f":"Tabel3[[#This Row],[Tobacco]]","v":"L"},{"$f":"Tabel3[[#This Row],[Self-care medicines]]","v":"M"},{"$f":"Tabel3[[#This Row],[Special Food]]","v":"N"},{"$f":"Tabel3[[#This Row],[Food Supplements]]","v":"O"},{"$f":"Tabel3[[#This Row],[Healthcare Products]]","v":"P"},{"$f":"Tabel3[[#This Row],[Medical Devices]]","v":"Q"},{"$f":"Tabel3[[#This Row],[Batteries]]","v":"R"},{"$f":"Tabel3[[#This Row],[Light Bulbs]]","v":"S"},{"$f":"Tabel3[[#This Row],[Other Categories]]","v":"T"}]
[{"$f":"VLOOKUP(Tabel3[[#This Row],[GAE ID]],'BES EN'!A:AJ,36,FALSE)","v":"Composite material detail packaging material composition quantity UOM"},{"$f":"Tabel3[[#This Row],[GDSN-naam]]","v":"packagingMaterialCompositionQuantity/@measurementUnitCode"},{"$f":"Tabel3[[#This Row],[GDM Verplicht / Conditioneel]]","v":"Optional"},{"$f":"Tabel3[[#This Row],[DMS controle]]","v":0},{"$f":"Tabel3[[#This Row],[BMS ID]]","v":2239},{"$f":"Tabel3[[#This Row],[Formaat]]","v":"Defined values"},{"$f":"Tabel3[[#This Row],[X Path]]","v":"/catalogue_item_notification:catalogueItemNotificationMessage/transaction/documentCommand/catalogue_item_notification:catalogueItemNotification/catalogueItem/tradeItem/tradeItemInformation/extension/*[namespace-uri()='urn:gs1:gdsn:packaging_information:xsd:3' and local-name()='packagingInformationModule']/packaging/packagingMaterial/compositeMaterialDetail/packagingMaterialCompositionQuantity/@measurementUnitCode"},{"$f":"Tabel3[[#This Row],[GDM laag]]","v":"Local"},{"$f":"VLOOKUP(Tabel3[[#This Row],[GAE ID]],'BES EN'!A:AJ,27,FALSE)","v":"Mandatory if 'Composite material detail packaging material composition quantity' is populated"},null,{"$f":"Tabel3[[#This Row],[Dairy, Refrigerated & Frozen]]","v":"A"},{"$f":"Tabel3[[#This Row],[Deli & Prepared]]","v":"B"},{"$f":"Tabel3[[#This Row],[Fresh Meat]]","v":"C"},{"$f":"Tabel3[[#This Row],[Fresh Fish]]","v":"D"},{"$f":"Tabel3[[#This Row],[Fresh Fruits & Vegetables]]","v":"E"},{"$f":"Tabel3[[#This Row],[Grocery]]","v":"F"},{"$f":"Tabel3[[#This Row],[Cleaners]]","v":"G"},{"$f":"Tabel3[[#This Row],[Disposables]]","v":"H"},{"$f":"Tabel3[[#This Row],[Beauty & Personal Care]]","v":"I"},{"$f":"Tabel3[[#This Row],[Petfood]]","v":"J"},{"$f":"Tabel3[[#This Row],[Alcoholic Beverages]]","v":"K"},{"$f":"Tabel3[[#This Row],[Tobacco]]","v":"L"},{"$f":"Tabel3[[#This Row],[Self-care medicines]]","v":"M"},{"$f":"Tabel3[[#This Row],[Special Food]]","v":"N"},{"$f":"Tabel3[[#This Row],[Food Supplements]]","v":"O"},{"$f":"Tabel3[[#This Row],[Healthcare Products]]","v":"P"},{"$f":"Tabel3[[#This Row],[Medical Devices]]","v":"Q"},{"$f":"Tabel3[[#This Row],[Batteries]]","v":"R"},{"$f":"Tabel3[[#This Row],[Light Bulbs]]","v":"S"},{"$f":"Tabel3[[#This Row],[Other Categories]]","v":"T"}]
[{"$f":"VLOOKUP(Tabel3[[#This Row],[GAE ID]],'BES EN'!A:AJ,36,FALSE)","v":"Composite material detail packaging material thickness"},{"$f":"Tabel3[[#This Row],[GDSN-naam]]","v":"packagingMaterialThickness"},{"$f":"Tabel3[[#This Row],[GDM Verplicht / Conditioneel]]","v":"Optional"},{"$f":"Tabel3[[#This Row],[DMS controle]]","v":0},{"$f":"Tabel3[[#This Row],[BMS ID]]","v":2240},{"$f":"Tabel3[[#This Row],[Formaat]]","v":"n..15"},{"$f":"Tabel3[[#This Row],[X Path]]","v":"/catalogue_item_notification:catalogueItemNotificationMessage/transaction/documentCommand/catalogue_item_notification:catalogueItemNotification/catalogueItem/tradeItem/tradeItemInformation/extension/*[namespace-uri()='urn:gs1:gdsn:packaging_information:xsd:3' and local-name()='packagingInformationModule']/packaging/packagingMaterial/compositeMaterialDetail/packagingMaterialThickness"},{"$f":"Tabel3[[#This Row],[GDM laag]]","v":"Local"},{"$f":"VLOOKUP(Tabel3[[#This Row],[GAE ID]],'BES EN'!A:AJ,27,FALSE)","v":"Mandatory if 'Composite material detail packaging material type code' equals METAL_STAINLESS_STEEL, METAL_STEEL or METAL_ALUMINUM."},null,{"$f":"Tabel3[[#This Row],[Dairy, Refrigerated & Frozen]]","v":"A"},{"$f":"Tabel3[[#This Row],[Deli & Prepared]]","v":"B"},{"$f":"Tabel3[[#This Row],[Fresh Meat]]","v":"C"},{"$f":"Tabel3[[#This Row],[Fresh Fish]]","v":"D"},{"$f":"Tabel3[[#This Row],[Fresh Fruits & Vegetables]]","v":"E"},{"$f":"Tabel3[[#This Row],[Grocery]]","v":"F"},{"$f":"Tabel3[[#This Row],[Cleaners]]","v":"G"},{"$f":"Tabel3[[#This Row],[Disposables]]","v":"H"},{"$f":"Tabel3[[#This Row],[Beauty & Personal Care]]","v":"I"},{"$f":"Tabel3[[#This Row],[Petfood]]","v":"J"},{"$f":"Tabel3[[#This Row],[Alcoholic Beverages]]","v":"K"},{"$f":"Tabel3[[#This Row],[Tobacco]]","v":"L"},{"$f":"Tabel3[[#This Row],[Self-care medicines]]","v":"M"},{"$f":"Tabel3[[#This Row],[Special Food]]","v":"N"},{"$f":"Tabel3[[#This Row],[Food Supplements]]","v":"O"},{"$f":"Tabel3[[#This Row],[Healthcare Products]]","v":"P"},{"$f":"Tabel3[[#This Row],[Medical Devices]]","v":"Q"},{"$f":"Tabel3[[#This Row],[Batteries]]","v":"R"},{"$f":"Tabel3[[#This Row],[Light Bulbs]]","v":"S"},{"$f":"Tabel3[[#This Row],[Other Categories]]","v":"T"}]
[{"$f":"VLOOKUP(Tabel3[[#This Row],[GAE ID]],'BES EN'!A:AJ,36,FALSE)","v":"Composite material detail packaging material thickness UOM"},{"$f":"Tabel3[[#This Row],[GDSN-naam]]","v":"packagingMaterialThickness/@measurementUnitCode"},{"$f":"Tabel3[[#This Row],[GDM Verplicht / Conditioneel]]","v":"Optional"},{"$f":"Tabel3[[#This Row],[DMS controle]]","v":0},{"$f":"Tabel3[[#This Row],[BMS ID]]","v":2241},{"$f":"Tabel3[[#This Row],[Formaat]]","v":"Defined values"},{"$f":"Tabel3[[#This Row],[X Path]]","v":"/catalogue_item_notification:catalogueItemNotificationMessage/transaction/documentCommand/catalogue_item_notification:catalogueItemNotification/catalogueItem/tradeItem/tradeItemInformation/extension/*[namespace-uri()='urn:gs1:gdsn:packaging_information:xsd:3' and local-name()='packagingInformationModule']/packaging/packagingMaterial/compositeMaterialDetail/packagingMaterialThickness/@measurementUnitCode"},{"$f":"Tabel3[[#This Row],[GDM laag]]","v":"Local"},{"$f":"VLOOKUP(Tabel3[[#This Row],[GAE ID]],'BES EN'!A:AJ,27,FALSE)","v":"Mandatory if 'Composite material detail packaging material thickness' is populated"},null,{"$f":"Tabel3[[#This Row],[Dairy, Refrigerated & Frozen]]","v":"A"},{"$f":"Tabel3[[#This Row],[Deli & Prepared]]","v":"B"},{"$f":"Tabel3[[#This Row],[Fresh Meat]]","v":"C"},{"$f":"Tabel3[[#This Row],[Fresh Fish]]","v":"D"},{"$f":"Tabel3[[#This Row],[Fresh Fruits & Vegetables]]","v":"E"},{"$f":"Tabel3[[#This Row],[Grocery]]","v":"F"},{"$f":"Tabel3[[#This Row],[Cleaners]]","v":"G"},{"$f":"Tabel3[[#This Row],[Disposables]]","v":"H"},{"$f":"Tabel3[[#This Row],[Beauty & Personal Care]]","v":"I"},{"$f":"Tabel3[[#This Row],[Petfood]]","v":"J"},{"$f":"Tabel3[[#This Row],[Alcoholic Beverages]]","v":"K"},{"$f":"Tabel3[[#This Row],[Tobacco]]","v":"L"},{"$f":"Tabel3[[#This Row],[Self-care medicines]]","v":"M"},{"$f":"Tabel3[[#This Row],[Special Food]]","v":"N"},{"$f":"Tabel3[[#This Row],[Food Supplements]]","v":"O"},{"$f":"Tabel3[[#This Row],[Healthcare Products]]","v":"P"},{"$f":"Tabel3[[#This Row],[Medical Devices]]","v":"Q"},{"$f":"Tabel3[[#This Row],[Batteries]]","v":"R"},{"$f":"Tabel3[[#This Row],[Light Bulbs]]","v":"S"},{"$f":"Tabel3[[#This Row],[Other Categories]]","v":"T"}]
["Returnable package",null,{"$f":"Tabel3[[#This Row],[GDM Verplicht / Conditioneel]]","v":0},null,null,null,null,null,null,null,"A","B","C","D","E","F","G","H","I","J","K","L","M","N","O","P","Q","R","S","T"]
[{"$f":"VLOOKUP(Tabel3[[#This Row],[GAE ID]],'BES EN'!A:AJ,36,FALSE)","v":"Packaging marked returnable indicator"},{"$f":"Tabel3[[#This Row],[GDSN-naam]]","v":"isPackagingMarkedReturnable"},{"$f":"Tabel3[[#This Row],[GDM Verplicht / Conditioneel]]","v":"Conditional"},{"$f":"Tabel3[[#This Row],[DMS controle]]","v":"X"},{"$f":"Tabel3[[#This Row],[BMS ID]]","v":2308},{"$f":"Tabel3[[#This Row],[Formaat]]","v":"Boolean"},{"$f":"Tabel3[[#This Row],[X Path]]","v":"/catalogue_item_notification:catalogueItemNotificationMessage/transaction/documentCommand/catalogue_item_notification:catalogueItemNotification/catalogueItem/tradeItem/tradeItemInformation/extension/*[namespace-uri()='urn:gs1:gdsn:packaging_marking:xsd:3' and local-name()='packagingMarkingModule']/packagingMarking/isPackagingMarkedReturnable"},{"$f":"Tabel3[[#This Row],[GDM laag]]","v":"Global"},{"$f":"VLOOKUP(Tabel3[[#This Row],[GAE ID]],'BES EN'!A:AJ,27,FALSE)","v":"Mandatory if the product packaging is returnable."},null,{"$f":"Tabel3[[#This Row],[Dairy, Refrigerated & Frozen]]","v":"A"},{"$f":"Tabel3[[#This Row],[Deli & Prepared]]","v":"B"},{"$f":"Tabel3[[#This Row],[Fresh Meat]]","v":"C"},{"$f":"Tabel3[[#This Row],[Fresh Fish]]","v":"D"},{"$f":"Tabel3[[#This Row],[Fresh Fruits & Vegetables]]","v":"E"},{"$f":"Tabel3[[#This Row],[Grocery]]","v":"F"},{"$f":"Tabel3[[#This Row],[Cleaners]]","v":"G"},{"$f":"Tabel3[[#This Row],[Disposables]]","v":"H"},{"$f":"Tabel3[[#This Row],[Beauty & Personal Care]]","v":"I"},{"$f":"Tabel3[[#This Row],[Petfood]]","v":"J"},{"$f":"Tabel3[[#This Row],[Alcoholic Beverages]]","v":"K"},{"$f":"Tabel3[[#This Row],[Tobacco]]","v":"L"},{"$f":"Tabel3[[#This Row],[Self-care medicines]]","v":"M"},{"$f":"Tabel3[[#This Row],[Special Food]]","v":"N"},{"$f":"Tabel3[[#This Row],[Food Supplements]]","v":"O"},{"$f":"Tabel3[[#This Row],[Healthcare Products]]","v":"P"},{"$f":"Tabel3[[#This Row],[Medical Devices]]","v":"Q"},{"$f":"Tabel3[[#This Row],[Batteries]]","v":"R"},{"$f":"Tabel3[[#This Row],[Light Bulbs]]","v":"S"},{"$f":"Tabel3[[#This Row],[Other Categories]]","v":"T"}]
[{"$f":"VLOOKUP(Tabel3[[#This Row],[GAE ID]],'BES EN'!A:AJ,36,FALSE)","v":"Package deposit identifier"},{"$f":"Tabel3[[#This Row],[GDSN-naam]]","v":"returnablePackageDepositIdentification"},{"$f":"Tabel3[[#This Row],[GDM Verplicht / Conditioneel]]","v":"Conditional"},{"$f":"Tabel3[[#This Row],[DMS controle]]","v":0},{"$f":"Tabel3[[#This Row],[BMS ID]]","v":2263},{"$f":"Tabel3[[#This Row],[Formaat]]","v":"an..80"},{"$f":"Tabel3[[#This Row],[X Path]]","v":"/catalogue_item_notification:catalogueItemNotificationMessage/transaction/documentCommand/catalogue_item_notification:catalogueItemNotification/catalogueItem/tradeItem/tradeItemInformation/extension/*[namespace-uri()='urn:gs1:gdsn:packaging_information:xsd:3' and local-name()='packagingInformationModule']/packaging/packageDeposit/returnablePackageDepositIdentification"},{"$f":"Tabel3[[#This Row],[GDM laag]]","v":"Regional EU"},{"$f":"VLOOKUP(Tabel3[[#This Row],[GAE ID]],'BES EN'!A:AJ,27,FALSE)","v":"Mandatory if a GTIN is used to identify the returnable package."},null,{"$f":"Tabel3[[#This Row],[Dairy, Refrigerated & Frozen]]","v":"A"},{"$f":"Tabel3[[#This Row],[Deli & Prepared]]","v":"B"},{"$f":"Tabel3[[#This Row],[Fresh Meat]]","v":"C"},{"$f":"Tabel3[[#This Row],[Fresh Fish]]","v":"D"},{"$f":"Tabel3[[#This Row],[Fresh Fruits & Vegetables]]","v":"E"},{"$f":"Tabel3[[#This Row],[Grocery]]","v":"F"},{"$f":"Tabel3[[#This Row],[Cleaners]]","v":"G"},{"$f":"Tabel3[[#This Row],[Disposables]]","v":"H"},{"$f":"Tabel3[[#This Row],[Beauty & Personal Care]]","v":"I"},{"$f":"Tabel3[[#This Row],[Petfood]]","v":"J"},{"$f":"Tabel3[[#This Row],[Alcoholic Beverages]]","v":"K"},{"$f":"Tabel3[[#This Row],[Tobacco]]","v":"L"},{"$f":"Tabel3[[#This Row],[Self-care medicines]]","v":"M"},{"$f":"Tabel3[[#This Row],[Special Food]]","v":"N"},{"$f":"Tabel3[[#This Row],[Food Supplements]]","v":"O"},{"$f":"Tabel3[[#This Row],[Healthcare Products]]","v":"P"},{"$f":"Tabel3[[#This Row],[Medical Devices]]","v":"Q"},{"$f":"Tabel3[[#This Row],[Batteries]]","v":"R"},{"$f":"Tabel3[[#This Row],[Light Bulbs]]","v":"S"},{"$f":"Tabel3[[#This Row],[Other Categories]]","v":"T"}]
[{"$f":"VLOOKUP(Tabel3[[#This Row],[GAE ID]],'BES EN'!A:AJ,36,FALSE)","v":"Returnable package deposit amount"},{"$f":"Tabel3[[#This Row],[GDSN-naam]]","v":"returnablePackageDepositAmount"},{"$f":"Tabel3[[#This Row],[GDM Verplicht / Conditioneel]]","v":"Conditional"},{"$f":"Tabel3[[#This Row],[DMS controle]]","v":0},{"$f":"Tabel3[[#This Row],[BMS ID]]","v":2261},{"$f":"Tabel3[[#This Row],[Formaat]]","v":"n..18"},{"$f":"Tabel3[[#This Row],[X Path]]","v":"/catalogue_item_notification:catalogueItemNotificationMessage/transaction/documentCommand/catalogue_item_notification:catalogueItemNotification/catalogueItem/tradeItem/tradeItemInformation/extension/*[namespace-uri()='urn:gs1:gdsn:packaging_information:xsd:3' and local-name()='packagingInformationModule']/packaging/packageDeposit/returnablePackageDepositAmount"},{"$f":"Tabel3[[#This Row],[GDM laag]]","v":"Regional EU"},{"$f":"VLOOKUP(Tabel3[[#This Row],[GAE ID]],'BES EN'!A:AJ,27,FALSE)","v":"Mandatory for returnable packaging supplied with goods to buyers in the Netherlands, Belgium and Luxembourg."},null,{"$f":"Tabel3[[#This Row],[Dairy, Refrigerated & Frozen]]","v":"A"},{"$f":"Tabel3[[#This Row],[Deli & Prepared]]","v":"B"},{"$f":"Tabel3[[#This Row],[Fresh Meat]]","v":"C"},{"$f":"Tabel3[[#This Row],[Fresh Fish]]","v":"D"},{"$f":"Tabel3[[#This Row],[Fresh Fruits & Vegetables]]","v":"E"},{"$f":"Tabel3[[#This Row],[Grocery]]","v":"F"},{"$f":"Tabel3[[#This Row],[Cleaners]]","v":"G"},{"$f":"Tabel3[[#This Row],[Disposables]]","v":"H"},{"$f":"Tabel3[[#This Row],[Beauty & Personal Care]]","v":"I"},{"$f":"Tabel3[[#This Row],[Petfood]]","v":"J"},{"$f":"Tabel3[[#This Row],[Alcoholic Beverages]]","v":"K"},{"$f":"Tabel3[[#This Row],[Tobacco]]","v":"L"},{"$f":"Tabel3[[#This Row],[Self-care medicines]]","v":"M"},{"$f":"Tabel3[[#This Row],[Special Food]]","v":"N"},{"$f":"Tabel3[[#This Row],[Food Supplements]]","v":"O"},{"$f":"Tabel3[[#This Row],[Healthcare Products]]","v":"P"},{"$f":"Tabel3[[#This Row],[Medical Devices]]","v":"Q"},{"$f":"Tabel3[[#This Row],[Batteries]]","v":"R"},{"$f":"Tabel3[[#This Row],[Light Bulbs]]","v":"S"},{"$f":"Tabel3[[#This Row],[Other Categories]]","v":"T"}]
[{"$f":"VLOOKUP(Tabel3[[#This Row],[GAE ID]],'BES EN'!A:AJ,36,FALSE)","v":"Returnable package deposit amount currency code"},{"$f":"Tabel3[[#This Row],[GDSN-naam]]","v":"returnablePackageDepositAmount/@currencyCode"},{"$f":"Tabel3[[#This Row],[GDM Verplicht / Conditioneel]]","v":"Conditional"},{"$f":"Tabel3[[#This Row],[DMS controle]]","v":0},{"$f":"Tabel3[[#This Row],[BMS ID]]","v":2262},{"$f":"Tabel3[[#This Row],[Formaat]]","v":"Defined values"},{"$f":"Tabel3[[#This Row],[X Path]]","v":"/catalogue_item_notification:catalogueItemNotificationMessage/transaction/documentCommand/catalogue_item_notification:catalogueItemNotification/catalogueItem/tradeItem/tradeItemInformation/extension/*[namespace-uri()='urn:gs1:gdsn:packaging_information:xsd:3' and local-name()='packagingInformationModule']/packaging/packageDeposit/returnablePackageDepositAmount/@currencyCode"},{"$f":"Tabel3[[#This Row],[GDM laag]]","v":"Regional EU"},{"$f":"VLOOKUP(Tabel3[[#This Row],[GAE ID]],'BES EN'!A:AJ,27,FALSE)","v":"Mandatory in case the 'Returnable package deposit amount' field is populated for the consumer unit."},null,{"$f":"Tabel3[[#This Row],[Dairy, Refrigerated & Frozen]]","v":"A"},{"$f":"Tabel3[[#This Row],[Deli & Prepared]]","v":"B"},{"$f":"Tabel3[[#This Row],[Fresh Meat]]","v":"C"},{"$f":"Tabel3[[#This Row],[Fresh Fish]]","v":"D"},{"$f":"Tabel3[[#This Row],[Fresh Fruits & Vegetables]]","v":"E"},{"$f":"Tabel3[[#This Row],[Grocery]]","v":"F"},{"$f":"Tabel3[[#This Row],[Cleaners]]","v":"G"},{"$f":"Tabel3[[#This Row],[Disposables]]","v":"H"},{"$f":"Tabel3[[#This Row],[Beauty & Personal Care]]","v":"I"},{"$f":"Tabel3[[#This Row],[Petfood]]","v":"J"},{"$f":"Tabel3[[#This Row],[Alcoholic Beverages]]","v":"K"},{"$f":"Tabel3[[#This Row],[Tobacco]]","v":"L"},{"$f":"Tabel3[[#This Row],[Self-care medicines]]","v":"M"},{"$f":"Tabel3[[#This Row],[Special Food]]","v":"N"},{"$f":"Tabel3[[#This Row],[Food Supplements]]","v":"O"},{"$f":"Tabel3[[#This Row],[Healthcare Products]]","v":"P"},{"$f":"Tabel3[[#This Row],[Medical Devices]]","v":"Q"},{"$f":"Tabel3[[#This Row],[Batteries]]","v":"R"},{"$f":"Tabel3[[#This Row],[Light Bulbs]]","v":"S"},{"$f":"Tabel3[[#This Row],[Other Categories]]","v":"T"}]
["Pallet information",null,{"$f":"Tabel3[[#This Row],[GDM Verplicht / Conditioneel]]","v":0},null,null,null,null,null,null,null,"A","B","C","D","E","F","G","H","I","J","K","L","M","N","O","P","Q","R","S","T"]
[{"$f":"VLOOKUP(Tabel3[[#This Row],[GAE ID]],'BES EN'!A:AJ,36,FALSE)","v":"Platform type code"},{"$f":"Tabel3[[#This Row],[GDSN-naam]]","v":"platformTypeCode"},{"$f":"Tabel3[[#This Row],[GDM Verplicht / Conditioneel]]","v":"Conditional"},{"$f":"Tabel3[[#This Row],[DMS controle]]","v":0},{"$f":"Tabel3[[#This Row],[BMS ID]]","v":2181},{"$f":"Tabel3[[#This Row],[Formaat]]","v":"Defined values"},{"$f":"Tabel3[[#This Row],[X Path]]","v":"/catalogue_item_notification:catalogueItemNotificationMessage/transaction/documentCommand/catalogue_item_notification:catalogueItemNotification/catalogueItem/tradeItem/tradeItemInformation/extension/*[namespace-uri()='urn:gs1:gdsn:packaging_information:xsd:3' and local-name()='packagingInformationModule']/packaging/platformTypeCode"},{"$f":"Tabel3[[#This Row],[GDM laag]]","v":"Regional EU"},{"$f":"VLOOKUP(Tabel3[[#This Row],[GAE ID]],'BES EN'!A:AJ,27,FALSE)","v":"Mandatory if this is the highest level in the packaging hierarchy."},null,{"$f":"Tabel3[[#This Row],[Dairy, Refrigerated & Frozen]]","v":"A"},{"$f":"Tabel3[[#This Row],[Deli & Prepared]]","v":"B"},{"$f":"Tabel3[[#This Row],[Fresh Meat]]","v":"C"},{"$f":"Tabel3[[#This Row],[Fresh Fish]]","v":"D"},{"$f":"Tabel3[[#This Row],[Fresh Fruits & Vegetables]]","v":"E"},{"$f":"Tabel3[[#This Row],[Grocery]]","v":"F"},{"$f":"Tabel3[[#This Row],[Cleaners]]","v":"G"},{"$f":"Tabel3[[#This Row],[Disposables]]","v":"H"},{"$f":"Tabel3[[#This Row],[Beauty & Personal Care]]","v":"I"},{"$f":"Tabel3[[#This Row],[Petfood]]","v":"J"},{"$f":"Tabel3[[#This Row],[Alcoholic Beverages]]","v":"K"},{"$f":"Tabel3[[#This Row],[Tobacco]]","v":"L"},{"$f":"Tabel3[[#This Row],[Self-care medicines]]","v":"M"},{"$f":"Tabel3[[#This Row],[Special Food]]","v":"N"},{"$f":"Tabel3[[#This Row],[Food Supplements]]","v":"O"},{"$f":"Tabel3[[#This Row],[Healthcare Products]]","v":"P"},{"$f":"Tabel3[[#This Row],[Medical Devices]]","v":"Q"},{"$f":"Tabel3[[#This Row],[Batteries]]","v":"R"},{"$f":"Tabel3[[#This Row],[Light Bulbs]]","v":"S"},{"$f":"Tabel3[[#This Row],[Other Categories]]","v":"T"}]
[{"$f":"VLOOKUP(Tabel3[[#This Row],[GAE ID]],'BES EN'!A:AJ,36,FALSE)","v":"Platform terms and conditions code"},{"$f":"Tabel3[[#This Row],[GDSN-naam]]","v":"platformTermsAndConditionsCode"},{"$f":"Tabel3[[#This Row],[GDM Verplicht / Conditioneel]]","v":"Conditional"},{"$f":"Tabel3[[#This Row],[DMS controle]]","v":0},{"$f":"Tabel3[[#This Row],[BMS ID]]","v":2180},{"$f":"Tabel3[[#This Row],[Formaat]]","v":"Defined values"},{"$f":"Tabel3[[#This Row],[X Path]]","v":"/catalogue_item_notification:catalogueItemNotificationMessage/transaction/documentCommand/catalogue_item_notification:catalogueItemNotification/catalogueItem/tradeItem/tradeItemInformation/extension/*[namespace-uri()='urn:gs1:gdsn:packaging_information:xsd:3' and local-name()='packagingInformationModule']/packaging/platformTermsAndConditionsCode"},{"$f":"Tabel3[[#This Row],[GDM laag]]","v":"Regional EU"},{"$f":"VLOOKUP(Tabel3[[#This Row],[GAE ID]],'BES EN'!A:AJ,27,FALSE)","v":" "},null,{"$f":"Tabel3[[#This Row],[Dairy, Refrigerated & Frozen]]","v":"A"},{"$f":"Tabel3[[#This Row],[Deli & Prepared]]","v":"B"},{"$f":"Tabel3[[#This Row],[Fresh Meat]]","v":"C"},{"$f":"Tabel3[[#This Row],[Fresh Fish]]","v":"D"},{"$f":"Tabel3[[#This Row],[Fresh Fruits & Vegetables]]","v":"E"},{"$f":"Tabel3[[#This Row],[Grocery]]","v":"F"},{"$f":"Tabel3[[#This Row],[Cleaners]]","v":"G"},{"$f":"Tabel3[[#This Row],[Disposables]]","v":"H"},{"$f":"Tabel3[[#This Row],[Beauty & Personal Care]]","v":"I"},{"$f":"Tabel3[[#This Row],[Petfood]]","v":"J"},{"$f":"Tabel3[[#This Row],[Alcoholic Beverages]]","v":"K"},{"$f":"Tabel3[[#This Row],[Tobacco]]","v":"L"},{"$f":"Tabel3[[#This Row],[Self-care medicines]]","v":"M"},{"$f":"Tabel3[[#This Row],[Special Food]]","v":"N"},{"$f":"Tabel3[[#This Row],[Food Supplements]]","v":"O"},{"$f":"Tabel3[[#This Row],[Healthcare Products]]","v":"P"},{"$f":"Tabel3[[#This Row],[Medical Devices]]","v":"Q"},{"$f":"Tabel3[[#This Row],[Batteries]]","v":"R"},{"$f":"Tabel3[[#This Row],[Light Bulbs]]","v":"S"},{"$f":"Tabel3[[#This Row],[Other Categories]]","v":"T"}]
[{"$f":"VLOOKUP(Tabel3[[#This Row],[GAE ID]],'BES EN'!A:AJ,36,FALSE)","v":"Stacking factor"},{"$f":"Tabel3[[#This Row],[GDSN-naam]]","v":"stackingFactor"},{"$f":"Tabel3[[#This Row],[GDM Verplicht / Conditioneel]]","v":"Conditional"},{"$f":"Tabel3[[#This Row],[DMS controle]]","v":0},{"$f":"Tabel3[[#This Row],[BMS ID]]","v":3604},{"$f":"Tabel3[[#This Row],[Formaat]]","v":"Non-negative integer"},{"$f":"Tabel3[[#This Row],[X Path]]","v":"/catalogue_item_notification:catalogueItemNotificationMessage/transaction/documentCommand/catalogue_item_notification:catalogueItemNotification/catalogueItem/tradeItem/tradeItemInformation/extension/*[namespace-uri()='urn:gs1:gdsn:trade_item_handling:xsd:3' and local-name()='tradeItemHandlingModule']/tradeItemHandlingInformation/tradeItemStacking/stackingFactor"},{"$f":"Tabel3[[#This Row],[GDM laag]]","v":"Regional EU"},{"$f":"VLOOKUP(Tabel3[[#This Row],[GAE ID]],'BES EN'!A:AJ,27,FALSE)","v":" "},null,{"$f":"Tabel3[[#This Row],[Dairy, Refrigerated & Frozen]]","v":"A"},{"$f":"Tabel3[[#This Row],[Deli & Prepared]]","v":"B"},{"$f":"Tabel3[[#This Row],[Fresh Meat]]","v":"C"},{"$f":"Tabel3[[#This Row],[Fresh Fish]]","v":"D"},{"$f":"Tabel3[[#This Row],[Fresh Fruits & Vegetables]]","v":"E"},{"$f":"Tabel3[[#This Row],[Grocery]]","v":"F"},{"$f":"Tabel3[[#This Row],[Cleaners]]","v":"G"},{"$f":"Tabel3[[#This Row],[Disposables]]","v":"H"},{"$f":"Tabel3[[#This Row],[Beauty & Personal Care]]","v":"I"},{"$f":"Tabel3[[#This Row],[Petfood]]","v":"J"},{"$f":"Tabel3[[#This Row],[Alcoholic Beverages]]","v":"K"},{"$f":"Tabel3[[#This Row],[Tobacco]]","v":"L"},{"$f":"Tabel3[[#This Row],[Self-care medicines]]","v":"M"},{"$f":"Tabel3[[#This Row],[Special Food]]","v":"N"},{"$f":"Tabel3[[#This Row],[Food Supplements]]","v":"O"},{"$f":"Tabel3[[#This Row],[Healthcare Products]]","v":"P"},{"$f":"Tabel3[[#This Row],[Medical Devices]]","v":"Q"},{"$f":"Tabel3[[#This Row],[Batteries]]","v":"R"},{"$f":"Tabel3[[#This Row],[Light Bulbs]]","v":"S"},{"$f":"Tabel3[[#This Row],[Other Categories]]","v":"T"}]
[{"$f":"VLOOKUP(Tabel3[[#This Row],[GAE ID]],'BES EN'!A:AJ,36,FALSE)","v":"Stacking factor type code"},{"$f":"Tabel3[[#This Row],[GDSN-naam]]","v":"stackingFactorTypeCode"},{"$f":"Tabel3[[#This Row],[GDM Verplicht / Conditioneel]]","v":"Conditional"},{"$f":"Tabel3[[#This Row],[DMS controle]]","v":0},{"$f":"Tabel3[[#This Row],[BMS ID]]","v":3607},{"$f":"Tabel3[[#This Row],[Formaat]]","v":"Defined values"},{"$f":"Tabel3[[#This Row],[X Path]]","v":"/catalogue_item_notification:catalogueItemNotificationMessage/transaction/documentCommand/catalogue_item_notification:catalogueItemNotification/catalogueItem/tradeItem/tradeItemInformation/extension/*[namespace-uri()='urn:gs1:gdsn:trade_item_handling:xsd:3' and local-name()='tradeItemHandlingModule']/tradeItemHandlingInformation/tradeItemStacking/stackingFactorTypeCode"},{"$f":"Tabel3[[#This Row],[GDM laag]]","v":"Regional EU"},{"$f":"VLOOKUP(Tabel3[[#This Row],[GAE ID]],'BES EN'!A:AJ,27,FALSE)","v":" "},null,{"$f":"Tabel3[[#This Row],[Dairy, Refrigerated & Frozen]]","v":"A"},{"$f":"Tabel3[[#This Row],[Deli & Prepared]]","v":"B"},{"$f":"Tabel3[[#This Row],[Fresh Meat]]","v":"C"},{"$f":"Tabel3[[#This Row],[Fresh Fish]]","v":"D"},{"$f":"Tabel3[[#This Row],[Fresh Fruits & Vegetables]]","v":"E"},{"$f":"Tabel3[[#This Row],[Grocery]]","v":"F"},{"$f":"Tabel3[[#This Row],[Cleaners]]","v":"G"},{"$f":"Tabel3[[#This Row],[Disposables]]","v":"H"},{"$f":"Tabel3[[#This Row],[Beauty & Personal Care]]","v":"I"},{"$f":"Tabel3[[#This Row],[Petfood]]","v":"J"},{"$f":"Tabel3[[#This Row],[Alcoholic Beverages]]","v":"K"},{"$f":"Tabel3[[#This Row],[Tobacco]]","v":"L"},{"$f":"Tabel3[[#This Row],[Self-care medicines]]","v":"M"},{"$f":"Tabel3[[#This Row],[Special Food]]","v":"N"},{"$f":"Tabel3[[#This Row],[Food Supplements]]","v":"O"},{"$f":"Tabel3[[#This Row],[Healthcare Products]]","v":"P"},{"$f":"Tabel3[[#This Row],[Medical Devices]]","v":"Q"},{"$f":"Tabel3[[#This Row],[Batteries]]","v":"R"},{"$f":"Tabel3[[#This Row],[Light Bulbs]]","v":"S"},{"$f":"Tabel3[[#This Row],[Other Categories]]","v":"T"}]
[{"$f":"VLOOKUP(Tabel3[[#This Row],[GAE ID]],'BES EN'!A:AJ,36,FALSE)","v":"Quantity of complete layers contained in a trade item"},{"$f":"Tabel3[[#This Row],[GDSN-naam]]","v":"quantityOfCompleteLayersContainedInATradeItem"},{"$f":"Tabel3[[#This Row],[GDM Verplicht / Conditioneel]]","v":"Conditional"},{"$f":"Tabel3[[#This Row],[DMS controle]]","v":0},{"$f":"Tabel3[[#This Row],[BMS ID]]","v":3614},{"$f":"Tabel3[[#This Row],[Formaat]]","v":"Non-negative Integer"},{"$f":"Tabel3[[#This Row],[X Path]]","v":"/catalogue_item_notification:catalogueItemNotificationMessage/transaction/documentCommand/catalogue_item_notification:catalogueItemNotification/catalogueItem/tradeItem/tradeItemInformation/extension/*[namespace-uri()='urn:gs1:gdsn:trade_item_hierarchy:xsd:3' and local-name()='tradeItemHierarchyModule']/tradeItemHierarchy/quantityOfCompleteLayersContainedInATradeItem"},{"$f":"Tabel3[[#This Row],[GDM laag]]","v":"Global"},{"$f":"VLOOKUP(Tabel3[[#This Row],[GAE ID]],'BES EN'!A:AJ,27,FALSE)","v":" "},null,{"$f":"Tabel3[[#This Row],[Dairy, Refrigerated & Frozen]]","v":"A"},{"$f":"Tabel3[[#This Row],[Deli & Prepared]]","v":"B"},{"$f":"Tabel3[[#This Row],[Fresh Meat]]","v":"C"},{"$f":"Tabel3[[#This Row],[Fresh Fish]]","v":"D"},{"$f":"Tabel3[[#This Row],[Fresh Fruits & Vegetables]]","v":"E"},{"$f":"Tabel3[[#This Row],[Grocery]]","v":"F"},{"$f":"Tabel3[[#This Row],[Cleaners]]","v":"G"},{"$f":"Tabel3[[#This Row],[Disposables]]","v":"H"},{"$f":"Tabel3[[#This Row],[Beauty & Personal Care]]","v":"I"},{"$f":"Tabel3[[#This Row],[Petfood]]","v":"J"},{"$f":"Tabel3[[#This Row],[Alcoholic Beverages]]","v":"K"},{"$f":"Tabel3[[#This Row],[Tobacco]]","v":"L"},{"$f":"Tabel3[[#This Row],[Self-care medicines]]","v":"M"},{"$f":"Tabel3[[#This Row],[Special Food]]","v":"N"},{"$f":"Tabel3[[#This Row],[Food Supplements]]","v":"O"},{"$f":"Tabel3[[#This Row],[Healthcare Products]]","v":"P"},{"$f":"Tabel3[[#This Row],[Medical Devices]]","v":"Q"},{"$f":"Tabel3[[#This Row],[Batteries]]","v":"R"},{"$f":"Tabel3[[#This Row],[Light Bulbs]]","v":"S"},{"$f":"Tabel3[[#This Row],[Other Categories]]","v":"T"}]
[{"$f":"VLOOKUP(Tabel3[[#This Row],[GAE ID]],'BES EN'!A:AJ,36,FALSE)","v":"Number of units per layer in a GTIN"},{"$f":"Tabel3[[#This Row],[GDSN-naam]]","v":"quantityOfTradeItemsContainedInACompleteLayer"},{"$f":"Tabel3[[#This Row],[GDM Verplicht / Conditioneel]]","v":"Conditional"},{"$f":"Tabel3[[#This Row],[DMS controle]]","v":0},{"$f":"Tabel3[[#This Row],[BMS ID]]","v":3618},{"$f":"Tabel3[[#This Row],[Formaat]]","v":"Non-negative Integer"},{"$f":"Tabel3[[#This Row],[X Path]]","v":"/catalogue_item_notification:catalogueItemNotificationMessage/transaction/documentCommand/catalogue_item_notification:catalogueItemNotification/catalogueItem/tradeItem/tradeItemInformation/extension/*[namespace-uri()='urn:gs1:gdsn:trade_item_hierarchy:xsd:3' and local-name()='tradeItemHierarchyModule']/tradeItemHierarchy/quantityOfTradeItemsContainedInACompleteLayer"},{"$f":"Tabel3[[#This Row],[GDM laag]]","v":"Regional EU"},{"$f":"VLOOKUP(Tabel3[[#This Row],[GAE ID]],'BES EN'!A:AJ,27,FALSE)","v":" "},null,{"$f":"Tabel3[[#This Row],[Dairy, Refrigerated & Frozen]]","v":"A"},{"$f":"Tabel3[[#This Row],[Deli & Prepared]]","v":"B"},{"$f":"Tabel3[[#This Row],[Fresh Meat]]","v":"C"},{"$f":"Tabel3[[#This Row],[Fresh Fish]]","v":"D"},{"$f":"Tabel3[[#This Row],[Fresh Fruits & Vegetables]]","v":"E"},{"$f":"Tabel3[[#This Row],[Grocery]]","v":"F"},{"$f":"Tabel3[[#This Row],[Cleaners]]","v":"G"},{"$f":"Tabel3[[#This Row],[Disposables]]","v":"H"},{"$f":"Tabel3[[#This Row],[Beauty & Personal Care]]","v":"I"},{"$f":"Tabel3[[#This Row],[Petfood]]","v":"J"},{"$f":"Tabel3[[#This Row],[Alcoholic Beverages]]","v":"K"},{"$f":"Tabel3[[#This Row],[Tobacco]]","v":"L"},{"$f":"Tabel3[[#This Row],[Self-care medicines]]","v":"M"},{"$f":"Tabel3[[#This Row],[Special Food]]","v":"N"},{"$f":"Tabel3[[#This Row],[Food Supplements]]","v":"O"},{"$f":"Tabel3[[#This Row],[Healthcare Products]]","v":"P"},{"$f":"Tabel3[[#This Row],[Medical Devices]]","v":"Q"},{"$f":"Tabel3[[#This Row],[Batteries]]","v":"R"},{"$f":"Tabel3[[#This Row],[Light Bulbs]]","v":"S"},{"$f":"Tabel3[[#This Row],[Other Categories]]","v":"T"}]
[{"$f":"VLOOKUP(Tabel3[[#This Row],[GAE ID]],'BES EN'!A:AJ,36,FALSE)","v":"Number of units in a non-GTIN pallet"},{"$f":"Tabel3[[#This Row],[GDSN-naam]]","v":"quantityOfTradeItemsPerPallet"},{"$f":"Tabel3[[#This Row],[GDM Verplicht / Conditioneel]]","v":"Conditional"},{"$f":"Tabel3[[#This Row],[DMS controle]]","v":0},{"$f":"Tabel3[[#This Row],[BMS ID]]","v":3619},{"$f":"Tabel3[[#This Row],[Formaat]]","v":"Non-negative Integer"},{"$f":"Tabel3[[#This Row],[X Path]]","v":"/catalogue_item_notification:catalogueItemNotificationMessage/transaction/documentCommand/catalogue_item_notification:catalogueItemNotification/catalogueItem/tradeItem/tradeItemInformation/extension/*[namespace-uri()='urn:gs1:gdsn:trade_item_hierarchy:xsd:3' and local-name()='tradeItemHierarchyModule']/tradeItemHierarchy/quantityOfTradeItemsPerPallet"},{"$f":"Tabel3[[#This Row],[GDM laag]]","v":"Global"},{"$f":"VLOOKUP(Tabel3[[#This Row],[GAE ID]],'BES EN'!A:AJ,27,FALSE)","v":"Mandatory for fruits and vegetables, if this is the largest unit within the hierarchy"},null,{"$f":"Tabel3[[#This Row],[Dairy, Refrigerated & Frozen]]","v":"A"},{"$f":"Tabel3[[#This Row],[Deli & Prepared]]","v":"B"},{"$f":"Tabel3[[#This Row],[Fresh Meat]]","v":"C"},{"$f":"Tabel3[[#This Row],[Fresh Fish]]","v":"D"},{"$f":"Tabel3[[#This Row],[Fresh Fruits & Vegetables]]","v":"E"},{"$f":"Tabel3[[#This Row],[Grocery]]","v":"F"},{"$f":"Tabel3[[#This Row],[Cleaners]]","v":"G"},{"$f":"Tabel3[[#This Row],[Disposables]]","v":"H"},{"$f":"Tabel3[[#This Row],[Beauty & Personal Care]]","v":"I"},{"$f":"Tabel3[[#This Row],[Petfood]]","v":"J"},{"$f":"Tabel3[[#This Row],[Alcoholic Beverages]]","v":"K"},{"$f":"Tabel3[[#This Row],[Tobacco]]","v":"L"},{"$f":"Tabel3[[#This Row],[Self-care medicines]]","v":"M"},{"$f":"Tabel3[[#This Row],[Special Food]]","v":"N"},{"$f":"Tabel3[[#This Row],[Food Supplements]]","v":"O"},{"$f":"Tabel3[[#This Row],[Healthcare Products]]","v":"P"},{"$f":"Tabel3[[#This Row],[Medical Devices]]","v":"Q"},{"$f":"Tabel3[[#This Row],[Batteries]]","v":"R"},{"$f":"Tabel3[[#This Row],[Light Bulbs]]","v":"S"},{"$f":"Tabel3[[#This Row],[Other Categories]]","v":"T"}]
[{"$f":"VLOOKUP(Tabel3[[#This Row],[GAE ID]],'BES EN'!A:AJ,36,FALSE)","v":"Quantity of layers per non-GTIN pallet"},{"$f":"Tabel3[[#This Row],[GDSN-naam]]","v":"quantityOfLayersPerPallet"},{"$f":"Tabel3[[#This Row],[GDM Verplicht / Conditioneel]]","v":"Conditional"},{"$f":"Tabel3[[#This Row],[DMS controle]]","v":0},{"$f":"Tabel3[[#This Row],[BMS ID]]","v":3616},{"$f":"Tabel3[[#This Row],[Formaat]]","v":"Non-negative Integer"},{"$f":"Tabel3[[#This Row],[X Path]]","v":"/catalogue_item_notification:catalogueItemNotificationMessage/transaction/documentCommand/catalogue_item_notification:catalogueItemNotification/catalogueItem/tradeItem/tradeItemInformation/extension/*[namespace-uri()='urn:gs1:gdsn:trade_item_hierarchy:xsd:3' and local-name()='tradeItemHierarchyModule']/tradeItemHierarchy/quantityOfLayersPerPallet"},{"$f":"Tabel3[[#This Row],[GDM laag]]","v":"Global"},{"$f":"VLOOKUP(Tabel3[[#This Row],[GAE ID]],'BES EN'!A:AJ,27,FALSE)","v":"Mandatory if this is the largest unit within the hierarchy"},null,{"$f":"Tabel3[[#This Row],[Dairy, Refrigerated & Frozen]]","v":"A"},{"$f":"Tabel3[[#This Row],[Deli & Prepared]]","v":"B"},{"$f":"Tabel3[[#This Row],[Fresh Meat]]","v":"C"},{"$f":"Tabel3[[#This Row],[Fresh Fish]]","v":"D"},{"$f":"Tabel3[[#This Row],[Fresh Fruits & Vegetables]]","v":"E"},{"$f":"Tabel3[[#This Row],[Grocery]]","v":"F"},{"$f":"Tabel3[[#This Row],[Cleaners]]","v":"G"},{"$f":"Tabel3[[#This Row],[Disposables]]","v":"H"},{"$f":"Tabel3[[#This Row],[Beauty & Personal Care]]","v":"I"},{"$f":"Tabel3[[#This Row],[Petfood]]","v":"J"},{"$f":"Tabel3[[#This Row],[Alcoholic Beverages]]","v":"K"},{"$f":"Tabel3[[#This Row],[Tobacco]]","v":"L"},{"$f":"Tabel3[[#This Row],[Self-care medicines]]","v":"M"},{"$f":"Tabel3[[#This Row],[Special Food]]","v":"N"},{"$f":"Tabel3[[#This Row],[Food Supplements]]","v":"O"},{"$f":"Tabel3[[#This Row],[Healthcare Products]]","v":"P"},{"$f":"Tabel3[[#This Row],[Medical Devices]]","v":"Q"},{"$f":"Tabel3[[#This Row],[Batteries]]","v":"R"},{"$f":"Tabel3[[#This Row],[Light Bulbs]]","v":"S"},{"$f":"Tabel3[[#This Row],[Other Categories]]","v":"T"}]
[{"$f":"VLOOKUP(Tabel3[[#This Row],[GAE ID]],'BES EN'!A:AJ,36,FALSE)","v":"Quantity of trade items per pallet layer of non-GTIN pallet"},{"$f":"Tabel3[[#This Row],[GDSN-naam]]","v":"quantityOfTradeItemsPerPalletLayer"},{"$f":"Tabel3[[#This Row],[GDM Verplicht / Conditioneel]]","v":"Conditional"},{"$f":"Tabel3[[#This Row],[DMS controle]]","v":0},{"$f":"Tabel3[[#This Row],[BMS ID]]","v":3620},{"$f":"Tabel3[[#This Row],[Formaat]]","v":"Non-negative Integer"},{"$f":"Tabel3[[#This Row],[X Path]]","v":"/catalogue_item_notification:catalogueItemNotificationMessage/transaction/documentCommand/catalogue_item_notification:catalogueItemNotification/catalogueItem/tradeItem/tradeItemInformation/extension/*[namespace-uri()='urn:gs1:gdsn:trade_item_hierarchy:xsd:3' and local-name()='tradeItemHierarchyModule']/tradeItemHierarchy/quantityOfTradeItemsPerPalletLayer"},{"$f":"Tabel3[[#This Row],[GDM laag]]","v":"Global"},{"$f":"VLOOKUP(Tabel3[[#This Row],[GAE ID]],'BES EN'!A:AJ,27,FALSE)","v":"Mandatory for fruits and vegetables if this is the largest unit within the hierarchy"},null,{"$f":"Tabel3[[#This Row],[Dairy, Refrigerated & Frozen]]","v":"A"},{"$f":"Tabel3[[#This Row],[Deli & Prepared]]","v":"B"},{"$f":"Tabel3[[#This Row],[Fresh Meat]]","v":"C"},{"$f":"Tabel3[[#This Row],[Fresh Fish]]","v":"D"},{"$f":"Tabel3[[#This Row],[Fresh Fruits & Vegetables]]","v":"E"},{"$f":"Tabel3[[#This Row],[Grocery]]","v":"F"},{"$f":"Tabel3[[#This Row],[Cleaners]]","v":"G"},{"$f":"Tabel3[[#This Row],[Disposables]]","v":"H"},{"$f":"Tabel3[[#This Row],[Beauty & Personal Care]]","v":"I"},{"$f":"Tabel3[[#This Row],[Petfood]]","v":"J"},{"$f":"Tabel3[[#This Row],[Alcoholic Beverages]]","v":"K"},{"$f":"Tabel3[[#This Row],[Tobacco]]","v":"L"},{"$f":"Tabel3[[#This Row],[Self-care medicines]]","v":"M"},{"$f":"Tabel3[[#This Row],[Special Food]]","v":"N"},{"$f":"Tabel3[[#This Row],[Food Supplements]]","v":"O"},{"$f":"Tabel3[[#This Row],[Healthcare Products]]","v":"P"},{"$f":"Tabel3[[#This Row],[Medical Devices]]","v":"Q"},{"$f":"Tabel3[[#This Row],[Batteries]]","v":"R"},{"$f":"Tabel3[[#This Row],[Light Bulbs]]","v":"S"},{"$f":"Tabel3[[#This Row],[Other Categories]]","v":"T"}]
[{"$f":"VLOOKUP(Tabel3[[#This Row],[GAE ID]],'BES EN'!A:AJ,36,FALSE)","v":"Non-GTIN pallet height"},{"$f":"Tabel3[[#This Row],[GDSN-naam]]","v":"height"},{"$f":"Tabel3[[#This Row],[GDM Verplicht / Conditioneel]]","v":"Conditional"},{"$f":"Tabel3[[#This Row],[DMS controle]]","v":0},{"$f":"Tabel3[[#This Row],[BMS ID]]","v":1668},{"$f":"Tabel3[[#This Row],[Formaat]]","v":"n..15"},{"$f":"Tabel3[[#This Row],[X Path]]","v":"/catalogue_item_notification:catalogueItemNotificationMessage/transaction/documentCommand/catalogue_item_notification:catalogueItemNotification/catalogueItem/tradeItem/tradeItemInformation/extension/*[namespace-uri()='urn:gs1:gdsn:nongtin_logistics_unit_information:xsd:3' and local-name()='nonGTINLogisticsUnitInformationModule']/nonGTINLogisticsUnitInformation/height"},{"$f":"Tabel3[[#This Row],[GDM laag]]","v":"Regional EU"},{"$f":"VLOOKUP(Tabel3[[#This Row],[GAE ID]],'BES EN'!A:AJ,27,FALSE)","v":"Mandatory if this is the largest unit within the hierarchy"},null,{"$f":"Tabel3[[#This Row],[Dairy, Refrigerated & Frozen]]","v":"A"},{"$f":"Tabel3[[#This Row],[Deli & Prepared]]","v":"B"},{"$f":"Tabel3[[#This Row],[Fresh Meat]]","v":"C"},{"$f":"Tabel3[[#This Row],[Fresh Fish]]","v":"D"},{"$f":"Tabel3[[#This Row],[Fresh Fruits & Vegetables]]","v":"E"},{"$f":"Tabel3[[#This Row],[Grocery]]","v":"F"},{"$f":"Tabel3[[#This Row],[Cleaners]]","v":"G"},{"$f":"Tabel3[[#This Row],[Disposables]]","v":"H"},{"$f":"Tabel3[[#This Row],[Beauty & Personal Care]]","v":"I"},{"$f":"Tabel3[[#This Row],[Petfood]]","v":"J"},{"$f":"Tabel3[[#This Row],[Alcoholic Beverages]]","v":"K"},{"$f":"Tabel3[[#This Row],[Tobacco]]","v":"L"},{"$f":"Tabel3[[#This Row],[Self-care medicines]]","v":"M"},{"$f":"Tabel3[[#This Row],[Special Food]]","v":"N"},{"$f":"Tabel3[[#This Row],[Food Supplements]]","v":"O"},{"$f":"Tabel3[[#This Row],[Healthcare Products]]","v":"P"},{"$f":"Tabel3[[#This Row],[Medical Devices]]","v":"Q"},{"$f":"Tabel3[[#This Row],[Batteries]]","v":"R"},{"$f":"Tabel3[[#This Row],[Light Bulbs]]","v":"S"},{"$f":"Tabel3[[#This Row],[Other Categories]]","v":"T"}]
[{"$f":"VLOOKUP(Tabel3[[#This Row],[GAE ID]],'BES EN'!A:AJ,36,FALSE)","v":"Non-GTIN pallet height UOM"},{"$f":"Tabel3[[#This Row],[GDSN-naam]]","v":"height/@measurementUnitCode"},{"$f":"Tabel3[[#This Row],[GDM Verplicht / Conditioneel]]","v":"Conditional"},{"$f":"Tabel3[[#This Row],[DMS controle]]","v":0},{"$f":"Tabel3[[#This Row],[BMS ID]]","v":1669},{"$f":"Tabel3[[#This Row],[Formaat]]","v":"Defined values"},{"$f":"Tabel3[[#This Row],[X Path]]","v":"/catalogue_item_notification:catalogueItemNotificationMessage/transaction/documentCommand/catalogue_item_notification:catalogueItemNotification/catalogueItem/tradeItem/tradeItemInformation/extension/*[namespace-uri()='urn:gs1:gdsn:nongtin_logistics_unit_information:xsd:3' and local-name()='nonGTINLogisticsUnitInformationModule']/nonGTINLogisticsUnitInformation/height/@measurementUnitCode"},{"$f":"Tabel3[[#This Row],[GDM laag]]","v":"Regional EU"},{"$f":"VLOOKUP(Tabel3[[#This Row],[GAE ID]],'BES EN'!A:AJ,27,FALSE)","v":"Mandatory in case the 'Non-GTIN pallet height' field is populated"},null,{"$f":"Tabel3[[#This Row],[Dairy, Refrigerated & Frozen]]","v":"A"},{"$f":"Tabel3[[#This Row],[Deli & Prepared]]","v":"B"},{"$f":"Tabel3[[#This Row],[Fresh Meat]]","v":"C"},{"$f":"Tabel3[[#This Row],[Fresh Fish]]","v":"D"},{"$f":"Tabel3[[#This Row],[Fresh Fruits & Vegetables]]","v":"E"},{"$f":"Tabel3[[#This Row],[Grocery]]","v":"F"},{"$f":"Tabel3[[#This Row],[Cleaners]]","v":"G"},{"$f":"Tabel3[[#This Row],[Disposables]]","v":"H"},{"$f":"Tabel3[[#This Row],[Beauty & Personal Care]]","v":"I"},{"$f":"Tabel3[[#This Row],[Petfood]]","v":"J"},{"$f":"Tabel3[[#This Row],[Alcoholic Beverages]]","v":"K"},{"$f":"Tabel3[[#This Row],[Tobacco]]","v":"L"},{"$f":"Tabel3[[#This Row],[Self-care medicines]]","v":"M"},{"$f":"Tabel3[[#This Row],[Special Food]]","v":"N"},{"$f":"Tabel3[[#This Row],[Food Supplements]]","v":"O"},{"$f":"Tabel3[[#This Row],[Healthcare Products]]","v":"P"},{"$f":"Tabel3[[#This Row],[Medical Devices]]","v":"Q"},{"$f":"Tabel3[[#This Row],[Batteries]]","v":"R"},{"$f":"Tabel3[[#This Row],[Light Bulbs]]","v":"S"},{"$f":"Tabel3[[#This Row],[Other Categories]]","v":"T"}]
[{"$f":"VLOOKUP(Tabel3[[#This Row],[GAE ID]],'BES EN'!A:AJ,36,FALSE)","v":"Non-GTIN pallet width"},{"$f":"Tabel3[[#This Row],[GDSN-naam]]","v":"width"},{"$f":"Tabel3[[#This Row],[GDM Verplicht / Conditioneel]]","v":"Conditional"},{"$f":"Tabel3[[#This Row],[DMS controle]]","v":0},{"$f":"Tabel3[[#This Row],[BMS ID]]","v":1671},{"$f":"Tabel3[[#This Row],[Formaat]]","v":"n..15"},{"$f":"Tabel3[[#This Row],[X Path]]","v":"/catalogue_item_notification:catalogueItemNotificationMessage/transaction/documentCommand/catalogue_item_notification:catalogueItemNotification/catalogueItem/tradeItem/tradeItemInformation/extension/*[namespace-uri()='urn:gs1:gdsn:nongtin_logistics_unit_information:xsd:3' and local-name()='nonGTINLogisticsUnitInformationModule']/nonGTINLogisticsUnitInformation/width"},{"$f":"Tabel3[[#This Row],[GDM laag]]","v":"Regional EU"},{"$f":"VLOOKUP(Tabel3[[#This Row],[GAE ID]],'BES EN'!A:AJ,27,FALSE)","v":"Mandatory if this is the largest unit within the hierarchy."},null,{"$f":"Tabel3[[#This Row],[Dairy, Refrigerated & Frozen]]","v":"A"},{"$f":"Tabel3[[#This Row],[Deli & Prepared]]","v":"B"},{"$f":"Tabel3[[#This Row],[Fresh Meat]]","v":"C"},{"$f":"Tabel3[[#This Row],[Fresh Fish]]","v":"D"},{"$f":"Tabel3[[#This Row],[Fresh Fruits & Vegetables]]","v":"E"},{"$f":"Tabel3[[#This Row],[Grocery]]","v":"F"},{"$f":"Tabel3[[#This Row],[Cleaners]]","v":"G"},{"$f":"Tabel3[[#This Row],[Disposables]]","v":"H"},{"$f":"Tabel3[[#This Row],[Beauty & Personal Care]]","v":"I"},{"$f":"Tabel3[[#This Row],[Petfood]]","v":"J"},{"$f":"Tabel3[[#This Row],[Alcoholic Beverages]]","v":"K"},{"$f":"Tabel3[[#This Row],[Tobacco]]","v":"L"},{"$f":"Tabel3[[#This Row],[Self-care medicines]]","v":"M"},{"$f":"Tabel3[[#This Row],[Special Food]]","v":"N"},{"$f":"Tabel3[[#This Row],[Food Supplements]]","v":"O"},{"$f":"Tabel3[[#This Row],[Healthcare Products]]","v":"P"},{"$f":"Tabel3[[#This Row],[Medical Devices]]","v":"Q"},{"$f":"Tabel3[[#This Row],[Batteries]]","v":"R"},{"$f":"Tabel3[[#This Row],[Light Bulbs]]","v":"S"},{"$f":"Tabel3[[#This Row],[Other Categories]]","v":"T"}]
[{"$f":"VLOOKUP(Tabel3[[#This Row],[GAE ID]],'BES EN'!A:AJ,36,FALSE)","v":"Non-GTIN pallet width UOM"},{"$f":"Tabel3[[#This Row],[GDSN-naam]]","v":"width/@measurementUnitCode"},{"$f":"Tabel3[[#This Row],[GDM Verplicht / Conditioneel]]","v":"Conditional"},{"$f":"Tabel3[[#This Row],[DMS controle]]","v":0},{"$f":"Tabel3[[#This Row],[BMS ID]]","v":1672},{"$f":"Tabel3[[#This Row],[Formaat]]","v":"Defined values"},{"$f":"Tabel3[[#This Row],[X Path]]","v":"/catalogue_item_notification:catalogueItemNotificationMessage/transaction/documentCommand/catalogue_item_notification:catalogueItemNotification/catalogueItem/tradeItem/tradeItemInformation/extension/*[namespace-uri()='urn:gs1:gdsn:nongtin_logistics_unit_information:xsd:3' and local-name()='nonGTINLogisticsUnitInformationModule']/nonGTINLogisticsUnitInformation/width/@measurementUnitCode"},{"$f":"Tabel3[[#This Row],[GDM laag]]","v":"Regional EU"},{"$f":"VLOOKUP(Tabel3[[#This Row],[GAE ID]],'BES EN'!A:AJ,27,FALSE)","v":"Mandatory in case the 'Non-GTIN pallet width' field is populated"},null,{"$f":"Tabel3[[#This Row],[Dairy, Refrigerated & Frozen]]","v":"A"},{"$f":"Tabel3[[#This Row],[Deli & Prepared]]","v":"B"},{"$f":"Tabel3[[#This Row],[Fresh Meat]]","v":"C"},{"$f":"Tabel3[[#This Row],[Fresh Fish]]","v":"D"},{"$f":"Tabel3[[#This Row],[Fresh Fruits & Vegetables]]","v":"E"},{"$f":"Tabel3[[#This Row],[Grocery]]","v":"F"},{"$f":"Tabel3[[#This Row],[Cleaners]]","v":"G"},{"$f":"Tabel3[[#This Row],[Disposables]]","v":"H"},{"$f":"Tabel3[[#This Row],[Beauty & Personal Care]]","v":"I"},{"$f":"Tabel3[[#This Row],[Petfood]]","v":"J"},{"$f":"Tabel3[[#This Row],[Alcoholic Beverages]]","v":"K"},{"$f":"Tabel3[[#This Row],[Tobacco]]","v":"L"},{"$f":"Tabel3[[#This Row],[Self-care medicines]]","v":"M"},{"$f":"Tabel3[[#This Row],[Special Food]]","v":"N"},{"$f":"Tabel3[[#This Row],[Food Supplements]]","v":"O"},{"$f":"Tabel3[[#This Row],[Healthcare Products]]","v":"P"},{"$f":"Tabel3[[#This Row],[Medical Devices]]","v":"Q"},{"$f":"Tabel3[[#This Row],[Batteries]]","v":"R"},{"$f":"Tabel3[[#This Row],[Light Bulbs]]","v":"S"},{"$f":"Tabel3[[#This Row],[Other Categories]]","v":"T"}]
[{"$f":"VLOOKUP(Tabel3[[#This Row],[GAE ID]],'BES EN'!A:AJ,36,FALSE)","v":"Non-GTIN pallet depth"},{"$f":"Tabel3[[#This Row],[GDSN-naam]]","v":"depth"},{"$f":"Tabel3[[#This Row],[GDM Verplicht / Conditioneel]]","v":"Conditional"},{"$f":"Tabel3[[#This Row],[DMS controle]]","v":0},{"$f":"Tabel3[[#This Row],[BMS ID]]","v":1664},{"$f":"Tabel3[[#This Row],[Formaat]]","v":"n..15"},{"$f":"Tabel3[[#This Row],[X Path]]","v":"/catalogue_item_notification:catalogueItemNotificationMessage/transaction/documentCommand/catalogue_item_notification:catalogueItemNotification/catalogueItem/tradeItem/tradeItemInformation/extension/*[namespace-uri()='urn:gs1:gdsn:nongtin_logistics_unit_information:xsd:3' and local-name()='nonGTINLogisticsUnitInformationModule']/nonGTINLogisticsUnitInformation/depth"},{"$f":"Tabel3[[#This Row],[GDM laag]]","v":"Regional EU"},{"$f":"VLOOKUP(Tabel3[[#This Row],[GAE ID]],'BES EN'!A:AJ,27,FALSE)","v":"Mandatory if this is the largest unit within the hierarchy."},null,{"$f":"Tabel3[[#This Row],[Dairy, Refrigerated & Frozen]]","v":"A"},{"$f":"Tabel3[[#This Row],[Deli & Prepared]]","v":"B"},{"$f":"Tabel3[[#This Row],[Fresh Meat]]","v":"C"},{"$f":"Tabel3[[#This Row],[Fresh Fish]]","v":"D"},{"$f":"Tabel3[[#This Row],[Fresh Fruits & Vegetables]]","v":"E"},{"$f":"Tabel3[[#This Row],[Grocery]]","v":"F"},{"$f":"Tabel3[[#This Row],[Cleaners]]","v":"G"},{"$f":"Tabel3[[#This Row],[Disposables]]","v":"H"},{"$f":"Tabel3[[#This Row],[Beauty & Personal Care]]","v":"I"},{"$f":"Tabel3[[#This Row],[Petfood]]","v":"J"},{"$f":"Tabel3[[#This Row],[Alcoholic Beverages]]","v":"K"},{"$f":"Tabel3[[#This Row],[Tobacco]]","v":"L"},{"$f":"Tabel3[[#This Row],[Self-care medicines]]","v":"M"},{"$f":"Tabel3[[#This Row],[Special Food]]","v":"N"},{"$f":"Tabel3[[#This Row],[Food Supplements]]","v":"O"},{"$f":"Tabel3[[#This Row],[Healthcare Products]]","v":"P"},{"$f":"Tabel3[[#This Row],[Medical Devices]]","v":"Q"},{"$f":"Tabel3[[#This Row],[Batteries]]","v":"R"},{"$f":"Tabel3[[#This Row],[Light Bulbs]]","v":"S"},{"$f":"Tabel3[[#This Row],[Other Categories]]","v":"T"}]
[{"$f":"VLOOKUP(Tabel3[[#This Row],[GAE ID]],'BES EN'!A:AJ,36,FALSE)","v":"Non-GTIN pallet depth UOM"},{"$f":"Tabel3[[#This Row],[GDSN-naam]]","v":"depth/@measurementUnitCode"},{"$f":"Tabel3[[#This Row],[GDM Verplicht / Conditioneel]]","v":"Conditional"},{"$f":"Tabel3[[#This Row],[DMS controle]]","v":0},{"$f":"Tabel3[[#This Row],[BMS ID]]","v":1665},{"$f":"Tabel3[[#This Row],[Formaat]]","v":"Defined values"},{"$f":"Tabel3[[#This Row],[X Path]]","v":"/catalogue_item_notification:catalogueItemNotificationMessage/transaction/documentCommand/catalogue_item_notification:catalogueItemNotification/catalogueItem/tradeItem/tradeItemInformation/extension/*[namespace-uri()='urn:gs1:gdsn:nongtin_logistics_unit_information:xsd:3' and local-name()='nonGTINLogisticsUnitInformationModule']/nonGTINLogisticsUnitInformation/depth/@measurementUnitCode"},{"$f":"Tabel3[[#This Row],[GDM laag]]","v":"Regional EU"},{"$f":"VLOOKUP(Tabel3[[#This Row],[GAE ID]],'BES EN'!A:AJ,27,FALSE)","v":"Mandatory in case the 'Non-GTIN pallet depth' field is populated."},null,{"$f":"Tabel3[[#This Row],[Dairy, Refrigerated & Frozen]]","v":"A"},{"$f":"Tabel3[[#This Row],[Deli & Prepared]]","v":"B"},{"$f":"Tabel3[[#This Row],[Fresh Meat]]","v":"C"},{"$f":"Tabel3[[#This Row],[Fresh Fish]]","v":"D"},{"$f":"Tabel3[[#This Row],[Fresh Fruits & Vegetables]]","v":"E"},{"$f":"Tabel3[[#This Row],[Grocery]]","v":"F"},{"$f":"Tabel3[[#This Row],[Cleaners]]","v":"G"},{"$f":"Tabel3[[#This Row],[Disposables]]","v":"H"},{"$f":"Tabel3[[#This Row],[Beauty & Personal Care]]","v":"I"},{"$f":"Tabel3[[#This Row],[Petfood]]","v":"J"},{"$f":"Tabel3[[#This Row],[Alcoholic Beverages]]","v":"K"},{"$f":"Tabel3[[#This Row],[Tobacco]]","v":"L"},{"$f":"Tabel3[[#This Row],[Self-care medicines]]","v":"M"},{"$f":"Tabel3[[#This Row],[Special Food]]","v":"N"},{"$f":"Tabel3[[#This Row],[Food Supplements]]","v":"O"},{"$f":"Tabel3[[#This Row],[Healthcare Products]]","v":"P"},{"$f":"Tabel3[[#This Row],[Medical Devices]]","v":"Q"},{"$f":"Tabel3[[#This Row],[Batteries]]","v":"R"},{"$f":"Tabel3[[#This Row],[Light Bulbs]]","v":"S"},{"$f":"Tabel3[[#This Row],[Other Categories]]","v":"T"}]
[{"$f":"VLOOKUP(Tabel3[[#This Row],[GAE ID]],'BES EN'!A:AJ,36,FALSE)","v":"Non-GTIN pallet gross weight"},{"$f":"Tabel3[[#This Row],[GDSN-naam]]","v":"grossWeight"},{"$f":"Tabel3[[#This Row],[GDM Verplicht / Conditioneel]]","v":"Conditional"},{"$f":"Tabel3[[#This Row],[DMS controle]]","v":0},{"$f":"Tabel3[[#This Row],[BMS ID]]","v":1666},{"$f":"Tabel3[[#This Row],[Formaat]]","v":"n..15"},{"$f":"Tabel3[[#This Row],[X Path]]","v":"/catalogue_item_notification:catalogueItemNotificationMessage/transaction/documentCommand/catalogue_item_notification:catalogueItemNotification/catalogueItem/tradeItem/tradeItemInformation/extension/*[namespace-uri()='urn:gs1:gdsn:nongtin_logistics_unit_information:xsd:3' and local-name()='nonGTINLogisticsUnitInformationModule']/nonGTINLogisticsUnitInformation/grossWeight"},{"$f":"Tabel3[[#This Row],[GDM laag]]","v":"Regional EU"},{"$f":"VLOOKUP(Tabel3[[#This Row],[GAE ID]],'BES EN'!A:AJ,27,FALSE)","v":"Mandatory if this is the largest unit within the hierarchy"},null,{"$f":"Tabel3[[#This Row],[Dairy, Refrigerated & Frozen]]","v":"A"},{"$f":"Tabel3[[#This Row],[Deli & Prepared]]","v":"B"},{"$f":"Tabel3[[#This Row],[Fresh Meat]]","v":"C"},{"$f":"Tabel3[[#This Row],[Fresh Fish]]","v":"D"},{"$f":"Tabel3[[#This Row],[Fresh Fruits & Vegetables]]","v":"E"},{"$f":"Tabel3[[#This Row],[Grocery]]","v":"F"},{"$f":"Tabel3[[#This Row],[Cleaners]]","v":"G"},{"$f":"Tabel3[[#This Row],[Disposables]]","v":"H"},{"$f":"Tabel3[[#This Row],[Beauty & Personal Care]]","v":"I"},{"$f":"Tabel3[[#This Row],[Petfood]]","v":"J"},{"$f":"Tabel3[[#This Row],[Alcoholic Beverages]]","v":"K"},{"$f":"Tabel3[[#This Row],[Tobacco]]","v":"L"},{"$f":"Tabel3[[#This Row],[Self-care medicines]]","v":"M"},{"$f":"Tabel3[[#This Row],[Special Food]]","v":"N"},{"$f":"Tabel3[[#This Row],[Food Supplements]]","v":"O"},{"$f":"Tabel3[[#This Row],[Healthcare Products]]","v":"P"},{"$f":"Tabel3[[#This Row],[Medical Devices]]","v":"Q"},{"$f":"Tabel3[[#This Row],[Batteries]]","v":"R"},{"$f":"Tabel3[[#This Row],[Light Bulbs]]","v":"S"},{"$f":"Tabel3[[#This Row],[Other Categories]]","v":"T"}]
[{"$f":"VLOOKUP(Tabel3[[#This Row],[GAE ID]],'BES EN'!A:AJ,36,FALSE)","v":"Non-GTIN pallet gross weight UOM"},{"$f":"Tabel3[[#This Row],[GDSN-naam]]","v":"grossWeight/@measurementUnitCode"},{"$f":"Tabel3[[#This Row],[GDM Verplicht / Conditioneel]]","v":"Conditional"},{"$f":"Tabel3[[#This Row],[DMS controle]]","v":0},{"$f":"Tabel3[[#This Row],[BMS ID]]","v":1667},{"$f":"Tabel3[[#This Row],[Formaat]]","v":"Defined values"},{"$f":"Tabel3[[#This Row],[X Path]]","v":"/catalogue_item_notification:catalogueItemNotificationMessage/transaction/documentCommand/catalogue_item_notification:catalogueItemNotification/catalogueItem/tradeItem/tradeItemInformation/extension/*[namespace-uri()='urn:gs1:gdsn:nongtin_logistics_unit_information:xsd:3' and local-name()='nonGTINLogisticsUnitInformationModule']/nonGTINLogisticsUnitInformation/grossWeight/@measurementUnitCode"},{"$f":"Tabel3[[#This Row],[GDM laag]]","v":"Regional EU"},{"$f":"VLOOKUP(Tabel3[[#This Row],[GAE ID]],'BES EN'!A:AJ,27,FALSE)","v":"Mandatory in case the 'Non-GTIN pallet gross weight' field is populated"},null,{"$f":"Tabel3[[#This Row],[Dairy, Refrigerated & Frozen]]","v":"A"},{"$f":"Tabel3[[#This Row],[Deli & Prepared]]","v":"B"},{"$f":"Tabel3[[#This Row],[Fresh Meat]]","v":"C"},{"$f":"Tabel3[[#This Row],[Fresh Fish]]","v":"D"},{"$f":"Tabel3[[#This Row],[Fresh Fruits & Vegetables]]","v":"E"},{"$f":"Tabel3[[#This Row],[Grocery]]","v":"F"},{"$f":"Tabel3[[#This Row],[Cleaners]]","v":"G"},{"$f":"Tabel3[[#This Row],[Disposables]]","v":"H"},{"$f":"Tabel3[[#This Row],[Beauty & Personal Care]]","v":"I"},{"$f":"Tabel3[[#This Row],[Petfood]]","v":"J"},{"$f":"Tabel3[[#This Row],[Alcoholic Beverages]]","v":"K"},{"$f":"Tabel3[[#This Row],[Tobacco]]","v":"L"},{"$f":"Tabel3[[#This Row],[Self-care medicines]]","v":"M"},{"$f":"Tabel3[[#This Row],[Special Food]]","v":"N"},{"$f":"Tabel3[[#This Row],[Food Supplements]]","v":"O"},{"$f":"Tabel3[[#This Row],[Healthcare Products]]","v":"P"},{"$f":"Tabel3[[#This Row],[Medical Devices]]","v":"Q"},{"$f":"Tabel3[[#This Row],[Batteries]]","v":"R"},{"$f":"Tabel3[[#This Row],[Light Bulbs]]","v":"S"},{"$f":"Tabel3[[#This Row],[Other Categories]]","v":"T"}]
[{"$f":"VLOOKUP(Tabel3[[#This Row],[GAE ID]],'BES EN'!A:AJ,36,FALSE)","v":"Non-GTIN pallet stacking factor"},{"$f":"Tabel3[[#This Row],[GDSN-naam]]","v":"logisticsUnitStackingFactor"},{"$f":"Tabel3[[#This Row],[GDM Verplicht / Conditioneel]]","v":"Conditional"},{"$f":"Tabel3[[#This Row],[DMS controle]]","v":0},{"$f":"Tabel3[[#This Row],[BMS ID]]","v":1670},{"$f":"Tabel3[[#This Row],[Formaat]]","v":"Non-negative Integer"},{"$f":"Tabel3[[#This Row],[X Path]]","v":"/catalogue_item_notification:catalogueItemNotificationMessage/transaction/documentCommand/catalogue_item_notification:catalogueItemNotification/catalogueItem/tradeItem/tradeItemInformation/extension/*[namespace-uri()='urn:gs1:gdsn:nongtin_logistics_unit_information:xsd:3' and local-name()='nonGTINLogisticsUnitInformationModule']/nonGTINLogisticsUnitInformation/logisticsUnitStackingFactor"},{"$f":"Tabel3[[#This Row],[GDM laag]]","v":"Regional EU"},{"$f":"VLOOKUP(Tabel3[[#This Row],[GAE ID]],'BES EN'!A:AJ,27,FALSE)","v":"Mandatory if this is the largest unit within the hierarchy."},null,{"$f":"Tabel3[[#This Row],[Dairy, Refrigerated & Frozen]]","v":"A"},{"$f":"Tabel3[[#This Row],[Deli & Prepared]]","v":"B"},{"$f":"Tabel3[[#This Row],[Fresh Meat]]","v":"C"},{"$f":"Tabel3[[#This Row],[Fresh Fish]]","v":"D"},{"$f":"Tabel3[[#This Row],[Fresh Fruits & Vegetables]]","v":"E"},{"$f":"Tabel3[[#This Row],[Grocery]]","v":"F"},{"$f":"Tabel3[[#This Row],[Cleaners]]","v":"G"},{"$f":"Tabel3[[#This Row],[Disposables]]","v":"H"},{"$f":"Tabel3[[#This Row],[Beauty & Personal Care]]","v":"I"},{"$f":"Tabel3[[#This Row],[Petfood]]","v":"J"},{"$f":"Tabel3[[#This Row],[Alcoholic Beverages]]","v":"K"},{"$f":"Tabel3[[#This Row],[Tobacco]]","v":"L"},{"$f":"Tabel3[[#This Row],[Self-care medicines]]","v":"M"},{"$f":"Tabel3[[#This Row],[Special Food]]","v":"N"},{"$f":"Tabel3[[#This Row],[Food Supplements]]","v":"O"},{"$f":"Tabel3[[#This Row],[Healthcare Products]]","v":"P"},{"$f":"Tabel3[[#This Row],[Medical Devices]]","v":"Q"},{"$f":"Tabel3[[#This Row],[Batteries]]","v":"R"},{"$f":"Tabel3[[#This Row],[Light Bulbs]]","v":"S"},{"$f":"Tabel3[[#This Row],[Other Categories]]","v":"T"}]
[{"$f":"VLOOKUP(Tabel3[[#This Row],[GAE ID]],'BES EN'!A:AJ,36,FALSE)","v":"Is trade item packed irregularly"},{"$f":"Tabel3[[#This Row],[GDSN-naam]]","v":"isTradeItemPackedIrregularly"},{"$f":"Tabel3[[#This Row],[GDM Verplicht / Conditioneel]]","v":"Conditional"},{"$f":"Tabel3[[#This Row],[DMS controle]]","v":0},{"$f":"Tabel3[[#This Row],[BMS ID]]","v":3611},{"$f":"Tabel3[[#This Row],[Formaat]]","v":"Defined values"},{"$f":"Tabel3[[#This Row],[X Path]]","v":"/catalogue_item_notification:catalogueItemNotificationMessage/transaction/documentCommand/catalogue_item_notification:catalogueItemNotification/catalogueItem/tradeItem/tradeItemInformation/extension/*[namespace-uri()='urn:gs1:gdsn:trade_item_hierarchy:xsd:3' and local-name()='tradeItemHierarchyModule']/tradeItemHierarchy/isTradeItemPackedIrregularly"},{"$f":"Tabel3[[#This Row],[GDM laag]]","v":"Regional EU"},{"$f":"VLOOKUP(Tabel3[[#This Row],[GAE ID]],'BES EN'!A:AJ,27,FALSE)","v":" "},null,{"$f":"Tabel3[[#This Row],[Dairy, Refrigerated & Frozen]]","v":"A"},{"$f":"Tabel3[[#This Row],[Deli & Prepared]]","v":"B"},{"$f":"Tabel3[[#This Row],[Fresh Meat]]","v":"C"},{"$f":"Tabel3[[#This Row],[Fresh Fish]]","v":"D"},{"$f":"Tabel3[[#This Row],[Fresh Fruits & Vegetables]]","v":"E"},{"$f":"Tabel3[[#This Row],[Grocery]]","v":"F"},{"$f":"Tabel3[[#This Row],[Cleaners]]","v":"G"},{"$f":"Tabel3[[#This Row],[Disposables]]","v":"H"},{"$f":"Tabel3[[#This Row],[Beauty & Personal Care]]","v":"I"},{"$f":"Tabel3[[#This Row],[Petfood]]","v":"J"},{"$f":"Tabel3[[#This Row],[Alcoholic Beverages]]","v":"K"},{"$f":"Tabel3[[#This Row],[Tobacco]]","v":"L"},{"$f":"Tabel3[[#This Row],[Self-care medicines]]","v":"M"},{"$f":"Tabel3[[#This Row],[Special Food]]","v":"N"},{"$f":"Tabel3[[#This Row],[Food Supplements]]","v":"O"},{"$f":"Tabel3[[#This Row],[Healthcare Products]]","v":"P"},{"$f":"Tabel3[[#This Row],[Medical Devices]]","v":"Q"},{"$f":"Tabel3[[#This Row],[Batteries]]","v":"R"},{"$f":"Tabel3[[#This Row],[Light Bulbs]]","v":"S"},{"$f":"Tabel3[[#This Row],[Other Categories]]","v":"T"}]
[{"$f":"VLOOKUP(Tabel3[[#This Row],[GAE ID]],'BES EN'!A:AJ,36,FALSE)","v":"Is non-GTIN logistics unit packed irregularly"},{"$f":"Tabel3[[#This Row],[GDSN-naam]]","v":"isNonGTINLogisticsUnitPackedIrregularly"},{"$f":"Tabel3[[#This Row],[GDM Verplicht / Conditioneel]]","v":"Optional"},{"$f":"Tabel3[[#This Row],[DMS controle]]","v":0},{"$f":"Tabel3[[#This Row],[BMS ID]]","v":3610},{"$f":"Tabel3[[#This Row],[Formaat]]","v":"Defined values"},{"$f":"Tabel3[[#This Row],[X Path]]","v":"/catalogue_item_notification:catalogueItemNotificationMessage/transaction/documentCommand/catalogue_item_notification:catalogueItemNotification/catalogueItem/tradeItem/tradeItemInformation/extension/*[namespace-uri()='urn:gs1:gdsn:trade_item_hierarchy:xsd:3' and local-name()='tradeItemHierarchyModule']/tradeItemHierarchy/isNonGTINLogisticsUnitPackedIrregularly"},{"$f":"Tabel3[[#This Row],[GDM laag]]","v":"Local"},{"$f":"VLOOKUP(Tabel3[[#This Row],[GAE ID]],'BES EN'!A:AJ,27,FALSE)","v":" "},null,{"$f":"Tabel3[[#This Row],[Dairy, Refrigerated & Frozen]]","v":"A"},{"$f":"Tabel3[[#This Row],[Deli & Prepared]]","v":"B"},{"$f":"Tabel3[[#This Row],[Fresh Meat]]","v":"C"},{"$f":"Tabel3[[#This Row],[Fresh Fish]]","v":"D"},{"$f":"Tabel3[[#This Row],[Fresh Fruits & Vegetables]]","v":"E"},{"$f":"Tabel3[[#This Row],[Grocery]]","v":"F"},{"$f":"Tabel3[[#This Row],[Cleaners]]","v":"G"},{"$f":"Tabel3[[#This Row],[Disposables]]","v":"H"},{"$f":"Tabel3[[#This Row],[Beauty & Personal Care]]","v":"I"},{"$f":"Tabel3[[#This Row],[Petfood]]","v":"J"},{"$f":"Tabel3[[#This Row],[Alcoholic Beverages]]","v":"K"},{"$f":"Tabel3[[#This Row],[Tobacco]]","v":"L"},{"$f":"Tabel3[[#This Row],[Self-care medicines]]","v":"M"},{"$f":"Tabel3[[#This Row],[Special Food]]","v":"N"},{"$f":"Tabel3[[#This Row],[Food Supplements]]","v":"O"},{"$f":"Tabel3[[#This Row],[Healthcare Products]]","v":"P"},{"$f":"Tabel3[[#This Row],[Medical Devices]]","v":"Q"},{"$f":"Tabel3[[#This Row],[Batteries]]","v":"R"},{"$f":"Tabel3[[#This Row],[Light Bulbs]]","v":"S"},{"$f":"Tabel3[[#This Row],[Other Categories]]","v":"T"}]
["Dangerous goods information",null,{"$f":"Tabel3[[#This Row],[GDM Verplicht / Conditioneel]]","v":0},null,null,null,null,null,null,null,"A","B","C","D","E","F","G","H","I","J","K","L","M","N","O","P","Q","R","S","T"]
[{"$f":"VLOOKUP(Tabel3[[#This Row],[GAE ID]],'BES EN'!A:AJ,36,FALSE)","v":"Hazardous substances classification system"},{"$f":"Tabel3[[#This Row],[GDSN-naam]]","v":"dangerousGoodsRegulationCode"},{"$f":"Tabel3[[#This Row],[GDM Verplicht / Conditioneel]]","v":"Optional"},{"$f":"Tabel3[[#This Row],[DMS controle]]","v":0},{"$f":"Tabel3[[#This Row],[BMS ID]]","v":3865},{"$f":"Tabel3[[#This Row],[Formaat]]","v":"Defined values"},{"$f":"Tabel3[[#This Row],[X Path]]","v":"/catalogue_item_notification:catalogueItemNotificationMessage/transaction/documentCommand/catalogue_item_notification:catalogueItemNotification/catalogueItem/tradeItem/tradeItemInformation/extension/*[namespace-uri()='urn:gs1:gdsn:transportation_hazardous_classification:xsd:3' and local-name()='transportationHazardousClassificationModule']/transportationClassification/regulatedTransportationMode/hazardousInformationHeader/dangerousGoodsRegulationCode"},{"$f":"Tabel3[[#This Row],[GDM laag]]","v":"Local"},{"$f":"VLOOKUP(Tabel3[[#This Row],[GAE ID]],'BES EN'!A:AJ,27,FALSE)","v":"Mandatory in case the GPC code of your product is listed on ‘GPC codes that possibly contain a dangerous goods’"},null,{"$f":"Tabel3[[#This Row],[Dairy, Refrigerated & Frozen]]","v":"-"},{"$f":"Tabel3[[#This Row],[Deli & Prepared]]","v":"-"},{"$f":"Tabel3[[#This Row],[Fresh Meat]]","v":"-"},{"$f":"Tabel3[[#This Row],[Fresh Fish]]","v":"-"},{"$f":"Tabel3[[#This Row],[Fresh Fruits & Vegetables]]","v":"-"},{"$f":"Tabel3[[#This Row],[Grocery]]","v":"-"},{"$f":"Tabel3[[#This Row],[Cleaners]]","v":"G"},{"$f":"Tabel3[[#This Row],[Disposables]]","v":"-"},{"$f":"Tabel3[[#This Row],[Beauty & Personal Care]]","v":"I"},{"$f":"Tabel3[[#This Row],[Petfood]]","v":"-"},{"$f":"Tabel3[[#This Row],[Alcoholic Beverages]]","v":"-"},{"$f":"Tabel3[[#This Row],[Tobacco]]","v":"-"},{"$f":"Tabel3[[#This Row],[Self-care medicines]]","v":"M"},{"$f":"Tabel3[[#This Row],[Special Food]]","v":"N"},{"$f":"Tabel3[[#This Row],[Food Supplements]]","v":"O"},{"$f":"Tabel3[[#This Row],[Healthcare Products]]","v":"P"},{"$f":"Tabel3[[#This Row],[Medical Devices]]","v":"Q"},{"$f":"Tabel3[[#This Row],[Batteries]]","v":"R"},{"$f":"Tabel3[[#This Row],[Light Bulbs]]","v":"S"},{"$f":"Tabel3[[#This Row],[Other Categories]]","v":"T"}]
[{"$f":"VLOOKUP(Tabel3[[#This Row],[GAE ID]],'BES EN'!A:AJ,36,FALSE)","v":"ADR class"},{"$f":"Tabel3[[#This Row],[GDSN-naam]]","v":"classOfDangerousGoods"},{"$f":"Tabel3[[#This Row],[GDM Verplicht / Conditioneel]]","v":"Optional"},{"$f":"Tabel3[[#This Row],[DMS controle]]","v":0},{"$f":"Tabel3[[#This Row],[BMS ID]]","v":3879},{"$f":"Tabel3[[#This Row],[Formaat]]","v":"Defined values"},{"$f":"Tabel3[[#This Row],[X Path]]","v":"/catalogue_item_notification:catalogueItemNotificationMessage/transaction/documentCommand/catalogue_item_notification:catalogueItemNotification/catalogueItem/tradeItem/tradeItemInformation/extension/*[namespace-uri()='urn:gs1:gdsn:transportation_hazardous_classification:xsd:3' and local-name()='transportationHazardousClassificationModule']/transportationClassification/regulatedTransportationMode/hazardousInformationHeader/hazardousInformationDetail/classOfDangerousGoods"},{"$f":"Tabel3[[#This Row],[GDM laag]]","v":"Local"},{"$f":"VLOOKUP(Tabel3[[#This Row],[GAE ID]],'BES EN'!A:AJ,27,FALSE)","v":"Mandatory in case the ‘Hazardous substances classification system’ field is not populated with ‘ZGE’ or ‘ZNA’."},null,{"$f":"Tabel3[[#This Row],[Dairy, Refrigerated & Frozen]]","v":"-"},{"$f":"Tabel3[[#This Row],[Deli & Prepared]]","v":"-"},{"$f":"Tabel3[[#This Row],[Fresh Meat]]","v":"-"},{"$f":"Tabel3[[#This Row],[Fresh Fish]]","v":"-"},{"$f":"Tabel3[[#This Row],[Fresh Fruits & Vegetables]]","v":"-"},{"$f":"Tabel3[[#This Row],[Grocery]]","v":"-"},{"$f":"Tabel3[[#This Row],[Cleaners]]","v":"G"},{"$f":"Tabel3[[#This Row],[Disposables]]","v":"-"},{"$f":"Tabel3[[#This Row],[Beauty & Personal Care]]","v":"I"},{"$f":"Tabel3[[#This Row],[Petfood]]","v":"-"},{"$f":"Tabel3[[#This Row],[Alcoholic Beverages]]","v":"-"},{"$f":"Tabel3[[#This Row],[Tobacco]]","v":"-"},{"$f":"Tabel3[[#This Row],[Self-care medicines]]","v":"M"},{"$f":"Tabel3[[#This Row],[Special Food]]","v":"N"},{"$f":"Tabel3[[#This Row],[Food Supplements]]","v":"O"},{"$f":"Tabel3[[#This Row],[Healthcare Products]]","v":"P"},{"$f":"Tabel3[[#This Row],[Medical Devices]]","v":"Q"},{"$f":"Tabel3[[#This Row],[Batteries]]","v":"R"},{"$f":"Tabel3[[#This Row],[Light Bulbs]]","v":"S"},{"$f":"Tabel3[[#This Row],[Other Categories]]","v":"T"}]
[{"$f":"VLOOKUP(Tabel3[[#This Row],[GAE ID]],'BES EN'!A:AJ,36,FALSE)","v":"Hazard type (ADR/BRZO)"},{"$f":"Tabel3[[#This Row],[GDSN-naam]]","v":"dangerousGoodsHazardousCode"},{"$f":"Tabel3[[#This Row],[GDM Verplicht / Conditioneel]]","v":"Optional"},{"$f":"Tabel3[[#This Row],[DMS controle]]","v":0},{"$f":"Tabel3[[#This Row],[BMS ID]]","v":3881},{"$f":"Tabel3[[#This Row],[Formaat]]","v":"an..35"},{"$f":"Tabel3[[#This Row],[X Path]]","v":"/catalogue_item_notification:catalogueItemNotificationMessage/transaction/documentCommand/catalogue_item_notification:catalogueItemNotification/catalogueItem/tradeItem/tradeItemInformation/extension/*[namespace-uri()='urn:gs1:gdsn:transportation_hazardous_classification:xsd:3' and local-name()='transportationHazardousClassificationModule']/transportationClassification/regulatedTransportationMode/hazardousInformationHeader/hazardousInformationDetail/dangerousGoodsHazardousCode"},{"$f":"Tabel3[[#This Row],[GDM laag]]","v":"Local"},{"$f":"VLOOKUP(Tabel3[[#This Row],[GAE ID]],'BES EN'!A:AJ,27,FALSE)","v":"Mandatory in case for a consumer unit 'ADR class' is populated with a value in the range 1 to 9."},null,{"$f":"Tabel3[[#This Row],[Dairy, Refrigerated & Frozen]]","v":"-"},{"$f":"Tabel3[[#This Row],[Deli & Prepared]]","v":"-"},{"$f":"Tabel3[[#This Row],[Fresh Meat]]","v":"-"},{"$f":"Tabel3[[#This Row],[Fresh Fish]]","v":"-"},{"$f":"Tabel3[[#This Row],[Fresh Fruits & Vegetables]]","v":"-"},{"$f":"Tabel3[[#This Row],[Grocery]]","v":"-"},{"$f":"Tabel3[[#This Row],[Cleaners]]","v":"G"},{"$f":"Tabel3[[#This Row],[Disposables]]","v":"-"},{"$f":"Tabel3[[#This Row],[Beauty & Personal Care]]","v":"I"},{"$f":"Tabel3[[#This Row],[Petfood]]","v":"-"},{"$f":"Tabel3[[#This Row],[Alcoholic Beverages]]","v":"-"},{"$f":"Tabel3[[#This Row],[Tobacco]]","v":"-"},{"$f":"Tabel3[[#This Row],[Self-care medicines]]","v":"M"},{"$f":"Tabel3[[#This Row],[Special Food]]","v":"N"},{"$f":"Tabel3[[#This Row],[Food Supplements]]","v":"O"},{"$f":"Tabel3[[#This Row],[Healthcare Products]]","v":"P"},{"$f":"Tabel3[[#This Row],[Medical Devices]]","v":"Q"},{"$f":"Tabel3[[#This Row],[Batteries]]","v":"R"},{"$f":"Tabel3[[#This Row],[Light Bulbs]]","v":"S"},{"$f":"Tabel3[[#This Row],[Other Categories]]","v":"T"}]
[{"$f":"VLOOKUP(Tabel3[[#This Row],[GAE ID]],'BES EN'!A:AJ,36,FALSE)","v":"Dangerous goods regulation agency"},{"$f":"Tabel3[[#This Row],[GDSN-naam]]","v":"dangerousGoodsRegulationAgency"},{"$f":"Tabel3[[#This Row],[GDM Verplicht / Conditioneel]]","v":"X"},{"$f":"Tabel3[[#This Row],[DMS controle]]","v":0},{"$f":"Tabel3[[#This Row],[BMS ID]]","v":3864},{"$f":"Tabel3[[#This Row],[Formaat]]","v":"an..70"},{"$f":"Tabel3[[#This Row],[X Path]]","v":"/catalogue_item_notification:catalogueItemNotificationMessage/transaction/documentCommand/catalogue_item_notification:catalogueItemNotification/catalogueItem/tradeItem/tradeItemInformation/extension/*[namespace-uri()='urn:gs1:gdsn:transportation_hazardous_classification:xsd:3' and local-name()='transportationHazardousClassificationModule']/transportationClassification/regulatedTransportationMode/hazardousInformationHeader/dangerousGoodsRegulationAgency"},{"$f":"Tabel3[[#This Row],[GDM laag]]","v":"Local"},{"$f":"VLOOKUP(Tabel3[[#This Row],[GAE ID]],'BES EN'!A:AJ,27,FALSE)","v":"Mandatory, if the field ‘Hazard type (ADR/BRZO)’ is populated."},null,{"$f":"Tabel3[[#This Row],[Dairy, Refrigerated & Frozen]]","v":"-"},{"$f":"Tabel3[[#This Row],[Deli & Prepared]]","v":"-"},{"$f":"Tabel3[[#This Row],[Fresh Meat]]","v":"-"},{"$f":"Tabel3[[#This Row],[Fresh Fish]]","v":"-"},{"$f":"Tabel3[[#This Row],[Fresh Fruits & Vegetables]]","v":"-"},{"$f":"Tabel3[[#This Row],[Grocery]]","v":"-"},{"$f":"Tabel3[[#This Row],[Cleaners]]","v":"G"},{"$f":"Tabel3[[#This Row],[Disposables]]","v":"-"},{"$f":"Tabel3[[#This Row],[Beauty & Personal Care]]","v":"I"},{"$f":"Tabel3[[#This Row],[Petfood]]","v":"-"},{"$f":"Tabel3[[#This Row],[Alcoholic Beverages]]","v":"-"},{"$f":"Tabel3[[#This Row],[Tobacco]]","v":"-"},{"$f":"Tabel3[[#This Row],[Self-care medicines]]","v":"M"},{"$f":"Tabel3[[#This Row],[Special Food]]","v":"N"},{"$f":"Tabel3[[#This Row],[Food Supplements]]","v":"O"},{"$f":"Tabel3[[#This Row],[Healthcare Products]]","v":"P"},{"$f":"Tabel3[[#This Row],[Medical Devices]]","v":"Q"},{"$f":"Tabel3[[#This Row],[Batteries]]","v":"R"},{"$f":"Tabel3[[#This Row],[Light Bulbs]]","v":"S"},{"$f":"Tabel3[[#This Row],[Other Categories]]","v":"T"}]
[{"$f":"VLOOKUP(Tabel3[[#This Row],[GAE ID]],'BES EN'!A:AJ,36,FALSE)","v":"UN number"},{"$f":"Tabel3[[#This Row],[GDSN-naam]]","v":"unitedNationsDangerousGoodsNumber"},{"$f":"Tabel3[[#This Row],[GDM Verplicht / Conditioneel]]","v":"Optional"},{"$f":"Tabel3[[#This Row],[DMS controle]]","v":0},{"$f":"Tabel3[[#This Row],[BMS ID]]","v":3894},{"$f":"Tabel3[[#This Row],[Formaat]]","v":"Defined values"},{"$f":"Tabel3[[#This Row],[X Path]]","v":"/catalogue_item_notification:catalogueItemNotificationMessage/transaction/documentCommand/catalogue_item_notification:catalogueItemNotification/catalogueItem/tradeItem/tradeItemInformation/extension/*[namespace-uri()='urn:gs1:gdsn:transportation_hazardous_classification:xsd:3' and local-name()='transportationHazardousClassificationModule']/transportationClassification/regulatedTransportationMode/hazardousInformationHeader/hazardousInformationDetail/unitedNationsDangerousGoodsNumber"},{"$f":"Tabel3[[#This Row],[GDM laag]]","v":"Local"},{"$f":"VLOOKUP(Tabel3[[#This Row],[GAE ID]],'BES EN'!A:AJ,27,FALSE)","v":"Mandatory in case for a consumer unit 'ADR class' is populated with a value in the range 1 to 9."},null,{"$f":"Tabel3[[#This Row],[Dairy, Refrigerated & Frozen]]","v":"-"},{"$f":"Tabel3[[#This Row],[Deli & Prepared]]","v":"-"},{"$f":"Tabel3[[#This Row],[Fresh Meat]]","v":"-"},{"$f":"Tabel3[[#This Row],[Fresh Fish]]","v":"-"},{"$f":"Tabel3[[#This Row],[Fresh Fruits & Vegetables]]","v":"-"},{"$f":"Tabel3[[#This Row],[Grocery]]","v":"-"},{"$f":"Tabel3[[#This Row],[Cleaners]]","v":"G"},{"$f":"Tabel3[[#This Row],[Disposables]]","v":"-"},{"$f":"Tabel3[[#This Row],[Beauty & Personal Care]]","v":"I"},{"$f":"Tabel3[[#This Row],[Petfood]]","v":"-"},{"$f":"Tabel3[[#This Row],[Alcoholic Beverages]]","v":"-"},{"$f":"Tabel3[[#This Row],[Tobacco]]","v":"-"},{"$f":"Tabel3[[#This Row],[Self-care medicines]]","v":"M"},{"$f":"Tabel3[[#This Row],[Special Food]]","v":"N"},{"$f":"Tabel3[[#This Row],[Food Supplements]]","v":"O"},{"$f":"Tabel3[[#This Row],[Healthcare Products]]","v":"P"},{"$f":"Tabel3[[#This Row],[Medical Devices]]","v":"Q"},{"$f":"Tabel3[[#This Row],[Batteries]]","v":"R"},{"$f":"Tabel3[[#This Row],[Light Bulbs]]","v":"S"},{"$f":"Tabel3[[#This Row],[Other Categories]]","v":"T"}]
[{"$f":"VLOOKUP(Tabel3[[#This Row],[GAE ID]],'BES EN'!A:AJ,36,FALSE)","v":"ADR packing group"},{"$f":"Tabel3[[#This Row],[GDSN-naam]]","v":"dangerousGoodsPackingGroup"},{"$f":"Tabel3[[#This Row],[GDM Verplicht / Conditioneel]]","v":"Optional"},{"$f":"Tabel3[[#This Row],[DMS controle]]","v":0},{"$f":"Tabel3[[#This Row],[BMS ID]]","v":3882},{"$f":"Tabel3[[#This Row],[Formaat]]","v":"Defined values"},{"$f":"Tabel3[[#This Row],[X Path]]","v":"/catalogue_item_notification:catalogueItemNotificationMessage/transaction/documentCommand/catalogue_item_notification:catalogueItemNotification/catalogueItem/tradeItem/tradeItemInformation/extension/*[namespace-uri()='urn:gs1:gdsn:transportation_hazardous_classification:xsd:3' and local-name()='transportationHazardousClassificationModule']/transportationClassification/regulatedTransportationMode/hazardousInformationHeader/hazardousInformationDetail/dangerousGoodsPackingGroup"},{"$f":"Tabel3[[#This Row],[GDM laag]]","v":"Local"},{"$f":"VLOOKUP(Tabel3[[#This Row],[GAE ID]],'BES EN'!A:AJ,27,FALSE)","v":"Mandatory in case for a consumer unit 'ADR class' is populated with a value in the range 1 to 9."},null,{"$f":"Tabel3[[#This Row],[Dairy, Refrigerated & Frozen]]","v":"-"},{"$f":"Tabel3[[#This Row],[Deli & Prepared]]","v":"-"},{"$f":"Tabel3[[#This Row],[Fresh Meat]]","v":"-"},{"$f":"Tabel3[[#This Row],[Fresh Fish]]","v":"-"},{"$f":"Tabel3[[#This Row],[Fresh Fruits & Vegetables]]","v":"-"},{"$f":"Tabel3[[#This Row],[Grocery]]","v":"-"},{"$f":"Tabel3[[#This Row],[Cleaners]]","v":"G"},{"$f":"Tabel3[[#This Row],[Disposables]]","v":"-"},{"$f":"Tabel3[[#This Row],[Beauty & Personal Care]]","v":"I"},{"$f":"Tabel3[[#This Row],[Petfood]]","v":"-"},{"$f":"Tabel3[[#This Row],[Alcoholic Beverages]]","v":"-"},{"$f":"Tabel3[[#This Row],[Tobacco]]","v":"-"},{"$f":"Tabel3[[#This Row],[Self-care medicines]]","v":"M"},{"$f":"Tabel3[[#This Row],[Special Food]]","v":"N"},{"$f":"Tabel3[[#This Row],[Food Supplements]]","v":"O"},{"$f":"Tabel3[[#This Row],[Healthcare Products]]","v":"P"},{"$f":"Tabel3[[#This Row],[Medical Devices]]","v":"Q"},{"$f":"Tabel3[[#This Row],[Batteries]]","v":"R"},{"$f":"Tabel3[[#This Row],[Light Bulbs]]","v":"S"},{"$f":"Tabel3[[#This Row],[Other Categories]]","v":"T"}]
[{"$f":"VLOOKUP(Tabel3[[#This Row],[GAE ID]],'BES EN'!A:AJ,36,FALSE)","v":"GHS pictogram code"},{"$f":"Tabel3[[#This Row],[GDSN-naam]]","v":"gHSSymbolDescriptionCode"},{"$f":"Tabel3[[#This Row],[GDM Verplicht / Conditioneel]]","v":"Conditional"},{"$f":"Tabel3[[#This Row],[DMS controle]]","v":"X"},{"$f":"Tabel3[[#This Row],[BMS ID]]","v":3238},{"$f":"Tabel3[[#This Row],[Formaat]]","v":"Defined values"},{"$f":"Tabel3[[#This Row],[X Path]]","v":"/catalogue_item_notification:catalogueItemNotificationMessage/transaction/documentCommand/catalogue_item_notification:catalogueItemNotification/catalogueItem/tradeItem/tradeItemInformation/extension/*[namespace-uri()='urn:gs1:gdsn:safety_data_sheet:xsd:3' and local-name()='safetyDataSheetModule']/safetyDataSheetInformation/gHSDetail/gHSSymbolDescriptionCode"},{"$f":"Tabel3[[#This Row],[GDM laag]]","v":"Local"},{"$f":"VLOOKUP(Tabel3[[#This Row],[GAE ID]],'BES EN'!A:AJ,27,FALSE)","v":"Mandatory in case a GHS symbol code is on the packaging."},null,{"$f":"Tabel3[[#This Row],[Dairy, Refrigerated & Frozen]]","v":"-"},{"$f":"Tabel3[[#This Row],[Deli & Prepared]]","v":"-"},{"$f":"Tabel3[[#This Row],[Fresh Meat]]","v":"-"},{"$f":"Tabel3[[#This Row],[Fresh Fish]]","v":"-"},{"$f":"Tabel3[[#This Row],[Fresh Fruits & Vegetables]]","v":"-"},{"$f":"Tabel3[[#This Row],[Grocery]]","v":"-"},{"$f":"Tabel3[[#This Row],[Cleaners]]","v":"G"},{"$f":"Tabel3[[#This Row],[Disposables]]","v":"-"},{"$f":"Tabel3[[#This Row],[Beauty & Personal Care]]","v":"I"},{"$f":"Tabel3[[#This Row],[Petfood]]","v":"-"},{"$f":"Tabel3[[#This Row],[Alcoholic Beverages]]","v":"-"},{"$f":"Tabel3[[#This Row],[Tobacco]]","v":"-"},{"$f":"Tabel3[[#This Row],[Self-care medicines]]","v":"M"},{"$f":"Tabel3[[#This Row],[Special Food]]","v":"N"},{"$f":"Tabel3[[#This Row],[Food Supplements]]","v":"O"},{"$f":"Tabel3[[#This Row],[Healthcare Products]]","v":"P"},{"$f":"Tabel3[[#This Row],[Medical Devices]]","v":"Q"},{"$f":"Tabel3[[#This Row],[Batteries]]","v":"R"},{"$f":"Tabel3[[#This Row],[Light Bulbs]]","v":"S"},{"$f":"Tabel3[[#This Row],[Other Categories]]","v":"T"}]
[{"$f":"VLOOKUP(Tabel3[[#This Row],[GAE ID]],'BES EN'!A:AJ,36,FALSE)","v":"GHS signal words code"},{"$f":"Tabel3[[#This Row],[GDSN-naam]]","v":"gHSSignalWordsCode"},{"$f":"Tabel3[[#This Row],[GDM Verplicht / Conditioneel]]","v":"Conditional"},{"$f":"Tabel3[[#This Row],[DMS controle]]","v":"X"},{"$f":"Tabel3[[#This Row],[BMS ID]]","v":3237},{"$f":"Tabel3[[#This Row],[Formaat]]","v":"Defined values"},{"$f":"Tabel3[[#This Row],[X Path]]","v":"/catalogue_item_notification:catalogueItemNotificationMessage/transaction/documentCommand/catalogue_item_notification:catalogueItemNotification/catalogueItem/tradeItem/tradeItemInformation/extension/*[namespace-uri()='urn:gs1:gdsn:safety_data_sheet:xsd:3' and local-name()='safetyDataSheetModule']/safetyDataSheetInformation/gHSDetail/gHSSignalWordsCode"},{"$f":"Tabel3[[#This Row],[GDM laag]]","v":"Local"},{"$f":"VLOOKUP(Tabel3[[#This Row],[GAE ID]],'BES EN'!A:AJ,27,FALSE)","v":"Mandatory in case the ‘GHS pictogram code’ field or the ‘ADR class’ field is populated."},null,{"$f":"Tabel3[[#This Row],[Dairy, Refrigerated & Frozen]]","v":"-"},{"$f":"Tabel3[[#This Row],[Deli & Prepared]]","v":"-"},{"$f":"Tabel3[[#This Row],[Fresh Meat]]","v":"-"},{"$f":"Tabel3[[#This Row],[Fresh Fish]]","v":"-"},{"$f":"Tabel3[[#This Row],[Fresh Fruits & Vegetables]]","v":"-"},{"$f":"Tabel3[[#This Row],[Grocery]]","v":"-"},{"$f":"Tabel3[[#This Row],[Cleaners]]","v":"G"},{"$f":"Tabel3[[#This Row],[Disposables]]","v":"-"},{"$f":"Tabel3[[#This Row],[Beauty & Personal Care]]","v":"I"},{"$f":"Tabel3[[#This Row],[Petfood]]","v":"-"},{"$f":"Tabel3[[#This Row],[Alcoholic Beverages]]","v":"-"},{"$f":"Tabel3[[#This Row],[Tobacco]]","v":"-"},{"$f":"Tabel3[[#This Row],[Self-care medicines]]","v":"M"},{"$f":"Tabel3[[#This Row],[Special Food]]","v":"N"},{"$f":"Tabel3[[#This Row],[Food Supplements]]","v":"O"},{"$f":"Tabel3[[#This Row],[Healthcare Products]]","v":"P"},{"$f":"Tabel3[[#This Row],[Medical Devices]]","v":"Q"},{"$f":"Tabel3[[#This Row],[Batteries]]","v":"R"},{"$f":"Tabel3[[#This Row],[Light Bulbs]]","v":"S"},{"$f":"Tabel3[[#This Row],[Other Categories]]","v":"T"}]
[{"$f":"VLOOKUP(Tabel3[[#This Row],[GAE ID]],'BES EN'!A:AJ,36,FALSE)","v":"Hazard designations (Hazard) "},{"$f":"Tabel3[[#This Row],[GDSN-naam]]","v":"hazardStatementsCode"},{"$f":"Tabel3[[#This Row],[GDM Verplicht / Conditioneel]]","v":"Conditional"},{"$f":"Tabel3[[#This Row],[DMS controle]]","v":0},{"$f":"Tabel3[[#This Row],[BMS ID]]","v":3240},{"$f":"Tabel3[[#This Row],[Formaat]]","v":"an..35"},{"$f":"Tabel3[[#This Row],[X Path]]","v":"/catalogue_item_notification:catalogueItemNotificationMessage/transaction/documentCommand/catalogue_item_notification:catalogueItemNotification/catalogueItem/tradeItem/tradeItemInformation/extension/*[namespace-uri()='urn:gs1:gdsn:safety_data_sheet:xsd:3' and local-name()='safetyDataSheetModule']/safetyDataSheetInformation/gHSDetail/hazardStatement/hazardStatementsCode"},{"$f":"Tabel3[[#This Row],[GDM laag]]","v":"Local"},{"$f":"VLOOKUP(Tabel3[[#This Row],[GAE ID]],'BES EN'!A:AJ,27,FALSE)","v":"Mandatory if a hazard statement is indicated on the packaging or on the safety data sheet, optional for cosmetics and personal care products."},null,{"$f":"Tabel3[[#This Row],[Dairy, Refrigerated & Frozen]]","v":"-"},{"$f":"Tabel3[[#This Row],[Deli & Prepared]]","v":"-"},{"$f":"Tabel3[[#This Row],[Fresh Meat]]","v":"-"},{"$f":"Tabel3[[#This Row],[Fresh Fish]]","v":"-"},{"$f":"Tabel3[[#This Row],[Fresh Fruits & Vegetables]]","v":"-"},{"$f":"Tabel3[[#This Row],[Grocery]]","v":"-"},{"$f":"Tabel3[[#This Row],[Cleaners]]","v":"G"},{"$f":"Tabel3[[#This Row],[Disposables]]","v":"-"},{"$f":"Tabel3[[#This Row],[Beauty & Personal Care]]","v":"I"},{"$f":"Tabel3[[#This Row],[Petfood]]","v":"-"},{"$f":"Tabel3[[#This Row],[Alcoholic Beverages]]","v":"-"},{"$f":"Tabel3[[#This Row],[Tobacco]]","v":"-"},{"$f":"Tabel3[[#This Row],[Self-care medicines]]","v":"M"},{"$f":"Tabel3[[#This Row],[Special Food]]","v":"N"},{"$f":"Tabel3[[#This Row],[Food Supplements]]","v":"O"},{"$f":"Tabel3[[#This Row],[Healthcare Products]]","v":"P"},{"$f":"Tabel3[[#This Row],[Medical Devices]]","v":"Q"},{"$f":"Tabel3[[#This Row],[Batteries]]","v":"R"},{"$f":"Tabel3[[#This Row],[Light Bulbs]]","v":"S"},{"$f":"Tabel3[[#This Row],[Other Categories]]","v":"T"}]
[{"$f":"VLOOKUP(Tabel3[[#This Row],[GAE ID]],'BES EN'!A:AJ,36,FALSE)","v":"Hazard designations (Hazard) - additional description"},{"$f":"Tabel3[[#This Row],[GDSN-naam]]","v":"hazardStatementsDescription"},{"$f":"Tabel3[[#This Row],[GDM Verplicht / Conditioneel]]","v":"Conditional"},{"$f":"Tabel3[[#This Row],[DMS controle]]","v":0},{"$f":"Tabel3[[#This Row],[BMS ID]]","v":3241},{"$f":"Tabel3[[#This Row],[Formaat]]","v":"an..1000"},{"$f":"Tabel3[[#This Row],[X Path]]","v":"/catalogue_item_notification:catalogueItemNotificationMessage/transaction/documentCommand/catalogue_item_notification:catalogueItemNotification/catalogueItem/tradeItem/tradeItemInformation/extension/*[namespace-uri()='urn:gs1:gdsn:safety_data_sheet:xsd:3' and local-name()='safetyDataSheetModule']/safetyDataSheetInformation/gHSDetail/hazardStatement/hazardStatementsDescription"},{"$f":"Tabel3[[#This Row],[GDM laag]]","v":"Local"},{"$f":"VLOOKUP(Tabel3[[#This Row],[GAE ID]],'BES EN'!A:AJ,27,FALSE)","v":"Mandatory, when the H phrases or EUH phrases that you entered in the ‘Hazard designations (Hazard)’ field need an addition.  "},null,{"$f":"Tabel3[[#This Row],[Dairy, Refrigerated & Frozen]]","v":"-"},{"$f":"Tabel3[[#This Row],[Deli & Prepared]]","v":"-"},{"$f":"Tabel3[[#This Row],[Fresh Meat]]","v":"-"},{"$f":"Tabel3[[#This Row],[Fresh Fish]]","v":"-"},{"$f":"Tabel3[[#This Row],[Fresh Fruits & Vegetables]]","v":"-"},{"$f":"Tabel3[[#This Row],[Grocery]]","v":"-"},{"$f":"Tabel3[[#This Row],[Cleaners]]","v":"G"},{"$f":"Tabel3[[#This Row],[Disposables]]","v":"-"},{"$f":"Tabel3[[#This Row],[Beauty & Personal Care]]","v":"I"},{"$f":"Tabel3[[#This Row],[Petfood]]","v":"-"},{"$f":"Tabel3[[#This Row],[Alcoholic Beverages]]","v":"-"},{"$f":"Tabel3[[#This Row],[Tobacco]]","v":"-"},{"$f":"Tabel3[[#This Row],[Self-care medicines]]","v":"M"},{"$f":"Tabel3[[#This Row],[Special Food]]","v":"N"},{"$f":"Tabel3[[#This Row],[Food Supplements]]","v":"O"},{"$f":"Tabel3[[#This Row],[Healthcare Products]]","v":"P"},{"$f":"Tabel3[[#This Row],[Medical Devices]]","v":"Q"},{"$f":"Tabel3[[#This Row],[Batteries]]","v":"R"},{"$f":"Tabel3[[#This Row],[Light Bulbs]]","v":"S"},{"$f":"Tabel3[[#This Row],[Other Categories]]","v":"T"}]
[{"$f":"VLOOKUP(Tabel3[[#This Row],[GAE ID]],'BES EN'!A:AJ,36,FALSE)","v":"Hazard designations (Hazard) - additional description language code"},{"$f":"Tabel3[[#This Row],[GDSN-naam]]","v":"hazardStatementsDescription/@languageCode"},{"$f":"Tabel3[[#This Row],[GDM Verplicht / Conditioneel]]","v":"Conditional"},{"$f":"Tabel3[[#This Row],[DMS controle]]","v":0},{"$f":"Tabel3[[#This Row],[BMS ID]]","v":3242},{"$f":"Tabel3[[#This Row],[Formaat]]","v":"Defined values"},{"$f":"Tabel3[[#This Row],[X Path]]","v":"/catalogue_item_notification:catalogueItemNotificationMessage/transaction/documentCommand/catalogue_item_notification:catalogueItemNotification/catalogueItem/tradeItem/tradeItemInformation/extension/*[namespace-uri()='urn:gs1:gdsn:safety_data_sheet:xsd:3' and local-name()='safetyDataSheetModule']/safetyDataSheetInformation/gHSDetail/hazardStatement/hazardStatementsDescription/@languageCode"},{"$f":"Tabel3[[#This Row],[GDM laag]]","v":"Local"},{"$f":"VLOOKUP(Tabel3[[#This Row],[GAE ID]],'BES EN'!A:AJ,27,FALSE)","v":"Mandatory if the 'Hazard designations (Hazard) - additional description ' field is populated."},null,{"$f":"Tabel3[[#This Row],[Dairy, Refrigerated & Frozen]]","v":"-"},{"$f":"Tabel3[[#This Row],[Deli & Prepared]]","v":"-"},{"$f":"Tabel3[[#This Row],[Fresh Meat]]","v":"-"},{"$f":"Tabel3[[#This Row],[Fresh Fish]]","v":"-"},{"$f":"Tabel3[[#This Row],[Fresh Fruits & Vegetables]]","v":"-"},{"$f":"Tabel3[[#This Row],[Grocery]]","v":"-"},{"$f":"Tabel3[[#This Row],[Cleaners]]","v":"G"},{"$f":"Tabel3[[#This Row],[Disposables]]","v":"-"},{"$f":"Tabel3[[#This Row],[Beauty & Personal Care]]","v":"I"},{"$f":"Tabel3[[#This Row],[Petfood]]","v":"-"},{"$f":"Tabel3[[#This Row],[Alcoholic Beverages]]","v":"-"},{"$f":"Tabel3[[#This Row],[Tobacco]]","v":"-"},{"$f":"Tabel3[[#This Row],[Self-care medicines]]","v":"M"},{"$f":"Tabel3[[#This Row],[Special Food]]","v":"N"},{"$f":"Tabel3[[#This Row],[Food Supplements]]","v":"O"},{"$f":"Tabel3[[#This Row],[Healthcare Products]]","v":"P"},{"$f":"Tabel3[[#This Row],[Medical Devices]]","v":"Q"},{"$f":"Tabel3[[#This Row],[Batteries]]","v":"R"},{"$f":"Tabel3[[#This Row],[Light Bulbs]]","v":"S"},{"$f":"Tabel3[[#This Row],[Other Categories]]","v":"T"}]
[{"$f":"VLOOKUP(Tabel3[[#This Row],[GAE ID]],'BES EN'!A:AJ,36,FALSE)","v":"Is dangerous substance a mixture"},{"$f":"Tabel3[[#This Row],[GDSN-naam]]","v":"isDangerousSubstanceAMixture"},{"$f":"Tabel3[[#This Row],[GDM Verplicht / Conditioneel]]","v":"X"},{"$f":"Tabel3[[#This Row],[DMS controle]]","v":0},{"$f":"Tabel3[[#This Row],[BMS ID]]","v":941},{"$f":"Tabel3[[#This Row],[Formaat]]","v":"Non-binary logic enumeration"},{"$f":"Tabel3[[#This Row],[X Path]]","v":"/catalogue_item_notification:catalogueItemNotificationMessage/transaction/documentCommand/catalogue_item_notification:catalogueItemNotification/catalogueItem/tradeItem/tradeItemInformation/extension/*[namespace-uri()='urn:gs1:gdsn:dangerous_substance_information:xsd:3' and local-name()='dangerousSubstanceInformationModule']/dangerousSubstanceInformation/dangerousSubstanceProperties/isDangerousSubstanceAMixture"},{"$f":"Tabel3[[#This Row],[GDM laag]]","v":"Local"},{"$f":"VLOOKUP(Tabel3[[#This Row],[GAE ID]],'BES EN'!A:AJ,27,FALSE)","v":"Mandatory if the ‘Hazard statement code (Hazard)’ is populated for a mixture of hazardous substances."},null,{"$f":"Tabel3[[#This Row],[Dairy, Refrigerated & Frozen]]","v":"-"},{"$f":"Tabel3[[#This Row],[Deli & Prepared]]","v":"-"},{"$f":"Tabel3[[#This Row],[Fresh Meat]]","v":"-"},{"$f":"Tabel3[[#This Row],[Fresh Fish]]","v":"-"},{"$f":"Tabel3[[#This Row],[Fresh Fruits & Vegetables]]","v":"-"},{"$f":"Tabel3[[#This Row],[Grocery]]","v":"-"},{"$f":"Tabel3[[#This Row],[Cleaners]]","v":"G"},{"$f":"Tabel3[[#This Row],[Disposables]]","v":"-"},{"$f":"Tabel3[[#This Row],[Beauty & Personal Care]]","v":"I"},{"$f":"Tabel3[[#This Row],[Petfood]]","v":"-"},{"$f":"Tabel3[[#This Row],[Alcoholic Beverages]]","v":"-"},{"$f":"Tabel3[[#This Row],[Tobacco]]","v":"-"},{"$f":"Tabel3[[#This Row],[Self-care medicines]]","v":"M"},{"$f":"Tabel3[[#This Row],[Special Food]]","v":"N"},{"$f":"Tabel3[[#This Row],[Food Supplements]]","v":"O"},{"$f":"Tabel3[[#This Row],[Healthcare Products]]","v":"P"},{"$f":"Tabel3[[#This Row],[Medical Devices]]","v":"Q"},{"$f":"Tabel3[[#This Row],[Batteries]]","v":"R"},{"$f":"Tabel3[[#This Row],[Light Bulbs]]","v":"S"},{"$f":"Tabel3[[#This Row],[Other Categories]]","v":"T"}]
[{"$f":"VLOOKUP(Tabel3[[#This Row],[GAE ID]],'BES EN'!A:AJ,36,FALSE)","v":"Safety recommendations (Precautionary)"},{"$f":"Tabel3[[#This Row],[GDSN-naam]]","v":"precautionaryStatementsCode"},{"$f":"Tabel3[[#This Row],[GDM Verplicht / Conditioneel]]","v":"Conditional"},{"$f":"Tabel3[[#This Row],[DMS controle]]","v":0},{"$f":"Tabel3[[#This Row],[BMS ID]]","v":3244},{"$f":"Tabel3[[#This Row],[Formaat]]","v":"an..35"},{"$f":"Tabel3[[#This Row],[X Path]]","v":"/catalogue_item_notification:catalogueItemNotificationMessage/transaction/documentCommand/catalogue_item_notification:catalogueItemNotification/catalogueItem/tradeItem/tradeItemInformation/extension/*[namespace-uri()='urn:gs1:gdsn:safety_data_sheet:xsd:3' and local-name()='safetyDataSheetModule']/safetyDataSheetInformation/gHSDetail/precautionaryStatement/precautionaryStatementsCode"},{"$f":"Tabel3[[#This Row],[GDM laag]]","v":"Local"},{"$f":"VLOOKUP(Tabel3[[#This Row],[GAE ID]],'BES EN'!A:AJ,27,FALSE)","v":"Mandatory if a precautionary statement is indicated on the packaging, optional for cosmetics and personal care products."},null,{"$f":"Tabel3[[#This Row],[Dairy, Refrigerated & Frozen]]","v":"-"},{"$f":"Tabel3[[#This Row],[Deli & Prepared]]","v":"-"},{"$f":"Tabel3[[#This Row],[Fresh Meat]]","v":"-"},{"$f":"Tabel3[[#This Row],[Fresh Fish]]","v":"-"},{"$f":"Tabel3[[#This Row],[Fresh Fruits & Vegetables]]","v":"-"},{"$f":"Tabel3[[#This Row],[Grocery]]","v":"-"},{"$f":"Tabel3[[#This Row],[Cleaners]]","v":"G"},{"$f":"Tabel3[[#This Row],[Disposables]]","v":"-"},{"$f":"Tabel3[[#This Row],[Beauty & Personal Care]]","v":"I"},{"$f":"Tabel3[[#This Row],[Petfood]]","v":"-"},{"$f":"Tabel3[[#This Row],[Alcoholic Beverages]]","v":"-"},{"$f":"Tabel3[[#This Row],[Tobacco]]","v":"-"},{"$f":"Tabel3[[#This Row],[Self-care medicines]]","v":"M"},{"$f":"Tabel3[[#This Row],[Special Food]]","v":"N"},{"$f":"Tabel3[[#This Row],[Food Supplements]]","v":"O"},{"$f":"Tabel3[[#This Row],[Healthcare Products]]","v":"P"},{"$f":"Tabel3[[#This Row],[Medical Devices]]","v":"Q"},{"$f":"Tabel3[[#This Row],[Batteries]]","v":"R"},{"$f":"Tabel3[[#This Row],[Light Bulbs]]","v":"S"},{"$f":"Tabel3[[#This Row],[Other Categories]]","v":"T"}]
[{"$f":"VLOOKUP(Tabel3[[#This Row],[GAE ID]],'BES EN'!A:AJ,36,FALSE)","v":"Safety recommendations (Precautionary) - additional description"},{"$f":"Tabel3[[#This Row],[GDSN-naam]]","v":"precautionaryStatementsDescription"},{"$f":"Tabel3[[#This Row],[GDM Verplicht / Conditioneel]]","v":"Conditional"},{"$f":"Tabel3[[#This Row],[DMS controle]]","v":0},{"$f":"Tabel3[[#This Row],[BMS ID]]","v":3245},{"$f":"Tabel3[[#This Row],[Formaat]]","v":"an..1000"},{"$f":"Tabel3[[#This Row],[X Path]]","v":"/catalogue_item_notification:catalogueItemNotificationMessage/transaction/documentCommand/catalogue_item_notification:catalogueItemNotification/catalogueItem/tradeItem/tradeItemInformation/extension/*[namespace-uri()='urn:gs1:gdsn:safety_data_sheet:xsd:3' and local-name()='safetyDataSheetModule']/safetyDataSheetInformation/gHSDetail/precautionaryStatement/precautionaryStatementsDescription"},{"$f":"Tabel3[[#This Row],[GDM laag]]","v":"Local"},{"$f":"VLOOKUP(Tabel3[[#This Row],[GAE ID]],'BES EN'!A:AJ,27,FALSE)","v":"Mandatory, when the P phrases that you entered in the ‘Safety recommendations (Precautionary)’ field need an addition."},null,{"$f":"Tabel3[[#This Row],[Dairy, Refrigerated & Frozen]]","v":"-"},{"$f":"Tabel3[[#This Row],[Deli & Prepared]]","v":"-"},{"$f":"Tabel3[[#This Row],[Fresh Meat]]","v":"-"},{"$f":"Tabel3[[#This Row],[Fresh Fish]]","v":"-"},{"$f":"Tabel3[[#This Row],[Fresh Fruits & Vegetables]]","v":"-"},{"$f":"Tabel3[[#This Row],[Grocery]]","v":"-"},{"$f":"Tabel3[[#This Row],[Cleaners]]","v":"G"},{"$f":"Tabel3[[#This Row],[Disposables]]","v":"-"},{"$f":"Tabel3[[#This Row],[Beauty & Personal Care]]","v":"I"},{"$f":"Tabel3[[#This Row],[Petfood]]","v":"-"},{"$f":"Tabel3[[#This Row],[Alcoholic Beverages]]","v":"-"},{"$f":"Tabel3[[#This Row],[Tobacco]]","v":"-"},{"$f":"Tabel3[[#This Row],[Self-care medicines]]","v":"M"},{"$f":"Tabel3[[#This Row],[Special Food]]","v":"N"},{"$f":"Tabel3[[#This Row],[Food Supplements]]","v":"O"},{"$f":"Tabel3[[#This Row],[Healthcare Products]]","v":"P"},{"$f":"Tabel3[[#This Row],[Medical Devices]]","v":"Q"},{"$f":"Tabel3[[#This Row],[Batteries]]","v":"R"},{"$f":"Tabel3[[#This Row],[Light Bulbs]]","v":"S"},{"$f":"Tabel3[[#This Row],[Other Categories]]","v":"T"}]
[{"$f":"VLOOKUP(Tabel3[[#This Row],[GAE ID]],'BES EN'!A:AJ,36,FALSE)","v":"Safety recommendations (Precautionary) - additional description language code"},{"$f":"Tabel3[[#This Row],[GDSN-naam]]","v":"precautionaryStatementsDescription/@languageCode"},{"$f":"Tabel3[[#This Row],[GDM Verplicht / Conditioneel]]","v":"Conditional"},{"$f":"Tabel3[[#This Row],[DMS controle]]","v":0},{"$f":"Tabel3[[#This Row],[BMS ID]]","v":3246},{"$f":"Tabel3[[#This Row],[Formaat]]","v":"Defined values"},{"$f":"Tabel3[[#This Row],[X Path]]","v":"/catalogue_item_notification:catalogueItemNotificationMessage/transaction/documentCommand/catalogue_item_notification:catalogueItemNotification/catalogueItem/tradeItem/tradeItemInformation/extension/*[namespace-uri()='urn:gs1:gdsn:safety_data_sheet:xsd:3' and local-name()='safetyDataSheetModule']/safetyDataSheetInformation/gHSDetail/precautionaryStatement/precautionaryStatementsDescription/@languageCode"},{"$f":"Tabel3[[#This Row],[GDM laag]]","v":"Local"},{"$f":"VLOOKUP(Tabel3[[#This Row],[GAE ID]],'BES EN'!A:AJ,27,FALSE)","v":"Mandatory if the 'Safety recommendations (Precautionary) - additional description' field is populated."},null,{"$f":"Tabel3[[#This Row],[Dairy, Refrigerated & Frozen]]","v":"-"},{"$f":"Tabel3[[#This Row],[Deli & Prepared]]","v":"-"},{"$f":"Tabel3[[#This Row],[Fresh Meat]]","v":"-"},{"$f":"Tabel3[[#This Row],[Fresh Fish]]","v":"-"},{"$f":"Tabel3[[#This Row],[Fresh Fruits & Vegetables]]","v":"-"},{"$f":"Tabel3[[#This Row],[Grocery]]","v":"-"},{"$f":"Tabel3[[#This Row],[Cleaners]]","v":"G"},{"$f":"Tabel3[[#This Row],[Disposables]]","v":"-"},{"$f":"Tabel3[[#This Row],[Beauty & Personal Care]]","v":"I"},{"$f":"Tabel3[[#This Row],[Petfood]]","v":"-"},{"$f":"Tabel3[[#This Row],[Alcoholic Beverages]]","v":"-"},{"$f":"Tabel3[[#This Row],[Tobacco]]","v":"-"},{"$f":"Tabel3[[#This Row],[Self-care medicines]]","v":"M"},{"$f":"Tabel3[[#This Row],[Special Food]]","v":"N"},{"$f":"Tabel3[[#This Row],[Food Supplements]]","v":"O"},{"$f":"Tabel3[[#This Row],[Healthcare Products]]","v":"P"},{"$f":"Tabel3[[#This Row],[Medical Devices]]","v":"Q"},{"$f":"Tabel3[[#This Row],[Batteries]]","v":"R"},{"$f":"Tabel3[[#This Row],[Light Bulbs]]","v":"S"},{"$f":"Tabel3[[#This Row],[Other Categories]]","v":"T"}]
[{"$f":"VLOOKUP(Tabel3[[#This Row],[GAE ID]],'BES EN'!A:AJ,36,FALSE)","v":"SDS code"},{"$f":"Tabel3[[#This Row],[GDSN-naam]]","v":"referencedFileTypeCode"},{"$f":"Tabel3[[#This Row],[GDM Verplicht / Conditioneel]]","v":"Conditional"},{"$f":"Tabel3[[#This Row],[DMS controle]]","v":0},{"$f":"Tabel3[[#This Row],[BMS ID]]","v":3164},{"$f":"Tabel3[[#This Row],[Formaat]]","v":"Defined values"},{"$f":"Tabel3[[#This Row],[X Path]]","v":"/catalogue_item_notification:catalogueItemNotificationMessage/transaction/documentCommand/catalogue_item_notification:catalogueItemNotification/catalogueItem/tradeItem/tradeItemInformation/extension/*[namespace-uri()='urn:gs1:gdsn:safety_data_sheet:xsd:3' and local-name()='safetyDataSheetModule']/safetyDataSheetInformation/referencedFileInformation/referencedFileTypeCode"},{"$f":"Tabel3[[#This Row],[GDM laag]]","v":"Local"},{"$f":"VLOOKUP(Tabel3[[#This Row],[GAE ID]],'BES EN'!A:AJ,27,FALSE)","v":"Mandatory in case ‘Regulation type code’ is populated with the value ‘SAFETY_DATA_SHEET_REQUIRED’ for a consumer unit."},null,{"$f":"Tabel3[[#This Row],[Dairy, Refrigerated & Frozen]]","v":"-"},{"$f":"Tabel3[[#This Row],[Deli & Prepared]]","v":"-"},{"$f":"Tabel3[[#This Row],[Fresh Meat]]","v":"-"},{"$f":"Tabel3[[#This Row],[Fresh Fish]]","v":"-"},{"$f":"Tabel3[[#This Row],[Fresh Fruits & Vegetables]]","v":"-"},{"$f":"Tabel3[[#This Row],[Grocery]]","v":"-"},{"$f":"Tabel3[[#This Row],[Cleaners]]","v":"G"},{"$f":"Tabel3[[#This Row],[Disposables]]","v":"-"},{"$f":"Tabel3[[#This Row],[Beauty & Personal Care]]","v":"I"},{"$f":"Tabel3[[#This Row],[Petfood]]","v":"-"},{"$f":"Tabel3[[#This Row],[Alcoholic Beverages]]","v":"-"},{"$f":"Tabel3[[#This Row],[Tobacco]]","v":"-"},{"$f":"Tabel3[[#This Row],[Self-care medicines]]","v":"M"},{"$f":"Tabel3[[#This Row],[Special Food]]","v":"N"},{"$f":"Tabel3[[#This Row],[Food Supplements]]","v":"O"},{"$f":"Tabel3[[#This Row],[Healthcare Products]]","v":"P"},{"$f":"Tabel3[[#This Row],[Medical Devices]]","v":"Q"},{"$f":"Tabel3[[#This Row],[Batteries]]","v":"R"},{"$f":"Tabel3[[#This Row],[Light Bulbs]]","v":"S"},{"$f":"Tabel3[[#This Row],[Other Categories]]","v":"T"}]
[{"$f":"VLOOKUP(Tabel3[[#This Row],[GAE ID]],'BES EN'!A:AJ,36,FALSE)","v":"URL of SDS file"},{"$f":"Tabel3[[#This Row],[GDSN-naam]]","v":"uniformResourceIdentifier"},{"$f":"Tabel3[[#This Row],[GDM Verplicht / Conditioneel]]","v":"Conditional"},{"$f":"Tabel3[[#This Row],[DMS controle]]","v":0},{"$f":"Tabel3[[#This Row],[BMS ID]]","v":3165},{"$f":"Tabel3[[#This Row],[Formaat]]","v":"an..2500"},{"$f":"Tabel3[[#This Row],[X Path]]","v":"/catalogue_item_notification:catalogueItemNotificationMessage/transaction/documentCommand/catalogue_item_notification:catalogueItemNotification/catalogueItem/tradeItem/tradeItemInformation/extension/*[namespace-uri()='urn:gs1:gdsn:safety_data_sheet:xsd:3' and local-name()='safetyDataSheetModule']/safetyDataSheetInformation/referencedFileInformation/uniformResourceIdentifier"},{"$f":"Tabel3[[#This Row],[GDM laag]]","v":"Local"},{"$f":"VLOOKUP(Tabel3[[#This Row],[GAE ID]],'BES EN'!A:AJ,27,FALSE)","v":"Mandatory in case ‘Regulation type code' is populated with the value ‘SAFETY_DATA_SHEET_REQUIRED’ for a consumer unit."},null,{"$f":"Tabel3[[#This Row],[Dairy, Refrigerated & Frozen]]","v":"-"},{"$f":"Tabel3[[#This Row],[Deli & Prepared]]","v":"-"},{"$f":"Tabel3[[#This Row],[Fresh Meat]]","v":"-"},{"$f":"Tabel3[[#This Row],[Fresh Fish]]","v":"-"},{"$f":"Tabel3[[#This Row],[Fresh Fruits & Vegetables]]","v":"-"},{"$f":"Tabel3[[#This Row],[Grocery]]","v":"-"},{"$f":"Tabel3[[#This Row],[Cleaners]]","v":"G"},{"$f":"Tabel3[[#This Row],[Disposables]]","v":"-"},{"$f":"Tabel3[[#This Row],[Beauty & Personal Care]]","v":"I"},{"$f":"Tabel3[[#This Row],[Petfood]]","v":"-"},{"$f":"Tabel3[[#This Row],[Alcoholic Beverages]]","v":"-"},{"$f":"Tabel3[[#This Row],[Tobacco]]","v":"-"},{"$f":"Tabel3[[#This Row],[Self-care medicines]]","v":"M"},{"$f":"Tabel3[[#This Row],[Special Food]]","v":"N"},{"$f":"Tabel3[[#This Row],[Food Supplements]]","v":"O"},{"$f":"Tabel3[[#This Row],[Healthcare Products]]","v":"P"},{"$f":"Tabel3[[#This Row],[Medical Devices]]","v":"Q"},{"$f":"Tabel3[[#This Row],[Batteries]]","v":"R"},{"$f":"Tabel3[[#This Row],[Light Bulbs]]","v":"S"},{"$f":"Tabel3[[#This Row],[Other Categories]]","v":"T"}]
[{"$f":"VLOOKUP(Tabel3[[#This Row],[GAE ID]],'BES EN'!A:AJ,36,FALSE)","v":"Name of external file SDS"},{"$f":"Tabel3[[#This Row],[GDSN-naam]]","v":"fileName"},{"$f":"Tabel3[[#This Row],[GDM Verplicht / Conditioneel]]","v":"Conditional"},{"$f":"Tabel3[[#This Row],[DMS controle]]","v":0},{"$f":"Tabel3[[#This Row],[BMS ID]]","v":3160},{"$f":"Tabel3[[#This Row],[Formaat]]","v":"an..70"},{"$f":"Tabel3[[#This Row],[X Path]]","v":"/catalogue_item_notification:catalogueItemNotificationMessage/transaction/documentCommand/catalogue_item_notification:catalogueItemNotification/catalogueItem/tradeItem/tradeItemInformation/extension/*[namespace-uri()='urn:gs1:gdsn:safety_data_sheet:xsd:3' and local-name()='safetyDataSheetModule']/safetyDataSheetInformation/referencedFileInformation/fileName"},{"$f":"Tabel3[[#This Row],[GDM laag]]","v":"Local"},{"$f":"VLOOKUP(Tabel3[[#This Row],[GAE ID]],'BES EN'!A:AJ,27,FALSE)","v":0},null,{"$f":"Tabel3[[#This Row],[Dairy, Refrigerated & Frozen]]","v":"-"},{"$f":"Tabel3[[#This Row],[Deli & Prepared]]","v":"-"},{"$f":"Tabel3[[#This Row],[Fresh Meat]]","v":"-"},{"$f":"Tabel3[[#This Row],[Fresh Fish]]","v":"-"},{"$f":"Tabel3[[#This Row],[Fresh Fruits & Vegetables]]","v":"-"},{"$f":"Tabel3[[#This Row],[Grocery]]","v":"-"},{"$f":"Tabel3[[#This Row],[Cleaners]]","v":"G"},{"$f":"Tabel3[[#This Row],[Disposables]]","v":"-"},{"$f":"Tabel3[[#This Row],[Beauty & Personal Care]]","v":"I"},{"$f":"Tabel3[[#This Row],[Petfood]]","v":"-"},{"$f":"Tabel3[[#This Row],[Alcoholic Beverages]]","v":"-"},{"$f":"Tabel3[[#This Row],[Tobacco]]","v":"-"},{"$f":"Tabel3[[#This Row],[Self-care medicines]]","v":"M"},{"$f":"Tabel3[[#This Row],[Special Food]]","v":"N"},{"$f":"Tabel3[[#This Row],[Food Supplements]]","v":"O"},{"$f":"Tabel3[[#This Row],[Healthcare Products]]","v":"P"},{"$f":"Tabel3[[#This Row],[Medical Devices]]","v":"Q"},{"$f":"Tabel3[[#This Row],[Batteries]]","v":"R"},{"$f":"Tabel3[[#This Row],[Light Bulbs]]","v":"S"},{"$f":"Tabel3[[#This Row],[Other Categories]]","v":"T"}]
[{"$f":"VLOOKUP(Tabel3[[#This Row],[GAE ID]],'BES EN'!A:AJ,36,FALSE)","v":"Date of last SDS revision"},{"$f":"Tabel3[[#This Row],[GDSN-naam]]","v":"fileEffectiveStartDateTime"},{"$f":"Tabel3[[#This Row],[GDM Verplicht / Conditioneel]]","v":"Conditional"},{"$f":"Tabel3[[#This Row],[DMS controle]]","v":0},{"$f":"Tabel3[[#This Row],[BMS ID]]","v":3155},{"$f":"Tabel3[[#This Row],[Formaat]]","v":"DateTime"},{"$f":"Tabel3[[#This Row],[X Path]]","v":"/catalogue_item_notification:catalogueItemNotificationMessage/transaction/documentCommand/catalogue_item_notification:catalogueItemNotification/catalogueItem/tradeItem/tradeItemInformation/extension/*[namespace-uri()='urn:gs1:gdsn:safety_data_sheet:xsd:3' and local-name()='safetyDataSheetModule']/safetyDataSheetInformation/referencedFileInformation/fileEffectiveStartDateTime"},{"$f":"Tabel3[[#This Row],[GDM laag]]","v":"Local"},{"$f":"VLOOKUP(Tabel3[[#This Row],[GAE ID]],'BES EN'!A:AJ,27,FALSE)","v":"Mandatory in case ‘Regulation type code' is populated with the value ‘SAFETY_DATA_SHEET_REQUIRED’ for a consumer unit."},null,{"$f":"Tabel3[[#This Row],[Dairy, Refrigerated & Frozen]]","v":"-"},{"$f":"Tabel3[[#This Row],[Deli & Prepared]]","v":"-"},{"$f":"Tabel3[[#This Row],[Fresh Meat]]","v":"-"},{"$f":"Tabel3[[#This Row],[Fresh Fish]]","v":"-"},{"$f":"Tabel3[[#This Row],[Fresh Fruits & Vegetables]]","v":"-"},{"$f":"Tabel3[[#This Row],[Grocery]]","v":"-"},{"$f":"Tabel3[[#This Row],[Cleaners]]","v":"G"},{"$f":"Tabel3[[#This Row],[Disposables]]","v":"-"},{"$f":"Tabel3[[#This Row],[Beauty & Personal Care]]","v":"I"},{"$f":"Tabel3[[#This Row],[Petfood]]","v":"-"},{"$f":"Tabel3[[#This Row],[Alcoholic Beverages]]","v":"-"},{"$f":"Tabel3[[#This Row],[Tobacco]]","v":"-"},{"$f":"Tabel3[[#This Row],[Self-care medicines]]","v":"M"},{"$f":"Tabel3[[#This Row],[Special Food]]","v":"N"},{"$f":"Tabel3[[#This Row],[Food Supplements]]","v":"O"},{"$f":"Tabel3[[#This Row],[Healthcare Products]]","v":"P"},{"$f":"Tabel3[[#This Row],[Medical Devices]]","v":"Q"},{"$f":"Tabel3[[#This Row],[Batteries]]","v":"R"},{"$f":"Tabel3[[#This Row],[Light Bulbs]]","v":"S"},{"$f":"Tabel3[[#This Row],[Other Categories]]","v":"T"}]
[{"$f":"VLOOKUP(Tabel3[[#This Row],[GAE ID]],'BES EN'!A:AJ,36,FALSE)","v":"SDS language code"},{"$f":"Tabel3[[#This Row],[GDSN-naam]]","v":"fileLanguageCode"},{"$f":"Tabel3[[#This Row],[GDM Verplicht / Conditioneel]]","v":"Conditional"},{"$f":"Tabel3[[#This Row],[DMS controle]]","v":0},{"$f":"Tabel3[[#This Row],[BMS ID]]","v":3159},{"$f":"Tabel3[[#This Row],[Formaat]]","v":"Defined values"},{"$f":"Tabel3[[#This Row],[X Path]]","v":"/catalogue_item_notification:catalogueItemNotificationMessage/transaction/documentCommand/catalogue_item_notification:catalogueItemNotification/catalogueItem/tradeItem/tradeItemInformation/extension/*[namespace-uri()='urn:gs1:gdsn:safety_data_sheet:xsd:3' and local-name()='safetyDataSheetModule']/safetyDataSheetInformation/referencedFileInformation/fileLanguageCode"},{"$f":"Tabel3[[#This Row],[GDM laag]]","v":"Local"},{"$f":"VLOOKUP(Tabel3[[#This Row],[GAE ID]],'BES EN'!A:AJ,27,FALSE)","v":"Mandatory in case ‘Regulation type code' is populated with the value ‘SAFETY_DATA_SHEET_REQUIRED’ for a consumer unit."},null,{"$f":"Tabel3[[#This Row],[Dairy, Refrigerated & Frozen]]","v":"-"},{"$f":"Tabel3[[#This Row],[Deli & Prepared]]","v":"-"},{"$f":"Tabel3[[#This Row],[Fresh Meat]]","v":"-"},{"$f":"Tabel3[[#This Row],[Fresh Fish]]","v":"-"},{"$f":"Tabel3[[#This Row],[Fresh Fruits & Vegetables]]","v":"-"},{"$f":"Tabel3[[#This Row],[Grocery]]","v":"-"},{"$f":"Tabel3[[#This Row],[Cleaners]]","v":"G"},{"$f":"Tabel3[[#This Row],[Disposables]]","v":"-"},{"$f":"Tabel3[[#This Row],[Beauty & Personal Care]]","v":"I"},{"$f":"Tabel3[[#This Row],[Petfood]]","v":"-"},{"$f":"Tabel3[[#This Row],[Alcoholic Beverages]]","v":"-"},{"$f":"Tabel3[[#This Row],[Tobacco]]","v":"-"},{"$f":"Tabel3[[#This Row],[Self-care medicines]]","v":"M"},{"$f":"Tabel3[[#This Row],[Special Food]]","v":"N"},{"$f":"Tabel3[[#This Row],[Food Supplements]]","v":"O"},{"$f":"Tabel3[[#This Row],[Healthcare Products]]","v":"P"},{"$f":"Tabel3[[#This Row],[Medical Devices]]","v":"Q"},{"$f":"Tabel3[[#This Row],[Batteries]]","v":"R"},{"$f":"Tabel3[[#This Row],[Light Bulbs]]","v":"S"},{"$f":"Tabel3[[#This Row],[Other Categories]]","v":"T"}]
[{"$f":"VLOOKUP(Tabel3[[#This Row],[GAE ID]],'BES EN'!A:AJ,36,FALSE)","v":"Trade name on SDS"},{"$f":"Tabel3[[#This Row],[GDSN-naam]]","v":"contentDescription"},{"$f":"Tabel3[[#This Row],[GDM Verplicht / Conditioneel]]","v":"Conditional"},{"$f":"Tabel3[[#This Row],[DMS controle]]","v":0},{"$f":"Tabel3[[#This Row],[BMS ID]]","v":3151},{"$f":"Tabel3[[#This Row],[Formaat]]","v":"an..70"},{"$f":"Tabel3[[#This Row],[X Path]]","v":"/catalogue_item_notification:catalogueItemNotificationMessage/transaction/documentCommand/catalogue_item_notification:catalogueItemNotification/catalogueItem/tradeItem/tradeItemInformation/extension/*[namespace-uri()='urn:gs1:gdsn:safety_data_sheet:xsd:3' and local-name()='safetyDataSheetModule']/safetyDataSheetInformation/referencedFileInformation/contentDescription"},{"$f":"Tabel3[[#This Row],[GDM laag]]","v":"Local"},{"$f":"VLOOKUP(Tabel3[[#This Row],[GAE ID]],'BES EN'!A:AJ,27,FALSE)","v":"Mandatory in case ‘Regulation type code' is populated with the value ‘SAFETY_DATA_SHEET_REQUIRED’ for a consumer unit."},null,{"$f":"Tabel3[[#This Row],[Dairy, Refrigerated & Frozen]]","v":"-"},{"$f":"Tabel3[[#This Row],[Deli & Prepared]]","v":"-"},{"$f":"Tabel3[[#This Row],[Fresh Meat]]","v":"-"},{"$f":"Tabel3[[#This Row],[Fresh Fish]]","v":"-"},{"$f":"Tabel3[[#This Row],[Fresh Fruits & Vegetables]]","v":"-"},{"$f":"Tabel3[[#This Row],[Grocery]]","v":"-"},{"$f":"Tabel3[[#This Row],[Cleaners]]","v":"G"},{"$f":"Tabel3[[#This Row],[Disposables]]","v":"-"},{"$f":"Tabel3[[#This Row],[Beauty & Personal Care]]","v":"I"},{"$f":"Tabel3[[#This Row],[Petfood]]","v":"-"},{"$f":"Tabel3[[#This Row],[Alcoholic Beverages]]","v":"-"},{"$f":"Tabel3[[#This Row],[Tobacco]]","v":"-"},{"$f":"Tabel3[[#This Row],[Self-care medicines]]","v":"M"},{"$f":"Tabel3[[#This Row],[Special Food]]","v":"N"},{"$f":"Tabel3[[#This Row],[Food Supplements]]","v":"O"},{"$f":"Tabel3[[#This Row],[Healthcare Products]]","v":"P"},{"$f":"Tabel3[[#This Row],[Medical Devices]]","v":"Q"},{"$f":"Tabel3[[#This Row],[Batteries]]","v":"R"},{"$f":"Tabel3[[#This Row],[Light Bulbs]]","v":"S"},{"$f":"Tabel3[[#This Row],[Other Categories]]","v":"T"}]
[{"$f":"VLOOKUP(Tabel3[[#This Row],[GAE ID]],'BES EN'!A:AJ,36,FALSE)","v":"Trade name on SDS language code"},{"$f":"Tabel3[[#This Row],[GDSN-naam]]","v":"contentDescription/@languageCode"},{"$f":"Tabel3[[#This Row],[GDM Verplicht / Conditioneel]]","v":"Conditional"},{"$f":"Tabel3[[#This Row],[DMS controle]]","v":0},{"$f":"Tabel3[[#This Row],[BMS ID]]","v":3152},{"$f":"Tabel3[[#This Row],[Formaat]]","v":"Defined values"},{"$f":"Tabel3[[#This Row],[X Path]]","v":"/catalogue_item_notification:catalogueItemNotificationMessage/transaction/documentCommand/catalogue_item_notification:catalogueItemNotification/catalogueItem/tradeItem/tradeItemInformation/extension/*[namespace-uri()='urn:gs1:gdsn:safety_data_sheet:xsd:3' and local-name()='safetyDataSheetModule']/safetyDataSheetInformation/referencedFileInformation/contentDescription/@languageCode"},{"$f":"Tabel3[[#This Row],[GDM laag]]","v":"Local"},{"$f":"VLOOKUP(Tabel3[[#This Row],[GAE ID]],'BES EN'!A:AJ,27,FALSE)","v":"Mandatory in case the 'Trade name on SDS' field is populated"},null,{"$f":"Tabel3[[#This Row],[Dairy, Refrigerated & Frozen]]","v":"-"},{"$f":"Tabel3[[#This Row],[Deli & Prepared]]","v":"-"},{"$f":"Tabel3[[#This Row],[Fresh Meat]]","v":"-"},{"$f":"Tabel3[[#This Row],[Fresh Fish]]","v":"-"},{"$f":"Tabel3[[#This Row],[Fresh Fruits & Vegetables]]","v":"-"},{"$f":"Tabel3[[#This Row],[Grocery]]","v":"-"},{"$f":"Tabel3[[#This Row],[Cleaners]]","v":"G"},{"$f":"Tabel3[[#This Row],[Disposables]]","v":"-"},{"$f":"Tabel3[[#This Row],[Beauty & Personal Care]]","v":"I"},{"$f":"Tabel3[[#This Row],[Petfood]]","v":"-"},{"$f":"Tabel3[[#This Row],[Alcoholic Beverages]]","v":"-"},{"$f":"Tabel3[[#This Row],[Tobacco]]","v":"-"},{"$f":"Tabel3[[#This Row],[Self-care medicines]]","v":"M"},{"$f":"Tabel3[[#This Row],[Special Food]]","v":"N"},{"$f":"Tabel3[[#This Row],[Food Supplements]]","v":"O"},{"$f":"Tabel3[[#This Row],[Healthcare Products]]","v":"P"},{"$f":"Tabel3[[#This Row],[Medical Devices]]","v":"Q"},{"$f":"Tabel3[[#This Row],[Batteries]]","v":"R"},{"$f":"Tabel3[[#This Row],[Light Bulbs]]","v":"S"},{"$f":"Tabel3[[#This Row],[Other Categories]]","v":"T"}]
[{"$f":"VLOOKUP(Tabel3[[#This Row],[GAE ID]],'BES EN'!A:AJ,36,FALSE)","v":"Limited quantity value"},{"$f":"Tabel3[[#This Row],[GDSN-naam]]","v":"dangerousGoodsLimitedQuantityIndex"},{"$f":"Tabel3[[#This Row],[GDM Verplicht / Conditioneel]]","v":"X"},{"$f":"Tabel3[[#This Row],[DMS controle]]","v":0},{"$f":"Tabel3[[#This Row],[BMS ID]]","v":6063},{"$f":"Tabel3[[#This Row],[Formaat]]","v":"n..15"},{"$f":"Tabel3[[#This Row],[X Path]]","v":"/catalogue_item_notification:catalogueItemNotificationMessage/transaction/documentCommand/catalogue_item_notification:catalogueItemNotification/catalogueItem/tradeItem/tradeItemInformation/extension/*[namespace-uri()='urn:gs1:gdsn:transportation_hazardous_classification:xsd:3' and local-name()='transportationHazardousClassificationModule']/transportationClassification/regulatedTransportationMode/hazardousInformationHeader/hazardousInformationDetail/dangerousGoodsLimitedQuantityIndex"},{"$f":"Tabel3[[#This Row],[GDM laag]]","v":"Local"},{"$f":"VLOOKUP(Tabel3[[#This Row],[GAE ID]],'BES EN'!A:AJ,27,FALSE)","v":"Mandatory for a product subject to the limited quantity regulation."},null,{"$f":"Tabel3[[#This Row],[Dairy, Refrigerated & Frozen]]","v":"-"},{"$f":"Tabel3[[#This Row],[Deli & Prepared]]","v":"-"},{"$f":"Tabel3[[#This Row],[Fresh Meat]]","v":"-"},{"$f":"Tabel3[[#This Row],[Fresh Fish]]","v":"-"},{"$f":"Tabel3[[#This Row],[Fresh Fruits & Vegetables]]","v":"-"},{"$f":"Tabel3[[#This Row],[Grocery]]","v":"-"},{"$f":"Tabel3[[#This Row],[Cleaners]]","v":"G"},{"$f":"Tabel3[[#This Row],[Disposables]]","v":"-"},{"$f":"Tabel3[[#This Row],[Beauty & Personal Care]]","v":"I"},{"$f":"Tabel3[[#This Row],[Petfood]]","v":"-"},{"$f":"Tabel3[[#This Row],[Alcoholic Beverages]]","v":"-"},{"$f":"Tabel3[[#This Row],[Tobacco]]","v":"-"},{"$f":"Tabel3[[#This Row],[Self-care medicines]]","v":"M"},{"$f":"Tabel3[[#This Row],[Special Food]]","v":"N"},{"$f":"Tabel3[[#This Row],[Food Supplements]]","v":"O"},{"$f":"Tabel3[[#This Row],[Healthcare Products]]","v":"P"},{"$f":"Tabel3[[#This Row],[Medical Devices]]","v":"Q"},{"$f":"Tabel3[[#This Row],[Batteries]]","v":"R"},{"$f":"Tabel3[[#This Row],[Light Bulbs]]","v":"S"},{"$f":"Tabel3[[#This Row],[Other Categories]]","v":"T"}]
[{"$f":"VLOOKUP(Tabel3[[#This Row],[GAE ID]],'BES EN'!A:AJ,36,FALSE)","v":"Limited quantity value UOM"},{"$f":"Tabel3[[#This Row],[GDSN-naam]]","v":"dangerousGoodsLimitedQuantityIndex/@measurementUnitcode"},{"$f":"Tabel3[[#This Row],[GDM Verplicht / Conditioneel]]","v":"X"},{"$f":"Tabel3[[#This Row],[DMS controle]]","v":0},{"$f":"Tabel3[[#This Row],[BMS ID]]","v":6064},{"$f":"Tabel3[[#This Row],[Formaat]]","v":"Defined values"},{"$f":"Tabel3[[#This Row],[X Path]]","v":"/catalogue_item_notification:catalogueItemNotificationMessage/transaction/documentCommand/catalogue_item_notification:catalogueItemNotification/catalogueItem/tradeItem/tradeItemInformation/extension/*[namespace-uri()='urn:gs1:gdsn:transportation_hazardous_classification:xsd:3' and local-name()='transportationHazardousClassificationModule']/transportationClassification/regulatedTransportationMode/hazardousInformationHeader/hazardousInformationDetail/dangerousGoodsLimitedQuantityIndex/@measurementUnitCode"},{"$f":"Tabel3[[#This Row],[GDM laag]]","v":"Local"},{"$f":"VLOOKUP(Tabel3[[#This Row],[GAE ID]],'BES EN'!A:AJ,27,FALSE)","v":"Mandatory in case the 'Limited quantity value' field is populated."},null,{"$f":"Tabel3[[#This Row],[Dairy, Refrigerated & Frozen]]","v":"-"},{"$f":"Tabel3[[#This Row],[Deli & Prepared]]","v":"-"},{"$f":"Tabel3[[#This Row],[Fresh Meat]]","v":"-"},{"$f":"Tabel3[[#This Row],[Fresh Fish]]","v":"-"},{"$f":"Tabel3[[#This Row],[Fresh Fruits & Vegetables]]","v":"-"},{"$f":"Tabel3[[#This Row],[Grocery]]","v":"-"},{"$f":"Tabel3[[#This Row],[Cleaners]]","v":"G"},{"$f":"Tabel3[[#This Row],[Disposables]]","v":"-"},{"$f":"Tabel3[[#This Row],[Beauty & Personal Care]]","v":"I"},{"$f":"Tabel3[[#This Row],[Petfood]]","v":"-"},{"$f":"Tabel3[[#This Row],[Alcoholic Beverages]]","v":"-"},{"$f":"Tabel3[[#This Row],[Tobacco]]","v":"-"},{"$f":"Tabel3[[#This Row],[Self-care medicines]]","v":"M"},{"$f":"Tabel3[[#This Row],[Special Food]]","v":"N"},{"$f":"Tabel3[[#This Row],[Food Supplements]]","v":"O"},{"$f":"Tabel3[[#This Row],[Healthcare Products]]","v":"P"},{"$f":"Tabel3[[#This Row],[Medical Devices]]","v":"Q"},{"$f":"Tabel3[[#This Row],[Batteries]]","v":"R"},{"$f":"Tabel3[[#This Row],[Light Bulbs]]","v":"S"},{"$f":"Tabel3[[#This Row],[Other Categories]]","v":"T"}]
[{"$f":"VLOOKUP(Tabel3[[#This Row],[GAE ID]],'BES EN'!A:AJ,36,FALSE)","v":"Excepted quantity code"},{"$f":"Tabel3[[#This Row],[GDSN-naam]]","v":"specialPermitOrExemptionIdentification"},{"$f":"Tabel3[[#This Row],[GDM Verplicht / Conditioneel]]","v":"Optional"},{"$f":"Tabel3[[#This Row],[DMS controle]]","v":0},{"$f":"Tabel3[[#This Row],[BMS ID]]","v":3855},{"$f":"Tabel3[[#This Row],[Formaat]]","v":"an..80"},{"$f":"Tabel3[[#This Row],[X Path]]","v":"/catalogue_item_notification:catalogueItemNotificationMessage/transaction/documentCommand/catalogue_item_notification:catalogueItemNotification/catalogueItem/tradeItem/tradeItemInformation/extension/*[namespace-uri()='urn:gs1:gdsn:transportation_hazardous_classification:xsd:3' and local-name()='transportationHazardousClassificationModule']/transportationClassification/regulatedTransportationMode/specialPermitOrExemptionIdentification"},{"$f":"Tabel3[[#This Row],[GDM laag]]","v":"Local"},{"$f":"VLOOKUP(Tabel3[[#This Row],[GAE ID]],'BES EN'!A:AJ,27,FALSE)","v":"Mandatory in case for a consumer unit 'ADR class' is populated with a value in the range 1 to 9."},null,{"$f":"Tabel3[[#This Row],[Dairy, Refrigerated & Frozen]]","v":"-"},{"$f":"Tabel3[[#This Row],[Deli & Prepared]]","v":"-"},{"$f":"Tabel3[[#This Row],[Fresh Meat]]","v":"-"},{"$f":"Tabel3[[#This Row],[Fresh Fish]]","v":"-"},{"$f":"Tabel3[[#This Row],[Fresh Fruits & Vegetables]]","v":"-"},{"$f":"Tabel3[[#This Row],[Grocery]]","v":"-"},{"$f":"Tabel3[[#This Row],[Cleaners]]","v":"G"},{"$f":"Tabel3[[#This Row],[Disposables]]","v":"-"},{"$f":"Tabel3[[#This Row],[Beauty & Personal Care]]","v":"I"},{"$f":"Tabel3[[#This Row],[Petfood]]","v":"-"},{"$f":"Tabel3[[#This Row],[Alcoholic Beverages]]","v":"-"},{"$f":"Tabel3[[#This Row],[Tobacco]]","v":"-"},{"$f":"Tabel3[[#This Row],[Self-care medicines]]","v":"M"},{"$f":"Tabel3[[#This Row],[Special Food]]","v":"N"},{"$f":"Tabel3[[#This Row],[Food Supplements]]","v":"O"},{"$f":"Tabel3[[#This Row],[Healthcare Products]]","v":"P"},{"$f":"Tabel3[[#This Row],[Medical Devices]]","v":"Q"},{"$f":"Tabel3[[#This Row],[Batteries]]","v":"R"},{"$f":"Tabel3[[#This Row],[Light Bulbs]]","v":"S"},{"$f":"Tabel3[[#This Row],[Other Categories]]","v":"T"}]
[{"$f":"VLOOKUP(Tabel3[[#This Row],[GAE ID]],'BES EN'!A:AJ,36,FALSE)","v":"Excepted quantity code - agency"},{"$f":"Tabel3[[#This Row],[GDSN-naam]]","v":"specialPermitOrExemptionIdentification/@identificationSchemeAgencyCode"},{"$f":"Tabel3[[#This Row],[GDM Verplicht / Conditioneel]]","v":"Conditional"},{"$f":"Tabel3[[#This Row],[DMS controle]]","v":0},{"$f":"Tabel3[[#This Row],[BMS ID]]","v":3856},{"$f":"Tabel3[[#This Row],[Formaat]]","v":"an..80"},{"$f":"Tabel3[[#This Row],[X Path]]","v":"/catalogue_item_notification:catalogueItemNotificationMessage/transaction/documentCommand/catalogue_item_notification:catalogueItemNotification/catalogueItem/tradeItem/tradeItemInformation/extension/*[namespace-uri()='urn:gs1:gdsn:transportation_hazardous_classification:xsd:3' and local-name()='transportationHazardousClassificationModule']/transportationClassification/regulatedTransportationMode/specialPermitOrExemptionIdentification/@identificationSchemeAgencyCode"},{"$f":"Tabel3[[#This Row],[GDM laag]]","v":"Local"},{"$f":"VLOOKUP(Tabel3[[#This Row],[GAE ID]],'BES EN'!A:AJ,27,FALSE)","v":"Mandatory in case the 'Excepted quantity code' field is populated."},null,{"$f":"Tabel3[[#This Row],[Dairy, Refrigerated & Frozen]]","v":"-"},{"$f":"Tabel3[[#This Row],[Deli & Prepared]]","v":"-"},{"$f":"Tabel3[[#This Row],[Fresh Meat]]","v":"-"},{"$f":"Tabel3[[#This Row],[Fresh Fish]]","v":"-"},{"$f":"Tabel3[[#This Row],[Fresh Fruits & Vegetables]]","v":"-"},{"$f":"Tabel3[[#This Row],[Grocery]]","v":"-"},{"$f":"Tabel3[[#This Row],[Cleaners]]","v":"G"},{"$f":"Tabel3[[#This Row],[Disposables]]","v":"-"},{"$f":"Tabel3[[#This Row],[Beauty & Personal Care]]","v":"I"},{"$f":"Tabel3[[#This Row],[Petfood]]","v":"-"},{"$f":"Tabel3[[#This Row],[Alcoholic Beverages]]","v":"-"},{"$f":"Tabel3[[#This Row],[Tobacco]]","v":"-"},{"$f":"Tabel3[[#This Row],[Self-care medicines]]","v":"M"},{"$f":"Tabel3[[#This Row],[Special Food]]","v":"N"},{"$f":"Tabel3[[#This Row],[Food Supplements]]","v":"O"},{"$f":"Tabel3[[#This Row],[Healthcare Products]]","v":"P"},{"$f":"Tabel3[[#This Row],[Medical Devices]]","v":"Q"},{"$f":"Tabel3[[#This Row],[Batteries]]","v":"R"},{"$f":"Tabel3[[#This Row],[Light Bulbs]]","v":"S"},{"$f":"Tabel3[[#This Row],[Other Categories]]","v":"T"}]
[{"$f":"VLOOKUP(Tabel3[[#This Row],[GAE ID]],'BES EN'!A:AJ,36,FALSE)","v":"ADR tunnel restriction code"},{"$f":"Tabel3[[#This Row],[GDSN-naam]]","v":"aDRTunnelRestrictionCode"},{"$f":"Tabel3[[#This Row],[GDM Verplicht / Conditioneel]]","v":"Optional"},{"$f":"Tabel3[[#This Row],[DMS controle]]","v":0},{"$f":"Tabel3[[#This Row],[BMS ID]]","v":3863},{"$f":"Tabel3[[#This Row],[Formaat]]","v":"Defined values"},{"$f":"Tabel3[[#This Row],[X Path]]","v":"/catalogue_item_notification:catalogueItemNotificationMessage/transaction/documentCommand/catalogue_item_notification:catalogueItemNotification/catalogueItem/tradeItem/tradeItemInformation/extension/*[namespace-uri()='urn:gs1:gdsn:transportation_hazardous_classification:xsd:3' and local-name()='transportationHazardousClassificationModule']/transportationClassification/regulatedTransportationMode/hazardousInformationHeader/aDRTunnelRestrictionCode"},{"$f":"Tabel3[[#This Row],[GDM laag]]","v":"Local"},{"$f":"VLOOKUP(Tabel3[[#This Row],[GAE ID]],'BES EN'!A:AJ,27,FALSE)","v":"Mandatory in case for a consumer unit 'ADR class' is populated with a value in the range 1 to 9."},null,{"$f":"Tabel3[[#This Row],[Dairy, Refrigerated & Frozen]]","v":"-"},{"$f":"Tabel3[[#This Row],[Deli & Prepared]]","v":"-"},{"$f":"Tabel3[[#This Row],[Fresh Meat]]","v":"-"},{"$f":"Tabel3[[#This Row],[Fresh Fish]]","v":"-"},{"$f":"Tabel3[[#This Row],[Fresh Fruits & Vegetables]]","v":"-"},{"$f":"Tabel3[[#This Row],[Grocery]]","v":"-"},{"$f":"Tabel3[[#This Row],[Cleaners]]","v":"G"},{"$f":"Tabel3[[#This Row],[Disposables]]","v":"-"},{"$f":"Tabel3[[#This Row],[Beauty & Personal Care]]","v":"I"},{"$f":"Tabel3[[#This Row],[Petfood]]","v":"-"},{"$f":"Tabel3[[#This Row],[Alcoholic Beverages]]","v":"-"},{"$f":"Tabel3[[#This Row],[Tobacco]]","v":"-"},{"$f":"Tabel3[[#This Row],[Self-care medicines]]","v":"M"},{"$f":"Tabel3[[#This Row],[Special Food]]","v":"N"},{"$f":"Tabel3[[#This Row],[Food Supplements]]","v":"O"},{"$f":"Tabel3[[#This Row],[Healthcare Products]]","v":"P"},{"$f":"Tabel3[[#This Row],[Medical Devices]]","v":"Q"},{"$f":"Tabel3[[#This Row],[Batteries]]","v":"R"},{"$f":"Tabel3[[#This Row],[Light Bulbs]]","v":"S"},{"$f":"Tabel3[[#This Row],[Other Categories]]","v":"T"}]
[{"$f":"VLOOKUP(Tabel3[[#This Row],[GAE ID]],'BES EN'!A:AJ,36,FALSE)","v":"ADR classification code"},{"$f":"Tabel3[[#This Row],[GDSN-naam]]","v":"dangerousGoodsClassificationCode"},{"$f":"Tabel3[[#This Row],[GDM Verplicht / Conditioneel]]","v":"Optional"},{"$f":"Tabel3[[#This Row],[DMS controle]]","v":0},{"$f":"Tabel3[[#This Row],[BMS ID]]","v":3880},{"$f":"Tabel3[[#This Row],[Formaat]]","v":"Defined values"},{"$f":"Tabel3[[#This Row],[X Path]]","v":"/catalogue_item_notification:catalogueItemNotificationMessage/transaction/documentCommand/catalogue_item_notification:catalogueItemNotification/catalogueItem/tradeItem/tradeItemInformation/extension/*[namespace-uri()='urn:gs1:gdsn:transportation_hazardous_classification:xsd:3' and local-name()='transportationHazardousClassificationModule']/transportationClassification/regulatedTransportationMode/hazardousInformationHeader/hazardousInformationDetail/dangerousGoodsClassificationCode"},{"$f":"Tabel3[[#This Row],[GDM laag]]","v":"Local"},{"$f":"VLOOKUP(Tabel3[[#This Row],[GAE ID]],'BES EN'!A:AJ,27,FALSE)","v":"Mandatory in case for a consumer unit 'ADR class' is populated with a value in the range 1 to 9."},null,{"$f":"Tabel3[[#This Row],[Dairy, Refrigerated & Frozen]]","v":"-"},{"$f":"Tabel3[[#This Row],[Deli & Prepared]]","v":"-"},{"$f":"Tabel3[[#This Row],[Fresh Meat]]","v":"-"},{"$f":"Tabel3[[#This Row],[Fresh Fish]]","v":"-"},{"$f":"Tabel3[[#This Row],[Fresh Fruits & Vegetables]]","v":"-"},{"$f":"Tabel3[[#This Row],[Grocery]]","v":"-"},{"$f":"Tabel3[[#This Row],[Cleaners]]","v":"G"},{"$f":"Tabel3[[#This Row],[Disposables]]","v":"-"},{"$f":"Tabel3[[#This Row],[Beauty & Personal Care]]","v":"I"},{"$f":"Tabel3[[#This Row],[Petfood]]","v":"-"},{"$f":"Tabel3[[#This Row],[Alcoholic Beverages]]","v":"-"},{"$f":"Tabel3[[#This Row],[Tobacco]]","v":"-"},{"$f":"Tabel3[[#This Row],[Self-care medicines]]","v":"M"},{"$f":"Tabel3[[#This Row],[Special Food]]","v":"N"},{"$f":"Tabel3[[#This Row],[Food Supplements]]","v":"O"},{"$f":"Tabel3[[#This Row],[Healthcare Products]]","v":"P"},{"$f":"Tabel3[[#This Row],[Medical Devices]]","v":"Q"},{"$f":"Tabel3[[#This Row],[Batteries]]","v":"R"},{"$f":"Tabel3[[#This Row],[Light Bulbs]]","v":"S"},{"$f":"Tabel3[[#This Row],[Other Categories]]","v":"T"}]
[{"$f":"VLOOKUP(Tabel3[[#This Row],[GAE ID]],'BES EN'!A:AJ,36,FALSE)","v":"Product group"},{"$f":"Tabel3[[#This Row],[GDSN-naam]]","v":"tradeItemGroupIdentificationCodeReference"},{"$f":"Tabel3[[#This Row],[GDM Verplicht / Conditioneel]]","v":"X"},{"$f":"Tabel3[[#This Row],[DMS controle]]","v":0},{"$f":"Tabel3[[#This Row],[BMS ID]]","v":3522},{"$f":"Tabel3[[#This Row],[Formaat]]","v":"Defined values"},{"$f":"Tabel3[[#This Row],[X Path]]","v":"/catalogue_item_notification:catalogueItemNotificationMessage/transaction/documentCommand/catalogue_item_notification:catalogueItemNotification/catalogueItem/tradeItem/tradeItemInformation/extension/*[namespace-uri()='urn:gs1:gdsn:trade_item_description:xsd:3' and local-name()='tradeItemDescriptionModule']/tradeItemDescriptionInformation/tradeItemGroupIdentificationCodeReference"},{"$f":"Tabel3[[#This Row],[GDM laag]]","v":"Local"},{"$f":"VLOOKUP(Tabel3[[#This Row],[GAE ID]],'BES EN'!A:AJ,27,FALSE)","v":0},null,{"$f":"Tabel3[[#This Row],[Dairy, Refrigerated & Frozen]]","v":"-"},{"$f":"Tabel3[[#This Row],[Deli & Prepared]]","v":"-"},{"$f":"Tabel3[[#This Row],[Fresh Meat]]","v":"-"},{"$f":"Tabel3[[#This Row],[Fresh Fish]]","v":"-"},{"$f":"Tabel3[[#This Row],[Fresh Fruits & Vegetables]]","v":"-"},{"$f":"Tabel3[[#This Row],[Grocery]]","v":"-"},{"$f":"Tabel3[[#This Row],[Cleaners]]","v":"G"},{"$f":"Tabel3[[#This Row],[Disposables]]","v":"-"},{"$f":"Tabel3[[#This Row],[Beauty & Personal Care]]","v":"I"},{"$f":"Tabel3[[#This Row],[Petfood]]","v":"-"},{"$f":"Tabel3[[#This Row],[Alcoholic Beverages]]","v":"-"},{"$f":"Tabel3[[#This Row],[Tobacco]]","v":"-"},{"$f":"Tabel3[[#This Row],[Self-care medicines]]","v":"M"},{"$f":"Tabel3[[#This Row],[Special Food]]","v":"N"},{"$f":"Tabel3[[#This Row],[Food Supplements]]","v":"O"},{"$f":"Tabel3[[#This Row],[Healthcare Products]]","v":"P"},{"$f":"Tabel3[[#This Row],[Medical Devices]]","v":"Q"},{"$f":"Tabel3[[#This Row],[Batteries]]","v":"R"},{"$f":"Tabel3[[#This Row],[Light Bulbs]]","v":"S"},{"$f":"Tabel3[[#This Row],[Other Categories]]","v":"T"}]
[{"$f":"VLOOKUP(Tabel3[[#This Row],[GAE ID]],'BES EN'!A:AJ,36,FALSE)","v":"Proper shipping name - additional description"},{"$f":"Tabel3[[#This Row],[GDSN-naam]]","v":"dangerousGoodsShippingName"},{"$f":"Tabel3[[#This Row],[GDM Verplicht / Conditioneel]]","v":"Optional"},{"$f":"Tabel3[[#This Row],[DMS controle]]","v":0},{"$f":"Tabel3[[#This Row],[BMS ID]]","v":3883},{"$f":"Tabel3[[#This Row],[Formaat]]","v":"an..1000"},{"$f":"Tabel3[[#This Row],[X Path]]","v":"/catalogue_item_notification:catalogueItemNotificationMessage/transaction/documentCommand/catalogue_item_notification:catalogueItemNotification/catalogueItem/tradeItem/tradeItemInformation/extension/*[namespace-uri()='urn:gs1:gdsn:transportation_hazardous_classification:xsd:3' and local-name()='transportationHazardousClassificationModule']/transportationClassification/regulatedTransportationMode/hazardousInformationHeader/hazardousInformationDetail/dangerousGoodsShippingName"},{"$f":"Tabel3[[#This Row],[GDM laag]]","v":"Local"},{"$f":"VLOOKUP(Tabel3[[#This Row],[GAE ID]],'BES EN'!A:AJ,27,FALSE)","v":0},null,{"$f":"Tabel3[[#This Row],[Dairy, Refrigerated & Frozen]]","v":"-"},{"$f":"Tabel3[[#This Row],[Deli & Prepared]]","v":"-"},{"$f":"Tabel3[[#This Row],[Fresh Meat]]","v":"-"},{"$f":"Tabel3[[#This Row],[Fresh Fish]]","v":"-"},{"$f":"Tabel3[[#This Row],[Fresh Fruits & Vegetables]]","v":"-"},{"$f":"Tabel3[[#This Row],[Grocery]]","v":"-"},{"$f":"Tabel3[[#This Row],[Cleaners]]","v":"G"},{"$f":"Tabel3[[#This Row],[Disposables]]","v":"-"},{"$f":"Tabel3[[#This Row],[Beauty & Personal Care]]","v":"I"},{"$f":"Tabel3[[#This Row],[Petfood]]","v":"-"},{"$f":"Tabel3[[#This Row],[Alcoholic Beverages]]","v":"-"},{"$f":"Tabel3[[#This Row],[Tobacco]]","v":"-"},{"$f":"Tabel3[[#This Row],[Self-care medicines]]","v":"M"},{"$f":"Tabel3[[#This Row],[Special Food]]","v":"N"},{"$f":"Tabel3[[#This Row],[Food Supplements]]","v":"O"},{"$f":"Tabel3[[#This Row],[Healthcare Products]]","v":"P"},{"$f":"Tabel3[[#This Row],[Medical Devices]]","v":"Q"},{"$f":"Tabel3[[#This Row],[Batteries]]","v":"R"},{"$f":"Tabel3[[#This Row],[Light Bulbs]]","v":"S"},{"$f":"Tabel3[[#This Row],[Other Categories]]","v":"T"}]
[{"$f":"VLOOKUP(Tabel3[[#This Row],[GAE ID]],'BES EN'!A:AJ,36,FALSE)","v":"Hazard label number"},{"$f":"Tabel3[[#This Row],[GDSN-naam]]","v":"dangerousHazardousLabelNumber"},{"$f":"Tabel3[[#This Row],[GDM Verplicht / Conditioneel]]","v":"Optional"},{"$f":"Tabel3[[#This Row],[DMS controle]]","v":0},{"$f":"Tabel3[[#This Row],[BMS ID]]","v":3896},{"$f":"Tabel3[[#This Row],[Formaat]]","v":"Defined values"},{"$f":"Tabel3[[#This Row],[X Path]]","v":"/catalogue_item_notification:catalogueItemNotificationMessage/transaction/documentCommand/catalogue_item_notification:catalogueItemNotification/catalogueItem/tradeItem/tradeItemInformation/extension/*[namespace-uri()='urn:gs1:gdsn:transportation_hazardous_classification:xsd:3' and local-name()='transportationHazardousClassificationModule']/transportationClassification/regulatedTransportationMode/hazardousInformationHeader/hazardousInformationDetail/dangerousHazardousLabel/dangerousHazardousLabelNumber"},{"$f":"Tabel3[[#This Row],[GDM laag]]","v":"Local"},{"$f":"VLOOKUP(Tabel3[[#This Row],[GAE ID]],'BES EN'!A:AJ,27,FALSE)","v":0},null,{"$f":"Tabel3[[#This Row],[Dairy, Refrigerated & Frozen]]","v":"-"},{"$f":"Tabel3[[#This Row],[Deli & Prepared]]","v":"-"},{"$f":"Tabel3[[#This Row],[Fresh Meat]]","v":"-"},{"$f":"Tabel3[[#This Row],[Fresh Fish]]","v":"-"},{"$f":"Tabel3[[#This Row],[Fresh Fruits & Vegetables]]","v":"-"},{"$f":"Tabel3[[#This Row],[Grocery]]","v":"-"},{"$f":"Tabel3[[#This Row],[Cleaners]]","v":"G"},{"$f":"Tabel3[[#This Row],[Disposables]]","v":"-"},{"$f":"Tabel3[[#This Row],[Beauty & Personal Care]]","v":"I"},{"$f":"Tabel3[[#This Row],[Petfood]]","v":"-"},{"$f":"Tabel3[[#This Row],[Alcoholic Beverages]]","v":"-"},{"$f":"Tabel3[[#This Row],[Tobacco]]","v":"-"},{"$f":"Tabel3[[#This Row],[Self-care medicines]]","v":"M"},{"$f":"Tabel3[[#This Row],[Special Food]]","v":"N"},{"$f":"Tabel3[[#This Row],[Food Supplements]]","v":"O"},{"$f":"Tabel3[[#This Row],[Healthcare Products]]","v":"P"},{"$f":"Tabel3[[#This Row],[Medical Devices]]","v":"Q"},{"$f":"Tabel3[[#This Row],[Batteries]]","v":"R"},{"$f":"Tabel3[[#This Row],[Light Bulbs]]","v":"S"},{"$f":"Tabel3[[#This Row],[Other Categories]]","v":"T"}]
[{"$f":"VLOOKUP(Tabel3[[#This Row],[GAE ID]],'BES EN'!A:AJ,36,FALSE)","v":"Hazard label number - serial number"},{"$f":"Tabel3[[#This Row],[GDSN-naam]]","v":"dangerousHazardousLabelSequenceNumber"},{"$f":"Tabel3[[#This Row],[GDM Verplicht / Conditioneel]]","v":"Optional"},{"$f":"Tabel3[[#This Row],[DMS controle]]","v":0},{"$f":"Tabel3[[#This Row],[BMS ID]]","v":3897},{"$f":"Tabel3[[#This Row],[Formaat]]","v":"Non-negative Integer"},{"$f":"Tabel3[[#This Row],[X Path]]","v":"/catalogue_item_notification:catalogueItemNotificationMessage/transaction/documentCommand/catalogue_item_notification:catalogueItemNotification/catalogueItem/tradeItem/tradeItemInformation/extension/*[namespace-uri()='urn:gs1:gdsn:transportation_hazardous_classification:xsd:3' and local-name()='transportationHazardousClassificationModule']/transportationClassification/regulatedTransportationMode/hazardousInformationHeader/hazardousInformationDetail/dangerousHazardousLabel/dangerousHazardousLabelSequenceNumber"},{"$f":"Tabel3[[#This Row],[GDM laag]]","v":"Local"},{"$f":"VLOOKUP(Tabel3[[#This Row],[GAE ID]],'BES EN'!A:AJ,27,FALSE)","v":"Mandatory in case for a consumer unit 'Hazard label number' is populated."},null,{"$f":"Tabel3[[#This Row],[Dairy, Refrigerated & Frozen]]","v":"-"},{"$f":"Tabel3[[#This Row],[Deli & Prepared]]","v":"-"},{"$f":"Tabel3[[#This Row],[Fresh Meat]]","v":"-"},{"$f":"Tabel3[[#This Row],[Fresh Fish]]","v":"-"},{"$f":"Tabel3[[#This Row],[Fresh Fruits & Vegetables]]","v":"-"},{"$f":"Tabel3[[#This Row],[Grocery]]","v":"-"},{"$f":"Tabel3[[#This Row],[Cleaners]]","v":"G"},{"$f":"Tabel3[[#This Row],[Disposables]]","v":"-"},{"$f":"Tabel3[[#This Row],[Beauty & Personal Care]]","v":"I"},{"$f":"Tabel3[[#This Row],[Petfood]]","v":"-"},{"$f":"Tabel3[[#This Row],[Alcoholic Beverages]]","v":"-"},{"$f":"Tabel3[[#This Row],[Tobacco]]","v":"-"},{"$f":"Tabel3[[#This Row],[Self-care medicines]]","v":"M"},{"$f":"Tabel3[[#This Row],[Special Food]]","v":"N"},{"$f":"Tabel3[[#This Row],[Food Supplements]]","v":"O"},{"$f":"Tabel3[[#This Row],[Healthcare Products]]","v":"P"},{"$f":"Tabel3[[#This Row],[Medical Devices]]","v":"Q"},{"$f":"Tabel3[[#This Row],[Batteries]]","v":"R"},{"$f":"Tabel3[[#This Row],[Light Bulbs]]","v":"S"},{"$f":"Tabel3[[#This Row],[Other Categories]]","v":"T"}]
[{"$f":"VLOOKUP(Tabel3[[#This Row],[GAE ID]],'BES EN'!A:AJ,36,FALSE)","v":"Substance on carcinogenic substances list of SZW indicator"},{"$f":"Tabel3[[#This Row],[GDSN-naam]]","v":"isSubstanceOfVeryHighConcern"},{"$f":"Tabel3[[#This Row],[GDM Verplicht / Conditioneel]]","v":"Optional"},{"$f":"Tabel3[[#This Row],[DMS controle]]","v":0},{"$f":"Tabel3[[#This Row],[BMS ID]]","v":3143},{"$f":"Tabel3[[#This Row],[Formaat]]","v":"Non-binary logic enumeration "},{"$f":"Tabel3[[#This Row],[X Path]]","v":"/catalogue_item_notification:catalogueItemNotificationMessage/transaction/documentCommand/catalogue_item_notification:catalogueItemNotification/catalogueItem/tradeItem/tradeItemInformation/extension/*[namespace-uri()='urn:gs1:gdsn:safety_data_sheet:xsd:3' and local-name()='safetyDataSheetModule']/safetyDataSheetInformation/rEACHInformation/isSubstanceOfVeryHighConcern"},{"$f":"Tabel3[[#This Row],[GDM laag]]","v":"Local"},{"$f":"VLOOKUP(Tabel3[[#This Row],[GAE ID]],'BES EN'!A:AJ,27,FALSE)","v":0},null,{"$f":"Tabel3[[#This Row],[Dairy, Refrigerated & Frozen]]","v":"-"},{"$f":"Tabel3[[#This Row],[Deli & Prepared]]","v":"-"},{"$f":"Tabel3[[#This Row],[Fresh Meat]]","v":"-"},{"$f":"Tabel3[[#This Row],[Fresh Fish]]","v":"-"},{"$f":"Tabel3[[#This Row],[Fresh Fruits & Vegetables]]","v":"-"},{"$f":"Tabel3[[#This Row],[Grocery]]","v":"-"},{"$f":"Tabel3[[#This Row],[Cleaners]]","v":"G"},{"$f":"Tabel3[[#This Row],[Disposables]]","v":"-"},{"$f":"Tabel3[[#This Row],[Beauty & Personal Care]]","v":"I"},{"$f":"Tabel3[[#This Row],[Petfood]]","v":"-"},{"$f":"Tabel3[[#This Row],[Alcoholic Beverages]]","v":"-"},{"$f":"Tabel3[[#This Row],[Tobacco]]","v":"-"},{"$f":"Tabel3[[#This Row],[Self-care medicines]]","v":"M"},{"$f":"Tabel3[[#This Row],[Special Food]]","v":"N"},{"$f":"Tabel3[[#This Row],[Food Supplements]]","v":"O"},{"$f":"Tabel3[[#This Row],[Healthcare Products]]","v":"P"},{"$f":"Tabel3[[#This Row],[Medical Devices]]","v":"Q"},{"$f":"Tabel3[[#This Row],[Batteries]]","v":"R"},{"$f":"Tabel3[[#This Row],[Light Bulbs]]","v":"S"},{"$f":"Tabel3[[#This Row],[Other Categories]]","v":"T"}]
[{"$f":"VLOOKUP(Tabel3[[#This Row],[GAE ID]],'BES EN'!A:AJ,36,FALSE)","v":"VOM category - agency"},{"$f":"Tabel3[[#This Row],[GDSN-naam]]","v":"chemicalIngredientOrganisation"},{"$f":"Tabel3[[#This Row],[GDM Verplicht / Conditioneel]]","v":"Conditional"},{"$f":"Tabel3[[#This Row],[DMS controle]]","v":0},{"$f":"Tabel3[[#This Row],[BMS ID]]","v":3181},{"$f":"Tabel3[[#This Row],[Formaat]]","v":"an..200"},{"$f":"Tabel3[[#This Row],[X Path]]","v":"/catalogue_item_notification:catalogueItemNotificationMessage/transaction/documentCommand/catalogue_item_notification:catalogueItemNotification/catalogueItem/tradeItem/tradeItemInformation/extension/*[namespace-uri()='urn:gs1:gdsn:safety_data_sheet:xsd:3' and local-name()='safetyDataSheetModule']/safetyDataSheetInformation/chemicalInformation/chemicalIngredientOrganisation"},{"$f":"Tabel3[[#This Row],[GDM laag]]","v":"Local"},{"$f":"VLOOKUP(Tabel3[[#This Row],[GAE ID]],'BES EN'!A:AJ,27,FALSE)","v":"Mandatory for paint products."},null,{"$f":"Tabel3[[#This Row],[Dairy, Refrigerated & Frozen]]","v":"-"},{"$f":"Tabel3[[#This Row],[Deli & Prepared]]","v":"-"},{"$f":"Tabel3[[#This Row],[Fresh Meat]]","v":"-"},{"$f":"Tabel3[[#This Row],[Fresh Fish]]","v":"-"},{"$f":"Tabel3[[#This Row],[Fresh Fruits & Vegetables]]","v":"-"},{"$f":"Tabel3[[#This Row],[Grocery]]","v":"-"},{"$f":"Tabel3[[#This Row],[Cleaners]]","v":"G"},{"$f":"Tabel3[[#This Row],[Disposables]]","v":"-"},{"$f":"Tabel3[[#This Row],[Beauty & Personal Care]]","v":"I"},{"$f":"Tabel3[[#This Row],[Petfood]]","v":"-"},{"$f":"Tabel3[[#This Row],[Alcoholic Beverages]]","v":"-"},{"$f":"Tabel3[[#This Row],[Tobacco]]","v":"-"},{"$f":"Tabel3[[#This Row],[Self-care medicines]]","v":"M"},{"$f":"Tabel3[[#This Row],[Special Food]]","v":"N"},{"$f":"Tabel3[[#This Row],[Food Supplements]]","v":"O"},{"$f":"Tabel3[[#This Row],[Healthcare Products]]","v":"P"},{"$f":"Tabel3[[#This Row],[Medical Devices]]","v":"Q"},{"$f":"Tabel3[[#This Row],[Batteries]]","v":"R"},{"$f":"Tabel3[[#This Row],[Light Bulbs]]","v":"S"},{"$f":"Tabel3[[#This Row],[Other Categories]]","v":"T"}]
[{"$f":"VLOOKUP(Tabel3[[#This Row],[GAE ID]],'BES EN'!A:AJ,36,FALSE)","v":"Flashpoint - minimum"},{"$f":"Tabel3[[#This Row],[GDSN-naam]]","v":"flashPointTemperatureLowerValue"},{"$f":"Tabel3[[#This Row],[GDM Verplicht / Conditioneel]]","v":"Optional"},{"$f":"Tabel3[[#This Row],[DMS controle]]","v":0},{"$f":"Tabel3[[#This Row],[BMS ID]]","v":3283},{"$f":"Tabel3[[#This Row],[Formaat]]","v":"n..15"},{"$f":"Tabel3[[#This Row],[X Path]]","v":"/catalogue_item_notification:catalogueItemNotificationMessage/transaction/documentCommand/catalogue_item_notification:catalogueItemNotification/catalogueItem/tradeItem/tradeItemInformation/extension/*[namespace-uri()='urn:gs1:gdsn:safety_data_sheet:xsd:3' and local-name()='safetyDataSheetModule']/safetyDataSheetInformation/physicalChemicalPropertyInformation/flashPoint/flashPointTemperatureLowerValue"},{"$f":"Tabel3[[#This Row],[GDM laag]]","v":"Local"},{"$f":"VLOOKUP(Tabel3[[#This Row],[GAE ID]],'BES EN'!A:AJ,27,FALSE)","v":0},null,{"$f":"Tabel3[[#This Row],[Dairy, Refrigerated & Frozen]]","v":"-"},{"$f":"Tabel3[[#This Row],[Deli & Prepared]]","v":"-"},{"$f":"Tabel3[[#This Row],[Fresh Meat]]","v":"-"},{"$f":"Tabel3[[#This Row],[Fresh Fish]]","v":"-"},{"$f":"Tabel3[[#This Row],[Fresh Fruits & Vegetables]]","v":"-"},{"$f":"Tabel3[[#This Row],[Grocery]]","v":"-"},{"$f":"Tabel3[[#This Row],[Cleaners]]","v":"G"},{"$f":"Tabel3[[#This Row],[Disposables]]","v":"-"},{"$f":"Tabel3[[#This Row],[Beauty & Personal Care]]","v":"I"},{"$f":"Tabel3[[#This Row],[Petfood]]","v":"-"},{"$f":"Tabel3[[#This Row],[Alcoholic Beverages]]","v":"-"},{"$f":"Tabel3[[#This Row],[Tobacco]]","v":"-"},{"$f":"Tabel3[[#This Row],[Self-care medicines]]","v":"M"},{"$f":"Tabel3[[#This Row],[Special Food]]","v":"N"},{"$f":"Tabel3[[#This Row],[Food Supplements]]","v":"O"},{"$f":"Tabel3[[#This Row],[Healthcare Products]]","v":"P"},{"$f":"Tabel3[[#This Row],[Medical Devices]]","v":"Q"},{"$f":"Tabel3[[#This Row],[Batteries]]","v":"R"},{"$f":"Tabel3[[#This Row],[Light Bulbs]]","v":"S"},{"$f":"Tabel3[[#This Row],[Other Categories]]","v":"T"}]
[{"$f":"VLOOKUP(Tabel3[[#This Row],[GAE ID]],'BES EN'!A:AJ,36,FALSE)","v":"Flashpoint - minimum UOM"},{"$f":"Tabel3[[#This Row],[GDSN-naam]]","v":"flashPointTemperatureLowerValue/@temperatureMeasurementUnitCode"},{"$f":"Tabel3[[#This Row],[GDM Verplicht / Conditioneel]]","v":"Optional"},{"$f":"Tabel3[[#This Row],[DMS controle]]","v":0},{"$f":"Tabel3[[#This Row],[BMS ID]]","v":3284},{"$f":"Tabel3[[#This Row],[Formaat]]","v":"Defined values"},{"$f":"Tabel3[[#This Row],[X Path]]","v":"/catalogue_item_notification:catalogueItemNotificationMessage/transaction/documentCommand/catalogue_item_notification:catalogueItemNotification/catalogueItem/tradeItem/tradeItemInformation/extension/*[namespace-uri()='urn:gs1:gdsn:safety_data_sheet:xsd:3' and local-name()='safetyDataSheetModule']/safetyDataSheetInformation/physicalChemicalPropertyInformation/flashPoint/flashPointTemperatureLowerValue/@temperatureMeasurementUnitCode"},{"$f":"Tabel3[[#This Row],[GDM laag]]","v":"Local"},{"$f":"VLOOKUP(Tabel3[[#This Row],[GAE ID]],'BES EN'!A:AJ,27,FALSE)","v":"Mandatory in case the 'Flashpoint - minimum' field is populated."},null,{"$f":"Tabel3[[#This Row],[Dairy, Refrigerated & Frozen]]","v":"-"},{"$f":"Tabel3[[#This Row],[Deli & Prepared]]","v":"-"},{"$f":"Tabel3[[#This Row],[Fresh Meat]]","v":"-"},{"$f":"Tabel3[[#This Row],[Fresh Fish]]","v":"-"},{"$f":"Tabel3[[#This Row],[Fresh Fruits & Vegetables]]","v":"-"},{"$f":"Tabel3[[#This Row],[Grocery]]","v":"-"},{"$f":"Tabel3[[#This Row],[Cleaners]]","v":"G"},{"$f":"Tabel3[[#This Row],[Disposables]]","v":"-"},{"$f":"Tabel3[[#This Row],[Beauty & Personal Care]]","v":"I"},{"$f":"Tabel3[[#This Row],[Petfood]]","v":"-"},{"$f":"Tabel3[[#This Row],[Alcoholic Beverages]]","v":"-"},{"$f":"Tabel3[[#This Row],[Tobacco]]","v":"-"},{"$f":"Tabel3[[#This Row],[Self-care medicines]]","v":"M"},{"$f":"Tabel3[[#This Row],[Special Food]]","v":"N"},{"$f":"Tabel3[[#This Row],[Food Supplements]]","v":"O"},{"$f":"Tabel3[[#This Row],[Healthcare Products]]","v":"P"},{"$f":"Tabel3[[#This Row],[Medical Devices]]","v":"Q"},{"$f":"Tabel3[[#This Row],[Batteries]]","v":"R"},{"$f":"Tabel3[[#This Row],[Light Bulbs]]","v":"S"},{"$f":"Tabel3[[#This Row],[Other Categories]]","v":"T"}]
[{"$f":"VLOOKUP(Tabel3[[#This Row],[GAE ID]],'BES EN'!A:AJ,36,FALSE)","v":"Flashpoint - maximum"},{"$f":"Tabel3[[#This Row],[GDSN-naam]]","v":"flashPointTemperatureUpperValue"},{"$f":"Tabel3[[#This Row],[GDM Verplicht / Conditioneel]]","v":"Optional"},{"$f":"Tabel3[[#This Row],[DMS controle]]","v":0},{"$f":"Tabel3[[#This Row],[BMS ID]]","v":3286},{"$f":"Tabel3[[#This Row],[Formaat]]","v":"n..15"},{"$f":"Tabel3[[#This Row],[X Path]]","v":"/catalogue_item_notification:catalogueItemNotificationMessage/transaction/documentCommand/catalogue_item_notification:catalogueItemNotification/catalogueItem/tradeItem/tradeItemInformation/extension/*[namespace-uri()='urn:gs1:gdsn:safety_data_sheet:xsd:3' and local-name()='safetyDataSheetModule']/safetyDataSheetInformation/physicalChemicalPropertyInformation/flashPoint/flashPointTemperatureUpperValue"},{"$f":"Tabel3[[#This Row],[GDM laag]]","v":"Local"},{"$f":"VLOOKUP(Tabel3[[#This Row],[GAE ID]],'BES EN'!A:AJ,27,FALSE)","v":0},null,{"$f":"Tabel3[[#This Row],[Dairy, Refrigerated & Frozen]]","v":"-"},{"$f":"Tabel3[[#This Row],[Deli & Prepared]]","v":"-"},{"$f":"Tabel3[[#This Row],[Fresh Meat]]","v":"-"},{"$f":"Tabel3[[#This Row],[Fresh Fish]]","v":"-"},{"$f":"Tabel3[[#This Row],[Fresh Fruits & Vegetables]]","v":"-"},{"$f":"Tabel3[[#This Row],[Grocery]]","v":"-"},{"$f":"Tabel3[[#This Row],[Cleaners]]","v":"G"},{"$f":"Tabel3[[#This Row],[Disposables]]","v":"-"},{"$f":"Tabel3[[#This Row],[Beauty & Personal Care]]","v":"I"},{"$f":"Tabel3[[#This Row],[Petfood]]","v":"-"},{"$f":"Tabel3[[#This Row],[Alcoholic Beverages]]","v":"-"},{"$f":"Tabel3[[#This Row],[Tobacco]]","v":"-"},{"$f":"Tabel3[[#This Row],[Self-care medicines]]","v":"M"},{"$f":"Tabel3[[#This Row],[Special Food]]","v":"N"},{"$f":"Tabel3[[#This Row],[Food Supplements]]","v":"O"},{"$f":"Tabel3[[#This Row],[Healthcare Products]]","v":"P"},{"$f":"Tabel3[[#This Row],[Medical Devices]]","v":"Q"},{"$f":"Tabel3[[#This Row],[Batteries]]","v":"R"},{"$f":"Tabel3[[#This Row],[Light Bulbs]]","v":"S"},{"$f":"Tabel3[[#This Row],[Other Categories]]","v":"T"}]
[{"$f":"VLOOKUP(Tabel3[[#This Row],[GAE ID]],'BES EN'!A:AJ,36,FALSE)","v":"Flashpoint - maximum UOM"},{"$f":"Tabel3[[#This Row],[GDSN-naam]]","v":"flashPointTemperatureUpperValue/@temperatureMeasurementUnitCode"},{"$f":"Tabel3[[#This Row],[GDM Verplicht / Conditioneel]]","v":"Optional"},{"$f":"Tabel3[[#This Row],[DMS controle]]","v":0},{"$f":"Tabel3[[#This Row],[BMS ID]]","v":3287},{"$f":"Tabel3[[#This Row],[Formaat]]","v":"Defined values"},{"$f":"Tabel3[[#This Row],[X Path]]","v":"/catalogue_item_notification:catalogueItemNotificationMessage/transaction/documentCommand/catalogue_item_notification:catalogueItemNotification/catalogueItem/tradeItem/tradeItemInformation/extension/*[namespace-uri()='urn:gs1:gdsn:safety_data_sheet:xsd:3' and local-name()='safetyDataSheetModule']/safetyDataSheetInformation/physicalChemicalPropertyInformation/flashPoint/flashPointTemperatureUpperValue/@temperatureMeasurementUnitCode"},{"$f":"Tabel3[[#This Row],[GDM laag]]","v":"Local"},{"$f":"VLOOKUP(Tabel3[[#This Row],[GAE ID]],'BES EN'!A:AJ,27,FALSE)","v":"Mandatory in case the 'Flashpoint - maximum' field is populated. "},null,{"$f":"Tabel3[[#This Row],[Dairy, Refrigerated & Frozen]]","v":"-"},{"$f":"Tabel3[[#This Row],[Deli & Prepared]]","v":"-"},{"$f":"Tabel3[[#This Row],[Fresh Meat]]","v":"-"},{"$f":"Tabel3[[#This Row],[Fresh Fish]]","v":"-"},{"$f":"Tabel3[[#This Row],[Fresh Fruits & Vegetables]]","v":"-"},{"$f":"Tabel3[[#This Row],[Grocery]]","v":"-"},{"$f":"Tabel3[[#This Row],[Cleaners]]","v":"G"},{"$f":"Tabel3[[#This Row],[Disposables]]","v":"-"},{"$f":"Tabel3[[#This Row],[Beauty & Personal Care]]","v":"I"},{"$f":"Tabel3[[#This Row],[Petfood]]","v":"-"},{"$f":"Tabel3[[#This Row],[Alcoholic Beverages]]","v":"-"},{"$f":"Tabel3[[#This Row],[Tobacco]]","v":"-"},{"$f":"Tabel3[[#This Row],[Self-care medicines]]","v":"M"},{"$f":"Tabel3[[#This Row],[Special Food]]","v":"N"},{"$f":"Tabel3[[#This Row],[Food Supplements]]","v":"O"},{"$f":"Tabel3[[#This Row],[Healthcare Products]]","v":"P"},{"$f":"Tabel3[[#This Row],[Medical Devices]]","v":"Q"},{"$f":"Tabel3[[#This Row],[Batteries]]","v":"R"},{"$f":"Tabel3[[#This Row],[Light Bulbs]]","v":"S"},{"$f":"Tabel3[[#This Row],[Other Categories]]","v":"T"}]
[{"$f":"VLOOKUP(Tabel3[[#This Row],[GAE ID]],'BES EN'!A:AJ,36,FALSE)","v":"Does trade item contain pesticide"},{"$f":"Tabel3[[#This Row],[GDSN-naam]]","v":"doesTradeItemContainPesticide"},{"$f":"Tabel3[[#This Row],[GDM Verplicht / Conditioneel]]","v":"Optional"},{"$f":"Tabel3[[#This Row],[DMS controle]]","v":0},{"$f":"Tabel3[[#This Row],[BMS ID]]","v":2516},{"$f":"Tabel3[[#This Row],[Formaat]]","v":"Non-binary logic enumeration "},{"$f":"Tabel3[[#This Row],[X Path]]","v":"/catalogue_item_notification:catalogueItemNotificationMessage/transaction/documentCommand/catalogue_item_notification:catalogueItemNotification/catalogueItem/tradeItem/tradeItemInformation/extension/*[namespace-uri()='urn:gs1:gdsn:sustainability_module:xsd:3' and local-name()='sustainabilityModule']/sustainabilityInformation/doesTradeItemContainPesticide"},{"$f":"Tabel3[[#This Row],[GDM laag]]","v":"Local"},{"$f":"VLOOKUP(Tabel3[[#This Row],[GAE ID]],'BES EN'!A:AJ,27,FALSE)","v":" "},null,{"$f":"Tabel3[[#This Row],[Dairy, Refrigerated & Frozen]]","v":"-"},{"$f":"Tabel3[[#This Row],[Deli & Prepared]]","v":"-"},{"$f":"Tabel3[[#This Row],[Fresh Meat]]","v":"-"},{"$f":"Tabel3[[#This Row],[Fresh Fish]]","v":"-"},{"$f":"Tabel3[[#This Row],[Fresh Fruits & Vegetables]]","v":"-"},{"$f":"Tabel3[[#This Row],[Grocery]]","v":"-"},{"$f":"Tabel3[[#This Row],[Cleaners]]","v":"G"},{"$f":"Tabel3[[#This Row],[Disposables]]","v":"-"},{"$f":"Tabel3[[#This Row],[Beauty & Personal Care]]","v":"I"},{"$f":"Tabel3[[#This Row],[Petfood]]","v":"-"},{"$f":"Tabel3[[#This Row],[Alcoholic Beverages]]","v":"-"},{"$f":"Tabel3[[#This Row],[Tobacco]]","v":"-"},{"$f":"Tabel3[[#This Row],[Self-care medicines]]","v":"M"},{"$f":"Tabel3[[#This Row],[Special Food]]","v":"N"},{"$f":"Tabel3[[#This Row],[Food Supplements]]","v":"O"},{"$f":"Tabel3[[#This Row],[Healthcare Products]]","v":"P"},{"$f":"Tabel3[[#This Row],[Medical Devices]]","v":"Q"},{"$f":"Tabel3[[#This Row],[Batteries]]","v":"R"},{"$f":"Tabel3[[#This Row],[Light Bulbs]]","v":"S"},{"$f":"Tabel3[[#This Row],[Other Categories]]","v":"T"}]
[{"$f":"VLOOKUP(Tabel3[[#This Row],[GAE ID]],'BES EN'!A:AJ,36,FALSE)","v":"Packaging function code"},{"$f":"Tabel3[[#This Row],[GDSN-naam]]","v":"packagingFunctionCode"},{"$f":"Tabel3[[#This Row],[GDM Verplicht / Conditioneel]]","v":"X"},{"$f":"Tabel3[[#This Row],[DMS controle]]","v":0},{"$f":"Tabel3[[#This Row],[BMS ID]]","v":2167},{"$f":"Tabel3[[#This Row],[Formaat]]","v":"Defined values"},{"$f":"Tabel3[[#This Row],[X Path]]","v":"/catalogue_item_notification:catalogueItemNotificationMessage/transaction/documentCommand/catalogue_item_notification:catalogueItemNotification/catalogueItem/tradeItem/tradeItemInformation/extension/*[namespace-uri()='urn:gs1:gdsn:packaging_information:xsd:3' and local-name()='packagingInformationModule']/packaging/packagingFunctionCode"},{"$f":"Tabel3[[#This Row],[GDM laag]]","v":"Local"},{"$f":"VLOOKUP(Tabel3[[#This Row],[GAE ID]],'BES EN'!A:AJ,27,FALSE)","v":0},null,{"$f":"Tabel3[[#This Row],[Dairy, Refrigerated & Frozen]]","v":"-"},{"$f":"Tabel3[[#This Row],[Deli & Prepared]]","v":"-"},{"$f":"Tabel3[[#This Row],[Fresh Meat]]","v":"-"},{"$f":"Tabel3[[#This Row],[Fresh Fish]]","v":"-"},{"$f":"Tabel3[[#This Row],[Fresh Fruits & Vegetables]]","v":"-"},{"$f":"Tabel3[[#This Row],[Grocery]]","v":"-"},{"$f":"Tabel3[[#This Row],[Cleaners]]","v":"G"},{"$f":"Tabel3[[#This Row],[Disposables]]","v":"-"},{"$f":"Tabel3[[#This Row],[Beauty & Personal Care]]","v":"I"},{"$f":"Tabel3[[#This Row],[Petfood]]","v":"-"},{"$f":"Tabel3[[#This Row],[Alcoholic Beverages]]","v":"-"},{"$f":"Tabel3[[#This Row],[Tobacco]]","v":"-"},{"$f":"Tabel3[[#This Row],[Self-care medicines]]","v":"M"},{"$f":"Tabel3[[#This Row],[Special Food]]","v":"N"},{"$f":"Tabel3[[#This Row],[Food Supplements]]","v":"O"},{"$f":"Tabel3[[#This Row],[Healthcare Products]]","v":"P"},{"$f":"Tabel3[[#This Row],[Medical Devices]]","v":"Q"},{"$f":"Tabel3[[#This Row],[Batteries]]","v":"R"},{"$f":"Tabel3[[#This Row],[Light Bulbs]]","v":"S"},{"$f":"Tabel3[[#This Row],[Other Categories]]","v":"T"}]
[{"$f":"VLOOKUP(Tabel3[[#This Row],[GAE ID]],'BES EN'!A:AJ,36,FALSE)","v":"Viscosity exception indicator"},{"$f":"Tabel3[[#This Row],[GDSN-naam]]","v":"specialPermitOrExemptionIdentification"},{"$f":"Tabel3[[#This Row],[GDM Verplicht / Conditioneel]]","v":"Optional"},{"$f":"Tabel3[[#This Row],[DMS controle]]","v":0},{"$f":"Tabel3[[#This Row],[BMS ID]]","v":3855},{"$f":"Tabel3[[#This Row],[Formaat]]","v":"an..80"},{"$f":"Tabel3[[#This Row],[X Path]]","v":"/catalogue_item_notification:catalogueItemNotificationMessage/transaction/documentCommand/catalogue_item_notification:catalogueItemNotification/catalogueItem/tradeItem/tradeItemInformation/extension/*[namespace-uri()='urn:gs1:gdsn:transportation_hazardous_classification:xsd:3' and local-name()='transportationHazardousClassificationModule']/transportationClassification/regulatedTransportationMode/specialPermitOrExemptionIdentification"},{"$f":"Tabel3[[#This Row],[GDM laag]]","v":"Local"},{"$f":"VLOOKUP(Tabel3[[#This Row],[GAE ID]],'BES EN'!A:AJ,27,FALSE)","v":"Mandatory in case for a consumer unit 'ADR class' is populated with a value in the range 1 to 9."},null,{"$f":"Tabel3[[#This Row],[Dairy, Refrigerated & Frozen]]","v":"-"},{"$f":"Tabel3[[#This Row],[Deli & Prepared]]","v":"-"},{"$f":"Tabel3[[#This Row],[Fresh Meat]]","v":"-"},{"$f":"Tabel3[[#This Row],[Fresh Fish]]","v":"-"},{"$f":"Tabel3[[#This Row],[Fresh Fruits & Vegetables]]","v":"-"},{"$f":"Tabel3[[#This Row],[Grocery]]","v":"-"},{"$f":"Tabel3[[#This Row],[Cleaners]]","v":"G"},{"$f":"Tabel3[[#This Row],[Disposables]]","v":"-"},{"$f":"Tabel3[[#This Row],[Beauty & Personal Care]]","v":"I"},{"$f":"Tabel3[[#This Row],[Petfood]]","v":"-"},{"$f":"Tabel3[[#This Row],[Alcoholic Beverages]]","v":"-"},{"$f":"Tabel3[[#This Row],[Tobacco]]","v":"-"},{"$f":"Tabel3[[#This Row],[Self-care medicines]]","v":"M"},{"$f":"Tabel3[[#This Row],[Special Food]]","v":"N"},{"$f":"Tabel3[[#This Row],[Food Supplements]]","v":"O"},{"$f":"Tabel3[[#This Row],[Healthcare Products]]","v":"P"},{"$f":"Tabel3[[#This Row],[Medical Devices]]","v":"Q"},{"$f":"Tabel3[[#This Row],[Batteries]]","v":"R"},{"$f":"Tabel3[[#This Row],[Light Bulbs]]","v":"S"},{"$f":"Tabel3[[#This Row],[Other Categories]]","v":"T"}]
[{"$f":"VLOOKUP(Tabel3[[#This Row],[GAE ID]],'BES EN'!A:AJ,36,FALSE)","v":"Viscosity exception code – agency "},{"$f":"Tabel3[[#This Row],[GDSN-naam]]","v":"specialPermitOrExemptionIdentification/@identificationSchemeAgencyCode"},{"$f":"Tabel3[[#This Row],[GDM Verplicht / Conditioneel]]","v":"Conditional"},{"$f":"Tabel3[[#This Row],[DMS controle]]","v":0},{"$f":"Tabel3[[#This Row],[BMS ID]]","v":3856},{"$f":"Tabel3[[#This Row],[Formaat]]","v":"an..80"},{"$f":"Tabel3[[#This Row],[X Path]]","v":"/catalogue_item_notification:catalogueItemNotificationMessage/transaction/documentCommand/catalogue_item_notification:catalogueItemNotification/catalogueItem/tradeItem/tradeItemInformation/extension/*[namespace-uri()='urn:gs1:gdsn:transportation_hazardous_classification:xsd:3' and local-name()='transportationHazardousClassificationModule']/transportationClassification/regulatedTransportationMode/specialPermitOrExemptionIdentification/@identificationSchemeAgencyCode"},{"$f":"Tabel3[[#This Row],[GDM laag]]","v":"Local"},{"$f":"VLOOKUP(Tabel3[[#This Row],[GAE ID]],'BES EN'!A:AJ,27,FALSE)","v":"Mandatory if the ‘Viscosity exception indicator’ field is populated with the code value 'TRUE'"},null,{"$f":"Tabel3[[#This Row],[Dairy, Refrigerated & Frozen]]","v":"-"},{"$f":"Tabel3[[#This Row],[Deli & Prepared]]","v":"-"},{"$f":"Tabel3[[#This Row],[Fresh Meat]]","v":"-"},{"$f":"Tabel3[[#This Row],[Fresh Fish]]","v":"-"},{"$f":"Tabel3[[#This Row],[Fresh Fruits & Vegetables]]","v":"-"},{"$f":"Tabel3[[#This Row],[Grocery]]","v":"-"},{"$f":"Tabel3[[#This Row],[Cleaners]]","v":"G"},{"$f":"Tabel3[[#This Row],[Disposables]]","v":"-"},{"$f":"Tabel3[[#This Row],[Beauty & Personal Care]]","v":"I"},{"$f":"Tabel3[[#This Row],[Petfood]]","v":"-"},{"$f":"Tabel3[[#This Row],[Alcoholic Beverages]]","v":"-"},{"$f":"Tabel3[[#This Row],[Tobacco]]","v":"-"},{"$f":"Tabel3[[#This Row],[Self-care medicines]]","v":"M"},{"$f":"Tabel3[[#This Row],[Special Food]]","v":"N"},{"$f":"Tabel3[[#This Row],[Food Supplements]]","v":"O"},{"$f":"Tabel3[[#This Row],[Healthcare Products]]","v":"P"},{"$f":"Tabel3[[#This Row],[Medical Devices]]","v":"Q"},{"$f":"Tabel3[[#This Row],[Batteries]]","v":"R"},{"$f":"Tabel3[[#This Row],[Light Bulbs]]","v":"S"},{"$f":"Tabel3[[#This Row],[Other Categories]]","v":"T"}]
["Precursors",null,{"$f":"Tabel3[[#This Row],[GDM Verplicht / Conditioneel]]","v":0},null,null,null,null,null,null,null,"A","B","C","D","E","F","G","H","I","J","K","L","M","N","O","P","Q","R","S","T"]
[{"$f":"VLOOKUP(Tabel3[[#This Row],[GAE ID]],'BES EN'!A:AJ,36,FALSE)","v":"Is trade item regulation compliant"},{"$f":"Tabel3[[#This Row],[GDSN-naam]]","v":"isTradeItemRegulationCompliant"},{"$f":"Tabel3[[#This Row],[GDM Verplicht / Conditioneel]]","v":"Optional"},{"$f":"Tabel3[[#This Row],[DMS controle]]","v":0},{"$f":"Tabel3[[#This Row],[BMS ID]]","v":3074},{"$f":"Tabel3[[#This Row],[Formaat]]","v":"Non-binary logic enumeration "},{"$f":"Tabel3[[#This Row],[X Path]]","v":"/catalogue_item_notification:catalogueItemNotificationMessage/transaction/documentCommand/catalogue_item_notification:catalogueItemNotification/catalogueItem/tradeItem/tradeItemInformation/extension/*[namespace-uri()='urn:gs1:gdsn:regulated_trade_item:xsd:3' and local-name()='regulatedTradeItemModule']/regulatoryInformation/isTradeItemRegulationCompliant"},{"$f":"Tabel3[[#This Row],[GDM laag]]","v":"Local"},{"$f":"VLOOKUP(Tabel3[[#This Row],[GAE ID]],'BES EN'!A:AJ,27,FALSE)","v":"Mandatory for products that contain precursors for explosives."},null,{"$f":"Tabel3[[#This Row],[Dairy, Refrigerated & Frozen]]","v":"-"},{"$f":"Tabel3[[#This Row],[Deli & Prepared]]","v":"-"},{"$f":"Tabel3[[#This Row],[Fresh Meat]]","v":"-"},{"$f":"Tabel3[[#This Row],[Fresh Fish]]","v":"-"},{"$f":"Tabel3[[#This Row],[Fresh Fruits & Vegetables]]","v":"-"},{"$f":"Tabel3[[#This Row],[Grocery]]","v":"-"},{"$f":"Tabel3[[#This Row],[Cleaners]]","v":"G"},{"$f":"Tabel3[[#This Row],[Disposables]]","v":"H"},{"$f":"Tabel3[[#This Row],[Beauty & Personal Care]]","v":"I"},{"$f":"Tabel3[[#This Row],[Petfood]]","v":"-"},{"$f":"Tabel3[[#This Row],[Alcoholic Beverages]]","v":"K"},{"$f":"Tabel3[[#This Row],[Tobacco]]","v":"L"},{"$f":"Tabel3[[#This Row],[Self-care medicines]]","v":"M"},{"$f":"Tabel3[[#This Row],[Special Food]]","v":"N"},{"$f":"Tabel3[[#This Row],[Food Supplements]]","v":"O"},{"$f":"Tabel3[[#This Row],[Healthcare Products]]","v":"P"},{"$f":"Tabel3[[#This Row],[Medical Devices]]","v":"Q"},{"$f":"Tabel3[[#This Row],[Batteries]]","v":"R"},{"$f":"Tabel3[[#This Row],[Light Bulbs]]","v":"S"},{"$f":"Tabel3[[#This Row],[Other Categories]]","v":"T"}]
[{"$f":"VLOOKUP(Tabel3[[#This Row],[GAE ID]],'BES EN'!A:AJ,36,FALSE)","v":"Indication of concentration thresholds"},{"$f":"Tabel3[[#This Row],[GDSN-naam]]","v":"regulatoryActComplianceLevelCode"},{"$f":"Tabel3[[#This Row],[GDM Verplicht / Conditioneel]]","v":"X"},{"$f":"Tabel3[[#This Row],[DMS controle]]","v":0},{"$f":"Tabel3[[#This Row],[BMS ID]]","v":3075},{"$f":"Tabel3[[#This Row],[Formaat]]","v":"Defined values"},{"$f":"Tabel3[[#This Row],[X Path]]","v":"/catalogue_item_notification:catalogueItemNotificationMessage/transaction/documentCommand/catalogue_item_notification:catalogueItemNotification/catalogueItem/tradeItem/tradeItemInformation/extension/*[namespace-uri()='urn:gs1:gdsn:regulated_trade_item:xsd:3' and local-name()='regulatedTradeItemModule']/regulatoryInformation/regulatoryActComplianceLevelCode"},{"$f":"Tabel3[[#This Row],[GDM laag]]","v":"Local"},{"$f":"VLOOKUP(Tabel3[[#This Row],[GAE ID]],'BES EN'!A:AJ,27,FALSE)","v":"Mandatory if the ‘Regulation type code’ field is populated with ‘EXPLOSIVES_PRECURSORS_REGISTRATION’ and the ‘Is trade item regulation compliant’ field is populated with ‘TRUE’."},null,{"$f":"Tabel3[[#This Row],[Dairy, Refrigerated & Frozen]]","v":"-"},{"$f":"Tabel3[[#This Row],[Deli & Prepared]]","v":"-"},{"$f":"Tabel3[[#This Row],[Fresh Meat]]","v":"-"},{"$f":"Tabel3[[#This Row],[Fresh Fish]]","v":"-"},{"$f":"Tabel3[[#This Row],[Fresh Fruits & Vegetables]]","v":"-"},{"$f":"Tabel3[[#This Row],[Grocery]]","v":"-"},{"$f":"Tabel3[[#This Row],[Cleaners]]","v":"G"},{"$f":"Tabel3[[#This Row],[Disposables]]","v":"H"},{"$f":"Tabel3[[#This Row],[Beauty & Personal Care]]","v":"I"},{"$f":"Tabel3[[#This Row],[Petfood]]","v":"-"},{"$f":"Tabel3[[#This Row],[Alcoholic Beverages]]","v":"-"},{"$f":"Tabel3[[#This Row],[Tobacco]]","v":"-"},{"$f":"Tabel3[[#This Row],[Self-care medicines]]","v":"M"},{"$f":"Tabel3[[#This Row],[Special Food]]","v":"N"},{"$f":"Tabel3[[#This Row],[Food Supplements]]","v":"O"},{"$f":"Tabel3[[#This Row],[Healthcare Products]]","v":"P"},{"$f":"Tabel3[[#This Row],[Medical Devices]]","v":"Q"},{"$f":"Tabel3[[#This Row],[Batteries]]","v":"R"},{"$f":"Tabel3[[#This Row],[Light Bulbs]]","v":"S"},{"$f":"Tabel3[[#This Row],[Other Categories]]","v":"T"}]
[{"$f":"VLOOKUP(Tabel3[[#This Row],[GAE ID]],'BES EN'!A:AJ,36,FALSE)","v":"Regulation level code reference"},{"$f":"Tabel3[[#This Row],[GDSN-naam]]","v":"regulationLevelCodeReference"},{"$f":"Tabel3[[#This Row],[GDM Verplicht / Conditioneel]]","v":"X"},{"$f":"Tabel3[[#This Row],[DMS controle]]","v":0},{"$f":"Tabel3[[#This Row],[BMS ID]]","v":6211},{"$f":"Tabel3[[#This Row],[Formaat]]","v":"Defined values"},{"$f":"Tabel3[[#This Row],[X Path]]","v":"/catalogue_item_notification:catalogueItemNotificationMessage/transaction/documentCommand/catalogue_item_notification:catalogueItemNotification/catalogueItem/tradeItem/tradeItemInformation/extension/*[namespace-uri()='urn:gs1:gdsn:regulated_trade_item:xsd:3' and local-name()='regulatedTradeItemModule']/regulatoryInformation/regulationLevelCodeReference"},{"$f":"Tabel3[[#This Row],[GDM laag]]","v":"Local"},{"$f":"VLOOKUP(Tabel3[[#This Row],[GAE ID]],'BES EN'!A:AJ,27,FALSE)","v":"Mandatory for products that contain precursors for explosives."},null,{"$f":"Tabel3[[#This Row],[Dairy, Refrigerated & Frozen]]","v":"-"},{"$f":"Tabel3[[#This Row],[Deli & Prepared]]","v":"-"},{"$f":"Tabel3[[#This Row],[Fresh Meat]]","v":"-"},{"$f":"Tabel3[[#This Row],[Fresh Fish]]","v":"-"},{"$f":"Tabel3[[#This Row],[Fresh Fruits & Vegetables]]","v":"-"},{"$f":"Tabel3[[#This Row],[Grocery]]","v":"-"},{"$f":"Tabel3[[#This Row],[Cleaners]]","v":"G"},{"$f":"Tabel3[[#This Row],[Disposables]]","v":"H"},{"$f":"Tabel3[[#This Row],[Beauty & Personal Care]]","v":"I"},{"$f":"Tabel3[[#This Row],[Petfood]]","v":"-"},{"$f":"Tabel3[[#This Row],[Alcoholic Beverages]]","v":"-"},{"$f":"Tabel3[[#This Row],[Tobacco]]","v":"-"},{"$f":"Tabel3[[#This Row],[Self-care medicines]]","v":"M"},{"$f":"Tabel3[[#This Row],[Special Food]]","v":"N"},{"$f":"Tabel3[[#This Row],[Food Supplements]]","v":"O"},{"$f":"Tabel3[[#This Row],[Healthcare Products]]","v":"P"},{"$f":"Tabel3[[#This Row],[Medical Devices]]","v":"Q"},{"$f":"Tabel3[[#This Row],[Batteries]]","v":"R"},{"$f":"Tabel3[[#This Row],[Light Bulbs]]","v":"S"},{"$f":"Tabel3[[#This Row],[Other Categories]]","v":"T"}]
[{"$f":"VLOOKUP(Tabel3[[#This Row],[GAE ID]],'BES EN'!A:AJ,36,FALSE)","v":"Chemical ingredient scheme"},{"$f":"Tabel3[[#This Row],[GDSN-naam]]","v":"chemicalIngredientScheme"},{"$f":"Tabel3[[#This Row],[GDM Verplicht / Conditioneel]]","v":"X"},{"$f":"Tabel3[[#This Row],[DMS controle]]","v":0},{"$f":"Tabel3[[#This Row],[BMS ID]]","v":3182},{"$f":"Tabel3[[#This Row],[Formaat]]","v":"an..200"},{"$f":"Tabel3[[#This Row],[X Path]]","v":"/catalogue_item_notification:catalogueItemNotificationMessage/transaction/documentCommand/catalogue_item_notification:catalogueItemNotification/catalogueItem/tradeItem/tradeItemInformation/extension/*[namespace-uri()='urn:gs1:gdsn:safety_data_sheet:xsd:3' and local-name()='safetyDataSheetModule']/safetyDataSheetInformation/chemicalInformation/chemicalIngredientScheme"},{"$f":"Tabel3[[#This Row],[GDM laag]]","v":"Local"},{"$f":"VLOOKUP(Tabel3[[#This Row],[GAE ID]],'BES EN'!A:AJ,27,FALSE)","v":"Mandatory for products that contain precursors for explosives"},null,{"$f":"Tabel3[[#This Row],[Dairy, Refrigerated & Frozen]]","v":"-"},{"$f":"Tabel3[[#This Row],[Deli & Prepared]]","v":"-"},{"$f":"Tabel3[[#This Row],[Fresh Meat]]","v":"-"},{"$f":"Tabel3[[#This Row],[Fresh Fish]]","v":"-"},{"$f":"Tabel3[[#This Row],[Fresh Fruits & Vegetables]]","v":"-"},{"$f":"Tabel3[[#This Row],[Grocery]]","v":"-"},{"$f":"Tabel3[[#This Row],[Cleaners]]","v":"G"},{"$f":"Tabel3[[#This Row],[Disposables]]","v":"H"},{"$f":"Tabel3[[#This Row],[Beauty & Personal Care]]","v":"I"},{"$f":"Tabel3[[#This Row],[Petfood]]","v":"-"},{"$f":"Tabel3[[#This Row],[Alcoholic Beverages]]","v":"-"},{"$f":"Tabel3[[#This Row],[Tobacco]]","v":"-"},{"$f":"Tabel3[[#This Row],[Self-care medicines]]","v":"M"},{"$f":"Tabel3[[#This Row],[Special Food]]","v":"N"},{"$f":"Tabel3[[#This Row],[Food Supplements]]","v":"O"},{"$f":"Tabel3[[#This Row],[Healthcare Products]]","v":"P"},{"$f":"Tabel3[[#This Row],[Medical Devices]]","v":"Q"},{"$f":"Tabel3[[#This Row],[Batteries]]","v":"R"},{"$f":"Tabel3[[#This Row],[Light Bulbs]]","v":"S"},{"$f":"Tabel3[[#This Row],[Other Categories]]","v":"T"}]
[{"$f":"VLOOKUP(Tabel3[[#This Row],[GAE ID]],'BES EN'!A:AJ,36,FALSE)","v":"Chemical ingredient identification"},{"$f":"Tabel3[[#This Row],[GDSN-naam]]","v":"chemicalIngredientIdentification"},{"$f":"Tabel3[[#This Row],[GDM Verplicht / Conditioneel]]","v":"Conditional"},{"$f":"Tabel3[[#This Row],[DMS controle]]","v":0},{"$f":"Tabel3[[#This Row],[BMS ID]]","v":3188},{"$f":"Tabel3[[#This Row],[Formaat]]","v":"an..35"},{"$f":"Tabel3[[#This Row],[X Path]]","v":"/catalogue_item_notification:catalogueItemNotificationMessage/transaction/documentCommand/catalogue_item_notification:catalogueItemNotification/catalogueItem/tradeItem/tradeItemInformation/extension/*[namespace-uri()='urn:gs1:gdsn:safety_data_sheet:xsd:3' and local-name()='safetyDataSheetModule']/safetyDataSheetInformation/chemicalInformation/chemicalIngredient/chemicalIngredientIdentification"},{"$f":"Tabel3[[#This Row],[GDM laag]]","v":"Local"},{"$f":"VLOOKUP(Tabel3[[#This Row],[GAE ID]],'BES EN'!A:AJ,27,FALSE)","v":"Mandatory for products that contain precursors for explosives and paint products."},null,{"$f":"Tabel3[[#This Row],[Dairy, Refrigerated & Frozen]]","v":"-"},{"$f":"Tabel3[[#This Row],[Deli & Prepared]]","v":"-"},{"$f":"Tabel3[[#This Row],[Fresh Meat]]","v":"-"},{"$f":"Tabel3[[#This Row],[Fresh Fish]]","v":"-"},{"$f":"Tabel3[[#This Row],[Fresh Fruits & Vegetables]]","v":"-"},{"$f":"Tabel3[[#This Row],[Grocery]]","v":"-"},{"$f":"Tabel3[[#This Row],[Cleaners]]","v":"G"},{"$f":"Tabel3[[#This Row],[Disposables]]","v":"H"},{"$f":"Tabel3[[#This Row],[Beauty & Personal Care]]","v":"I"},{"$f":"Tabel3[[#This Row],[Petfood]]","v":"-"},{"$f":"Tabel3[[#This Row],[Alcoholic Beverages]]","v":"-"},{"$f":"Tabel3[[#This Row],[Tobacco]]","v":"-"},{"$f":"Tabel3[[#This Row],[Self-care medicines]]","v":"M"},{"$f":"Tabel3[[#This Row],[Special Food]]","v":"N"},{"$f":"Tabel3[[#This Row],[Food Supplements]]","v":"O"},{"$f":"Tabel3[[#This Row],[Healthcare Products]]","v":"P"},{"$f":"Tabel3[[#This Row],[Medical Devices]]","v":"Q"},{"$f":"Tabel3[[#This Row],[Batteries]]","v":"R"},{"$f":"Tabel3[[#This Row],[Light Bulbs]]","v":"S"},{"$f":"Tabel3[[#This Row],[Other Categories]]","v":"T"}]
[{"$f":"VLOOKUP(Tabel3[[#This Row],[GAE ID]],'BES EN'!A:AJ,36,FALSE)","v":"Chemical ingredient concentration "},{"$f":"Tabel3[[#This Row],[GDSN-naam]]","v":"chemicalIngredientConcentration"},{"$f":"Tabel3[[#This Row],[GDM Verplicht / Conditioneel]]","v":"Conditional"},{"$f":"Tabel3[[#This Row],[DMS controle]]","v":0},{"$f":"Tabel3[[#This Row],[BMS ID]]","v":3184},{"$f":"Tabel3[[#This Row],[Formaat]]","v":"n..15"},{"$f":"Tabel3[[#This Row],[X Path]]","v":"/catalogue_item_notification:catalogueItemNotificationMessage/transaction/documentCommand/catalogue_item_notification:catalogueItemNotification/catalogueItem/tradeItem/tradeItemInformation/extension/*[namespace-uri()='urn:gs1:gdsn:safety_data_sheet:xsd:3' and local-name()='safetyDataSheetModule']/safetyDataSheetInformation/chemicalInformation/chemicalIngredient/chemicalIngredientConcentration"},{"$f":"Tabel3[[#This Row],[GDM laag]]","v":"Local"},{"$f":"VLOOKUP(Tabel3[[#This Row],[GAE ID]],'BES EN'!A:AJ,27,FALSE)","v":"Mandatory for products that contain precursors for explosives and paint products."},null,{"$f":"Tabel3[[#This Row],[Dairy, Refrigerated & Frozen]]","v":"-"},{"$f":"Tabel3[[#This Row],[Deli & Prepared]]","v":"-"},{"$f":"Tabel3[[#This Row],[Fresh Meat]]","v":"-"},{"$f":"Tabel3[[#This Row],[Fresh Fish]]","v":"-"},{"$f":"Tabel3[[#This Row],[Fresh Fruits & Vegetables]]","v":"-"},{"$f":"Tabel3[[#This Row],[Grocery]]","v":"-"},{"$f":"Tabel3[[#This Row],[Cleaners]]","v":"G"},{"$f":"Tabel3[[#This Row],[Disposables]]","v":"H"},{"$f":"Tabel3[[#This Row],[Beauty & Personal Care]]","v":"I"},{"$f":"Tabel3[[#This Row],[Petfood]]","v":"-"},{"$f":"Tabel3[[#This Row],[Alcoholic Beverages]]","v":"-"},{"$f":"Tabel3[[#This Row],[Tobacco]]","v":"-"},{"$f":"Tabel3[[#This Row],[Self-care medicines]]","v":"M"},{"$f":"Tabel3[[#This Row],[Special Food]]","v":"N"},{"$f":"Tabel3[[#This Row],[Food Supplements]]","v":"O"},{"$f":"Tabel3[[#This Row],[Healthcare Products]]","v":"P"},{"$f":"Tabel3[[#This Row],[Medical Devices]]","v":"Q"},{"$f":"Tabel3[[#This Row],[Batteries]]","v":"R"},{"$f":"Tabel3[[#This Row],[Light Bulbs]]","v":"S"},{"$f":"Tabel3[[#This Row],[Other Categories]]","v":"T"}]
[{"$f":"VLOOKUP(Tabel3[[#This Row],[GAE ID]],'BES EN'!A:AJ,36,FALSE)","v":"Chemical ingredient concentration UOM"},{"$f":"Tabel3[[#This Row],[GDSN-naam]]","v":"chemicalIngredientConcentration/@measurementUnitCode"},{"$f":"Tabel3[[#This Row],[GDM Verplicht / Conditioneel]]","v":"Conditional"},{"$f":"Tabel3[[#This Row],[DMS controle]]","v":0},{"$f":"Tabel3[[#This Row],[BMS ID]]","v":3185},{"$f":"Tabel3[[#This Row],[Formaat]]","v":"Defined values"},{"$f":"Tabel3[[#This Row],[X Path]]","v":"/catalogue_item_notification:catalogueItemNotificationMessage/transaction/documentCommand/catalogue_item_notification:catalogueItemNotification/catalogueItem/tradeItem/tradeItemInformation/extension/*[namespace-uri()='urn:gs1:gdsn:safety_data_sheet:xsd:3' and local-name()='safetyDataSheetModule']/safetyDataSheetInformation/chemicalInformation/chemicalIngredient/chemicalIngredientConcentration/@measurementUnitCode"},{"$f":"Tabel3[[#This Row],[GDM laag]]","v":"Local"},{"$f":"VLOOKUP(Tabel3[[#This Row],[GAE ID]],'BES EN'!A:AJ,27,FALSE)","v":"Mandatory in case 'Chemical ingredient concentration' is populated"},null,{"$f":"Tabel3[[#This Row],[Dairy, Refrigerated & Frozen]]","v":"-"},{"$f":"Tabel3[[#This Row],[Deli & Prepared]]","v":"-"},{"$f":"Tabel3[[#This Row],[Fresh Meat]]","v":"-"},{"$f":"Tabel3[[#This Row],[Fresh Fish]]","v":"-"},{"$f":"Tabel3[[#This Row],[Fresh Fruits & Vegetables]]","v":"-"},{"$f":"Tabel3[[#This Row],[Grocery]]","v":"-"},{"$f":"Tabel3[[#This Row],[Cleaners]]","v":"G"},{"$f":"Tabel3[[#This Row],[Disposables]]","v":"H"},{"$f":"Tabel3[[#This Row],[Beauty & Personal Care]]","v":"I"},{"$f":"Tabel3[[#This Row],[Petfood]]","v":"-"},{"$f":"Tabel3[[#This Row],[Alcoholic Beverages]]","v":"-"},{"$f":"Tabel3[[#This Row],[Tobacco]]","v":"-"},{"$f":"Tabel3[[#This Row],[Self-care medicines]]","v":"M"},{"$f":"Tabel3[[#This Row],[Special Food]]","v":"N"},{"$f":"Tabel3[[#This Row],[Food Supplements]]","v":"O"},{"$f":"Tabel3[[#This Row],[Healthcare Products]]","v":"P"},{"$f":"Tabel3[[#This Row],[Medical Devices]]","v":"Q"},{"$f":"Tabel3[[#This Row],[Batteries]]","v":"R"},{"$f":"Tabel3[[#This Row],[Light Bulbs]]","v":"S"},{"$f":"Tabel3[[#This Row],[Other Categories]]","v":"T"}]
["Certificates",null,{"$f":"Tabel3[[#This Row],[GDM Verplicht / Conditioneel]]","v":0},null,null,null,null,null,null,null,"A","B","C","D","E","F","G","H","I","J","K","L","M","N","O","P","Q","R","S","T"]
[{"$f":"VLOOKUP(Tabel3[[#This Row],[GAE ID]],'BES EN'!A:AJ,36,FALSE)","v":"Certification agency"},{"$f":"Tabel3[[#This Row],[GDSN-naam]]","v":"certificationAgency"},{"$f":"Tabel3[[#This Row],[GDM Verplicht / Conditioneel]]","v":"Conditional"},{"$f":"Tabel3[[#This Row],[DMS controle]]","v":0},{"$f":"Tabel3[[#This Row],[BMS ID]]","v":665},{"$f":"Tabel3[[#This Row],[Formaat]]","v":"an..200"},{"$f":"Tabel3[[#This Row],[X Path]]","v":"/catalogue_item_notification:catalogueItemNotificationMessage/transaction/documentCommand/catalogue_item_notification:catalogueItemNotification/catalogueItem/tradeItem/tradeItemInformation/extension/*[namespace-uri()='urn:gs1:gdsn:certification_information:xsd:3' and local-name()='certificationInformationModule']/certificationInformation/certificationAgency"},{"$f":"Tabel3[[#This Row],[GDM laag]]","v":"Local"},{"$f":"VLOOKUP(Tabel3[[#This Row],[GAE ID]],'BES EN'!A:AJ,27,FALSE)","v":"Mandatory for food supplements, medical devices and health care products, when a KOAG KAG number is available."},null,{"$f":"Tabel3[[#This Row],[Dairy, Refrigerated & Frozen]]","v":"-"},{"$f":"Tabel3[[#This Row],[Deli & Prepared]]","v":"-"},{"$f":"Tabel3[[#This Row],[Fresh Meat]]","v":"-"},{"$f":"Tabel3[[#This Row],[Fresh Fish]]","v":"-"},{"$f":"Tabel3[[#This Row],[Fresh Fruits & Vegetables]]","v":"-"},{"$f":"Tabel3[[#This Row],[Grocery]]","v":"-"},{"$f":"Tabel3[[#This Row],[Cleaners]]","v":"-"},{"$f":"Tabel3[[#This Row],[Disposables]]","v":"-"},{"$f":"Tabel3[[#This Row],[Beauty & Personal Care]]","v":"-"},{"$f":"Tabel3[[#This Row],[Petfood]]","v":"-"},{"$f":"Tabel3[[#This Row],[Alcoholic Beverages]]","v":"-"},{"$f":"Tabel3[[#This Row],[Tobacco]]","v":"-"},{"$f":"Tabel3[[#This Row],[Self-care medicines]]","v":"-"},{"$f":"Tabel3[[#This Row],[Special Food]]","v":"-"},{"$f":"Tabel3[[#This Row],[Food Supplements]]","v":"O"},{"$f":"Tabel3[[#This Row],[Healthcare Products]]","v":"P"},{"$f":"Tabel3[[#This Row],[Medical Devices]]","v":"Q"},{"$f":"Tabel3[[#This Row],[Batteries]]","v":"-"},{"$f":"Tabel3[[#This Row],[Light Bulbs]]","v":"-"},{"$f":"Tabel3[[#This Row],[Other Categories]]","v":"-"}]
[{"$f":"VLOOKUP(Tabel3[[#This Row],[GAE ID]],'BES EN'!A:AJ,36,FALSE)","v":"Certification standard"},{"$f":"Tabel3[[#This Row],[GDSN-naam]]","v":"certificationStandard"},{"$f":"Tabel3[[#This Row],[GDM Verplicht / Conditioneel]]","v":"Conditional"},{"$f":"Tabel3[[#This Row],[DMS controle]]","v":0},{"$f":"Tabel3[[#This Row],[BMS ID]]","v":667},{"$f":"Tabel3[[#This Row],[Formaat]]","v":"an..200"},{"$f":"Tabel3[[#This Row],[X Path]]","v":"/catalogue_item_notification:catalogueItemNotificationMessage/transaction/documentCommand/catalogue_item_notification:catalogueItemNotification/catalogueItem/tradeItem/tradeItemInformation/extension/*[namespace-uri()='urn:gs1:gdsn:certification_information:xsd:3' and local-name()='certificationInformationModule']/certificationInformation/certificationStandard"},{"$f":"Tabel3[[#This Row],[GDM laag]]","v":"Local"},{"$f":"VLOOKUP(Tabel3[[#This Row],[GAE ID]],'BES EN'!A:AJ,27,FALSE)","v":"Mandatory for food supplements, medical devices and health care products, when a KOAG KAG number is available."},null,{"$f":"Tabel3[[#This Row],[Dairy, Refrigerated & Frozen]]","v":"-"},{"$f":"Tabel3[[#This Row],[Deli & Prepared]]","v":"-"},{"$f":"Tabel3[[#This Row],[Fresh Meat]]","v":"-"},{"$f":"Tabel3[[#This Row],[Fresh Fish]]","v":"-"},{"$f":"Tabel3[[#This Row],[Fresh Fruits & Vegetables]]","v":"-"},{"$f":"Tabel3[[#This Row],[Grocery]]","v":"-"},{"$f":"Tabel3[[#This Row],[Cleaners]]","v":"-"},{"$f":"Tabel3[[#This Row],[Disposables]]","v":"-"},{"$f":"Tabel3[[#This Row],[Beauty & Personal Care]]","v":"-"},{"$f":"Tabel3[[#This Row],[Petfood]]","v":"-"},{"$f":"Tabel3[[#This Row],[Alcoholic Beverages]]","v":"-"},{"$f":"Tabel3[[#This Row],[Tobacco]]","v":"-"},{"$f":"Tabel3[[#This Row],[Self-care medicines]]","v":"-"},{"$f":"Tabel3[[#This Row],[Special Food]]","v":"-"},{"$f":"Tabel3[[#This Row],[Food Supplements]]","v":"O"},{"$f":"Tabel3[[#This Row],[Healthcare Products]]","v":"P"},{"$f":"Tabel3[[#This Row],[Medical Devices]]","v":"Q"},{"$f":"Tabel3[[#This Row],[Batteries]]","v":"-"},{"$f":"Tabel3[[#This Row],[Light Bulbs]]","v":"-"},{"$f":"Tabel3[[#This Row],[Other Categories]]","v":"-"}]
[{"$f":"VLOOKUP(Tabel3[[#This Row],[GAE ID]],'BES EN'!A:AJ,36,FALSE)","v":"Certification value"},{"$f":"Tabel3[[#This Row],[GDSN-naam]]","v":"certificationValue"},{"$f":"Tabel3[[#This Row],[GDM Verplicht / Conditioneel]]","v":"Conditional"},{"$f":"Tabel3[[#This Row],[DMS controle]]","v":"X"},{"$f":"Tabel3[[#This Row],[BMS ID]]","v":685},{"$f":"Tabel3[[#This Row],[Formaat]]","v":"an..200"},{"$f":"Tabel3[[#This Row],[X Path]]","v":"/catalogue_item_notification:catalogueItemNotificationMessage/transaction/documentCommand/catalogue_item_notification:catalogueItemNotification/catalogueItem/tradeItem/tradeItemInformation/extension/*[namespace-uri()='urn:gs1:gdsn:certification_information:xsd:3' and local-name()='certificationInformationModule']/certificationInformation/certification/certificationValue"},{"$f":"Tabel3[[#This Row],[GDM laag]]","v":"Local"},{"$f":"VLOOKUP(Tabel3[[#This Row],[GAE ID]],'BES EN'!A:AJ,27,FALSE)","v":"Mandatory for food supplements, medical devices and health care products, when available."},null,{"$f":"Tabel3[[#This Row],[Dairy, Refrigerated & Frozen]]","v":"-"},{"$f":"Tabel3[[#This Row],[Deli & Prepared]]","v":"-"},{"$f":"Tabel3[[#This Row],[Fresh Meat]]","v":"-"},{"$f":"Tabel3[[#This Row],[Fresh Fish]]","v":"-"},{"$f":"Tabel3[[#This Row],[Fresh Fruits & Vegetables]]","v":"-"},{"$f":"Tabel3[[#This Row],[Grocery]]","v":"-"},{"$f":"Tabel3[[#This Row],[Cleaners]]","v":"-"},{"$f":"Tabel3[[#This Row],[Disposables]]","v":"-"},{"$f":"Tabel3[[#This Row],[Beauty & Personal Care]]","v":"-"},{"$f":"Tabel3[[#This Row],[Petfood]]","v":"-"},{"$f":"Tabel3[[#This Row],[Alcoholic Beverages]]","v":"-"},{"$f":"Tabel3[[#This Row],[Tobacco]]","v":"-"},{"$f":"Tabel3[[#This Row],[Self-care medicines]]","v":"-"},{"$f":"Tabel3[[#This Row],[Special Food]]","v":"-"},{"$f":"Tabel3[[#This Row],[Food Supplements]]","v":"O"},{"$f":"Tabel3[[#This Row],[Healthcare Products]]","v":"P"},{"$f":"Tabel3[[#This Row],[Medical Devices]]","v":"Q"},{"$f":"Tabel3[[#This Row],[Batteries]]","v":"-"},{"$f":"Tabel3[[#This Row],[Light Bulbs]]","v":"-"},{"$f":"Tabel3[[#This Row],[Other Categories]]","v":"-"}]
[{"$f":"VLOOKUP(Tabel3[[#This Row],[GAE ID]],'BES EN'!A:AJ,36,FALSE)","v":"Certification effective end date time"},{"$f":"Tabel3[[#This Row],[GDSN-naam]]","v":"certificationEffectiveEndDateTime"},{"$f":"Tabel3[[#This Row],[GDM Verplicht / Conditioneel]]","v":"Conditional"},{"$f":"Tabel3[[#This Row],[DMS controle]]","v":0},{"$f":"Tabel3[[#This Row],[BMS ID]]","v":682},{"$f":"Tabel3[[#This Row],[Formaat]]","v":"DateTime"},{"$f":"Tabel3[[#This Row],[X Path]]","v":"/catalogue_item_notification:catalogueItemNotificationMessage/transaction/documentCommand/catalogue_item_notification:catalogueItemNotification/catalogueItem/tradeItem/tradeItemInformation/extension/*[namespace-uri()='urn:gs1:gdsn:certification_information:xsd:3' and local-name()='certificationInformationModule']/certificationInformation/certification/certificationEffectiveEndDateTime"},{"$f":"Tabel3[[#This Row],[GDM laag]]","v":"Local"},{"$f":"VLOOKUP(Tabel3[[#This Row],[GAE ID]],'BES EN'!A:AJ,27,FALSE)","v":" "},null,{"$f":"Tabel3[[#This Row],[Dairy, Refrigerated & Frozen]]","v":"-"},{"$f":"Tabel3[[#This Row],[Deli & Prepared]]","v":"-"},{"$f":"Tabel3[[#This Row],[Fresh Meat]]","v":"-"},{"$f":"Tabel3[[#This Row],[Fresh Fish]]","v":"-"},{"$f":"Tabel3[[#This Row],[Fresh Fruits & Vegetables]]","v":"-"},{"$f":"Tabel3[[#This Row],[Grocery]]","v":"-"},{"$f":"Tabel3[[#This Row],[Cleaners]]","v":"-"},{"$f":"Tabel3[[#This Row],[Disposables]]","v":"-"},{"$f":"Tabel3[[#This Row],[Beauty & Personal Care]]","v":"-"},{"$f":"Tabel3[[#This Row],[Petfood]]","v":"-"},{"$f":"Tabel3[[#This Row],[Alcoholic Beverages]]","v":"-"},{"$f":"Tabel3[[#This Row],[Tobacco]]","v":"-"},{"$f":"Tabel3[[#This Row],[Self-care medicines]]","v":"-"},{"$f":"Tabel3[[#This Row],[Special Food]]","v":"-"},{"$f":"Tabel3[[#This Row],[Food Supplements]]","v":"O"},{"$f":"Tabel3[[#This Row],[Healthcare Products]]","v":"P"},{"$f":"Tabel3[[#This Row],[Medical Devices]]","v":"Q"},{"$f":"Tabel3[[#This Row],[Batteries]]","v":"-"},{"$f":"Tabel3[[#This Row],[Light Bulbs]]","v":"-"},{"$f":"Tabel3[[#This Row],[Other Categories]]","v":"-"}]
["Files and images",null,{"$f":"Tabel3[[#This Row],[GDM Verplicht / Conditioneel]]","v":0},null,null,null,null,null,null,null,"A","B","C","D","E","F","G","H","I","J","K","L","M","N","O","P","Q","R","S","T"]
[{"$f":"VLOOKUP(Tabel3[[#This Row],[GAE ID]],'BES EN'!A:AJ,36,FALSE)","v":"Referenced file type code"},{"$f":"Tabel3[[#This Row],[GDSN-naam]]","v":"referencedFileTypeCode"},{"$f":"Tabel3[[#This Row],[GDM Verplicht / Conditioneel]]","v":"Conditional"},{"$f":"Tabel3[[#This Row],[DMS controle]]","v":"X"},{"$f":"Tabel3[[#This Row],[BMS ID]]","v":2999},{"$f":"Tabel3[[#This Row],[Formaat]]","v":"Defined values"},{"$f":"Tabel3[[#This Row],[X Path]]","v":"/catalogue_item_notification:catalogueItemNotificationMessage/transaction/documentCommand/catalogue_item_notification:catalogueItemNotification/catalogueItem/tradeItem/tradeItemInformation/extension/*[namespace-uri()='urn:gs1:gdsn:referenced_file_detail_information:xsd:3' and local-name()='referencedFileDetailInformationModule']/referencedFileHeader/referencedFileTypeCode"},{"$f":"Tabel3[[#This Row],[GDM laag]]","v":"Global"},{"$f":"VLOOKUP(Tabel3[[#This Row],[GAE ID]],'BES EN'!A:AJ,27,FALSE)","v":"Mandatory for product images and for self-care medicines. Mandatory for medical devices if stated on the label."},null,{"$f":"Tabel3[[#This Row],[Dairy, Refrigerated & Frozen]]","v":"A"},{"$f":"Tabel3[[#This Row],[Deli & Prepared]]","v":"B"},{"$f":"Tabel3[[#This Row],[Fresh Meat]]","v":"C"},{"$f":"Tabel3[[#This Row],[Fresh Fish]]","v":"D"},{"$f":"Tabel3[[#This Row],[Fresh Fruits & Vegetables]]","v":"E"},{"$f":"Tabel3[[#This Row],[Grocery]]","v":"F"},{"$f":"Tabel3[[#This Row],[Cleaners]]","v":"G"},{"$f":"Tabel3[[#This Row],[Disposables]]","v":"H"},{"$f":"Tabel3[[#This Row],[Beauty & Personal Care]]","v":"I"},{"$f":"Tabel3[[#This Row],[Petfood]]","v":"J"},{"$f":"Tabel3[[#This Row],[Alcoholic Beverages]]","v":"K"},{"$f":"Tabel3[[#This Row],[Tobacco]]","v":"L"},{"$f":"Tabel3[[#This Row],[Self-care medicines]]","v":"M"},{"$f":"Tabel3[[#This Row],[Special Food]]","v":"N"},{"$f":"Tabel3[[#This Row],[Food Supplements]]","v":"O"},{"$f":"Tabel3[[#This Row],[Healthcare Products]]","v":"P"},{"$f":"Tabel3[[#This Row],[Medical Devices]]","v":"Q"},{"$f":"Tabel3[[#This Row],[Batteries]]","v":"R"},{"$f":"Tabel3[[#This Row],[Light Bulbs]]","v":"S"},{"$f":"Tabel3[[#This Row],[Other Categories]]","v":"T"}]
[{"$f":"VLOOKUP(Tabel3[[#This Row],[GAE ID]],'BES EN'!A:AJ,36,FALSE)","v":"Uniform resource identifier"},{"$f":"Tabel3[[#This Row],[GDSN-naam]]","v":"uniformResourceIdentifier"},{"$f":"Tabel3[[#This Row],[GDM Verplicht / Conditioneel]]","v":"Conditional"},{"$f":"Tabel3[[#This Row],[DMS controle]]","v":"X"},{"$f":"Tabel3[[#This Row],[BMS ID]]","v":3000},{"$f":"Tabel3[[#This Row],[Formaat]]","v":"an..2500"},{"$f":"Tabel3[[#This Row],[X Path]]","v":"/catalogue_item_notification:catalogueItemNotificationMessage/transaction/documentCommand/catalogue_item_notification:catalogueItemNotification/catalogueItem/tradeItem/tradeItemInformation/extension/*[namespace-uri()='urn:gs1:gdsn:referenced_file_detail_information:xsd:3' and local-name()='referencedFileDetailInformationModule']/referencedFileHeader/uniformResourceIdentifier"},{"$f":"Tabel3[[#This Row],[GDM laag]]","v":"Global"},{"$f":"VLOOKUP(Tabel3[[#This Row],[GAE ID]],'BES EN'!A:AJ,27,FALSE)","v":"Mandatory for product images and for self-care medicines. Mandatory for medical devices if stated on the label."},null,{"$f":"Tabel3[[#This Row],[Dairy, Refrigerated & Frozen]]","v":"A"},{"$f":"Tabel3[[#This Row],[Deli & Prepared]]","v":"B"},{"$f":"Tabel3[[#This Row],[Fresh Meat]]","v":"C"},{"$f":"Tabel3[[#This Row],[Fresh Fish]]","v":"D"},{"$f":"Tabel3[[#This Row],[Fresh Fruits & Vegetables]]","v":"E"},{"$f":"Tabel3[[#This Row],[Grocery]]","v":"F"},{"$f":"Tabel3[[#This Row],[Cleaners]]","v":"G"},{"$f":"Tabel3[[#This Row],[Disposables]]","v":"H"},{"$f":"Tabel3[[#This Row],[Beauty & Personal Care]]","v":"I"},{"$f":"Tabel3[[#This Row],[Petfood]]","v":"J"},{"$f":"Tabel3[[#This Row],[Alcoholic Beverages]]","v":"K"},{"$f":"Tabel3[[#This Row],[Tobacco]]","v":"L"},{"$f":"Tabel3[[#This Row],[Self-care medicines]]","v":"M"},{"$f":"Tabel3[[#This Row],[Special Food]]","v":"N"},{"$f":"Tabel3[[#This Row],[Food Supplements]]","v":"O"},{"$f":"Tabel3[[#This Row],[Healthcare Products]]","v":"P"},{"$f":"Tabel3[[#This Row],[Medical Devices]]","v":"Q"},{"$f":"Tabel3[[#This Row],[Batteries]]","v":"R"},{"$f":"Tabel3[[#This Row],[Light Bulbs]]","v":"S"},{"$f":"Tabel3[[#This Row],[Other Categories]]","v":"T"}]
[{"$f":"VLOOKUP(Tabel3[[#This Row],[GAE ID]],'BES EN'!A:AJ,36,FALSE)","v":"File name"},{"$f":"Tabel3[[#This Row],[GDSN-naam]]","v":"fileName"},{"$f":"Tabel3[[#This Row],[GDM Verplicht / Conditioneel]]","v":"Conditional"},{"$f":"Tabel3[[#This Row],[DMS controle]]","v":0},{"$f":"Tabel3[[#This Row],[BMS ID]]","v":2995},{"$f":"Tabel3[[#This Row],[Formaat]]","v":"an..70"},{"$f":"Tabel3[[#This Row],[X Path]]","v":"/catalogue_item_notification:catalogueItemNotificationMessage/transaction/documentCommand/catalogue_item_notification:catalogueItemNotification/catalogueItem/tradeItem/tradeItemInformation/extension/*[namespace-uri()='urn:gs1:gdsn:referenced_file_detail_information:xsd:3' and local-name()='referencedFileDetailInformationModule']/referencedFileHeader/fileName"},{"$f":"Tabel3[[#This Row],[GDM laag]]","v":"Global"},{"$f":"VLOOKUP(Tabel3[[#This Row],[GAE ID]],'BES EN'!A:AJ,27,FALSE)","v":"Mandatory for product images."},null,{"$f":"Tabel3[[#This Row],[Dairy, Refrigerated & Frozen]]","v":"A"},{"$f":"Tabel3[[#This Row],[Deli & Prepared]]","v":"B"},{"$f":"Tabel3[[#This Row],[Fresh Meat]]","v":"C"},{"$f":"Tabel3[[#This Row],[Fresh Fish]]","v":"D"},{"$f":"Tabel3[[#This Row],[Fresh Fruits & Vegetables]]","v":"E"},{"$f":"Tabel3[[#This Row],[Grocery]]","v":"F"},{"$f":"Tabel3[[#This Row],[Cleaners]]","v":"G"},{"$f":"Tabel3[[#This Row],[Disposables]]","v":"H"},{"$f":"Tabel3[[#This Row],[Beauty & Personal Care]]","v":"I"},{"$f":"Tabel3[[#This Row],[Petfood]]","v":"J"},{"$f":"Tabel3[[#This Row],[Alcoholic Beverages]]","v":"K"},{"$f":"Tabel3[[#This Row],[Tobacco]]","v":"L"},{"$f":"Tabel3[[#This Row],[Self-care medicines]]","v":"M"},{"$f":"Tabel3[[#This Row],[Special Food]]","v":"N"},{"$f":"Tabel3[[#This Row],[Food Supplements]]","v":"O"},{"$f":"Tabel3[[#This Row],[Healthcare Products]]","v":"P"},{"$f":"Tabel3[[#This Row],[Medical Devices]]","v":"Q"},{"$f":"Tabel3[[#This Row],[Batteries]]","v":"R"},{"$f":"Tabel3[[#This Row],[Light Bulbs]]","v":"S"},{"$f":"Tabel3[[#This Row],[Other Categories]]","v":"T"}]
[{"$f":"VLOOKUP(Tabel3[[#This Row],[GAE ID]],'BES EN'!A:AJ,36,FALSE)","v":"File language code"},{"$f":"Tabel3[[#This Row],[GDSN-naam]]","v":"fileLanguageCode"},{"$f":"Tabel3[[#This Row],[GDM Verplicht / Conditioneel]]","v":"Optional"},{"$f":"Tabel3[[#This Row],[DMS controle]]","v":0},{"$f":"Tabel3[[#This Row],[BMS ID]]","v":2994},{"$f":"Tabel3[[#This Row],[Formaat]]","v":"Defined values"},{"$f":"Tabel3[[#This Row],[X Path]]","v":"/catalogue_item_notification:catalogueItemNotificationMessage/transaction/documentCommand/catalogue_item_notification:catalogueItemNotification/catalogueItem/tradeItem/tradeItemInformation/extension/*[namespace-uri()='urn:gs1:gdsn:referenced_file_detail_information:xsd:3' and local-name()='referencedFileDetailInformationModule']/referencedFileHeader/fileLanguageCode"},{"$f":"Tabel3[[#This Row],[GDM laag]]","v":"Local"},{"$f":"VLOOKUP(Tabel3[[#This Row],[GAE ID]],'BES EN'!A:AJ,27,FALSE)","v":0},null,{"$f":"Tabel3[[#This Row],[Dairy, Refrigerated & Frozen]]","v":"A"},{"$f":"Tabel3[[#This Row],[Deli & Prepared]]","v":"B"},{"$f":"Tabel3[[#This Row],[Fresh Meat]]","v":"C"},{"$f":"Tabel3[[#This Row],[Fresh Fish]]","v":"D"},{"$f":"Tabel3[[#This Row],[Fresh Fruits & Vegetables]]","v":"E"},{"$f":"Tabel3[[#This Row],[Grocery]]","v":"F"},{"$f":"Tabel3[[#This Row],[Cleaners]]","v":"G"},{"$f":"Tabel3[[#This Row],[Disposables]]","v":"H"},{"$f":"Tabel3[[#This Row],[Beauty & Personal Care]]","v":"I"},{"$f":"Tabel3[[#This Row],[Petfood]]","v":"J"},{"$f":"Tabel3[[#This Row],[Alcoholic Beverages]]","v":"K"},{"$f":"Tabel3[[#This Row],[Tobacco]]","v":"L"},{"$f":"Tabel3[[#This Row],[Self-care medicines]]","v":"M"},{"$f":"Tabel3[[#This Row],[Special Food]]","v":"N"},{"$f":"Tabel3[[#This Row],[Food Supplements]]","v":"O"},{"$f":"Tabel3[[#This Row],[Healthcare Products]]","v":"P"},{"$f":"Tabel3[[#This Row],[Medical Devices]]","v":"Q"},{"$f":"Tabel3[[#This Row],[Batteries]]","v":"R"},{"$f":"Tabel3[[#This Row],[Light Bulbs]]","v":"S"},{"$f":"Tabel3[[#This Row],[Other Categories]]","v":"T"}]
[{"$f":"VLOOKUP(Tabel3[[#This Row],[GAE ID]],'BES EN'!A:AJ,36,FALSE)","v":"Digital asset end date time"},{"$f":"Tabel3[[#This Row],[GDSN-naam]]","v":"fileEffectiveEndDateTime"},{"$f":"Tabel3[[#This Row],[GDM Verplicht / Conditioneel]]","v":"Conditional"},{"$f":"Tabel3[[#This Row],[DMS controle]]","v":""},{"$f":"Tabel3[[#This Row],[BMS ID]]","v":2989},{"$f":"Tabel3[[#This Row],[Formaat]]","v":"DateTime"},{"$f":"Tabel3[[#This Row],[X Path]]","v":"/catalogue_item_notification:catalogueItemNotificationMessage/transaction/documentCommand/catalogue_item_notification:catalogueItemNotification/catalogueItem/tradeItem/tradeItemInformation/extension/*[namespace-uri()='urn:gs1:gdsn:referenced_file_detail_information:xsd:3' and local-name()='referencedFileDetailInformationModule']/referencedFileHeader/fileEffectiveEndDateTime"},{"$f":"Tabel3[[#This Row],[GDM laag]]","v":"Regional EU"},{"$f":"VLOOKUP(Tabel3[[#This Row],[GAE ID]],'BES EN'!A:AJ,27,FALSE)","v":"Mandatory if the digital asset can no longer be used after a certain date."},null,{"$f":"Tabel3[[#This Row],[Dairy, Refrigerated & Frozen]]","v":"A"},{"$f":"Tabel3[[#This Row],[Deli & Prepared]]","v":"B"},{"$f":"Tabel3[[#This Row],[Fresh Meat]]","v":"C"},{"$f":"Tabel3[[#This Row],[Fresh Fish]]","v":"D"},{"$f":"Tabel3[[#This Row],[Fresh Fruits & Vegetables]]","v":"E"},{"$f":"Tabel3[[#This Row],[Grocery]]","v":"F"},{"$f":"Tabel3[[#This Row],[Cleaners]]","v":"G"},{"$f":"Tabel3[[#This Row],[Disposables]]","v":"H"},{"$f":"Tabel3[[#This Row],[Beauty & Personal Care]]","v":"I"},{"$f":"Tabel3[[#This Row],[Petfood]]","v":"J"},{"$f":"Tabel3[[#This Row],[Alcoholic Beverages]]","v":"K"},{"$f":"Tabel3[[#This Row],[Tobacco]]","v":"L"},{"$f":"Tabel3[[#This Row],[Self-care medicines]]","v":"M"},{"$f":"Tabel3[[#This Row],[Special Food]]","v":"N"},{"$f":"Tabel3[[#This Row],[Food Supplements]]","v":"O"},{"$f":"Tabel3[[#This Row],[Healthcare Products]]","v":"P"},{"$f":"Tabel3[[#This Row],[Medical Devices]]","v":"Q"},{"$f":"Tabel3[[#This Row],[Batteries]]","v":"R"},{"$f":"Tabel3[[#This Row],[Light Bulbs]]","v":"S"},{"$f":"Tabel3[[#This Row],[Other Categories]]","v":"T"}]
[{"$f":"VLOOKUP(Tabel3[[#This Row],[GAE ID]],'BES EN'!A:AJ,36,FALSE)","v":"File effective start date"},{"$f":"Tabel3[[#This Row],[GDSN-naam]]","v":"fileEffectiveStartDateTime"},{"$f":"Tabel3[[#This Row],[GDM Verplicht / Conditioneel]]","v":"Conditional"},{"$f":"Tabel3[[#This Row],[DMS controle]]","v":0},{"$f":"Tabel3[[#This Row],[BMS ID]]","v":2990},{"$f":"Tabel3[[#This Row],[Formaat]]","v":"DateTime"},{"$f":"Tabel3[[#This Row],[X Path]]","v":"/catalogue_item_notification:catalogueItemNotificationMessage/transaction/documentCommand/catalogue_item_notification:catalogueItemNotification/catalogueItem/tradeItem/tradeItemInformation/extension/*[namespace-uri()='urn:gs1:gdsn:referenced_file_detail_information:xsd:3' and local-name()='referencedFileDetailInformationModule']/referencedFileHeader/fileEffectiveStartDateTime"},{"$f":"Tabel3[[#This Row],[GDM laag]]","v":"Global"},{"$f":"VLOOKUP(Tabel3[[#This Row],[GAE ID]],'BES EN'!A:AJ,27,FALSE)","v":0},null,{"$f":"Tabel3[[#This Row],[Dairy, Refrigerated & Frozen]]","v":"A"},{"$f":"Tabel3[[#This Row],[Deli & Prepared]]","v":"B"},{"$f":"Tabel3[[#This Row],[Fresh Meat]]","v":"C"},{"$f":"Tabel3[[#This Row],[Fresh Fish]]","v":"D"},{"$f":"Tabel3[[#This Row],[Fresh Fruits & Vegetables]]","v":"E"},{"$f":"Tabel3[[#This Row],[Grocery]]","v":"F"},{"$f":"Tabel3[[#This Row],[Cleaners]]","v":"G"},{"$f":"Tabel3[[#This Row],[Disposables]]","v":"H"},{"$f":"Tabel3[[#This Row],[Beauty & Personal Care]]","v":"I"},{"$f":"Tabel3[[#This Row],[Petfood]]","v":"J"},{"$f":"Tabel3[[#This Row],[Alcoholic Beverages]]","v":"K"},{"$f":"Tabel3[[#This Row],[Tobacco]]","v":"L"},{"$f":"Tabel3[[#This Row],[Self-care medicines]]","v":"M"},{"$f":"Tabel3[[#This Row],[Special Food]]","v":"N"},{"$f":"Tabel3[[#This Row],[Food Supplements]]","v":"O"},{"$f":"Tabel3[[#This Row],[Healthcare Products]]","v":"P"},{"$f":"Tabel3[[#This Row],[Medical Devices]]","v":"Q"},{"$f":"Tabel3[[#This Row],[Batteries]]","v":"R"},{"$f":"Tabel3[[#This Row],[Light Bulbs]]","v":"S"},{"$f":"Tabel3[[#This Row],[Other Categories]]","v":"T"}]
["Label information",null,{"$f":"Tabel3[[#This Row],[GDM Verplicht / Conditioneel]]","v":0},"",null,"","",null,null,null,"A","B","C","D","E","F","G","H","I","J","K","L","M","N","O","P","Q","R","S","T"]
["Name and contact details",null,{"$f":"Tabel3[[#This Row],[GDM Verplicht / Conditioneel]]","v":0},"",null,"","",null,null,null,"A","B","C","D","E","F","G","H","I","J","K","L","M","N","O","P","Q","R","S","T"]
[{"$f":"VLOOKUP(Tabel3[[#This Row],[GAE ID]],'BES EN'!A:AJ,36,FALSE)","v":"Regulated product name"},{"$f":"Tabel3[[#This Row],[GDSN-naam]]","v":"regulatedProductName"},{"$f":"Tabel3[[#This Row],[GDM Verplicht / Conditioneel]]","v":"Conditional"},{"$f":"Tabel3[[#This Row],[DMS controle]]","v":"X"},{"$f":"Tabel3[[#This Row],[BMS ID]]","v":3515},{"$f":"Tabel3[[#This Row],[Formaat]]","v":"an..500"},{"$f":"Tabel3[[#This Row],[X Path]]","v":"/catalogue_item_notification:catalogueItemNotificationMessage/transaction/documentCommand/catalogue_item_notification:catalogueItemNotification/catalogueItem/tradeItem/tradeItemInformation/extension/*[namespace-uri()='urn:gs1:gdsn:trade_item_description:xsd:3' and local-name()='tradeItemDescriptionModule']/tradeItemDescriptionInformation/regulatedProductName"},{"$f":"Tabel3[[#This Row],[GDM laag]]","v":"Regional EU"},{"$f":"VLOOKUP(Tabel3[[#This Row],[GAE ID]],'BES EN'!A:AJ,27,FALSE)","v":"Mandatory for food, food supplements, special foods and animal nutrition if mentioned on the label."},null,{"$f":"Tabel3[[#This Row],[Dairy, Refrigerated & Frozen]]","v":"A"},{"$f":"Tabel3[[#This Row],[Deli & Prepared]]","v":"B"},{"$f":"Tabel3[[#This Row],[Fresh Meat]]","v":"C"},{"$f":"Tabel3[[#This Row],[Fresh Fish]]","v":"D"},{"$f":"Tabel3[[#This Row],[Fresh Fruits & Vegetables]]","v":"E"},{"$f":"Tabel3[[#This Row],[Grocery]]","v":"F"},{"$f":"Tabel3[[#This Row],[Cleaners]]","v":"-"},{"$f":"Tabel3[[#This Row],[Disposables]]","v":"-"},{"$f":"Tabel3[[#This Row],[Beauty & Personal Care]]","v":"-"},{"$f":"Tabel3[[#This Row],[Petfood]]","v":"J"},{"$f":"Tabel3[[#This Row],[Alcoholic Beverages]]","v":"K"},{"$f":"Tabel3[[#This Row],[Tobacco]]","v":"-"},{"$f":"Tabel3[[#This Row],[Self-care medicines]]","v":"-"},{"$f":"Tabel3[[#This Row],[Special Food]]","v":"N"},{"$f":"Tabel3[[#This Row],[Food Supplements]]","v":"O"},{"$f":"Tabel3[[#This Row],[Healthcare Products]]","v":"-"},{"$f":"Tabel3[[#This Row],[Medical Devices]]","v":"-"},{"$f":"Tabel3[[#This Row],[Batteries]]","v":"-"},{"$f":"Tabel3[[#This Row],[Light Bulbs]]","v":"-"},{"$f":"Tabel3[[#This Row],[Other Categories]]","v":"-"}]
[{"$f":"VLOOKUP(Tabel3[[#This Row],[GAE ID]],'BES EN'!A:AJ,36,FALSE)","v":"Regulated product name language code"},{"$f":"Tabel3[[#This Row],[GDSN-naam]]","v":"regulatedProductName/@languageCode"},{"$f":"Tabel3[[#This Row],[GDM Verplicht / Conditioneel]]","v":"Conditional"},{"$f":"Tabel3[[#This Row],[DMS controle]]","v":"X"},{"$f":"Tabel3[[#This Row],[BMS ID]]","v":3516},{"$f":"Tabel3[[#This Row],[Formaat]]","v":"Defined values"},{"$f":"Tabel3[[#This Row],[X Path]]","v":"/catalogue_item_notification:catalogueItemNotificationMessage/transaction/documentCommand/catalogue_item_notification:catalogueItemNotification/catalogueItem/tradeItem/tradeItemInformation/extension/*[namespace-uri()='urn:gs1:gdsn:trade_item_description:xsd:3' and local-name()='tradeItemDescriptionModule']/tradeItemDescriptionInformation/regulatedProductName/@languageCode"},{"$f":"Tabel3[[#This Row],[GDM laag]]","v":"Regional EU"},{"$f":"VLOOKUP(Tabel3[[#This Row],[GAE ID]],'BES EN'!A:AJ,27,FALSE)","v":"Mandatory if 'Regulated product name' is populated."},null,{"$f":"Tabel3[[#This Row],[Dairy, Refrigerated & Frozen]]","v":"A"},{"$f":"Tabel3[[#This Row],[Deli & Prepared]]","v":"B"},{"$f":"Tabel3[[#This Row],[Fresh Meat]]","v":"C"},{"$f":"Tabel3[[#This Row],[Fresh Fish]]","v":"D"},{"$f":"Tabel3[[#This Row],[Fresh Fruits & Vegetables]]","v":"E"},{"$f":"Tabel3[[#This Row],[Grocery]]","v":"F"},{"$f":"Tabel3[[#This Row],[Cleaners]]","v":"-"},{"$f":"Tabel3[[#This Row],[Disposables]]","v":"-"},{"$f":"Tabel3[[#This Row],[Beauty & Personal Care]]","v":"-"},{"$f":"Tabel3[[#This Row],[Petfood]]","v":"J"},{"$f":"Tabel3[[#This Row],[Alcoholic Beverages]]","v":"K"},{"$f":"Tabel3[[#This Row],[Tobacco]]","v":"-"},{"$f":"Tabel3[[#This Row],[Self-care medicines]]","v":"-"},{"$f":"Tabel3[[#This Row],[Special Food]]","v":"N"},{"$f":"Tabel3[[#This Row],[Food Supplements]]","v":"O"},{"$f":"Tabel3[[#This Row],[Healthcare Products]]","v":"-"},{"$f":"Tabel3[[#This Row],[Medical Devices]]","v":"-"},{"$f":"Tabel3[[#This Row],[Batteries]]","v":"-"},{"$f":"Tabel3[[#This Row],[Light Bulbs]]","v":"-"},{"$f":"Tabel3[[#This Row],[Other Categories]]","v":"-"}]
[{"$f":"VLOOKUP(Tabel3[[#This Row],[GAE ID]],'BES EN'!A:AJ,36,FALSE)","v":"Regulated product name sequence number"},{"$f":"Tabel3[[#This Row],[GDSN-naam]]","v":"regulatedProductName/@sequenceNumber"},{"$f":"Tabel3[[#This Row],[GDM Verplicht / Conditioneel]]","v":"Optional"},{"$f":"Tabel3[[#This Row],[DMS controle]]","v":0},{"$f":"Tabel3[[#This Row],[BMS ID]]","v":6276},{"$f":"Tabel3[[#This Row],[Formaat]]","v":"Non-negative integer"},{"$f":"Tabel3[[#This Row],[X Path]]","v":"/catalogue_item_notification:catalogueItemNotificationMessage/transaction/documentCommand/catalogue_item_notification:catalogueItemNotification/catalogueItem/tradeItem/tradeItemInformation/extension/*[namespace-uri()='urn:gs1:gdsn:trade_item_description:xsd:3' and local-name()='tradeItemDescriptionModule']/tradeItemDescriptionInformation/regulatedProductName/@sequenceNumber"},{"$f":"Tabel3[[#This Row],[GDM laag]]","v":"Local"},{"$f":"VLOOKUP(Tabel3[[#This Row],[GAE ID]],'BES EN'!A:AJ,27,FALSE)","v":"Mandatory if 'Regulated product name' is used more than once for the same language code."},null,{"$f":"Tabel3[[#This Row],[Dairy, Refrigerated & Frozen]]","v":"A"},{"$f":"Tabel3[[#This Row],[Deli & Prepared]]","v":"B"},{"$f":"Tabel3[[#This Row],[Fresh Meat]]","v":"C"},{"$f":"Tabel3[[#This Row],[Fresh Fish]]","v":"D"},{"$f":"Tabel3[[#This Row],[Fresh Fruits & Vegetables]]","v":"E"},{"$f":"Tabel3[[#This Row],[Grocery]]","v":"F"},{"$f":"Tabel3[[#This Row],[Cleaners]]","v":"-"},{"$f":"Tabel3[[#This Row],[Disposables]]","v":"-"},{"$f":"Tabel3[[#This Row],[Beauty & Personal Care]]","v":"-"},{"$f":"Tabel3[[#This Row],[Petfood]]","v":"J"},{"$f":"Tabel3[[#This Row],[Alcoholic Beverages]]","v":"K"},{"$f":"Tabel3[[#This Row],[Tobacco]]","v":"-"},{"$f":"Tabel3[[#This Row],[Self-care medicines]]","v":"-"},{"$f":"Tabel3[[#This Row],[Special Food]]","v":"N"},{"$f":"Tabel3[[#This Row],[Food Supplements]]","v":"O"},{"$f":"Tabel3[[#This Row],[Healthcare Products]]","v":"-"},{"$f":"Tabel3[[#This Row],[Medical Devices]]","v":"-"},{"$f":"Tabel3[[#This Row],[Batteries]]","v":"-"},{"$f":"Tabel3[[#This Row],[Light Bulbs]]","v":"-"},{"$f":"Tabel3[[#This Row],[Other Categories]]","v":"-"}]
[{"$f":"VLOOKUP(Tabel3[[#This Row],[GAE ID]],'BES EN'!A:AJ,36,FALSE)","v":"Contact name"},{"$f":"Tabel3[[#This Row],[GDSN-naam]]","v":"contactName"},{"$f":"Tabel3[[#This Row],[GDM Verplicht / Conditioneel]]","v":"Conditional"},{"$f":"Tabel3[[#This Row],[DMS controle]]","v":"X"},{"$f":"Tabel3[[#This Row],[BMS ID]]","v":126},{"$f":"Tabel3[[#This Row],[Formaat]]","v":"an..200"},{"$f":"Tabel3[[#This Row],[X Path]]","v":"/catalogue_item_notification:catalogueItemNotificationMessage/transaction/documentCommand/catalogue_item_notification:catalogueItemNotification/catalogueItem/tradeItem/tradeItemContactInformation/contactName"},{"$f":"Tabel3[[#This Row],[GDM laag]]","v":"Global"},{"$f":"VLOOKUP(Tabel3[[#This Row],[GAE ID]],'BES EN'!A:AJ,27,FALSE)","v":"Mandatory if the contact name is available on the product packaging (label) and/or it is required for regulatory reasons (e.g. EU/1169)."},null,{"$f":"Tabel3[[#This Row],[Dairy, Refrigerated & Frozen]]","v":"A"},{"$f":"Tabel3[[#This Row],[Deli & Prepared]]","v":"B"},{"$f":"Tabel3[[#This Row],[Fresh Meat]]","v":"C"},{"$f":"Tabel3[[#This Row],[Fresh Fish]]","v":"D"},{"$f":"Tabel3[[#This Row],[Fresh Fruits & Vegetables]]","v":"E"},{"$f":"Tabel3[[#This Row],[Grocery]]","v":"F"},{"$f":"Tabel3[[#This Row],[Cleaners]]","v":"G"},{"$f":"Tabel3[[#This Row],[Disposables]]","v":"H"},{"$f":"Tabel3[[#This Row],[Beauty & Personal Care]]","v":"I"},{"$f":"Tabel3[[#This Row],[Petfood]]","v":"J"},{"$f":"Tabel3[[#This Row],[Alcoholic Beverages]]","v":"K"},{"$f":"Tabel3[[#This Row],[Tobacco]]","v":"L"},{"$f":"Tabel3[[#This Row],[Self-care medicines]]","v":"M"},{"$f":"Tabel3[[#This Row],[Special Food]]","v":"N"},{"$f":"Tabel3[[#This Row],[Food Supplements]]","v":"O"},{"$f":"Tabel3[[#This Row],[Healthcare Products]]","v":"P"},{"$f":"Tabel3[[#This Row],[Medical Devices]]","v":"Q"},{"$f":"Tabel3[[#This Row],[Batteries]]","v":"R"},{"$f":"Tabel3[[#This Row],[Light Bulbs]]","v":"S"},{"$f":"Tabel3[[#This Row],[Other Categories]]","v":"T"}]
[{"$f":"VLOOKUP(Tabel3[[#This Row],[GAE ID]],'BES EN'!A:AJ,36,FALSE)","v":"Contact address"},{"$f":"Tabel3[[#This Row],[GDSN-naam]]","v":"contactAddress"},{"$f":"Tabel3[[#This Row],[GDM Verplicht / Conditioneel]]","v":"Conditional"},{"$f":"Tabel3[[#This Row],[DMS controle]]","v":"X"},{"$f":"Tabel3[[#This Row],[BMS ID]]","v":123},{"$f":"Tabel3[[#This Row],[Formaat]]","v":"an..500"},{"$f":"Tabel3[[#This Row],[X Path]]","v":"/catalogue_item_notification:catalogueItemNotificationMessage/transaction/documentCommand/catalogue_item_notification:catalogueItemNotification/catalogueItem/tradeItem/tradeItemContactInformation/contactAddress"},{"$f":"Tabel3[[#This Row],[GDM laag]]","v":"Global"},{"$f":"VLOOKUP(Tabel3[[#This Row],[GAE ID]],'BES EN'!A:AJ,27,FALSE)","v":"Mandatory if the contact address is available on the product packaging (label) and/or it is required for regulatory reasons (e.g. EU/1169)."},null,{"$f":"Tabel3[[#This Row],[Dairy, Refrigerated & Frozen]]","v":"A"},{"$f":"Tabel3[[#This Row],[Deli & Prepared]]","v":"B"},{"$f":"Tabel3[[#This Row],[Fresh Meat]]","v":"C"},{"$f":"Tabel3[[#This Row],[Fresh Fish]]","v":"D"},{"$f":"Tabel3[[#This Row],[Fresh Fruits & Vegetables]]","v":"E"},{"$f":"Tabel3[[#This Row],[Grocery]]","v":"F"},{"$f":"Tabel3[[#This Row],[Cleaners]]","v":"G"},{"$f":"Tabel3[[#This Row],[Disposables]]","v":"H"},{"$f":"Tabel3[[#This Row],[Beauty & Personal Care]]","v":"I"},{"$f":"Tabel3[[#This Row],[Petfood]]","v":"J"},{"$f":"Tabel3[[#This Row],[Alcoholic Beverages]]","v":"K"},{"$f":"Tabel3[[#This Row],[Tobacco]]","v":"L"},{"$f":"Tabel3[[#This Row],[Self-care medicines]]","v":"M"},{"$f":"Tabel3[[#This Row],[Special Food]]","v":"N"},{"$f":"Tabel3[[#This Row],[Food Supplements]]","v":"O"},{"$f":"Tabel3[[#This Row],[Healthcare Products]]","v":"P"},{"$f":"Tabel3[[#This Row],[Medical Devices]]","v":"Q"},{"$f":"Tabel3[[#This Row],[Batteries]]","v":"R"},{"$f":"Tabel3[[#This Row],[Light Bulbs]]","v":"S"},{"$f":"Tabel3[[#This Row],[Other Categories]]","v":"T"}]
[{"$f":"VLOOKUP(Tabel3[[#This Row],[GAE ID]],'BES EN'!A:AJ,36,FALSE)","v":"Type of contact"},{"$f":"Tabel3[[#This Row],[GDSN-naam]]","v":"contactTypeCode"},{"$f":"Tabel3[[#This Row],[GDM Verplicht / Conditioneel]]","v":"Conditional"},{"$f":"Tabel3[[#This Row],[DMS controle]]","v":"X"},{"$f":"Tabel3[[#This Row],[BMS ID]]","v":127},{"$f":"Tabel3[[#This Row],[Formaat]]","v":"Defined values"},{"$f":"Tabel3[[#This Row],[X Path]]","v":"/catalogue_item_notification:catalogueItemNotificationMessage/transaction/documentCommand/catalogue_item_notification:catalogueItemNotification/catalogueItem/tradeItem/tradeItemContactInformation/contactTypeCode"},{"$f":"Tabel3[[#This Row],[GDM laag]]","v":"Global"},{"$f":"VLOOKUP(Tabel3[[#This Row],[GAE ID]],'BES EN'!A:AJ,27,FALSE)","v":"Mandatory if ‘Contact name’ and/or ‘Contact address’ are populated."},null,{"$f":"Tabel3[[#This Row],[Dairy, Refrigerated & Frozen]]","v":"A"},{"$f":"Tabel3[[#This Row],[Deli & Prepared]]","v":"B"},{"$f":"Tabel3[[#This Row],[Fresh Meat]]","v":"C"},{"$f":"Tabel3[[#This Row],[Fresh Fish]]","v":"D"},{"$f":"Tabel3[[#This Row],[Fresh Fruits & Vegetables]]","v":"E"},{"$f":"Tabel3[[#This Row],[Grocery]]","v":"F"},{"$f":"Tabel3[[#This Row],[Cleaners]]","v":"G"},{"$f":"Tabel3[[#This Row],[Disposables]]","v":"H"},{"$f":"Tabel3[[#This Row],[Beauty & Personal Care]]","v":"I"},{"$f":"Tabel3[[#This Row],[Petfood]]","v":"J"},{"$f":"Tabel3[[#This Row],[Alcoholic Beverages]]","v":"K"},{"$f":"Tabel3[[#This Row],[Tobacco]]","v":"L"},{"$f":"Tabel3[[#This Row],[Self-care medicines]]","v":"M"},{"$f":"Tabel3[[#This Row],[Special Food]]","v":"N"},{"$f":"Tabel3[[#This Row],[Food Supplements]]","v":"O"},{"$f":"Tabel3[[#This Row],[Healthcare Products]]","v":"P"},{"$f":"Tabel3[[#This Row],[Medical Devices]]","v":"Q"},{"$f":"Tabel3[[#This Row],[Batteries]]","v":"R"},{"$f":"Tabel3[[#This Row],[Light Bulbs]]","v":"S"},{"$f":"Tabel3[[#This Row],[Other Categories]]","v":"T"}]
[{"$f":"VLOOKUP(Tabel3[[#This Row],[GAE ID]],'BES EN'!A:AJ,36,FALSE)","v":"Communication channel code"},{"$f":"Tabel3[[#This Row],[GDSN-naam]]","v":"communicationChannelCode"},{"$f":"Tabel3[[#This Row],[GDM Verplicht / Conditioneel]]","v":"Conditional"},{"$f":"Tabel3[[#This Row],[DMS controle]]","v":"X"},{"$f":"Tabel3[[#This Row],[BMS ID]]","v":134},{"$f":"Tabel3[[#This Row],[Formaat]]","v":"Defined values"},{"$f":"Tabel3[[#This Row],[X Path]]","v":"/catalogue_item_notification:catalogueItemNotificationMessage/transaction/documentCommand/catalogue_item_notification:catalogueItemNotification/catalogueItem/tradeItem/tradeItemContactInformation/targetMarketCommunicationChannel/communicationChannel/communicationChannelCode"},{"$f":"Tabel3[[#This Row],[GDM laag]]","v":"Global"},{"$f":"VLOOKUP(Tabel3[[#This Row],[GAE ID]],'BES EN'!A:AJ,27,FALSE)","v":"Mandatory if ‘Communication value’ is populated"},null,{"$f":"Tabel3[[#This Row],[Dairy, Refrigerated & Frozen]]","v":"A"},{"$f":"Tabel3[[#This Row],[Deli & Prepared]]","v":"B"},{"$f":"Tabel3[[#This Row],[Fresh Meat]]","v":"C"},{"$f":"Tabel3[[#This Row],[Fresh Fish]]","v":"D"},{"$f":"Tabel3[[#This Row],[Fresh Fruits & Vegetables]]","v":"E"},{"$f":"Tabel3[[#This Row],[Grocery]]","v":"F"},{"$f":"Tabel3[[#This Row],[Cleaners]]","v":"G"},{"$f":"Tabel3[[#This Row],[Disposables]]","v":"H"},{"$f":"Tabel3[[#This Row],[Beauty & Personal Care]]","v":"I"},{"$f":"Tabel3[[#This Row],[Petfood]]","v":"J"},{"$f":"Tabel3[[#This Row],[Alcoholic Beverages]]","v":"K"},{"$f":"Tabel3[[#This Row],[Tobacco]]","v":"L"},{"$f":"Tabel3[[#This Row],[Self-care medicines]]","v":"M"},{"$f":"Tabel3[[#This Row],[Special Food]]","v":"N"},{"$f":"Tabel3[[#This Row],[Food Supplements]]","v":"O"},{"$f":"Tabel3[[#This Row],[Healthcare Products]]","v":"P"},{"$f":"Tabel3[[#This Row],[Medical Devices]]","v":"Q"},{"$f":"Tabel3[[#This Row],[Batteries]]","v":"R"},{"$f":"Tabel3[[#This Row],[Light Bulbs]]","v":"S"},{"$f":"Tabel3[[#This Row],[Other Categories]]","v":"T"}]
[{"$f":"VLOOKUP(Tabel3[[#This Row],[GAE ID]],'BES EN'!A:AJ,36,FALSE)","v":"Communication value"},{"$f":"Tabel3[[#This Row],[GDSN-naam]]","v":"communicationValue"},{"$f":"Tabel3[[#This Row],[GDM Verplicht / Conditioneel]]","v":"Conditional"},{"$f":"Tabel3[[#This Row],[DMS controle]]","v":"X"},{"$f":"Tabel3[[#This Row],[BMS ID]]","v":135},{"$f":"Tabel3[[#This Row],[Formaat]]","v":"an..200"},{"$f":"Tabel3[[#This Row],[X Path]]","v":"/catalogue_item_notification:catalogueItemNotificationMessage/transaction/documentCommand/catalogue_item_notification:catalogueItemNotification/catalogueItem/tradeItem/tradeItemContactInformation/targetMarketCommunicationChannel/communicationChannel/communicationValue"},{"$f":"Tabel3[[#This Row],[GDM laag]]","v":"Global"},{"$f":"VLOOKUP(Tabel3[[#This Row],[GAE ID]],'BES EN'!A:AJ,27,FALSE)","v":"Mandatory for animal nutrition and detergents if on the packaging"},null,{"$f":"Tabel3[[#This Row],[Dairy, Refrigerated & Frozen]]","v":"A"},{"$f":"Tabel3[[#This Row],[Deli & Prepared]]","v":"B"},{"$f":"Tabel3[[#This Row],[Fresh Meat]]","v":"C"},{"$f":"Tabel3[[#This Row],[Fresh Fish]]","v":"D"},{"$f":"Tabel3[[#This Row],[Fresh Fruits & Vegetables]]","v":"E"},{"$f":"Tabel3[[#This Row],[Grocery]]","v":"F"},{"$f":"Tabel3[[#This Row],[Cleaners]]","v":"G"},{"$f":"Tabel3[[#This Row],[Disposables]]","v":"H"},{"$f":"Tabel3[[#This Row],[Beauty & Personal Care]]","v":"I"},{"$f":"Tabel3[[#This Row],[Petfood]]","v":"J"},{"$f":"Tabel3[[#This Row],[Alcoholic Beverages]]","v":"K"},{"$f":"Tabel3[[#This Row],[Tobacco]]","v":"L"},{"$f":"Tabel3[[#This Row],[Self-care medicines]]","v":"M"},{"$f":"Tabel3[[#This Row],[Special Food]]","v":"N"},{"$f":"Tabel3[[#This Row],[Food Supplements]]","v":"O"},{"$f":"Tabel3[[#This Row],[Healthcare Products]]","v":"P"},{"$f":"Tabel3[[#This Row],[Medical Devices]]","v":"Q"},{"$f":"Tabel3[[#This Row],[Batteries]]","v":"R"},{"$f":"Tabel3[[#This Row],[Light Bulbs]]","v":"S"},{"$f":"Tabel3[[#This Row],[Other Categories]]","v":"T"}]
["Content information",null,{"$f":"Tabel3[[#This Row],[GDM Verplicht / Conditioneel]]","v":0},"",null,"","",null,null,null,"A","B","C","D","E","F","G","H","I","J","K","L","M","N","O","P","Q","R","S","T"]
[{"$f":"VLOOKUP(Tabel3[[#This Row],[GAE ID]],'BES EN'!A:AJ,36,FALSE)","v":"Compulsory additive label information"},{"$f":"Tabel3[[#This Row],[GDSN-naam]]","v":"compulsoryAdditiveLabelInformation"},{"$f":"Tabel3[[#This Row],[GDM Verplicht / Conditioneel]]","v":"Conditional"},{"$f":"Tabel3[[#This Row],[DMS controle]]","v":"X"},{"$f":"Tabel3[[#This Row],[BMS ID]]","v":1457},{"$f":"Tabel3[[#This Row],[Formaat]]","v":"an..5000"},{"$f":"Tabel3[[#This Row],[X Path]]","v":"/catalogue_item_notification:catalogueItemNotificationMessage/transaction/documentCommand/catalogue_item_notification:catalogueItemNotification/catalogueItem/tradeItem/tradeItemInformation/extension/*[namespace-uri()='urn:gs1:gdsn:health_related_information:xsd:3' and local-name()='healthRelatedInformationModule']/healthRelatedInformation/compulsoryAdditiveLabelInformation"},{"$f":"Tabel3[[#This Row],[GDM laag]]","v":"Regional EU"},{"$f":"VLOOKUP(Tabel3[[#This Row],[GAE ID]],'BES EN'!A:AJ,27,FALSE)","v":"Mandatory required if mentioned on the label. "},null,{"$f":"Tabel3[[#This Row],[Dairy, Refrigerated & Frozen]]","v":"A"},{"$f":"Tabel3[[#This Row],[Deli & Prepared]]","v":"B"},{"$f":"Tabel3[[#This Row],[Fresh Meat]]","v":"C"},{"$f":"Tabel3[[#This Row],[Fresh Fish]]","v":"D"},{"$f":"Tabel3[[#This Row],[Fresh Fruits & Vegetables]]","v":"E"},{"$f":"Tabel3[[#This Row],[Grocery]]","v":"F"},{"$f":"Tabel3[[#This Row],[Cleaners]]","v":"G"},{"$f":"Tabel3[[#This Row],[Disposables]]","v":"H"},{"$f":"Tabel3[[#This Row],[Beauty & Personal Care]]","v":"I"},{"$f":"Tabel3[[#This Row],[Petfood]]","v":"J"},{"$f":"Tabel3[[#This Row],[Alcoholic Beverages]]","v":"K"},{"$f":"Tabel3[[#This Row],[Tobacco]]","v":"-"},{"$f":"Tabel3[[#This Row],[Self-care medicines]]","v":"M"},{"$f":"Tabel3[[#This Row],[Special Food]]","v":"N"},{"$f":"Tabel3[[#This Row],[Food Supplements]]","v":"O"},{"$f":"Tabel3[[#This Row],[Healthcare Products]]","v":"P"},{"$f":"Tabel3[[#This Row],[Medical Devices]]","v":"Q"},{"$f":"Tabel3[[#This Row],[Batteries]]","v":"R"},{"$f":"Tabel3[[#This Row],[Light Bulbs]]","v":"S"},{"$f":"Tabel3[[#This Row],[Other Categories]]","v":"T"}]
[{"$f":"VLOOKUP(Tabel3[[#This Row],[GAE ID]],'BES EN'!A:AJ,36,FALSE)","v":"Compulsory additive label information language code"},{"$f":"Tabel3[[#This Row],[GDSN-naam]]","v":"compulsoryAdditiveLabelInformation/@languageCode"},{"$f":"Tabel3[[#This Row],[GDM Verplicht / Conditioneel]]","v":"Conditional"},{"$f":"Tabel3[[#This Row],[DMS controle]]","v":"X"},{"$f":"Tabel3[[#This Row],[BMS ID]]","v":1458},{"$f":"Tabel3[[#This Row],[Formaat]]","v":"Defined values"},{"$f":"Tabel3[[#This Row],[X Path]]","v":"/catalogue_item_notification:catalogueItemNotificationMessage/transaction/documentCommand/catalogue_item_notification:catalogueItemNotification/catalogueItem/tradeItem/tradeItemInformation/extension/*[namespace-uri()='urn:gs1:gdsn:health_related_information:xsd:3' and local-name()='healthRelatedInformationModule']/healthRelatedInformation/compulsoryAdditiveLabelInformation/@languageCode"},{"$f":"Tabel3[[#This Row],[GDM laag]]","v":"Regional EU"},{"$f":"VLOOKUP(Tabel3[[#This Row],[GAE ID]],'BES EN'!A:AJ,27,FALSE)","v":"Mandatory if 'Compulsory additive label information' is populated"},null,{"$f":"Tabel3[[#This Row],[Dairy, Refrigerated & Frozen]]","v":"A"},{"$f":"Tabel3[[#This Row],[Deli & Prepared]]","v":"B"},{"$f":"Tabel3[[#This Row],[Fresh Meat]]","v":"C"},{"$f":"Tabel3[[#This Row],[Fresh Fish]]","v":"D"},{"$f":"Tabel3[[#This Row],[Fresh Fruits & Vegetables]]","v":"E"},{"$f":"Tabel3[[#This Row],[Grocery]]","v":"F"},{"$f":"Tabel3[[#This Row],[Cleaners]]","v":"G"},{"$f":"Tabel3[[#This Row],[Disposables]]","v":"H"},{"$f":"Tabel3[[#This Row],[Beauty & Personal Care]]","v":"I"},{"$f":"Tabel3[[#This Row],[Petfood]]","v":"J"},{"$f":"Tabel3[[#This Row],[Alcoholic Beverages]]","v":"K"},{"$f":"Tabel3[[#This Row],[Tobacco]]","v":"-"},{"$f":"Tabel3[[#This Row],[Self-care medicines]]","v":"M"},{"$f":"Tabel3[[#This Row],[Special Food]]","v":"N"},{"$f":"Tabel3[[#This Row],[Food Supplements]]","v":"O"},{"$f":"Tabel3[[#This Row],[Healthcare Products]]","v":"P"},{"$f":"Tabel3[[#This Row],[Medical Devices]]","v":"Q"},{"$f":"Tabel3[[#This Row],[Batteries]]","v":"R"},{"$f":"Tabel3[[#This Row],[Light Bulbs]]","v":"S"},{"$f":"Tabel3[[#This Row],[Other Categories]]","v":"T"}]
[{"$f":"VLOOKUP(Tabel3[[#This Row],[GAE ID]],'BES EN'!A:AJ,36,FALSE)","v":"Net content statement"},{"$f":"Tabel3[[#This Row],[GDSN-naam]]","v":"netContentStatement"},{"$f":"Tabel3[[#This Row],[GDM Verplicht / Conditioneel]]","v":"Conditional"},{"$f":"Tabel3[[#This Row],[DMS controle]]","v":"X"},{"$f":"Tabel3[[#This Row],[BMS ID]]","v":3741},{"$f":"Tabel3[[#This Row],[Formaat]]","v":"an..500"},{"$f":"Tabel3[[#This Row],[X Path]]","v":"/catalogue_item_notification:catalogueItemNotificationMessage/transaction/documentCommand/catalogue_item_notification:catalogueItemNotification/catalogueItem/tradeItem/tradeItemInformation/extension/*[namespace-uri()='urn:gs1:gdsn:trade_item_measurements:xsd:3' and local-name()='tradeItemMeasurementsModule']/tradeItemMeasurements/netContentStatement"},{"$f":"Tabel3[[#This Row],[GDM laag]]","v":"Regional EU"},{"$f":"VLOOKUP(Tabel3[[#This Row],[GAE ID]],'BES EN'!A:AJ,27,FALSE)","v":"Mandatory, if it is not possible to express the net content of a product in the net content attribute. Should be provided for multipacks."},null,{"$f":"Tabel3[[#This Row],[Dairy, Refrigerated & Frozen]]","v":"A"},{"$f":"Tabel3[[#This Row],[Deli & Prepared]]","v":"B"},{"$f":"Tabel3[[#This Row],[Fresh Meat]]","v":"C"},{"$f":"Tabel3[[#This Row],[Fresh Fish]]","v":"D"},{"$f":"Tabel3[[#This Row],[Fresh Fruits & Vegetables]]","v":"E"},{"$f":"Tabel3[[#This Row],[Grocery]]","v":"F"},{"$f":"Tabel3[[#This Row],[Cleaners]]","v":"G"},{"$f":"Tabel3[[#This Row],[Disposables]]","v":"H"},{"$f":"Tabel3[[#This Row],[Beauty & Personal Care]]","v":"I"},{"$f":"Tabel3[[#This Row],[Petfood]]","v":"J"},{"$f":"Tabel3[[#This Row],[Alcoholic Beverages]]","v":"K"},{"$f":"Tabel3[[#This Row],[Tobacco]]","v":"L"},{"$f":"Tabel3[[#This Row],[Self-care medicines]]","v":"M"},{"$f":"Tabel3[[#This Row],[Special Food]]","v":"N"},{"$f":"Tabel3[[#This Row],[Food Supplements]]","v":"O"},{"$f":"Tabel3[[#This Row],[Healthcare Products]]","v":"P"},{"$f":"Tabel3[[#This Row],[Medical Devices]]","v":"Q"},{"$f":"Tabel3[[#This Row],[Batteries]]","v":"R"},{"$f":"Tabel3[[#This Row],[Light Bulbs]]","v":"S"},{"$f":"Tabel3[[#This Row],[Other Categories]]","v":"T"}]
[{"$f":"VLOOKUP(Tabel3[[#This Row],[GAE ID]],'BES EN'!A:AJ,36,FALSE)","v":"Net content statement language code"},{"$f":"Tabel3[[#This Row],[GDSN-naam]]","v":"netContentStatement/@languageCode"},{"$f":"Tabel3[[#This Row],[GDM Verplicht / Conditioneel]]","v":"Conditional"},{"$f":"Tabel3[[#This Row],[DMS controle]]","v":"X"},{"$f":"Tabel3[[#This Row],[BMS ID]]","v":3742},{"$f":"Tabel3[[#This Row],[Formaat]]","v":"Defined values"},{"$f":"Tabel3[[#This Row],[X Path]]","v":"/catalogue_item_notification:catalogueItemNotificationMessage/transaction/documentCommand/catalogue_item_notification:catalogueItemNotification/catalogueItem/tradeItem/tradeItemInformation/extension/*[namespace-uri()='urn:gs1:gdsn:trade_item_measurements:xsd:3' and local-name()='tradeItemMeasurementsModule']/tradeItemMeasurements/netContentStatement/@languageCode"},{"$f":"Tabel3[[#This Row],[GDM laag]]","v":"Regional EU"},{"$f":"VLOOKUP(Tabel3[[#This Row],[GAE ID]],'BES EN'!A:AJ,27,FALSE)","v":"Mandatory if 'Net content statement' is populated"},null,{"$f":"Tabel3[[#This Row],[Dairy, Refrigerated & Frozen]]","v":"A"},{"$f":"Tabel3[[#This Row],[Deli & Prepared]]","v":"B"},{"$f":"Tabel3[[#This Row],[Fresh Meat]]","v":"C"},{"$f":"Tabel3[[#This Row],[Fresh Fish]]","v":"D"},{"$f":"Tabel3[[#This Row],[Fresh Fruits & Vegetables]]","v":"E"},{"$f":"Tabel3[[#This Row],[Grocery]]","v":"F"},{"$f":"Tabel3[[#This Row],[Cleaners]]","v":"G"},{"$f":"Tabel3[[#This Row],[Disposables]]","v":"H"},{"$f":"Tabel3[[#This Row],[Beauty & Personal Care]]","v":"I"},{"$f":"Tabel3[[#This Row],[Petfood]]","v":"J"},{"$f":"Tabel3[[#This Row],[Alcoholic Beverages]]","v":"K"},{"$f":"Tabel3[[#This Row],[Tobacco]]","v":"L"},{"$f":"Tabel3[[#This Row],[Self-care medicines]]","v":"M"},{"$f":"Tabel3[[#This Row],[Special Food]]","v":"N"},{"$f":"Tabel3[[#This Row],[Food Supplements]]","v":"O"},{"$f":"Tabel3[[#This Row],[Healthcare Products]]","v":"P"},{"$f":"Tabel3[[#This Row],[Medical Devices]]","v":"Q"},{"$f":"Tabel3[[#This Row],[Batteries]]","v":"R"},{"$f":"Tabel3[[#This Row],[Light Bulbs]]","v":"S"},{"$f":"Tabel3[[#This Row],[Other Categories]]","v":"T"}]
[{"$f":"VLOOKUP(Tabel3[[#This Row],[GAE ID]],'BES EN'!A:AJ,36,FALSE)","v":"Number of servings per package"},{"$f":"Tabel3[[#This Row],[GDSN-naam]]","v":"numberOfServingsPerPackage"},{"$f":"Tabel3[[#This Row],[GDM Verplicht / Conditioneel]]","v":"Conditional"},{"$f":"Tabel3[[#This Row],[DMS controle]]","v":"X"},{"$f":"Tabel3[[#This Row],[BMS ID]]","v":1364},{"$f":"Tabel3[[#This Row],[Formaat]]","v":"Decimal"},{"$f":"Tabel3[[#This Row],[X Path]]","v":"/catalogue_item_notification:catalogueItemNotificationMessage/transaction/documentCommand/catalogue_item_notification:catalogueItemNotification/catalogueItem/tradeItem/tradeItemInformation/extension/*[namespace-uri()='urn:gs1:gdsn:food_and_beverage_preparation_serving:xsd:3' and local-name()='foodAndBeveragePreparationServingModule']/servingQuantityInformation/numberOfServingsPerPackage"},{"$f":"Tabel3[[#This Row],[GDM laag]]","v":"Global"},{"$f":"VLOOKUP(Tabel3[[#This Row],[GAE ID]],'BES EN'!A:AJ,27,FALSE)","v":"Mandatory for food, food supplements and special foods if mentioned on the label."},null,{"$f":"Tabel3[[#This Row],[Dairy, Refrigerated & Frozen]]","v":"A"},{"$f":"Tabel3[[#This Row],[Deli & Prepared]]","v":"B"},{"$f":"Tabel3[[#This Row],[Fresh Meat]]","v":"C"},{"$f":"Tabel3[[#This Row],[Fresh Fish]]","v":"D"},{"$f":"Tabel3[[#This Row],[Fresh Fruits & Vegetables]]","v":"E"},{"$f":"Tabel3[[#This Row],[Grocery]]","v":"F"},{"$f":"Tabel3[[#This Row],[Cleaners]]","v":"-"},{"$f":"Tabel3[[#This Row],[Disposables]]","v":"-"},{"$f":"Tabel3[[#This Row],[Beauty & Personal Care]]","v":"-"},{"$f":"Tabel3[[#This Row],[Petfood]]","v":"-"},{"$f":"Tabel3[[#This Row],[Alcoholic Beverages]]","v":"K"},{"$f":"Tabel3[[#This Row],[Tobacco]]","v":"-"},{"$f":"Tabel3[[#This Row],[Self-care medicines]]","v":"-"},{"$f":"Tabel3[[#This Row],[Special Food]]","v":"N"},{"$f":"Tabel3[[#This Row],[Food Supplements]]","v":"O"},{"$f":"Tabel3[[#This Row],[Healthcare Products]]","v":"-"},{"$f":"Tabel3[[#This Row],[Medical Devices]]","v":"-"},{"$f":"Tabel3[[#This Row],[Batteries]]","v":"-"},{"$f":"Tabel3[[#This Row],[Light Bulbs]]","v":"-"},{"$f":"Tabel3[[#This Row],[Other Categories]]","v":"T"}]
[{"$f":"VLOOKUP(Tabel3[[#This Row],[GAE ID]],'BES EN'!A:AJ,36,FALSE)","v":"Servings per product precision code"},{"$f":"Tabel3[[#This Row],[GDSN-naam]]","v":"numberOfServingsPerPackageMeasurementPrecisionCode"},{"$f":"Tabel3[[#This Row],[GDM Verplicht / Conditioneel]]","v":"Conditional"},{"$f":"Tabel3[[#This Row],[DMS controle]]","v":"X"},{"$f":"Tabel3[[#This Row],[BMS ID]]","v":1365},{"$f":"Tabel3[[#This Row],[Formaat]]","v":"n..10"},{"$f":"Tabel3[[#This Row],[X Path]]","v":"/catalogue_item_notification:catalogueItemNotificationMessage/transaction/documentCommand/catalogue_item_notification:catalogueItemNotification/catalogueItem/tradeItem/tradeItemInformation/extension/*[namespace-uri()='urn:gs1:gdsn:food_and_beverage_preparation_serving:xsd:3' and local-name()='foodAndBeveragePreparationServingModule']/servingQuantityInformation/numberOfServingsPerPackageMeasurementPrecisionCode"},{"$f":"Tabel3[[#This Row],[GDM laag]]","v":"Regional EU"},{"$f":"VLOOKUP(Tabel3[[#This Row],[GAE ID]],'BES EN'!A:AJ,27,FALSE)","v":"Mandatory if the precision of servings per product is declared on the label."},null,{"$f":"Tabel3[[#This Row],[Dairy, Refrigerated & Frozen]]","v":"A"},{"$f":"Tabel3[[#This Row],[Deli & Prepared]]","v":"B"},{"$f":"Tabel3[[#This Row],[Fresh Meat]]","v":"C"},{"$f":"Tabel3[[#This Row],[Fresh Fish]]","v":"D"},{"$f":"Tabel3[[#This Row],[Fresh Fruits & Vegetables]]","v":"E"},{"$f":"Tabel3[[#This Row],[Grocery]]","v":"F"},{"$f":"Tabel3[[#This Row],[Cleaners]]","v":"-"},{"$f":"Tabel3[[#This Row],[Disposables]]","v":"-"},{"$f":"Tabel3[[#This Row],[Beauty & Personal Care]]","v":"-"},{"$f":"Tabel3[[#This Row],[Petfood]]","v":"-"},{"$f":"Tabel3[[#This Row],[Alcoholic Beverages]]","v":"K"},{"$f":"Tabel3[[#This Row],[Tobacco]]","v":"-"},{"$f":"Tabel3[[#This Row],[Self-care medicines]]","v":"-"},{"$f":"Tabel3[[#This Row],[Special Food]]","v":"N"},{"$f":"Tabel3[[#This Row],[Food Supplements]]","v":"O"},{"$f":"Tabel3[[#This Row],[Healthcare Products]]","v":"-"},{"$f":"Tabel3[[#This Row],[Medical Devices]]","v":"-"},{"$f":"Tabel3[[#This Row],[Batteries]]","v":"-"},{"$f":"Tabel3[[#This Row],[Light Bulbs]]","v":"-"},{"$f":"Tabel3[[#This Row],[Other Categories]]","v":"T"}]
[{"$f":"VLOOKUP(Tabel3[[#This Row],[GAE ID]],'BES EN'!A:AJ,36,FALSE)","v":"Number of smallest units per package"},{"$f":"Tabel3[[#This Row],[GDSN-naam]]","v":"numberOfSmallestUnitsPerPackage"},{"$f":"Tabel3[[#This Row],[GDM Verplicht / Conditioneel]]","v":"Conditional"},{"$f":"Tabel3[[#This Row],[DMS controle]]","v":"X"},{"$f":"Tabel3[[#This Row],[BMS ID]]","v":1366},{"$f":"Tabel3[[#This Row],[Formaat]]","v":"Non-negative Integer"},{"$f":"Tabel3[[#This Row],[X Path]]","v":"/catalogue_item_notification:catalogueItemNotificationMessage/transaction/documentCommand/catalogue_item_notification:catalogueItemNotification/catalogueItem/tradeItem/tradeItemInformation/extension/*[namespace-uri()='urn:gs1:gdsn:food_and_beverage_preparation_serving:xsd:3' and local-name()='foodAndBeveragePreparationServingModule']/servingQuantityInformation/numberOfSmallestUnitsPerPackage"},{"$f":"Tabel3[[#This Row],[GDM laag]]","v":"Local"},{"$f":"VLOOKUP(Tabel3[[#This Row],[GAE ID]],'BES EN'!A:AJ,27,FALSE)","v":"Mandatory for food, food supplements and special foods if mentioned on the label."},null,{"$f":"Tabel3[[#This Row],[Dairy, Refrigerated & Frozen]]","v":"A"},{"$f":"Tabel3[[#This Row],[Deli & Prepared]]","v":"B"},{"$f":"Tabel3[[#This Row],[Fresh Meat]]","v":"C"},{"$f":"Tabel3[[#This Row],[Fresh Fish]]","v":"D"},{"$f":"Tabel3[[#This Row],[Fresh Fruits & Vegetables]]","v":"E"},{"$f":"Tabel3[[#This Row],[Grocery]]","v":"F"},{"$f":"Tabel3[[#This Row],[Cleaners]]","v":"-"},{"$f":"Tabel3[[#This Row],[Disposables]]","v":"-"},{"$f":"Tabel3[[#This Row],[Beauty & Personal Care]]","v":"-"},{"$f":"Tabel3[[#This Row],[Petfood]]","v":"-"},{"$f":"Tabel3[[#This Row],[Alcoholic Beverages]]","v":"K"},{"$f":"Tabel3[[#This Row],[Tobacco]]","v":"-"},{"$f":"Tabel3[[#This Row],[Self-care medicines]]","v":"-"},{"$f":"Tabel3[[#This Row],[Special Food]]","v":"N"},{"$f":"Tabel3[[#This Row],[Food Supplements]]","v":"O"},{"$f":"Tabel3[[#This Row],[Healthcare Products]]","v":"-"},{"$f":"Tabel3[[#This Row],[Medical Devices]]","v":"-"},{"$f":"Tabel3[[#This Row],[Batteries]]","v":"-"},{"$f":"Tabel3[[#This Row],[Light Bulbs]]","v":"-"},{"$f":"Tabel3[[#This Row],[Other Categories]]","v":"T"}]
[{"$f":"VLOOKUP(Tabel3[[#This Row],[GAE ID]],'BES EN'!A:AJ,36,FALSE)","v":"Maximum number of smallest units per package"},{"$f":"Tabel3[[#This Row],[GDSN-naam]]","v":"maximumNumberOfSmallestUnitsPerPackage"},{"$f":"Tabel3[[#This Row],[GDM Verplicht / Conditioneel]]","v":"Conditional"},{"$f":"Tabel3[[#This Row],[DMS controle]]","v":"X"},{"$f":"Tabel3[[#This Row],[BMS ID]]","v":1363},{"$f":"Tabel3[[#This Row],[Formaat]]","v":"Non-negative Integer"},{"$f":"Tabel3[[#This Row],[X Path]]","v":"/catalogue_item_notification:catalogueItemNotificationMessage/transaction/documentCommand/catalogue_item_notification:catalogueItemNotification/catalogueItem/tradeItem/tradeItemInformation/extension/*[namespace-uri()='urn:gs1:gdsn:food_and_beverage_preparation_serving:xsd:3' and local-name()='foodAndBeveragePreparationServingModule']/servingQuantityInformation/maximumNumberOfSmallestUnitsPerPackage"},{"$f":"Tabel3[[#This Row],[GDM laag]]","v":"Local"},{"$f":"VLOOKUP(Tabel3[[#This Row],[GAE ID]],'BES EN'!A:AJ,27,FALSE)","v":"Mandatory for food, food supplements and special foods if mentioned on the label."},null,{"$f":"Tabel3[[#This Row],[Dairy, Refrigerated & Frozen]]","v":"A"},{"$f":"Tabel3[[#This Row],[Deli & Prepared]]","v":"B"},{"$f":"Tabel3[[#This Row],[Fresh Meat]]","v":"C"},{"$f":"Tabel3[[#This Row],[Fresh Fish]]","v":"D"},{"$f":"Tabel3[[#This Row],[Fresh Fruits & Vegetables]]","v":"E"},{"$f":"Tabel3[[#This Row],[Grocery]]","v":"F"},{"$f":"Tabel3[[#This Row],[Cleaners]]","v":"-"},{"$f":"Tabel3[[#This Row],[Disposables]]","v":"-"},{"$f":"Tabel3[[#This Row],[Beauty & Personal Care]]","v":"-"},{"$f":"Tabel3[[#This Row],[Petfood]]","v":"-"},{"$f":"Tabel3[[#This Row],[Alcoholic Beverages]]","v":"K"},{"$f":"Tabel3[[#This Row],[Tobacco]]","v":"-"},{"$f":"Tabel3[[#This Row],[Self-care medicines]]","v":"-"},{"$f":"Tabel3[[#This Row],[Special Food]]","v":"N"},{"$f":"Tabel3[[#This Row],[Food Supplements]]","v":"O"},{"$f":"Tabel3[[#This Row],[Healthcare Products]]","v":"-"},{"$f":"Tabel3[[#This Row],[Medical Devices]]","v":"-"},{"$f":"Tabel3[[#This Row],[Batteries]]","v":"-"},{"$f":"Tabel3[[#This Row],[Light Bulbs]]","v":"-"},{"$f":"Tabel3[[#This Row],[Other Categories]]","v":"T"}]
["List of ingredients",null,{"$f":"Tabel3[[#This Row],[GDM Verplicht / Conditioneel]]","v":0},"",null,"","",null,null,null,"A","B","C","D","E","F","G","H","I","J","K","L","M","N","O","P","Q","R","S","T"]
[{"$f":"VLOOKUP(Tabel3[[#This Row],[GAE ID]],'BES EN'!A:AJ,36,FALSE)","v":"Ingredient statement"},{"$f":"Tabel3[[#This Row],[GDSN-naam]]","v":"ingredientStatement"},{"$f":"Tabel3[[#This Row],[GDM Verplicht / Conditioneel]]","v":"Conditional"},{"$f":"Tabel3[[#This Row],[DMS controle]]","v":"X"},{"$f":"Tabel3[[#This Row],[BMS ID]]","v":1268},{"$f":"Tabel3[[#This Row],[Formaat]]","v":"an..5000"},{"$f":"Tabel3[[#This Row],[X Path]]","v":"/catalogue_item_notification:catalogueItemNotificationMessage/transaction/documentCommand/catalogue_item_notification:catalogueItemNotification/catalogueItem/tradeItem/tradeItemInformation/extension/*[namespace-uri()='urn:gs1:gdsn:food_and_beverage_ingredient:xsd:3' and local-name()='foodAndBeverageIngredientModule']/ingredientStatement"},{"$f":"Tabel3[[#This Row],[GDM laag]]","v":"Global"},{"$f":"VLOOKUP(Tabel3[[#This Row],[GAE ID]],'BES EN'!A:AJ,27,FALSE)","v":"Mandatory for food, food supplements and special foods if mentioned on the label."},null,{"$f":"Tabel3[[#This Row],[Dairy, Refrigerated & Frozen]]","v":"A"},{"$f":"Tabel3[[#This Row],[Deli & Prepared]]","v":"B"},{"$f":"Tabel3[[#This Row],[Fresh Meat]]","v":"C"},{"$f":"Tabel3[[#This Row],[Fresh Fish]]","v":"D"},{"$f":"Tabel3[[#This Row],[Fresh Fruits & Vegetables]]","v":"E"},{"$f":"Tabel3[[#This Row],[Grocery]]","v":"F"},{"$f":"Tabel3[[#This Row],[Cleaners]]","v":"-"},{"$f":"Tabel3[[#This Row],[Disposables]]","v":"-"},{"$f":"Tabel3[[#This Row],[Beauty & Personal Care]]","v":"-"},{"$f":"Tabel3[[#This Row],[Petfood]]","v":"-"},{"$f":"Tabel3[[#This Row],[Alcoholic Beverages]]","v":"K"},{"$f":"Tabel3[[#This Row],[Tobacco]]","v":"-"},{"$f":"Tabel3[[#This Row],[Self-care medicines]]","v":"-"},{"$f":"Tabel3[[#This Row],[Special Food]]","v":"N"},{"$f":"Tabel3[[#This Row],[Food Supplements]]","v":"O"},{"$f":"Tabel3[[#This Row],[Healthcare Products]]","v":"-"},{"$f":"Tabel3[[#This Row],[Medical Devices]]","v":"-"},{"$f":"Tabel3[[#This Row],[Batteries]]","v":"-"},{"$f":"Tabel3[[#This Row],[Light Bulbs]]","v":"-"},{"$f":"Tabel3[[#This Row],[Other Categories]]","v":"-"}]
[{"$f":"VLOOKUP(Tabel3[[#This Row],[GAE ID]],'BES EN'!A:AJ,36,FALSE)","v":"Ingredient statement language code"},{"$f":"Tabel3[[#This Row],[GDSN-naam]]","v":"ingredientStatement/@languageCode"},{"$f":"Tabel3[[#This Row],[GDM Verplicht / Conditioneel]]","v":"Conditional"},{"$f":"Tabel3[[#This Row],[DMS controle]]","v":"X"},{"$f":"Tabel3[[#This Row],[BMS ID]]","v":1269},{"$f":"Tabel3[[#This Row],[Formaat]]","v":"Defined values"},{"$f":"Tabel3[[#This Row],[X Path]]","v":"/catalogue_item_notification:catalogueItemNotificationMessage/transaction/documentCommand/catalogue_item_notification:catalogueItemNotification/catalogueItem/tradeItem/tradeItemInformation/extension/*[namespace-uri()='urn:gs1:gdsn:food_and_beverage_ingredient:xsd:3' and local-name()='foodAndBeverageIngredientModule']/ingredientStatement/@languageCode"},{"$f":"Tabel3[[#This Row],[GDM laag]]","v":"Global"},{"$f":"VLOOKUP(Tabel3[[#This Row],[GAE ID]],'BES EN'!A:AJ,27,FALSE)","v":"Mandatory if 'Ingredient statement' is populated."},null,{"$f":"Tabel3[[#This Row],[Dairy, Refrigerated & Frozen]]","v":"A"},{"$f":"Tabel3[[#This Row],[Deli & Prepared]]","v":"B"},{"$f":"Tabel3[[#This Row],[Fresh Meat]]","v":"C"},{"$f":"Tabel3[[#This Row],[Fresh Fish]]","v":"D"},{"$f":"Tabel3[[#This Row],[Fresh Fruits & Vegetables]]","v":"E"},{"$f":"Tabel3[[#This Row],[Grocery]]","v":"F"},{"$f":"Tabel3[[#This Row],[Cleaners]]","v":"-"},{"$f":"Tabel3[[#This Row],[Disposables]]","v":"-"},{"$f":"Tabel3[[#This Row],[Beauty & Personal Care]]","v":"-"},{"$f":"Tabel3[[#This Row],[Petfood]]","v":"-"},{"$f":"Tabel3[[#This Row],[Alcoholic Beverages]]","v":"K"},{"$f":"Tabel3[[#This Row],[Tobacco]]","v":"-"},{"$f":"Tabel3[[#This Row],[Self-care medicines]]","v":"-"},{"$f":"Tabel3[[#This Row],[Special Food]]","v":"N"},{"$f":"Tabel3[[#This Row],[Food Supplements]]","v":"O"},{"$f":"Tabel3[[#This Row],[Healthcare Products]]","v":"-"},{"$f":"Tabel3[[#This Row],[Medical Devices]]","v":"-"},{"$f":"Tabel3[[#This Row],[Batteries]]","v":"-"},{"$f":"Tabel3[[#This Row],[Light Bulbs]]","v":"-"},{"$f":"Tabel3[[#This Row],[Other Categories]]","v":"-"}]
["Allergen information",null,{"$f":"Tabel3[[#This Row],[GDM Verplicht / Conditioneel]]","v":0},"",null,"","",null,null,null,"A","B","C","D","E","F","G","H","I","J","K","L","M","N","O","P","Q","R","S","T"]
[{"$f":"VLOOKUP(Tabel3[[#This Row],[GAE ID]],'BES EN'!A:AJ,36,FALSE)","v":"Allergen type code"},{"$f":"Tabel3[[#This Row],[GDSN-naam]]","v":"allergenTypeCode"},{"$f":"Tabel3[[#This Row],[GDM Verplicht / Conditioneel]]","v":"Conditional"},{"$f":"Tabel3[[#This Row],[DMS controle]]","v":"X"},{"$f":"Tabel3[[#This Row],[BMS ID]]","v":375},{"$f":"Tabel3[[#This Row],[Formaat]]","v":"Defined values"},{"$f":"Tabel3[[#This Row],[X Path]]","v":"/catalogue_item_notification:catalogueItemNotificationMessage/transaction/documentCommand/catalogue_item_notification:catalogueItemNotification/catalogueItem/tradeItem/tradeItemInformation/extension/*[namespace-uri()='urn:gs1:gdsn:allergen_information:xsd:3' and local-name()='allergenInformationModule']/allergenRelatedInformation/allergen/allergenTypeCode"},{"$f":"Tabel3[[#This Row],[GDM laag]]","v":"Global"},{"$f":"VLOOKUP(Tabel3[[#This Row],[GAE ID]],'BES EN'!A:AJ,27,FALSE)","v":"Mandatory if allergens are stated on the packaging, optional for detergents and biocides."},null,{"$f":"Tabel3[[#This Row],[Dairy, Refrigerated & Frozen]]","v":"A"},{"$f":"Tabel3[[#This Row],[Deli & Prepared]]","v":"B"},{"$f":"Tabel3[[#This Row],[Fresh Meat]]","v":"C"},{"$f":"Tabel3[[#This Row],[Fresh Fish]]","v":"D"},{"$f":"Tabel3[[#This Row],[Fresh Fruits & Vegetables]]","v":"E"},{"$f":"Tabel3[[#This Row],[Grocery]]","v":"F"},{"$f":"Tabel3[[#This Row],[Cleaners]]","v":"G"},{"$f":"Tabel3[[#This Row],[Disposables]]","v":"-"},{"$f":"Tabel3[[#This Row],[Beauty & Personal Care]]","v":"I"},{"$f":"Tabel3[[#This Row],[Petfood]]","v":"-"},{"$f":"Tabel3[[#This Row],[Alcoholic Beverages]]","v":"K"},{"$f":"Tabel3[[#This Row],[Tobacco]]","v":"-"},{"$f":"Tabel3[[#This Row],[Self-care medicines]]","v":"M"},{"$f":"Tabel3[[#This Row],[Special Food]]","v":"N"},{"$f":"Tabel3[[#This Row],[Food Supplements]]","v":"O"},{"$f":"Tabel3[[#This Row],[Healthcare Products]]","v":"P"},{"$f":"Tabel3[[#This Row],[Medical Devices]]","v":"Q"},{"$f":"Tabel3[[#This Row],[Batteries]]","v":"-"},{"$f":"Tabel3[[#This Row],[Light Bulbs]]","v":"-"},{"$f":"Tabel3[[#This Row],[Other Categories]]","v":"T"}]
[{"$f":"VLOOKUP(Tabel3[[#This Row],[GAE ID]],'BES EN'!A:AJ,36,FALSE)","v":"Level of containment code"},{"$f":"Tabel3[[#This Row],[GDSN-naam]]","v":"levelOfContainmentCode"},{"$f":"Tabel3[[#This Row],[GDM Verplicht / Conditioneel]]","v":"Conditional"},{"$f":"Tabel3[[#This Row],[DMS controle]]","v":"X"},{"$f":"Tabel3[[#This Row],[BMS ID]]","v":376},{"$f":"Tabel3[[#This Row],[Formaat]]","v":"Defined values"},{"$f":"Tabel3[[#This Row],[X Path]]","v":"/catalogue_item_notification:catalogueItemNotificationMessage/transaction/documentCommand/catalogue_item_notification:catalogueItemNotification/catalogueItem/tradeItem/tradeItemInformation/extension/*[namespace-uri()='urn:gs1:gdsn:allergen_information:xsd:3' and local-name()='allergenInformationModule']/allergenRelatedInformation/allergen/levelOfContainmentCode"},{"$f":"Tabel3[[#This Row],[GDM laag]]","v":"Global"},{"$f":"VLOOKUP(Tabel3[[#This Row],[GAE ID]],'BES EN'!A:AJ,27,FALSE)","v":"Mandatory if the 'Allergen type code' field is populated. "},null,{"$f":"Tabel3[[#This Row],[Dairy, Refrigerated & Frozen]]","v":"A"},{"$f":"Tabel3[[#This Row],[Deli & Prepared]]","v":"B"},{"$f":"Tabel3[[#This Row],[Fresh Meat]]","v":"C"},{"$f":"Tabel3[[#This Row],[Fresh Fish]]","v":"D"},{"$f":"Tabel3[[#This Row],[Fresh Fruits & Vegetables]]","v":"E"},{"$f":"Tabel3[[#This Row],[Grocery]]","v":"F"},{"$f":"Tabel3[[#This Row],[Cleaners]]","v":"G"},{"$f":"Tabel3[[#This Row],[Disposables]]","v":"-"},{"$f":"Tabel3[[#This Row],[Beauty & Personal Care]]","v":"I"},{"$f":"Tabel3[[#This Row],[Petfood]]","v":"-"},{"$f":"Tabel3[[#This Row],[Alcoholic Beverages]]","v":"K"},{"$f":"Tabel3[[#This Row],[Tobacco]]","v":"-"},{"$f":"Tabel3[[#This Row],[Self-care medicines]]","v":"M"},{"$f":"Tabel3[[#This Row],[Special Food]]","v":"N"},{"$f":"Tabel3[[#This Row],[Food Supplements]]","v":"O"},{"$f":"Tabel3[[#This Row],[Healthcare Products]]","v":"P"},{"$f":"Tabel3[[#This Row],[Medical Devices]]","v":"Q"},{"$f":"Tabel3[[#This Row],[Batteries]]","v":"-"},{"$f":"Tabel3[[#This Row],[Light Bulbs]]","v":"-"},{"$f":"Tabel3[[#This Row],[Other Categories]]","v":"T"}]
[{"$f":"VLOOKUP(Tabel3[[#This Row],[GAE ID]],'BES EN'!A:AJ,36,FALSE)","v":"Is allergen relevant data provided"},{"$f":"Tabel3[[#This Row],[GDSN-naam]]","v":"isAllergenRelevantDataProvided"},{"$f":"Tabel3[[#This Row],[GDM Verplicht / Conditioneel]]","v":"Conditional"},{"$f":"Tabel3[[#This Row],[DMS controle]]","v":0},{"$f":"Tabel3[[#This Row],[BMS ID]]","v":373},{"$f":"Tabel3[[#This Row],[Formaat]]","v":"Boolean"},{"$f":"Tabel3[[#This Row],[X Path]]","v":"/catalogue_item_notification:catalogueItemNotificationMessage/transaction/documentCommand/catalogue_item_notification:catalogueItemNotification/catalogueItem/tradeItem/tradeItemInformation/extension/*[namespace-uri()='urn:gs1:gdsn:allergen_information:xsd:3' and local-name()='allergenInformationModule']/allergenRelatedInformation/isAllergenRelevantDataProvided"},{"$f":"Tabel3[[#This Row],[GDM laag]]","v":"Local"},{"$f":"VLOOKUP(Tabel3[[#This Row],[GAE ID]],'BES EN'!A:AJ,27,FALSE)","v":"Mandatory for products for which label information is entered, optional for detergents and biocides."},null,{"$f":"Tabel3[[#This Row],[Dairy, Refrigerated & Frozen]]","v":"A"},{"$f":"Tabel3[[#This Row],[Deli & Prepared]]","v":"B"},{"$f":"Tabel3[[#This Row],[Fresh Meat]]","v":"C"},{"$f":"Tabel3[[#This Row],[Fresh Fish]]","v":"D"},{"$f":"Tabel3[[#This Row],[Fresh Fruits & Vegetables]]","v":"E"},{"$f":"Tabel3[[#This Row],[Grocery]]","v":"F"},{"$f":"Tabel3[[#This Row],[Cleaners]]","v":"-"},{"$f":"Tabel3[[#This Row],[Disposables]]","v":"-"},{"$f":"Tabel3[[#This Row],[Beauty & Personal Care]]","v":"-"},{"$f":"Tabel3[[#This Row],[Petfood]]","v":"-"},{"$f":"Tabel3[[#This Row],[Alcoholic Beverages]]","v":"K"},{"$f":"Tabel3[[#This Row],[Tobacco]]","v":"-"},{"$f":"Tabel3[[#This Row],[Self-care medicines]]","v":"M"},{"$f":"Tabel3[[#This Row],[Special Food]]","v":"N"},{"$f":"Tabel3[[#This Row],[Food Supplements]]","v":"O"},{"$f":"Tabel3[[#This Row],[Healthcare Products]]","v":"P"},{"$f":"Tabel3[[#This Row],[Medical Devices]]","v":"Q"},{"$f":"Tabel3[[#This Row],[Batteries]]","v":"-"},{"$f":"Tabel3[[#This Row],[Light Bulbs]]","v":"-"},{"$f":"Tabel3[[#This Row],[Other Categories]]","v":"T"}]
["Nutrients information",null,{"$f":"Tabel3[[#This Row],[GDM Verplicht / Conditioneel]]","v":0},"",null,"","",null,null,null,"A","B","C","D","E","F","G","H","I","J","K","L","M","N","O","P","Q","R","S","T"]
[{"$f":"VLOOKUP(Tabel3[[#This Row],[GAE ID]],'BES EN'!A:AJ,36,FALSE)","v":"Preparation state code"},{"$f":"Tabel3[[#This Row],[GDSN-naam]]","v":"preparationStateCode"},{"$f":"Tabel3[[#This Row],[GDM Verplicht / Conditioneel]]","v":"Conditional"},{"$f":"Tabel3[[#This Row],[DMS controle]]","v":"X"},{"$f":"Tabel3[[#This Row],[BMS ID]]","v":1717},{"$f":"Tabel3[[#This Row],[Formaat]]","v":"Defined values"},{"$f":"Tabel3[[#This Row],[X Path]]","v":"/catalogue_item_notification:catalogueItemNotificationMessage/transaction/documentCommand/catalogue_item_notification:catalogueItemNotification/catalogueItem/tradeItem/tradeItemInformation/extension/*[namespace-uri()='urn:gs1:gdsn:nutritional_information:xsd:3' and local-name()='nutritionalInformationModule']/nutrientHeader/preparationStateCode"},{"$f":"Tabel3[[#This Row],[GDM laag]]","v":"Global"},{"$f":"VLOOKUP(Tabel3[[#This Row],[GAE ID]],'BES EN'!A:AJ,27,FALSE)","v":"Mandatory for food, food supplements and special foods if mentioned on the label."},null,{"$f":"Tabel3[[#This Row],[Dairy, Refrigerated & Frozen]]","v":"A"},{"$f":"Tabel3[[#This Row],[Deli & Prepared]]","v":"B"},{"$f":"Tabel3[[#This Row],[Fresh Meat]]","v":"C"},{"$f":"Tabel3[[#This Row],[Fresh Fish]]","v":"D"},{"$f":"Tabel3[[#This Row],[Fresh Fruits & Vegetables]]","v":"E"},{"$f":"Tabel3[[#This Row],[Grocery]]","v":"F"},{"$f":"Tabel3[[#This Row],[Cleaners]]","v":"-"},{"$f":"Tabel3[[#This Row],[Disposables]]","v":"-"},{"$f":"Tabel3[[#This Row],[Beauty & Personal Care]]","v":"-"},{"$f":"Tabel3[[#This Row],[Petfood]]","v":"-"},{"$f":"Tabel3[[#This Row],[Alcoholic Beverages]]","v":"K"},{"$f":"Tabel3[[#This Row],[Tobacco]]","v":"-"},{"$f":"Tabel3[[#This Row],[Self-care medicines]]","v":"-"},{"$f":"Tabel3[[#This Row],[Special Food]]","v":"N"},{"$f":"Tabel3[[#This Row],[Food Supplements]]","v":"O"},{"$f":"Tabel3[[#This Row],[Healthcare Products]]","v":"-"},{"$f":"Tabel3[[#This Row],[Medical Devices]]","v":"-"},{"$f":"Tabel3[[#This Row],[Batteries]]","v":"-"},{"$f":"Tabel3[[#This Row],[Light Bulbs]]","v":"-"},{"$f":"Tabel3[[#This Row],[Other Categories]]","v":"T"}]
[{"$f":"VLOOKUP(Tabel3[[#This Row],[GAE ID]],'BES EN'!A:AJ,36,FALSE)","v":"Nutrient type code (UN INFOODS code)"},{"$f":"Tabel3[[#This Row],[GDSN-naam]]","v":"nutrientTypeCode"},{"$f":"Tabel3[[#This Row],[GDM Verplicht / Conditioneel]]","v":"Conditional"},{"$f":"Tabel3[[#This Row],[DMS controle]]","v":"X"},{"$f":"Tabel3[[#This Row],[BMS ID]]","v":1733},{"$f":"Tabel3[[#This Row],[Formaat]]","v":"Defined values"},{"$f":"Tabel3[[#This Row],[X Path]]","v":"/catalogue_item_notification:catalogueItemNotificationMessage/transaction/documentCommand/catalogue_item_notification:catalogueItemNotification/catalogueItem/tradeItem/tradeItemInformation/extension/*[namespace-uri()='urn:gs1:gdsn:nutritional_information:xsd:3' and local-name()='nutritionalInformationModule']/nutrientHeader/nutrientDetail/nutrientTypeCode"},{"$f":"Tabel3[[#This Row],[GDM laag]]","v":"Global"},{"$f":"VLOOKUP(Tabel3[[#This Row],[GAE ID]],'BES EN'!A:AJ,27,FALSE)","v":"Mandatory for food, food supplements and special foods if mentioned on the label."},null,{"$f":"Tabel3[[#This Row],[Dairy, Refrigerated & Frozen]]","v":"A"},{"$f":"Tabel3[[#This Row],[Deli & Prepared]]","v":"B"},{"$f":"Tabel3[[#This Row],[Fresh Meat]]","v":"C"},{"$f":"Tabel3[[#This Row],[Fresh Fish]]","v":"D"},{"$f":"Tabel3[[#This Row],[Fresh Fruits & Vegetables]]","v":"E"},{"$f":"Tabel3[[#This Row],[Grocery]]","v":"F"},{"$f":"Tabel3[[#This Row],[Cleaners]]","v":"-"},{"$f":"Tabel3[[#This Row],[Disposables]]","v":"-"},{"$f":"Tabel3[[#This Row],[Beauty & Personal Care]]","v":"-"},{"$f":"Tabel3[[#This Row],[Petfood]]","v":"-"},{"$f":"Tabel3[[#This Row],[Alcoholic Beverages]]","v":"K"},{"$f":"Tabel3[[#This Row],[Tobacco]]","v":"-"},{"$f":"Tabel3[[#This Row],[Self-care medicines]]","v":"-"},{"$f":"Tabel3[[#This Row],[Special Food]]","v":"N"},{"$f":"Tabel3[[#This Row],[Food Supplements]]","v":"O"},{"$f":"Tabel3[[#This Row],[Healthcare Products]]","v":"-"},{"$f":"Tabel3[[#This Row],[Medical Devices]]","v":"-"},{"$f":"Tabel3[[#This Row],[Batteries]]","v":"-"},{"$f":"Tabel3[[#This Row],[Light Bulbs]]","v":"-"},{"$f":"Tabel3[[#This Row],[Other Categories]]","v":"T"}]
[{"$f":"VLOOKUP(Tabel3[[#This Row],[GAE ID]],'BES EN'!A:AJ,36,FALSE)","v":"Measurement precision code"},{"$f":"Tabel3[[#This Row],[GDSN-naam]]","v":"measurementPrecisionCode"},{"$f":"Tabel3[[#This Row],[GDM Verplicht / Conditioneel]]","v":"Conditional"},{"$f":"Tabel3[[#This Row],[DMS controle]]","v":"X"},{"$f":"Tabel3[[#This Row],[BMS ID]]","v":1732},{"$f":"Tabel3[[#This Row],[Formaat]]","v":"Defined values"},{"$f":"Tabel3[[#This Row],[X Path]]","v":"/catalogue_item_notification:catalogueItemNotificationMessage/transaction/documentCommand/catalogue_item_notification:catalogueItemNotification/catalogueItem/tradeItem/tradeItemInformation/extension/*[namespace-uri()='urn:gs1:gdsn:nutritional_information:xsd:3' and local-name()='nutritionalInformationModule']/nutrientHeader/nutrientDetail/measurementPrecisionCode"},{"$f":"Tabel3[[#This Row],[GDM laag]]","v":"Global"},{"$f":"VLOOKUP(Tabel3[[#This Row],[GAE ID]],'BES EN'!A:AJ,27,FALSE)","v":"Mandatory for food, food supplements and special foods if mentioned on the label."},null,{"$f":"Tabel3[[#This Row],[Dairy, Refrigerated & Frozen]]","v":"A"},{"$f":"Tabel3[[#This Row],[Deli & Prepared]]","v":"B"},{"$f":"Tabel3[[#This Row],[Fresh Meat]]","v":"C"},{"$f":"Tabel3[[#This Row],[Fresh Fish]]","v":"D"},{"$f":"Tabel3[[#This Row],[Fresh Fruits & Vegetables]]","v":"E"},{"$f":"Tabel3[[#This Row],[Grocery]]","v":"F"},{"$f":"Tabel3[[#This Row],[Cleaners]]","v":"-"},{"$f":"Tabel3[[#This Row],[Disposables]]","v":"-"},{"$f":"Tabel3[[#This Row],[Beauty & Personal Care]]","v":"-"},{"$f":"Tabel3[[#This Row],[Petfood]]","v":"-"},{"$f":"Tabel3[[#This Row],[Alcoholic Beverages]]","v":"K"},{"$f":"Tabel3[[#This Row],[Tobacco]]","v":"-"},{"$f":"Tabel3[[#This Row],[Self-care medicines]]","v":"-"},{"$f":"Tabel3[[#This Row],[Special Food]]","v":"N"},{"$f":"Tabel3[[#This Row],[Food Supplements]]","v":"O"},{"$f":"Tabel3[[#This Row],[Healthcare Products]]","v":"-"},{"$f":"Tabel3[[#This Row],[Medical Devices]]","v":"-"},{"$f":"Tabel3[[#This Row],[Batteries]]","v":"-"},{"$f":"Tabel3[[#This Row],[Light Bulbs]]","v":"-"},{"$f":"Tabel3[[#This Row],[Other Categories]]","v":"T"}]
[{"$f":"VLOOKUP(Tabel3[[#This Row],[GAE ID]],'BES EN'!A:AJ,36,FALSE)","v":"Quantity contained"},{"$f":"Tabel3[[#This Row],[GDSN-naam]]","v":"quantityContained"},{"$f":"Tabel3[[#This Row],[GDM Verplicht / Conditioneel]]","v":"Conditional"},{"$f":"Tabel3[[#This Row],[DMS controle]]","v":"X"},{"$f":"Tabel3[[#This Row],[BMS ID]]","v":1734},{"$f":"Tabel3[[#This Row],[Formaat]]","v":"n..15"},{"$f":"Tabel3[[#This Row],[X Path]]","v":"/catalogue_item_notification:catalogueItemNotificationMessage/transaction/documentCommand/catalogue_item_notification:catalogueItemNotification/catalogueItem/tradeItem/tradeItemInformation/extension/*[namespace-uri()='urn:gs1:gdsn:nutritional_information:xsd:3' and local-name()='nutritionalInformationModule']/nutrientHeader/nutrientDetail/quantityContained"},{"$f":"Tabel3[[#This Row],[GDM laag]]","v":"Global"},{"$f":"VLOOKUP(Tabel3[[#This Row],[GAE ID]],'BES EN'!A:AJ,27,FALSE)","v":"Mandatory for food, food supplements and special foods if mentioned on the label."},null,{"$f":"Tabel3[[#This Row],[Dairy, Refrigerated & Frozen]]","v":"A"},{"$f":"Tabel3[[#This Row],[Deli & Prepared]]","v":"B"},{"$f":"Tabel3[[#This Row],[Fresh Meat]]","v":"C"},{"$f":"Tabel3[[#This Row],[Fresh Fish]]","v":"D"},{"$f":"Tabel3[[#This Row],[Fresh Fruits & Vegetables]]","v":"E"},{"$f":"Tabel3[[#This Row],[Grocery]]","v":"F"},{"$f":"Tabel3[[#This Row],[Cleaners]]","v":"-"},{"$f":"Tabel3[[#This Row],[Disposables]]","v":"-"},{"$f":"Tabel3[[#This Row],[Beauty & Personal Care]]","v":"-"},{"$f":"Tabel3[[#This Row],[Petfood]]","v":"-"},{"$f":"Tabel3[[#This Row],[Alcoholic Beverages]]","v":"K"},{"$f":"Tabel3[[#This Row],[Tobacco]]","v":"-"},{"$f":"Tabel3[[#This Row],[Self-care medicines]]","v":"-"},{"$f":"Tabel3[[#This Row],[Special Food]]","v":"N"},{"$f":"Tabel3[[#This Row],[Food Supplements]]","v":"O"},{"$f":"Tabel3[[#This Row],[Healthcare Products]]","v":"-"},{"$f":"Tabel3[[#This Row],[Medical Devices]]","v":"-"},{"$f":"Tabel3[[#This Row],[Batteries]]","v":"-"},{"$f":"Tabel3[[#This Row],[Light Bulbs]]","v":"-"},{"$f":"Tabel3[[#This Row],[Other Categories]]","v":"T"}]
[{"$f":"VLOOKUP(Tabel3[[#This Row],[GAE ID]],'BES EN'!A:AJ,36,FALSE)","v":"Quantity contained UOM"},{"$f":"Tabel3[[#This Row],[GDSN-naam]]","v":"quantityContained/@measurementUnitCode"},{"$f":"Tabel3[[#This Row],[GDM Verplicht / Conditioneel]]","v":"Conditional"},{"$f":"Tabel3[[#This Row],[DMS controle]]","v":"X"},{"$f":"Tabel3[[#This Row],[BMS ID]]","v":1735},{"$f":"Tabel3[[#This Row],[Formaat]]","v":"Defined values"},{"$f":"Tabel3[[#This Row],[X Path]]","v":"/catalogue_item_notification:catalogueItemNotificationMessage/transaction/documentCommand/catalogue_item_notification:catalogueItemNotification/catalogueItem/tradeItem/tradeItemInformation/extension/*[namespace-uri()='urn:gs1:gdsn:nutritional_information:xsd:3' and local-name()='nutritionalInformationModule']/nutrientHeader/nutrientDetail/quantityContained/@measurementUnitCode"},{"$f":"Tabel3[[#This Row],[GDM laag]]","v":"Global"},{"$f":"VLOOKUP(Tabel3[[#This Row],[GAE ID]],'BES EN'!A:AJ,27,FALSE)","v":"Mandatory if 'Quantity contained' is populated."},null,{"$f":"Tabel3[[#This Row],[Dairy, Refrigerated & Frozen]]","v":"A"},{"$f":"Tabel3[[#This Row],[Deli & Prepared]]","v":"B"},{"$f":"Tabel3[[#This Row],[Fresh Meat]]","v":"C"},{"$f":"Tabel3[[#This Row],[Fresh Fish]]","v":"D"},{"$f":"Tabel3[[#This Row],[Fresh Fruits & Vegetables]]","v":"E"},{"$f":"Tabel3[[#This Row],[Grocery]]","v":"F"},{"$f":"Tabel3[[#This Row],[Cleaners]]","v":"-"},{"$f":"Tabel3[[#This Row],[Disposables]]","v":"-"},{"$f":"Tabel3[[#This Row],[Beauty & Personal Care]]","v":"-"},{"$f":"Tabel3[[#This Row],[Petfood]]","v":"-"},{"$f":"Tabel3[[#This Row],[Alcoholic Beverages]]","v":"K"},{"$f":"Tabel3[[#This Row],[Tobacco]]","v":"-"},{"$f":"Tabel3[[#This Row],[Self-care medicines]]","v":"-"},{"$f":"Tabel3[[#This Row],[Special Food]]","v":"N"},{"$f":"Tabel3[[#This Row],[Food Supplements]]","v":"O"},{"$f":"Tabel3[[#This Row],[Healthcare Products]]","v":"-"},{"$f":"Tabel3[[#This Row],[Medical Devices]]","v":"-"},{"$f":"Tabel3[[#This Row],[Batteries]]","v":"-"},{"$f":"Tabel3[[#This Row],[Light Bulbs]]","v":"-"},{"$f":"Tabel3[[#This Row],[Other Categories]]","v":"T"}]
[{"$f":"VLOOKUP(Tabel3[[#This Row],[GAE ID]],'BES EN'!A:AJ,36,FALSE)","v":"Daily value intake percentage"},{"$f":"Tabel3[[#This Row],[GDSN-naam]]","v":"dailyValueIntakePercent"},{"$f":"Tabel3[[#This Row],[GDM Verplicht / Conditioneel]]","v":"Conditional"},{"$f":"Tabel3[[#This Row],[DMS controle]]","v":"X"},{"$f":"Tabel3[[#This Row],[BMS ID]]","v":1731},{"$f":"Tabel3[[#This Row],[Formaat]]","v":"Decimal"},{"$f":"Tabel3[[#This Row],[X Path]]","v":"/catalogue_item_notification:catalogueItemNotificationMessage/transaction/documentCommand/catalogue_item_notification:catalogueItemNotification/catalogueItem/tradeItem/tradeItemInformation/extension/*[namespace-uri()='urn:gs1:gdsn:nutritional_information:xsd:3' and local-name()='nutritionalInformationModule']/nutrientHeader/nutrientDetail/dailyValueIntakePercent"},{"$f":"Tabel3[[#This Row],[GDM laag]]","v":"Global"},{"$f":"VLOOKUP(Tabel3[[#This Row],[GAE ID]],'BES EN'!A:AJ,27,FALSE)","v":"Mandatory for food, food supplements and special foods if mentioned on the label."},null,{"$f":"Tabel3[[#This Row],[Dairy, Refrigerated & Frozen]]","v":"A"},{"$f":"Tabel3[[#This Row],[Deli & Prepared]]","v":"B"},{"$f":"Tabel3[[#This Row],[Fresh Meat]]","v":"C"},{"$f":"Tabel3[[#This Row],[Fresh Fish]]","v":"D"},{"$f":"Tabel3[[#This Row],[Fresh Fruits & Vegetables]]","v":"E"},{"$f":"Tabel3[[#This Row],[Grocery]]","v":"F"},{"$f":"Tabel3[[#This Row],[Cleaners]]","v":"-"},{"$f":"Tabel3[[#This Row],[Disposables]]","v":"-"},{"$f":"Tabel3[[#This Row],[Beauty & Personal Care]]","v":"-"},{"$f":"Tabel3[[#This Row],[Petfood]]","v":"-"},{"$f":"Tabel3[[#This Row],[Alcoholic Beverages]]","v":"K"},{"$f":"Tabel3[[#This Row],[Tobacco]]","v":"-"},{"$f":"Tabel3[[#This Row],[Self-care medicines]]","v":"-"},{"$f":"Tabel3[[#This Row],[Special Food]]","v":"N"},{"$f":"Tabel3[[#This Row],[Food Supplements]]","v":"O"},{"$f":"Tabel3[[#This Row],[Healthcare Products]]","v":"-"},{"$f":"Tabel3[[#This Row],[Medical Devices]]","v":"-"},{"$f":"Tabel3[[#This Row],[Batteries]]","v":"-"},{"$f":"Tabel3[[#This Row],[Light Bulbs]]","v":"-"},{"$f":"Tabel3[[#This Row],[Other Categories]]","v":"T"}]
[{"$f":"VLOOKUP(Tabel3[[#This Row],[GAE ID]],'BES EN'!A:AJ,36,FALSE)","v":"Daily value intake percent measurement precision code"},{"$f":"Tabel3[[#This Row],[GDSN-naam]]","v":"dailyValueIntakePercentMeasurementPrecisionCode"},{"$f":"Tabel3[[#This Row],[GDM Verplicht / Conditioneel]]","v":"Conditional"},{"$f":"Tabel3[[#This Row],[DMS controle]]","v":"X"},{"$f":"Tabel3[[#This Row],[BMS ID]]","v":1736},{"$f":"Tabel3[[#This Row],[Formaat]]","v":"Defined values"},{"$f":"Tabel3[[#This Row],[X Path]]","v":"/catalogue_item_notification:catalogueItemNotificationMessage/transaction/documentCommand/catalogue_item_notification:catalogueItemNotification/catalogueItem/tradeItem/tradeItemInformation/extension/*[namespace-uri()='urn:gs1:gdsn:nutritional_information:xsd:3' and local-name()='nutritionalInformationModule']/nutrientHeader/nutrientDetail/dailyValueIntakePercentMeasurementPrecisionCode"},{"$f":"Tabel3[[#This Row],[GDM laag]]","v":"Global"},{"$f":"VLOOKUP(Tabel3[[#This Row],[GAE ID]],'BES EN'!A:AJ,27,FALSE)","v":" "},null,{"$f":"Tabel3[[#This Row],[Dairy, Refrigerated & Frozen]]","v":"A"},{"$f":"Tabel3[[#This Row],[Deli & Prepared]]","v":"B"},{"$f":"Tabel3[[#This Row],[Fresh Meat]]","v":"C"},{"$f":"Tabel3[[#This Row],[Fresh Fish]]","v":"D"},{"$f":"Tabel3[[#This Row],[Fresh Fruits & Vegetables]]","v":"E"},{"$f":"Tabel3[[#This Row],[Grocery]]","v":"F"},{"$f":"Tabel3[[#This Row],[Cleaners]]","v":"-"},{"$f":"Tabel3[[#This Row],[Disposables]]","v":"-"},{"$f":"Tabel3[[#This Row],[Beauty & Personal Care]]","v":"-"},{"$f":"Tabel3[[#This Row],[Petfood]]","v":"-"},{"$f":"Tabel3[[#This Row],[Alcoholic Beverages]]","v":"K"},{"$f":"Tabel3[[#This Row],[Tobacco]]","v":"-"},{"$f":"Tabel3[[#This Row],[Self-care medicines]]","v":"-"},{"$f":"Tabel3[[#This Row],[Special Food]]","v":"N"},{"$f":"Tabel3[[#This Row],[Food Supplements]]","v":"O"},{"$f":"Tabel3[[#This Row],[Healthcare Products]]","v":"-"},{"$f":"Tabel3[[#This Row],[Medical Devices]]","v":"-"},{"$f":"Tabel3[[#This Row],[Batteries]]","v":"-"},{"$f":"Tabel3[[#This Row],[Light Bulbs]]","v":"-"},{"$f":"Tabel3[[#This Row],[Other Categories]]","v":"T"}]
[{"$f":"VLOOKUP(Tabel3[[#This Row],[GAE ID]],'BES EN'!A:AJ,36,FALSE)","v":"Daily value intake reference"},{"$f":"Tabel3[[#This Row],[GDSN-naam]]","v":"dailyValueIntakeReference"},{"$f":"Tabel3[[#This Row],[GDM Verplicht / Conditioneel]]","v":"Conditional"},{"$f":"Tabel3[[#This Row],[DMS controle]]","v":"X"},{"$f":"Tabel3[[#This Row],[BMS ID]]","v":1712},{"$f":"Tabel3[[#This Row],[Formaat]]","v":"an..500"},{"$f":"Tabel3[[#This Row],[X Path]]","v":"/catalogue_item_notification:catalogueItemNotificationMessage/transaction/documentCommand/catalogue_item_notification:catalogueItemNotification/catalogueItem/tradeItem/tradeItemInformation/extension/*[namespace-uri()='urn:gs1:gdsn:nutritional_information:xsd:3' and local-name()='nutritionalInformationModule']/nutrientHeader/dailyValueIntakeReference"},{"$f":"Tabel3[[#This Row],[GDM laag]]","v":"Regional EU"},{"$f":"VLOOKUP(Tabel3[[#This Row],[GAE ID]],'BES EN'!A:AJ,27,FALSE)","v":"Mandatory for food, food supplements and special foods if mentioned on the label."},null,{"$f":"Tabel3[[#This Row],[Dairy, Refrigerated & Frozen]]","v":"A"},{"$f":"Tabel3[[#This Row],[Deli & Prepared]]","v":"B"},{"$f":"Tabel3[[#This Row],[Fresh Meat]]","v":"C"},{"$f":"Tabel3[[#This Row],[Fresh Fish]]","v":"D"},{"$f":"Tabel3[[#This Row],[Fresh Fruits & Vegetables]]","v":"E"},{"$f":"Tabel3[[#This Row],[Grocery]]","v":"F"},{"$f":"Tabel3[[#This Row],[Cleaners]]","v":"-"},{"$f":"Tabel3[[#This Row],[Disposables]]","v":"-"},{"$f":"Tabel3[[#This Row],[Beauty & Personal Care]]","v":"-"},{"$f":"Tabel3[[#This Row],[Petfood]]","v":"-"},{"$f":"Tabel3[[#This Row],[Alcoholic Beverages]]","v":"K"},{"$f":"Tabel3[[#This Row],[Tobacco]]","v":"-"},{"$f":"Tabel3[[#This Row],[Self-care medicines]]","v":"-"},{"$f":"Tabel3[[#This Row],[Special Food]]","v":"N"},{"$f":"Tabel3[[#This Row],[Food Supplements]]","v":"O"},{"$f":"Tabel3[[#This Row],[Healthcare Products]]","v":"-"},{"$f":"Tabel3[[#This Row],[Medical Devices]]","v":"-"},{"$f":"Tabel3[[#This Row],[Batteries]]","v":"-"},{"$f":"Tabel3[[#This Row],[Light Bulbs]]","v":"-"},{"$f":"Tabel3[[#This Row],[Other Categories]]","v":"T"}]
[{"$f":"VLOOKUP(Tabel3[[#This Row],[GAE ID]],'BES EN'!A:AJ,36,FALSE)","v":"Daily value intake reference language code"},{"$f":"Tabel3[[#This Row],[GDSN-naam]]","v":"dailyValueIntakeReference/@languageCode"},{"$f":"Tabel3[[#This Row],[GDM Verplicht / Conditioneel]]","v":"Conditional"},{"$f":"Tabel3[[#This Row],[DMS controle]]","v":"X"},{"$f":"Tabel3[[#This Row],[BMS ID]]","v":1713},{"$f":"Tabel3[[#This Row],[Formaat]]","v":"Defined values"},{"$f":"Tabel3[[#This Row],[X Path]]","v":"/catalogue_item_notification:catalogueItemNotificationMessage/transaction/documentCommand/catalogue_item_notification:catalogueItemNotification/catalogueItem/tradeItem/tradeItemInformation/extension/*[namespace-uri()='urn:gs1:gdsn:nutritional_information:xsd:3' and local-name()='nutritionalInformationModule']/nutrientHeader/dailyValueIntakeReference/@languageCode"},{"$f":"Tabel3[[#This Row],[GDM laag]]","v":"Regional EU"},{"$f":"VLOOKUP(Tabel3[[#This Row],[GAE ID]],'BES EN'!A:AJ,27,FALSE)","v":"Mandatory if 'Daily value intake reference' is populated."},null,{"$f":"Tabel3[[#This Row],[Dairy, Refrigerated & Frozen]]","v":"A"},{"$f":"Tabel3[[#This Row],[Deli & Prepared]]","v":"B"},{"$f":"Tabel3[[#This Row],[Fresh Meat]]","v":"C"},{"$f":"Tabel3[[#This Row],[Fresh Fish]]","v":"D"},{"$f":"Tabel3[[#This Row],[Fresh Fruits & Vegetables]]","v":"E"},{"$f":"Tabel3[[#This Row],[Grocery]]","v":"F"},{"$f":"Tabel3[[#This Row],[Cleaners]]","v":"-"},{"$f":"Tabel3[[#This Row],[Disposables]]","v":"-"},{"$f":"Tabel3[[#This Row],[Beauty & Personal Care]]","v":"-"},{"$f":"Tabel3[[#This Row],[Petfood]]","v":"-"},{"$f":"Tabel3[[#This Row],[Alcoholic Beverages]]","v":"K"},{"$f":"Tabel3[[#This Row],[Tobacco]]","v":"-"},{"$f":"Tabel3[[#This Row],[Self-care medicines]]","v":"-"},{"$f":"Tabel3[[#This Row],[Special Food]]","v":"N"},{"$f":"Tabel3[[#This Row],[Food Supplements]]","v":"O"},{"$f":"Tabel3[[#This Row],[Healthcare Products]]","v":"-"},{"$f":"Tabel3[[#This Row],[Medical Devices]]","v":"-"},{"$f":"Tabel3[[#This Row],[Batteries]]","v":"-"},{"$f":"Tabel3[[#This Row],[Light Bulbs]]","v":"-"},{"$f":"Tabel3[[#This Row],[Other Categories]]","v":"T"}]
[{"$f":"VLOOKUP(Tabel3[[#This Row],[GAE ID]],'BES EN'!A:AJ,36,FALSE)","v":"Nutrient source"},{"$f":"Tabel3[[#This Row],[GDSN-naam]]","v":"nutrientSource"},{"$f":"Tabel3[[#This Row],[GDM Verplicht / Conditioneel]]","v":"Optional"},{"$f":"Tabel3[[#This Row],[DMS controle]]","v":"X"},{"$f":"Tabel3[[#This Row],[BMS ID]]","v":5938},{"$f":"Tabel3[[#This Row],[Formaat]]","v":"an..500"},{"$f":"Tabel3[[#This Row],[X Path]]","v":"/catalogue_item_notification:catalogueItemNotificationMessage/transaction/documentCommand/catalogue_item_notification:catalogueItemNotification/catalogueItem/tradeItem/tradeItemInformation/extension/*[namespace-uri()='urn:gs1:gdsn:nutritional_information:xsd:3' and local-name()='nutritionalInformationModule']/nutrientHeader/nutrientDetail/nutrientSource"},{"$f":"Tabel3[[#This Row],[GDM laag]]","v":"Local"},{"$f":"VLOOKUP(Tabel3[[#This Row],[GAE ID]],'BES EN'!A:AJ,27,FALSE)","v":0},null,{"$f":"Tabel3[[#This Row],[Dairy, Refrigerated & Frozen]]","v":"A"},{"$f":"Tabel3[[#This Row],[Deli & Prepared]]","v":"B"},{"$f":"Tabel3[[#This Row],[Fresh Meat]]","v":"C"},{"$f":"Tabel3[[#This Row],[Fresh Fish]]","v":"D"},{"$f":"Tabel3[[#This Row],[Fresh Fruits & Vegetables]]","v":"E"},{"$f":"Tabel3[[#This Row],[Grocery]]","v":"F"},{"$f":"Tabel3[[#This Row],[Cleaners]]","v":"-"},{"$f":"Tabel3[[#This Row],[Disposables]]","v":"-"},{"$f":"Tabel3[[#This Row],[Beauty & Personal Care]]","v":"-"},{"$f":"Tabel3[[#This Row],[Petfood]]","v":"-"},{"$f":"Tabel3[[#This Row],[Alcoholic Beverages]]","v":"K"},{"$f":"Tabel3[[#This Row],[Tobacco]]","v":"-"},{"$f":"Tabel3[[#This Row],[Self-care medicines]]","v":"-"},{"$f":"Tabel3[[#This Row],[Special Food]]","v":"N"},{"$f":"Tabel3[[#This Row],[Food Supplements]]","v":"O"},{"$f":"Tabel3[[#This Row],[Healthcare Products]]","v":"-"},{"$f":"Tabel3[[#This Row],[Medical Devices]]","v":"-"},{"$f":"Tabel3[[#This Row],[Batteries]]","v":"-"},{"$f":"Tabel3[[#This Row],[Light Bulbs]]","v":"-"},{"$f":"Tabel3[[#This Row],[Other Categories]]","v":"T"}]
[{"$f":"VLOOKUP(Tabel3[[#This Row],[GAE ID]],'BES EN'!A:AJ,36,FALSE)","v":"Nutrient source language code"},{"$f":"Tabel3[[#This Row],[GDSN-naam]]","v":"nutrientSource/@languageCode"},{"$f":"Tabel3[[#This Row],[GDM Verplicht / Conditioneel]]","v":"Optional"},{"$f":"Tabel3[[#This Row],[DMS controle]]","v":0},{"$f":"Tabel3[[#This Row],[BMS ID]]","v":5939},{"$f":"Tabel3[[#This Row],[Formaat]]","v":"Defined values"},{"$f":"Tabel3[[#This Row],[X Path]]","v":"/catalogue_item_notification:catalogueItemNotificationMessage/transaction/documentCommand/catalogue_item_notification:catalogueItemNotification/catalogueItem/tradeItem/tradeItemInformation/extension/*[namespace-uri()='urn:gs1:gdsn:nutritional_information:xsd:3' and local-name()='nutritionalInformationModule']/nutrientHeader/nutrientDetail/nutrientSource/@languageCode"},{"$f":"Tabel3[[#This Row],[GDM laag]]","v":"Local"},{"$f":"VLOOKUP(Tabel3[[#This Row],[GAE ID]],'BES EN'!A:AJ,27,FALSE)","v":"Mandatory if 'Nutrient source' is populated"},null,{"$f":"Tabel3[[#This Row],[Dairy, Refrigerated & Frozen]]","v":"A"},{"$f":"Tabel3[[#This Row],[Deli & Prepared]]","v":"B"},{"$f":"Tabel3[[#This Row],[Fresh Meat]]","v":"C"},{"$f":"Tabel3[[#This Row],[Fresh Fish]]","v":"D"},{"$f":"Tabel3[[#This Row],[Fresh Fruits & Vegetables]]","v":"E"},{"$f":"Tabel3[[#This Row],[Grocery]]","v":"F"},{"$f":"Tabel3[[#This Row],[Cleaners]]","v":"-"},{"$f":"Tabel3[[#This Row],[Disposables]]","v":"-"},{"$f":"Tabel3[[#This Row],[Beauty & Personal Care]]","v":"-"},{"$f":"Tabel3[[#This Row],[Petfood]]","v":"-"},{"$f":"Tabel3[[#This Row],[Alcoholic Beverages]]","v":"K"},{"$f":"Tabel3[[#This Row],[Tobacco]]","v":"-"},{"$f":"Tabel3[[#This Row],[Self-care medicines]]","v":"-"},{"$f":"Tabel3[[#This Row],[Special Food]]","v":"N"},{"$f":"Tabel3[[#This Row],[Food Supplements]]","v":"O"},{"$f":"Tabel3[[#This Row],[Healthcare Products]]","v":"-"},{"$f":"Tabel3[[#This Row],[Medical Devices]]","v":"-"},{"$f":"Tabel3[[#This Row],[Batteries]]","v":"-"},{"$f":"Tabel3[[#This Row],[Light Bulbs]]","v":"-"},{"$f":"Tabel3[[#This Row],[Other Categories]]","v":"T"}]
[{"$f":"VLOOKUP(Tabel3[[#This Row],[GAE ID]],'BES EN'!A:AJ,36,FALSE)","v":"Nutrient basis quantity"},{"$f":"Tabel3[[#This Row],[GDSN-naam]]","v":"nutrientBasisQuantity"},{"$f":"Tabel3[[#This Row],[GDM Verplicht / Conditioneel]]","v":"Conditional"},{"$f":"Tabel3[[#This Row],[DMS controle]]","v":"X"},{"$f":"Tabel3[[#This Row],[BMS ID]]","v":1714},{"$f":"Tabel3[[#This Row],[Formaat]]","v":"n..15"},{"$f":"Tabel3[[#This Row],[X Path]]","v":"/catalogue_item_notification:catalogueItemNotificationMessage/transaction/documentCommand/catalogue_item_notification:catalogueItemNotification/catalogueItem/tradeItem/tradeItemInformation/extension/*[namespace-uri()='urn:gs1:gdsn:nutritional_information:xsd:3' and local-name()='nutritionalInformationModule']/nutrientHeader/nutrientBasisQuantity"},{"$f":"Tabel3[[#This Row],[GDM laag]]","v":"Regional EU"},{"$f":"VLOOKUP(Tabel3[[#This Row],[GAE ID]],'BES EN'!A:AJ,27,FALSE)","v":"Mandatory for food, food supplements and specials foods if stated on the packaging."},null,{"$f":"Tabel3[[#This Row],[Dairy, Refrigerated & Frozen]]","v":"A"},{"$f":"Tabel3[[#This Row],[Deli & Prepared]]","v":"B"},{"$f":"Tabel3[[#This Row],[Fresh Meat]]","v":"C"},{"$f":"Tabel3[[#This Row],[Fresh Fish]]","v":"D"},{"$f":"Tabel3[[#This Row],[Fresh Fruits & Vegetables]]","v":"E"},{"$f":"Tabel3[[#This Row],[Grocery]]","v":"F"},{"$f":"Tabel3[[#This Row],[Cleaners]]","v":"-"},{"$f":"Tabel3[[#This Row],[Disposables]]","v":"-"},{"$f":"Tabel3[[#This Row],[Beauty & Personal Care]]","v":"-"},{"$f":"Tabel3[[#This Row],[Petfood]]","v":"-"},{"$f":"Tabel3[[#This Row],[Alcoholic Beverages]]","v":"K"},{"$f":"Tabel3[[#This Row],[Tobacco]]","v":"-"},{"$f":"Tabel3[[#This Row],[Self-care medicines]]","v":"-"},{"$f":"Tabel3[[#This Row],[Special Food]]","v":"N"},{"$f":"Tabel3[[#This Row],[Food Supplements]]","v":"O"},{"$f":"Tabel3[[#This Row],[Healthcare Products]]","v":"-"},{"$f":"Tabel3[[#This Row],[Medical Devices]]","v":"-"},{"$f":"Tabel3[[#This Row],[Batteries]]","v":"-"},{"$f":"Tabel3[[#This Row],[Light Bulbs]]","v":"-"},{"$f":"Tabel3[[#This Row],[Other Categories]]","v":"T"}]
[{"$f":"VLOOKUP(Tabel3[[#This Row],[GAE ID]],'BES EN'!A:AJ,36,FALSE)","v":"Nutrient basis quantity UOM"},{"$f":"Tabel3[[#This Row],[GDSN-naam]]","v":"nutrientBasisQuantity/@measurementUnitCode"},{"$f":"Tabel3[[#This Row],[GDM Verplicht / Conditioneel]]","v":"Conditional"},{"$f":"Tabel3[[#This Row],[DMS controle]]","v":"X"},{"$f":"Tabel3[[#This Row],[BMS ID]]","v":1715},{"$f":"Tabel3[[#This Row],[Formaat]]","v":"Defined values"},{"$f":"Tabel3[[#This Row],[X Path]]","v":"/catalogue_item_notification:catalogueItemNotificationMessage/transaction/documentCommand/catalogue_item_notification:catalogueItemNotification/catalogueItem/tradeItem/tradeItemInformation/extension/*[namespace-uri()='urn:gs1:gdsn:nutritional_information:xsd:3' and local-name()='nutritionalInformationModule']/nutrientHeader/nutrientBasisQuantity/@measurementUnitCode"},{"$f":"Tabel3[[#This Row],[GDM laag]]","v":"Regional EU"},{"$f":"VLOOKUP(Tabel3[[#This Row],[GAE ID]],'BES EN'!A:AJ,27,FALSE)","v":"Mandatory if 'Nutrient basis quantity' is populated"},null,{"$f":"Tabel3[[#This Row],[Dairy, Refrigerated & Frozen]]","v":"A"},{"$f":"Tabel3[[#This Row],[Deli & Prepared]]","v":"B"},{"$f":"Tabel3[[#This Row],[Fresh Meat]]","v":"C"},{"$f":"Tabel3[[#This Row],[Fresh Fish]]","v":"D"},{"$f":"Tabel3[[#This Row],[Fresh Fruits & Vegetables]]","v":"E"},{"$f":"Tabel3[[#This Row],[Grocery]]","v":"F"},{"$f":"Tabel3[[#This Row],[Cleaners]]","v":"-"},{"$f":"Tabel3[[#This Row],[Disposables]]","v":"-"},{"$f":"Tabel3[[#This Row],[Beauty & Personal Care]]","v":"-"},{"$f":"Tabel3[[#This Row],[Petfood]]","v":"-"},{"$f":"Tabel3[[#This Row],[Alcoholic Beverages]]","v":"K"},{"$f":"Tabel3[[#This Row],[Tobacco]]","v":"-"},{"$f":"Tabel3[[#This Row],[Self-care medicines]]","v":"-"},{"$f":"Tabel3[[#This Row],[Special Food]]","v":"N"},{"$f":"Tabel3[[#This Row],[Food Supplements]]","v":"O"},{"$f":"Tabel3[[#This Row],[Healthcare Products]]","v":"-"},{"$f":"Tabel3[[#This Row],[Medical Devices]]","v":"-"},{"$f":"Tabel3[[#This Row],[Batteries]]","v":"-"},{"$f":"Tabel3[[#This Row],[Light Bulbs]]","v":"-"},{"$f":"Tabel3[[#This Row],[Other Categories]]","v":"T"}]
[{"$f":"VLOOKUP(Tabel3[[#This Row],[GAE ID]],'BES EN'!A:AJ,36,FALSE)","v":"Nutrient basis quantity description"},{"$f":"Tabel3[[#This Row],[GDSN-naam]]","v":"nutrientBasisQuantityDescription"},{"$f":"Tabel3[[#This Row],[GDM Verplicht / Conditioneel]]","v":"Conditional"},{"$f":"Tabel3[[#This Row],[DMS controle]]","v":"X"},{"$f":"Tabel3[[#This Row],[BMS ID]]","v":5872},{"$f":"Tabel3[[#This Row],[Formaat]]","v":"an..500"},{"$f":"Tabel3[[#This Row],[X Path]]","v":"/catalogue_item_notification:catalogueItemNotificationMessage/transaction/documentCommand/catalogue_item_notification:catalogueItemNotification/catalogueItem/tradeItem/tradeItemInformation/extension/*[namespace-uri()='urn:gs1:gdsn:nutritional_information:xsd:3' and local-name()='nutritionalInformationModule']/nutrientHeader/nutrientBasisQuantityDescription"},{"$f":"Tabel3[[#This Row],[GDM laag]]","v":"Regional EU"},{"$f":"VLOOKUP(Tabel3[[#This Row],[GAE ID]],'BES EN'!A:AJ,27,FALSE)","v":"Mandatory for food, food supplements and special foods if stated on the packaging."},null,{"$f":"Tabel3[[#This Row],[Dairy, Refrigerated & Frozen]]","v":"A"},{"$f":"Tabel3[[#This Row],[Deli & Prepared]]","v":"B"},{"$f":"Tabel3[[#This Row],[Fresh Meat]]","v":"C"},{"$f":"Tabel3[[#This Row],[Fresh Fish]]","v":"D"},{"$f":"Tabel3[[#This Row],[Fresh Fruits & Vegetables]]","v":"E"},{"$f":"Tabel3[[#This Row],[Grocery]]","v":"F"},{"$f":"Tabel3[[#This Row],[Cleaners]]","v":"-"},{"$f":"Tabel3[[#This Row],[Disposables]]","v":"-"},{"$f":"Tabel3[[#This Row],[Beauty & Personal Care]]","v":"-"},{"$f":"Tabel3[[#This Row],[Petfood]]","v":"-"},{"$f":"Tabel3[[#This Row],[Alcoholic Beverages]]","v":"K"},{"$f":"Tabel3[[#This Row],[Tobacco]]","v":"-"},{"$f":"Tabel3[[#This Row],[Self-care medicines]]","v":"-"},{"$f":"Tabel3[[#This Row],[Special Food]]","v":"N"},{"$f":"Tabel3[[#This Row],[Food Supplements]]","v":"O"},{"$f":"Tabel3[[#This Row],[Healthcare Products]]","v":"-"},{"$f":"Tabel3[[#This Row],[Medical Devices]]","v":"-"},{"$f":"Tabel3[[#This Row],[Batteries]]","v":"-"},{"$f":"Tabel3[[#This Row],[Light Bulbs]]","v":"-"},{"$f":"Tabel3[[#This Row],[Other Categories]]","v":"T"}]
[{"$f":"VLOOKUP(Tabel3[[#This Row],[GAE ID]],'BES EN'!A:AJ,36,FALSE)","v":"Nutrient basis quantity description language code"},{"$f":"Tabel3[[#This Row],[GDSN-naam]]","v":"nutrientBasisQuantityDescription/@languageCode"},{"$f":"Tabel3[[#This Row],[GDM Verplicht / Conditioneel]]","v":"Conditional"},{"$f":"Tabel3[[#This Row],[DMS controle]]","v":"X"},{"$f":"Tabel3[[#This Row],[BMS ID]]","v":5873},{"$f":"Tabel3[[#This Row],[Formaat]]","v":"Defined values"},{"$f":"Tabel3[[#This Row],[X Path]]","v":"/catalogue_item_notification:catalogueItemNotificationMessage/transaction/documentCommand/catalogue_item_notification:catalogueItemNotification/catalogueItem/tradeItem/tradeItemInformation/extension/*[namespace-uri()='urn:gs1:gdsn:nutritional_information:xsd:3' and local-name()='nutritionalInformationModule']/nutrientHeader/nutrientBasisQuantityDescription/@languageCode"},{"$f":"Tabel3[[#This Row],[GDM laag]]","v":"Regional EU"},{"$f":"VLOOKUP(Tabel3[[#This Row],[GAE ID]],'BES EN'!A:AJ,27,FALSE)","v":"Mandatory if 'Nutrient basis quantity description' is populated"},null,{"$f":"Tabel3[[#This Row],[Dairy, Refrigerated & Frozen]]","v":"A"},{"$f":"Tabel3[[#This Row],[Deli & Prepared]]","v":"B"},{"$f":"Tabel3[[#This Row],[Fresh Meat]]","v":"C"},{"$f":"Tabel3[[#This Row],[Fresh Fish]]","v":"D"},{"$f":"Tabel3[[#This Row],[Fresh Fruits & Vegetables]]","v":"E"},{"$f":"Tabel3[[#This Row],[Grocery]]","v":"F"},{"$f":"Tabel3[[#This Row],[Cleaners]]","v":"-"},{"$f":"Tabel3[[#This Row],[Disposables]]","v":"-"},{"$f":"Tabel3[[#This Row],[Beauty & Personal Care]]","v":"-"},{"$f":"Tabel3[[#This Row],[Petfood]]","v":"-"},{"$f":"Tabel3[[#This Row],[Alcoholic Beverages]]","v":"K"},{"$f":"Tabel3[[#This Row],[Tobacco]]","v":"-"},{"$f":"Tabel3[[#This Row],[Self-care medicines]]","v":"-"},{"$f":"Tabel3[[#This Row],[Special Food]]","v":"N"},{"$f":"Tabel3[[#This Row],[Food Supplements]]","v":"O"},{"$f":"Tabel3[[#This Row],[Healthcare Products]]","v":"-"},{"$f":"Tabel3[[#This Row],[Medical Devices]]","v":"-"},{"$f":"Tabel3[[#This Row],[Batteries]]","v":"-"},{"$f":"Tabel3[[#This Row],[Light Bulbs]]","v":"-"},{"$f":"Tabel3[[#This Row],[Other Categories]]","v":"T"}]
["Alcoholic product information",null,{"$f":"Tabel3[[#This Row],[GDM Verplicht / Conditioneel]]","v":0},null,null,null,null,null,null,null,"A","B","C","D","E","F","G","H","I","J","K","L","M","N","O","P","Q","R","S","T"]
[{"$f":"VLOOKUP(Tabel3[[#This Row],[GAE ID]],'BES EN'!A:AJ,36,FALSE)","v":"Percentage of alcohol by volume"},{"$f":"Tabel3[[#This Row],[GDSN-naam]]","v":"percentageOfAlcoholByVolume"},{"$f":"Tabel3[[#This Row],[GDM Verplicht / Conditioneel]]","v":"Conditional"},{"$f":"Tabel3[[#This Row],[DMS controle]]","v":"X"},{"$f":"Tabel3[[#This Row],[BMS ID]]","v":352},{"$f":"Tabel3[[#This Row],[Formaat]]","v":"Decimal"},{"$f":"Tabel3[[#This Row],[X Path]]","v":"/catalogue_item_notification:catalogueItemNotificationMessage/transaction/documentCommand/catalogue_item_notification:catalogueItemNotification/catalogueItem/tradeItem/tradeItemInformation/extension/*[namespace-uri()='urn:gs1:gdsn:alcohol_information:xsd:3' and local-name()='alcoholInformationModule']/alcoholInformation/percentageOfAlcoholByVolume"},{"$f":"Tabel3[[#This Row],[GDM laag]]","v":"Global"},{"$f":"VLOOKUP(Tabel3[[#This Row],[GAE ID]],'BES EN'!A:AJ,27,FALSE)","v":"Mandatory if an alcohol percentage is stated on the packaging/label."},null,{"$f":"Tabel3[[#This Row],[Dairy, Refrigerated & Frozen]]","v":"A"},{"$f":"Tabel3[[#This Row],[Deli & Prepared]]","v":"B"},{"$f":"Tabel3[[#This Row],[Fresh Meat]]","v":"-"},{"$f":"Tabel3[[#This Row],[Fresh Fish]]","v":"-"},{"$f":"Tabel3[[#This Row],[Fresh Fruits & Vegetables]]","v":"-"},{"$f":"Tabel3[[#This Row],[Grocery]]","v":"F"},{"$f":"Tabel3[[#This Row],[Cleaners]]","v":"G"},{"$f":"Tabel3[[#This Row],[Disposables]]","v":"-"},{"$f":"Tabel3[[#This Row],[Beauty & Personal Care]]","v":"I"},{"$f":"Tabel3[[#This Row],[Petfood]]","v":"-"},{"$f":"Tabel3[[#This Row],[Alcoholic Beverages]]","v":"K"},{"$f":"Tabel3[[#This Row],[Tobacco]]","v":"-"},{"$f":"Tabel3[[#This Row],[Self-care medicines]]","v":"M"},{"$f":"Tabel3[[#This Row],[Special Food]]","v":"N"},{"$f":"Tabel3[[#This Row],[Food Supplements]]","v":"O"},{"$f":"Tabel3[[#This Row],[Healthcare Products]]","v":"P"},{"$f":"Tabel3[[#This Row],[Medical Devices]]","v":"Q"},{"$f":"Tabel3[[#This Row],[Batteries]]","v":"-"},{"$f":"Tabel3[[#This Row],[Light Bulbs]]","v":"-"},{"$f":"Tabel3[[#This Row],[Other Categories]]","v":"T"}]
[{"$f":"VLOOKUP(Tabel3[[#This Row],[GAE ID]],'BES EN'!A:AJ,36,FALSE)","v":"Degree of original wort"},{"$f":"Tabel3[[#This Row],[GDSN-naam]]","v":"degreeOfOriginalWort"},{"$f":"Tabel3[[#This Row],[GDM Verplicht / Conditioneel]]","v":"Conditional"},{"$f":"Tabel3[[#This Row],[DMS controle]]","v":0},{"$f":"Tabel3[[#This Row],[BMS ID]]","v":351},{"$f":"Tabel3[[#This Row],[Formaat]]","v":"Decimal"},{"$f":"Tabel3[[#This Row],[X Path]]","v":"/catalogue_item_notification:catalogueItemNotificationMessage/transaction/documentCommand/catalogue_item_notification:catalogueItemNotification/catalogueItem/tradeItem/tradeItemInformation/extension/*[namespace-uri()='urn:gs1:gdsn:alcohol_information:xsd:3' and local-name()='alcoholInformationModule']/alcoholInformation/degreeOfOriginalWort"},{"$f":"Tabel3[[#This Row],[GDM laag]]","v":"Local"},{"$f":"VLOOKUP(Tabel3[[#This Row],[GAE ID]],'BES EN'!A:AJ,27,FALSE)","v":"Mandatory for alcoholic beers"},null,{"$f":"Tabel3[[#This Row],[Dairy, Refrigerated & Frozen]]","v":"A"},{"$f":"Tabel3[[#This Row],[Deli & Prepared]]","v":"B"},{"$f":"Tabel3[[#This Row],[Fresh Meat]]","v":"-"},{"$f":"Tabel3[[#This Row],[Fresh Fish]]","v":"-"},{"$f":"Tabel3[[#This Row],[Fresh Fruits & Vegetables]]","v":"-"},{"$f":"Tabel3[[#This Row],[Grocery]]","v":"-"},{"$f":"Tabel3[[#This Row],[Cleaners]]","v":"-"},{"$f":"Tabel3[[#This Row],[Disposables]]","v":"-"},{"$f":"Tabel3[[#This Row],[Beauty & Personal Care]]","v":"-"},{"$f":"Tabel3[[#This Row],[Petfood]]","v":"-"},{"$f":"Tabel3[[#This Row],[Alcoholic Beverages]]","v":"K"},{"$f":"Tabel3[[#This Row],[Tobacco]]","v":"-"},{"$f":"Tabel3[[#This Row],[Self-care medicines]]","v":"-"},{"$f":"Tabel3[[#This Row],[Special Food]]","v":"-"},{"$f":"Tabel3[[#This Row],[Food Supplements]]","v":"-"},{"$f":"Tabel3[[#This Row],[Healthcare Products]]","v":"-"},{"$f":"Tabel3[[#This Row],[Medical Devices]]","v":"-"},{"$f":"Tabel3[[#This Row],[Batteries]]","v":"-"},{"$f":"Tabel3[[#This Row],[Light Bulbs]]","v":"-"},{"$f":"Tabel3[[#This Row],[Other Categories]]","v":"-"}]
[{"$f":"VLOOKUP(Tabel3[[#This Row],[GAE ID]],'BES EN'!A:AJ,36,FALSE)","v":"Vintage"},{"$f":"Tabel3[[#This Row],[GDSN-naam]]","v":"vintage"},{"$f":"Tabel3[[#This Row],[GDM Verplicht / Conditioneel]]","v":"Conditional"},{"$f":"Tabel3[[#This Row],[DMS controle]]","v":"X"},{"$f":"Tabel3[[#This Row],[BMS ID]]","v":357},{"$f":"Tabel3[[#This Row],[Formaat]]","v":"n4"},{"$f":"Tabel3[[#This Row],[X Path]]","v":"/catalogue_item_notification:catalogueItemNotificationMessage/transaction/documentCommand/catalogue_item_notification:catalogueItemNotification/catalogueItem/tradeItem/tradeItemInformation/extension/*[namespace-uri()='urn:gs1:gdsn:alcohol_information:xsd:3' and local-name()='alcoholInformationModule']/alcoholInformation/vintage"},{"$f":"Tabel3[[#This Row],[GDM laag]]","v":"Regional EU"},{"$f":"VLOOKUP(Tabel3[[#This Row],[GAE ID]],'BES EN'!A:AJ,27,FALSE)","v":"Mandatory for wine if the product vintage year is printed on the product packaging (label)."},null,{"$f":"Tabel3[[#This Row],[Dairy, Refrigerated & Frozen]]","v":"A"},{"$f":"Tabel3[[#This Row],[Deli & Prepared]]","v":"B"},{"$f":"Tabel3[[#This Row],[Fresh Meat]]","v":"-"},{"$f":"Tabel3[[#This Row],[Fresh Fish]]","v":"-"},{"$f":"Tabel3[[#This Row],[Fresh Fruits & Vegetables]]","v":"-"},{"$f":"Tabel3[[#This Row],[Grocery]]","v":"-"},{"$f":"Tabel3[[#This Row],[Cleaners]]","v":"-"},{"$f":"Tabel3[[#This Row],[Disposables]]","v":"-"},{"$f":"Tabel3[[#This Row],[Beauty & Personal Care]]","v":"-"},{"$f":"Tabel3[[#This Row],[Petfood]]","v":"-"},{"$f":"Tabel3[[#This Row],[Alcoholic Beverages]]","v":"K"},{"$f":"Tabel3[[#This Row],[Tobacco]]","v":"-"},{"$f":"Tabel3[[#This Row],[Self-care medicines]]","v":"-"},{"$f":"Tabel3[[#This Row],[Special Food]]","v":"-"},{"$f":"Tabel3[[#This Row],[Food Supplements]]","v":"-"},{"$f":"Tabel3[[#This Row],[Healthcare Products]]","v":"-"},{"$f":"Tabel3[[#This Row],[Medical Devices]]","v":"-"},{"$f":"Tabel3[[#This Row],[Batteries]]","v":"-"},{"$f":"Tabel3[[#This Row],[Light Bulbs]]","v":"-"},{"$f":"Tabel3[[#This Row],[Other Categories]]","v":"-"}]
["Origin information",null,{"$f":"Tabel3[[#This Row],[GDM Verplicht / Conditioneel]]","v":0},"",null,"","",null,null,null,"A","B","C","D","E","F","G","H","I","J","K","L","M","N","O","P","Q","R","S","T"]
[{"$f":"VLOOKUP(Tabel3[[#This Row],[GAE ID]],'BES EN'!A:AJ,36,FALSE)","v":"Provenance statement"},{"$f":"Tabel3[[#This Row],[GDSN-naam]]","v":"provenanceStatement"},{"$f":"Tabel3[[#This Row],[GDM Verplicht / Conditioneel]]","v":"Conditional"},{"$f":"Tabel3[[#This Row],[DMS controle]]","v":"X"},{"$f":"Tabel3[[#This Row],[BMS ID]]","v":2783},{"$f":"Tabel3[[#This Row],[Formaat]]","v":"an..500"},{"$f":"Tabel3[[#This Row],[X Path]]","v":"/catalogue_item_notification:catalogueItemNotificationMessage/transaction/documentCommand/catalogue_item_notification:catalogueItemNotification/catalogueItem/tradeItem/tradeItemInformation/extension/*[namespace-uri()='urn:gs1:gdsn:place_of_item_activity:xsd:3' and local-name()='placeOfItemActivityModule']/placeOfProductActivity/provenanceStatement"},{"$f":"Tabel3[[#This Row],[GDM laag]]","v":"Regional EU"},{"$f":"VLOOKUP(Tabel3[[#This Row],[GAE ID]],'BES EN'!A:AJ,27,FALSE)","v":"Mandatory if stated on the packaging."},null,{"$f":"Tabel3[[#This Row],[Dairy, Refrigerated & Frozen]]","v":"A"},{"$f":"Tabel3[[#This Row],[Deli & Prepared]]","v":"B"},{"$f":"Tabel3[[#This Row],[Fresh Meat]]","v":"C"},{"$f":"Tabel3[[#This Row],[Fresh Fish]]","v":"D"},{"$f":"Tabel3[[#This Row],[Fresh Fruits & Vegetables]]","v":"E"},{"$f":"Tabel3[[#This Row],[Grocery]]","v":"F"},{"$f":"Tabel3[[#This Row],[Cleaners]]","v":"-"},{"$f":"Tabel3[[#This Row],[Disposables]]","v":"-"},{"$f":"Tabel3[[#This Row],[Beauty & Personal Care]]","v":"-"},{"$f":"Tabel3[[#This Row],[Petfood]]","v":"-"},{"$f":"Tabel3[[#This Row],[Alcoholic Beverages]]","v":"K"},{"$f":"Tabel3[[#This Row],[Tobacco]]","v":"-"},{"$f":"Tabel3[[#This Row],[Self-care medicines]]","v":"-"},{"$f":"Tabel3[[#This Row],[Special Food]]","v":"N"},{"$f":"Tabel3[[#This Row],[Food Supplements]]","v":"O"},{"$f":"Tabel3[[#This Row],[Healthcare Products]]","v":"-"},{"$f":"Tabel3[[#This Row],[Medical Devices]]","v":"-"},{"$f":"Tabel3[[#This Row],[Batteries]]","v":"-"},{"$f":"Tabel3[[#This Row],[Light Bulbs]]","v":"-"},{"$f":"Tabel3[[#This Row],[Other Categories]]","v":"T"}]
[{"$f":"VLOOKUP(Tabel3[[#This Row],[GAE ID]],'BES EN'!A:AJ,36,FALSE)","v":"Provenance statement language code"},{"$f":"Tabel3[[#This Row],[GDSN-naam]]","v":"provenanceStatement/@languageCode"},{"$f":"Tabel3[[#This Row],[GDM Verplicht / Conditioneel]]","v":"Conditional"},{"$f":"Tabel3[[#This Row],[DMS controle]]","v":"X"},{"$f":"Tabel3[[#This Row],[BMS ID]]","v":2784},{"$f":"Tabel3[[#This Row],[Formaat]]","v":"Defined values"},{"$f":"Tabel3[[#This Row],[X Path]]","v":"/catalogue_item_notification:catalogueItemNotificationMessage/transaction/documentCommand/catalogue_item_notification:catalogueItemNotification/catalogueItem/tradeItem/tradeItemInformation/extension/*[namespace-uri()='urn:gs1:gdsn:place_of_item_activity:xsd:3' and local-name()='placeOfItemActivityModule']/placeOfProductActivity/provenanceStatement/@languageCode"},{"$f":"Tabel3[[#This Row],[GDM laag]]","v":"Regional EU"},{"$f":"VLOOKUP(Tabel3[[#This Row],[GAE ID]],'BES EN'!A:AJ,27,FALSE)","v":"Mandatory if 'Provenance statement' is populated."},null,{"$f":"Tabel3[[#This Row],[Dairy, Refrigerated & Frozen]]","v":"A"},{"$f":"Tabel3[[#This Row],[Deli & Prepared]]","v":"B"},{"$f":"Tabel3[[#This Row],[Fresh Meat]]","v":"C"},{"$f":"Tabel3[[#This Row],[Fresh Fish]]","v":"D"},{"$f":"Tabel3[[#This Row],[Fresh Fruits & Vegetables]]","v":"E"},{"$f":"Tabel3[[#This Row],[Grocery]]","v":"F"},{"$f":"Tabel3[[#This Row],[Cleaners]]","v":"G"},{"$f":"Tabel3[[#This Row],[Disposables]]","v":"H"},{"$f":"Tabel3[[#This Row],[Beauty & Personal Care]]","v":"I"},{"$f":"Tabel3[[#This Row],[Petfood]]","v":"-"},{"$f":"Tabel3[[#This Row],[Alcoholic Beverages]]","v":"K"},{"$f":"Tabel3[[#This Row],[Tobacco]]","v":"-"},{"$f":"Tabel3[[#This Row],[Self-care medicines]]","v":"-"},{"$f":"Tabel3[[#This Row],[Special Food]]","v":"N"},{"$f":"Tabel3[[#This Row],[Food Supplements]]","v":"O"},{"$f":"Tabel3[[#This Row],[Healthcare Products]]","v":"-"},{"$f":"Tabel3[[#This Row],[Medical Devices]]","v":"-"},{"$f":"Tabel3[[#This Row],[Batteries]]","v":"-"},{"$f":"Tabel3[[#This Row],[Light Bulbs]]","v":"-"},{"$f":"Tabel3[[#This Row],[Other Categories]]","v":"T"}]
[{"$f":"VLOOKUP(Tabel3[[#This Row],[GAE ID]],'BES EN'!A:AJ,36,FALSE)","v":"Catch area code"},{"$f":"Tabel3[[#This Row],[GDSN-naam]]","v":"catchAreaCode"},{"$f":"Tabel3[[#This Row],[GDM Verplicht / Conditioneel]]","v":"Conditional"},{"$f":"Tabel3[[#This Row],[DMS controle]]","v":"X"},{"$f":"Tabel3[[#This Row],[BMS ID]]","v":6147},{"$f":"Tabel3[[#This Row],[Formaat]]","v":"Defined values"},{"$f":"Tabel3[[#This Row],[X Path]]","v":"/catalogue_item_notification:catalogueItemNotificationMessage/transaction/documentCommand/catalogue_item_notification:catalogueItemNotification/catalogueItem/tradeItem/tradeItemInformation/extension/*[namespace-uri()='urn:gs1:gdsn:dairy_fish_meat_poultry:xsd:3' and local-name()='dairyFishMeatPoultryItemModule']/dairyFishMeatPoultryInformation/fishReportingInformation/fishCatchInformation/catchAreaCode"},{"$f":"Tabel3[[#This Row],[GDM laag]]","v":"Regional EU"},{"$f":"VLOOKUP(Tabel3[[#This Row],[GAE ID]],'BES EN'!A:AJ,27,FALSE)","v":"Mandatory for fish, if the catch area is listed on the packaging, with the exception of farmed fish and cultured shellfish and crustaceans."},null,{"$f":"Tabel3[[#This Row],[Dairy, Refrigerated & Frozen]]","v":"A"},{"$f":"Tabel3[[#This Row],[Deli & Prepared]]","v":"B"},{"$f":"Tabel3[[#This Row],[Fresh Meat]]","v":"-"},{"$f":"Tabel3[[#This Row],[Fresh Fish]]","v":"D"},{"$f":"Tabel3[[#This Row],[Fresh Fruits & Vegetables]]","v":"-"},{"$f":"Tabel3[[#This Row],[Grocery]]","v":"F"},{"$f":"Tabel3[[#This Row],[Cleaners]]","v":"-"},{"$f":"Tabel3[[#This Row],[Disposables]]","v":"-"},{"$f":"Tabel3[[#This Row],[Beauty & Personal Care]]","v":"-"},{"$f":"Tabel3[[#This Row],[Petfood]]","v":"-"},{"$f":"Tabel3[[#This Row],[Alcoholic Beverages]]","v":"-"},{"$f":"Tabel3[[#This Row],[Tobacco]]","v":"-"},{"$f":"Tabel3[[#This Row],[Self-care medicines]]","v":"-"},{"$f":"Tabel3[[#This Row],[Special Food]]","v":"-"},{"$f":"Tabel3[[#This Row],[Food Supplements]]","v":"-"},{"$f":"Tabel3[[#This Row],[Healthcare Products]]","v":"-"},{"$f":"Tabel3[[#This Row],[Medical Devices]]","v":"-"},{"$f":"Tabel3[[#This Row],[Batteries]]","v":"-"},{"$f":"Tabel3[[#This Row],[Light Bulbs]]","v":"-"},{"$f":"Tabel3[[#This Row],[Other Categories]]","v":"-"}]
[{"$f":"VLOOKUP(Tabel3[[#This Row],[GAE ID]],'BES EN'!A:AJ,36,FALSE)","v":"Fish scientific name"},{"$f":"Tabel3[[#This Row],[GDSN-naam]]","v":"speciesForFisheryStatisticsPurposesName"},{"$f":"Tabel3[[#This Row],[GDM Verplicht / Conditioneel]]","v":"Conditional"},{"$f":"Tabel3[[#This Row],[DMS controle]]","v":"X"},{"$f":"Tabel3[[#This Row],[BMS ID]]","v":912},{"$f":"Tabel3[[#This Row],[Formaat]]","v":"an..500"},{"$f":"Tabel3[[#This Row],[X Path]]","v":"/catalogue_item_notification:catalogueItemNotificationMessage/transaction/documentCommand/catalogue_item_notification:catalogueItemNotification/catalogueItem/tradeItem/tradeItemInformation/extension/*[namespace-uri()='urn:gs1:gdsn:dairy_fish_meat_poultry:xsd:3' and local-name()='dairyFishMeatPoultryItemModule']/dairyFishMeatPoultryInformation/fishReportingInformation/speciesForFisheryStatisticsPurposesName"},{"$f":"Tabel3[[#This Row],[GDM laag]]","v":"Regional EU"},{"$f":"VLOOKUP(Tabel3[[#This Row],[GAE ID]],'BES EN'!A:AJ,27,FALSE)","v":"Mandatory for fish and seafood if stated on the label."},null,{"$f":"Tabel3[[#This Row],[Dairy, Refrigerated & Frozen]]","v":"A"},{"$f":"Tabel3[[#This Row],[Deli & Prepared]]","v":"B"},{"$f":"Tabel3[[#This Row],[Fresh Meat]]","v":"-"},{"$f":"Tabel3[[#This Row],[Fresh Fish]]","v":"D"},{"$f":"Tabel3[[#This Row],[Fresh Fruits & Vegetables]]","v":"-"},{"$f":"Tabel3[[#This Row],[Grocery]]","v":"F"},{"$f":"Tabel3[[#This Row],[Cleaners]]","v":"-"},{"$f":"Tabel3[[#This Row],[Disposables]]","v":"-"},{"$f":"Tabel3[[#This Row],[Beauty & Personal Care]]","v":"-"},{"$f":"Tabel3[[#This Row],[Petfood]]","v":"-"},{"$f":"Tabel3[[#This Row],[Alcoholic Beverages]]","v":"-"},{"$f":"Tabel3[[#This Row],[Tobacco]]","v":"-"},{"$f":"Tabel3[[#This Row],[Self-care medicines]]","v":"-"},{"$f":"Tabel3[[#This Row],[Special Food]]","v":"-"},{"$f":"Tabel3[[#This Row],[Food Supplements]]","v":"-"},{"$f":"Tabel3[[#This Row],[Healthcare Products]]","v":"-"},{"$f":"Tabel3[[#This Row],[Medical Devices]]","v":"-"},{"$f":"Tabel3[[#This Row],[Batteries]]","v":"-"},{"$f":"Tabel3[[#This Row],[Light Bulbs]]","v":"-"},{"$f":"Tabel3[[#This Row],[Other Categories]]","v":"-"}]
[{"$f":"VLOOKUP(Tabel3[[#This Row],[GAE ID]],'BES EN'!A:AJ,36,FALSE)","v":"Fish storage state code"},{"$f":"Tabel3[[#This Row],[GDSN-naam]]","v":"storageStateCode"},{"$f":"Tabel3[[#This Row],[GDM Verplicht / Conditioneel]]","v":"Conditional"},{"$f":"Tabel3[[#This Row],[DMS controle]]","v":"X"},{"$f":"Tabel3[[#This Row],[BMS ID]]","v":916},{"$f":"Tabel3[[#This Row],[Formaat]]","v":"Defined values"},{"$f":"Tabel3[[#This Row],[X Path]]","v":"/catalogue_item_notification:catalogueItemNotificationMessage/transaction/documentCommand/catalogue_item_notification:catalogueItemNotification/catalogueItem/tradeItem/tradeItemInformation/extension/*[namespace-uri()='urn:gs1:gdsn:dairy_fish_meat_poultry:xsd:3' and local-name()='dairyFishMeatPoultryItemModule']/dairyFishMeatPoultryInformation/fishReportingInformation/fishCatchInformation/storageStateCode"},{"$f":"Tabel3[[#This Row],[GDM laag]]","v":"Regional EU"},{"$f":"VLOOKUP(Tabel3[[#This Row],[GAE ID]],'BES EN'!A:AJ,27,FALSE)","v":"Mandatory if a product contains fish (according to the EU regulation 1379/2013) and if stated on the label."},null,{"$f":"Tabel3[[#This Row],[Dairy, Refrigerated & Frozen]]","v":"A"},{"$f":"Tabel3[[#This Row],[Deli & Prepared]]","v":"B"},{"$f":"Tabel3[[#This Row],[Fresh Meat]]","v":"-"},{"$f":"Tabel3[[#This Row],[Fresh Fish]]","v":"D"},{"$f":"Tabel3[[#This Row],[Fresh Fruits & Vegetables]]","v":"-"},{"$f":"Tabel3[[#This Row],[Grocery]]","v":"F"},{"$f":"Tabel3[[#This Row],[Cleaners]]","v":"-"},{"$f":"Tabel3[[#This Row],[Disposables]]","v":"-"},{"$f":"Tabel3[[#This Row],[Beauty & Personal Care]]","v":"-"},{"$f":"Tabel3[[#This Row],[Petfood]]","v":"-"},{"$f":"Tabel3[[#This Row],[Alcoholic Beverages]]","v":"-"},{"$f":"Tabel3[[#This Row],[Tobacco]]","v":"-"},{"$f":"Tabel3[[#This Row],[Self-care medicines]]","v":"-"},{"$f":"Tabel3[[#This Row],[Special Food]]","v":"-"},{"$f":"Tabel3[[#This Row],[Food Supplements]]","v":"-"},{"$f":"Tabel3[[#This Row],[Healthcare Products]]","v":"-"},{"$f":"Tabel3[[#This Row],[Medical Devices]]","v":"-"},{"$f":"Tabel3[[#This Row],[Batteries]]","v":"-"},{"$f":"Tabel3[[#This Row],[Light Bulbs]]","v":"-"},{"$f":"Tabel3[[#This Row],[Other Categories]]","v":"-"}]
[{"$f":"VLOOKUP(Tabel3[[#This Row],[GAE ID]],'BES EN'!A:AJ,36,FALSE)","v":"Catch method code"},{"$f":"Tabel3[[#This Row],[GDSN-naam]]","v":"catchMethodCode"},{"$f":"Tabel3[[#This Row],[GDM Verplicht / Conditioneel]]","v":"Conditional"},{"$f":"Tabel3[[#This Row],[DMS controle]]","v":"X"},{"$f":"Tabel3[[#This Row],[BMS ID]]","v":914},{"$f":"Tabel3[[#This Row],[Formaat]]","v":"Defined values"},{"$f":"Tabel3[[#This Row],[X Path]]","v":"/catalogue_item_notification:catalogueItemNotificationMessage/transaction/documentCommand/catalogue_item_notification:catalogueItemNotification/catalogueItem/tradeItem/tradeItemInformation/extension/*[namespace-uri()='urn:gs1:gdsn:dairy_fish_meat_poultry:xsd:3' and local-name()='dairyFishMeatPoultryItemModule']/dairyFishMeatPoultryInformation/fishReportingInformation/fishCatchInformation/catchMethodCode"},{"$f":"Tabel3[[#This Row],[GDM laag]]","v":"Regional EU"},{"$f":"VLOOKUP(Tabel3[[#This Row],[GAE ID]],'BES EN'!A:AJ,27,FALSE)","v":"Mandatory for fish, if the catch method is listed on the packaging, except for farmed fish and cultured shellfish and crustaceans."},null,{"$f":"Tabel3[[#This Row],[Dairy, Refrigerated & Frozen]]","v":"A"},{"$f":"Tabel3[[#This Row],[Deli & Prepared]]","v":"B"},{"$f":"Tabel3[[#This Row],[Fresh Meat]]","v":"-"},{"$f":"Tabel3[[#This Row],[Fresh Fish]]","v":"D"},{"$f":"Tabel3[[#This Row],[Fresh Fruits & Vegetables]]","v":"-"},{"$f":"Tabel3[[#This Row],[Grocery]]","v":"F"},{"$f":"Tabel3[[#This Row],[Cleaners]]","v":"-"},{"$f":"Tabel3[[#This Row],[Disposables]]","v":"-"},{"$f":"Tabel3[[#This Row],[Beauty & Personal Care]]","v":"-"},{"$f":"Tabel3[[#This Row],[Petfood]]","v":"-"},{"$f":"Tabel3[[#This Row],[Alcoholic Beverages]]","v":"-"},{"$f":"Tabel3[[#This Row],[Tobacco]]","v":"-"},{"$f":"Tabel3[[#This Row],[Self-care medicines]]","v":"-"},{"$f":"Tabel3[[#This Row],[Special Food]]","v":"-"},{"$f":"Tabel3[[#This Row],[Food Supplements]]","v":"-"},{"$f":"Tabel3[[#This Row],[Healthcare Products]]","v":"-"},{"$f":"Tabel3[[#This Row],[Medical Devices]]","v":"-"},{"$f":"Tabel3[[#This Row],[Batteries]]","v":"-"},{"$f":"Tabel3[[#This Row],[Light Bulbs]]","v":"-"},{"$f":"Tabel3[[#This Row],[Other Categories]]","v":"-"}]
[{"$f":"VLOOKUP(Tabel3[[#This Row],[GAE ID]],'BES EN'!A:AJ,36,FALSE)","v":"Production method for fish and seafood code"},{"$f":"Tabel3[[#This Row],[GDSN-naam]]","v":"productionMethodForFishAndSeaFoodCode"},{"$f":"Tabel3[[#This Row],[GDM Verplicht / Conditioneel]]","v":"Conditional"},{"$f":"Tabel3[[#This Row],[DMS controle]]","v":0},{"$f":"Tabel3[[#This Row],[BMS ID]]","v":915},{"$f":"Tabel3[[#This Row],[Formaat]]","v":"Defined values"},{"$f":"Tabel3[[#This Row],[X Path]]","v":"/catalogue_item_notification:catalogueItemNotificationMessage/transaction/documentCommand/catalogue_item_notification:catalogueItemNotification/catalogueItem/tradeItem/tradeItemInformation/extension/*[namespace-uri()='urn:gs1:gdsn:dairy_fish_meat_poultry:xsd:3' and local-name()='dairyFishMeatPoultryItemModule']/dairyFishMeatPoultryInformation/fishReportingInformation/fishCatchInformation/productionMethodForFishAndSeaFoodCode"},{"$f":"Tabel3[[#This Row],[GDM laag]]","v":"Regional EU"},{"$f":"VLOOKUP(Tabel3[[#This Row],[GAE ID]],'BES EN'!A:AJ,27,FALSE)","v":"Mandatory for fish and seafood"},null,{"$f":"Tabel3[[#This Row],[Dairy, Refrigerated & Frozen]]","v":"A"},{"$f":"Tabel3[[#This Row],[Deli & Prepared]]","v":"B"},{"$f":"Tabel3[[#This Row],[Fresh Meat]]","v":"-"},{"$f":"Tabel3[[#This Row],[Fresh Fish]]","v":"D"},{"$f":"Tabel3[[#This Row],[Fresh Fruits & Vegetables]]","v":"-"},{"$f":"Tabel3[[#This Row],[Grocery]]","v":"F"},{"$f":"Tabel3[[#This Row],[Cleaners]]","v":"-"},{"$f":"Tabel3[[#This Row],[Disposables]]","v":"-"},{"$f":"Tabel3[[#This Row],[Beauty & Personal Care]]","v":"-"},{"$f":"Tabel3[[#This Row],[Petfood]]","v":"-"},{"$f":"Tabel3[[#This Row],[Alcoholic Beverages]]","v":"-"},{"$f":"Tabel3[[#This Row],[Tobacco]]","v":"-"},{"$f":"Tabel3[[#This Row],[Self-care medicines]]","v":"-"},{"$f":"Tabel3[[#This Row],[Special Food]]","v":"-"},{"$f":"Tabel3[[#This Row],[Food Supplements]]","v":"-"},{"$f":"Tabel3[[#This Row],[Healthcare Products]]","v":"-"},{"$f":"Tabel3[[#This Row],[Medical Devices]]","v":"-"},{"$f":"Tabel3[[#This Row],[Batteries]]","v":"-"},{"$f":"Tabel3[[#This Row],[Light Bulbs]]","v":"-"},{"$f":"Tabel3[[#This Row],[Other Categories]]","v":"-"}]
["Preparation and usage information",null,{"$f":"Tabel3[[#This Row],[GDM Verplicht / Conditioneel]]","v":0},null,null,null,null,null,null,null,"A","B","C","D","E","F","G","H","I","J","K","L","M","N","O","P","Q","R","S","T"]
[{"$f":"VLOOKUP(Tabel3[[#This Row],[GAE ID]],'BES EN'!A:AJ,36,FALSE)","v":"Preparation instructions"},{"$f":"Tabel3[[#This Row],[GDSN-naam]]","v":"preparationInstructions"},{"$f":"Tabel3[[#This Row],[GDM Verplicht / Conditioneel]]","v":"Conditional"},{"$f":"Tabel3[[#This Row],[DMS controle]]","v":"X"},{"$f":"Tabel3[[#This Row],[BMS ID]]","v":1377},{"$f":"Tabel3[[#This Row],[Formaat]]","v":"an..2500"},{"$f":"Tabel3[[#This Row],[X Path]]","v":"/catalogue_item_notification:catalogueItemNotificationMessage/transaction/documentCommand/catalogue_item_notification:catalogueItemNotification/catalogueItem/tradeItem/tradeItemInformation/extension/*[namespace-uri()='urn:gs1:gdsn:food_and_beverage_preparation_serving:xsd:3' and local-name()='foodAndBeveragePreparationServingModule']/preparationServing/preparationInstructions"},{"$f":"Tabel3[[#This Row],[GDM laag]]","v":"Global"},{"$f":"VLOOKUP(Tabel3[[#This Row],[GAE ID]],'BES EN'!A:AJ,27,FALSE)","v":"Mandatory if the product packaging (label) contains the instructions on how to prepare the product for consumption."},null,{"$f":"Tabel3[[#This Row],[Dairy, Refrigerated & Frozen]]","v":"A"},{"$f":"Tabel3[[#This Row],[Deli & Prepared]]","v":"B"},{"$f":"Tabel3[[#This Row],[Fresh Meat]]","v":"C"},{"$f":"Tabel3[[#This Row],[Fresh Fish]]","v":"D"},{"$f":"Tabel3[[#This Row],[Fresh Fruits & Vegetables]]","v":"E"},{"$f":"Tabel3[[#This Row],[Grocery]]","v":"F"},{"$f":"Tabel3[[#This Row],[Cleaners]]","v":"-"},{"$f":"Tabel3[[#This Row],[Disposables]]","v":"-"},{"$f":"Tabel3[[#This Row],[Beauty & Personal Care]]","v":"-"},{"$f":"Tabel3[[#This Row],[Petfood]]","v":"-"},{"$f":"Tabel3[[#This Row],[Alcoholic Beverages]]","v":"-"},{"$f":"Tabel3[[#This Row],[Tobacco]]","v":"-"},{"$f":"Tabel3[[#This Row],[Self-care medicines]]","v":"-"},{"$f":"Tabel3[[#This Row],[Special Food]]","v":"N"},{"$f":"Tabel3[[#This Row],[Food Supplements]]","v":"-"},{"$f":"Tabel3[[#This Row],[Healthcare Products]]","v":"-"},{"$f":"Tabel3[[#This Row],[Medical Devices]]","v":"-"},{"$f":"Tabel3[[#This Row],[Batteries]]","v":"-"},{"$f":"Tabel3[[#This Row],[Light Bulbs]]","v":"-"},{"$f":"Tabel3[[#This Row],[Other Categories]]","v":"T"}]
[{"$f":"VLOOKUP(Tabel3[[#This Row],[GAE ID]],'BES EN'!A:AJ,36,FALSE)","v":"Preparation instructions language code"},{"$f":"Tabel3[[#This Row],[GDSN-naam]]","v":"preparationInstructions/@languageCode"},{"$f":"Tabel3[[#This Row],[GDM Verplicht / Conditioneel]]","v":"Conditional"},{"$f":"Tabel3[[#This Row],[DMS controle]]","v":"X"},{"$f":"Tabel3[[#This Row],[BMS ID]]","v":1378},{"$f":"Tabel3[[#This Row],[Formaat]]","v":"Defined values"},{"$f":"Tabel3[[#This Row],[X Path]]","v":"/catalogue_item_notification:catalogueItemNotificationMessage/transaction/documentCommand/catalogue_item_notification:catalogueItemNotification/catalogueItem/tradeItem/tradeItemInformation/extension/*[namespace-uri()='urn:gs1:gdsn:food_and_beverage_preparation_serving:xsd:3' and local-name()='foodAndBeveragePreparationServingModule']/preparationServing/preparationInstructions/@languageCode"},{"$f":"Tabel3[[#This Row],[GDM laag]]","v":"Global"},{"$f":"VLOOKUP(Tabel3[[#This Row],[GAE ID]],'BES EN'!A:AJ,27,FALSE)","v":"Mandatory if 'Preparation instructions' is populated."},null,{"$f":"Tabel3[[#This Row],[Dairy, Refrigerated & Frozen]]","v":"A"},{"$f":"Tabel3[[#This Row],[Deli & Prepared]]","v":"B"},{"$f":"Tabel3[[#This Row],[Fresh Meat]]","v":"C"},{"$f":"Tabel3[[#This Row],[Fresh Fish]]","v":"D"},{"$f":"Tabel3[[#This Row],[Fresh Fruits & Vegetables]]","v":"E"},{"$f":"Tabel3[[#This Row],[Grocery]]","v":"F"},{"$f":"Tabel3[[#This Row],[Cleaners]]","v":"-"},{"$f":"Tabel3[[#This Row],[Disposables]]","v":"-"},{"$f":"Tabel3[[#This Row],[Beauty & Personal Care]]","v":"-"},{"$f":"Tabel3[[#This Row],[Petfood]]","v":"-"},{"$f":"Tabel3[[#This Row],[Alcoholic Beverages]]","v":"-"},{"$f":"Tabel3[[#This Row],[Tobacco]]","v":"-"},{"$f":"Tabel3[[#This Row],[Self-care medicines]]","v":"-"},{"$f":"Tabel3[[#This Row],[Special Food]]","v":"N"},{"$f":"Tabel3[[#This Row],[Food Supplements]]","v":"-"},{"$f":"Tabel3[[#This Row],[Healthcare Products]]","v":"-"},{"$f":"Tabel3[[#This Row],[Medical Devices]]","v":"-"},{"$f":"Tabel3[[#This Row],[Batteries]]","v":"-"},{"$f":"Tabel3[[#This Row],[Light Bulbs]]","v":"-"},{"$f":"Tabel3[[#This Row],[Other Categories]]","v":"T"}]
[{"$f":"VLOOKUP(Tabel3[[#This Row],[GAE ID]],'BES EN'!A:AJ,36,FALSE)","v":"Preparation type code"},{"$f":"Tabel3[[#This Row],[GDSN-naam]]","v":"preparationTypeCode"},{"$f":"Tabel3[[#This Row],[GDM Verplicht / Conditioneel]]","v":"Conditional"},{"$f":"Tabel3[[#This Row],[DMS controle]]","v":"X"},{"$f":"Tabel3[[#This Row],[BMS ID]]","v":1379},{"$f":"Tabel3[[#This Row],[Formaat]]","v":"Defined values"},{"$f":"Tabel3[[#This Row],[X Path]]","v":"/catalogue_item_notification:catalogueItemNotificationMessage/transaction/documentCommand/catalogue_item_notification:catalogueItemNotification/catalogueItem/tradeItem/tradeItemInformation/extension/*[namespace-uri()='urn:gs1:gdsn:food_and_beverage_preparation_serving:xsd:3' and local-name()='foodAndBeveragePreparationServingModule']/preparationServing/preparationTypeCode"},{"$f":"Tabel3[[#This Row],[GDM laag]]","v":"Global"},{"$f":"VLOOKUP(Tabel3[[#This Row],[GAE ID]],'BES EN'!A:AJ,27,FALSE)","v":"Mandatory if the preparation method is stated on the package."},null,{"$f":"Tabel3[[#This Row],[Dairy, Refrigerated & Frozen]]","v":"A"},{"$f":"Tabel3[[#This Row],[Deli & Prepared]]","v":"B"},{"$f":"Tabel3[[#This Row],[Fresh Meat]]","v":"C"},{"$f":"Tabel3[[#This Row],[Fresh Fish]]","v":"D"},{"$f":"Tabel3[[#This Row],[Fresh Fruits & Vegetables]]","v":"E"},{"$f":"Tabel3[[#This Row],[Grocery]]","v":"F"},{"$f":"Tabel3[[#This Row],[Cleaners]]","v":"-"},{"$f":"Tabel3[[#This Row],[Disposables]]","v":"-"},{"$f":"Tabel3[[#This Row],[Beauty & Personal Care]]","v":"-"},{"$f":"Tabel3[[#This Row],[Petfood]]","v":"-"},{"$f":"Tabel3[[#This Row],[Alcoholic Beverages]]","v":"-"},{"$f":"Tabel3[[#This Row],[Tobacco]]","v":"-"},{"$f":"Tabel3[[#This Row],[Self-care medicines]]","v":"-"},{"$f":"Tabel3[[#This Row],[Special Food]]","v":"N"},{"$f":"Tabel3[[#This Row],[Food Supplements]]","v":"-"},{"$f":"Tabel3[[#This Row],[Healthcare Products]]","v":"-"},{"$f":"Tabel3[[#This Row],[Medical Devices]]","v":"-"},{"$f":"Tabel3[[#This Row],[Batteries]]","v":"-"},{"$f":"Tabel3[[#This Row],[Light Bulbs]]","v":"-"},{"$f":"Tabel3[[#This Row],[Other Categories]]","v":"T"}]
[{"$f":"VLOOKUP(Tabel3[[#This Row],[GAE ID]],'BES EN'!A:AJ,36,FALSE)","v":"Target consumer age"},{"$f":"Tabel3[[#This Row],[GDSN-naam]]","v":"targetConsumerAge"},{"$f":"Tabel3[[#This Row],[GDM Verplicht / Conditioneel]]","v":"Conditional"},{"$f":"Tabel3[[#This Row],[DMS controle]]","v":"X"},{"$f":"Tabel3[[#This Row],[BMS ID]]","v":1558},{"$f":"Tabel3[[#This Row],[Formaat]]","v":"an..500"},{"$f":"Tabel3[[#This Row],[X Path]]","v":"/catalogue_item_notification:catalogueItemNotificationMessage/transaction/documentCommand/catalogue_item_notification:catalogueItemNotification/catalogueItem/tradeItem/tradeItemInformation/extension/*[namespace-uri()='urn:gs1:gdsn:marketing_information:xsd:3' and local-name()='marketingInformationModule']/marketingInformation/targetConsumer/targetConsumerAge"},{"$f":"Tabel3[[#This Row],[GDM laag]]","v":"Global"},{"$f":"VLOOKUP(Tabel3[[#This Row],[GAE ID]],'BES EN'!A:AJ,27,FALSE)","v":"Mandatory if the targeted age or age range is on the label."},null,{"$f":"Tabel3[[#This Row],[Dairy, Refrigerated & Frozen]]","v":"A"},{"$f":"Tabel3[[#This Row],[Deli & Prepared]]","v":"B"},{"$f":"Tabel3[[#This Row],[Fresh Meat]]","v":"C"},{"$f":"Tabel3[[#This Row],[Fresh Fish]]","v":"D"},{"$f":"Tabel3[[#This Row],[Fresh Fruits & Vegetables]]","v":"E"},{"$f":"Tabel3[[#This Row],[Grocery]]","v":"F"},{"$f":"Tabel3[[#This Row],[Cleaners]]","v":"-"},{"$f":"Tabel3[[#This Row],[Disposables]]","v":"-"},{"$f":"Tabel3[[#This Row],[Beauty & Personal Care]]","v":"I"},{"$f":"Tabel3[[#This Row],[Petfood]]","v":"-"},{"$f":"Tabel3[[#This Row],[Alcoholic Beverages]]","v":"-"},{"$f":"Tabel3[[#This Row],[Tobacco]]","v":"-"},{"$f":"Tabel3[[#This Row],[Self-care medicines]]","v":"M"},{"$f":"Tabel3[[#This Row],[Special Food]]","v":"N"},{"$f":"Tabel3[[#This Row],[Food Supplements]]","v":"O"},{"$f":"Tabel3[[#This Row],[Healthcare Products]]","v":"P"},{"$f":"Tabel3[[#This Row],[Medical Devices]]","v":"Q"},{"$f":"Tabel3[[#This Row],[Batteries]]","v":"-"},{"$f":"Tabel3[[#This Row],[Light Bulbs]]","v":"-"},{"$f":"Tabel3[[#This Row],[Other Categories]]","v":"T"}]
[{"$f":"VLOOKUP(Tabel3[[#This Row],[GAE ID]],'BES EN'!A:AJ,36,FALSE)","v":"Target consumer age language code"},{"$f":"Tabel3[[#This Row],[GDSN-naam]]","v":"targetConsumerAge/@languageCode"},{"$f":"Tabel3[[#This Row],[GDM Verplicht / Conditioneel]]","v":"Conditional"},{"$f":"Tabel3[[#This Row],[DMS controle]]","v":"X"},{"$f":"Tabel3[[#This Row],[BMS ID]]","v":1559},{"$f":"Tabel3[[#This Row],[Formaat]]","v":"Defined values"},{"$f":"Tabel3[[#This Row],[X Path]]","v":"/catalogue_item_notification:catalogueItemNotificationMessage/transaction/documentCommand/catalogue_item_notification:catalogueItemNotification/catalogueItem/tradeItem/tradeItemInformation/extension/*[namespace-uri()='urn:gs1:gdsn:marketing_information:xsd:3' and local-name()='marketingInformationModule']/marketingInformation/targetConsumer/targetConsumerAge/@languageCode"},{"$f":"Tabel3[[#This Row],[GDM laag]]","v":"Global"},{"$f":"VLOOKUP(Tabel3[[#This Row],[GAE ID]],'BES EN'!A:AJ,27,FALSE)","v":"Mandatory if ‘Target consumer age’ is populated."},null,{"$f":"Tabel3[[#This Row],[Dairy, Refrigerated & Frozen]]","v":"A"},{"$f":"Tabel3[[#This Row],[Deli & Prepared]]","v":"B"},{"$f":"Tabel3[[#This Row],[Fresh Meat]]","v":"C"},{"$f":"Tabel3[[#This Row],[Fresh Fish]]","v":"D"},{"$f":"Tabel3[[#This Row],[Fresh Fruits & Vegetables]]","v":"E"},{"$f":"Tabel3[[#This Row],[Grocery]]","v":"F"},{"$f":"Tabel3[[#This Row],[Cleaners]]","v":"-"},{"$f":"Tabel3[[#This Row],[Disposables]]","v":"-"},{"$f":"Tabel3[[#This Row],[Beauty & Personal Care]]","v":"I"},{"$f":"Tabel3[[#This Row],[Petfood]]","v":"-"},{"$f":"Tabel3[[#This Row],[Alcoholic Beverages]]","v":"-"},{"$f":"Tabel3[[#This Row],[Tobacco]]","v":"-"},{"$f":"Tabel3[[#This Row],[Self-care medicines]]","v":"M"},{"$f":"Tabel3[[#This Row],[Special Food]]","v":"N"},{"$f":"Tabel3[[#This Row],[Food Supplements]]","v":"O"},{"$f":"Tabel3[[#This Row],[Healthcare Products]]","v":"P"},{"$f":"Tabel3[[#This Row],[Medical Devices]]","v":"Q"},{"$f":"Tabel3[[#This Row],[Batteries]]","v":"-"},{"$f":"Tabel3[[#This Row],[Light Bulbs]]","v":"-"},{"$f":"Tabel3[[#This Row],[Other Categories]]","v":"T"}]
[{"$f":"VLOOKUP(Tabel3[[#This Row],[GAE ID]],'BES EN'!A:AJ,36,FALSE)","v":"Consumer usage instructions"},{"$f":"Tabel3[[#This Row],[GDSN-naam]]","v":"consumerUsageInstructions"},{"$f":"Tabel3[[#This Row],[GDM Verplicht / Conditioneel]]","v":"Conditional"},{"$f":"Tabel3[[#This Row],[DMS controle]]","v":"X"},{"$f":"Tabel3[[#This Row],[BMS ID]]","v":791},{"$f":"Tabel3[[#This Row],[Formaat]]","v":"an..5000"},{"$f":"Tabel3[[#This Row],[X Path]]","v":"/catalogue_item_notification:catalogueItemNotificationMessage/transaction/documentCommand/catalogue_item_notification:catalogueItemNotification/catalogueItem/tradeItem/tradeItemInformation/extension/*[namespace-uri()='urn:gs1:gdsn:consumer_instructions:xsd:3' and local-name()='consumerInstructionsModule']/consumerInstructions/consumerUsageInstructions"},{"$f":"Tabel3[[#This Row],[GDM laag]]","v":"Global"},{"$f":"VLOOKUP(Tabel3[[#This Row],[GAE ID]],'BES EN'!A:AJ,27,FALSE)","v":"Mandatory If on the label: for food, food supplements, special foods, self-care medicines, healthcare products, cosmetics and personal care products, pet food, laundry detergents and biocides."},null,{"$f":"Tabel3[[#This Row],[Dairy, Refrigerated & Frozen]]","v":"A"},{"$f":"Tabel3[[#This Row],[Deli & Prepared]]","v":"B"},{"$f":"Tabel3[[#This Row],[Fresh Meat]]","v":"C"},{"$f":"Tabel3[[#This Row],[Fresh Fish]]","v":"D"},{"$f":"Tabel3[[#This Row],[Fresh Fruits & Vegetables]]","v":"E"},{"$f":"Tabel3[[#This Row],[Grocery]]","v":"F"},{"$f":"Tabel3[[#This Row],[Cleaners]]","v":"G"},{"$f":"Tabel3[[#This Row],[Disposables]]","v":"H"},{"$f":"Tabel3[[#This Row],[Beauty & Personal Care]]","v":"I"},{"$f":"Tabel3[[#This Row],[Petfood]]","v":"J"},{"$f":"Tabel3[[#This Row],[Alcoholic Beverages]]","v":"K"},{"$f":"Tabel3[[#This Row],[Tobacco]]","v":"L"},{"$f":"Tabel3[[#This Row],[Self-care medicines]]","v":"M"},{"$f":"Tabel3[[#This Row],[Special Food]]","v":"N"},{"$f":"Tabel3[[#This Row],[Food Supplements]]","v":"O"},{"$f":"Tabel3[[#This Row],[Healthcare Products]]","v":"P"},{"$f":"Tabel3[[#This Row],[Medical Devices]]","v":"-"},{"$f":"Tabel3[[#This Row],[Batteries]]","v":"-"},{"$f":"Tabel3[[#This Row],[Light Bulbs]]","v":"-"},{"$f":"Tabel3[[#This Row],[Other Categories]]","v":"T"}]
[{"$f":"VLOOKUP(Tabel3[[#This Row],[GAE ID]],'BES EN'!A:AJ,36,FALSE)","v":"Consumer usage instructions language code"},{"$f":"Tabel3[[#This Row],[GDSN-naam]]","v":"consumerUsageInstructions/@languageCode"},{"$f":"Tabel3[[#This Row],[GDM Verplicht / Conditioneel]]","v":"Conditional"},{"$f":"Tabel3[[#This Row],[DMS controle]]","v":"X"},{"$f":"Tabel3[[#This Row],[BMS ID]]","v":792},{"$f":"Tabel3[[#This Row],[Formaat]]","v":"Defined values"},{"$f":"Tabel3[[#This Row],[X Path]]","v":"/catalogue_item_notification:catalogueItemNotificationMessage/transaction/documentCommand/catalogue_item_notification:catalogueItemNotification/catalogueItem/tradeItem/tradeItemInformation/extension/*[namespace-uri()='urn:gs1:gdsn:consumer_instructions:xsd:3' and local-name()='consumerInstructionsModule']/consumerInstructions/consumerUsageInstructions/@languageCode"},{"$f":"Tabel3[[#This Row],[GDM laag]]","v":"Global"},{"$f":"VLOOKUP(Tabel3[[#This Row],[GAE ID]],'BES EN'!A:AJ,27,FALSE)","v":"Mandatory if 'Consumer usage instructions' is populated."},null,{"$f":"Tabel3[[#This Row],[Dairy, Refrigerated & Frozen]]","v":"A"},{"$f":"Tabel3[[#This Row],[Deli & Prepared]]","v":"B"},{"$f":"Tabel3[[#This Row],[Fresh Meat]]","v":"C"},{"$f":"Tabel3[[#This Row],[Fresh Fish]]","v":"D"},{"$f":"Tabel3[[#This Row],[Fresh Fruits & Vegetables]]","v":"E"},{"$f":"Tabel3[[#This Row],[Grocery]]","v":"F"},{"$f":"Tabel3[[#This Row],[Cleaners]]","v":"G"},{"$f":"Tabel3[[#This Row],[Disposables]]","v":"H"},{"$f":"Tabel3[[#This Row],[Beauty & Personal Care]]","v":"I"},{"$f":"Tabel3[[#This Row],[Petfood]]","v":"J"},{"$f":"Tabel3[[#This Row],[Alcoholic Beverages]]","v":"K"},{"$f":"Tabel3[[#This Row],[Tobacco]]","v":"L"},{"$f":"Tabel3[[#This Row],[Self-care medicines]]","v":"M"},{"$f":"Tabel3[[#This Row],[Special Food]]","v":"N"},{"$f":"Tabel3[[#This Row],[Food Supplements]]","v":"O"},{"$f":"Tabel3[[#This Row],[Healthcare Products]]","v":"P"},{"$f":"Tabel3[[#This Row],[Medical Devices]]","v":"-"},{"$f":"Tabel3[[#This Row],[Batteries]]","v":"-"},{"$f":"Tabel3[[#This Row],[Light Bulbs]]","v":"-"},{"$f":"Tabel3[[#This Row],[Other Categories]]","v":"T"}]
[{"$f":"VLOOKUP(Tabel3[[#This Row],[GAE ID]],'BES EN'!A:AJ,36,FALSE)","v":"Serving suggestion"},{"$f":"Tabel3[[#This Row],[GDSN-naam]]","v":"servingSuggestion"},{"$f":"Tabel3[[#This Row],[GDM Verplicht / Conditioneel]]","v":"Conditional"},{"$f":"Tabel3[[#This Row],[DMS controle]]","v":0},{"$f":"Tabel3[[#This Row],[BMS ID]]","v":1380},{"$f":"Tabel3[[#This Row],[Formaat]]","v":"an..1000"},{"$f":"Tabel3[[#This Row],[X Path]]","v":"/catalogue_item_notification:catalogueItemNotificationMessage/transaction/documentCommand/catalogue_item_notification:catalogueItemNotification/catalogueItem/tradeItem/tradeItemInformation/extension/*[namespace-uri()='urn:gs1:gdsn:food_and_beverage_preparation_serving:xsd:3' and local-name()='foodAndBeveragePreparationServingModule']/preparationServing/servingSuggestion"},{"$f":"Tabel3[[#This Row],[GDM laag]]","v":"Global"},{"$f":"VLOOKUP(Tabel3[[#This Row],[GAE ID]],'BES EN'!A:AJ,27,FALSE)","v":"Mandatory, if the label contains a suggestion about the way the product may be served."},null,{"$f":"Tabel3[[#This Row],[Dairy, Refrigerated & Frozen]]","v":"A"},{"$f":"Tabel3[[#This Row],[Deli & Prepared]]","v":"B"},{"$f":"Tabel3[[#This Row],[Fresh Meat]]","v":"C"},{"$f":"Tabel3[[#This Row],[Fresh Fish]]","v":"D"},{"$f":"Tabel3[[#This Row],[Fresh Fruits & Vegetables]]","v":"E"},{"$f":"Tabel3[[#This Row],[Grocery]]","v":"F"},{"$f":"Tabel3[[#This Row],[Cleaners]]","v":"-"},{"$f":"Tabel3[[#This Row],[Disposables]]","v":"-"},{"$f":"Tabel3[[#This Row],[Beauty & Personal Care]]","v":"-"},{"$f":"Tabel3[[#This Row],[Petfood]]","v":"-"},{"$f":"Tabel3[[#This Row],[Alcoholic Beverages]]","v":"K"},{"$f":"Tabel3[[#This Row],[Tobacco]]","v":"-"},{"$f":"Tabel3[[#This Row],[Self-care medicines]]","v":"-"},{"$f":"Tabel3[[#This Row],[Special Food]]","v":"N"},{"$f":"Tabel3[[#This Row],[Food Supplements]]","v":"-"},{"$f":"Tabel3[[#This Row],[Healthcare Products]]","v":"-"},{"$f":"Tabel3[[#This Row],[Medical Devices]]","v":"-"},{"$f":"Tabel3[[#This Row],[Batteries]]","v":"-"},{"$f":"Tabel3[[#This Row],[Light Bulbs]]","v":"-"},{"$f":"Tabel3[[#This Row],[Other Categories]]","v":"T"}]
[{"$f":"VLOOKUP(Tabel3[[#This Row],[GAE ID]],'BES EN'!A:AJ,36,FALSE)","v":"Serving suggestion language code"},{"$f":"Tabel3[[#This Row],[GDSN-naam]]","v":"servingSuggestion/@languageCode"},{"$f":"Tabel3[[#This Row],[GDM Verplicht / Conditioneel]]","v":"Conditional"},{"$f":"Tabel3[[#This Row],[DMS controle]]","v":0},{"$f":"Tabel3[[#This Row],[BMS ID]]","v":1381},{"$f":"Tabel3[[#This Row],[Formaat]]","v":"Defined values"},{"$f":"Tabel3[[#This Row],[X Path]]","v":"/catalogue_item_notification:catalogueItemNotificationMessage/transaction/documentCommand/catalogue_item_notification:catalogueItemNotification/catalogueItem/tradeItem/tradeItemInformation/extension/*[namespace-uri()='urn:gs1:gdsn:food_and_beverage_preparation_serving:xsd:3' and local-name()='foodAndBeveragePreparationServingModule']/preparationServing/servingSuggestion/@languageCode"},{"$f":"Tabel3[[#This Row],[GDM laag]]","v":"Global"},{"$f":"VLOOKUP(Tabel3[[#This Row],[GAE ID]],'BES EN'!A:AJ,27,FALSE)","v":"Mandatory if 'Serving suggestion' is populated."},null,{"$f":"Tabel3[[#This Row],[Dairy, Refrigerated & Frozen]]","v":"A"},{"$f":"Tabel3[[#This Row],[Deli & Prepared]]","v":"B"},{"$f":"Tabel3[[#This Row],[Fresh Meat]]","v":"C"},{"$f":"Tabel3[[#This Row],[Fresh Fish]]","v":"D"},{"$f":"Tabel3[[#This Row],[Fresh Fruits & Vegetables]]","v":"E"},{"$f":"Tabel3[[#This Row],[Grocery]]","v":"F"},{"$f":"Tabel3[[#This Row],[Cleaners]]","v":"-"},{"$f":"Tabel3[[#This Row],[Disposables]]","v":"-"},{"$f":"Tabel3[[#This Row],[Beauty & Personal Care]]","v":"-"},{"$f":"Tabel3[[#This Row],[Petfood]]","v":"-"},{"$f":"Tabel3[[#This Row],[Alcoholic Beverages]]","v":"K"},{"$f":"Tabel3[[#This Row],[Tobacco]]","v":"-"},{"$f":"Tabel3[[#This Row],[Self-care medicines]]","v":"-"},{"$f":"Tabel3[[#This Row],[Special Food]]","v":"N"},{"$f":"Tabel3[[#This Row],[Food Supplements]]","v":"-"},{"$f":"Tabel3[[#This Row],[Healthcare Products]]","v":"-"},{"$f":"Tabel3[[#This Row],[Medical Devices]]","v":"-"},{"$f":"Tabel3[[#This Row],[Batteries]]","v":"-"},{"$f":"Tabel3[[#This Row],[Light Bulbs]]","v":"-"},{"$f":"Tabel3[[#This Row],[Other Categories]]","v":"T"}]
[{"$f":"VLOOKUP(Tabel3[[#This Row],[GAE ID]],'BES EN'!A:AJ,36,FALSE)","v":"Consumer storage instructions"},{"$f":"Tabel3[[#This Row],[GDSN-naam]]","v":"consumerStorageInstructions"},{"$f":"Tabel3[[#This Row],[GDM Verplicht / Conditioneel]]","v":"Conditional"},{"$f":"Tabel3[[#This Row],[DMS controle]]","v":"X"},{"$f":"Tabel3[[#This Row],[BMS ID]]","v":789},{"$f":"Tabel3[[#This Row],[Formaat]]","v":"an..5000"},{"$f":"Tabel3[[#This Row],[X Path]]","v":"/catalogue_item_notification:catalogueItemNotificationMessage/transaction/documentCommand/catalogue_item_notification:catalogueItemNotification/catalogueItem/tradeItem/tradeItemInformation/extension/*[namespace-uri()='urn:gs1:gdsn:consumer_instructions:xsd:3' and local-name()='consumerInstructionsModule']/consumerInstructions/consumerStorageInstructions"},{"$f":"Tabel3[[#This Row],[GDM laag]]","v":"Global"},{"$f":"VLOOKUP(Tabel3[[#This Row],[GAE ID]],'BES EN'!A:AJ,27,FALSE)","v":"Mandatory if the product packaging (label) mentions instructions and information to the consumer about proper storage of the product. "},null,{"$f":"Tabel3[[#This Row],[Dairy, Refrigerated & Frozen]]","v":"A"},{"$f":"Tabel3[[#This Row],[Deli & Prepared]]","v":"B"},{"$f":"Tabel3[[#This Row],[Fresh Meat]]","v":"C"},{"$f":"Tabel3[[#This Row],[Fresh Fish]]","v":"D"},{"$f":"Tabel3[[#This Row],[Fresh Fruits & Vegetables]]","v":"E"},{"$f":"Tabel3[[#This Row],[Grocery]]","v":"F"},{"$f":"Tabel3[[#This Row],[Cleaners]]","v":"G"},{"$f":"Tabel3[[#This Row],[Disposables]]","v":"H"},{"$f":"Tabel3[[#This Row],[Beauty & Personal Care]]","v":"I"},{"$f":"Tabel3[[#This Row],[Petfood]]","v":"J"},{"$f":"Tabel3[[#This Row],[Alcoholic Beverages]]","v":"K"},{"$f":"Tabel3[[#This Row],[Tobacco]]","v":"L"},{"$f":"Tabel3[[#This Row],[Self-care medicines]]","v":"M"},{"$f":"Tabel3[[#This Row],[Special Food]]","v":"N"},{"$f":"Tabel3[[#This Row],[Food Supplements]]","v":"O"},{"$f":"Tabel3[[#This Row],[Healthcare Products]]","v":"P"},{"$f":"Tabel3[[#This Row],[Medical Devices]]","v":"-"},{"$f":"Tabel3[[#This Row],[Batteries]]","v":"R"},{"$f":"Tabel3[[#This Row],[Light Bulbs]]","v":"S"},{"$f":"Tabel3[[#This Row],[Other Categories]]","v":"T"}]
[{"$f":"VLOOKUP(Tabel3[[#This Row],[GAE ID]],'BES EN'!A:AJ,36,FALSE)","v":"Consumer storage instructions language code"},{"$f":"Tabel3[[#This Row],[GDSN-naam]]","v":"consumerStorageInstructions/@languageCode"},{"$f":"Tabel3[[#This Row],[GDM Verplicht / Conditioneel]]","v":"Conditional"},{"$f":"Tabel3[[#This Row],[DMS controle]]","v":"X"},{"$f":"Tabel3[[#This Row],[BMS ID]]","v":790},{"$f":"Tabel3[[#This Row],[Formaat]]","v":"Defined values"},{"$f":"Tabel3[[#This Row],[X Path]]","v":"/catalogue_item_notification:catalogueItemNotificationMessage/transaction/documentCommand/catalogue_item_notification:catalogueItemNotification/catalogueItem/tradeItem/tradeItemInformation/extension/*[namespace-uri()='urn:gs1:gdsn:consumer_instructions:xsd:3' and local-name()='consumerInstructionsModule']/consumerInstructions/consumerStorageInstructions/@languageCode"},{"$f":"Tabel3[[#This Row],[GDM laag]]","v":"Global"},{"$f":"VLOOKUP(Tabel3[[#This Row],[GAE ID]],'BES EN'!A:AJ,27,FALSE)","v":"Mandatory if 'Consumer storage instructions' is populated."},null,{"$f":"Tabel3[[#This Row],[Dairy, Refrigerated & Frozen]]","v":"A"},{"$f":"Tabel3[[#This Row],[Deli & Prepared]]","v":"B"},{"$f":"Tabel3[[#This Row],[Fresh Meat]]","v":"C"},{"$f":"Tabel3[[#This Row],[Fresh Fish]]","v":"D"},{"$f":"Tabel3[[#This Row],[Fresh Fruits & Vegetables]]","v":"E"},{"$f":"Tabel3[[#This Row],[Grocery]]","v":"F"},{"$f":"Tabel3[[#This Row],[Cleaners]]","v":"G"},{"$f":"Tabel3[[#This Row],[Disposables]]","v":"H"},{"$f":"Tabel3[[#This Row],[Beauty & Personal Care]]","v":"I"},{"$f":"Tabel3[[#This Row],[Petfood]]","v":"J"},{"$f":"Tabel3[[#This Row],[Alcoholic Beverages]]","v":"K"},{"$f":"Tabel3[[#This Row],[Tobacco]]","v":"L"},{"$f":"Tabel3[[#This Row],[Self-care medicines]]","v":"M"},{"$f":"Tabel3[[#This Row],[Special Food]]","v":"N"},{"$f":"Tabel3[[#This Row],[Food Supplements]]","v":"O"},{"$f":"Tabel3[[#This Row],[Healthcare Products]]","v":"P"},{"$f":"Tabel3[[#This Row],[Medical Devices]]","v":"-"},{"$f":"Tabel3[[#This Row],[Batteries]]","v":"R"},{"$f":"Tabel3[[#This Row],[Light Bulbs]]","v":"S"},{"$f":"Tabel3[[#This Row],[Other Categories]]","v":"T"}]
["Claims / labels / logo's",null,{"$f":"Tabel3[[#This Row],[GDM Verplicht / Conditioneel]]","v":0},"",null,"","",null,null,null,"A","B","C","D","E","F","G","H","I","J","K","L","M","N","O","P","Q","R","S","T"]
[{"$f":"VLOOKUP(Tabel3[[#This Row],[GAE ID]],'BES EN'!A:AJ,36,FALSE)","v":"Nutritional claim"},{"$f":"Tabel3[[#This Row],[GDSN-naam]]","v":"nutritionalClaim"},{"$f":"Tabel3[[#This Row],[GDM Verplicht / Conditioneel]]","v":"Conditional"},{"$f":"Tabel3[[#This Row],[DMS controle]]","v":"X"},{"$f":"Tabel3[[#This Row],[BMS ID]]","v":1682},{"$f":"Tabel3[[#This Row],[Formaat]]","v":"an..5000"},{"$f":"Tabel3[[#This Row],[X Path]]","v":"/catalogue_item_notification:catalogueItemNotificationMessage/transaction/documentCommand/catalogue_item_notification:catalogueItemNotification/catalogueItem/tradeItem/tradeItemInformation/extension/*[namespace-uri()='urn:gs1:gdsn:nutritional_information:xsd:3' and local-name()='nutritionalInformationModule']/nutritionalClaim"},{"$f":"Tabel3[[#This Row],[GDM laag]]","v":"Global"},{"$f":"VLOOKUP(Tabel3[[#This Row],[GAE ID]],'BES EN'!A:AJ,27,FALSE)","v":"Mandatory if the label of a food, special food or food supplement contains nutritional claims"},null,{"$f":"Tabel3[[#This Row],[Dairy, Refrigerated & Frozen]]","v":"A"},{"$f":"Tabel3[[#This Row],[Deli & Prepared]]","v":"B"},{"$f":"Tabel3[[#This Row],[Fresh Meat]]","v":"C"},{"$f":"Tabel3[[#This Row],[Fresh Fish]]","v":"D"},{"$f":"Tabel3[[#This Row],[Fresh Fruits & Vegetables]]","v":"E"},{"$f":"Tabel3[[#This Row],[Grocery]]","v":"F"},{"$f":"Tabel3[[#This Row],[Cleaners]]","v":"-"},{"$f":"Tabel3[[#This Row],[Disposables]]","v":"-"},{"$f":"Tabel3[[#This Row],[Beauty & Personal Care]]","v":"-"},{"$f":"Tabel3[[#This Row],[Petfood]]","v":"-"},{"$f":"Tabel3[[#This Row],[Alcoholic Beverages]]","v":"K"},{"$f":"Tabel3[[#This Row],[Tobacco]]","v":"-"},{"$f":"Tabel3[[#This Row],[Self-care medicines]]","v":"M"},{"$f":"Tabel3[[#This Row],[Special Food]]","v":"N"},{"$f":"Tabel3[[#This Row],[Food Supplements]]","v":"O"},{"$f":"Tabel3[[#This Row],[Healthcare Products]]","v":"P"},{"$f":"Tabel3[[#This Row],[Medical Devices]]","v":"Q"},{"$f":"Tabel3[[#This Row],[Batteries]]","v":"R"},{"$f":"Tabel3[[#This Row],[Light Bulbs]]","v":"S"},{"$f":"Tabel3[[#This Row],[Other Categories]]","v":"T"}]
[{"$f":"VLOOKUP(Tabel3[[#This Row],[GAE ID]],'BES EN'!A:AJ,36,FALSE)","v":"Nutritional claim language code"},{"$f":"Tabel3[[#This Row],[GDSN-naam]]","v":"nutritionalClaim/@languageCode"},{"$f":"Tabel3[[#This Row],[GDM Verplicht / Conditioneel]]","v":"Conditional"},{"$f":"Tabel3[[#This Row],[DMS controle]]","v":"X"},{"$f":"Tabel3[[#This Row],[BMS ID]]","v":1683},{"$f":"Tabel3[[#This Row],[Formaat]]","v":"Defined values"},{"$f":"Tabel3[[#This Row],[X Path]]","v":"/catalogue_item_notification:catalogueItemNotificationMessage/transaction/documentCommand/catalogue_item_notification:catalogueItemNotification/catalogueItem/tradeItem/tradeItemInformation/extension/*[namespace-uri()='urn:gs1:gdsn:nutritional_information:xsd:3' and local-name()='nutritionalInformationModule']/nutritionalClaim/@languageCode"},{"$f":"Tabel3[[#This Row],[GDM laag]]","v":"Global"},{"$f":"VLOOKUP(Tabel3[[#This Row],[GAE ID]],'BES EN'!A:AJ,27,FALSE)","v":"Mandatory if 'Nutritional claim' is populated."},null,{"$f":"Tabel3[[#This Row],[Dairy, Refrigerated & Frozen]]","v":"A"},{"$f":"Tabel3[[#This Row],[Deli & Prepared]]","v":"B"},{"$f":"Tabel3[[#This Row],[Fresh Meat]]","v":"C"},{"$f":"Tabel3[[#This Row],[Fresh Fish]]","v":"D"},{"$f":"Tabel3[[#This Row],[Fresh Fruits & Vegetables]]","v":"E"},{"$f":"Tabel3[[#This Row],[Grocery]]","v":"F"},{"$f":"Tabel3[[#This Row],[Cleaners]]","v":"-"},{"$f":"Tabel3[[#This Row],[Disposables]]","v":"-"},{"$f":"Tabel3[[#This Row],[Beauty & Personal Care]]","v":"-"},{"$f":"Tabel3[[#This Row],[Petfood]]","v":"-"},{"$f":"Tabel3[[#This Row],[Alcoholic Beverages]]","v":"K"},{"$f":"Tabel3[[#This Row],[Tobacco]]","v":"-"},{"$f":"Tabel3[[#This Row],[Self-care medicines]]","v":"M"},{"$f":"Tabel3[[#This Row],[Special Food]]","v":"N"},{"$f":"Tabel3[[#This Row],[Food Supplements]]","v":"O"},{"$f":"Tabel3[[#This Row],[Healthcare Products]]","v":"P"},{"$f":"Tabel3[[#This Row],[Medical Devices]]","v":"Q"},{"$f":"Tabel3[[#This Row],[Batteries]]","v":"R"},{"$f":"Tabel3[[#This Row],[Light Bulbs]]","v":"S"},{"$f":"Tabel3[[#This Row],[Other Categories]]","v":"T"}]
[{"$f":"VLOOKUP(Tabel3[[#This Row],[GAE ID]],'BES EN'!A:AJ,36,FALSE)","v":"Health claim description"},{"$f":"Tabel3[[#This Row],[GDSN-naam]]","v":"healthClaimDescription"},{"$f":"Tabel3[[#This Row],[GDM Verplicht / Conditioneel]]","v":"Conditional"},{"$f":"Tabel3[[#This Row],[DMS controle]]","v":"X"},{"$f":"Tabel3[[#This Row],[BMS ID]]","v":1461},{"$f":"Tabel3[[#This Row],[Formaat]]","v":"an..1000"},{"$f":"Tabel3[[#This Row],[X Path]]","v":"/catalogue_item_notification:catalogueItemNotificationMessage/transaction/documentCommand/catalogue_item_notification:catalogueItemNotification/catalogueItem/tradeItem/tradeItemInformation/extension/*[namespace-uri()='urn:gs1:gdsn:health_related_information:xsd:3' and local-name()='healthRelatedInformationModule']/healthRelatedInformation/healthClaimDescription"},{"$f":"Tabel3[[#This Row],[GDM laag]]","v":"Global"},{"$f":"VLOOKUP(Tabel3[[#This Row],[GAE ID]],'BES EN'!A:AJ,27,FALSE)","v":"Mandatory if health claims and/or medical claims are stated on the packaging"},null,{"$f":"Tabel3[[#This Row],[Dairy, Refrigerated & Frozen]]","v":"A"},{"$f":"Tabel3[[#This Row],[Deli & Prepared]]","v":"B"},{"$f":"Tabel3[[#This Row],[Fresh Meat]]","v":"-"},{"$f":"Tabel3[[#This Row],[Fresh Fish]]","v":"-"},{"$f":"Tabel3[[#This Row],[Fresh Fruits & Vegetables]]","v":"-"},{"$f":"Tabel3[[#This Row],[Grocery]]","v":"-"},{"$f":"Tabel3[[#This Row],[Cleaners]]","v":"-"},{"$f":"Tabel3[[#This Row],[Disposables]]","v":"-"},{"$f":"Tabel3[[#This Row],[Beauty & Personal Care]]","v":"-"},{"$f":"Tabel3[[#This Row],[Petfood]]","v":"-"},{"$f":"Tabel3[[#This Row],[Alcoholic Beverages]]","v":"-"},{"$f":"Tabel3[[#This Row],[Tobacco]]","v":"-"},{"$f":"Tabel3[[#This Row],[Self-care medicines]]","v":"M"},{"$f":"Tabel3[[#This Row],[Special Food]]","v":"N"},{"$f":"Tabel3[[#This Row],[Food Supplements]]","v":"O"},{"$f":"Tabel3[[#This Row],[Healthcare Products]]","v":"P"},{"$f":"Tabel3[[#This Row],[Medical Devices]]","v":"Q"},{"$f":"Tabel3[[#This Row],[Batteries]]","v":"R"},{"$f":"Tabel3[[#This Row],[Light Bulbs]]","v":"S"},{"$f":"Tabel3[[#This Row],[Other Categories]]","v":"T"}]
[{"$f":"VLOOKUP(Tabel3[[#This Row],[GAE ID]],'BES EN'!A:AJ,36,FALSE)","v":"Health claim description language code"},{"$f":"Tabel3[[#This Row],[GDSN-naam]]","v":"healthClaimDescription/@languageCode"},{"$f":"Tabel3[[#This Row],[GDM Verplicht / Conditioneel]]","v":"Conditional"},{"$f":"Tabel3[[#This Row],[DMS controle]]","v":"X"},{"$f":"Tabel3[[#This Row],[BMS ID]]","v":5455},{"$f":"Tabel3[[#This Row],[Formaat]]","v":"Defined values"},{"$f":"Tabel3[[#This Row],[X Path]]","v":"/catalogue_item_notification:catalogueItemNotificationMessage/transaction/documentCommand/catalogue_item_notification:catalogueItemNotification/catalogueItem/tradeItem/tradeItemInformation/extension/*[namespace-uri()='urn:gs1:gdsn:health_related_information:xsd:3' and local-name()='healthRelatedInformationModule']/healthRelatedInformation/healthClaimDescription/@languageCode"},{"$f":"Tabel3[[#This Row],[GDM laag]]","v":"Global"},{"$f":"VLOOKUP(Tabel3[[#This Row],[GAE ID]],'BES EN'!A:AJ,27,FALSE)","v":"Mandatory if 'Health claim description' is populated."},null,{"$f":"Tabel3[[#This Row],[Dairy, Refrigerated & Frozen]]","v":"A"},{"$f":"Tabel3[[#This Row],[Deli & Prepared]]","v":"B"},{"$f":"Tabel3[[#This Row],[Fresh Meat]]","v":"-"},{"$f":"Tabel3[[#This Row],[Fresh Fish]]","v":"-"},{"$f":"Tabel3[[#This Row],[Fresh Fruits & Vegetables]]","v":"-"},{"$f":"Tabel3[[#This Row],[Grocery]]","v":"-"},{"$f":"Tabel3[[#This Row],[Cleaners]]","v":"-"},{"$f":"Tabel3[[#This Row],[Disposables]]","v":"-"},{"$f":"Tabel3[[#This Row],[Beauty & Personal Care]]","v":"-"},{"$f":"Tabel3[[#This Row],[Petfood]]","v":"-"},{"$f":"Tabel3[[#This Row],[Alcoholic Beverages]]","v":"-"},{"$f":"Tabel3[[#This Row],[Tobacco]]","v":"-"},{"$f":"Tabel3[[#This Row],[Self-care medicines]]","v":"M"},{"$f":"Tabel3[[#This Row],[Special Food]]","v":"N"},{"$f":"Tabel3[[#This Row],[Food Supplements]]","v":"O"},{"$f":"Tabel3[[#This Row],[Healthcare Products]]","v":"P"},{"$f":"Tabel3[[#This Row],[Medical Devices]]","v":"Q"},{"$f":"Tabel3[[#This Row],[Batteries]]","v":"R"},{"$f":"Tabel3[[#This Row],[Light Bulbs]]","v":"S"},{"$f":"Tabel3[[#This Row],[Other Categories]]","v":"T"}]
[{"$f":"VLOOKUP(Tabel3[[#This Row],[GAE ID]],'BES EN'!A:AJ,36,FALSE)","v":"Packaging marked label accreditation code"},{"$f":"Tabel3[[#This Row],[GDSN-naam]]","v":"packagingMarkedLabelAccreditationCode"},{"$f":"Tabel3[[#This Row],[GDM Verplicht / Conditioneel]]","v":"Conditional"},{"$f":"Tabel3[[#This Row],[DMS controle]]","v":"X"},{"$f":"Tabel3[[#This Row],[BMS ID]]","v":2312},{"$f":"Tabel3[[#This Row],[Formaat]]","v":"Defined values"},{"$f":"Tabel3[[#This Row],[X Path]]","v":"/catalogue_item_notification:catalogueItemNotificationMessage/transaction/documentCommand/catalogue_item_notification:catalogueItemNotification/catalogueItem/tradeItem/tradeItemInformation/extension/*[namespace-uri()='urn:gs1:gdsn:packaging_marking:xsd:3' and local-name()='packagingMarkingModule']/packagingMarking/packagingMarkedLabelAccreditationCode"},{"$f":"Tabel3[[#This Row],[GDM laag]]","v":"Regional EU"},{"$f":"VLOOKUP(Tabel3[[#This Row],[GAE ID]],'BES EN'!A:AJ,27,FALSE)","v":"Mandatory if there is a mark on the packaging that is part of the Packaging Label Guide code list, optional for detergents and biocides."},null,{"$f":"Tabel3[[#This Row],[Dairy, Refrigerated & Frozen]]","v":"A"},{"$f":"Tabel3[[#This Row],[Deli & Prepared]]","v":"B"},{"$f":"Tabel3[[#This Row],[Fresh Meat]]","v":"C"},{"$f":"Tabel3[[#This Row],[Fresh Fish]]","v":"D"},{"$f":"Tabel3[[#This Row],[Fresh Fruits & Vegetables]]","v":"E"},{"$f":"Tabel3[[#This Row],[Grocery]]","v":"F"},{"$f":"Tabel3[[#This Row],[Cleaners]]","v":"G"},{"$f":"Tabel3[[#This Row],[Disposables]]","v":"H"},{"$f":"Tabel3[[#This Row],[Beauty & Personal Care]]","v":"I"},{"$f":"Tabel3[[#This Row],[Petfood]]","v":"J"},{"$f":"Tabel3[[#This Row],[Alcoholic Beverages]]","v":"K"},{"$f":"Tabel3[[#This Row],[Tobacco]]","v":"-"},{"$f":"Tabel3[[#This Row],[Self-care medicines]]","v":"M"},{"$f":"Tabel3[[#This Row],[Special Food]]","v":"N"},{"$f":"Tabel3[[#This Row],[Food Supplements]]","v":"O"},{"$f":"Tabel3[[#This Row],[Healthcare Products]]","v":"P"},{"$f":"Tabel3[[#This Row],[Medical Devices]]","v":"Q"},{"$f":"Tabel3[[#This Row],[Batteries]]","v":"R"},{"$f":"Tabel3[[#This Row],[Light Bulbs]]","v":"S"},{"$f":"Tabel3[[#This Row],[Other Categories]]","v":"T"}]
[{"$f":"VLOOKUP(Tabel3[[#This Row],[GAE ID]],'BES EN'!A:AJ,36,FALSE)","v":"Local packaging marked label accreditation code reference"},{"$f":"Tabel3[[#This Row],[GDSN-naam]]","v":"localPackagingMarkedLabelAccreditationCodeReference"},{"$f":"Tabel3[[#This Row],[GDM Verplicht / Conditioneel]]","v":"Conditional"},{"$f":"Tabel3[[#This Row],[DMS controle]]","v":"X"},{"$f":"Tabel3[[#This Row],[BMS ID]]","v":2318},{"$f":"Tabel3[[#This Row],[Formaat]]","v":"Defined values"},{"$f":"Tabel3[[#This Row],[X Path]]","v":"/catalogue_item_notification:catalogueItemNotificationMessage/transaction/documentCommand/catalogue_item_notification:catalogueItemNotification/catalogueItem/tradeItem/tradeItemInformation/extension/*[namespace-uri()='urn:gs1:gdsn:packaging_marking:xsd:3' and local-name()='packagingMarkingModule']/packagingMarking/localPackagingMarkedLabelAccreditationCodeReference"},{"$f":"Tabel3[[#This Row],[GDM laag]]","v":"Local"},{"$f":"VLOOKUP(Tabel3[[#This Row],[GAE ID]],'BES EN'!A:AJ,27,FALSE)","v":"Mandatory for food, food supplements, special foods, cosmetics and personal care products, health products and batteries, if mentioned on the label."},null,{"$f":"Tabel3[[#This Row],[Dairy, Refrigerated & Frozen]]","v":"A"},{"$f":"Tabel3[[#This Row],[Deli & Prepared]]","v":"B"},{"$f":"Tabel3[[#This Row],[Fresh Meat]]","v":"C"},{"$f":"Tabel3[[#This Row],[Fresh Fish]]","v":"D"},{"$f":"Tabel3[[#This Row],[Fresh Fruits & Vegetables]]","v":"E"},{"$f":"Tabel3[[#This Row],[Grocery]]","v":"F"},{"$f":"Tabel3[[#This Row],[Cleaners]]","v":"G"},{"$f":"Tabel3[[#This Row],[Disposables]]","v":"H"},{"$f":"Tabel3[[#This Row],[Beauty & Personal Care]]","v":"I"},{"$f":"Tabel3[[#This Row],[Petfood]]","v":"J"},{"$f":"Tabel3[[#This Row],[Alcoholic Beverages]]","v":"K"},{"$f":"Tabel3[[#This Row],[Tobacco]]","v":"L"},{"$f":"Tabel3[[#This Row],[Self-care medicines]]","v":"M"},{"$f":"Tabel3[[#This Row],[Special Food]]","v":"N"},{"$f":"Tabel3[[#This Row],[Food Supplements]]","v":"O"},{"$f":"Tabel3[[#This Row],[Healthcare Products]]","v":"P"},{"$f":"Tabel3[[#This Row],[Medical Devices]]","v":"Q"},{"$f":"Tabel3[[#This Row],[Batteries]]","v":"R"},{"$f":"Tabel3[[#This Row],[Light Bulbs]]","v":"S"},{"$f":"Tabel3[[#This Row],[Other Categories]]","v":"T"}]
[{"$f":"VLOOKUP(Tabel3[[#This Row],[GAE ID]],'BES EN'!A:AJ,36,FALSE)","v":"Element claim code"},{"$f":"Tabel3[[#This Row],[GDSN-naam]]","v":"nutritionalClaimNutrientElementCode"},{"$f":"Tabel3[[#This Row],[GDM Verplicht / Conditioneel]]","v":"Conditional"},{"$f":"Tabel3[[#This Row],[DMS controle]]","v":"X"},{"$f":"Tabel3[[#This Row],[BMS ID]]","v":1709},{"$f":"Tabel3[[#This Row],[Formaat]]","v":"Defined values"},{"$f":"Tabel3[[#This Row],[X Path]]","v":"/catalogue_item_notification:catalogueItemNotificationMessage/transaction/documentCommand/catalogue_item_notification:catalogueItemNotification/catalogueItem/tradeItem/tradeItemInformation/extension/*[namespace-uri()='urn:gs1:gdsn:nutritional_information:xsd:3' and local-name()='nutritionalInformationModule']/nutritionalClaimDetail/nutritionalClaimNutrientElementCode"},{"$f":"Tabel3[[#This Row],[GDM laag]]","v":"Global"},{"$f":"VLOOKUP(Tabel3[[#This Row],[GAE ID]],'BES EN'!A:AJ,27,FALSE)","v":"Mandatory if the product packaging contains reference to a specific element claim about the product."},null,{"$f":"Tabel3[[#This Row],[Dairy, Refrigerated & Frozen]]","v":"A"},{"$f":"Tabel3[[#This Row],[Deli & Prepared]]","v":"B"},{"$f":"Tabel3[[#This Row],[Fresh Meat]]","v":"C"},{"$f":"Tabel3[[#This Row],[Fresh Fish]]","v":"D"},{"$f":"Tabel3[[#This Row],[Fresh Fruits & Vegetables]]","v":"E"},{"$f":"Tabel3[[#This Row],[Grocery]]","v":"F"},{"$f":"Tabel3[[#This Row],[Cleaners]]","v":"G"},{"$f":"Tabel3[[#This Row],[Disposables]]","v":"H"},{"$f":"Tabel3[[#This Row],[Beauty & Personal Care]]","v":"I"},{"$f":"Tabel3[[#This Row],[Petfood]]","v":"-"},{"$f":"Tabel3[[#This Row],[Alcoholic Beverages]]","v":"K"},{"$f":"Tabel3[[#This Row],[Tobacco]]","v":"-"},{"$f":"Tabel3[[#This Row],[Self-care medicines]]","v":"M"},{"$f":"Tabel3[[#This Row],[Special Food]]","v":"N"},{"$f":"Tabel3[[#This Row],[Food Supplements]]","v":"O"},{"$f":"Tabel3[[#This Row],[Healthcare Products]]","v":"P"},{"$f":"Tabel3[[#This Row],[Medical Devices]]","v":"Q"},{"$f":"Tabel3[[#This Row],[Batteries]]","v":"R"},{"$f":"Tabel3[[#This Row],[Light Bulbs]]","v":"S"},{"$f":"Tabel3[[#This Row],[Other Categories]]","v":"T"}]
[{"$f":"VLOOKUP(Tabel3[[#This Row],[GAE ID]],'BES EN'!A:AJ,36,FALSE)","v":"Claim type code"},{"$f":"Tabel3[[#This Row],[GDSN-naam]]","v":"nutritionalClaimTypeCode"},{"$f":"Tabel3[[#This Row],[GDM Verplicht / Conditioneel]]","v":"Conditional"},{"$f":"Tabel3[[#This Row],[DMS controle]]","v":"X"},{"$f":"Tabel3[[#This Row],[BMS ID]]","v":1710},{"$f":"Tabel3[[#This Row],[Formaat]]","v":"Defined values"},{"$f":"Tabel3[[#This Row],[X Path]]","v":"/catalogue_item_notification:catalogueItemNotificationMessage/transaction/documentCommand/catalogue_item_notification:catalogueItemNotification/catalogueItem/tradeItem/tradeItemInformation/extension/*[namespace-uri()='urn:gs1:gdsn:nutritional_information:xsd:3' and local-name()='nutritionalInformationModule']/nutritionalClaimDetail/nutritionalClaimTypeCode"},{"$f":"Tabel3[[#This Row],[GDM laag]]","v":"Global"},{"$f":"VLOOKUP(Tabel3[[#This Row],[GAE ID]],'BES EN'!A:AJ,27,FALSE)","v":"Mandatory if the field ‘Element claim code’ is used."},null,{"$f":"Tabel3[[#This Row],[Dairy, Refrigerated & Frozen]]","v":"A"},{"$f":"Tabel3[[#This Row],[Deli & Prepared]]","v":"B"},{"$f":"Tabel3[[#This Row],[Fresh Meat]]","v":"C"},{"$f":"Tabel3[[#This Row],[Fresh Fish]]","v":"D"},{"$f":"Tabel3[[#This Row],[Fresh Fruits & Vegetables]]","v":"E"},{"$f":"Tabel3[[#This Row],[Grocery]]","v":"F"},{"$f":"Tabel3[[#This Row],[Cleaners]]","v":"G"},{"$f":"Tabel3[[#This Row],[Disposables]]","v":"H"},{"$f":"Tabel3[[#This Row],[Beauty & Personal Care]]","v":"I"},{"$f":"Tabel3[[#This Row],[Petfood]]","v":"-"},{"$f":"Tabel3[[#This Row],[Alcoholic Beverages]]","v":"K"},{"$f":"Tabel3[[#This Row],[Tobacco]]","v":"-"},{"$f":"Tabel3[[#This Row],[Self-care medicines]]","v":"M"},{"$f":"Tabel3[[#This Row],[Special Food]]","v":"N"},{"$f":"Tabel3[[#This Row],[Food Supplements]]","v":"O"},{"$f":"Tabel3[[#This Row],[Healthcare Products]]","v":"P"},{"$f":"Tabel3[[#This Row],[Medical Devices]]","v":"Q"},{"$f":"Tabel3[[#This Row],[Batteries]]","v":"R"},{"$f":"Tabel3[[#This Row],[Light Bulbs]]","v":"S"},{"$f":"Tabel3[[#This Row],[Other Categories]]","v":"T"}]
[{"$f":"VLOOKUP(Tabel3[[#This Row],[GAE ID]],'BES EN'!A:AJ,36,FALSE)","v":"Claim marked on package"},{"$f":"Tabel3[[#This Row],[GDSN-naam]]","v":"claimMarkedOnPackage"},{"$f":"Tabel3[[#This Row],[GDM Verplicht / Conditioneel]]","v":"X"},{"$f":"Tabel3[[#This Row],[DMS controle]]","v":"X"},{"$f":"Tabel3[[#This Row],[BMS ID]]","v":6339},{"$f":"Tabel3[[#This Row],[Formaat]]","v":"Non-binary logic enumeration"},{"$f":"Tabel3[[#This Row],[X Path]]","v":"/catalogue_item_notification:catalogueItemNotificationMessage/transaction/documentCommand/catalogue_item_notification:catalogueItemNotification/catalogueItem/tradeItem/tradeItemInformation/extension/*[namespace-uri()='urn:gs1:gdsn:nutritional_information:xsd:3' and local-name()='nutritionalInformationModule']/nutritionalClaimDetail/claimMarkedOnPackage"},{"$f":"Tabel3[[#This Row],[GDM laag]]","v":"Local"},{"$f":"VLOOKUP(Tabel3[[#This Row],[GAE ID]],'BES EN'!A:AJ,27,FALSE)","v":"Mandatory, if the claim that is populated in the ‘Element claim code’ field is not stated on the package."},null,{"$f":"Tabel3[[#This Row],[Dairy, Refrigerated & Frozen]]","v":"A"},{"$f":"Tabel3[[#This Row],[Deli & Prepared]]","v":"B"},{"$f":"Tabel3[[#This Row],[Fresh Meat]]","v":"C"},{"$f":"Tabel3[[#This Row],[Fresh Fish]]","v":"D"},{"$f":"Tabel3[[#This Row],[Fresh Fruits & Vegetables]]","v":"E"},{"$f":"Tabel3[[#This Row],[Grocery]]","v":"F"},{"$f":"Tabel3[[#This Row],[Cleaners]]","v":"G"},{"$f":"Tabel3[[#This Row],[Disposables]]","v":"H"},{"$f":"Tabel3[[#This Row],[Beauty & Personal Care]]","v":"I"},{"$f":"Tabel3[[#This Row],[Petfood]]","v":"-"},{"$f":"Tabel3[[#This Row],[Alcoholic Beverages]]","v":"K"},{"$f":"Tabel3[[#This Row],[Tobacco]]","v":"-"},{"$f":"Tabel3[[#This Row],[Self-care medicines]]","v":"M"},{"$f":"Tabel3[[#This Row],[Special Food]]","v":"N"},{"$f":"Tabel3[[#This Row],[Food Supplements]]","v":"O"},{"$f":"Tabel3[[#This Row],[Healthcare Products]]","v":"P"},{"$f":"Tabel3[[#This Row],[Medical Devices]]","v":"Q"},{"$f":"Tabel3[[#This Row],[Batteries]]","v":"R"},{"$f":"Tabel3[[#This Row],[Light Bulbs]]","v":"S"},{"$f":"Tabel3[[#This Row],[Other Categories]]","v":"T"}]
[{"$f":"VLOOKUP(Tabel3[[#This Row],[GAE ID]],'BES EN'!A:AJ,36,FALSE)","v":"Diet type code"},{"$f":"Tabel3[[#This Row],[GDSN-naam]]","v":"dietTypeCode"},{"$f":"Tabel3[[#This Row],[GDM Verplicht / Conditioneel]]","v":"Conditional"},{"$f":"Tabel3[[#This Row],[DMS controle]]","v":"X"},{"$f":"Tabel3[[#This Row],[BMS ID]]","v":1066},{"$f":"Tabel3[[#This Row],[Formaat]]","v":"Defined values"},{"$f":"Tabel3[[#This Row],[X Path]]","v":"/catalogue_item_notification:catalogueItemNotificationMessage/transaction/documentCommand/catalogue_item_notification:catalogueItemNotification/catalogueItem/tradeItem/tradeItemInformation/extension/*[namespace-uri()='urn:gs1:gdsn:diet_information:xsd:3' and local-name()='dietInformationModule']/dietInformation/dietTypeInformation/dietTypeCode"},{"$f":"Tabel3[[#This Row],[GDM laag]]","v":"Global"},{"$f":"VLOOKUP(Tabel3[[#This Row],[GAE ID]],'BES EN'!A:AJ,27,FALSE)","v":"Mandatory if the product is suitable for a specific diet."},null,{"$f":"Tabel3[[#This Row],[Dairy, Refrigerated & Frozen]]","v":"A"},{"$f":"Tabel3[[#This Row],[Deli & Prepared]]","v":"B"},{"$f":"Tabel3[[#This Row],[Fresh Meat]]","v":"C"},{"$f":"Tabel3[[#This Row],[Fresh Fish]]","v":"D"},{"$f":"Tabel3[[#This Row],[Fresh Fruits & Vegetables]]","v":"E"},{"$f":"Tabel3[[#This Row],[Grocery]]","v":"F"},{"$f":"Tabel3[[#This Row],[Cleaners]]","v":"-"},{"$f":"Tabel3[[#This Row],[Disposables]]","v":"-"},{"$f":"Tabel3[[#This Row],[Beauty & Personal Care]]","v":"-"},{"$f":"Tabel3[[#This Row],[Petfood]]","v":"-"},{"$f":"Tabel3[[#This Row],[Alcoholic Beverages]]","v":"K"},{"$f":"Tabel3[[#This Row],[Tobacco]]","v":"-"},{"$f":"Tabel3[[#This Row],[Self-care medicines]]","v":"M"},{"$f":"Tabel3[[#This Row],[Special Food]]","v":"N"},{"$f":"Tabel3[[#This Row],[Food Supplements]]","v":"O"},{"$f":"Tabel3[[#This Row],[Healthcare Products]]","v":"P"},{"$f":"Tabel3[[#This Row],[Medical Devices]]","v":"Q"},{"$f":"Tabel3[[#This Row],[Batteries]]","v":"R"},{"$f":"Tabel3[[#This Row],[Light Bulbs]]","v":"S"},{"$f":"Tabel3[[#This Row],[Other Categories]]","v":"T"}]
[{"$f":"VLOOKUP(Tabel3[[#This Row],[GAE ID]],'BES EN'!A:AJ,36,FALSE)","v":"Is diet type marked on package"},{"$f":"Tabel3[[#This Row],[GDSN-naam]]","v":"isDietTypeMarkedOnPackage"},{"$f":"Tabel3[[#This Row],[GDM Verplicht / Conditioneel]]","v":"X"},{"$f":"Tabel3[[#This Row],[DMS controle]]","v":"X"},{"$f":"Tabel3[[#This Row],[BMS ID]]","v":6302},{"$f":"Tabel3[[#This Row],[Formaat]]","v":"Non-binary logic enumeration"},{"$f":"Tabel3[[#This Row],[X Path]]","v":"/catalogue_item_notification:catalogueItemNotificationMessage/transaction/documentCommand/catalogue_item_notification:catalogueItemNotification/catalogueItem/tradeItem/tradeItemInformation/extension/*[namespace-uri()='urn:gs1:gdsn:diet_information:xsd:3' and local-name()='dietInformationModule']/dietInformation/dietTypeInformation/isDietTypeMarkedOnPackage"},{"$f":"Tabel3[[#This Row],[GDM laag]]","v":"Local"},{"$f":"VLOOKUP(Tabel3[[#This Row],[GAE ID]],'BES EN'!A:AJ,27,FALSE)","v":"Mandatory, if the claim that is populated in the ‘Diet type code’ field is not stated on the package."},null,{"$f":"Tabel3[[#This Row],[Dairy, Refrigerated & Frozen]]","v":"A"},{"$f":"Tabel3[[#This Row],[Deli & Prepared]]","v":"B"},{"$f":"Tabel3[[#This Row],[Fresh Meat]]","v":"C"},{"$f":"Tabel3[[#This Row],[Fresh Fish]]","v":"D"},{"$f":"Tabel3[[#This Row],[Fresh Fruits & Vegetables]]","v":"E"},{"$f":"Tabel3[[#This Row],[Grocery]]","v":"F"},{"$f":"Tabel3[[#This Row],[Cleaners]]","v":"-"},{"$f":"Tabel3[[#This Row],[Disposables]]","v":"-"},{"$f":"Tabel3[[#This Row],[Beauty & Personal Care]]","v":"-"},{"$f":"Tabel3[[#This Row],[Petfood]]","v":"-"},{"$f":"Tabel3[[#This Row],[Alcoholic Beverages]]","v":"K"},{"$f":"Tabel3[[#This Row],[Tobacco]]","v":"-"},{"$f":"Tabel3[[#This Row],[Self-care medicines]]","v":"M"},{"$f":"Tabel3[[#This Row],[Special Food]]","v":"N"},{"$f":"Tabel3[[#This Row],[Food Supplements]]","v":"O"},{"$f":"Tabel3[[#This Row],[Healthcare Products]]","v":"P"},{"$f":"Tabel3[[#This Row],[Medical Devices]]","v":"Q"},{"$f":"Tabel3[[#This Row],[Batteries]]","v":"R"},{"$f":"Tabel3[[#This Row],[Light Bulbs]]","v":"S"},{"$f":"Tabel3[[#This Row],[Other Categories]]","v":"T"}]
[{"$f":"VLOOKUP(Tabel3[[#This Row],[GAE ID]],'BES EN'!A:AJ,36,FALSE)","v":"Nutritional program code"},{"$f":"Tabel3[[#This Row],[GDSN-naam]]","v":"nutritionalProgramCode"},{"$f":"Tabel3[[#This Row],[GDM Verplicht / Conditioneel]]","v":"X"},{"$f":"Tabel3[[#This Row],[DMS controle]]","v":0},{"$f":"Tabel3[[#This Row],[BMS ID]]","v":268},{"$f":"Tabel3[[#This Row],[Formaat]]","v":"Defined values"},{"$f":"Tabel3[[#This Row],[X Path]]","v":"/catalogue_item_notification:catalogueItemNotificationMessage/transaction/documentCommand/catalogue_item_notification:catalogueItemNotification/catalogueItem/tradeItem/tradeItemInformation/extension/*[namespace-uri()='urn:gs1:gdsn:health_related_information:xsd:3' and local-name()='healthRelatedInformationModule']/healthRelatedInformation/nutritionalProgram/nutritionalProgramCode"},{"$f":"Tabel3[[#This Row],[GDM laag]]","v":"Local"},{"$f":"VLOOKUP(Tabel3[[#This Row],[GAE ID]],'BES EN'!A:AJ,27,FALSE)","v":"Mandatory for food and special food products if Nutri-Score is stated on the packaging."},null,{"$f":"Tabel3[[#This Row],[Dairy, Refrigerated & Frozen]]","v":"A"},{"$f":"Tabel3[[#This Row],[Deli & Prepared]]","v":"B"},{"$f":"Tabel3[[#This Row],[Fresh Meat]]","v":"C"},{"$f":"Tabel3[[#This Row],[Fresh Fish]]","v":"D"},{"$f":"Tabel3[[#This Row],[Fresh Fruits & Vegetables]]","v":"E"},{"$f":"Tabel3[[#This Row],[Grocery]]","v":"F"},{"$f":"Tabel3[[#This Row],[Cleaners]]","v":"-"},{"$f":"Tabel3[[#This Row],[Disposables]]","v":"-"},{"$f":"Tabel3[[#This Row],[Beauty & Personal Care]]","v":"-"},{"$f":"Tabel3[[#This Row],[Petfood]]","v":"-"},{"$f":"Tabel3[[#This Row],[Alcoholic Beverages]]","v":"-"},{"$f":"Tabel3[[#This Row],[Tobacco]]","v":"-"},{"$f":"Tabel3[[#This Row],[Self-care medicines]]","v":"-"},{"$f":"Tabel3[[#This Row],[Special Food]]","v":"N"},{"$f":"Tabel3[[#This Row],[Food Supplements]]","v":"-"},{"$f":"Tabel3[[#This Row],[Healthcare Products]]","v":"-"},{"$f":"Tabel3[[#This Row],[Medical Devices]]","v":"-"},{"$f":"Tabel3[[#This Row],[Batteries]]","v":"-"},{"$f":"Tabel3[[#This Row],[Light Bulbs]]","v":"-"},{"$f":"Tabel3[[#This Row],[Other Categories]]","v":"-"}]
[{"$f":"VLOOKUP(Tabel3[[#This Row],[GAE ID]],'BES EN'!A:AJ,36,FALSE)","v":"Code Nutri-Score"},{"$f":"Tabel3[[#This Row],[GDSN-naam]]","v":"nutritionalScore"},{"$f":"Tabel3[[#This Row],[GDM Verplicht / Conditioneel]]","v":"X"},{"$f":"Tabel3[[#This Row],[DMS controle]]","v":0},{"$f":"Tabel3[[#This Row],[BMS ID]]","v":6160},{"$f":"Tabel3[[#This Row],[Formaat]]","v":"an..80"},{"$f":"Tabel3[[#This Row],[X Path]]","v":"/catalogue_item_notification:catalogueItemNotificationMessage/transaction/documentCommand/catalogue_item_notification:catalogueItemNotification/catalogueItem/tradeItem/tradeItemInformation/extension/*[namespace-uri()='urn:gs1:gdsn:health_related_information:xsd:3' and local-name()='healthRelatedInformationModule']/healthRelatedInformation/nutritionalProgram/nutritionalScore"},{"$f":"Tabel3[[#This Row],[GDM laag]]","v":"Local"},{"$f":"VLOOKUP(Tabel3[[#This Row],[GAE ID]],'BES EN'!A:AJ,27,FALSE)","v":"Mandatory for food and special food products if Nutri-Score is stated on the packaging."},null,{"$f":"Tabel3[[#This Row],[Dairy, Refrigerated & Frozen]]","v":"A"},{"$f":"Tabel3[[#This Row],[Deli & Prepared]]","v":"B"},{"$f":"Tabel3[[#This Row],[Fresh Meat]]","v":"C"},{"$f":"Tabel3[[#This Row],[Fresh Fish]]","v":"D"},{"$f":"Tabel3[[#This Row],[Fresh Fruits & Vegetables]]","v":"E"},{"$f":"Tabel3[[#This Row],[Grocery]]","v":"F"},{"$f":"Tabel3[[#This Row],[Cleaners]]","v":"-"},{"$f":"Tabel3[[#This Row],[Disposables]]","v":"-"},{"$f":"Tabel3[[#This Row],[Beauty & Personal Care]]","v":"-"},{"$f":"Tabel3[[#This Row],[Petfood]]","v":"-"},{"$f":"Tabel3[[#This Row],[Alcoholic Beverages]]","v":"-"},{"$f":"Tabel3[[#This Row],[Tobacco]]","v":"-"},{"$f":"Tabel3[[#This Row],[Self-care medicines]]","v":"-"},{"$f":"Tabel3[[#This Row],[Special Food]]","v":"N"},{"$f":"Tabel3[[#This Row],[Food Supplements]]","v":"-"},{"$f":"Tabel3[[#This Row],[Healthcare Products]]","v":"-"},{"$f":"Tabel3[[#This Row],[Medical Devices]]","v":"-"},{"$f":"Tabel3[[#This Row],[Batteries]]","v":"-"},{"$f":"Tabel3[[#This Row],[Light Bulbs]]","v":"-"},{"$f":"Tabel3[[#This Row],[Other Categories]]","v":"-"}]
[{"$f":"VLOOKUP(Tabel3[[#This Row],[GAE ID]],'BES EN'!A:AJ,36,FALSE)","v":"Nutritional program ingredient type code"},{"$f":"Tabel3[[#This Row],[GDSN-naam]]","v":"nutritionalProgramIngredientTypeCode"},{"$f":"Tabel3[[#This Row],[GDM Verplicht / Conditioneel]]","v":"X"},{"$f":"Tabel3[[#This Row],[DMS controle]]","v":0},{"$f":"Tabel3[[#This Row],[BMS ID]]","v":6268},{"$f":"Tabel3[[#This Row],[Formaat]]","v":"Defined values"},{"$f":"Tabel3[[#This Row],[X Path]]","v":"/catalogue_item_notification:catalogueItemNotificationMessage/transaction/documentCommand/catalogue_item_notification:catalogueItemNotification/catalogueItem/tradeItem/tradeItemInformation/extension/*[namespace-uri()='urn:gs1:gdsn:health_related_information:xsd:3' and local-name()='healthRelatedInformationModule']/healthRelatedInformation/nutritionalProgram/nutritionalProgramIngredients/nutritionalProgramIngredientTypeCode"},{"$f":"Tabel3[[#This Row],[GDM laag]]","v":"Local"},{"$f":"VLOOKUP(Tabel3[[#This Row],[GAE ID]],'BES EN'!A:AJ,27,FALSE)","v":0},null,{"$f":"Tabel3[[#This Row],[Dairy, Refrigerated & Frozen]]","v":"A"},{"$f":"Tabel3[[#This Row],[Deli & Prepared]]","v":"B"},{"$f":"Tabel3[[#This Row],[Fresh Meat]]","v":"C"},{"$f":"Tabel3[[#This Row],[Fresh Fish]]","v":"D"},{"$f":"Tabel3[[#This Row],[Fresh Fruits & Vegetables]]","v":"E"},{"$f":"Tabel3[[#This Row],[Grocery]]","v":"F"},{"$f":"Tabel3[[#This Row],[Cleaners]]","v":"-"},{"$f":"Tabel3[[#This Row],[Disposables]]","v":"-"},{"$f":"Tabel3[[#This Row],[Beauty & Personal Care]]","v":"-"},{"$f":"Tabel3[[#This Row],[Petfood]]","v":"-"},{"$f":"Tabel3[[#This Row],[Alcoholic Beverages]]","v":"-"},{"$f":"Tabel3[[#This Row],[Tobacco]]","v":"-"},{"$f":"Tabel3[[#This Row],[Self-care medicines]]","v":"-"},{"$f":"Tabel3[[#This Row],[Special Food]]","v":"N"},{"$f":"Tabel3[[#This Row],[Food Supplements]]","v":"-"},{"$f":"Tabel3[[#This Row],[Healthcare Products]]","v":"-"},{"$f":"Tabel3[[#This Row],[Medical Devices]]","v":"-"},{"$f":"Tabel3[[#This Row],[Batteries]]","v":"-"},{"$f":"Tabel3[[#This Row],[Light Bulbs]]","v":"-"},{"$f":"Tabel3[[#This Row],[Other Categories]]","v":"-"}]
[{"$f":"VLOOKUP(Tabel3[[#This Row],[GAE ID]],'BES EN'!A:AJ,36,FALSE)","v":"Nutritional program ingredient measurement"},{"$f":"Tabel3[[#This Row],[GDSN-naam]]","v":"nutritionalProgramIngredientMeasurement"},{"$f":"Tabel3[[#This Row],[GDM Verplicht / Conditioneel]]","v":"X"},{"$f":"Tabel3[[#This Row],[DMS controle]]","v":0},{"$f":"Tabel3[[#This Row],[BMS ID]]","v":6270},{"$f":"Tabel3[[#This Row],[Formaat]]","v":"n..15"},{"$f":"Tabel3[[#This Row],[X Path]]","v":"/catalogue_item_notification:catalogueItemNotificationMessage/transaction/documentCommand/catalogue_item_notification:catalogueItemNotification/catalogueItem/tradeItem/tradeItemInformation/extension/*[namespace-uri()='urn:gs1:gdsn:health_related_information:xsd:3' and local-name()='healthRelatedInformationModule']/healthRelatedInformation/nutritionalProgram/nutritionalProgramIngredients/nutritionalProgramIngredientMeasurement"},{"$f":"Tabel3[[#This Row],[GDM laag]]","v":"Local"},{"$f":"VLOOKUP(Tabel3[[#This Row],[GAE ID]],'BES EN'!A:AJ,27,FALSE)","v":0},null,{"$f":"Tabel3[[#This Row],[Dairy, Refrigerated & Frozen]]","v":"A"},{"$f":"Tabel3[[#This Row],[Deli & Prepared]]","v":"B"},{"$f":"Tabel3[[#This Row],[Fresh Meat]]","v":"C"},{"$f":"Tabel3[[#This Row],[Fresh Fish]]","v":"D"},{"$f":"Tabel3[[#This Row],[Fresh Fruits & Vegetables]]","v":"E"},{"$f":"Tabel3[[#This Row],[Grocery]]","v":"F"},{"$f":"Tabel3[[#This Row],[Cleaners]]","v":"-"},{"$f":"Tabel3[[#This Row],[Disposables]]","v":"-"},{"$f":"Tabel3[[#This Row],[Beauty & Personal Care]]","v":"-"},{"$f":"Tabel3[[#This Row],[Petfood]]","v":"-"},{"$f":"Tabel3[[#This Row],[Alcoholic Beverages]]","v":"-"},{"$f":"Tabel3[[#This Row],[Tobacco]]","v":"-"},{"$f":"Tabel3[[#This Row],[Self-care medicines]]","v":"-"},{"$f":"Tabel3[[#This Row],[Special Food]]","v":"N"},{"$f":"Tabel3[[#This Row],[Food Supplements]]","v":"-"},{"$f":"Tabel3[[#This Row],[Healthcare Products]]","v":"-"},{"$f":"Tabel3[[#This Row],[Medical Devices]]","v":"-"},{"$f":"Tabel3[[#This Row],[Batteries]]","v":"-"},{"$f":"Tabel3[[#This Row],[Light Bulbs]]","v":"-"},{"$f":"Tabel3[[#This Row],[Other Categories]]","v":"-"}]
[{"$f":"VLOOKUP(Tabel3[[#This Row],[GAE ID]],'BES EN'!A:AJ,36,FALSE)","v":"Nutritional program ingredient measurement UOM"},{"$f":"Tabel3[[#This Row],[GDSN-naam]]","v":"nutritionalProgramIngredientMeasurement/@measurementUnitCode"},{"$f":"Tabel3[[#This Row],[GDM Verplicht / Conditioneel]]","v":"X"},{"$f":"Tabel3[[#This Row],[DMS controle]]","v":0},{"$f":"Tabel3[[#This Row],[BMS ID]]","v":6271},{"$f":"Tabel3[[#This Row],[Formaat]]","v":"Defined values"},{"$f":"Tabel3[[#This Row],[X Path]]","v":"/catalogue_item_notification:catalogueItemNotificationMessage/transaction/documentCommand/catalogue_item_notification:catalogueItemNotification/catalogueItem/tradeItem/tradeItemInformation/extension/*[namespace-uri()='urn:gs1:gdsn:health_related_information:xsd:3' and local-name()='healthRelatedInformationModule']/healthRelatedInformation/nutritionalProgram/nutritionalProgramIngredients/nutritionalProgramIngredientMeasurement/@measurementUnitCode"},{"$f":"Tabel3[[#This Row],[GDM laag]]","v":"Local"},{"$f":"VLOOKUP(Tabel3[[#This Row],[GAE ID]],'BES EN'!A:AJ,27,FALSE)","v":"Mandatory if 'Nutritional program ingredient measurement' is populated"},null,{"$f":"Tabel3[[#This Row],[Dairy, Refrigerated & Frozen]]","v":"A"},{"$f":"Tabel3[[#This Row],[Deli & Prepared]]","v":"B"},{"$f":"Tabel3[[#This Row],[Fresh Meat]]","v":"C"},{"$f":"Tabel3[[#This Row],[Fresh Fish]]","v":"D"},{"$f":"Tabel3[[#This Row],[Fresh Fruits & Vegetables]]","v":"E"},{"$f":"Tabel3[[#This Row],[Grocery]]","v":"F"},{"$f":"Tabel3[[#This Row],[Cleaners]]","v":"-"},{"$f":"Tabel3[[#This Row],[Disposables]]","v":"-"},{"$f":"Tabel3[[#This Row],[Beauty & Personal Care]]","v":"-"},{"$f":"Tabel3[[#This Row],[Petfood]]","v":"-"},{"$f":"Tabel3[[#This Row],[Alcoholic Beverages]]","v":"-"},{"$f":"Tabel3[[#This Row],[Tobacco]]","v":"-"},{"$f":"Tabel3[[#This Row],[Self-care medicines]]","v":"-"},{"$f":"Tabel3[[#This Row],[Special Food]]","v":"N"},{"$f":"Tabel3[[#This Row],[Food Supplements]]","v":"-"},{"$f":"Tabel3[[#This Row],[Healthcare Products]]","v":"-"},{"$f":"Tabel3[[#This Row],[Medical Devices]]","v":"-"},{"$f":"Tabel3[[#This Row],[Batteries]]","v":"-"},{"$f":"Tabel3[[#This Row],[Light Bulbs]]","v":"-"},{"$f":"Tabel3[[#This Row],[Other Categories]]","v":"-"}]
["E-commerce information",null,{"$f":"Tabel3[[#This Row],[GDM Verplicht / Conditioneel]]","v":0},"",null,"","",null,null,null,"A","B","C","D","E","F","G","H","I","J","K","L","M","N","O","P","Q","R","S","T"]
[{"$f":"VLOOKUP(Tabel3[[#This Row],[GAE ID]],'BES EN'!A:AJ,36,FALSE)","v":"Trade item marketing message"},{"$f":"Tabel3[[#This Row],[GDSN-naam]]","v":"tradeItemMarketingMessage"},{"$f":"Tabel3[[#This Row],[GDM Verplicht / Conditioneel]]","v":"Conditional"},{"$f":"Tabel3[[#This Row],[DMS controle]]","v":0},{"$f":"Tabel3[[#This Row],[BMS ID]]","v":1498},{"$f":"Tabel3[[#This Row],[Formaat]]","v":"an..4000"},{"$f":"Tabel3[[#This Row],[X Path]]","v":"/catalogue_item_notification:catalogueItemNotificationMessage/transaction/documentCommand/catalogue_item_notification:catalogueItemNotification/catalogueItem/tradeItem/tradeItemInformation/extension/*[namespace-uri()='urn:gs1:gdsn:marketing_information:xsd:3' and local-name()='marketingInformationModule']/marketingInformation/tradeItemMarketingMessage"},{"$f":"Tabel3[[#This Row],[GDM laag]]","v":"Global"},{"$f":"VLOOKUP(Tabel3[[#This Row],[GAE ID]],'BES EN'!A:AJ,27,FALSE)","v":" "},null,{"$f":"Tabel3[[#This Row],[Dairy, Refrigerated & Frozen]]","v":"A"},{"$f":"Tabel3[[#This Row],[Deli & Prepared]]","v":"B"},{"$f":"Tabel3[[#This Row],[Fresh Meat]]","v":"C"},{"$f":"Tabel3[[#This Row],[Fresh Fish]]","v":"D"},{"$f":"Tabel3[[#This Row],[Fresh Fruits & Vegetables]]","v":"E"},{"$f":"Tabel3[[#This Row],[Grocery]]","v":"F"},{"$f":"Tabel3[[#This Row],[Cleaners]]","v":"G"},{"$f":"Tabel3[[#This Row],[Disposables]]","v":"H"},{"$f":"Tabel3[[#This Row],[Beauty & Personal Care]]","v":"I"},{"$f":"Tabel3[[#This Row],[Petfood]]","v":"J"},{"$f":"Tabel3[[#This Row],[Alcoholic Beverages]]","v":"K"},{"$f":"Tabel3[[#This Row],[Tobacco]]","v":"-"},{"$f":"Tabel3[[#This Row],[Self-care medicines]]","v":"M"},{"$f":"Tabel3[[#This Row],[Special Food]]","v":"N"},{"$f":"Tabel3[[#This Row],[Food Supplements]]","v":"O"},{"$f":"Tabel3[[#This Row],[Healthcare Products]]","v":"P"},{"$f":"Tabel3[[#This Row],[Medical Devices]]","v":"Q"},{"$f":"Tabel3[[#This Row],[Batteries]]","v":"R"},{"$f":"Tabel3[[#This Row],[Light Bulbs]]","v":"S"},{"$f":"Tabel3[[#This Row],[Other Categories]]","v":"T"}]
[{"$f":"VLOOKUP(Tabel3[[#This Row],[GAE ID]],'BES EN'!A:AJ,36,FALSE)","v":"Trade item marketing message language code"},{"$f":"Tabel3[[#This Row],[GDSN-naam]]","v":"tradeItemMarketingMessage/@languageCode"},{"$f":"Tabel3[[#This Row],[GDM Verplicht / Conditioneel]]","v":"Conditional"},{"$f":"Tabel3[[#This Row],[DMS controle]]","v":0},{"$f":"Tabel3[[#This Row],[BMS ID]]","v":1499},{"$f":"Tabel3[[#This Row],[Formaat]]","v":"Defined values"},{"$f":"Tabel3[[#This Row],[X Path]]","v":"/catalogue_item_notification:catalogueItemNotificationMessage/transaction/documentCommand/catalogue_item_notification:catalogueItemNotification/catalogueItem/tradeItem/tradeItemInformation/extension/*[namespace-uri()='urn:gs1:gdsn:marketing_information:xsd:3' and local-name()='marketingInformationModule']/marketingInformation/tradeItemMarketingMessage/@languageCode"},{"$f":"Tabel3[[#This Row],[GDM laag]]","v":"Global"},{"$f":"VLOOKUP(Tabel3[[#This Row],[GAE ID]],'BES EN'!A:AJ,27,FALSE)","v":"Mandatory if 'Trade item marketing message' is populated."},null,{"$f":"Tabel3[[#This Row],[Dairy, Refrigerated & Frozen]]","v":"A"},{"$f":"Tabel3[[#This Row],[Deli & Prepared]]","v":"B"},{"$f":"Tabel3[[#This Row],[Fresh Meat]]","v":"C"},{"$f":"Tabel3[[#This Row],[Fresh Fish]]","v":"D"},{"$f":"Tabel3[[#This Row],[Fresh Fruits & Vegetables]]","v":"E"},{"$f":"Tabel3[[#This Row],[Grocery]]","v":"F"},{"$f":"Tabel3[[#This Row],[Cleaners]]","v":"G"},{"$f":"Tabel3[[#This Row],[Disposables]]","v":"H"},{"$f":"Tabel3[[#This Row],[Beauty & Personal Care]]","v":"I"},{"$f":"Tabel3[[#This Row],[Petfood]]","v":"J"},{"$f":"Tabel3[[#This Row],[Alcoholic Beverages]]","v":"K"},{"$f":"Tabel3[[#This Row],[Tobacco]]","v":"-"},{"$f":"Tabel3[[#This Row],[Self-care medicines]]","v":"M"},{"$f":"Tabel3[[#This Row],[Special Food]]","v":"N"},{"$f":"Tabel3[[#This Row],[Food Supplements]]","v":"O"},{"$f":"Tabel3[[#This Row],[Healthcare Products]]","v":"P"},{"$f":"Tabel3[[#This Row],[Medical Devices]]","v":"Q"},{"$f":"Tabel3[[#This Row],[Batteries]]","v":"R"},{"$f":"Tabel3[[#This Row],[Light Bulbs]]","v":"S"},{"$f":"Tabel3[[#This Row],[Other Categories]]","v":"T"}]
[{"$f":"VLOOKUP(Tabel3[[#This Row],[GAE ID]],'BES EN'!A:AJ,36,FALSE)","v":"Trade item marketing message sequence number"},{"$f":"Tabel3[[#This Row],[GDSN-naam]]","v":"tradeItemMarketingMessage/@sequenceNumber"},{"$f":"Tabel3[[#This Row],[GDM Verplicht / Conditioneel]]","v":"Conditional"},{"$f":"Tabel3[[#This Row],[DMS controle]]","v":0},{"$f":"Tabel3[[#This Row],[BMS ID]]","v":5835},{"$f":"Tabel3[[#This Row],[Formaat]]","v":"Non-negative integer"},{"$f":"Tabel3[[#This Row],[X Path]]","v":"/catalogue_item_notification:catalogueItemNotificationMessage/transaction/documentCommand/catalogue_item_notification:catalogueItemNotification/catalogueItem/tradeItem/tradeItemInformation/extension/*[namespace-uri()='urn:gs1:gdsn:marketing_information:xsd:3' and local-name()='marketingInformationModule']/marketingInformation/tradeItemMarketingMessage/@sequenceNumber"},{"$f":"Tabel3[[#This Row],[GDM laag]]","v":"Global"},{"$f":"VLOOKUP(Tabel3[[#This Row],[GAE ID]],'BES EN'!A:AJ,27,FALSE)","v":"Mandatory if 'Trade item marketing message' is used more than once for the same language code."},null,{"$f":"Tabel3[[#This Row],[Dairy, Refrigerated & Frozen]]","v":"A"},{"$f":"Tabel3[[#This Row],[Deli & Prepared]]","v":"B"},{"$f":"Tabel3[[#This Row],[Fresh Meat]]","v":"C"},{"$f":"Tabel3[[#This Row],[Fresh Fish]]","v":"D"},{"$f":"Tabel3[[#This Row],[Fresh Fruits & Vegetables]]","v":"E"},{"$f":"Tabel3[[#This Row],[Grocery]]","v":"F"},{"$f":"Tabel3[[#This Row],[Cleaners]]","v":"G"},{"$f":"Tabel3[[#This Row],[Disposables]]","v":"H"},{"$f":"Tabel3[[#This Row],[Beauty & Personal Care]]","v":"I"},{"$f":"Tabel3[[#This Row],[Petfood]]","v":"J"},{"$f":"Tabel3[[#This Row],[Alcoholic Beverages]]","v":"K"},{"$f":"Tabel3[[#This Row],[Tobacco]]","v":"-"},{"$f":"Tabel3[[#This Row],[Self-care medicines]]","v":"M"},{"$f":"Tabel3[[#This Row],[Special Food]]","v":"N"},{"$f":"Tabel3[[#This Row],[Food Supplements]]","v":"O"},{"$f":"Tabel3[[#This Row],[Healthcare Products]]","v":"P"},{"$f":"Tabel3[[#This Row],[Medical Devices]]","v":"Q"},{"$f":"Tabel3[[#This Row],[Batteries]]","v":"R"},{"$f":"Tabel3[[#This Row],[Light Bulbs]]","v":"S"},{"$f":"Tabel3[[#This Row],[Other Categories]]","v":"T"}]
[{"$f":"VLOOKUP(Tabel3[[#This Row],[GAE ID]],'BES EN'!A:AJ,36,FALSE)","v":"Trade item key words"},{"$f":"Tabel3[[#This Row],[GDSN-naam]]","v":"tradeItemKeyWords"},{"$f":"Tabel3[[#This Row],[GDM Verplicht / Conditioneel]]","v":"Conditional"},{"$f":"Tabel3[[#This Row],[DMS controle]]","v":0},{"$f":"Tabel3[[#This Row],[BMS ID]]","v":1530},{"$f":"Tabel3[[#This Row],[Formaat]]","v":"an..1000"},{"$f":"Tabel3[[#This Row],[X Path]]","v":"/catalogue_item_notification:catalogueItemNotificationMessage/transaction/documentCommand/catalogue_item_notification:catalogueItemNotification/catalogueItem/tradeItem/tradeItemInformation/extension/*[namespace-uri()='urn:gs1:gdsn:marketing_information:xsd:3' and local-name()='marketingInformationModule']/marketingInformation/tradeItemKeyWords"},{"$f":"Tabel3[[#This Row],[GDM laag]]","v":"Regional EU"},{"$f":"VLOOKUP(Tabel3[[#This Row],[GAE ID]],'BES EN'!A:AJ,27,FALSE)","v":0},null,{"$f":"Tabel3[[#This Row],[Dairy, Refrigerated & Frozen]]","v":"A"},{"$f":"Tabel3[[#This Row],[Deli & Prepared]]","v":"B"},{"$f":"Tabel3[[#This Row],[Fresh Meat]]","v":"C"},{"$f":"Tabel3[[#This Row],[Fresh Fish]]","v":"D"},{"$f":"Tabel3[[#This Row],[Fresh Fruits & Vegetables]]","v":"E"},{"$f":"Tabel3[[#This Row],[Grocery]]","v":"F"},{"$f":"Tabel3[[#This Row],[Cleaners]]","v":"G"},{"$f":"Tabel3[[#This Row],[Disposables]]","v":"H"},{"$f":"Tabel3[[#This Row],[Beauty & Personal Care]]","v":"I"},{"$f":"Tabel3[[#This Row],[Petfood]]","v":"J"},{"$f":"Tabel3[[#This Row],[Alcoholic Beverages]]","v":"K"},{"$f":"Tabel3[[#This Row],[Tobacco]]","v":"L"},{"$f":"Tabel3[[#This Row],[Self-care medicines]]","v":"M"},{"$f":"Tabel3[[#This Row],[Special Food]]","v":"N"},{"$f":"Tabel3[[#This Row],[Food Supplements]]","v":"O"},{"$f":"Tabel3[[#This Row],[Healthcare Products]]","v":"P"},{"$f":"Tabel3[[#This Row],[Medical Devices]]","v":"Q"},{"$f":"Tabel3[[#This Row],[Batteries]]","v":"R"},{"$f":"Tabel3[[#This Row],[Light Bulbs]]","v":"S"},{"$f":"Tabel3[[#This Row],[Other Categories]]","v":"T"}]
[{"$f":"VLOOKUP(Tabel3[[#This Row],[GAE ID]],'BES EN'!A:AJ,36,FALSE)","v":"Trade item key words language code"},{"$f":"Tabel3[[#This Row],[GDSN-naam]]","v":"tradeItemKeyWords/@languageCode"},{"$f":"Tabel3[[#This Row],[GDM Verplicht / Conditioneel]]","v":"Conditional"},{"$f":"Tabel3[[#This Row],[DMS controle]]","v":0},{"$f":"Tabel3[[#This Row],[BMS ID]]","v":1531},{"$f":"Tabel3[[#This Row],[Formaat]]","v":"Defined values"},{"$f":"Tabel3[[#This Row],[X Path]]","v":"/catalogue_item_notification:catalogueItemNotificationMessage/transaction/documentCommand/catalogue_item_notification:catalogueItemNotification/catalogueItem/tradeItem/tradeItemInformation/extension/*[namespace-uri()='urn:gs1:gdsn:marketing_information:xsd:3' and local-name()='marketingInformationModule']/marketingInformation/tradeItemKeyWords/@languageCode"},{"$f":"Tabel3[[#This Row],[GDM laag]]","v":"Regional EU"},{"$f":"VLOOKUP(Tabel3[[#This Row],[GAE ID]],'BES EN'!A:AJ,27,FALSE)","v":"Mandatory if 'Trade item key words' is populated for a consumer unit."},null,{"$f":"Tabel3[[#This Row],[Dairy, Refrigerated & Frozen]]","v":"A"},{"$f":"Tabel3[[#This Row],[Deli & Prepared]]","v":"B"},{"$f":"Tabel3[[#This Row],[Fresh Meat]]","v":"C"},{"$f":"Tabel3[[#This Row],[Fresh Fish]]","v":"D"},{"$f":"Tabel3[[#This Row],[Fresh Fruits & Vegetables]]","v":"E"},{"$f":"Tabel3[[#This Row],[Grocery]]","v":"F"},{"$f":"Tabel3[[#This Row],[Cleaners]]","v":"G"},{"$f":"Tabel3[[#This Row],[Disposables]]","v":"H"},{"$f":"Tabel3[[#This Row],[Beauty & Personal Care]]","v":"I"},{"$f":"Tabel3[[#This Row],[Petfood]]","v":"J"},{"$f":"Tabel3[[#This Row],[Alcoholic Beverages]]","v":"K"},{"$f":"Tabel3[[#This Row],[Tobacco]]","v":"L"},{"$f":"Tabel3[[#This Row],[Self-care medicines]]","v":"M"},{"$f":"Tabel3[[#This Row],[Special Food]]","v":"N"},{"$f":"Tabel3[[#This Row],[Food Supplements]]","v":"O"},{"$f":"Tabel3[[#This Row],[Healthcare Products]]","v":"P"},{"$f":"Tabel3[[#This Row],[Medical Devices]]","v":"Q"},{"$f":"Tabel3[[#This Row],[Batteries]]","v":"R"},{"$f":"Tabel3[[#This Row],[Light Bulbs]]","v":"S"},{"$f":"Tabel3[[#This Row],[Other Categories]]","v":"T"}]
[{"$f":"VLOOKUP(Tabel3[[#This Row],[GAE ID]],'BES EN'!A:AJ,36,FALSE)","v":"Packaging feature code"},{"$f":"Tabel3[[#This Row],[GDSN-naam]]","v":"packagingFeatureCode"},{"$f":"Tabel3[[#This Row],[GDM Verplicht / Conditioneel]]","v":"Optional"},{"$f":"Tabel3[[#This Row],[DMS controle]]","v":""},{"$f":"Tabel3[[#This Row],[BMS ID]]","v":2166},{"$f":"Tabel3[[#This Row],[Formaat]]","v":"Defined values"},{"$f":"Tabel3[[#This Row],[X Path]]","v":"/catalogue_item_notification:catalogueItemNotificationMessage/transaction/documentCommand/catalogue_item_notification:catalogueItemNotification/catalogueItem/tradeItem/tradeItemInformation/extension/*[namespace-uri()='urn:gs1:gdsn:packaging_information:xsd:3' and local-name()='packagingInformationModule']/packaging/packagingFeatureCode"},{"$f":"Tabel3[[#This Row],[GDM laag]]","v":"Regional EU"},{"$f":"VLOOKUP(Tabel3[[#This Row],[GAE ID]],'BES EN'!A:AJ,27,FALSE)","v":0},null,{"$f":"Tabel3[[#This Row],[Dairy, Refrigerated & Frozen]]","v":"A"},{"$f":"Tabel3[[#This Row],[Deli & Prepared]]","v":"B"},{"$f":"Tabel3[[#This Row],[Fresh Meat]]","v":"C"},{"$f":"Tabel3[[#This Row],[Fresh Fish]]","v":"D"},{"$f":"Tabel3[[#This Row],[Fresh Fruits & Vegetables]]","v":"E"},{"$f":"Tabel3[[#This Row],[Grocery]]","v":"F"},{"$f":"Tabel3[[#This Row],[Cleaners]]","v":"G"},{"$f":"Tabel3[[#This Row],[Disposables]]","v":"H"},{"$f":"Tabel3[[#This Row],[Beauty & Personal Care]]","v":"I"},{"$f":"Tabel3[[#This Row],[Petfood]]","v":"J"},{"$f":"Tabel3[[#This Row],[Alcoholic Beverages]]","v":"K"},{"$f":"Tabel3[[#This Row],[Tobacco]]","v":"L"},{"$f":"Tabel3[[#This Row],[Self-care medicines]]","v":"M"},{"$f":"Tabel3[[#This Row],[Special Food]]","v":"N"},{"$f":"Tabel3[[#This Row],[Food Supplements]]","v":"O"},{"$f":"Tabel3[[#This Row],[Healthcare Products]]","v":"P"},{"$f":"Tabel3[[#This Row],[Medical Devices]]","v":"Q"},{"$f":"Tabel3[[#This Row],[Batteries]]","v":"R"},{"$f":"Tabel3[[#This Row],[Light Bulbs]]","v":"S"},{"$f":"Tabel3[[#This Row],[Other Categories]]","v":"T"}]
[{"$f":"VLOOKUP(Tabel3[[#This Row],[GAE ID]],'BES EN'!A:AJ,36,FALSE)","v":"Trade item feature benefit"},{"$f":"Tabel3[[#This Row],[GDSN-naam]]","v":"tradeItemFeatureBenefit"},{"$f":"Tabel3[[#This Row],[GDM Verplicht / Conditioneel]]","v":"Conditional"},{"$f":"Tabel3[[#This Row],[DMS controle]]","v":0},{"$f":"Tabel3[[#This Row],[BMS ID]]","v":1494},{"$f":"Tabel3[[#This Row],[Formaat]]","v":"an..250"},{"$f":"Tabel3[[#This Row],[X Path]]","v":"/catalogue_item_notification:catalogueItemNotificationMessage/transaction/documentCommand/catalogue_item_notification:catalogueItemNotification/catalogueItem/tradeItem/tradeItemInformation/extension/*[namespace-uri()='urn:gs1:gdsn:marketing_information:xsd:3' and local-name()='marketingInformationModule']/marketingInformation/tradeItemFeatureBenefit"},{"$f":"Tabel3[[#This Row],[GDM laag]]","v":"Global"},{"$f":"VLOOKUP(Tabel3[[#This Row],[GAE ID]],'BES EN'!A:AJ,27,FALSE)","v":0},null,{"$f":"Tabel3[[#This Row],[Dairy, Refrigerated & Frozen]]","v":"A"},{"$f":"Tabel3[[#This Row],[Deli & Prepared]]","v":"B"},{"$f":"Tabel3[[#This Row],[Fresh Meat]]","v":"C"},{"$f":"Tabel3[[#This Row],[Fresh Fish]]","v":"D"},{"$f":"Tabel3[[#This Row],[Fresh Fruits & Vegetables]]","v":"E"},{"$f":"Tabel3[[#This Row],[Grocery]]","v":"F"},{"$f":"Tabel3[[#This Row],[Cleaners]]","v":"G"},{"$f":"Tabel3[[#This Row],[Disposables]]","v":"H"},{"$f":"Tabel3[[#This Row],[Beauty & Personal Care]]","v":"I"},{"$f":"Tabel3[[#This Row],[Petfood]]","v":"J"},{"$f":"Tabel3[[#This Row],[Alcoholic Beverages]]","v":"K"},{"$f":"Tabel3[[#This Row],[Tobacco]]","v":"L"},{"$f":"Tabel3[[#This Row],[Self-care medicines]]","v":"M"},{"$f":"Tabel3[[#This Row],[Special Food]]","v":"N"},{"$f":"Tabel3[[#This Row],[Food Supplements]]","v":"O"},{"$f":"Tabel3[[#This Row],[Healthcare Products]]","v":"P"},{"$f":"Tabel3[[#This Row],[Medical Devices]]","v":"Q"},{"$f":"Tabel3[[#This Row],[Batteries]]","v":"R"},{"$f":"Tabel3[[#This Row],[Light Bulbs]]","v":"S"},{"$f":"Tabel3[[#This Row],[Other Categories]]","v":"T"}]
[{"$f":"VLOOKUP(Tabel3[[#This Row],[GAE ID]],'BES EN'!A:AJ,36,FALSE)","v":"Trade item feature benefit language code"},{"$f":"Tabel3[[#This Row],[GDSN-naam]]","v":"tradeItemFeatureBenefit/@languageCode"},{"$f":"Tabel3[[#This Row],[GDM Verplicht / Conditioneel]]","v":"Conditional"},{"$f":"Tabel3[[#This Row],[DMS controle]]","v":0},{"$f":"Tabel3[[#This Row],[BMS ID]]","v":1495},{"$f":"Tabel3[[#This Row],[Formaat]]","v":"Defined values"},{"$f":"Tabel3[[#This Row],[X Path]]","v":"/catalogue_item_notification:catalogueItemNotificationMessage/transaction/documentCommand/catalogue_item_notification:catalogueItemNotification/catalogueItem/tradeItem/tradeItemInformation/extension/*[namespace-uri()='urn:gs1:gdsn:marketing_information:xsd:3' and local-name()='marketingInformationModule']/marketingInformation/tradeItemFeatureBenefit/@languageCode"},{"$f":"Tabel3[[#This Row],[GDM laag]]","v":"Global"},{"$f":"VLOOKUP(Tabel3[[#This Row],[GAE ID]],'BES EN'!A:AJ,27,FALSE)","v":"Mandatory if 'Trade item feature benefit' is populated for a consumer  unit."},null,{"$f":"Tabel3[[#This Row],[Dairy, Refrigerated & Frozen]]","v":"A"},{"$f":"Tabel3[[#This Row],[Deli & Prepared]]","v":"B"},{"$f":"Tabel3[[#This Row],[Fresh Meat]]","v":"C"},{"$f":"Tabel3[[#This Row],[Fresh Fish]]","v":"D"},{"$f":"Tabel3[[#This Row],[Fresh Fruits & Vegetables]]","v":"E"},{"$f":"Tabel3[[#This Row],[Grocery]]","v":"F"},{"$f":"Tabel3[[#This Row],[Cleaners]]","v":"G"},{"$f":"Tabel3[[#This Row],[Disposables]]","v":"H"},{"$f":"Tabel3[[#This Row],[Beauty & Personal Care]]","v":"I"},{"$f":"Tabel3[[#This Row],[Petfood]]","v":"J"},{"$f":"Tabel3[[#This Row],[Alcoholic Beverages]]","v":"K"},{"$f":"Tabel3[[#This Row],[Tobacco]]","v":"L"},{"$f":"Tabel3[[#This Row],[Self-care medicines]]","v":"M"},{"$f":"Tabel3[[#This Row],[Special Food]]","v":"N"},{"$f":"Tabel3[[#This Row],[Food Supplements]]","v":"O"},{"$f":"Tabel3[[#This Row],[Healthcare Products]]","v":"P"},{"$f":"Tabel3[[#This Row],[Medical Devices]]","v":"Q"},{"$f":"Tabel3[[#This Row],[Batteries]]","v":"R"},{"$f":"Tabel3[[#This Row],[Light Bulbs]]","v":"S"},{"$f":"Tabel3[[#This Row],[Other Categories]]","v":"T"}]
[{"$f":"VLOOKUP(Tabel3[[#This Row],[GAE ID]],'BES EN'!A:AJ,36,FALSE)","v":"Trade item feature benefit sequence number"},{"$f":"Tabel3[[#This Row],[GDSN-naam]]","v":"tradeItemFeatureBenefit/@sequenceNumber"},{"$f":"Tabel3[[#This Row],[GDM Verplicht / Conditioneel]]","v":"Conditional"},{"$f":"Tabel3[[#This Row],[DMS controle]]","v":0},{"$f":"Tabel3[[#This Row],[BMS ID]]","v":6094},{"$f":"Tabel3[[#This Row],[Formaat]]","v":"Non-negative integer"},{"$f":"Tabel3[[#This Row],[X Path]]","v":"/catalogue_item_notification:catalogueItemNotificationMessage/transaction/documentCommand/catalogue_item_notification:catalogueItemNotification/catalogueItem/tradeItem/tradeItemInformation/extension/*[namespace-uri()='urn:gs1:gdsn:marketing_information:xsd:3' and local-name()='marketingInformationModule']/marketingInformation/tradeItemFeatureBenefit/@sequenceNumber"},{"$f":"Tabel3[[#This Row],[GDM laag]]","v":"Global"},{"$f":"VLOOKUP(Tabel3[[#This Row],[GAE ID]],'BES EN'!A:AJ,27,FALSE)","v":"Mandatory if 'Trade item feature benefit' is used more than once for the same language code."},null,{"$f":"Tabel3[[#This Row],[Dairy, Refrigerated & Frozen]]","v":"A"},{"$f":"Tabel3[[#This Row],[Deli & Prepared]]","v":"B"},{"$f":"Tabel3[[#This Row],[Fresh Meat]]","v":"C"},{"$f":"Tabel3[[#This Row],[Fresh Fish]]","v":"D"},{"$f":"Tabel3[[#This Row],[Fresh Fruits & Vegetables]]","v":"E"},{"$f":"Tabel3[[#This Row],[Grocery]]","v":"F"},{"$f":"Tabel3[[#This Row],[Cleaners]]","v":"G"},{"$f":"Tabel3[[#This Row],[Disposables]]","v":"H"},{"$f":"Tabel3[[#This Row],[Beauty & Personal Care]]","v":"I"},{"$f":"Tabel3[[#This Row],[Petfood]]","v":"J"},{"$f":"Tabel3[[#This Row],[Alcoholic Beverages]]","v":"K"},{"$f":"Tabel3[[#This Row],[Tobacco]]","v":"L"},{"$f":"Tabel3[[#This Row],[Self-care medicines]]","v":"M"},{"$f":"Tabel3[[#This Row],[Special Food]]","v":"N"},{"$f":"Tabel3[[#This Row],[Food Supplements]]","v":"O"},{"$f":"Tabel3[[#This Row],[Healthcare Products]]","v":"P"},{"$f":"Tabel3[[#This Row],[Medical Devices]]","v":"Q"},{"$f":"Tabel3[[#This Row],[Batteries]]","v":"R"},{"$f":"Tabel3[[#This Row],[Light Bulbs]]","v":"S"},{"$f":"Tabel3[[#This Row],[Other Categories]]","v":"T"}]
[{"$f":"VLOOKUP(Tabel3[[#This Row],[GAE ID]],'BES EN'!A:AJ,36,FALSE)","v":"Grade code reference"},{"$f":"Tabel3[[#This Row],[GDSN-naam]]","v":"gradeCodeReference"},{"$f":"Tabel3[[#This Row],[GDM Verplicht / Conditioneel]]","v":"Conditional"},{"$f":"Tabel3[[#This Row],[DMS controle]]","v":"X"},{"$f":"Tabel3[[#This Row],[BMS ID]]","v":1506},{"$f":"Tabel3[[#This Row],[Formaat]]","v":"Defined values"},{"$f":"Tabel3[[#This Row],[X Path]]","v":"/catalogue_item_notification:catalogueItemNotificationMessage/transaction/documentCommand/catalogue_item_notification:catalogueItemNotification/catalogueItem/tradeItem/tradeItemInformation/extension/*[namespace-uri()='urn:gs1:gdsn:marketing_information:xsd:3' and local-name()='marketingInformationModule']/marketingInformation/gradeCodeReference"},{"$f":"Tabel3[[#This Row],[GDM laag]]","v":"Regional EU"},{"$f":"VLOOKUP(Tabel3[[#This Row],[GAE ID]],'BES EN'!A:AJ,27,FALSE)","v":"Mandatory if the product packaging (label) contains the description of the product's evaluation or ranking or class, such as quality, size, weight."},null,{"$f":"Tabel3[[#This Row],[Dairy, Refrigerated & Frozen]]","v":"A"},{"$f":"Tabel3[[#This Row],[Deli & Prepared]]","v":"B"},{"$f":"Tabel3[[#This Row],[Fresh Meat]]","v":"C"},{"$f":"Tabel3[[#This Row],[Fresh Fish]]","v":"D"},{"$f":"Tabel3[[#This Row],[Fresh Fruits & Vegetables]]","v":"E"},{"$f":"Tabel3[[#This Row],[Grocery]]","v":"F"},{"$f":"Tabel3[[#This Row],[Cleaners]]","v":"-"},{"$f":"Tabel3[[#This Row],[Disposables]]","v":"-"},{"$f":"Tabel3[[#This Row],[Beauty & Personal Care]]","v":"-"},{"$f":"Tabel3[[#This Row],[Petfood]]","v":"-"},{"$f":"Tabel3[[#This Row],[Alcoholic Beverages]]","v":"-"},{"$f":"Tabel3[[#This Row],[Tobacco]]","v":"-"},{"$f":"Tabel3[[#This Row],[Self-care medicines]]","v":"M"},{"$f":"Tabel3[[#This Row],[Special Food]]","v":"N"},{"$f":"Tabel3[[#This Row],[Food Supplements]]","v":"O"},{"$f":"Tabel3[[#This Row],[Healthcare Products]]","v":"P"},{"$f":"Tabel3[[#This Row],[Medical Devices]]","v":"Q"},{"$f":"Tabel3[[#This Row],[Batteries]]","v":"R"},{"$f":"Tabel3[[#This Row],[Light Bulbs]]","v":"S"},{"$f":"Tabel3[[#This Row],[Other Categories]]","v":"T"}]
[{"$f":"VLOOKUP(Tabel3[[#This Row],[GAE ID]],'BES EN'!A:AJ,36,FALSE)","v":"Skin product function or treatment code"},{"$f":"Tabel3[[#This Row],[GDSN-naam]]","v":"skinProductFunctionOrTreatmentCode"},{"$f":"Tabel3[[#This Row],[GDM Verplicht / Conditioneel]]","v":"X"},{"$f":"Tabel3[[#This Row],[DMS controle]]","v":0},{"$f":"Tabel3[[#This Row],[BMS ID]]","v":6552},{"$f":"Tabel3[[#This Row],[Formaat]]","v":"Defined values"},{"$f":"Tabel3[[#This Row],[X Path]]","v":"/catalogue_item_notification:catalogueItemNotificationMessage/transaction/documentCommand/catalogue_item_notification:catalogueItemNotification/catalogueItem/tradeItem/tradeItemInformation/extension/*[namespace-uri()='urn:gs1:gdsn:product_information:xsd:3' and local-name()='productInformationModule']/productInformationDetail/beautyPersonalCareHygieneDetail/skinProductInformation/skinProductFunctionOrTreatmentCode"},{"$f":"Tabel3[[#This Row],[GDM laag]]","v":"Local"},{"$f":"VLOOKUP(Tabel3[[#This Row],[GAE ID]],'BES EN'!A:AJ,27,FALSE)","v":0},null,{"$f":"Tabel3[[#This Row],[Dairy, Refrigerated & Frozen]]","v":"-"},{"$f":"Tabel3[[#This Row],[Deli & Prepared]]","v":"-"},{"$f":"Tabel3[[#This Row],[Fresh Meat]]","v":"-"},{"$f":"Tabel3[[#This Row],[Fresh Fish]]","v":"-"},{"$f":"Tabel3[[#This Row],[Fresh Fruits & Vegetables]]","v":"-"},{"$f":"Tabel3[[#This Row],[Grocery]]","v":"-"},{"$f":"Tabel3[[#This Row],[Cleaners]]","v":"-"},{"$f":"Tabel3[[#This Row],[Disposables]]","v":"-"},{"$f":"Tabel3[[#This Row],[Beauty & Personal Care]]","v":"I"},{"$f":"Tabel3[[#This Row],[Petfood]]","v":"-"},{"$f":"Tabel3[[#This Row],[Alcoholic Beverages]]","v":"-"},{"$f":"Tabel3[[#This Row],[Tobacco]]","v":"-"},{"$f":"Tabel3[[#This Row],[Self-care medicines]]","v":"M"},{"$f":"Tabel3[[#This Row],[Special Food]]","v":"-"},{"$f":"Tabel3[[#This Row],[Food Supplements]]","v":"O"},{"$f":"Tabel3[[#This Row],[Healthcare Products]]","v":"P"},{"$f":"Tabel3[[#This Row],[Medical Devices]]","v":"Q"},{"$f":"Tabel3[[#This Row],[Batteries]]","v":"-"},{"$f":"Tabel3[[#This Row],[Light Bulbs]]","v":"-"},{"$f":"Tabel3[[#This Row],[Other Categories]]","v":"-"}]
[{"$f":"VLOOKUP(Tabel3[[#This Row],[GAE ID]],'BES EN'!A:AJ,36,FALSE)","v":"Target skin type code"},{"$f":"Tabel3[[#This Row],[GDSN-naam]]","v":"targetSkinTypeCode"},{"$f":"Tabel3[[#This Row],[GDM Verplicht / Conditioneel]]","v":"X"},{"$f":"Tabel3[[#This Row],[DMS controle]]","v":0},{"$f":"Tabel3[[#This Row],[BMS ID]]","v":6553},{"$f":"Tabel3[[#This Row],[Formaat]]","v":"Defined values"},{"$f":"Tabel3[[#This Row],[X Path]]","v":"/catalogue_item_notification:catalogueItemNotificationMessage/transaction/documentCommand/catalogue_item_notification:catalogueItemNotification/catalogueItem/tradeItem/tradeItemInformation/extension/*[namespace-uri()='urn:gs1:gdsn:product_information:xsd:3' and local-name()='productInformationModule']/productInformationDetail/beautyPersonalCareHygieneDetail/skinProductInformation/targetSkinTypeCode"},{"$f":"Tabel3[[#This Row],[GDM laag]]","v":"Local"},{"$f":"VLOOKUP(Tabel3[[#This Row],[GAE ID]],'BES EN'!A:AJ,27,FALSE)","v":0},null,{"$f":"Tabel3[[#This Row],[Dairy, Refrigerated & Frozen]]","v":"-"},{"$f":"Tabel3[[#This Row],[Deli & Prepared]]","v":"-"},{"$f":"Tabel3[[#This Row],[Fresh Meat]]","v":"-"},{"$f":"Tabel3[[#This Row],[Fresh Fish]]","v":"-"},{"$f":"Tabel3[[#This Row],[Fresh Fruits & Vegetables]]","v":"-"},{"$f":"Tabel3[[#This Row],[Grocery]]","v":"-"},{"$f":"Tabel3[[#This Row],[Cleaners]]","v":"-"},{"$f":"Tabel3[[#This Row],[Disposables]]","v":"-"},{"$f":"Tabel3[[#This Row],[Beauty & Personal Care]]","v":"I"},{"$f":"Tabel3[[#This Row],[Petfood]]","v":"-"},{"$f":"Tabel3[[#This Row],[Alcoholic Beverages]]","v":"-"},{"$f":"Tabel3[[#This Row],[Tobacco]]","v":"-"},{"$f":"Tabel3[[#This Row],[Self-care medicines]]","v":"M"},{"$f":"Tabel3[[#This Row],[Special Food]]","v":"-"},{"$f":"Tabel3[[#This Row],[Food Supplements]]","v":"O"},{"$f":"Tabel3[[#This Row],[Healthcare Products]]","v":"P"},{"$f":"Tabel3[[#This Row],[Medical Devices]]","v":"Q"},{"$f":"Tabel3[[#This Row],[Batteries]]","v":"-"},{"$f":"Tabel3[[#This Row],[Light Bulbs]]","v":"-"},{"$f":"Tabel3[[#This Row],[Other Categories]]","v":"-"}]
[{"$f":"VLOOKUP(Tabel3[[#This Row],[GAE ID]],'BES EN'!A:AJ,36,FALSE)","v":"Hair product function or treatment code"},{"$f":"Tabel3[[#This Row],[GDSN-naam]]","v":"hairProductFunctionOrTreatmentCode"},{"$f":"Tabel3[[#This Row],[GDM Verplicht / Conditioneel]]","v":"X"},{"$f":"Tabel3[[#This Row],[DMS controle]]","v":0},{"$f":"Tabel3[[#This Row],[BMS ID]]","v":6548},{"$f":"Tabel3[[#This Row],[Formaat]]","v":"Defined values"},{"$f":"Tabel3[[#This Row],[X Path]]","v":"/catalogue_item_notification:catalogueItemNotificationMessage/transaction/documentCommand/catalogue_item_notification:catalogueItemNotification/catalogueItem/tradeItem/tradeItemInformation/extension/*[namespace-uri()='urn:gs1:gdsn:product_information:xsd:3' and local-name()='productInformationModule']/productInformationDetail/beautyPersonalCareHygieneDetail/hairProductInformation/hairProductFunctionOrTreatmentCode"},{"$f":"Tabel3[[#This Row],[GDM laag]]","v":"Local"},{"$f":"VLOOKUP(Tabel3[[#This Row],[GAE ID]],'BES EN'!A:AJ,27,FALSE)","v":0},null,{"$f":"Tabel3[[#This Row],[Dairy, Refrigerated & Frozen]]","v":"-"},{"$f":"Tabel3[[#This Row],[Deli & Prepared]]","v":"-"},{"$f":"Tabel3[[#This Row],[Fresh Meat]]","v":"-"},{"$f":"Tabel3[[#This Row],[Fresh Fish]]","v":"-"},{"$f":"Tabel3[[#This Row],[Fresh Fruits & Vegetables]]","v":"-"},{"$f":"Tabel3[[#This Row],[Grocery]]","v":"-"},{"$f":"Tabel3[[#This Row],[Cleaners]]","v":"-"},{"$f":"Tabel3[[#This Row],[Disposables]]","v":"-"},{"$f":"Tabel3[[#This Row],[Beauty & Personal Care]]","v":"I"},{"$f":"Tabel3[[#This Row],[Petfood]]","v":"-"},{"$f":"Tabel3[[#This Row],[Alcoholic Beverages]]","v":"-"},{"$f":"Tabel3[[#This Row],[Tobacco]]","v":"-"},{"$f":"Tabel3[[#This Row],[Self-care medicines]]","v":"M"},{"$f":"Tabel3[[#This Row],[Special Food]]","v":"-"},{"$f":"Tabel3[[#This Row],[Food Supplements]]","v":"O"},{"$f":"Tabel3[[#This Row],[Healthcare Products]]","v":"P"},{"$f":"Tabel3[[#This Row],[Medical Devices]]","v":"Q"},{"$f":"Tabel3[[#This Row],[Batteries]]","v":"-"},{"$f":"Tabel3[[#This Row],[Light Bulbs]]","v":"-"},{"$f":"Tabel3[[#This Row],[Other Categories]]","v":"-"}]
[{"$f":"VLOOKUP(Tabel3[[#This Row],[GAE ID]],'BES EN'!A:AJ,36,FALSE)","v":"Target hair type code"},{"$f":"Tabel3[[#This Row],[GDSN-naam]]","v":"targetHairTypeCode"},{"$f":"Tabel3[[#This Row],[GDM Verplicht / Conditioneel]]","v":"X"},{"$f":"Tabel3[[#This Row],[DMS controle]]","v":0},{"$f":"Tabel3[[#This Row],[BMS ID]]","v":6549},{"$f":"Tabel3[[#This Row],[Formaat]]","v":"Defined values"},{"$f":"Tabel3[[#This Row],[X Path]]","v":"/catalogue_item_notification:catalogueItemNotificationMessage/transaction/documentCommand/catalogue_item_notification:catalogueItemNotification/catalogueItem/tradeItem/tradeItemInformation/extension/*[namespace-uri()='urn:gs1:gdsn:product_information:xsd:3' and local-name()='productInformationModule']/productInformationDetail/beautyPersonalCareHygieneDetail/hairProductInformation/targetHairTypeCode"},{"$f":"Tabel3[[#This Row],[GDM laag]]","v":"Local"},{"$f":"VLOOKUP(Tabel3[[#This Row],[GAE ID]],'BES EN'!A:AJ,27,FALSE)","v":0},null,{"$f":"Tabel3[[#This Row],[Dairy, Refrigerated & Frozen]]","v":"-"},{"$f":"Tabel3[[#This Row],[Deli & Prepared]]","v":"-"},{"$f":"Tabel3[[#This Row],[Fresh Meat]]","v":"-"},{"$f":"Tabel3[[#This Row],[Fresh Fish]]","v":"-"},{"$f":"Tabel3[[#This Row],[Fresh Fruits & Vegetables]]","v":"-"},{"$f":"Tabel3[[#This Row],[Grocery]]","v":"-"},{"$f":"Tabel3[[#This Row],[Cleaners]]","v":"-"},{"$f":"Tabel3[[#This Row],[Disposables]]","v":"-"},{"$f":"Tabel3[[#This Row],[Beauty & Personal Care]]","v":"I"},{"$f":"Tabel3[[#This Row],[Petfood]]","v":"-"},{"$f":"Tabel3[[#This Row],[Alcoholic Beverages]]","v":"-"},{"$f":"Tabel3[[#This Row],[Tobacco]]","v":"-"},{"$f":"Tabel3[[#This Row],[Self-care medicines]]","v":"M"},{"$f":"Tabel3[[#This Row],[Special Food]]","v":"-"},{"$f":"Tabel3[[#This Row],[Food Supplements]]","v":"O"},{"$f":"Tabel3[[#This Row],[Healthcare Products]]","v":"P"},{"$f":"Tabel3[[#This Row],[Medical Devices]]","v":"Q"},{"$f":"Tabel3[[#This Row],[Batteries]]","v":"-"},{"$f":"Tabel3[[#This Row],[Light Bulbs]]","v":"-"},{"$f":"Tabel3[[#This Row],[Other Categories]]","v":"-"}]
[{"$f":"VLOOKUP(Tabel3[[#This Row],[GAE ID]],'BES EN'!A:AJ,36,FALSE)","v":"Natural hair colour code"},{"$f":"Tabel3[[#This Row],[GDSN-naam]]","v":"naturalHairColourCode"},{"$f":"Tabel3[[#This Row],[GDM Verplicht / Conditioneel]]","v":"X"},{"$f":"Tabel3[[#This Row],[DMS controle]]","v":0},{"$f":"Tabel3[[#This Row],[BMS ID]]","v":6550},{"$f":"Tabel3[[#This Row],[Formaat]]","v":"Defined values"},{"$f":"Tabel3[[#This Row],[X Path]]","v":"/catalogue_item_notification:catalogueItemNotificationMessage/transaction/documentCommand/catalogue_item_notification:catalogueItemNotification/catalogueItem/tradeItem/tradeItemInformation/extension/*[namespace-uri()='urn:gs1:gdsn:product_information:xsd:3' and local-name()='productInformationModule']/productInformationDetail/beautyPersonalCareHygieneDetail/hairProductInformation/naturalHairColourCode"},{"$f":"Tabel3[[#This Row],[GDM laag]]","v":"Local"},{"$f":"VLOOKUP(Tabel3[[#This Row],[GAE ID]],'BES EN'!A:AJ,27,FALSE)","v":0},null,{"$f":"Tabel3[[#This Row],[Dairy, Refrigerated & Frozen]]","v":"-"},{"$f":"Tabel3[[#This Row],[Deli & Prepared]]","v":"-"},{"$f":"Tabel3[[#This Row],[Fresh Meat]]","v":"-"},{"$f":"Tabel3[[#This Row],[Fresh Fish]]","v":"-"},{"$f":"Tabel3[[#This Row],[Fresh Fruits & Vegetables]]","v":"-"},{"$f":"Tabel3[[#This Row],[Grocery]]","v":"-"},{"$f":"Tabel3[[#This Row],[Cleaners]]","v":"-"},{"$f":"Tabel3[[#This Row],[Disposables]]","v":"-"},{"$f":"Tabel3[[#This Row],[Beauty & Personal Care]]","v":"I"},{"$f":"Tabel3[[#This Row],[Petfood]]","v":"-"},{"$f":"Tabel3[[#This Row],[Alcoholic Beverages]]","v":"-"},{"$f":"Tabel3[[#This Row],[Tobacco]]","v":"-"},{"$f":"Tabel3[[#This Row],[Self-care medicines]]","v":"M"},{"$f":"Tabel3[[#This Row],[Special Food]]","v":"-"},{"$f":"Tabel3[[#This Row],[Food Supplements]]","v":"O"},{"$f":"Tabel3[[#This Row],[Healthcare Products]]","v":"P"},{"$f":"Tabel3[[#This Row],[Medical Devices]]","v":"Q"},{"$f":"Tabel3[[#This Row],[Batteries]]","v":"-"},{"$f":"Tabel3[[#This Row],[Light Bulbs]]","v":"-"},{"$f":"Tabel3[[#This Row],[Other Categories]]","v":"-"}]
[{"$f":"VLOOKUP(Tabel3[[#This Row],[GAE ID]],'BES EN'!A:AJ,36,FALSE)","v":"Dental product function code"},{"$f":"Tabel3[[#This Row],[GDSN-naam]]","v":"dentalProductFunctionCode"},{"$f":"Tabel3[[#This Row],[GDM Verplicht / Conditioneel]]","v":"X"},{"$f":"Tabel3[[#This Row],[DMS controle]]","v":0},{"$f":"Tabel3[[#This Row],[BMS ID]]","v":6546},{"$f":"Tabel3[[#This Row],[Formaat]]","v":"Defined values"},{"$f":"Tabel3[[#This Row],[X Path]]","v":"/catalogue_item_notification:catalogueItemNotificationMessage/transaction/documentCommand/catalogue_item_notification:catalogueItemNotification/catalogueItem/tradeItem/tradeItemInformation/extension/*[namespace-uri()='urn:gs1:gdsn:product_information:xsd:3' and local-name()='productInformationModule']/productInformationDetail/beautyPersonalCareHygieneDetail/dentalProductInformation/dentalProductFunctionCode"},{"$f":"Tabel3[[#This Row],[GDM laag]]","v":"Local"},{"$f":"VLOOKUP(Tabel3[[#This Row],[GAE ID]],'BES EN'!A:AJ,27,FALSE)","v":0},null,{"$f":"Tabel3[[#This Row],[Dairy, Refrigerated & Frozen]]","v":"-"},{"$f":"Tabel3[[#This Row],[Deli & Prepared]]","v":"-"},{"$f":"Tabel3[[#This Row],[Fresh Meat]]","v":"-"},{"$f":"Tabel3[[#This Row],[Fresh Fish]]","v":"-"},{"$f":"Tabel3[[#This Row],[Fresh Fruits & Vegetables]]","v":"-"},{"$f":"Tabel3[[#This Row],[Grocery]]","v":"-"},{"$f":"Tabel3[[#This Row],[Cleaners]]","v":"-"},{"$f":"Tabel3[[#This Row],[Disposables]]","v":"-"},{"$f":"Tabel3[[#This Row],[Beauty & Personal Care]]","v":"I"},{"$f":"Tabel3[[#This Row],[Petfood]]","v":"-"},{"$f":"Tabel3[[#This Row],[Alcoholic Beverages]]","v":"-"},{"$f":"Tabel3[[#This Row],[Tobacco]]","v":"-"},{"$f":"Tabel3[[#This Row],[Self-care medicines]]","v":"M"},{"$f":"Tabel3[[#This Row],[Special Food]]","v":"-"},{"$f":"Tabel3[[#This Row],[Food Supplements]]","v":"O"},{"$f":"Tabel3[[#This Row],[Healthcare Products]]","v":"P"},{"$f":"Tabel3[[#This Row],[Medical Devices]]","v":"Q"},{"$f":"Tabel3[[#This Row],[Batteries]]","v":"-"},{"$f":"Tabel3[[#This Row],[Light Bulbs]]","v":"-"},{"$f":"Tabel3[[#This Row],[Other Categories]]","v":"-"}]
[{"$f":"VLOOKUP(Tabel3[[#This Row],[GAE ID]],'BES EN'!A:AJ,36,FALSE)","v":"Time of application code"},{"$f":"Tabel3[[#This Row],[GDSN-naam]]","v":"timeOfApplicationCode"},{"$f":"Tabel3[[#This Row],[GDM Verplicht / Conditioneel]]","v":"X"},{"$f":"Tabel3[[#This Row],[DMS controle]]","v":0},{"$f":"Tabel3[[#This Row],[BMS ID]]","v":6529},{"$f":"Tabel3[[#This Row],[Formaat]]","v":"Defined values"},{"$f":"Tabel3[[#This Row],[X Path]]","v":"/catalogue_item_notification:catalogueItemNotificationMessage/transaction/documentCommand/catalogue_item_notification:catalogueItemNotification/catalogueItem/tradeItem/tradeItemInformation/extension/*[namespace-uri()='urn:gs1:gdsn:product_information:xsd:3' and local-name()='productInformationModule']/productInformationDetail/timeOfApplicationCode"},{"$f":"Tabel3[[#This Row],[GDM laag]]","v":"Local"},{"$f":"VLOOKUP(Tabel3[[#This Row],[GAE ID]],'BES EN'!A:AJ,27,FALSE)","v":0},null,{"$f":"Tabel3[[#This Row],[Dairy, Refrigerated & Frozen]]","v":"-"},{"$f":"Tabel3[[#This Row],[Deli & Prepared]]","v":"-"},{"$f":"Tabel3[[#This Row],[Fresh Meat]]","v":"-"},{"$f":"Tabel3[[#This Row],[Fresh Fish]]","v":"-"},{"$f":"Tabel3[[#This Row],[Fresh Fruits & Vegetables]]","v":"-"},{"$f":"Tabel3[[#This Row],[Grocery]]","v":"-"},{"$f":"Tabel3[[#This Row],[Cleaners]]","v":"-"},{"$f":"Tabel3[[#This Row],[Disposables]]","v":"-"},{"$f":"Tabel3[[#This Row],[Beauty & Personal Care]]","v":"I"},{"$f":"Tabel3[[#This Row],[Petfood]]","v":"-"},{"$f":"Tabel3[[#This Row],[Alcoholic Beverages]]","v":"-"},{"$f":"Tabel3[[#This Row],[Tobacco]]","v":"-"},{"$f":"Tabel3[[#This Row],[Self-care medicines]]","v":"M"},{"$f":"Tabel3[[#This Row],[Special Food]]","v":"-"},{"$f":"Tabel3[[#This Row],[Food Supplements]]","v":"O"},{"$f":"Tabel3[[#This Row],[Healthcare Products]]","v":"P"},{"$f":"Tabel3[[#This Row],[Medical Devices]]","v":"Q"},{"$f":"Tabel3[[#This Row],[Batteries]]","v":"-"},{"$f":"Tabel3[[#This Row],[Light Bulbs]]","v":"-"},{"$f":"Tabel3[[#This Row],[Other Categories]]","v":"-"}]
[{"$f":"VLOOKUP(Tabel3[[#This Row],[GAE ID]],'BES EN'!A:AJ,36,FALSE)","v":"Target consumer gender code"},{"$f":"Tabel3[[#This Row],[GDSN-naam]]","v":"targetConsumerGender"},{"$f":"Tabel3[[#This Row],[GDM Verplicht / Conditioneel]]","v":"Optional"},{"$f":"Tabel3[[#This Row],[DMS controle]]","v":0},{"$f":"Tabel3[[#This Row],[BMS ID]]","v":1560},{"$f":"Tabel3[[#This Row],[Formaat]]","v":"Defined values"},{"$f":"Tabel3[[#This Row],[X Path]]","v":"/catalogue_item_notification:catalogueItemNotificationMessage/transaction/documentCommand/catalogue_item_notification:catalogueItemNotification/catalogueItem/tradeItem/tradeItemInformation/extension/*[namespace-uri()='urn:gs1:gdsn:marketing_information:xsd:3' and local-name()='marketingInformationModule']/marketingInformation/targetConsumer/targetConsumerGender"},{"$f":"Tabel3[[#This Row],[GDM laag]]","v":"Local"},{"$f":"VLOOKUP(Tabel3[[#This Row],[GAE ID]],'BES EN'!A:AJ,27,FALSE)","v":0},null,{"$f":"Tabel3[[#This Row],[Dairy, Refrigerated & Frozen]]","v":"-"},{"$f":"Tabel3[[#This Row],[Deli & Prepared]]","v":"-"},{"$f":"Tabel3[[#This Row],[Fresh Meat]]","v":"-"},{"$f":"Tabel3[[#This Row],[Fresh Fish]]","v":"-"},{"$f":"Tabel3[[#This Row],[Fresh Fruits & Vegetables]]","v":"-"},{"$f":"Tabel3[[#This Row],[Grocery]]","v":"-"},{"$f":"Tabel3[[#This Row],[Cleaners]]","v":"G"},{"$f":"Tabel3[[#This Row],[Disposables]]","v":"H"},{"$f":"Tabel3[[#This Row],[Beauty & Personal Care]]","v":"I"},{"$f":"Tabel3[[#This Row],[Petfood]]","v":"J"},{"$f":"Tabel3[[#This Row],[Alcoholic Beverages]]","v":"-"},{"$f":"Tabel3[[#This Row],[Tobacco]]","v":"L"},{"$f":"Tabel3[[#This Row],[Self-care medicines]]","v":"M"},{"$f":"Tabel3[[#This Row],[Special Food]]","v":"N"},{"$f":"Tabel3[[#This Row],[Food Supplements]]","v":"O"},{"$f":"Tabel3[[#This Row],[Healthcare Products]]","v":"P"},{"$f":"Tabel3[[#This Row],[Medical Devices]]","v":"Q"},{"$f":"Tabel3[[#This Row],[Batteries]]","v":"R"},{"$f":"Tabel3[[#This Row],[Light Bulbs]]","v":"S"},{"$f":"Tabel3[[#This Row],[Other Categories]]","v":"T"}]
[{"$f":"VLOOKUP(Tabel3[[#This Row],[GAE ID]],'BES EN'!A:AJ,36,FALSE)","v":"Target consumer age group code"},{"$f":"Tabel3[[#This Row],[GDSN-naam]]","v":"targetConsumerAgeGroupCode"},{"$f":"Tabel3[[#This Row],[GDM Verplicht / Conditioneel]]","v":"X"},{"$f":"Tabel3[[#This Row],[DMS controle]]","v":0},{"$f":"Tabel3[[#This Row],[BMS ID]]","v":6158},{"$f":"Tabel3[[#This Row],[Formaat]]","v":"Defined values"},{"$f":"Tabel3[[#This Row],[X Path]]","v":"/catalogue_item_notification:catalogueItemNotificationMessage/transaction/documentCommand/catalogue_item_notification:catalogueItemNotification/catalogueItem/tradeItem/tradeItemInformation/extension/*[namespace-uri()='urn:gs1:gdsn:marketing_information:xsd:3' and local-name()='marketingInformationModule']/marketingInformation/targetConsumer/targetConsumerAgeGroupCode"},{"$f":"Tabel3[[#This Row],[GDM laag]]","v":"Local"},{"$f":"VLOOKUP(Tabel3[[#This Row],[GAE ID]],'BES EN'!A:AJ,27,FALSE)","v":0},null,{"$f":"Tabel3[[#This Row],[Dairy, Refrigerated & Frozen]]","v":"-"},{"$f":"Tabel3[[#This Row],[Deli & Prepared]]","v":"-"},{"$f":"Tabel3[[#This Row],[Fresh Meat]]","v":"-"},{"$f":"Tabel3[[#This Row],[Fresh Fish]]","v":"-"},{"$f":"Tabel3[[#This Row],[Fresh Fruits & Vegetables]]","v":"-"},{"$f":"Tabel3[[#This Row],[Grocery]]","v":"-"},{"$f":"Tabel3[[#This Row],[Cleaners]]","v":"G"},{"$f":"Tabel3[[#This Row],[Disposables]]","v":"H"},{"$f":"Tabel3[[#This Row],[Beauty & Personal Care]]","v":"I"},{"$f":"Tabel3[[#This Row],[Petfood]]","v":"J"},{"$f":"Tabel3[[#This Row],[Alcoholic Beverages]]","v":"-"},{"$f":"Tabel3[[#This Row],[Tobacco]]","v":"L"},{"$f":"Tabel3[[#This Row],[Self-care medicines]]","v":"M"},{"$f":"Tabel3[[#This Row],[Special Food]]","v":"N"},{"$f":"Tabel3[[#This Row],[Food Supplements]]","v":"O"},{"$f":"Tabel3[[#This Row],[Healthcare Products]]","v":"P"},{"$f":"Tabel3[[#This Row],[Medical Devices]]","v":"Q"},{"$f":"Tabel3[[#This Row],[Batteries]]","v":"R"},{"$f":"Tabel3[[#This Row],[Light Bulbs]]","v":"S"},{"$f":"Tabel3[[#This Row],[Other Categories]]","v":"T"}]
[{"$f":"VLOOKUP(Tabel3[[#This Row],[GAE ID]],'BES EN'!A:AJ,36,FALSE)","v":"Formation type code"},{"$f":"Tabel3[[#This Row],[GDSN-naam]]","v":"formationTypeCode"},{"$f":"Tabel3[[#This Row],[GDM Verplicht / Conditioneel]]","v":"X"},{"$f":"Tabel3[[#This Row],[DMS controle]]","v":0},{"$f":"Tabel3[[#This Row],[BMS ID]]","v":6528},{"$f":"Tabel3[[#This Row],[Formaat]]","v":"Defined values"},{"$f":"Tabel3[[#This Row],[X Path]]","v":"/catalogue_item_notification:catalogueItemNotificationMessage/transaction/documentCommand/catalogue_item_notification:catalogueItemNotification/catalogueItem/tradeItem/tradeItemInformation/extension/*[namespace-uri()='urn:gs1:gdsn:product_information:xsd:3' and local-name()='productInformationModule']/productInformationDetail/formationTypeCode"},{"$f":"Tabel3[[#This Row],[GDM laag]]","v":"Local"},{"$f":"VLOOKUP(Tabel3[[#This Row],[GAE ID]],'BES EN'!A:AJ,27,FALSE)","v":0},null,{"$f":"Tabel3[[#This Row],[Dairy, Refrigerated & Frozen]]","v":"-"},{"$f":"Tabel3[[#This Row],[Deli & Prepared]]","v":"-"},{"$f":"Tabel3[[#This Row],[Fresh Meat]]","v":"-"},{"$f":"Tabel3[[#This Row],[Fresh Fish]]","v":"-"},{"$f":"Tabel3[[#This Row],[Fresh Fruits & Vegetables]]","v":"-"},{"$f":"Tabel3[[#This Row],[Grocery]]","v":"-"},{"$f":"Tabel3[[#This Row],[Cleaners]]","v":"-"},{"$f":"Tabel3[[#This Row],[Disposables]]","v":"-"},{"$f":"Tabel3[[#This Row],[Beauty & Personal Care]]","v":"I"},{"$f":"Tabel3[[#This Row],[Petfood]]","v":"-"},{"$f":"Tabel3[[#This Row],[Alcoholic Beverages]]","v":"-"},{"$f":"Tabel3[[#This Row],[Tobacco]]","v":"-"},{"$f":"Tabel3[[#This Row],[Self-care medicines]]","v":"M"},{"$f":"Tabel3[[#This Row],[Special Food]]","v":"-"},{"$f":"Tabel3[[#This Row],[Food Supplements]]","v":"O"},{"$f":"Tabel3[[#This Row],[Healthcare Products]]","v":"P"},{"$f":"Tabel3[[#This Row],[Medical Devices]]","v":"Q"},{"$f":"Tabel3[[#This Row],[Batteries]]","v":"-"},{"$f":"Tabel3[[#This Row],[Light Bulbs]]","v":"-"},{"$f":"Tabel3[[#This Row],[Other Categories]]","v":"-"}]
[{"$f":"VLOOKUP(Tabel3[[#This Row],[GAE ID]],'BES EN'!A:AJ,36,FALSE)","v":"Alcoholic beverage colour code"},{"$f":"Tabel3[[#This Row],[GDSN-naam]]","v":"alcoholicBeverageColourCode"},{"$f":"Tabel3[[#This Row],[GDM Verplicht / Conditioneel]]","v":"X"},{"$f":"Tabel3[[#This Row],[DMS controle]]","v":0},{"$f":"Tabel3[[#This Row],[BMS ID]]","v":6569},{"$f":"Tabel3[[#This Row],[Formaat]]","v":"Defined values"},{"$f":"Tabel3[[#This Row],[X Path]]","v":"/catalogue_item_notification:catalogueItemNotificationMessage/transaction/documentCommand/catalogue_item_notification:catalogueItemNotification/catalogueItem/tradeItem/tradeItemInformation/extension/*[namespace-uri()='urn:gs1:gdsn:alcohol_information:xsd:3' and local-name()='alcoholInformationModule']/alcoholInformation/alcoholicBeverageColourCode"},{"$f":"Tabel3[[#This Row],[GDM laag]]","v":"Local"},{"$f":"VLOOKUP(Tabel3[[#This Row],[GAE ID]],'BES EN'!A:AJ,27,FALSE)","v":0},null,{"$f":"Tabel3[[#This Row],[Dairy, Refrigerated & Frozen]]","v":"-"},{"$f":"Tabel3[[#This Row],[Deli & Prepared]]","v":"-"},{"$f":"Tabel3[[#This Row],[Fresh Meat]]","v":"-"},{"$f":"Tabel3[[#This Row],[Fresh Fish]]","v":"-"},{"$f":"Tabel3[[#This Row],[Fresh Fruits & Vegetables]]","v":"-"},{"$f":"Tabel3[[#This Row],[Grocery]]","v":"-"},{"$f":"Tabel3[[#This Row],[Cleaners]]","v":"-"},{"$f":"Tabel3[[#This Row],[Disposables]]","v":"-"},{"$f":"Tabel3[[#This Row],[Beauty & Personal Care]]","v":"-"},{"$f":"Tabel3[[#This Row],[Petfood]]","v":"-"},{"$f":"Tabel3[[#This Row],[Alcoholic Beverages]]","v":"K"},{"$f":"Tabel3[[#This Row],[Tobacco]]","v":"-"},{"$f":"Tabel3[[#This Row],[Self-care medicines]]","v":"-"},{"$f":"Tabel3[[#This Row],[Special Food]]","v":"-"},{"$f":"Tabel3[[#This Row],[Food Supplements]]","v":"-"},{"$f":"Tabel3[[#This Row],[Healthcare Products]]","v":"-"},{"$f":"Tabel3[[#This Row],[Medical Devices]]","v":"-"},{"$f":"Tabel3[[#This Row],[Batteries]]","v":"-"},{"$f":"Tabel3[[#This Row],[Light Bulbs]]","v":"-"},{"$f":"Tabel3[[#This Row],[Other Categories]]","v":"-"}]
[{"$f":"VLOOKUP(Tabel3[[#This Row],[GAE ID]],'BES EN'!A:AJ,36,FALSE)","v":"Type of alcohol beverage code"},{"$f":"Tabel3[[#This Row],[GDSN-naam]]","v":"alcoholBeverageTypeCode"},{"$f":"Tabel3[[#This Row],[GDM Verplicht / Conditioneel]]","v":"X"},{"$f":"Tabel3[[#This Row],[DMS controle]]","v":0},{"$f":"Tabel3[[#This Row],[BMS ID]]","v":6314},{"$f":"Tabel3[[#This Row],[Formaat]]","v":"Defined values"},{"$f":"Tabel3[[#This Row],[X Path]]","v":"/catalogue_item_notification:catalogueItemNotificationMessage/transaction/documentCommand/catalogue_item_notification:catalogueItemNotification/catalogueItem/tradeItem/tradeItemInformation/extension/*[namespace-uri()='urn:gs1:gdsn:alcohol_information:xsd:3' and local-name()='alcoholInformationModule']/alcoholInformation/alcoholBeverageTypeCode"},{"$f":"Tabel3[[#This Row],[GDM laag]]","v":"Local"},{"$f":"VLOOKUP(Tabel3[[#This Row],[GAE ID]],'BES EN'!A:AJ,27,FALSE)","v":0},null,{"$f":"Tabel3[[#This Row],[Dairy, Refrigerated & Frozen]]","v":"-"},{"$f":"Tabel3[[#This Row],[Deli & Prepared]]","v":"-"},{"$f":"Tabel3[[#This Row],[Fresh Meat]]","v":"-"},{"$f":"Tabel3[[#This Row],[Fresh Fish]]","v":"-"},{"$f":"Tabel3[[#This Row],[Fresh Fruits & Vegetables]]","v":"-"},{"$f":"Tabel3[[#This Row],[Grocery]]","v":"-"},{"$f":"Tabel3[[#This Row],[Cleaners]]","v":"-"},{"$f":"Tabel3[[#This Row],[Disposables]]","v":"-"},{"$f":"Tabel3[[#This Row],[Beauty & Personal Care]]","v":"-"},{"$f":"Tabel3[[#This Row],[Petfood]]","v":"-"},{"$f":"Tabel3[[#This Row],[Alcoholic Beverages]]","v":"K"},{"$f":"Tabel3[[#This Row],[Tobacco]]","v":"-"},{"$f":"Tabel3[[#This Row],[Self-care medicines]]","v":"-"},{"$f":"Tabel3[[#This Row],[Special Food]]","v":"-"},{"$f":"Tabel3[[#This Row],[Food Supplements]]","v":"-"},{"$f":"Tabel3[[#This Row],[Healthcare Products]]","v":"-"},{"$f":"Tabel3[[#This Row],[Medical Devices]]","v":"-"},{"$f":"Tabel3[[#This Row],[Batteries]]","v":"-"},{"$f":"Tabel3[[#This Row],[Light Bulbs]]","v":"-"},{"$f":"Tabel3[[#This Row],[Other Categories]]","v":"-"}]
[{"$f":"VLOOKUP(Tabel3[[#This Row],[GAE ID]],'BES EN'!A:AJ,36,FALSE)","v":"Sweetness level of alcoholic beverage"},{"$f":"Tabel3[[#This Row],[GDSN-naam]]","v":"sweetnessLevelOfAlcoholicBeverageCode"},{"$f":"Tabel3[[#This Row],[GDM Verplicht / Conditioneel]]","v":"X"},{"$f":"Tabel3[[#This Row],[DMS controle]]","v":0},{"$f":"Tabel3[[#This Row],[BMS ID]]","v":6574},{"$f":"Tabel3[[#This Row],[Formaat]]","v":"Defined values"},{"$f":"Tabel3[[#This Row],[X Path]]","v":"/catalogue_item_notification:catalogueItemNotificationMessage/transaction/documentCommand/catalogue_item_notification:catalogueItemNotification/catalogueItem/tradeItem/tradeItemInformation/extension/*[namespace-uri()='urn:gs1:gdsn:alcohol_information:xsd:3' and local-name()='alcoholInformationModule']/alcoholInformation/sweetnessLevelOfAlcoholicBeverageCode"},{"$f":"Tabel3[[#This Row],[GDM laag]]","v":"Local"},{"$f":"VLOOKUP(Tabel3[[#This Row],[GAE ID]],'BES EN'!A:AJ,27,FALSE)","v":0},null,{"$f":"Tabel3[[#This Row],[Dairy, Refrigerated & Frozen]]","v":"-"},{"$f":"Tabel3[[#This Row],[Deli & Prepared]]","v":"-"},{"$f":"Tabel3[[#This Row],[Fresh Meat]]","v":"-"},{"$f":"Tabel3[[#This Row],[Fresh Fish]]","v":"-"},{"$f":"Tabel3[[#This Row],[Fresh Fruits & Vegetables]]","v":"-"},{"$f":"Tabel3[[#This Row],[Grocery]]","v":"-"},{"$f":"Tabel3[[#This Row],[Cleaners]]","v":"-"},{"$f":"Tabel3[[#This Row],[Disposables]]","v":"-"},{"$f":"Tabel3[[#This Row],[Beauty & Personal Care]]","v":"-"},{"$f":"Tabel3[[#This Row],[Petfood]]","v":"-"},{"$f":"Tabel3[[#This Row],[Alcoholic Beverages]]","v":"K"},{"$f":"Tabel3[[#This Row],[Tobacco]]","v":"-"},{"$f":"Tabel3[[#This Row],[Self-care medicines]]","v":"-"},{"$f":"Tabel3[[#This Row],[Special Food]]","v":"-"},{"$f":"Tabel3[[#This Row],[Food Supplements]]","v":"-"},{"$f":"Tabel3[[#This Row],[Healthcare Products]]","v":"-"},{"$f":"Tabel3[[#This Row],[Medical Devices]]","v":"-"},{"$f":"Tabel3[[#This Row],[Batteries]]","v":"-"},{"$f":"Tabel3[[#This Row],[Light Bulbs]]","v":"-"},{"$f":"Tabel3[[#This Row],[Other Categories]]","v":"-"}]
[{"$f":"VLOOKUP(Tabel3[[#This Row],[GAE ID]],'BES EN'!A:AJ,36,FALSE)","v":"Origin of wine code"},{"$f":"Tabel3[[#This Row],[GDSN-naam]]","v":"originOfWineCode"},{"$f":"Tabel3[[#This Row],[GDM Verplicht / Conditioneel]]","v":"X"},{"$f":"Tabel3[[#This Row],[DMS controle]]","v":0},{"$f":"Tabel3[[#This Row],[BMS ID]]","v":6572},{"$f":"Tabel3[[#This Row],[Formaat]]","v":"Defined values"},{"$f":"Tabel3[[#This Row],[X Path]]","v":"/catalogue_item_notification:catalogueItemNotificationMessage/transaction/documentCommand/catalogue_item_notification:catalogueItemNotification/catalogueItem/tradeItem/tradeItemInformation/extension/*[namespace-uri()='urn:gs1:gdsn:alcohol_information:xsd:3' and local-name()='alcoholInformationModule']/alcoholInformation/originOfWineCode"},{"$f":"Tabel3[[#This Row],[GDM laag]]","v":"Local"},{"$f":"VLOOKUP(Tabel3[[#This Row],[GAE ID]],'BES EN'!A:AJ,27,FALSE)","v":0},null,{"$f":"Tabel3[[#This Row],[Dairy, Refrigerated & Frozen]]","v":"-"},{"$f":"Tabel3[[#This Row],[Deli & Prepared]]","v":"-"},{"$f":"Tabel3[[#This Row],[Fresh Meat]]","v":"-"},{"$f":"Tabel3[[#This Row],[Fresh Fish]]","v":"-"},{"$f":"Tabel3[[#This Row],[Fresh Fruits & Vegetables]]","v":"-"},{"$f":"Tabel3[[#This Row],[Grocery]]","v":"-"},{"$f":"Tabel3[[#This Row],[Cleaners]]","v":"-"},{"$f":"Tabel3[[#This Row],[Disposables]]","v":"-"},{"$f":"Tabel3[[#This Row],[Beauty & Personal Care]]","v":"-"},{"$f":"Tabel3[[#This Row],[Petfood]]","v":"-"},{"$f":"Tabel3[[#This Row],[Alcoholic Beverages]]","v":"K"},{"$f":"Tabel3[[#This Row],[Tobacco]]","v":"-"},{"$f":"Tabel3[[#This Row],[Self-care medicines]]","v":"-"},{"$f":"Tabel3[[#This Row],[Special Food]]","v":"-"},{"$f":"Tabel3[[#This Row],[Food Supplements]]","v":"-"},{"$f":"Tabel3[[#This Row],[Healthcare Products]]","v":"-"},{"$f":"Tabel3[[#This Row],[Medical Devices]]","v":"-"},{"$f":"Tabel3[[#This Row],[Batteries]]","v":"-"},{"$f":"Tabel3[[#This Row],[Light Bulbs]]","v":"-"},{"$f":"Tabel3[[#This Row],[Other Categories]]","v":"-"}]
[{"$f":"VLOOKUP(Tabel3[[#This Row],[GAE ID]],'BES EN'!A:AJ,36,FALSE)","v":"Grape variety code"},{"$f":"Tabel3[[#This Row],[GDSN-naam]]","v":"grapeVarietyCode"},{"$f":"Tabel3[[#This Row],[GDM Verplicht / Conditioneel]]","v":"X"},{"$f":"Tabel3[[#This Row],[DMS controle]]","v":0},{"$f":"Tabel3[[#This Row],[BMS ID]]","v":1283},{"$f":"Tabel3[[#This Row],[Formaat]]","v":"Defined values"},{"$f":"Tabel3[[#This Row],[X Path]]","v":"/catalogue_item_notification:catalogueItemNotificationMessage/transaction/documentCommand/catalogue_item_notification:catalogueItemNotification/catalogueItem/tradeItem/tradeItemInformation/extension/*[namespace-uri()='urn:gs1:gdsn:food_and_beverage_ingredient:xsd:3' and local-name()='foodAndBeverageIngredientModule']/foodAndBeverageIngredient/grapeVarietyCode"},{"$f":"Tabel3[[#This Row],[GDM laag]]","v":"Local"},{"$f":"VLOOKUP(Tabel3[[#This Row],[GAE ID]],'BES EN'!A:AJ,27,FALSE)","v":0},null,{"$f":"Tabel3[[#This Row],[Dairy, Refrigerated & Frozen]]","v":"-"},{"$f":"Tabel3[[#This Row],[Deli & Prepared]]","v":"-"},{"$f":"Tabel3[[#This Row],[Fresh Meat]]","v":"-"},{"$f":"Tabel3[[#This Row],[Fresh Fish]]","v":"-"},{"$f":"Tabel3[[#This Row],[Fresh Fruits & Vegetables]]","v":"-"},{"$f":"Tabel3[[#This Row],[Grocery]]","v":"-"},{"$f":"Tabel3[[#This Row],[Cleaners]]","v":"-"},{"$f":"Tabel3[[#This Row],[Disposables]]","v":"-"},{"$f":"Tabel3[[#This Row],[Beauty & Personal Care]]","v":"-"},{"$f":"Tabel3[[#This Row],[Petfood]]","v":"-"},{"$f":"Tabel3[[#This Row],[Alcoholic Beverages]]","v":"K"},{"$f":"Tabel3[[#This Row],[Tobacco]]","v":"-"},{"$f":"Tabel3[[#This Row],[Self-care medicines]]","v":"-"},{"$f":"Tabel3[[#This Row],[Special Food]]","v":"-"},{"$f":"Tabel3[[#This Row],[Food Supplements]]","v":"-"},{"$f":"Tabel3[[#This Row],[Healthcare Products]]","v":"-"},{"$f":"Tabel3[[#This Row],[Medical Devices]]","v":"-"},{"$f":"Tabel3[[#This Row],[Batteries]]","v":"-"},{"$f":"Tabel3[[#This Row],[Light Bulbs]]","v":"-"},{"$f":"Tabel3[[#This Row],[Other Categories]]","v":"-"}]
[{"$f":"VLOOKUP(Tabel3[[#This Row],[GAE ID]],'BES EN'!A:AJ,36,FALSE)","v":"Alcoholic beverage characteristic code"},{"$f":"Tabel3[[#This Row],[GDSN-naam]]","v":"productCharacteristicValueCode"},{"$f":"Tabel3[[#This Row],[GDM Verplicht / Conditioneel]]","v":"X"},{"$f":"Tabel3[[#This Row],[DMS controle]]","v":0},{"$f":"Tabel3[[#This Row],[BMS ID]]","v":2860},{"$f":"Tabel3[[#This Row],[Formaat]]","v":"Defined values"},{"$f":"Tabel3[[#This Row],[X Path]]","v":"/catalogue_item_notification:catalogueItemNotificationMessage/transaction/documentCommand/catalogue_item_notification:catalogueItemNotification/catalogueItem/tradeItem/tradeItemInformation/extension/*[namespace-uri()='urn:gs1:gdsn:product_characteristics:xsd:3' and local-name()='productCharacteristicsModule']/productCharacteristics/productCharacteristicValueCode"},{"$f":"Tabel3[[#This Row],[GDM laag]]","v":"Local"},{"$f":"VLOOKUP(Tabel3[[#This Row],[GAE ID]],'BES EN'!A:AJ,27,FALSE)","v":0},null,{"$f":"Tabel3[[#This Row],[Dairy, Refrigerated & Frozen]]","v":"-"},{"$f":"Tabel3[[#This Row],[Deli & Prepared]]","v":"-"},{"$f":"Tabel3[[#This Row],[Fresh Meat]]","v":"-"},{"$f":"Tabel3[[#This Row],[Fresh Fish]]","v":"-"},{"$f":"Tabel3[[#This Row],[Fresh Fruits & Vegetables]]","v":"-"},{"$f":"Tabel3[[#This Row],[Grocery]]","v":"-"},{"$f":"Tabel3[[#This Row],[Cleaners]]","v":"-"},{"$f":"Tabel3[[#This Row],[Disposables]]","v":"-"},{"$f":"Tabel3[[#This Row],[Beauty & Personal Care]]","v":"-"},{"$f":"Tabel3[[#This Row],[Petfood]]","v":"-"},{"$f":"Tabel3[[#This Row],[Alcoholic Beverages]]","v":"K"},{"$f":"Tabel3[[#This Row],[Tobacco]]","v":"-"},{"$f":"Tabel3[[#This Row],[Self-care medicines]]","v":"-"},{"$f":"Tabel3[[#This Row],[Special Food]]","v":"-"},{"$f":"Tabel3[[#This Row],[Food Supplements]]","v":"-"},{"$f":"Tabel3[[#This Row],[Healthcare Products]]","v":"-"},{"$f":"Tabel3[[#This Row],[Medical Devices]]","v":"-"},{"$f":"Tabel3[[#This Row],[Batteries]]","v":"-"},{"$f":"Tabel3[[#This Row],[Light Bulbs]]","v":"-"},{"$f":"Tabel3[[#This Row],[Other Categories]]","v":"-"}]
[{"$f":"VLOOKUP(Tabel3[[#This Row],[GAE ID]],'BES EN'!A:AJ,36,FALSE)","v":"Brand marketing description"},{"$f":"Tabel3[[#This Row],[GDSN-naam]]","v":"brandMarketingDescription"},{"$f":"Tabel3[[#This Row],[GDM Verplicht / Conditioneel]]","v":"Optional"},{"$f":"Tabel3[[#This Row],[DMS controle]]","v":0},{"$f":"Tabel3[[#This Row],[BMS ID]]","v":5891},{"$f":"Tabel3[[#This Row],[Formaat]]","v":"an..5000"},{"$f":"Tabel3[[#This Row],[X Path]]","v":"/catalogue_item_notification:catalogueItemNotificationMessage/transaction/documentCommand/catalogue_item_notification:catalogueItemNotification/catalogueItem/tradeItem/tradeItemInformation/extension/*[namespace-uri()='urn:gs1:gdsn:marketing_information:xsd:3' and local-name()='marketingInformationModule']/marketingInformation/brandMarketingDescription"},{"$f":"Tabel3[[#This Row],[GDM laag]]","v":"Local"},{"$f":"VLOOKUP(Tabel3[[#This Row],[GAE ID]],'BES EN'!A:AJ,27,FALSE)","v":0},null,{"$f":"Tabel3[[#This Row],[Dairy, Refrigerated & Frozen]]","v":"A"},{"$f":"Tabel3[[#This Row],[Deli & Prepared]]","v":"B"},{"$f":"Tabel3[[#This Row],[Fresh Meat]]","v":"C"},{"$f":"Tabel3[[#This Row],[Fresh Fish]]","v":"D"},{"$f":"Tabel3[[#This Row],[Fresh Fruits & Vegetables]]","v":"E"},{"$f":"Tabel3[[#This Row],[Grocery]]","v":"F"},{"$f":"Tabel3[[#This Row],[Cleaners]]","v":"G"},{"$f":"Tabel3[[#This Row],[Disposables]]","v":"H"},{"$f":"Tabel3[[#This Row],[Beauty & Personal Care]]","v":"I"},{"$f":"Tabel3[[#This Row],[Petfood]]","v":"J"},{"$f":"Tabel3[[#This Row],[Alcoholic Beverages]]","v":"K"},{"$f":"Tabel3[[#This Row],[Tobacco]]","v":"-"},{"$f":"Tabel3[[#This Row],[Self-care medicines]]","v":"M"},{"$f":"Tabel3[[#This Row],[Special Food]]","v":"N"},{"$f":"Tabel3[[#This Row],[Food Supplements]]","v":"O"},{"$f":"Tabel3[[#This Row],[Healthcare Products]]","v":"P"},{"$f":"Tabel3[[#This Row],[Medical Devices]]","v":"Q"},{"$f":"Tabel3[[#This Row],[Batteries]]","v":"R"},{"$f":"Tabel3[[#This Row],[Light Bulbs]]","v":"S"},{"$f":"Tabel3[[#This Row],[Other Categories]]","v":"T"}]
[{"$f":"VLOOKUP(Tabel3[[#This Row],[GAE ID]],'BES EN'!A:AJ,36,FALSE)","v":"Type of basic taste code"},{"$f":"Tabel3[[#This Row],[GDSN-naam]]","v":"typeOfBasicTasteCode"},{"$f":"Tabel3[[#This Row],[GDM Verplicht / Conditioneel]]","v":"X"},{"$f":"Tabel3[[#This Row],[DMS controle]]","v":0},{"$f":"Tabel3[[#This Row],[BMS ID]]","v":6584},{"$f":"Tabel3[[#This Row],[Formaat]]","v":"Defined values"},{"$f":"Tabel3[[#This Row],[X Path]]","v":"/catalogue_item_notification:catalogueItemNotificationMessage/transaction/documentCommand/catalogue_item_notification:catalogueItemNotification/catalogueItem/tradeItem/tradeItemInformation/extension/*[namespace-uri()='urn:gs1:gdsn:marketing_information:xsd:3' and local-name()='marketingInformationModule']/marketingInformation/basicTasteInformation/typeOfBasicTasteCode"},{"$f":"Tabel3[[#This Row],[GDM laag]]","v":"Local"},{"$f":"VLOOKUP(Tabel3[[#This Row],[GAE ID]],'BES EN'!A:AJ,27,FALSE)","v":0},null,{"$f":"Tabel3[[#This Row],[Dairy, Refrigerated & Frozen]]","v":"-"},{"$f":"Tabel3[[#This Row],[Deli & Prepared]]","v":"-"},{"$f":"Tabel3[[#This Row],[Fresh Meat]]","v":"-"},{"$f":"Tabel3[[#This Row],[Fresh Fish]]","v":"-"},{"$f":"Tabel3[[#This Row],[Fresh Fruits & Vegetables]]","v":"-"},{"$f":"Tabel3[[#This Row],[Grocery]]","v":"-"},{"$f":"Tabel3[[#This Row],[Cleaners]]","v":"-"},{"$f":"Tabel3[[#This Row],[Disposables]]","v":"-"},{"$f":"Tabel3[[#This Row],[Beauty & Personal Care]]","v":"-"},{"$f":"Tabel3[[#This Row],[Petfood]]","v":"-"},{"$f":"Tabel3[[#This Row],[Alcoholic Beverages]]","v":"K"},{"$f":"Tabel3[[#This Row],[Tobacco]]","v":"-"},{"$f":"Tabel3[[#This Row],[Self-care medicines]]","v":"-"},{"$f":"Tabel3[[#This Row],[Special Food]]","v":"-"},{"$f":"Tabel3[[#This Row],[Food Supplements]]","v":"-"},{"$f":"Tabel3[[#This Row],[Healthcare Products]]","v":"-"},{"$f":"Tabel3[[#This Row],[Medical Devices]]","v":"-"},{"$f":"Tabel3[[#This Row],[Batteries]]","v":"-"},{"$f":"Tabel3[[#This Row],[Light Bulbs]]","v":"-"},{"$f":"Tabel3[[#This Row],[Other Categories]]","v":"-"}]
[{"$f":"VLOOKUP(Tabel3[[#This Row],[GAE ID]],'BES EN'!A:AJ,36,FALSE)","v":"Strongness of basic taste code"},{"$f":"Tabel3[[#This Row],[GDSN-naam]]","v":"strongnessOfBasicTasteCode"},{"$f":"Tabel3[[#This Row],[GDM Verplicht / Conditioneel]]","v":"X"},{"$f":"Tabel3[[#This Row],[DMS controle]]","v":0},{"$f":"Tabel3[[#This Row],[BMS ID]]","v":6583},{"$f":"Tabel3[[#This Row],[Formaat]]","v":"Defined values"},{"$f":"Tabel3[[#This Row],[X Path]]","v":"/catalogue_item_notification:catalogueItemNotificationMessage/transaction/documentCommand/catalogue_item_notification:catalogueItemNotification/catalogueItem/tradeItem/tradeItemInformation/extension/*[namespace-uri()='urn:gs1:gdsn:marketing_information:xsd:3' and local-name()='marketingInformationModule']/marketingInformation/basicTasteInformation/strongnessOfBasicTasteCode"},{"$f":"Tabel3[[#This Row],[GDM laag]]","v":"Local"},{"$f":"VLOOKUP(Tabel3[[#This Row],[GAE ID]],'BES EN'!A:AJ,27,FALSE)","v":0},null,{"$f":"Tabel3[[#This Row],[Dairy, Refrigerated & Frozen]]","v":"-"},{"$f":"Tabel3[[#This Row],[Deli & Prepared]]","v":"-"},{"$f":"Tabel3[[#This Row],[Fresh Meat]]","v":"-"},{"$f":"Tabel3[[#This Row],[Fresh Fish]]","v":"-"},{"$f":"Tabel3[[#This Row],[Fresh Fruits & Vegetables]]","v":"-"},{"$f":"Tabel3[[#This Row],[Grocery]]","v":"-"},{"$f":"Tabel3[[#This Row],[Cleaners]]","v":"-"},{"$f":"Tabel3[[#This Row],[Disposables]]","v":"-"},{"$f":"Tabel3[[#This Row],[Beauty & Personal Care]]","v":"-"},{"$f":"Tabel3[[#This Row],[Petfood]]","v":"-"},{"$f":"Tabel3[[#This Row],[Alcoholic Beverages]]","v":"K"},{"$f":"Tabel3[[#This Row],[Tobacco]]","v":"-"},{"$f":"Tabel3[[#This Row],[Self-care medicines]]","v":"-"},{"$f":"Tabel3[[#This Row],[Special Food]]","v":"-"},{"$f":"Tabel3[[#This Row],[Food Supplements]]","v":"-"},{"$f":"Tabel3[[#This Row],[Healthcare Products]]","v":"-"},{"$f":"Tabel3[[#This Row],[Medical Devices]]","v":"-"},{"$f":"Tabel3[[#This Row],[Batteries]]","v":"-"},{"$f":"Tabel3[[#This Row],[Light Bulbs]]","v":"-"},{"$f":"Tabel3[[#This Row],[Other Categories]]","v":"-"}]
[{"$f":"VLOOKUP(Tabel3[[#This Row],[GAE ID]],'BES EN'!A:AJ,36,FALSE)","v":"Bitterness of beer measurement"},{"$f":"Tabel3[[#This Row],[GDSN-naam]]","v":"bitternessOfBeerMeasurement"},{"$f":"Tabel3[[#This Row],[GDM Verplicht / Conditioneel]]","v":"X"},{"$f":"Tabel3[[#This Row],[DMS controle]]","v":0},{"$f":"Tabel3[[#This Row],[BMS ID]]","v":6570},{"$f":"Tabel3[[#This Row],[Formaat]]","v":"n..15"},{"$f":"Tabel3[[#This Row],[X Path]]","v":"/catalogue_item_notification:catalogueItemNotificationMessage/transaction/documentCommand/catalogue_item_notification:catalogueItemNotification/catalogueItem/tradeItem/tradeItemInformation/extension/*[namespace-uri()='urn:gs1:gdsn:alcohol_information:xsd:3' and local-name()='alcoholInformationModule']/alcoholInformation/bitternessOfBeerMeasurement"},{"$f":"Tabel3[[#This Row],[GDM laag]]","v":"Local"},{"$f":"VLOOKUP(Tabel3[[#This Row],[GAE ID]],'BES EN'!A:AJ,27,FALSE)","v":0},null,{"$f":"Tabel3[[#This Row],[Dairy, Refrigerated & Frozen]]","v":"-"},{"$f":"Tabel3[[#This Row],[Deli & Prepared]]","v":"-"},{"$f":"Tabel3[[#This Row],[Fresh Meat]]","v":"-"},{"$f":"Tabel3[[#This Row],[Fresh Fish]]","v":"-"},{"$f":"Tabel3[[#This Row],[Fresh Fruits & Vegetables]]","v":"-"},{"$f":"Tabel3[[#This Row],[Grocery]]","v":"-"},{"$f":"Tabel3[[#This Row],[Cleaners]]","v":"-"},{"$f":"Tabel3[[#This Row],[Disposables]]","v":"-"},{"$f":"Tabel3[[#This Row],[Beauty & Personal Care]]","v":"-"},{"$f":"Tabel3[[#This Row],[Petfood]]","v":"-"},{"$f":"Tabel3[[#This Row],[Alcoholic Beverages]]","v":"K"},{"$f":"Tabel3[[#This Row],[Tobacco]]","v":"-"},{"$f":"Tabel3[[#This Row],[Self-care medicines]]","v":"-"},{"$f":"Tabel3[[#This Row],[Special Food]]","v":"-"},{"$f":"Tabel3[[#This Row],[Food Supplements]]","v":"-"},{"$f":"Tabel3[[#This Row],[Healthcare Products]]","v":"-"},{"$f":"Tabel3[[#This Row],[Medical Devices]]","v":"-"},{"$f":"Tabel3[[#This Row],[Batteries]]","v":"-"},{"$f":"Tabel3[[#This Row],[Light Bulbs]]","v":"-"},{"$f":"Tabel3[[#This Row],[Other Categories]]","v":"-"}]
[{"$f":"VLOOKUP(Tabel3[[#This Row],[GAE ID]],'BES EN'!A:AJ,36,FALSE)","v":"Bitterness of beer measurement UOM "},{"$f":"Tabel3[[#This Row],[GDSN-naam]]","v":"bitternessOfBeerMeasurement/@measurementUnitCode"},{"$f":"Tabel3[[#This Row],[GDM Verplicht / Conditioneel]]","v":"X"},{"$f":"Tabel3[[#This Row],[DMS controle]]","v":0},{"$f":"Tabel3[[#This Row],[BMS ID]]","v":"n.a."},{"$f":"Tabel3[[#This Row],[Formaat]]","v":"Defined values"},{"$f":"Tabel3[[#This Row],[X Path]]","v":"/catalogue_item_notification:catalogueItemNotificationMessage/transaction/documentCommand/catalogue_item_notification:catalogueItemNotification/catalogueItem/tradeItem/tradeItemInformation/extension/*[namespace-uri()='urn:gs1:gdsn:alcohol_information:xsd:3' and local-name()='alcoholInformationModule']/alcoholInformation/bitternessOfBeerMeasurement/@codeListVersion"},{"$f":"Tabel3[[#This Row],[GDM laag]]","v":"Local"},{"$f":"VLOOKUP(Tabel3[[#This Row],[GAE ID]],'BES EN'!A:AJ,27,FALSE)","v":"Mandatory, if the ‘Bitterness of beer measurement’ field is populated."},null,{"$f":"Tabel3[[#This Row],[Dairy, Refrigerated & Frozen]]","v":"-"},{"$f":"Tabel3[[#This Row],[Deli & Prepared]]","v":"-"},{"$f":"Tabel3[[#This Row],[Fresh Meat]]","v":"-"},{"$f":"Tabel3[[#This Row],[Fresh Fish]]","v":"-"},{"$f":"Tabel3[[#This Row],[Fresh Fruits & Vegetables]]","v":"-"},{"$f":"Tabel3[[#This Row],[Grocery]]","v":"-"},{"$f":"Tabel3[[#This Row],[Cleaners]]","v":"-"},{"$f":"Tabel3[[#This Row],[Disposables]]","v":"-"},{"$f":"Tabel3[[#This Row],[Beauty & Personal Care]]","v":"-"},{"$f":"Tabel3[[#This Row],[Petfood]]","v":"-"},{"$f":"Tabel3[[#This Row],[Alcoholic Beverages]]","v":"K"},{"$f":"Tabel3[[#This Row],[Tobacco]]","v":"-"},{"$f":"Tabel3[[#This Row],[Self-care medicines]]","v":"-"},{"$f":"Tabel3[[#This Row],[Special Food]]","v":"-"},{"$f":"Tabel3[[#This Row],[Food Supplements]]","v":"-"},{"$f":"Tabel3[[#This Row],[Healthcare Products]]","v":"-"},{"$f":"Tabel3[[#This Row],[Medical Devices]]","v":"-"},{"$f":"Tabel3[[#This Row],[Batteries]]","v":"-"},{"$f":"Tabel3[[#This Row],[Light Bulbs]]","v":"-"},{"$f":"Tabel3[[#This Row],[Other Categories]]","v":"-"}]
["Fresh Fruit and Vegetables",null,{"$f":"Tabel3[[#This Row],[GDM Verplicht / Conditioneel]]","v":0},null,null,null,null,null,null,null,"A","B","C","D","E","F","G","H","I","J","K","L","M","N","O","P","Q","R","S","T"]
[{"$f":"VLOOKUP(Tabel3[[#This Row],[GAE ID]],'BES EN'!A:AJ,36,FALSE)","v":"Descriptive size"},{"$f":"Tabel3[[#This Row],[GDSN-naam]]","v":"descriptiveSize"},{"$f":"Tabel3[[#This Row],[GDM Verplicht / Conditioneel]]","v":"Conditional"},{"$f":"Tabel3[[#This Row],[DMS controle]]","v":0},{"$f":"Tabel3[[#This Row],[BMS ID]]","v":3800},{"$f":"Tabel3[[#This Row],[Formaat]]","v":"an..80"},{"$f":"Tabel3[[#This Row],[X Path]]","v":"/catalogue_item_notification:catalogueItemNotificationMessage/transaction/documentCommand/catalogue_item_notification:catalogueItemNotification/catalogueItem/tradeItem/tradeItemInformation/extension/*[namespace-uri()='urn:gs1:gdsn:trade_item_size:xsd:3' and local-name()='tradeItemSizeModule']/size/descriptiveSize"},{"$f":"Tabel3[[#This Row],[GDM laag]]","v":"Global"},{"$f":"VLOOKUP(Tabel3[[#This Row],[GAE ID]],'BES EN'!A:AJ,27,FALSE)","v":"Mandatory, if the product is in the sub-category fruits and vegetables."},null,{"$f":"Tabel3[[#This Row],[Dairy, Refrigerated & Frozen]]","v":"-"},{"$f":"Tabel3[[#This Row],[Deli & Prepared]]","v":"-"},{"$f":"Tabel3[[#This Row],[Fresh Meat]]","v":"-"},{"$f":"Tabel3[[#This Row],[Fresh Fish]]","v":"-"},{"$f":"Tabel3[[#This Row],[Fresh Fruits & Vegetables]]","v":"E"},{"$f":"Tabel3[[#This Row],[Grocery]]","v":"-"},{"$f":"Tabel3[[#This Row],[Cleaners]]","v":"-"},{"$f":"Tabel3[[#This Row],[Disposables]]","v":"-"},{"$f":"Tabel3[[#This Row],[Beauty & Personal Care]]","v":"-"},{"$f":"Tabel3[[#This Row],[Petfood]]","v":"-"},{"$f":"Tabel3[[#This Row],[Alcoholic Beverages]]","v":"-"},{"$f":"Tabel3[[#This Row],[Tobacco]]","v":"-"},{"$f":"Tabel3[[#This Row],[Self-care medicines]]","v":"-"},{"$f":"Tabel3[[#This Row],[Special Food]]","v":"-"},{"$f":"Tabel3[[#This Row],[Food Supplements]]","v":"-"},{"$f":"Tabel3[[#This Row],[Healthcare Products]]","v":"-"},{"$f":"Tabel3[[#This Row],[Medical Devices]]","v":"-"},{"$f":"Tabel3[[#This Row],[Batteries]]","v":"-"},{"$f":"Tabel3[[#This Row],[Light Bulbs]]","v":"-"},{"$f":"Tabel3[[#This Row],[Other Categories]]","v":"-"}]
[{"$f":"VLOOKUP(Tabel3[[#This Row],[GAE ID]],'BES EN'!A:AJ,36,FALSE)","v":"Descriptive size language code"},{"$f":"Tabel3[[#This Row],[GDSN-naam]]","v":"descriptiveSize/@languageCode"},{"$f":"Tabel3[[#This Row],[GDM Verplicht / Conditioneel]]","v":"Conditional"},{"$f":"Tabel3[[#This Row],[DMS controle]]","v":0},{"$f":"Tabel3[[#This Row],[BMS ID]]","v":3801},{"$f":"Tabel3[[#This Row],[Formaat]]","v":"Defined values"},{"$f":"Tabel3[[#This Row],[X Path]]","v":"/catalogue_item_notification:catalogueItemNotificationMessage/transaction/documentCommand/catalogue_item_notification:catalogueItemNotification/catalogueItem/tradeItem/tradeItemInformation/extension/*[namespace-uri()='urn:gs1:gdsn:trade_item_size:xsd:3' and local-name()='tradeItemSizeModule']/size/descriptiveSize/@languageCode"},{"$f":"Tabel3[[#This Row],[GDM laag]]","v":"Global"},{"$f":"VLOOKUP(Tabel3[[#This Row],[GAE ID]],'BES EN'!A:AJ,27,FALSE)","v":"Mandatory if 'Descriptive size' is populated"},null,{"$f":"Tabel3[[#This Row],[Dairy, Refrigerated & Frozen]]","v":"-"},{"$f":"Tabel3[[#This Row],[Deli & Prepared]]","v":"-"},{"$f":"Tabel3[[#This Row],[Fresh Meat]]","v":"-"},{"$f":"Tabel3[[#This Row],[Fresh Fish]]","v":"-"},{"$f":"Tabel3[[#This Row],[Fresh Fruits & Vegetables]]","v":"E"},{"$f":"Tabel3[[#This Row],[Grocery]]","v":"-"},{"$f":"Tabel3[[#This Row],[Cleaners]]","v":"-"},{"$f":"Tabel3[[#This Row],[Disposables]]","v":"-"},{"$f":"Tabel3[[#This Row],[Beauty & Personal Care]]","v":"-"},{"$f":"Tabel3[[#This Row],[Petfood]]","v":"-"},{"$f":"Tabel3[[#This Row],[Alcoholic Beverages]]","v":"-"},{"$f":"Tabel3[[#This Row],[Tobacco]]","v":"-"},{"$f":"Tabel3[[#This Row],[Self-care medicines]]","v":"-"},{"$f":"Tabel3[[#This Row],[Special Food]]","v":"-"},{"$f":"Tabel3[[#This Row],[Food Supplements]]","v":"-"},{"$f":"Tabel3[[#This Row],[Healthcare Products]]","v":"-"},{"$f":"Tabel3[[#This Row],[Medical Devices]]","v":"-"},{"$f":"Tabel3[[#This Row],[Batteries]]","v":"-"},{"$f":"Tabel3[[#This Row],[Light Bulbs]]","v":"-"},{"$f":"Tabel3[[#This Row],[Other Categories]]","v":"-"}]
[{"$f":"VLOOKUP(Tabel3[[#This Row],[GAE ID]],'BES EN'!A:AJ,36,FALSE)","v":"GPC attribute type code"},{"$f":"Tabel3[[#This Row],[GDSN-naam]]","v":"gpcAttributeTypeCode"},{"$f":"Tabel3[[#This Row],[GDM Verplicht / Conditioneel]]","v":"Optional"},{"$f":"Tabel3[[#This Row],[DMS controle]]","v":0},{"$f":"Tabel3[[#This Row],[BMS ID]]","v":165},{"$f":"Tabel3[[#This Row],[Formaat]]","v":"n8"},{"$f":"Tabel3[[#This Row],[X Path]]","v":"/catalogue_item_notification:catalogueItemNotificationMessage/transaction/documentCommand/catalogue_item_notification:catalogueItemNotification/catalogueItem/tradeItem/gDSNTradeItemClassification/gDSNTradeItemClassificationAttribute/gpcAttributeTypeCode"},{"$f":"Tabel3[[#This Row],[GDM laag]]","v":"Local"},{"$f":"VLOOKUP(Tabel3[[#This Row],[GAE ID]],'BES EN'!A:AJ,27,FALSE)","v":0},null,{"$f":"Tabel3[[#This Row],[Dairy, Refrigerated & Frozen]]","v":"-"},{"$f":"Tabel3[[#This Row],[Deli & Prepared]]","v":"-"},{"$f":"Tabel3[[#This Row],[Fresh Meat]]","v":"-"},{"$f":"Tabel3[[#This Row],[Fresh Fish]]","v":"-"},{"$f":"Tabel3[[#This Row],[Fresh Fruits & Vegetables]]","v":"E"},{"$f":"Tabel3[[#This Row],[Grocery]]","v":"-"},{"$f":"Tabel3[[#This Row],[Cleaners]]","v":"-"},{"$f":"Tabel3[[#This Row],[Disposables]]","v":"-"},{"$f":"Tabel3[[#This Row],[Beauty & Personal Care]]","v":"-"},{"$f":"Tabel3[[#This Row],[Petfood]]","v":"-"},{"$f":"Tabel3[[#This Row],[Alcoholic Beverages]]","v":"-"},{"$f":"Tabel3[[#This Row],[Tobacco]]","v":"-"},{"$f":"Tabel3[[#This Row],[Self-care medicines]]","v":"-"},{"$f":"Tabel3[[#This Row],[Special Food]]","v":"-"},{"$f":"Tabel3[[#This Row],[Food Supplements]]","v":"-"},{"$f":"Tabel3[[#This Row],[Healthcare Products]]","v":"-"},{"$f":"Tabel3[[#This Row],[Medical Devices]]","v":"-"},{"$f":"Tabel3[[#This Row],[Batteries]]","v":"-"},{"$f":"Tabel3[[#This Row],[Light Bulbs]]","v":"-"},{"$f":"Tabel3[[#This Row],[Other Categories]]","v":"-"}]
[{"$f":"VLOOKUP(Tabel3[[#This Row],[GAE ID]],'BES EN'!A:AJ,36,FALSE)","v":"GPC attribute value code"},{"$f":"Tabel3[[#This Row],[GDSN-naam]]","v":"gpcAttributeValueCode"},{"$f":"Tabel3[[#This Row],[GDM Verplicht / Conditioneel]]","v":"Optional"},{"$f":"Tabel3[[#This Row],[DMS controle]]","v":0},{"$f":"Tabel3[[#This Row],[BMS ID]]","v":166},{"$f":"Tabel3[[#This Row],[Formaat]]","v":"n8"},{"$f":"Tabel3[[#This Row],[X Path]]","v":"/catalogue_item_notification:catalogueItemNotificationMessage/transaction/documentCommand/catalogue_item_notification:catalogueItemNotification/catalogueItem/tradeItem/gDSNTradeItemClassification/gDSNTradeItemClassificationAttribute/gpcAttributeValueCode"},{"$f":"Tabel3[[#This Row],[GDM laag]]","v":"Local"},{"$f":"VLOOKUP(Tabel3[[#This Row],[GAE ID]],'BES EN'!A:AJ,27,FALSE)","v":"Mandatory if 'GPC attribute type code' is populated."},null,{"$f":"Tabel3[[#This Row],[Dairy, Refrigerated & Frozen]]","v":"-"},{"$f":"Tabel3[[#This Row],[Deli & Prepared]]","v":"-"},{"$f":"Tabel3[[#This Row],[Fresh Meat]]","v":"-"},{"$f":"Tabel3[[#This Row],[Fresh Fish]]","v":"-"},{"$f":"Tabel3[[#This Row],[Fresh Fruits & Vegetables]]","v":"E"},{"$f":"Tabel3[[#This Row],[Grocery]]","v":"-"},{"$f":"Tabel3[[#This Row],[Cleaners]]","v":"-"},{"$f":"Tabel3[[#This Row],[Disposables]]","v":"-"},{"$f":"Tabel3[[#This Row],[Beauty & Personal Care]]","v":"-"},{"$f":"Tabel3[[#This Row],[Petfood]]","v":"-"},{"$f":"Tabel3[[#This Row],[Alcoholic Beverages]]","v":"-"},{"$f":"Tabel3[[#This Row],[Tobacco]]","v":"-"},{"$f":"Tabel3[[#This Row],[Self-care medicines]]","v":"-"},{"$f":"Tabel3[[#This Row],[Special Food]]","v":"-"},{"$f":"Tabel3[[#This Row],[Food Supplements]]","v":"-"},{"$f":"Tabel3[[#This Row],[Healthcare Products]]","v":"-"},{"$f":"Tabel3[[#This Row],[Medical Devices]]","v":"-"},{"$f":"Tabel3[[#This Row],[Batteries]]","v":"-"},{"$f":"Tabel3[[#This Row],[Light Bulbs]]","v":"-"},{"$f":"Tabel3[[#This Row],[Other Categories]]","v":"-"}]
[{"$f":"VLOOKUP(Tabel3[[#This Row],[GAE ID]],'BES EN'!A:AJ,36,FALSE)","v":"Produce variety type"},{"$f":"Tabel3[[#This Row],[GDSN-naam]]","v":"productCharacteristicValueDescription"},{"$f":"Tabel3[[#This Row],[GDM Verplicht / Conditioneel]]","v":"Optional"},{"$f":"Tabel3[[#This Row],[DMS controle]]","v":0},{"$f":"Tabel3[[#This Row],[BMS ID]]","v":2862},{"$f":"Tabel3[[#This Row],[Formaat]]","v":"an..5000"},{"$f":"Tabel3[[#This Row],[X Path]]","v":"/catalogue_item_notification:catalogueItemNotificationMessage/transaction/documentCommand/catalogue_item_notification:catalogueItemNotification/catalogueItem/tradeItem/tradeItemInformation/extension/*[namespace-uri()='urn:gs1:gdsn:product_characteristics:xsd:3' and local-name()='productCharacteristicsModule']/productCharacteristics/productCharacteristicValueDescription"},{"$f":"Tabel3[[#This Row],[GDM laag]]","v":"Local"},{"$f":"VLOOKUP(Tabel3[[#This Row],[GAE ID]],'BES EN'!A:AJ,27,FALSE)","v":0},null,{"$f":"Tabel3[[#This Row],[Dairy, Refrigerated & Frozen]]","v":"-"},{"$f":"Tabel3[[#This Row],[Deli & Prepared]]","v":"-"},{"$f":"Tabel3[[#This Row],[Fresh Meat]]","v":"-"},{"$f":"Tabel3[[#This Row],[Fresh Fish]]","v":"-"},{"$f":"Tabel3[[#This Row],[Fresh Fruits & Vegetables]]","v":"E"},{"$f":"Tabel3[[#This Row],[Grocery]]","v":"-"},{"$f":"Tabel3[[#This Row],[Cleaners]]","v":"-"},{"$f":"Tabel3[[#This Row],[Disposables]]","v":"-"},{"$f":"Tabel3[[#This Row],[Beauty & Personal Care]]","v":"-"},{"$f":"Tabel3[[#This Row],[Petfood]]","v":"-"},{"$f":"Tabel3[[#This Row],[Alcoholic Beverages]]","v":"-"},{"$f":"Tabel3[[#This Row],[Tobacco]]","v":"-"},{"$f":"Tabel3[[#This Row],[Self-care medicines]]","v":"-"},{"$f":"Tabel3[[#This Row],[Special Food]]","v":"-"},{"$f":"Tabel3[[#This Row],[Food Supplements]]","v":"-"},{"$f":"Tabel3[[#This Row],[Healthcare Products]]","v":"-"},{"$f":"Tabel3[[#This Row],[Medical Devices]]","v":"-"},{"$f":"Tabel3[[#This Row],[Batteries]]","v":"-"},{"$f":"Tabel3[[#This Row],[Light Bulbs]]","v":"-"},{"$f":"Tabel3[[#This Row],[Other Categories]]","v":"-"}]
[{"$f":"VLOOKUP(Tabel3[[#This Row],[GAE ID]],'BES EN'!A:AJ,36,FALSE)","v":"Produce variety type language code"},{"$f":"Tabel3[[#This Row],[GDSN-naam]]","v":"productCharacteristicValueDescription/@languageCode"},{"$f":"Tabel3[[#This Row],[GDM Verplicht / Conditioneel]]","v":"Optional"},{"$f":"Tabel3[[#This Row],[DMS controle]]","v":0},{"$f":"Tabel3[[#This Row],[BMS ID]]","v":2863},{"$f":"Tabel3[[#This Row],[Formaat]]","v":"Defined values"},{"$f":"Tabel3[[#This Row],[X Path]]","v":"/catalogue_item_notification:catalogueItemNotificationMessage/transaction/documentCommand/catalogue_item_notification:catalogueItemNotification/catalogueItem/tradeItem/tradeItemInformation/extension/*[namespace-uri()='urn:gs1:gdsn:product_characteristics:xsd:3' and local-name()='productCharacteristicsModule']/productCharacteristics/productCharacteristicValueDescription/@languageCode"},{"$f":"Tabel3[[#This Row],[GDM laag]]","v":"Local"},{"$f":"VLOOKUP(Tabel3[[#This Row],[GAE ID]],'BES EN'!A:AJ,27,FALSE)","v":"Mandatory if 'Produce variety type' is populated."},null,{"$f":"Tabel3[[#This Row],[Dairy, Refrigerated & Frozen]]","v":"-"},{"$f":"Tabel3[[#This Row],[Deli & Prepared]]","v":"-"},{"$f":"Tabel3[[#This Row],[Fresh Meat]]","v":"-"},{"$f":"Tabel3[[#This Row],[Fresh Fish]]","v":"-"},{"$f":"Tabel3[[#This Row],[Fresh Fruits & Vegetables]]","v":"E"},{"$f":"Tabel3[[#This Row],[Grocery]]","v":"-"},{"$f":"Tabel3[[#This Row],[Cleaners]]","v":"-"},{"$f":"Tabel3[[#This Row],[Disposables]]","v":"-"},{"$f":"Tabel3[[#This Row],[Beauty & Personal Care]]","v":"-"},{"$f":"Tabel3[[#This Row],[Petfood]]","v":"-"},{"$f":"Tabel3[[#This Row],[Alcoholic Beverages]]","v":"-"},{"$f":"Tabel3[[#This Row],[Tobacco]]","v":"-"},{"$f":"Tabel3[[#This Row],[Self-care medicines]]","v":"-"},{"$f":"Tabel3[[#This Row],[Special Food]]","v":"-"},{"$f":"Tabel3[[#This Row],[Food Supplements]]","v":"-"},{"$f":"Tabel3[[#This Row],[Healthcare Products]]","v":"-"},{"$f":"Tabel3[[#This Row],[Medical Devices]]","v":"-"},{"$f":"Tabel3[[#This Row],[Batteries]]","v":"-"},{"$f":"Tabel3[[#This Row],[Light Bulbs]]","v":"-"},{"$f":"Tabel3[[#This Row],[Other Categories]]","v":"-"}]
[{"$f":"VLOOKUP(Tabel3[[#This Row],[GAE ID]],'BES EN'!A:AJ,36,FALSE)","v":"Growing method code"},{"$f":"Tabel3[[#This Row],[GDSN-naam]]","v":"growingMethodCode"},{"$f":"Tabel3[[#This Row],[GDM Verplicht / Conditioneel]]","v":"Conditional"},{"$f":"Tabel3[[#This Row],[DMS controle]]","v":0},{"$f":"Tabel3[[#This Row],[BMS ID]]","v":1259},{"$f":"Tabel3[[#This Row],[Formaat]]","v":"Defined values"},{"$f":"Tabel3[[#This Row],[X Path]]","v":"/catalogue_item_notification:catalogueItemNotificationMessage/transaction/documentCommand/catalogue_item_notification:catalogueItemNotification/catalogueItem/tradeItem/tradeItemInformation/extension/*[namespace-uri()='urn:gs1:gdsn:farming_and_processing_information:xsd:3' and local-name()='farmingAndProcessingInformationModule']/tradeItemFarmingAndProcessing/growingMethodCode"},{"$f":"Tabel3[[#This Row],[GDM laag]]","v":"Global"},{"$f":"VLOOKUP(Tabel3[[#This Row],[GAE ID]],'BES EN'!A:AJ,27,FALSE)","v":"Mandatory, if the product packaging (label) contains information about how the product has been grown, cultivated, reared and/or raised. Not mandatory for fish."},null,{"$f":"Tabel3[[#This Row],[Dairy, Refrigerated & Frozen]]","v":"A"},{"$f":"Tabel3[[#This Row],[Deli & Prepared]]","v":"B"},{"$f":"Tabel3[[#This Row],[Fresh Meat]]","v":"C"},{"$f":"Tabel3[[#This Row],[Fresh Fish]]","v":"-"},{"$f":"Tabel3[[#This Row],[Fresh Fruits & Vegetables]]","v":"E"},{"$f":"Tabel3[[#This Row],[Grocery]]","v":"F"},{"$f":"Tabel3[[#This Row],[Cleaners]]","v":"-"},{"$f":"Tabel3[[#This Row],[Disposables]]","v":"-"},{"$f":"Tabel3[[#This Row],[Beauty & Personal Care]]","v":"-"},{"$f":"Tabel3[[#This Row],[Petfood]]","v":"-"},{"$f":"Tabel3[[#This Row],[Alcoholic Beverages]]","v":"-"},{"$f":"Tabel3[[#This Row],[Tobacco]]","v":"-"},{"$f":"Tabel3[[#This Row],[Self-care medicines]]","v":"-"},{"$f":"Tabel3[[#This Row],[Special Food]]","v":"-"},{"$f":"Tabel3[[#This Row],[Food Supplements]]","v":"-"},{"$f":"Tabel3[[#This Row],[Healthcare Products]]","v":"-"},{"$f":"Tabel3[[#This Row],[Medical Devices]]","v":"-"},{"$f":"Tabel3[[#This Row],[Batteries]]","v":"-"},{"$f":"Tabel3[[#This Row],[Light Bulbs]]","v":"-"},{"$f":"Tabel3[[#This Row],[Other Categories]]","v":"-"}]
[{"$f":"VLOOKUP(Tabel3[[#This Row],[GAE ID]],'BES EN'!A:AJ,36,FALSE)","v":"Genus"},{"$f":"Tabel3[[#This Row],[GDSN-naam]]","v":"genus"},{"$f":"Tabel3[[#This Row],[GDM Verplicht / Conditioneel]]","v":"Conditional"},{"$f":"Tabel3[[#This Row],[DMS controle]]","v":"X"},{"$f":"Tabel3[[#This Row],[BMS ID]]","v":2145},{"$f":"Tabel3[[#This Row],[Formaat]]","v":"an..70"},{"$f":"Tabel3[[#This Row],[X Path]]","v":"/catalogue_item_notification:catalogueItemNotificationMessage/transaction/documentCommand/catalogue_item_notification:catalogueItemNotification/catalogueItem/tradeItem/tradeItemInformation/extension/*[namespace-uri()='urn:gs1:gdsn:organism_classification:xsd:3' and local-name()='organismClassificationModule']/organismClassification/genus"},{"$f":"Tabel3[[#This Row],[GDM laag]]","v":"Regional EU"},{"$f":"VLOOKUP(Tabel3[[#This Row],[GAE ID]],'BES EN'!A:AJ,27,FALSE)","v":"Mandatory for fruit and vegetables."},null,{"$f":"Tabel3[[#This Row],[Dairy, Refrigerated & Frozen]]","v":"-"},{"$f":"Tabel3[[#This Row],[Deli & Prepared]]","v":"-"},{"$f":"Tabel3[[#This Row],[Fresh Meat]]","v":"-"},{"$f":"Tabel3[[#This Row],[Fresh Fish]]","v":"-"},{"$f":"Tabel3[[#This Row],[Fresh Fruits & Vegetables]]","v":"E"},{"$f":"Tabel3[[#This Row],[Grocery]]","v":"-"},{"$f":"Tabel3[[#This Row],[Cleaners]]","v":"-"},{"$f":"Tabel3[[#This Row],[Disposables]]","v":"-"},{"$f":"Tabel3[[#This Row],[Beauty & Personal Care]]","v":"-"},{"$f":"Tabel3[[#This Row],[Petfood]]","v":"-"},{"$f":"Tabel3[[#This Row],[Alcoholic Beverages]]","v":"-"},{"$f":"Tabel3[[#This Row],[Tobacco]]","v":"-"},{"$f":"Tabel3[[#This Row],[Self-care medicines]]","v":"-"},{"$f":"Tabel3[[#This Row],[Special Food]]","v":"-"},{"$f":"Tabel3[[#This Row],[Food Supplements]]","v":"-"},{"$f":"Tabel3[[#This Row],[Healthcare Products]]","v":"-"},{"$f":"Tabel3[[#This Row],[Medical Devices]]","v":"-"},{"$f":"Tabel3[[#This Row],[Batteries]]","v":"-"},{"$f":"Tabel3[[#This Row],[Light Bulbs]]","v":"-"},{"$f":"Tabel3[[#This Row],[Other Categories]]","v":"-"}]
[{"$f":"VLOOKUP(Tabel3[[#This Row],[GAE ID]],'BES EN'!A:AJ,36,FALSE)","v":"Species"},{"$f":"Tabel3[[#This Row],[GDSN-naam]]","v":"species"},{"$f":"Tabel3[[#This Row],[GDM Verplicht / Conditioneel]]","v":"Conditional"},{"$f":"Tabel3[[#This Row],[DMS controle]]","v":"X"},{"$f":"Tabel3[[#This Row],[BMS ID]]","v":2147},{"$f":"Tabel3[[#This Row],[Formaat]]","v":"an..70"},{"$f":"Tabel3[[#This Row],[X Path]]","v":"/catalogue_item_notification:catalogueItemNotificationMessage/transaction/documentCommand/catalogue_item_notification:catalogueItemNotification/catalogueItem/tradeItem/tradeItemInformation/extension/*[namespace-uri()='urn:gs1:gdsn:organism_classification:xsd:3' and local-name()='organismClassificationModule']/organismClassification/species"},{"$f":"Tabel3[[#This Row],[GDM laag]]","v":"Regional EU"},{"$f":"VLOOKUP(Tabel3[[#This Row],[GAE ID]],'BES EN'!A:AJ,27,FALSE)","v":"Mandatory for fruit and vegetables."},null,{"$f":"Tabel3[[#This Row],[Dairy, Refrigerated & Frozen]]","v":"-"},{"$f":"Tabel3[[#This Row],[Deli & Prepared]]","v":"-"},{"$f":"Tabel3[[#This Row],[Fresh Meat]]","v":"-"},{"$f":"Tabel3[[#This Row],[Fresh Fish]]","v":"-"},{"$f":"Tabel3[[#This Row],[Fresh Fruits & Vegetables]]","v":"E"},{"$f":"Tabel3[[#This Row],[Grocery]]","v":"-"},{"$f":"Tabel3[[#This Row],[Cleaners]]","v":"-"},{"$f":"Tabel3[[#This Row],[Disposables]]","v":"-"},{"$f":"Tabel3[[#This Row],[Beauty & Personal Care]]","v":"-"},{"$f":"Tabel3[[#This Row],[Petfood]]","v":"-"},{"$f":"Tabel3[[#This Row],[Alcoholic Beverages]]","v":"-"},{"$f":"Tabel3[[#This Row],[Tobacco]]","v":"-"},{"$f":"Tabel3[[#This Row],[Self-care medicines]]","v":"-"},{"$f":"Tabel3[[#This Row],[Special Food]]","v":"-"},{"$f":"Tabel3[[#This Row],[Food Supplements]]","v":"-"},{"$f":"Tabel3[[#This Row],[Healthcare Products]]","v":"-"},{"$f":"Tabel3[[#This Row],[Medical Devices]]","v":"-"},{"$f":"Tabel3[[#This Row],[Batteries]]","v":"-"},{"$f":"Tabel3[[#This Row],[Light Bulbs]]","v":"-"},{"$f":"Tabel3[[#This Row],[Other Categories]]","v":"-"}]
[{"$f":"VLOOKUP(Tabel3[[#This Row],[GAE ID]],'BES EN'!A:AJ,36,FALSE)","v":"Trade item form code"},{"$f":"Tabel3[[#This Row],[GDSN-naam]]","v":"tradeItemFormCode"},{"$f":"Tabel3[[#This Row],[GDM Verplicht / Conditioneel]]","v":"Conditional"},{"$f":"Tabel3[[#This Row],[DMS controle]]","v":""},{"$f":"Tabel3[[#This Row],[BMS ID]]","v":3531},{"$f":"Tabel3[[#This Row],[Formaat]]","v":"Defined values"},{"$f":"Tabel3[[#This Row],[X Path]]","v":"/catalogue_item_notification:catalogueItemNotificationMessage/transaction/documentCommand/catalogue_item_notification:catalogueItemNotification/catalogueItem/tradeItem/tradeItemInformation/extension/*[namespace-uri()='urn:gs1:gdsn:trade_item_description:xsd:3' and local-name()='tradeItemDescriptionModule']/tradeItemDescriptionInformation/tradeItemFormCode"},{"$f":"Tabel3[[#This Row],[GDM laag]]","v":"Regional EU"},{"$f":"VLOOKUP(Tabel3[[#This Row],[GAE ID]],'BES EN'!A:AJ,27,FALSE)","v":"Mandatory if the product is in the sub-category fruits and vegetables, and the form of the actual trade item needs to be communicated to the buyer."},null,{"$f":"Tabel3[[#This Row],[Dairy, Refrigerated & Frozen]]","v":"-"},{"$f":"Tabel3[[#This Row],[Deli & Prepared]]","v":"-"},{"$f":"Tabel3[[#This Row],[Fresh Meat]]","v":"-"},{"$f":"Tabel3[[#This Row],[Fresh Fish]]","v":"-"},{"$f":"Tabel3[[#This Row],[Fresh Fruits & Vegetables]]","v":"E"},{"$f":"Tabel3[[#This Row],[Grocery]]","v":"-"},{"$f":"Tabel3[[#This Row],[Cleaners]]","v":"-"},{"$f":"Tabel3[[#This Row],[Disposables]]","v":"-"},{"$f":"Tabel3[[#This Row],[Beauty & Personal Care]]","v":"-"},{"$f":"Tabel3[[#This Row],[Petfood]]","v":"-"},{"$f":"Tabel3[[#This Row],[Alcoholic Beverages]]","v":"-"},{"$f":"Tabel3[[#This Row],[Tobacco]]","v":"-"},{"$f":"Tabel3[[#This Row],[Self-care medicines]]","v":"-"},{"$f":"Tabel3[[#This Row],[Special Food]]","v":"-"},{"$f":"Tabel3[[#This Row],[Food Supplements]]","v":"-"},{"$f":"Tabel3[[#This Row],[Healthcare Products]]","v":"-"},{"$f":"Tabel3[[#This Row],[Medical Devices]]","v":"-"},{"$f":"Tabel3[[#This Row],[Batteries]]","v":"-"},{"$f":"Tabel3[[#This Row],[Light Bulbs]]","v":"-"},{"$f":"Tabel3[[#This Row],[Other Categories]]","v":"-"}]
[{"$f":"VLOOKUP(Tabel3[[#This Row],[GAE ID]],'BES EN'!A:AJ,36,FALSE)","v":"Organic claim agency code"},{"$f":"Tabel3[[#This Row],[GDSN-naam]]","v":"organicClaimAgencyCode"},{"$f":"Tabel3[[#This Row],[GDM Verplicht / Conditioneel]]","v":"Conditional"},{"$f":"Tabel3[[#This Row],[DMS controle]]","v":0},{"$f":"Tabel3[[#This Row],[BMS ID]]","v":1246},{"$f":"Tabel3[[#This Row],[Formaat]]","v":"Defined values"},{"$f":"Tabel3[[#This Row],[X Path]]","v":"/catalogue_item_notification:catalogueItemNotificationMessage/transaction/documentCommand/catalogue_item_notification:catalogueItemNotification/catalogueItem/tradeItem/tradeItemInformation/extension/*[namespace-uri()='urn:gs1:gdsn:farming_and_processing_information:xsd:3' and local-name()='farmingAndProcessingInformationModule']/tradeItemOrganicInformation/organicClaim/organicClaimAgencyCode"},{"$f":"Tabel3[[#This Row],[GDM laag]]","v":"Local"},{"$f":"VLOOKUP(Tabel3[[#This Row],[GAE ID]],'BES EN'!A:AJ,27,FALSE)","v":"Mandatory for organic products."},null,{"$f":"Tabel3[[#This Row],[Dairy, Refrigerated & Frozen]]","v":"A"},{"$f":"Tabel3[[#This Row],[Deli & Prepared]]","v":"B"},{"$f":"Tabel3[[#This Row],[Fresh Meat]]","v":"C"},{"$f":"Tabel3[[#This Row],[Fresh Fish]]","v":"D"},{"$f":"Tabel3[[#This Row],[Fresh Fruits & Vegetables]]","v":"E"},{"$f":"Tabel3[[#This Row],[Grocery]]","v":"F"},{"$f":"Tabel3[[#This Row],[Cleaners]]","v":"-"},{"$f":"Tabel3[[#This Row],[Disposables]]","v":"-"},{"$f":"Tabel3[[#This Row],[Beauty & Personal Care]]","v":"-"},{"$f":"Tabel3[[#This Row],[Petfood]]","v":"J"},{"$f":"Tabel3[[#This Row],[Alcoholic Beverages]]","v":"K"},{"$f":"Tabel3[[#This Row],[Tobacco]]","v":"-"},{"$f":"Tabel3[[#This Row],[Self-care medicines]]","v":"-"},{"$f":"Tabel3[[#This Row],[Special Food]]","v":"N"},{"$f":"Tabel3[[#This Row],[Food Supplements]]","v":"-"},{"$f":"Tabel3[[#This Row],[Healthcare Products]]","v":"-"},{"$f":"Tabel3[[#This Row],[Medical Devices]]","v":"-"},{"$f":"Tabel3[[#This Row],[Batteries]]","v":"-"},{"$f":"Tabel3[[#This Row],[Light Bulbs]]","v":"-"},{"$f":"Tabel3[[#This Row],[Other Categories]]","v":"-"}]
[{"$f":"VLOOKUP(Tabel3[[#This Row],[GAE ID]],'BES EN'!A:AJ,36,FALSE)","v":"Organic trade item code"},{"$f":"Tabel3[[#This Row],[GDSN-naam]]","v":"organicTradeItemCode"},{"$f":"Tabel3[[#This Row],[GDM Verplicht / Conditioneel]]","v":"Conditional"},{"$f":"Tabel3[[#This Row],[DMS controle]]","v":0},{"$f":"Tabel3[[#This Row],[BMS ID]]","v":1248},{"$f":"Tabel3[[#This Row],[Formaat]]","v":"Defined values"},{"$f":"Tabel3[[#This Row],[X Path]]","v":"/catalogue_item_notification:catalogueItemNotificationMessage/transaction/documentCommand/catalogue_item_notification:catalogueItemNotification/catalogueItem/tradeItem/tradeItemInformation/extension/*[namespace-uri()='urn:gs1:gdsn:farming_and_processing_information:xsd:3' and local-name()='farmingAndProcessingInformationModule']/tradeItemOrganicInformation/organicClaim/organicTradeItemCode"},{"$f":"Tabel3[[#This Row],[GDM laag]]","v":"Local"},{"$f":"VLOOKUP(Tabel3[[#This Row],[GAE ID]],'BES EN'!A:AJ,27,FALSE)","v":"Mandatory for organic products."},null,{"$f":"Tabel3[[#This Row],[Dairy, Refrigerated & Frozen]]","v":"A"},{"$f":"Tabel3[[#This Row],[Deli & Prepared]]","v":"B"},{"$f":"Tabel3[[#This Row],[Fresh Meat]]","v":"C"},{"$f":"Tabel3[[#This Row],[Fresh Fish]]","v":"D"},{"$f":"Tabel3[[#This Row],[Fresh Fruits & Vegetables]]","v":"E"},{"$f":"Tabel3[[#This Row],[Grocery]]","v":"F"},{"$f":"Tabel3[[#This Row],[Cleaners]]","v":"-"},{"$f":"Tabel3[[#This Row],[Disposables]]","v":"-"},{"$f":"Tabel3[[#This Row],[Beauty & Personal Care]]","v":"-"},{"$f":"Tabel3[[#This Row],[Petfood]]","v":"J"},{"$f":"Tabel3[[#This Row],[Alcoholic Beverages]]","v":"K"},{"$f":"Tabel3[[#This Row],[Tobacco]]","v":"-"},{"$f":"Tabel3[[#This Row],[Self-care medicines]]","v":"-"},{"$f":"Tabel3[[#This Row],[Special Food]]","v":"N"},{"$f":"Tabel3[[#This Row],[Food Supplements]]","v":"-"},{"$f":"Tabel3[[#This Row],[Healthcare Products]]","v":"-"},{"$f":"Tabel3[[#This Row],[Medical Devices]]","v":"-"},{"$f":"Tabel3[[#This Row],[Batteries]]","v":"-"},{"$f":"Tabel3[[#This Row],[Light Bulbs]]","v":"-"},{"$f":"Tabel3[[#This Row],[Other Categories]]","v":"-"}]
[{"$f":"VLOOKUP(Tabel3[[#This Row],[GAE ID]],'BES EN'!A:AJ,36,FALSE)","v":"Organic product place of farming code"},{"$f":"Tabel3[[#This Row],[GDSN-naam]]","v":"organicProductPlaceOfFarmingCode"},{"$f":"Tabel3[[#This Row],[GDM Verplicht / Conditioneel]]","v":"Conditional"},{"$f":"Tabel3[[#This Row],[DMS controle]]","v":0},{"$f":"Tabel3[[#This Row],[BMS ID]]","v":1244},{"$f":"Tabel3[[#This Row],[Formaat]]","v":"Defined values"},{"$f":"Tabel3[[#This Row],[X Path]]","v":"/catalogue_item_notification:catalogueItemNotificationMessage/transaction/documentCommand/catalogue_item_notification:catalogueItemNotification/catalogueItem/tradeItem/tradeItemInformation/extension/*[namespace-uri()='urn:gs1:gdsn:farming_and_processing_information:xsd:3' and local-name()='farmingAndProcessingInformationModule']/tradeItemOrganicInformation/organicProductPlaceOfFarmingCode"},{"$f":"Tabel3[[#This Row],[GDM laag]]","v":"Local"},{"$f":"VLOOKUP(Tabel3[[#This Row],[GAE ID]],'BES EN'!A:AJ,27,FALSE)","v":"Mandatory for organic products (food products or pet food) if the place of farming is stated on the packaging."},null,{"$f":"Tabel3[[#This Row],[Dairy, Refrigerated & Frozen]]","v":"A"},{"$f":"Tabel3[[#This Row],[Deli & Prepared]]","v":"B"},{"$f":"Tabel3[[#This Row],[Fresh Meat]]","v":"C"},{"$f":"Tabel3[[#This Row],[Fresh Fish]]","v":"D"},{"$f":"Tabel3[[#This Row],[Fresh Fruits & Vegetables]]","v":"E"},{"$f":"Tabel3[[#This Row],[Grocery]]","v":"F"},{"$f":"Tabel3[[#This Row],[Cleaners]]","v":"-"},{"$f":"Tabel3[[#This Row],[Disposables]]","v":"-"},{"$f":"Tabel3[[#This Row],[Beauty & Personal Care]]","v":"-"},{"$f":"Tabel3[[#This Row],[Petfood]]","v":"J"},{"$f":"Tabel3[[#This Row],[Alcoholic Beverages]]","v":"K"},{"$f":"Tabel3[[#This Row],[Tobacco]]","v":"-"},{"$f":"Tabel3[[#This Row],[Self-care medicines]]","v":"-"},{"$f":"Tabel3[[#This Row],[Special Food]]","v":"N"},{"$f":"Tabel3[[#This Row],[Food Supplements]]","v":"-"},{"$f":"Tabel3[[#This Row],[Healthcare Products]]","v":"-"},{"$f":"Tabel3[[#This Row],[Medical Devices]]","v":"-"},{"$f":"Tabel3[[#This Row],[Batteries]]","v":"-"},{"$f":"Tabel3[[#This Row],[Light Bulbs]]","v":"-"},{"$f":"Tabel3[[#This Row],[Other Categories]]","v":"-"}]
[{"$f":"VLOOKUP(Tabel3[[#This Row],[GAE ID]],'BES EN'!A:AJ,36,FALSE)","v":"Post-harvest treatment chemical code"},{"$f":"Tabel3[[#This Row],[GDSN-naam]]","v":"postHarvestTreatmentChemicalCode"},{"$f":"Tabel3[[#This Row],[GDM Verplicht / Conditioneel]]","v":"Optional"},{"$f":"Tabel3[[#This Row],[DMS controle]]","v":0},{"$f":"Tabel3[[#This Row],[BMS ID]]","v":1264},{"$f":"Tabel3[[#This Row],[Formaat]]","v":"Defined values"},{"$f":"Tabel3[[#This Row],[X Path]]","v":"/catalogue_item_notification:catalogueItemNotificationMessage/transaction/documentCommand/catalogue_item_notification:catalogueItemNotification/catalogueItem/tradeItem/tradeItemInformation/extension/*[namespace-uri()='urn:gs1:gdsn:farming_and_processing_information:xsd:3' and local-name()='farmingAndProcessingInformationModule']/tradeItemFarmingAndProcessing/postHarvestTreatmentChemicalCode"},{"$f":"Tabel3[[#This Row],[GDM laag]]","v":"Local"},{"$f":"VLOOKUP(Tabel3[[#This Row],[GAE ID]],'BES EN'!A:AJ,27,FALSE)","v":0},null,{"$f":"Tabel3[[#This Row],[Dairy, Refrigerated & Frozen]]","v":"-"},{"$f":"Tabel3[[#This Row],[Deli & Prepared]]","v":"-"},{"$f":"Tabel3[[#This Row],[Fresh Meat]]","v":"-"},{"$f":"Tabel3[[#This Row],[Fresh Fish]]","v":"-"},{"$f":"Tabel3[[#This Row],[Fresh Fruits & Vegetables]]","v":"E"},{"$f":"Tabel3[[#This Row],[Grocery]]","v":"-"},{"$f":"Tabel3[[#This Row],[Cleaners]]","v":"-"},{"$f":"Tabel3[[#This Row],[Disposables]]","v":"-"},{"$f":"Tabel3[[#This Row],[Beauty & Personal Care]]","v":"-"},{"$f":"Tabel3[[#This Row],[Petfood]]","v":"-"},{"$f":"Tabel3[[#This Row],[Alcoholic Beverages]]","v":"-"},{"$f":"Tabel3[[#This Row],[Tobacco]]","v":"-"},{"$f":"Tabel3[[#This Row],[Self-care medicines]]","v":"-"},{"$f":"Tabel3[[#This Row],[Special Food]]","v":"-"},{"$f":"Tabel3[[#This Row],[Food Supplements]]","v":"-"},{"$f":"Tabel3[[#This Row],[Healthcare Products]]","v":"-"},{"$f":"Tabel3[[#This Row],[Medical Devices]]","v":"-"},{"$f":"Tabel3[[#This Row],[Batteries]]","v":"-"},{"$f":"Tabel3[[#This Row],[Light Bulbs]]","v":"-"},{"$f":"Tabel3[[#This Row],[Other Categories]]","v":"-"}]
["Health & Beauty",null,{"$f":"Tabel3[[#This Row],[GDM Verplicht / Conditioneel]]","v":0},"",null,"","",null,null,null,"A","B","C","D","E","F","G","H","I","J","K","L","M","N","O","P","Q","R","S","T"]
[{"$f":"VLOOKUP(Tabel3[[#This Row],[GAE ID]],'BES EN'!A:AJ,36,FALSE)","v":"Dosage recommendation"},{"$f":"Tabel3[[#This Row],[GDSN-naam]]","v":"dosageRecommendation"},{"$f":"Tabel3[[#This Row],[GDM Verplicht / Conditioneel]]","v":"Conditional"},{"$f":"Tabel3[[#This Row],[DMS controle]]","v":"X"},{"$f":"Tabel3[[#This Row],[BMS ID]]","v":2707},{"$f":"Tabel3[[#This Row],[Formaat]]","v":"an..2500"},{"$f":"Tabel3[[#This Row],[X Path]]","v":"/catalogue_item_notification:catalogueItemNotificationMessage/transaction/documentCommand/catalogue_item_notification:catalogueItemNotification/catalogueItem/tradeItem/tradeItemInformation/extension/*[namespace-uri()='urn:gs1:gdsn:pharmaceutical_item_information:xsd:3' and local-name()='pharmaceuticalItemInformationModule']/pharmaceuticalItemInformation/dosage/dosageRecommendation"},{"$f":"Tabel3[[#This Row],[GDM laag]]","v":"Local"},{"$f":"VLOOKUP(Tabel3[[#This Row],[GAE ID]],'BES EN'!A:AJ,27,FALSE)","v":"Mandatory for special foods, medical devices, food supplements, self-care medicines, healthcare products and cosmetics and personal care products if on the packaging.  Optional for the Belgian target market."},null,{"$f":"Tabel3[[#This Row],[Dairy, Refrigerated & Frozen]]","v":"-"},{"$f":"Tabel3[[#This Row],[Deli & Prepared]]","v":"-"},{"$f":"Tabel3[[#This Row],[Fresh Meat]]","v":"-"},{"$f":"Tabel3[[#This Row],[Fresh Fish]]","v":"-"},{"$f":"Tabel3[[#This Row],[Fresh Fruits & Vegetables]]","v":"-"},{"$f":"Tabel3[[#This Row],[Grocery]]","v":"-"},{"$f":"Tabel3[[#This Row],[Cleaners]]","v":"-"},{"$f":"Tabel3[[#This Row],[Disposables]]","v":"-"},{"$f":"Tabel3[[#This Row],[Beauty & Personal Care]]","v":"I"},{"$f":"Tabel3[[#This Row],[Petfood]]","v":"-"},{"$f":"Tabel3[[#This Row],[Alcoholic Beverages]]","v":"-"},{"$f":"Tabel3[[#This Row],[Tobacco]]","v":"-"},{"$f":"Tabel3[[#This Row],[Self-care medicines]]","v":"M"},{"$f":"Tabel3[[#This Row],[Special Food]]","v":"N"},{"$f":"Tabel3[[#This Row],[Food Supplements]]","v":"O"},{"$f":"Tabel3[[#This Row],[Healthcare Products]]","v":"P"},{"$f":"Tabel3[[#This Row],[Medical Devices]]","v":"Q"},{"$f":"Tabel3[[#This Row],[Batteries]]","v":"-"},{"$f":"Tabel3[[#This Row],[Light Bulbs]]","v":"-"},{"$f":"Tabel3[[#This Row],[Other Categories]]","v":"T"}]
[{"$f":"VLOOKUP(Tabel3[[#This Row],[GAE ID]],'BES EN'!A:AJ,36,FALSE)","v":"Dosage recommendation language code"},{"$f":"Tabel3[[#This Row],[GDSN-naam]]","v":"dosageRecommendation/@languageCode"},{"$f":"Tabel3[[#This Row],[GDM Verplicht / Conditioneel]]","v":"Conditional"},{"$f":"Tabel3[[#This Row],[DMS controle]]","v":"X"},{"$f":"Tabel3[[#This Row],[BMS ID]]","v":2708},{"$f":"Tabel3[[#This Row],[Formaat]]","v":"Defined values"},{"$f":"Tabel3[[#This Row],[X Path]]","v":"/catalogue_item_notification:catalogueItemNotificationMessage/transaction/documentCommand/catalogue_item_notification:catalogueItemNotification/catalogueItem/tradeItem/tradeItemInformation/extension/*[namespace-uri()='urn:gs1:gdsn:pharmaceutical_item_information:xsd:3' and local-name()='pharmaceuticalItemInformationModule']/pharmaceuticalItemInformation/dosage/dosageRecommendation/@languageCode"},{"$f":"Tabel3[[#This Row],[GDM laag]]","v":"Local"},{"$f":"VLOOKUP(Tabel3[[#This Row],[GAE ID]],'BES EN'!A:AJ,27,FALSE)","v":"Mandatory if 'Dosage recommendation' is populated."},null,{"$f":"Tabel3[[#This Row],[Dairy, Refrigerated & Frozen]]","v":"-"},{"$f":"Tabel3[[#This Row],[Deli & Prepared]]","v":"-"},{"$f":"Tabel3[[#This Row],[Fresh Meat]]","v":"-"},{"$f":"Tabel3[[#This Row],[Fresh Fish]]","v":"-"},{"$f":"Tabel3[[#This Row],[Fresh Fruits & Vegetables]]","v":"-"},{"$f":"Tabel3[[#This Row],[Grocery]]","v":"-"},{"$f":"Tabel3[[#This Row],[Cleaners]]","v":"-"},{"$f":"Tabel3[[#This Row],[Disposables]]","v":"-"},{"$f":"Tabel3[[#This Row],[Beauty & Personal Care]]","v":"I"},{"$f":"Tabel3[[#This Row],[Petfood]]","v":"-"},{"$f":"Tabel3[[#This Row],[Alcoholic Beverages]]","v":"-"},{"$f":"Tabel3[[#This Row],[Tobacco]]","v":"-"},{"$f":"Tabel3[[#This Row],[Self-care medicines]]","v":"M"},{"$f":"Tabel3[[#This Row],[Special Food]]","v":"N"},{"$f":"Tabel3[[#This Row],[Food Supplements]]","v":"O"},{"$f":"Tabel3[[#This Row],[Healthcare Products]]","v":"P"},{"$f":"Tabel3[[#This Row],[Medical Devices]]","v":"Q"},{"$f":"Tabel3[[#This Row],[Batteries]]","v":"-"},{"$f":"Tabel3[[#This Row],[Light Bulbs]]","v":"-"},{"$f":"Tabel3[[#This Row],[Other Categories]]","v":"T"}]
[{"$f":"VLOOKUP(Tabel3[[#This Row],[GAE ID]],'BES EN'!A:AJ,36,FALSE)","v":"Drug side effects and warnings"},{"$f":"Tabel3[[#This Row],[GDSN-naam]]","v":"drugSideEffectsAndWarnings"},{"$f":"Tabel3[[#This Row],[GDM Verplicht / Conditioneel]]","v":"Conditional"},{"$f":"Tabel3[[#This Row],[DMS controle]]","v":"X"},{"$f":"Tabel3[[#This Row],[BMS ID]]","v":2682},{"$f":"Tabel3[[#This Row],[Formaat]]","v":"an..2500"},{"$f":"Tabel3[[#This Row],[X Path]]","v":"/catalogue_item_notification:catalogueItemNotificationMessage/transaction/documentCommand/catalogue_item_notification:catalogueItemNotification/catalogueItem/tradeItem/tradeItemInformation/extension/*[namespace-uri()='urn:gs1:gdsn:pharmaceutical_item_information:xsd:3' and local-name()='pharmaceuticalItemInformationModule']/pharmaceuticalItemInformation/drugSideEffectsAndWarnings"},{"$f":"Tabel3[[#This Row],[GDM laag]]","v":"Local"},{"$f":"VLOOKUP(Tabel3[[#This Row],[GAE ID]],'BES EN'!A:AJ,27,FALSE)","v":"Mandatory for special foods, medical devices, food supplements, self-care medicines, healthcare products, cosmetics and personal care products if on the packaging.  Optional for the Belgian target market."},null,{"$f":"Tabel3[[#This Row],[Dairy, Refrigerated & Frozen]]","v":"-"},{"$f":"Tabel3[[#This Row],[Deli & Prepared]]","v":"-"},{"$f":"Tabel3[[#This Row],[Fresh Meat]]","v":"-"},{"$f":"Tabel3[[#This Row],[Fresh Fish]]","v":"-"},{"$f":"Tabel3[[#This Row],[Fresh Fruits & Vegetables]]","v":"-"},{"$f":"Tabel3[[#This Row],[Grocery]]","v":"-"},{"$f":"Tabel3[[#This Row],[Cleaners]]","v":"-"},{"$f":"Tabel3[[#This Row],[Disposables]]","v":"-"},{"$f":"Tabel3[[#This Row],[Beauty & Personal Care]]","v":"I"},{"$f":"Tabel3[[#This Row],[Petfood]]","v":"-"},{"$f":"Tabel3[[#This Row],[Alcoholic Beverages]]","v":"-"},{"$f":"Tabel3[[#This Row],[Tobacco]]","v":"-"},{"$f":"Tabel3[[#This Row],[Self-care medicines]]","v":"M"},{"$f":"Tabel3[[#This Row],[Special Food]]","v":"N"},{"$f":"Tabel3[[#This Row],[Food Supplements]]","v":"O"},{"$f":"Tabel3[[#This Row],[Healthcare Products]]","v":"P"},{"$f":"Tabel3[[#This Row],[Medical Devices]]","v":"Q"},{"$f":"Tabel3[[#This Row],[Batteries]]","v":"-"},{"$f":"Tabel3[[#This Row],[Light Bulbs]]","v":"-"},{"$f":"Tabel3[[#This Row],[Other Categories]]","v":"T"}]
[{"$f":"VLOOKUP(Tabel3[[#This Row],[GAE ID]],'BES EN'!A:AJ,36,FALSE)","v":"Drug side effects and warnings language code"},{"$f":"Tabel3[[#This Row],[GDSN-naam]]","v":"drugSideEffectsAndWarnings/@languageCode"},{"$f":"Tabel3[[#This Row],[GDM Verplicht / Conditioneel]]","v":"Conditional"},{"$f":"Tabel3[[#This Row],[DMS controle]]","v":"X"},{"$f":"Tabel3[[#This Row],[BMS ID]]","v":2683},{"$f":"Tabel3[[#This Row],[Formaat]]","v":"Defined values"},{"$f":"Tabel3[[#This Row],[X Path]]","v":"/catalogue_item_notification:catalogueItemNotificationMessage/transaction/documentCommand/catalogue_item_notification:catalogueItemNotification/catalogueItem/tradeItem/tradeItemInformation/extension/*[namespace-uri()='urn:gs1:gdsn:pharmaceutical_item_information:xsd:3' and local-name()='pharmaceuticalItemInformationModule']/pharmaceuticalItemInformation/drugSideEffectsAndWarnings/@languageCode"},{"$f":"Tabel3[[#This Row],[GDM laag]]","v":"Local"},{"$f":"VLOOKUP(Tabel3[[#This Row],[GAE ID]],'BES EN'!A:AJ,27,FALSE)","v":"Mandatory if 'Drug side effects and warnings' is populated."},null,{"$f":"Tabel3[[#This Row],[Dairy, Refrigerated & Frozen]]","v":"-"},{"$f":"Tabel3[[#This Row],[Deli & Prepared]]","v":"-"},{"$f":"Tabel3[[#This Row],[Fresh Meat]]","v":"-"},{"$f":"Tabel3[[#This Row],[Fresh Fish]]","v":"-"},{"$f":"Tabel3[[#This Row],[Fresh Fruits & Vegetables]]","v":"-"},{"$f":"Tabel3[[#This Row],[Grocery]]","v":"-"},{"$f":"Tabel3[[#This Row],[Cleaners]]","v":"-"},{"$f":"Tabel3[[#This Row],[Disposables]]","v":"-"},{"$f":"Tabel3[[#This Row],[Beauty & Personal Care]]","v":"I"},{"$f":"Tabel3[[#This Row],[Petfood]]","v":"-"},{"$f":"Tabel3[[#This Row],[Alcoholic Beverages]]","v":"-"},{"$f":"Tabel3[[#This Row],[Tobacco]]","v":"-"},{"$f":"Tabel3[[#This Row],[Self-care medicines]]","v":"M"},{"$f":"Tabel3[[#This Row],[Special Food]]","v":"N"},{"$f":"Tabel3[[#This Row],[Food Supplements]]","v":"O"},{"$f":"Tabel3[[#This Row],[Healthcare Products]]","v":"P"},{"$f":"Tabel3[[#This Row],[Medical Devices]]","v":"Q"},{"$f":"Tabel3[[#This Row],[Batteries]]","v":"-"},{"$f":"Tabel3[[#This Row],[Light Bulbs]]","v":"-"},{"$f":"Tabel3[[#This Row],[Other Categories]]","v":"T"}]
[{"$f":"VLOOKUP(Tabel3[[#This Row],[GAE ID]],'BES EN'!A:AJ,36,FALSE)","v":"Non food ingredient statement"},{"$f":"Tabel3[[#This Row],[GDSN-naam]]","v":"nonfoodIngredientStatement"},{"$f":"Tabel3[[#This Row],[GDM Verplicht / Conditioneel]]","v":"Conditional"},{"$f":"Tabel3[[#This Row],[DMS controle]]","v":"X"},{"$f":"Tabel3[[#This Row],[BMS ID]]","v":1623},{"$f":"Tabel3[[#This Row],[Formaat]]","v":"an..5000"},{"$f":"Tabel3[[#This Row],[X Path]]","v":"/catalogue_item_notification:catalogueItemNotificationMessage/transaction/documentCommand/catalogue_item_notification:catalogueItemNotification/catalogueItem/tradeItem/tradeItemInformation/extension/*[namespace-uri()='urn:gs1:gdsn:nonfood_ingredient:xsd:3' and local-name()='nonfoodIngredientModule']/nonfoodIngredientStatement"},{"$f":"Tabel3[[#This Row],[GDM laag]]","v":"Regional EU"},{"$f":"VLOOKUP(Tabel3[[#This Row],[GAE ID]],'BES EN'!A:AJ,27,FALSE)","v":"Mandatory for self-care medicines, medical devices, food supplements, healthcare products, cosmetics and personal care products, detergents and biocides if stated on the packaging."},null,{"$f":"Tabel3[[#This Row],[Dairy, Refrigerated & Frozen]]","v":"-"},{"$f":"Tabel3[[#This Row],[Deli & Prepared]]","v":"-"},{"$f":"Tabel3[[#This Row],[Fresh Meat]]","v":"-"},{"$f":"Tabel3[[#This Row],[Fresh Fish]]","v":"-"},{"$f":"Tabel3[[#This Row],[Fresh Fruits & Vegetables]]","v":"-"},{"$f":"Tabel3[[#This Row],[Grocery]]","v":"-"},{"$f":"Tabel3[[#This Row],[Cleaners]]","v":"G"},{"$f":"Tabel3[[#This Row],[Disposables]]","v":"-"},{"$f":"Tabel3[[#This Row],[Beauty & Personal Care]]","v":"I"},{"$f":"Tabel3[[#This Row],[Petfood]]","v":"-"},{"$f":"Tabel3[[#This Row],[Alcoholic Beverages]]","v":"-"},{"$f":"Tabel3[[#This Row],[Tobacco]]","v":"L"},{"$f":"Tabel3[[#This Row],[Self-care medicines]]","v":"M"},{"$f":"Tabel3[[#This Row],[Special Food]]","v":"N"},{"$f":"Tabel3[[#This Row],[Food Supplements]]","v":"O"},{"$f":"Tabel3[[#This Row],[Healthcare Products]]","v":"P"},{"$f":"Tabel3[[#This Row],[Medical Devices]]","v":"Q"},{"$f":"Tabel3[[#This Row],[Batteries]]","v":"-"},{"$f":"Tabel3[[#This Row],[Light Bulbs]]","v":"-"},{"$f":"Tabel3[[#This Row],[Other Categories]]","v":"T"}]
[{"$f":"VLOOKUP(Tabel3[[#This Row],[GAE ID]],'BES EN'!A:AJ,36,FALSE)","v":"Non food ingredient statement language code"},{"$f":"Tabel3[[#This Row],[GDSN-naam]]","v":"nonfoodIngredientStatement/@languageCode"},{"$f":"Tabel3[[#This Row],[GDM Verplicht / Conditioneel]]","v":"Conditional"},{"$f":"Tabel3[[#This Row],[DMS controle]]","v":"X"},{"$f":"Tabel3[[#This Row],[BMS ID]]","v":1624},{"$f":"Tabel3[[#This Row],[Formaat]]","v":"Defined values"},{"$f":"Tabel3[[#This Row],[X Path]]","v":"/catalogue_item_notification:catalogueItemNotificationMessage/transaction/documentCommand/catalogue_item_notification:catalogueItemNotification/catalogueItem/tradeItem/tradeItemInformation/extension/*[namespace-uri()='urn:gs1:gdsn:nonfood_ingredient:xsd:3' and local-name()='nonfoodIngredientModule']/nonfoodIngredientStatement/@languageCode"},{"$f":"Tabel3[[#This Row],[GDM laag]]","v":"Regional EU"},{"$f":"VLOOKUP(Tabel3[[#This Row],[GAE ID]],'BES EN'!A:AJ,27,FALSE)","v":"Mandatory if 'Non food ingredient statement' is populated."},null,{"$f":"Tabel3[[#This Row],[Dairy, Refrigerated & Frozen]]","v":"-"},{"$f":"Tabel3[[#This Row],[Deli & Prepared]]","v":"-"},{"$f":"Tabel3[[#This Row],[Fresh Meat]]","v":"-"},{"$f":"Tabel3[[#This Row],[Fresh Fish]]","v":"-"},{"$f":"Tabel3[[#This Row],[Fresh Fruits & Vegetables]]","v":"-"},{"$f":"Tabel3[[#This Row],[Grocery]]","v":"-"},{"$f":"Tabel3[[#This Row],[Cleaners]]","v":"G"},{"$f":"Tabel3[[#This Row],[Disposables]]","v":"-"},{"$f":"Tabel3[[#This Row],[Beauty & Personal Care]]","v":"I"},{"$f":"Tabel3[[#This Row],[Petfood]]","v":"-"},{"$f":"Tabel3[[#This Row],[Alcoholic Beverages]]","v":"-"},{"$f":"Tabel3[[#This Row],[Tobacco]]","v":"L"},{"$f":"Tabel3[[#This Row],[Self-care medicines]]","v":"M"},{"$f":"Tabel3[[#This Row],[Special Food]]","v":"N"},{"$f":"Tabel3[[#This Row],[Food Supplements]]","v":"O"},{"$f":"Tabel3[[#This Row],[Healthcare Products]]","v":"P"},{"$f":"Tabel3[[#This Row],[Medical Devices]]","v":"Q"},{"$f":"Tabel3[[#This Row],[Batteries]]","v":"-"},{"$f":"Tabel3[[#This Row],[Light Bulbs]]","v":"-"},{"$f":"Tabel3[[#This Row],[Other Categories]]","v":"T"}]
[{"$f":"VLOOKUP(Tabel3[[#This Row],[GAE ID]],'BES EN'!A:AJ,36,FALSE)","v":"Non food ingredient statement sequence number"},{"$f":"Tabel3[[#This Row],[GDSN-naam]]","v":"nonfoodIngredientStatement/@sequenceNumber"},{"$f":"Tabel3[[#This Row],[GDM Verplicht / Conditioneel]]","v":"Conditional"},{"$f":"Tabel3[[#This Row],[DMS controle]]","v":0},{"$f":"Tabel3[[#This Row],[BMS ID]]","v":1627},{"$f":"Tabel3[[#This Row],[Formaat]]","v":"Non-negative integer"},{"$f":"Tabel3[[#This Row],[X Path]]","v":"/catalogue_item_notification:catalogueItemNotificationMessage/transaction/documentCommand/catalogue_item_notification:catalogueItemNotification/catalogueItem/tradeItem/tradeItemInformation/extension/*[namespace-uri()='urn:gs1:gdsn:nonfood_ingredient:xsd:3' and local-name()='nonfoodIngredientModule']/nonfoodIngredientStatement/@sequenceNumber"},{"$f":"Tabel3[[#This Row],[GDM laag]]","v":"Regional EU"},{"$f":"VLOOKUP(Tabel3[[#This Row],[GAE ID]],'BES EN'!A:AJ,27,FALSE)","v":"Mandatory if 'Non food ingredient statement' is used more than once for the same language code."},null,{"$f":"Tabel3[[#This Row],[Dairy, Refrigerated & Frozen]]","v":"-"},{"$f":"Tabel3[[#This Row],[Deli & Prepared]]","v":"-"},{"$f":"Tabel3[[#This Row],[Fresh Meat]]","v":"-"},{"$f":"Tabel3[[#This Row],[Fresh Fish]]","v":"-"},{"$f":"Tabel3[[#This Row],[Fresh Fruits & Vegetables]]","v":"-"},{"$f":"Tabel3[[#This Row],[Grocery]]","v":"-"},{"$f":"Tabel3[[#This Row],[Cleaners]]","v":"G"},{"$f":"Tabel3[[#This Row],[Disposables]]","v":"-"},{"$f":"Tabel3[[#This Row],[Beauty & Personal Care]]","v":"I"},{"$f":"Tabel3[[#This Row],[Petfood]]","v":"-"},{"$f":"Tabel3[[#This Row],[Alcoholic Beverages]]","v":"-"},{"$f":"Tabel3[[#This Row],[Tobacco]]","v":"L"},{"$f":"Tabel3[[#This Row],[Self-care medicines]]","v":"M"},{"$f":"Tabel3[[#This Row],[Special Food]]","v":"N"},{"$f":"Tabel3[[#This Row],[Food Supplements]]","v":"O"},{"$f":"Tabel3[[#This Row],[Healthcare Products]]","v":"P"},{"$f":"Tabel3[[#This Row],[Medical Devices]]","v":"Q"},{"$f":"Tabel3[[#This Row],[Batteries]]","v":"-"},{"$f":"Tabel3[[#This Row],[Light Bulbs]]","v":"-"},{"$f":"Tabel3[[#This Row],[Other Categories]]","v":"T"}]
[{"$f":"VLOOKUP(Tabel3[[#This Row],[GAE ID]],'BES EN'!A:AJ,36,FALSE)","v":"Consumer sales condition code"},{"$f":"Tabel3[[#This Row],[GDSN-naam]]","v":"consumerSalesConditionCode"},{"$f":"Tabel3[[#This Row],[GDM Verplicht / Conditioneel]]","v":"Conditional"},{"$f":"Tabel3[[#This Row],[DMS controle]]","v":"X"},{"$f":"Tabel3[[#This Row],[BMS ID]]","v":3325},{"$f":"Tabel3[[#This Row],[Formaat]]","v":"Defined values"},{"$f":"Tabel3[[#This Row],[X Path]]","v":"/catalogue_item_notification:catalogueItemNotificationMessage/transaction/documentCommand/catalogue_item_notification:catalogueItemNotification/catalogueItem/tradeItem/tradeItemInformation/extension/*[namespace-uri()='urn:gs1:gdsn:sales_information:xsd:3' and local-name()='salesInformationModule']/salesInformation/consumerSalesConditionCode"},{"$f":"Tabel3[[#This Row],[GDM laag]]","v":"Local"},{"$f":"VLOOKUP(Tabel3[[#This Row],[GAE ID]],'BES EN'!A:AJ,27,FALSE)","v":"Mandatory if stated on the label. Optional for the Belgian target market."},null,{"$f":"Tabel3[[#This Row],[Dairy, Refrigerated & Frozen]]","v":"-"},{"$f":"Tabel3[[#This Row],[Deli & Prepared]]","v":"-"},{"$f":"Tabel3[[#This Row],[Fresh Meat]]","v":"-"},{"$f":"Tabel3[[#This Row],[Fresh Fish]]","v":"-"},{"$f":"Tabel3[[#This Row],[Fresh Fruits & Vegetables]]","v":"-"},{"$f":"Tabel3[[#This Row],[Grocery]]","v":"-"},{"$f":"Tabel3[[#This Row],[Cleaners]]","v":"-"},{"$f":"Tabel3[[#This Row],[Disposables]]","v":"-"},{"$f":"Tabel3[[#This Row],[Beauty & Personal Care]]","v":"-"},{"$f":"Tabel3[[#This Row],[Petfood]]","v":"-"},{"$f":"Tabel3[[#This Row],[Alcoholic Beverages]]","v":"-"},{"$f":"Tabel3[[#This Row],[Tobacco]]","v":"-"},{"$f":"Tabel3[[#This Row],[Self-care medicines]]","v":"M"},{"$f":"Tabel3[[#This Row],[Special Food]]","v":"-"},{"$f":"Tabel3[[#This Row],[Food Supplements]]","v":"-"},{"$f":"Tabel3[[#This Row],[Healthcare Products]]","v":"-"},{"$f":"Tabel3[[#This Row],[Medical Devices]]","v":"-"},{"$f":"Tabel3[[#This Row],[Batteries]]","v":"-"},{"$f":"Tabel3[[#This Row],[Light Bulbs]]","v":"-"},{"$f":"Tabel3[[#This Row],[Other Categories]]","v":"-"}]
[{"$f":"VLOOKUP(Tabel3[[#This Row],[GAE ID]],'BES EN'!A:AJ,36,FALSE)","v":"Dosage form type"},{"$f":"Tabel3[[#This Row],[GDSN-naam]]","v":"dosageFormTypeCodeReference"},{"$f":"Tabel3[[#This Row],[GDM Verplicht / Conditioneel]]","v":"Conditional"},{"$f":"Tabel3[[#This Row],[DMS controle]]","v":"X"},{"$f":"Tabel3[[#This Row],[BMS ID]]","v":2699},{"$f":"Tabel3[[#This Row],[Formaat]]","v":"an..80"},{"$f":"Tabel3[[#This Row],[X Path]]","v":"/catalogue_item_notification:catalogueItemNotificationMessage/transaction/documentCommand/catalogue_item_notification:catalogueItemNotification/catalogueItem/tradeItem/tradeItemInformation/extension/*[namespace-uri()='urn:gs1:gdsn:pharmaceutical_item_information:xsd:3' and local-name()='pharmaceuticalItemInformationModule']/pharmaceuticalItemInformation/dosage/dosageFormTypeCodeReference"},{"$f":"Tabel3[[#This Row],[GDM laag]]","v":"Local"},{"$f":"VLOOKUP(Tabel3[[#This Row],[GAE ID]],'BES EN'!A:AJ,27,FALSE)","v":"Mandatory for special foods, medical devices, food supplement and self-care medicines if stated on the package.  Optional for the Belgian target market."},null,{"$f":"Tabel3[[#This Row],[Dairy, Refrigerated & Frozen]]","v":"-"},{"$f":"Tabel3[[#This Row],[Deli & Prepared]]","v":"-"},{"$f":"Tabel3[[#This Row],[Fresh Meat]]","v":"-"},{"$f":"Tabel3[[#This Row],[Fresh Fish]]","v":"-"},{"$f":"Tabel3[[#This Row],[Fresh Fruits & Vegetables]]","v":"-"},{"$f":"Tabel3[[#This Row],[Grocery]]","v":"-"},{"$f":"Tabel3[[#This Row],[Cleaners]]","v":"-"},{"$f":"Tabel3[[#This Row],[Disposables]]","v":"-"},{"$f":"Tabel3[[#This Row],[Beauty & Personal Care]]","v":"-"},{"$f":"Tabel3[[#This Row],[Petfood]]","v":"-"},{"$f":"Tabel3[[#This Row],[Alcoholic Beverages]]","v":"-"},{"$f":"Tabel3[[#This Row],[Tobacco]]","v":"-"},{"$f":"Tabel3[[#This Row],[Self-care medicines]]","v":"M"},{"$f":"Tabel3[[#This Row],[Special Food]]","v":"N"},{"$f":"Tabel3[[#This Row],[Food Supplements]]","v":"O"},{"$f":"Tabel3[[#This Row],[Healthcare Products]]","v":"P"},{"$f":"Tabel3[[#This Row],[Medical Devices]]","v":"Q"},{"$f":"Tabel3[[#This Row],[Batteries]]","v":"-"},{"$f":"Tabel3[[#This Row],[Light Bulbs]]","v":"-"},{"$f":"Tabel3[[#This Row],[Other Categories]]","v":"T"}]
[{"$f":"VLOOKUP(Tabel3[[#This Row],[GAE ID]],'BES EN'!A:AJ,36,FALSE)","v":"Regulation type code"},{"$f":"Tabel3[[#This Row],[GDSN-naam]]","v":"regulationTypeCode"},{"$f":"Tabel3[[#This Row],[GDM Verplicht / Conditioneel]]","v":"Conditional"},{"$f":"Tabel3[[#This Row],[DMS controle]]","v":"X"},{"$f":"Tabel3[[#This Row],[BMS ID]]","v":3070},{"$f":"Tabel3[[#This Row],[Formaat]]","v":"Defined values"},{"$f":"Tabel3[[#This Row],[X Path]]","v":"/catalogue_item_notification:catalogueItemNotificationMessage/transaction/documentCommand/catalogue_item_notification:catalogueItemNotification/catalogueItem/tradeItem/tradeItemInformation/extension/*[namespace-uri()='urn:gs1:gdsn:regulated_trade_item:xsd:3' and local-name()='regulatedTradeItemModule']/regulatoryInformation/regulationTypeCode"},{"$f":"Tabel3[[#This Row],[GDM laag]]","v":"Regional EU"},{"$f":"VLOOKUP(Tabel3[[#This Row],[GAE ID]],'BES EN'!A:AJ,27,FALSE)","v":"Mandatory for medical devices, animal nutrition, biocides, for products that contain precursors for explosives and in case ‘Hazardous substances classification system’ field is populated and does not have the value ‘ZNA’."},null,{"$f":"Tabel3[[#This Row],[Dairy, Refrigerated & Frozen]]","v":"A"},{"$f":"Tabel3[[#This Row],[Deli & Prepared]]","v":"B"},{"$f":"Tabel3[[#This Row],[Fresh Meat]]","v":"C"},{"$f":"Tabel3[[#This Row],[Fresh Fish]]","v":"D"},{"$f":"Tabel3[[#This Row],[Fresh Fruits & Vegetables]]","v":"E"},{"$f":"Tabel3[[#This Row],[Grocery]]","v":"F"},{"$f":"Tabel3[[#This Row],[Cleaners]]","v":"G"},{"$f":"Tabel3[[#This Row],[Disposables]]","v":"H"},{"$f":"Tabel3[[#This Row],[Beauty & Personal Care]]","v":"I"},{"$f":"Tabel3[[#This Row],[Petfood]]","v":"J"},{"$f":"Tabel3[[#This Row],[Alcoholic Beverages]]","v":"K"},{"$f":"Tabel3[[#This Row],[Tobacco]]","v":"L"},{"$f":"Tabel3[[#This Row],[Self-care medicines]]","v":"M"},{"$f":"Tabel3[[#This Row],[Special Food]]","v":"N"},{"$f":"Tabel3[[#This Row],[Food Supplements]]","v":"O"},{"$f":"Tabel3[[#This Row],[Healthcare Products]]","v":"P"},{"$f":"Tabel3[[#This Row],[Medical Devices]]","v":"Q"},{"$f":"Tabel3[[#This Row],[Batteries]]","v":"R"},{"$f":"Tabel3[[#This Row],[Light Bulbs]]","v":"S"},{"$f":"Tabel3[[#This Row],[Other Categories]]","v":"T"}]
[{"$f":"VLOOKUP(Tabel3[[#This Row],[GAE ID]],'BES EN'!A:AJ,36,FALSE)","v":"Regulatory permit identification"},{"$f":"Tabel3[[#This Row],[GDSN-naam]]","v":"regulatoryPermitIdentification"},{"$f":"Tabel3[[#This Row],[GDM Verplicht / Conditioneel]]","v":"Conditional"},{"$f":"Tabel3[[#This Row],[DMS controle]]","v":"X"},{"$f":"Tabel3[[#This Row],[BMS ID]]","v":3087},{"$f":"Tabel3[[#This Row],[Formaat]]","v":"an..200"},{"$f":"Tabel3[[#This Row],[X Path]]","v":"/catalogue_item_notification:catalogueItemNotificationMessage/transaction/documentCommand/catalogue_item_notification:catalogueItemNotification/catalogueItem/tradeItem/tradeItemInformation/extension/*[namespace-uri()='urn:gs1:gdsn:regulated_trade_item:xsd:3' and local-name()='regulatedTradeItemModule']/regulatoryInformation/permitIdentification/regulatoryPermitIdentification"},{"$f":"Tabel3[[#This Row],[GDM laag]]","v":"Regional EU"},{"$f":"VLOOKUP(Tabel3[[#This Row],[GAE ID]],'BES EN'!A:AJ,27,FALSE)","v":"Mandatory for Class IIa, IIb and III medical devices (optional for the Belgian target market), animal nutrition and biocides. "},null,{"$f":"Tabel3[[#This Row],[Dairy, Refrigerated & Frozen]]","v":"-"},{"$f":"Tabel3[[#This Row],[Deli & Prepared]]","v":"-"},{"$f":"Tabel3[[#This Row],[Fresh Meat]]","v":"-"},{"$f":"Tabel3[[#This Row],[Fresh Fish]]","v":"-"},{"$f":"Tabel3[[#This Row],[Fresh Fruits & Vegetables]]","v":"-"},{"$f":"Tabel3[[#This Row],[Grocery]]","v":"-"},{"$f":"Tabel3[[#This Row],[Cleaners]]","v":"G"},{"$f":"Tabel3[[#This Row],[Disposables]]","v":"-"},{"$f":"Tabel3[[#This Row],[Beauty & Personal Care]]","v":"-"},{"$f":"Tabel3[[#This Row],[Petfood]]","v":"J"},{"$f":"Tabel3[[#This Row],[Alcoholic Beverages]]","v":"-"},{"$f":"Tabel3[[#This Row],[Tobacco]]","v":"-"},{"$f":"Tabel3[[#This Row],[Self-care medicines]]","v":"-"},{"$f":"Tabel3[[#This Row],[Special Food]]","v":"-"},{"$f":"Tabel3[[#This Row],[Food Supplements]]","v":"-"},{"$f":"Tabel3[[#This Row],[Healthcare Products]]","v":"-"},{"$f":"Tabel3[[#This Row],[Medical Devices]]","v":"Q"},{"$f":"Tabel3[[#This Row],[Batteries]]","v":"-"},{"$f":"Tabel3[[#This Row],[Light Bulbs]]","v":"-"},{"$f":"Tabel3[[#This Row],[Other Categories]]","v":"-"}]
[{"$f":"VLOOKUP(Tabel3[[#This Row],[GAE ID]],'BES EN'!A:AJ,36,FALSE)","v":"Permit end date time"},{"$f":"Tabel3[[#This Row],[GDSN-naam]]","v":"permitEndDateTime"},{"$f":"Tabel3[[#This Row],[GDM Verplicht / Conditioneel]]","v":"X"},{"$f":"Tabel3[[#This Row],[DMS controle]]","v":0},{"$f":"Tabel3[[#This Row],[BMS ID]]","v":3085},{"$f":"Tabel3[[#This Row],[Formaat]]","v":"DateTime"},{"$f":"Tabel3[[#This Row],[X Path]]","v":"/catalogue_item_notification:catalogueItemNotificationMessage/transaction/documentCommand/catalogue_item_notification:catalogueItemNotification/catalogueItem/tradeItem/tradeItemInformation/extension/*[namespace-uri()='urn:gs1:gdsn:regulated_trade_item:xsd:3' and local-name()='regulatedTradeItemModule']/regulatoryInformation/permitIdentification/permitEndDateTime"},{"$f":"Tabel3[[#This Row],[GDM laag]]","v":"Local"},{"$f":"VLOOKUP(Tabel3[[#This Row],[GAE ID]],'BES EN'!A:AJ,27,FALSE)","v":"Mandatory for biocides if available"},null,{"$f":"Tabel3[[#This Row],[Dairy, Refrigerated & Frozen]]","v":"-"},{"$f":"Tabel3[[#This Row],[Deli & Prepared]]","v":"-"},{"$f":"Tabel3[[#This Row],[Fresh Meat]]","v":"-"},{"$f":"Tabel3[[#This Row],[Fresh Fish]]","v":"-"},{"$f":"Tabel3[[#This Row],[Fresh Fruits & Vegetables]]","v":"-"},{"$f":"Tabel3[[#This Row],[Grocery]]","v":"-"},{"$f":"Tabel3[[#This Row],[Cleaners]]","v":"G"},{"$f":"Tabel3[[#This Row],[Disposables]]","v":"-"},{"$f":"Tabel3[[#This Row],[Beauty & Personal Care]]","v":"-"},{"$f":"Tabel3[[#This Row],[Petfood]]","v":"J"},{"$f":"Tabel3[[#This Row],[Alcoholic Beverages]]","v":"-"},{"$f":"Tabel3[[#This Row],[Tobacco]]","v":"-"},{"$f":"Tabel3[[#This Row],[Self-care medicines]]","v":"-"},{"$f":"Tabel3[[#This Row],[Special Food]]","v":"-"},{"$f":"Tabel3[[#This Row],[Food Supplements]]","v":"-"},{"$f":"Tabel3[[#This Row],[Healthcare Products]]","v":"-"},{"$f":"Tabel3[[#This Row],[Medical Devices]]","v":"Q"},{"$f":"Tabel3[[#This Row],[Batteries]]","v":"-"},{"$f":"Tabel3[[#This Row],[Light Bulbs]]","v":"-"},{"$f":"Tabel3[[#This Row],[Other Categories]]","v":"-"}]
[{"$f":"VLOOKUP(Tabel3[[#This Row],[GAE ID]],'BES EN'!A:AJ,36,FALSE)","v":"Healthcare item minimum usage age"},{"$f":"Tabel3[[#This Row],[GDSN-naam]]","v":"healthcareItemMinimumUsageAge"},{"$f":"Tabel3[[#This Row],[GDM Verplicht / Conditioneel]]","v":"Conditional"},{"$f":"Tabel3[[#This Row],[DMS controle]]","v":"X"},{"$f":"Tabel3[[#This Row],[BMS ID]]","v":5924},{"$f":"Tabel3[[#This Row],[Formaat]]","v":"n..15"},{"$f":"Tabel3[[#This Row],[X Path]]","v":"/catalogue_item_notification:catalogueItemNotificationMessage/transaction/documentCommand/catalogue_item_notification:catalogueItemNotification/catalogueItem/tradeItem/tradeItemInformation/extension/*[namespace-uri()='urn:gs1:gdsn:healthcare_item_information:xsd:3' and local-name()='healthcareItemInformationModule']/healthcareItemInformation/healthcareItemMinimumUsageAge"},{"$f":"Tabel3[[#This Row],[GDM laag]]","v":"Local"},{"$f":"VLOOKUP(Tabel3[[#This Row],[GAE ID]],'BES EN'!A:AJ,27,FALSE)","v":"Mandatory for self-care medicines if stated on the package."},null,{"$f":"Tabel3[[#This Row],[Dairy, Refrigerated & Frozen]]","v":"-"},{"$f":"Tabel3[[#This Row],[Deli & Prepared]]","v":"-"},{"$f":"Tabel3[[#This Row],[Fresh Meat]]","v":"-"},{"$f":"Tabel3[[#This Row],[Fresh Fish]]","v":"-"},{"$f":"Tabel3[[#This Row],[Fresh Fruits & Vegetables]]","v":"-"},{"$f":"Tabel3[[#This Row],[Grocery]]","v":"-"},{"$f":"Tabel3[[#This Row],[Cleaners]]","v":"-"},{"$f":"Tabel3[[#This Row],[Disposables]]","v":"-"},{"$f":"Tabel3[[#This Row],[Beauty & Personal Care]]","v":"-"},{"$f":"Tabel3[[#This Row],[Petfood]]","v":"-"},{"$f":"Tabel3[[#This Row],[Alcoholic Beverages]]","v":"-"},{"$f":"Tabel3[[#This Row],[Tobacco]]","v":"-"},{"$f":"Tabel3[[#This Row],[Self-care medicines]]","v":"M"},{"$f":"Tabel3[[#This Row],[Special Food]]","v":"-"},{"$f":"Tabel3[[#This Row],[Food Supplements]]","v":"-"},{"$f":"Tabel3[[#This Row],[Healthcare Products]]","v":"-"},{"$f":"Tabel3[[#This Row],[Medical Devices]]","v":"-"},{"$f":"Tabel3[[#This Row],[Batteries]]","v":"-"},{"$f":"Tabel3[[#This Row],[Light Bulbs]]","v":"-"},{"$f":"Tabel3[[#This Row],[Other Categories]]","v":"-"}]
[{"$f":"VLOOKUP(Tabel3[[#This Row],[GAE ID]],'BES EN'!A:AJ,36,FALSE)","v":"Healthcare item minimum usage age UOM"},{"$f":"Tabel3[[#This Row],[GDSN-naam]]","v":"healthcareItemMinimumUsageAge/@timeMeasurementUnitCode"},{"$f":"Tabel3[[#This Row],[GDM Verplicht / Conditioneel]]","v":"Conditional"},{"$f":"Tabel3[[#This Row],[DMS controle]]","v":"X"},{"$f":"Tabel3[[#This Row],[BMS ID]]","v":5925},{"$f":"Tabel3[[#This Row],[Formaat]]","v":"Defined values"},{"$f":"Tabel3[[#This Row],[X Path]]","v":"/catalogue_item_notification:catalogueItemNotificationMessage/transaction/documentCommand/catalogue_item_notification:catalogueItemNotification/catalogueItem/tradeItem/tradeItemInformation/extension/*[namespace-uri()='urn:gs1:gdsn:healthcare_item_information:xsd:3' and local-name()='healthcareItemInformationModule']/healthcareItemInformation/healthcareItemMinimumUsageAge/@timeMeasurementUnitCode"},{"$f":"Tabel3[[#This Row],[GDM laag]]","v":"Local"},{"$f":"VLOOKUP(Tabel3[[#This Row],[GAE ID]],'BES EN'!A:AJ,27,FALSE)","v":"Mandatory in case 'Healthcare item minimum usage age' is populated for a consumer unit."},null,{"$f":"Tabel3[[#This Row],[Dairy, Refrigerated & Frozen]]","v":"-"},{"$f":"Tabel3[[#This Row],[Deli & Prepared]]","v":"-"},{"$f":"Tabel3[[#This Row],[Fresh Meat]]","v":"-"},{"$f":"Tabel3[[#This Row],[Fresh Fish]]","v":"-"},{"$f":"Tabel3[[#This Row],[Fresh Fruits & Vegetables]]","v":"-"},{"$f":"Tabel3[[#This Row],[Grocery]]","v":"-"},{"$f":"Tabel3[[#This Row],[Cleaners]]","v":"-"},{"$f":"Tabel3[[#This Row],[Disposables]]","v":"-"},{"$f":"Tabel3[[#This Row],[Beauty & Personal Care]]","v":"-"},{"$f":"Tabel3[[#This Row],[Petfood]]","v":"-"},{"$f":"Tabel3[[#This Row],[Alcoholic Beverages]]","v":"-"},{"$f":"Tabel3[[#This Row],[Tobacco]]","v":"-"},{"$f":"Tabel3[[#This Row],[Self-care medicines]]","v":"M"},{"$f":"Tabel3[[#This Row],[Special Food]]","v":"-"},{"$f":"Tabel3[[#This Row],[Food Supplements]]","v":"-"},{"$f":"Tabel3[[#This Row],[Healthcare Products]]","v":"-"},{"$f":"Tabel3[[#This Row],[Medical Devices]]","v":"-"},{"$f":"Tabel3[[#This Row],[Batteries]]","v":"-"},{"$f":"Tabel3[[#This Row],[Light Bulbs]]","v":"-"},{"$f":"Tabel3[[#This Row],[Other Categories]]","v":"-"}]
[{"$f":"VLOOKUP(Tabel3[[#This Row],[GAE ID]],'BES EN'!A:AJ,36,FALSE)","v":"Healthcare item maximum usage age"},{"$f":"Tabel3[[#This Row],[GDSN-naam]]","v":"healthcareItemMaximumUsageAge"},{"$f":"Tabel3[[#This Row],[GDM Verplicht / Conditioneel]]","v":"Conditional"},{"$f":"Tabel3[[#This Row],[DMS controle]]","v":"X"},{"$f":"Tabel3[[#This Row],[BMS ID]]","v":5922},{"$f":"Tabel3[[#This Row],[Formaat]]","v":"n..15"},{"$f":"Tabel3[[#This Row],[X Path]]","v":"/catalogue_item_notification:catalogueItemNotificationMessage/transaction/documentCommand/catalogue_item_notification:catalogueItemNotification/catalogueItem/tradeItem/tradeItemInformation/extension/*[namespace-uri()='urn:gs1:gdsn:healthcare_item_information:xsd:3' and local-name()='healthcareItemInformationModule']/healthcareItemInformation/healthcareItemMaximumUsageAge"},{"$f":"Tabel3[[#This Row],[GDM laag]]","v":"Local"},{"$f":"VLOOKUP(Tabel3[[#This Row],[GAE ID]],'BES EN'!A:AJ,27,FALSE)","v":"Mandatory for self-care medicines if stated on the label/package."},null,{"$f":"Tabel3[[#This Row],[Dairy, Refrigerated & Frozen]]","v":"-"},{"$f":"Tabel3[[#This Row],[Deli & Prepared]]","v":"-"},{"$f":"Tabel3[[#This Row],[Fresh Meat]]","v":"-"},{"$f":"Tabel3[[#This Row],[Fresh Fish]]","v":"-"},{"$f":"Tabel3[[#This Row],[Fresh Fruits & Vegetables]]","v":"-"},{"$f":"Tabel3[[#This Row],[Grocery]]","v":"-"},{"$f":"Tabel3[[#This Row],[Cleaners]]","v":"-"},{"$f":"Tabel3[[#This Row],[Disposables]]","v":"-"},{"$f":"Tabel3[[#This Row],[Beauty & Personal Care]]","v":"-"},{"$f":"Tabel3[[#This Row],[Petfood]]","v":"-"},{"$f":"Tabel3[[#This Row],[Alcoholic Beverages]]","v":"-"},{"$f":"Tabel3[[#This Row],[Tobacco]]","v":"-"},{"$f":"Tabel3[[#This Row],[Self-care medicines]]","v":"M"},{"$f":"Tabel3[[#This Row],[Special Food]]","v":"-"},{"$f":"Tabel3[[#This Row],[Food Supplements]]","v":"-"},{"$f":"Tabel3[[#This Row],[Healthcare Products]]","v":"-"},{"$f":"Tabel3[[#This Row],[Medical Devices]]","v":"-"},{"$f":"Tabel3[[#This Row],[Batteries]]","v":"-"},{"$f":"Tabel3[[#This Row],[Light Bulbs]]","v":"-"},{"$f":"Tabel3[[#This Row],[Other Categories]]","v":"-"}]
[{"$f":"VLOOKUP(Tabel3[[#This Row],[GAE ID]],'BES EN'!A:AJ,36,FALSE)","v":"Healthcare item maximum usage age UOM"},{"$f":"Tabel3[[#This Row],[GDSN-naam]]","v":"healthcareItemMaximumUsageAge/@timeMeasurementUnitCode"},{"$f":"Tabel3[[#This Row],[GDM Verplicht / Conditioneel]]","v":"Conditional"},{"$f":"Tabel3[[#This Row],[DMS controle]]","v":"X"},{"$f":"Tabel3[[#This Row],[BMS ID]]","v":5923},{"$f":"Tabel3[[#This Row],[Formaat]]","v":"Defined values"},{"$f":"Tabel3[[#This Row],[X Path]]","v":"/catalogue_item_notification:catalogueItemNotificationMessage/transaction/documentCommand/catalogue_item_notification:catalogueItemNotification/catalogueItem/tradeItem/tradeItemInformation/extension/*[namespace-uri()='urn:gs1:gdsn:healthcare_item_information:xsd:3' and local-name()='healthcareItemInformationModule']/healthcareItemInformation/healthcareItemMaximumUsageAge/@timeMeasurementUnitCode"},{"$f":"Tabel3[[#This Row],[GDM laag]]","v":"Local"},{"$f":"VLOOKUP(Tabel3[[#This Row],[GAE ID]],'BES EN'!A:AJ,27,FALSE)","v":"Mandatory in case 'Healthcare item maximum usage age' is populated for a consumer unit."},null,{"$f":"Tabel3[[#This Row],[Dairy, Refrigerated & Frozen]]","v":"-"},{"$f":"Tabel3[[#This Row],[Deli & Prepared]]","v":"-"},{"$f":"Tabel3[[#This Row],[Fresh Meat]]","v":"-"},{"$f":"Tabel3[[#This Row],[Fresh Fish]]","v":"-"},{"$f":"Tabel3[[#This Row],[Fresh Fruits & Vegetables]]","v":"-"},{"$f":"Tabel3[[#This Row],[Grocery]]","v":"-"},{"$f":"Tabel3[[#This Row],[Cleaners]]","v":"-"},{"$f":"Tabel3[[#This Row],[Disposables]]","v":"-"},{"$f":"Tabel3[[#This Row],[Beauty & Personal Care]]","v":"-"},{"$f":"Tabel3[[#This Row],[Petfood]]","v":"-"},{"$f":"Tabel3[[#This Row],[Alcoholic Beverages]]","v":"-"},{"$f":"Tabel3[[#This Row],[Tobacco]]","v":"-"},{"$f":"Tabel3[[#This Row],[Self-care medicines]]","v":"M"},{"$f":"Tabel3[[#This Row],[Special Food]]","v":"-"},{"$f":"Tabel3[[#This Row],[Food Supplements]]","v":"-"},{"$f":"Tabel3[[#This Row],[Healthcare Products]]","v":"-"},{"$f":"Tabel3[[#This Row],[Medical Devices]]","v":"-"},{"$f":"Tabel3[[#This Row],[Batteries]]","v":"-"},{"$f":"Tabel3[[#This Row],[Light Bulbs]]","v":"-"},{"$f":"Tabel3[[#This Row],[Other Categories]]","v":"-"}]
[{"$f":"VLOOKUP(Tabel3[[#This Row],[GAE ID]],'BES EN'!A:AJ,36,FALSE)","v":"Healthcare item usage age description"},{"$f":"Tabel3[[#This Row],[GDSN-naam]]","v":"healthcareItemUsageAgeDescription"},{"$f":"Tabel3[[#This Row],[GDM Verplicht / Conditioneel]]","v":"Conditional"},{"$f":"Tabel3[[#This Row],[DMS controle]]","v":"X"},{"$f":"Tabel3[[#This Row],[BMS ID]]","v":5926},{"$f":"Tabel3[[#This Row],[Formaat]]","v":"an..500"},{"$f":"Tabel3[[#This Row],[X Path]]","v":"/catalogue_item_notification:catalogueItemNotificationMessage/transaction/documentCommand/catalogue_item_notification:catalogueItemNotification/catalogueItem/tradeItem/tradeItemInformation/extension/*[namespace-uri()='urn:gs1:gdsn:healthcare_item_information:xsd:3' and local-name()='healthcareItemInformationModule']/healthcareItemInformation/healthcareItemUsageAgeDescription"},{"$f":"Tabel3[[#This Row],[GDM laag]]","v":"Local"},{"$f":"VLOOKUP(Tabel3[[#This Row],[GAE ID]],'BES EN'!A:AJ,27,FALSE)","v":"Mandatory for self-care medicines if stated on the package."},null,{"$f":"Tabel3[[#This Row],[Dairy, Refrigerated & Frozen]]","v":"-"},{"$f":"Tabel3[[#This Row],[Deli & Prepared]]","v":"-"},{"$f":"Tabel3[[#This Row],[Fresh Meat]]","v":"-"},{"$f":"Tabel3[[#This Row],[Fresh Fish]]","v":"-"},{"$f":"Tabel3[[#This Row],[Fresh Fruits & Vegetables]]","v":"-"},{"$f":"Tabel3[[#This Row],[Grocery]]","v":"-"},{"$f":"Tabel3[[#This Row],[Cleaners]]","v":"-"},{"$f":"Tabel3[[#This Row],[Disposables]]","v":"-"},{"$f":"Tabel3[[#This Row],[Beauty & Personal Care]]","v":"-"},{"$f":"Tabel3[[#This Row],[Petfood]]","v":"-"},{"$f":"Tabel3[[#This Row],[Alcoholic Beverages]]","v":"-"},{"$f":"Tabel3[[#This Row],[Tobacco]]","v":"-"},{"$f":"Tabel3[[#This Row],[Self-care medicines]]","v":"M"},{"$f":"Tabel3[[#This Row],[Special Food]]","v":"-"},{"$f":"Tabel3[[#This Row],[Food Supplements]]","v":"-"},{"$f":"Tabel3[[#This Row],[Healthcare Products]]","v":"-"},{"$f":"Tabel3[[#This Row],[Medical Devices]]","v":"-"},{"$f":"Tabel3[[#This Row],[Batteries]]","v":"-"},{"$f":"Tabel3[[#This Row],[Light Bulbs]]","v":"-"},{"$f":"Tabel3[[#This Row],[Other Categories]]","v":"-"}]
[{"$f":"VLOOKUP(Tabel3[[#This Row],[GAE ID]],'BES EN'!A:AJ,36,FALSE)","v":"Healthcare item usage age description language code"},{"$f":"Tabel3[[#This Row],[GDSN-naam]]","v":"healthcareItemUsageAgeDescription/@languageCode"},{"$f":"Tabel3[[#This Row],[GDM Verplicht / Conditioneel]]","v":"Conditional"},{"$f":"Tabel3[[#This Row],[DMS controle]]","v":"X"},{"$f":"Tabel3[[#This Row],[BMS ID]]","v":5927},{"$f":"Tabel3[[#This Row],[Formaat]]","v":"Defined values"},{"$f":"Tabel3[[#This Row],[X Path]]","v":"/catalogue_item_notification:catalogueItemNotificationMessage/transaction/documentCommand/catalogue_item_notification:catalogueItemNotification/catalogueItem/tradeItem/tradeItemInformation/extension/*[namespace-uri()='urn:gs1:gdsn:healthcare_item_information:xsd:3' and local-name()='healthcareItemInformationModule']/healthcareItemInformation/healthcareItemUsageAgeDescription/@languageCode"},{"$f":"Tabel3[[#This Row],[GDM laag]]","v":"Local"},{"$f":"VLOOKUP(Tabel3[[#This Row],[GAE ID]],'BES EN'!A:AJ,27,FALSE)","v":"Mandatory in case 'Healthcare item usage age description' is populated for a consumer unit."},null,{"$f":"Tabel3[[#This Row],[Dairy, Refrigerated & Frozen]]","v":"-"},{"$f":"Tabel3[[#This Row],[Deli & Prepared]]","v":"-"},{"$f":"Tabel3[[#This Row],[Fresh Meat]]","v":"-"},{"$f":"Tabel3[[#This Row],[Fresh Fish]]","v":"-"},{"$f":"Tabel3[[#This Row],[Fresh Fruits & Vegetables]]","v":"-"},{"$f":"Tabel3[[#This Row],[Grocery]]","v":"-"},{"$f":"Tabel3[[#This Row],[Cleaners]]","v":"-"},{"$f":"Tabel3[[#This Row],[Disposables]]","v":"-"},{"$f":"Tabel3[[#This Row],[Beauty & Personal Care]]","v":"-"},{"$f":"Tabel3[[#This Row],[Petfood]]","v":"-"},{"$f":"Tabel3[[#This Row],[Alcoholic Beverages]]","v":"-"},{"$f":"Tabel3[[#This Row],[Tobacco]]","v":"-"},{"$f":"Tabel3[[#This Row],[Self-care medicines]]","v":"M"},{"$f":"Tabel3[[#This Row],[Special Food]]","v":"-"},{"$f":"Tabel3[[#This Row],[Food Supplements]]","v":"-"},{"$f":"Tabel3[[#This Row],[Healthcare Products]]","v":"-"},{"$f":"Tabel3[[#This Row],[Medical Devices]]","v":"-"},{"$f":"Tabel3[[#This Row],[Batteries]]","v":"-"},{"$f":"Tabel3[[#This Row],[Light Bulbs]]","v":"-"},{"$f":"Tabel3[[#This Row],[Other Categories]]","v":"-"}]
[{"$f":"VLOOKUP(Tabel3[[#This Row],[GAE ID]],'BES EN'!A:AJ,36,FALSE)","v":"Usage during pregnancy code"},{"$f":"Tabel3[[#This Row],[GDSN-naam]]","v":"usageDuringPregnancyCode"},{"$f":"Tabel3[[#This Row],[GDM Verplicht / Conditioneel]]","v":"Conditional"},{"$f":"Tabel3[[#This Row],[DMS controle]]","v":"X"},{"$f":"Tabel3[[#This Row],[BMS ID]]","v":5929},{"$f":"Tabel3[[#This Row],[Formaat]]","v":"Defined values"},{"$f":"Tabel3[[#This Row],[X Path]]","v":"/catalogue_item_notification:catalogueItemNotificationMessage/transaction/documentCommand/catalogue_item_notification:catalogueItemNotification/catalogueItem/tradeItem/tradeItemInformation/extension/*[namespace-uri()='urn:gs1:gdsn:healthcare_item_information:xsd:3' and local-name()='healthcareItemInformationModule']/healthcareItemInformation/usageDuringPregnancyCode"},{"$f":"Tabel3[[#This Row],[GDM laag]]","v":"Local"},{"$f":"VLOOKUP(Tabel3[[#This Row],[GAE ID]],'BES EN'!A:AJ,27,FALSE)","v":"Mandatory for self-care medicines because retailers want to receive this information."},null,{"$f":"Tabel3[[#This Row],[Dairy, Refrigerated & Frozen]]","v":"-"},{"$f":"Tabel3[[#This Row],[Deli & Prepared]]","v":"-"},{"$f":"Tabel3[[#This Row],[Fresh Meat]]","v":"-"},{"$f":"Tabel3[[#This Row],[Fresh Fish]]","v":"-"},{"$f":"Tabel3[[#This Row],[Fresh Fruits & Vegetables]]","v":"-"},{"$f":"Tabel3[[#This Row],[Grocery]]","v":"-"},{"$f":"Tabel3[[#This Row],[Cleaners]]","v":"-"},{"$f":"Tabel3[[#This Row],[Disposables]]","v":"-"},{"$f":"Tabel3[[#This Row],[Beauty & Personal Care]]","v":"-"},{"$f":"Tabel3[[#This Row],[Petfood]]","v":"-"},{"$f":"Tabel3[[#This Row],[Alcoholic Beverages]]","v":"-"},{"$f":"Tabel3[[#This Row],[Tobacco]]","v":"-"},{"$f":"Tabel3[[#This Row],[Self-care medicines]]","v":"M"},{"$f":"Tabel3[[#This Row],[Special Food]]","v":"-"},{"$f":"Tabel3[[#This Row],[Food Supplements]]","v":"-"},{"$f":"Tabel3[[#This Row],[Healthcare Products]]","v":"-"},{"$f":"Tabel3[[#This Row],[Medical Devices]]","v":"-"},{"$f":"Tabel3[[#This Row],[Batteries]]","v":"-"},{"$f":"Tabel3[[#This Row],[Light Bulbs]]","v":"-"},{"$f":"Tabel3[[#This Row],[Other Categories]]","v":"-"}]
[{"$f":"VLOOKUP(Tabel3[[#This Row],[GAE ID]],'BES EN'!A:AJ,36,FALSE)","v":"Usage during breastfeeding code"},{"$f":"Tabel3[[#This Row],[GDSN-naam]]","v":"usageDuringBreastFeedingCode"},{"$f":"Tabel3[[#This Row],[GDM Verplicht / Conditioneel]]","v":"Conditional"},{"$f":"Tabel3[[#This Row],[DMS controle]]","v":"X"},{"$f":"Tabel3[[#This Row],[BMS ID]]","v":5928},{"$f":"Tabel3[[#This Row],[Formaat]]","v":"Defined values"},{"$f":"Tabel3[[#This Row],[X Path]]","v":"/catalogue_item_notification:catalogueItemNotificationMessage/transaction/documentCommand/catalogue_item_notification:catalogueItemNotification/catalogueItem/tradeItem/tradeItemInformation/extension/*[namespace-uri()='urn:gs1:gdsn:healthcare_item_information:xsd:3' and local-name()='healthcareItemInformationModule']/healthcareItemInformation/usageDuringBreastFeedingCode"},{"$f":"Tabel3[[#This Row],[GDM laag]]","v":"Local"},{"$f":"VLOOKUP(Tabel3[[#This Row],[GAE ID]],'BES EN'!A:AJ,27,FALSE)","v":"Mandatory for self-care medicines because retailers want to receive this information."},null,{"$f":"Tabel3[[#This Row],[Dairy, Refrigerated & Frozen]]","v":"-"},{"$f":"Tabel3[[#This Row],[Deli & Prepared]]","v":"-"},{"$f":"Tabel3[[#This Row],[Fresh Meat]]","v":"-"},{"$f":"Tabel3[[#This Row],[Fresh Fish]]","v":"-"},{"$f":"Tabel3[[#This Row],[Fresh Fruits & Vegetables]]","v":"-"},{"$f":"Tabel3[[#This Row],[Grocery]]","v":"-"},{"$f":"Tabel3[[#This Row],[Cleaners]]","v":"-"},{"$f":"Tabel3[[#This Row],[Disposables]]","v":"-"},{"$f":"Tabel3[[#This Row],[Beauty & Personal Care]]","v":"-"},{"$f":"Tabel3[[#This Row],[Petfood]]","v":"-"},{"$f":"Tabel3[[#This Row],[Alcoholic Beverages]]","v":"-"},{"$f":"Tabel3[[#This Row],[Tobacco]]","v":"-"},{"$f":"Tabel3[[#This Row],[Self-care medicines]]","v":"M"},{"$f":"Tabel3[[#This Row],[Special Food]]","v":"-"},{"$f":"Tabel3[[#This Row],[Food Supplements]]","v":"-"},{"$f":"Tabel3[[#This Row],[Healthcare Products]]","v":"-"},{"$f":"Tabel3[[#This Row],[Medical Devices]]","v":"-"},{"$f":"Tabel3[[#This Row],[Batteries]]","v":"-"},{"$f":"Tabel3[[#This Row],[Light Bulbs]]","v":"-"},{"$f":"Tabel3[[#This Row],[Other Categories]]","v":"-"}]
[{"$f":"VLOOKUP(Tabel3[[#This Row],[GAE ID]],'BES EN'!A:AJ,36,FALSE)","v":"Additional trade item classification system code"},{"$f":"Tabel3[[#This Row],[GDSN-naam]]","v":"additionalTradeItemClassificationSystemCode"},{"$f":"Tabel3[[#This Row],[GDM Verplicht / Conditioneel]]","v":"Conditional"},{"$f":"Tabel3[[#This Row],[DMS controle]]","v":0},{"$f":"Tabel3[[#This Row],[BMS ID]]","v":171},{"$f":"Tabel3[[#This Row],[Formaat]]","v":"Defined values"},{"$f":"Tabel3[[#This Row],[X Path]]","v":"/catalogue_item_notification:catalogueItemNotificationMessage/transaction/documentCommand/catalogue_item_notification:catalogueItemNotification/catalogueItem/tradeItem/gDSNTradeItemClassification/additionalTradeItemClassification/additionalTradeItemClassificationSystemCode"},{"$f":"Tabel3[[#This Row],[GDM laag]]","v":"Local"},{"$f":"VLOOKUP(Tabel3[[#This Row],[GAE ID]],'BES EN'!A:AJ,27,FALSE)","v":"Mandatory in case 'Additional trade item classification code value' is populated for a consumer unit."},null,{"$f":"Tabel3[[#This Row],[Dairy, Refrigerated & Frozen]]","v":"-"},{"$f":"Tabel3[[#This Row],[Deli & Prepared]]","v":"-"},{"$f":"Tabel3[[#This Row],[Fresh Meat]]","v":"-"},{"$f":"Tabel3[[#This Row],[Fresh Fish]]","v":"-"},{"$f":"Tabel3[[#This Row],[Fresh Fruits & Vegetables]]","v":"-"},{"$f":"Tabel3[[#This Row],[Grocery]]","v":"-"},{"$f":"Tabel3[[#This Row],[Cleaners]]","v":"G"},{"$f":"Tabel3[[#This Row],[Disposables]]","v":"-"},{"$f":"Tabel3[[#This Row],[Beauty & Personal Care]]","v":"I"},{"$f":"Tabel3[[#This Row],[Petfood]]","v":"-"},{"$f":"Tabel3[[#This Row],[Alcoholic Beverages]]","v":"-"},{"$f":"Tabel3[[#This Row],[Tobacco]]","v":"L"},{"$f":"Tabel3[[#This Row],[Self-care medicines]]","v":"M"},{"$f":"Tabel3[[#This Row],[Special Food]]","v":"-"},{"$f":"Tabel3[[#This Row],[Food Supplements]]","v":"-"},{"$f":"Tabel3[[#This Row],[Healthcare Products]]","v":"-"},{"$f":"Tabel3[[#This Row],[Medical Devices]]","v":"Q"},{"$f":"Tabel3[[#This Row],[Batteries]]","v":"-"},{"$f":"Tabel3[[#This Row],[Light Bulbs]]","v":"-"},{"$f":"Tabel3[[#This Row],[Other Categories]]","v":"-"}]
[{"$f":"VLOOKUP(Tabel3[[#This Row],[GAE ID]],'BES EN'!A:AJ,36,FALSE)","v":"Additional trade item classification code value"},{"$f":"Tabel3[[#This Row],[GDSN-naam]]","v":"additionalTradeItemClassificationCodeValue"},{"$f":"Tabel3[[#This Row],[GDM Verplicht / Conditioneel]]","v":"Conditional"},{"$f":"Tabel3[[#This Row],[DMS controle]]","v":0},{"$f":"Tabel3[[#This Row],[BMS ID]]","v":173},{"$f":"Tabel3[[#This Row],[Formaat]]","v":"an..80"},{"$f":"Tabel3[[#This Row],[X Path]]","v":"/catalogue_item_notification:catalogueItemNotificationMessage/transaction/documentCommand/catalogue_item_notification:catalogueItemNotification/catalogueItem/tradeItem/gDSNTradeItemClassification/additionalTradeItemClassification/additionalTradeItemClassificationValue/additionalTradeItemClassificationCodeValue"},{"$f":"Tabel3[[#This Row],[GDM laag]]","v":"Local"},{"$f":"VLOOKUP(Tabel3[[#This Row],[GAE ID]],'BES EN'!A:AJ,27,FALSE)","v":"Mandatory for self-care medicines and medical devices."},null,{"$f":"Tabel3[[#This Row],[Dairy, Refrigerated & Frozen]]","v":"-"},{"$f":"Tabel3[[#This Row],[Deli & Prepared]]","v":"-"},{"$f":"Tabel3[[#This Row],[Fresh Meat]]","v":"-"},{"$f":"Tabel3[[#This Row],[Fresh Fish]]","v":"-"},{"$f":"Tabel3[[#This Row],[Fresh Fruits & Vegetables]]","v":"-"},{"$f":"Tabel3[[#This Row],[Grocery]]","v":"-"},{"$f":"Tabel3[[#This Row],[Cleaners]]","v":"G"},{"$f":"Tabel3[[#This Row],[Disposables]]","v":"-"},{"$f":"Tabel3[[#This Row],[Beauty & Personal Care]]","v":"I"},{"$f":"Tabel3[[#This Row],[Petfood]]","v":"-"},{"$f":"Tabel3[[#This Row],[Alcoholic Beverages]]","v":"-"},{"$f":"Tabel3[[#This Row],[Tobacco]]","v":"L"},{"$f":"Tabel3[[#This Row],[Self-care medicines]]","v":"M"},{"$f":"Tabel3[[#This Row],[Special Food]]","v":"-"},{"$f":"Tabel3[[#This Row],[Food Supplements]]","v":"-"},{"$f":"Tabel3[[#This Row],[Healthcare Products]]","v":"-"},{"$f":"Tabel3[[#This Row],[Medical Devices]]","v":"Q"},{"$f":"Tabel3[[#This Row],[Batteries]]","v":"-"},{"$f":"Tabel3[[#This Row],[Light Bulbs]]","v":"-"},{"$f":"Tabel3[[#This Row],[Other Categories]]","v":"-"}]
[{"$f":"VLOOKUP(Tabel3[[#This Row],[GAE ID]],'BES EN'!A:AJ,36,FALSE)","v":"Feature code"},{"$f":"Tabel3[[#This Row],[GDSN-naam]]","v":"tradeItemFeatureCodeReference"},{"$f":"Tabel3[[#This Row],[GDM Verplicht / Conditioneel]]","v":"Conditional"},{"$f":"Tabel3[[#This Row],[DMS controle]]","v":"X"},{"$f":"Tabel3[[#This Row],[BMS ID]]","v":1514},{"$f":"Tabel3[[#This Row],[Formaat]]","v":"an..80"},{"$f":"Tabel3[[#This Row],[X Path]]","v":"/catalogue_item_notification:catalogueItemNotificationMessage/transaction/documentCommand/catalogue_item_notification:catalogueItemNotification/catalogueItem/tradeItem/tradeItemInformation/extension/*[namespace-uri()='urn:gs1:gdsn:marketing_information:xsd:3' and local-name()='marketingInformationModule']/marketingInformation/tradeItemFeatureCodeReference"},{"$f":"Tabel3[[#This Row],[GDM laag]]","v":"Local"},{"$f":"VLOOKUP(Tabel3[[#This Row],[GAE ID]],'BES EN'!A:AJ,27,FALSE)","v":"Mandatory for medical devices, if the packaging states that the product is sterile (text or logo) and for light bulbs if indicated on the package that the light bulb is dimmable."},null,{"$f":"Tabel3[[#This Row],[Dairy, Refrigerated & Frozen]]","v":"-"},{"$f":"Tabel3[[#This Row],[Deli & Prepared]]","v":"-"},{"$f":"Tabel3[[#This Row],[Fresh Meat]]","v":"-"},{"$f":"Tabel3[[#This Row],[Fresh Fish]]","v":"-"},{"$f":"Tabel3[[#This Row],[Fresh Fruits & Vegetables]]","v":"-"},{"$f":"Tabel3[[#This Row],[Grocery]]","v":"-"},{"$f":"Tabel3[[#This Row],[Cleaners]]","v":"-"},{"$f":"Tabel3[[#This Row],[Disposables]]","v":"-"},{"$f":"Tabel3[[#This Row],[Beauty & Personal Care]]","v":"-"},{"$f":"Tabel3[[#This Row],[Petfood]]","v":"-"},{"$f":"Tabel3[[#This Row],[Alcoholic Beverages]]","v":"-"},{"$f":"Tabel3[[#This Row],[Tobacco]]","v":"-"},{"$f":"Tabel3[[#This Row],[Self-care medicines]]","v":"-"},{"$f":"Tabel3[[#This Row],[Special Food]]","v":"-"},{"$f":"Tabel3[[#This Row],[Food Supplements]]","v":"-"},{"$f":"Tabel3[[#This Row],[Healthcare Products]]","v":"-"},{"$f":"Tabel3[[#This Row],[Medical Devices]]","v":"Q"},{"$f":"Tabel3[[#This Row],[Batteries]]","v":"-"},{"$f":"Tabel3[[#This Row],[Light Bulbs]]","v":"S"},{"$f":"Tabel3[[#This Row],[Other Categories]]","v":"-"}]
[{"$f":"VLOOKUP(Tabel3[[#This Row],[GAE ID]],'BES EN'!A:AJ,36,FALSE)","v":"Type of sterilisation ex works"},{"$f":"Tabel3[[#This Row],[GDSN-naam]]","v":"initialManufacturerSterilisationCode"},{"$f":"Tabel3[[#This Row],[GDM Verplicht / Conditioneel]]","v":"Conditional"},{"$f":"Tabel3[[#This Row],[DMS controle]]","v":0},{"$f":"Tabel3[[#This Row],[BMS ID]]","v":1593},{"$f":"Tabel3[[#This Row],[Formaat]]","v":"an..80"},{"$f":"Tabel3[[#This Row],[X Path]]","v":"/catalogue_item_notification:catalogueItemNotificationMessage/transaction/documentCommand/catalogue_item_notification:catalogueItemNotification/catalogueItem/tradeItem/tradeItemInformation/extension/*[namespace-uri()='urn:gs1:gdsn:medical_device_trade_item:xsd:3' and local-name()='medicalDeviceTradeItemModule']/medicalDeviceInformation/tradeItemSterilityInformation/initialManufacturerSterilisationCode"},{"$f":"Tabel3[[#This Row],[GDM laag]]","v":"Local"},{"$f":"VLOOKUP(Tabel3[[#This Row],[GAE ID]],'BES EN'!A:AJ,27,FALSE)","v":"Mandatory for medical devices if the sterilisation method is stated on the packaging."},null,{"$f":"Tabel3[[#This Row],[Dairy, Refrigerated & Frozen]]","v":"-"},{"$f":"Tabel3[[#This Row],[Deli & Prepared]]","v":"-"},{"$f":"Tabel3[[#This Row],[Fresh Meat]]","v":"-"},{"$f":"Tabel3[[#This Row],[Fresh Fish]]","v":"-"},{"$f":"Tabel3[[#This Row],[Fresh Fruits & Vegetables]]","v":"-"},{"$f":"Tabel3[[#This Row],[Grocery]]","v":"-"},{"$f":"Tabel3[[#This Row],[Cleaners]]","v":"-"},{"$f":"Tabel3[[#This Row],[Disposables]]","v":"-"},{"$f":"Tabel3[[#This Row],[Beauty & Personal Care]]","v":"-"},{"$f":"Tabel3[[#This Row],[Petfood]]","v":"-"},{"$f":"Tabel3[[#This Row],[Alcoholic Beverages]]","v":"-"},{"$f":"Tabel3[[#This Row],[Tobacco]]","v":"-"},{"$f":"Tabel3[[#This Row],[Self-care medicines]]","v":"-"},{"$f":"Tabel3[[#This Row],[Special Food]]","v":"-"},{"$f":"Tabel3[[#This Row],[Food Supplements]]","v":"-"},{"$f":"Tabel3[[#This Row],[Healthcare Products]]","v":"-"},{"$f":"Tabel3[[#This Row],[Medical Devices]]","v":"Q"},{"$f":"Tabel3[[#This Row],[Batteries]]","v":"-"},{"$f":"Tabel3[[#This Row],[Light Bulbs]]","v":"-"},{"$f":"Tabel3[[#This Row],[Other Categories]]","v":"-"}]
[{"$f":"VLOOKUP(Tabel3[[#This Row],[GAE ID]],'BES EN'!A:AJ,36,FALSE)","v":"Sun protection factor (SPF)"},{"$f":"Tabel3[[#This Row],[GDSN-naam]]","v":"sunProtectionFactor"},{"$f":"Tabel3[[#This Row],[GDM Verplicht / Conditioneel]]","v":"Conditional"},{"$f":"Tabel3[[#This Row],[DMS controle]]","v":"X"},{"$f":"Tabel3[[#This Row],[BMS ID]]","v":273},{"$f":"Tabel3[[#This Row],[Formaat]]","v":"an..4"},{"$f":"Tabel3[[#This Row],[X Path]]","v":"/catalogue_item_notification:catalogueItemNotificationMessage/transaction/documentCommand/catalogue_item_notification:catalogueItemNotification/catalogueItem/tradeItem/tradeItemInformation/extension/*[namespace-uri()='urn:gs1:gdsn:health_related_information:xsd:3' and local-name()='healthRelatedInformationModule']/healthRelatedInformation/sunProtectionFactor"},{"$f":"Tabel3[[#This Row],[GDM laag]]","v":"Local"},{"$f":"VLOOKUP(Tabel3[[#This Row],[GAE ID]],'BES EN'!A:AJ,27,FALSE)","v":"Mandatory if the SPF is mentioned on the packaging."},null,{"$f":"Tabel3[[#This Row],[Dairy, Refrigerated & Frozen]]","v":"-"},{"$f":"Tabel3[[#This Row],[Deli & Prepared]]","v":"-"},{"$f":"Tabel3[[#This Row],[Fresh Meat]]","v":"-"},{"$f":"Tabel3[[#This Row],[Fresh Fish]]","v":"-"},{"$f":"Tabel3[[#This Row],[Fresh Fruits & Vegetables]]","v":"-"},{"$f":"Tabel3[[#This Row],[Grocery]]","v":"-"},{"$f":"Tabel3[[#This Row],[Cleaners]]","v":"-"},{"$f":"Tabel3[[#This Row],[Disposables]]","v":"-"},{"$f":"Tabel3[[#This Row],[Beauty & Personal Care]]","v":"I"},{"$f":"Tabel3[[#This Row],[Petfood]]","v":"-"},{"$f":"Tabel3[[#This Row],[Alcoholic Beverages]]","v":"-"},{"$f":"Tabel3[[#This Row],[Tobacco]]","v":"-"},{"$f":"Tabel3[[#This Row],[Self-care medicines]]","v":"M"},{"$f":"Tabel3[[#This Row],[Special Food]]","v":"-"},{"$f":"Tabel3[[#This Row],[Food Supplements]]","v":"-"},{"$f":"Tabel3[[#This Row],[Healthcare Products]]","v":"P"},{"$f":"Tabel3[[#This Row],[Medical Devices]]","v":"Q"},{"$f":"Tabel3[[#This Row],[Batteries]]","v":"-"},{"$f":"Tabel3[[#This Row],[Light Bulbs]]","v":"-"},{"$f":"Tabel3[[#This Row],[Other Categories]]","v":"T"}]
[{"$f":"VLOOKUP(Tabel3[[#This Row],[GAE ID]],'BES EN'!A:AJ,36,FALSE)","v":"Shelf life for a customer after opening"},{"$f":"Tabel3[[#This Row],[GDSN-naam]]","v":"itemPeriodSafeToUseAfterOpening"},{"$f":"Tabel3[[#This Row],[GDM Verplicht / Conditioneel]]","v":"Conditional"},{"$f":"Tabel3[[#This Row],[DMS controle]]","v":"X"},{"$f":"Tabel3[[#This Row],[BMS ID]]","v":3709},{"$f":"Tabel3[[#This Row],[Formaat]]","v":"n..15"},{"$f":"Tabel3[[#This Row],[X Path]]","v":"/catalogue_item_notification:catalogueItemNotificationMessage/transaction/documentCommand/catalogue_item_notification:catalogueItemNotification/catalogueItem/tradeItem/tradeItemInformation/extension/*[namespace-uri()='urn:gs1:gdsn:trade_item_lifespan:xsd:3' and local-name()='tradeItemLifespanModule']/tradeItemLifespan/itemPeriodSafeToUseAfterOpening"},{"$f":"Tabel3[[#This Row],[GDM laag]]","v":"Local"},{"$f":"VLOOKUP(Tabel3[[#This Row],[GAE ID]],'BES EN'!A:AJ,27,FALSE)","v":"Mandatory if mentioned on the packaging."},null,{"$f":"Tabel3[[#This Row],[Dairy, Refrigerated & Frozen]]","v":"-"},{"$f":"Tabel3[[#This Row],[Deli & Prepared]]","v":"-"},{"$f":"Tabel3[[#This Row],[Fresh Meat]]","v":"-"},{"$f":"Tabel3[[#This Row],[Fresh Fish]]","v":"-"},{"$f":"Tabel3[[#This Row],[Fresh Fruits & Vegetables]]","v":"-"},{"$f":"Tabel3[[#This Row],[Grocery]]","v":"-"},{"$f":"Tabel3[[#This Row],[Cleaners]]","v":"-"},{"$f":"Tabel3[[#This Row],[Disposables]]","v":"-"},{"$f":"Tabel3[[#This Row],[Beauty & Personal Care]]","v":"I"},{"$f":"Tabel3[[#This Row],[Petfood]]","v":"-"},{"$f":"Tabel3[[#This Row],[Alcoholic Beverages]]","v":"-"},{"$f":"Tabel3[[#This Row],[Tobacco]]","v":"-"},{"$f":"Tabel3[[#This Row],[Self-care medicines]]","v":"M"},{"$f":"Tabel3[[#This Row],[Special Food]]","v":"N"},{"$f":"Tabel3[[#This Row],[Food Supplements]]","v":"O"},{"$f":"Tabel3[[#This Row],[Healthcare Products]]","v":"P"},{"$f":"Tabel3[[#This Row],[Medical Devices]]","v":"Q"},{"$f":"Tabel3[[#This Row],[Batteries]]","v":"-"},{"$f":"Tabel3[[#This Row],[Light Bulbs]]","v":"-"},{"$f":"Tabel3[[#This Row],[Other Categories]]","v":"T"}]
[{"$f":"VLOOKUP(Tabel3[[#This Row],[GAE ID]],'BES EN'!A:AJ,36,FALSE)","v":"Shelf life for a customer after opening UOM"},{"$f":"Tabel3[[#This Row],[GDSN-naam]]","v":"itemPeriodSafeToUseAfterOpening/@timeMeasurementUnitCode"},{"$f":"Tabel3[[#This Row],[GDM Verplicht / Conditioneel]]","v":"Conditional"},{"$f":"Tabel3[[#This Row],[DMS controle]]","v":0},{"$f":"Tabel3[[#This Row],[BMS ID]]","v":3710},{"$f":"Tabel3[[#This Row],[Formaat]]","v":"Defined values"},{"$f":"Tabel3[[#This Row],[X Path]]","v":"/catalogue_item_notification:catalogueItemNotificationMessage/transaction/documentCommand/catalogue_item_notification:catalogueItemNotification/catalogueItem/tradeItem/tradeItemInformation/extension/*[namespace-uri()='urn:gs1:gdsn:trade_item_lifespan:xsd:3' and local-name()='tradeItemLifespanModule']/tradeItemLifespan/itemPeriodSafeToUseAfterOpening/@timeMeasurementUnitCode"},{"$f":"Tabel3[[#This Row],[GDM laag]]","v":"Local"},{"$f":"VLOOKUP(Tabel3[[#This Row],[GAE ID]],'BES EN'!A:AJ,27,FALSE)","v":"Mandatory if 'Shelf life for a customer after opening' is populated."},null,{"$f":"Tabel3[[#This Row],[Dairy, Refrigerated & Frozen]]","v":"-"},{"$f":"Tabel3[[#This Row],[Deli & Prepared]]","v":"-"},{"$f":"Tabel3[[#This Row],[Fresh Meat]]","v":"-"},{"$f":"Tabel3[[#This Row],[Fresh Fish]]","v":"-"},{"$f":"Tabel3[[#This Row],[Fresh Fruits & Vegetables]]","v":"-"},{"$f":"Tabel3[[#This Row],[Grocery]]","v":"-"},{"$f":"Tabel3[[#This Row],[Cleaners]]","v":"-"},{"$f":"Tabel3[[#This Row],[Disposables]]","v":"-"},{"$f":"Tabel3[[#This Row],[Beauty & Personal Care]]","v":"I"},{"$f":"Tabel3[[#This Row],[Petfood]]","v":"-"},{"$f":"Tabel3[[#This Row],[Alcoholic Beverages]]","v":"-"},{"$f":"Tabel3[[#This Row],[Tobacco]]","v":"-"},{"$f":"Tabel3[[#This Row],[Self-care medicines]]","v":"M"},{"$f":"Tabel3[[#This Row],[Special Food]]","v":"N"},{"$f":"Tabel3[[#This Row],[Food Supplements]]","v":"O"},{"$f":"Tabel3[[#This Row],[Healthcare Products]]","v":"P"},{"$f":"Tabel3[[#This Row],[Medical Devices]]","v":"Q"},{"$f":"Tabel3[[#This Row],[Batteries]]","v":"-"},{"$f":"Tabel3[[#This Row],[Light Bulbs]]","v":"-"},{"$f":"Tabel3[[#This Row],[Other Categories]]","v":"T"}]
["Petfood",null,{"$f":"Tabel3[[#This Row],[GDM Verplicht / Conditioneel]]","v":0},"",null,"","",null,null,null,"A","B","C","D","E","F","G","H","I","J","K","L","M","N","O","P","Q","R","S","T"]
[{"$f":"VLOOKUP(Tabel3[[#This Row],[GAE ID]],'BES EN'!A:AJ,36,FALSE)","v":"Type of feed"},{"$f":"Tabel3[[#This Row],[GDSN-naam]]","v":"feedType"},{"$f":"Tabel3[[#This Row],[GDM Verplicht / Conditioneel]]","v":"Conditional"},{"$f":"Tabel3[[#This Row],[DMS controle]]","v":"X"},{"$f":"Tabel3[[#This Row],[BMS ID]]","v":388},{"$f":"Tabel3[[#This Row],[Formaat]]","v":"Defined values"},{"$f":"Tabel3[[#This Row],[X Path]]","v":"/catalogue_item_notification:catalogueItemNotificationMessage/transaction/documentCommand/catalogue_item_notification:catalogueItemNotification/catalogueItem/tradeItem/tradeItemInformation/extension/*[namespace-uri()='urn:gs1:gdsn:animal_feeding:xsd:3' and local-name()='animalFeedingModule']/feedType"},{"$f":"Tabel3[[#This Row],[GDM laag]]","v":"Regional EU"},{"$f":"VLOOKUP(Tabel3[[#This Row],[GAE ID]],'BES EN'!A:AJ,27,FALSE)","v":"Mandatory for animal nutrition"},null,{"$f":"Tabel3[[#This Row],[Dairy, Refrigerated & Frozen]]","v":"-"},{"$f":"Tabel3[[#This Row],[Deli & Prepared]]","v":"-"},{"$f":"Tabel3[[#This Row],[Fresh Meat]]","v":"-"},{"$f":"Tabel3[[#This Row],[Fresh Fish]]","v":"-"},{"$f":"Tabel3[[#This Row],[Fresh Fruits & Vegetables]]","v":"-"},{"$f":"Tabel3[[#This Row],[Grocery]]","v":"-"},{"$f":"Tabel3[[#This Row],[Cleaners]]","v":"-"},{"$f":"Tabel3[[#This Row],[Disposables]]","v":"-"},{"$f":"Tabel3[[#This Row],[Beauty & Personal Care]]","v":"-"},{"$f":"Tabel3[[#This Row],[Petfood]]","v":"J"},{"$f":"Tabel3[[#This Row],[Alcoholic Beverages]]","v":"-"},{"$f":"Tabel3[[#This Row],[Tobacco]]","v":"-"},{"$f":"Tabel3[[#This Row],[Self-care medicines]]","v":"-"},{"$f":"Tabel3[[#This Row],[Special Food]]","v":"-"},{"$f":"Tabel3[[#This Row],[Food Supplements]]","v":"-"},{"$f":"Tabel3[[#This Row],[Healthcare Products]]","v":"-"},{"$f":"Tabel3[[#This Row],[Medical Devices]]","v":"-"},{"$f":"Tabel3[[#This Row],[Batteries]]","v":"-"},{"$f":"Tabel3[[#This Row],[Light Bulbs]]","v":"-"},{"$f":"Tabel3[[#This Row],[Other Categories]]","v":"-"}]
[{"$f":"VLOOKUP(Tabel3[[#This Row],[GAE ID]],'BES EN'!A:AJ,36,FALSE)","v":"Type of animal the feed is targeted for"},{"$f":"Tabel3[[#This Row],[GDSN-naam]]","v":"targetedConsumptionBy"},{"$f":"Tabel3[[#This Row],[GDM Verplicht / Conditioneel]]","v":"Conditional"},{"$f":"Tabel3[[#This Row],[DMS controle]]","v":"X"},{"$f":"Tabel3[[#This Row],[BMS ID]]","v":389},{"$f":"Tabel3[[#This Row],[Formaat]]","v":"Defined values"},{"$f":"Tabel3[[#This Row],[X Path]]","v":"/catalogue_item_notification:catalogueItemNotificationMessage/transaction/documentCommand/catalogue_item_notification:catalogueItemNotification/catalogueItem/tradeItem/tradeItemInformation/extension/*[namespace-uri()='urn:gs1:gdsn:animal_feeding:xsd:3' and local-name()='animalFeedingModule']/targetedConsumptionBy"},{"$f":"Tabel3[[#This Row],[GDM laag]]","v":"Regional EU"},{"$f":"VLOOKUP(Tabel3[[#This Row],[GAE ID]],'BES EN'!A:AJ,27,FALSE)","v":"Mandatory for animal nutrition"},null,{"$f":"Tabel3[[#This Row],[Dairy, Refrigerated & Frozen]]","v":"-"},{"$f":"Tabel3[[#This Row],[Deli & Prepared]]","v":"-"},{"$f":"Tabel3[[#This Row],[Fresh Meat]]","v":"-"},{"$f":"Tabel3[[#This Row],[Fresh Fish]]","v":"-"},{"$f":"Tabel3[[#This Row],[Fresh Fruits & Vegetables]]","v":"-"},{"$f":"Tabel3[[#This Row],[Grocery]]","v":"-"},{"$f":"Tabel3[[#This Row],[Cleaners]]","v":"-"},{"$f":"Tabel3[[#This Row],[Disposables]]","v":"-"},{"$f":"Tabel3[[#This Row],[Beauty & Personal Care]]","v":"-"},{"$f":"Tabel3[[#This Row],[Petfood]]","v":"J"},{"$f":"Tabel3[[#This Row],[Alcoholic Beverages]]","v":"-"},{"$f":"Tabel3[[#This Row],[Tobacco]]","v":"-"},{"$f":"Tabel3[[#This Row],[Self-care medicines]]","v":"-"},{"$f":"Tabel3[[#This Row],[Special Food]]","v":"-"},{"$f":"Tabel3[[#This Row],[Food Supplements]]","v":"-"},{"$f":"Tabel3[[#This Row],[Healthcare Products]]","v":"-"},{"$f":"Tabel3[[#This Row],[Medical Devices]]","v":"-"},{"$f":"Tabel3[[#This Row],[Batteries]]","v":"-"},{"$f":"Tabel3[[#This Row],[Light Bulbs]]","v":"-"},{"$f":"Tabel3[[#This Row],[Other Categories]]","v":"-"}]
[{"$f":"VLOOKUP(Tabel3[[#This Row],[GAE ID]],'BES EN'!A:AJ,36,FALSE)","v":"Feed composition statement"},{"$f":"Tabel3[[#This Row],[GDSN-naam]]","v":"feedCompositionStatement"},{"$f":"Tabel3[[#This Row],[GDM Verplicht / Conditioneel]]","v":"Conditional"},{"$f":"Tabel3[[#This Row],[DMS controle]]","v":"X"},{"$f":"Tabel3[[#This Row],[BMS ID]]","v":5911},{"$f":"Tabel3[[#This Row],[Formaat]]","v":"an..5000"},{"$f":"Tabel3[[#This Row],[X Path]]","v":"/catalogue_item_notification:catalogueItemNotificationMessage/transaction/documentCommand/catalogue_item_notification:catalogueItemNotification/catalogueItem/tradeItem/tradeItemInformation/extension/*[namespace-uri()='urn:gs1:gdsn:animal_feeding:xsd:3' and local-name()='animalFeedingModule']/feedCompositionStatement"},{"$f":"Tabel3[[#This Row],[GDM laag]]","v":"Regional EU"},{"$f":"VLOOKUP(Tabel3[[#This Row],[GAE ID]],'BES EN'!A:AJ,27,FALSE)","v":"Mandatory for animal nutrition if mentioned on the label."},null,{"$f":"Tabel3[[#This Row],[Dairy, Refrigerated & Frozen]]","v":"-"},{"$f":"Tabel3[[#This Row],[Deli & Prepared]]","v":"-"},{"$f":"Tabel3[[#This Row],[Fresh Meat]]","v":"-"},{"$f":"Tabel3[[#This Row],[Fresh Fish]]","v":"-"},{"$f":"Tabel3[[#This Row],[Fresh Fruits & Vegetables]]","v":"-"},{"$f":"Tabel3[[#This Row],[Grocery]]","v":"-"},{"$f":"Tabel3[[#This Row],[Cleaners]]","v":"-"},{"$f":"Tabel3[[#This Row],[Disposables]]","v":"-"},{"$f":"Tabel3[[#This Row],[Beauty & Personal Care]]","v":"-"},{"$f":"Tabel3[[#This Row],[Petfood]]","v":"J"},{"$f":"Tabel3[[#This Row],[Alcoholic Beverages]]","v":"-"},{"$f":"Tabel3[[#This Row],[Tobacco]]","v":"-"},{"$f":"Tabel3[[#This Row],[Self-care medicines]]","v":"-"},{"$f":"Tabel3[[#This Row],[Special Food]]","v":"-"},{"$f":"Tabel3[[#This Row],[Food Supplements]]","v":"-"},{"$f":"Tabel3[[#This Row],[Healthcare Products]]","v":"-"},{"$f":"Tabel3[[#This Row],[Medical Devices]]","v":"-"},{"$f":"Tabel3[[#This Row],[Batteries]]","v":"-"},{"$f":"Tabel3[[#This Row],[Light Bulbs]]","v":"-"},{"$f":"Tabel3[[#This Row],[Other Categories]]","v":"-"}]
[{"$f":"VLOOKUP(Tabel3[[#This Row],[GAE ID]],'BES EN'!A:AJ,36,FALSE)","v":"Feed composition statement language code"},{"$f":"Tabel3[[#This Row],[GDSN-naam]]","v":"feedCompositionStatement/@languageCode"},{"$f":"Tabel3[[#This Row],[GDM Verplicht / Conditioneel]]","v":"Conditional"},{"$f":"Tabel3[[#This Row],[DMS controle]]","v":"X"},{"$f":"Tabel3[[#This Row],[BMS ID]]","v":5912},{"$f":"Tabel3[[#This Row],[Formaat]]","v":"Defined values"},{"$f":"Tabel3[[#This Row],[X Path]]","v":"/catalogue_item_notification:catalogueItemNotificationMessage/transaction/documentCommand/catalogue_item_notification:catalogueItemNotification/catalogueItem/tradeItem/tradeItemInformation/extension/*[namespace-uri()='urn:gs1:gdsn:animal_feeding:xsd:3' and local-name()='animalFeedingModule']/feedCompositionStatement/@languageCode"},{"$f":"Tabel3[[#This Row],[GDM laag]]","v":"Regional EU"},{"$f":"VLOOKUP(Tabel3[[#This Row],[GAE ID]],'BES EN'!A:AJ,27,FALSE)","v":"Mandatory in case 'Feed composition statement' is populated for a consumer unit."},null,{"$f":"Tabel3[[#This Row],[Dairy, Refrigerated & Frozen]]","v":"-"},{"$f":"Tabel3[[#This Row],[Deli & Prepared]]","v":"-"},{"$f":"Tabel3[[#This Row],[Fresh Meat]]","v":"-"},{"$f":"Tabel3[[#This Row],[Fresh Fish]]","v":"-"},{"$f":"Tabel3[[#This Row],[Fresh Fruits & Vegetables]]","v":"-"},{"$f":"Tabel3[[#This Row],[Grocery]]","v":"-"},{"$f":"Tabel3[[#This Row],[Cleaners]]","v":"-"},{"$f":"Tabel3[[#This Row],[Disposables]]","v":"-"},{"$f":"Tabel3[[#This Row],[Beauty & Personal Care]]","v":"-"},{"$f":"Tabel3[[#This Row],[Petfood]]","v":"J"},{"$f":"Tabel3[[#This Row],[Alcoholic Beverages]]","v":"-"},{"$f":"Tabel3[[#This Row],[Tobacco]]","v":"-"},{"$f":"Tabel3[[#This Row],[Self-care medicines]]","v":"-"},{"$f":"Tabel3[[#This Row],[Special Food]]","v":"-"},{"$f":"Tabel3[[#This Row],[Food Supplements]]","v":"-"},{"$f":"Tabel3[[#This Row],[Healthcare Products]]","v":"-"},{"$f":"Tabel3[[#This Row],[Medical Devices]]","v":"-"},{"$f":"Tabel3[[#This Row],[Batteries]]","v":"-"},{"$f":"Tabel3[[#This Row],[Light Bulbs]]","v":"-"},{"$f":"Tabel3[[#This Row],[Other Categories]]","v":"-"}]
[{"$f":"VLOOKUP(Tabel3[[#This Row],[GAE ID]],'BES EN'!A:AJ,36,FALSE)","v":"Feed analytical constituents statement"},{"$f":"Tabel3[[#This Row],[GDSN-naam]]","v":"feedAnalyticalConstituentsStatement"},{"$f":"Tabel3[[#This Row],[GDM Verplicht / Conditioneel]]","v":"Conditional"},{"$f":"Tabel3[[#This Row],[DMS controle]]","v":"X"},{"$f":"Tabel3[[#This Row],[BMS ID]]","v":5909},{"$f":"Tabel3[[#This Row],[Formaat]]","v":"an..5000"},{"$f":"Tabel3[[#This Row],[X Path]]","v":"/catalogue_item_notification:catalogueItemNotificationMessage/transaction/documentCommand/catalogue_item_notification:catalogueItemNotification/catalogueItem/tradeItem/tradeItemInformation/extension/*[namespace-uri()='urn:gs1:gdsn:animal_feeding:xsd:3' and local-name()='animalFeedingModule']/feedAnalyticalConstituentsStatement"},{"$f":"Tabel3[[#This Row],[GDM laag]]","v":"Regional EU"},{"$f":"VLOOKUP(Tabel3[[#This Row],[GAE ID]],'BES EN'!A:AJ,27,FALSE)","v":"Mandatory for animal nutrition if mentioned on the label."},null,{"$f":"Tabel3[[#This Row],[Dairy, Refrigerated & Frozen]]","v":"-"},{"$f":"Tabel3[[#This Row],[Deli & Prepared]]","v":"-"},{"$f":"Tabel3[[#This Row],[Fresh Meat]]","v":"-"},{"$f":"Tabel3[[#This Row],[Fresh Fish]]","v":"-"},{"$f":"Tabel3[[#This Row],[Fresh Fruits & Vegetables]]","v":"-"},{"$f":"Tabel3[[#This Row],[Grocery]]","v":"-"},{"$f":"Tabel3[[#This Row],[Cleaners]]","v":"-"},{"$f":"Tabel3[[#This Row],[Disposables]]","v":"-"},{"$f":"Tabel3[[#This Row],[Beauty & Personal Care]]","v":"-"},{"$f":"Tabel3[[#This Row],[Petfood]]","v":"J"},{"$f":"Tabel3[[#This Row],[Alcoholic Beverages]]","v":"-"},{"$f":"Tabel3[[#This Row],[Tobacco]]","v":"-"},{"$f":"Tabel3[[#This Row],[Self-care medicines]]","v":"-"},{"$f":"Tabel3[[#This Row],[Special Food]]","v":"-"},{"$f":"Tabel3[[#This Row],[Food Supplements]]","v":"-"},{"$f":"Tabel3[[#This Row],[Healthcare Products]]","v":"-"},{"$f":"Tabel3[[#This Row],[Medical Devices]]","v":"-"},{"$f":"Tabel3[[#This Row],[Batteries]]","v":"-"},{"$f":"Tabel3[[#This Row],[Light Bulbs]]","v":"-"},{"$f":"Tabel3[[#This Row],[Other Categories]]","v":"-"}]
[{"$f":"VLOOKUP(Tabel3[[#This Row],[GAE ID]],'BES EN'!A:AJ,36,FALSE)","v":"Feed analytical constituents statement language code"},{"$f":"Tabel3[[#This Row],[GDSN-naam]]","v":"feedAnalyticalConstituentsStatement/@languageCode"},{"$f":"Tabel3[[#This Row],[GDM Verplicht / Conditioneel]]","v":"Conditional"},{"$f":"Tabel3[[#This Row],[DMS controle]]","v":"X"},{"$f":"Tabel3[[#This Row],[BMS ID]]","v":5910},{"$f":"Tabel3[[#This Row],[Formaat]]","v":"Defined values"},{"$f":"Tabel3[[#This Row],[X Path]]","v":"/catalogue_item_notification:catalogueItemNotificationMessage/transaction/documentCommand/catalogue_item_notification:catalogueItemNotification/catalogueItem/tradeItem/tradeItemInformation/extension/*[namespace-uri()='urn:gs1:gdsn:animal_feeding:xsd:3' and local-name()='animalFeedingModule']/feedAnalyticalConstituentsStatement/@languageCode"},{"$f":"Tabel3[[#This Row],[GDM laag]]","v":"Regional EU"},{"$f":"VLOOKUP(Tabel3[[#This Row],[GAE ID]],'BES EN'!A:AJ,27,FALSE)","v":"Mandatory in case 'Feed analytical constituents statement' is populated for a consumer unit."},null,{"$f":"Tabel3[[#This Row],[Dairy, Refrigerated & Frozen]]","v":"-"},{"$f":"Tabel3[[#This Row],[Deli & Prepared]]","v":"-"},{"$f":"Tabel3[[#This Row],[Fresh Meat]]","v":"-"},{"$f":"Tabel3[[#This Row],[Fresh Fish]]","v":"-"},{"$f":"Tabel3[[#This Row],[Fresh Fruits & Vegetables]]","v":"-"},{"$f":"Tabel3[[#This Row],[Grocery]]","v":"-"},{"$f":"Tabel3[[#This Row],[Cleaners]]","v":"-"},{"$f":"Tabel3[[#This Row],[Disposables]]","v":"-"},{"$f":"Tabel3[[#This Row],[Beauty & Personal Care]]","v":"-"},{"$f":"Tabel3[[#This Row],[Petfood]]","v":"J"},{"$f":"Tabel3[[#This Row],[Alcoholic Beverages]]","v":"-"},{"$f":"Tabel3[[#This Row],[Tobacco]]","v":"-"},{"$f":"Tabel3[[#This Row],[Self-care medicines]]","v":"-"},{"$f":"Tabel3[[#This Row],[Special Food]]","v":"-"},{"$f":"Tabel3[[#This Row],[Food Supplements]]","v":"-"},{"$f":"Tabel3[[#This Row],[Healthcare Products]]","v":"-"},{"$f":"Tabel3[[#This Row],[Medical Devices]]","v":"-"},{"$f":"Tabel3[[#This Row],[Batteries]]","v":"-"},{"$f":"Tabel3[[#This Row],[Light Bulbs]]","v":"-"},{"$f":"Tabel3[[#This Row],[Other Categories]]","v":"-"}]
[{"$f":"VLOOKUP(Tabel3[[#This Row],[GAE ID]],'BES EN'!A:AJ,36,FALSE)","v":"Feed additive statement"},{"$f":"Tabel3[[#This Row],[GDSN-naam]]","v":"feedAdditiveStatement"},{"$f":"Tabel3[[#This Row],[GDM Verplicht / Conditioneel]]","v":"Conditional"},{"$f":"Tabel3[[#This Row],[DMS controle]]","v":"X"},{"$f":"Tabel3[[#This Row],[BMS ID]]","v":5907},{"$f":"Tabel3[[#This Row],[Formaat]]","v":"an..5000"},{"$f":"Tabel3[[#This Row],[X Path]]","v":"/catalogue_item_notification:catalogueItemNotificationMessage/transaction/documentCommand/catalogue_item_notification:catalogueItemNotification/catalogueItem/tradeItem/tradeItemInformation/extension/*[namespace-uri()='urn:gs1:gdsn:animal_feeding:xsd:3' and local-name()='animalFeedingModule']/feedAdditiveStatement"},{"$f":"Tabel3[[#This Row],[GDM laag]]","v":"Regional EU"},{"$f":"VLOOKUP(Tabel3[[#This Row],[GAE ID]],'BES EN'!A:AJ,27,FALSE)","v":"Mandatory for animal nutrition if mentioned on the label."},null,{"$f":"Tabel3[[#This Row],[Dairy, Refrigerated & Frozen]]","v":"-"},{"$f":"Tabel3[[#This Row],[Deli & Prepared]]","v":"-"},{"$f":"Tabel3[[#This Row],[Fresh Meat]]","v":"-"},{"$f":"Tabel3[[#This Row],[Fresh Fish]]","v":"-"},{"$f":"Tabel3[[#This Row],[Fresh Fruits & Vegetables]]","v":"-"},{"$f":"Tabel3[[#This Row],[Grocery]]","v":"-"},{"$f":"Tabel3[[#This Row],[Cleaners]]","v":"-"},{"$f":"Tabel3[[#This Row],[Disposables]]","v":"-"},{"$f":"Tabel3[[#This Row],[Beauty & Personal Care]]","v":"-"},{"$f":"Tabel3[[#This Row],[Petfood]]","v":"J"},{"$f":"Tabel3[[#This Row],[Alcoholic Beverages]]","v":"-"},{"$f":"Tabel3[[#This Row],[Tobacco]]","v":"-"},{"$f":"Tabel3[[#This Row],[Self-care medicines]]","v":"-"},{"$f":"Tabel3[[#This Row],[Special Food]]","v":"-"},{"$f":"Tabel3[[#This Row],[Food Supplements]]","v":"-"},{"$f":"Tabel3[[#This Row],[Healthcare Products]]","v":"-"},{"$f":"Tabel3[[#This Row],[Medical Devices]]","v":"-"},{"$f":"Tabel3[[#This Row],[Batteries]]","v":"-"},{"$f":"Tabel3[[#This Row],[Light Bulbs]]","v":"-"},{"$f":"Tabel3[[#This Row],[Other Categories]]","v":"-"}]
[{"$f":"VLOOKUP(Tabel3[[#This Row],[GAE ID]],'BES EN'!A:AJ,36,FALSE)","v":"Feed additives statement language code"},{"$f":"Tabel3[[#This Row],[GDSN-naam]]","v":"feedAdditiveStatement/@languageCode"},{"$f":"Tabel3[[#This Row],[GDM Verplicht / Conditioneel]]","v":"Conditional"},{"$f":"Tabel3[[#This Row],[DMS controle]]","v":"X"},{"$f":"Tabel3[[#This Row],[BMS ID]]","v":5908},{"$f":"Tabel3[[#This Row],[Formaat]]","v":"Defined values"},{"$f":"Tabel3[[#This Row],[X Path]]","v":"/catalogue_item_notification:catalogueItemNotificationMessage/transaction/documentCommand/catalogue_item_notification:catalogueItemNotification/catalogueItem/tradeItem/tradeItemInformation/extension/*[namespace-uri()='urn:gs1:gdsn:animal_feeding:xsd:3' and local-name()='animalFeedingModule']/feedAdditiveStatement/@languageCode"},{"$f":"Tabel3[[#This Row],[GDM laag]]","v":"Regional EU"},{"$f":"VLOOKUP(Tabel3[[#This Row],[GAE ID]],'BES EN'!A:AJ,27,FALSE)","v":"Mandatory in case 'Feed additive statement' is populated for a consumer unit."},null,{"$f":"Tabel3[[#This Row],[Dairy, Refrigerated & Frozen]]","v":"-"},{"$f":"Tabel3[[#This Row],[Deli & Prepared]]","v":"-"},{"$f":"Tabel3[[#This Row],[Fresh Meat]]","v":"-"},{"$f":"Tabel3[[#This Row],[Fresh Fish]]","v":"-"},{"$f":"Tabel3[[#This Row],[Fresh Fruits & Vegetables]]","v":"-"},{"$f":"Tabel3[[#This Row],[Grocery]]","v":"-"},{"$f":"Tabel3[[#This Row],[Cleaners]]","v":"-"},{"$f":"Tabel3[[#This Row],[Disposables]]","v":"-"},{"$f":"Tabel3[[#This Row],[Beauty & Personal Care]]","v":"-"},{"$f":"Tabel3[[#This Row],[Petfood]]","v":"J"},{"$f":"Tabel3[[#This Row],[Alcoholic Beverages]]","v":"-"},{"$f":"Tabel3[[#This Row],[Tobacco]]","v":"-"},{"$f":"Tabel3[[#This Row],[Self-care medicines]]","v":"-"},{"$f":"Tabel3[[#This Row],[Special Food]]","v":"-"},{"$f":"Tabel3[[#This Row],[Food Supplements]]","v":"-"},{"$f":"Tabel3[[#This Row],[Healthcare Products]]","v":"-"},{"$f":"Tabel3[[#This Row],[Medical Devices]]","v":"-"},{"$f":"Tabel3[[#This Row],[Batteries]]","v":"-"},{"$f":"Tabel3[[#This Row],[Light Bulbs]]","v":"-"},{"$f":"Tabel3[[#This Row],[Other Categories]]","v":"-"}]
[{"$f":"VLOOKUP(Tabel3[[#This Row],[GAE ID]],'BES EN'!A:AJ,36,FALSE)","v":"Life stage animal"},{"$f":"Tabel3[[#This Row],[GDSN-naam]]","v":"feedLifestage"},{"$f":"Tabel3[[#This Row],[GDM Verplicht / Conditioneel]]","v":"Conditional"},{"$f":"Tabel3[[#This Row],[DMS controle]]","v":"X"},{"$f":"Tabel3[[#This Row],[BMS ID]]","v":399},{"$f":"Tabel3[[#This Row],[Formaat]]","v":"an..500"},{"$f":"Tabel3[[#This Row],[X Path]]","v":"/catalogue_item_notification:catalogueItemNotificationMessage/transaction/documentCommand/catalogue_item_notification:catalogueItemNotification/catalogueItem/tradeItem/tradeItemInformation/extension/*[namespace-uri()='urn:gs1:gdsn:animal_feeding:xsd:3' and local-name()='animalFeedingModule']/animalFeeding/feedLifestage"},{"$f":"Tabel3[[#This Row],[GDM laag]]","v":"Regional EU"},{"$f":"VLOOKUP(Tabel3[[#This Row],[GAE ID]],'BES EN'!A:AJ,27,FALSE)","v":"Mandatory if an intended life stage of an animal is provided as part of a feeding table on the product packaging (label). If the feeding table is so complex that it can only be provided as an attached image, this field can be left empty."},null,{"$f":"Tabel3[[#This Row],[Dairy, Refrigerated & Frozen]]","v":"-"},{"$f":"Tabel3[[#This Row],[Deli & Prepared]]","v":"-"},{"$f":"Tabel3[[#This Row],[Fresh Meat]]","v":"-"},{"$f":"Tabel3[[#This Row],[Fresh Fish]]","v":"-"},{"$f":"Tabel3[[#This Row],[Fresh Fruits & Vegetables]]","v":"-"},{"$f":"Tabel3[[#This Row],[Grocery]]","v":"-"},{"$f":"Tabel3[[#This Row],[Cleaners]]","v":"-"},{"$f":"Tabel3[[#This Row],[Disposables]]","v":"-"},{"$f":"Tabel3[[#This Row],[Beauty & Personal Care]]","v":"-"},{"$f":"Tabel3[[#This Row],[Petfood]]","v":"J"},{"$f":"Tabel3[[#This Row],[Alcoholic Beverages]]","v":"-"},{"$f":"Tabel3[[#This Row],[Tobacco]]","v":"-"},{"$f":"Tabel3[[#This Row],[Self-care medicines]]","v":"-"},{"$f":"Tabel3[[#This Row],[Special Food]]","v":"-"},{"$f":"Tabel3[[#This Row],[Food Supplements]]","v":"-"},{"$f":"Tabel3[[#This Row],[Healthcare Products]]","v":"-"},{"$f":"Tabel3[[#This Row],[Medical Devices]]","v":"-"},{"$f":"Tabel3[[#This Row],[Batteries]]","v":"-"},{"$f":"Tabel3[[#This Row],[Light Bulbs]]","v":"-"},{"$f":"Tabel3[[#This Row],[Other Categories]]","v":"-"}]
[{"$f":"VLOOKUP(Tabel3[[#This Row],[GAE ID]],'BES EN'!A:AJ,36,FALSE)","v":"Life stage animal language code"},{"$f":"Tabel3[[#This Row],[GDSN-naam]]","v":"feedLifestage/@languageCode"},{"$f":"Tabel3[[#This Row],[GDM Verplicht / Conditioneel]]","v":"Conditional"},{"$f":"Tabel3[[#This Row],[DMS controle]]","v":"X"},{"$f":"Tabel3[[#This Row],[BMS ID]]","v":400},{"$f":"Tabel3[[#This Row],[Formaat]]","v":"Defined values"},{"$f":"Tabel3[[#This Row],[X Path]]","v":"/catalogue_item_notification:catalogueItemNotificationMessage/transaction/documentCommand/catalogue_item_notification:catalogueItemNotification/catalogueItem/tradeItem/tradeItemInformation/extension/*[namespace-uri()='urn:gs1:gdsn:animal_feeding:xsd:3' and local-name()='animalFeedingModule']/animalFeeding/feedLifestage/@languageCode"},{"$f":"Tabel3[[#This Row],[GDM laag]]","v":"Regional EU"},{"$f":"VLOOKUP(Tabel3[[#This Row],[GAE ID]],'BES EN'!A:AJ,27,FALSE)","v":"Mandatory in case 'Life stage animal' is populated for a consumer unit."},null,{"$f":"Tabel3[[#This Row],[Dairy, Refrigerated & Frozen]]","v":"-"},{"$f":"Tabel3[[#This Row],[Deli & Prepared]]","v":"-"},{"$f":"Tabel3[[#This Row],[Fresh Meat]]","v":"-"},{"$f":"Tabel3[[#This Row],[Fresh Fish]]","v":"-"},{"$f":"Tabel3[[#This Row],[Fresh Fruits & Vegetables]]","v":"-"},{"$f":"Tabel3[[#This Row],[Grocery]]","v":"-"},{"$f":"Tabel3[[#This Row],[Cleaners]]","v":"-"},{"$f":"Tabel3[[#This Row],[Disposables]]","v":"-"},{"$f":"Tabel3[[#This Row],[Beauty & Personal Care]]","v":"-"},{"$f":"Tabel3[[#This Row],[Petfood]]","v":"J"},{"$f":"Tabel3[[#This Row],[Alcoholic Beverages]]","v":"-"},{"$f":"Tabel3[[#This Row],[Tobacco]]","v":"-"},{"$f":"Tabel3[[#This Row],[Self-care medicines]]","v":"-"},{"$f":"Tabel3[[#This Row],[Special Food]]","v":"-"},{"$f":"Tabel3[[#This Row],[Food Supplements]]","v":"-"},{"$f":"Tabel3[[#This Row],[Healthcare Products]]","v":"-"},{"$f":"Tabel3[[#This Row],[Medical Devices]]","v":"-"},{"$f":"Tabel3[[#This Row],[Batteries]]","v":"-"},{"$f":"Tabel3[[#This Row],[Light Bulbs]]","v":"-"},{"$f":"Tabel3[[#This Row],[Other Categories]]","v":"-"}]
[{"$f":"VLOOKUP(Tabel3[[#This Row],[GAE ID]],'BES EN'!A:AJ,36,FALSE)","v":"Minimum weight of animal being fed"},{"$f":"Tabel3[[#This Row],[GDSN-naam]]","v":"minimumWeightOfAnimalBeingFed"},{"$f":"Tabel3[[#This Row],[GDM Verplicht / Conditioneel]]","v":"Conditional"},{"$f":"Tabel3[[#This Row],[DMS controle]]","v":"X"},{"$f":"Tabel3[[#This Row],[BMS ID]]","v":403},{"$f":"Tabel3[[#This Row],[Formaat]]","v":"n..15"},{"$f":"Tabel3[[#This Row],[X Path]]","v":"/catalogue_item_notification:catalogueItemNotificationMessage/transaction/documentCommand/catalogue_item_notification:catalogueItemNotification/catalogueItem/tradeItem/tradeItemInformation/extension/*[namespace-uri()='urn:gs1:gdsn:animal_feeding:xsd:3' and local-name()='animalFeedingModule']/animalFeeding/minimumWeightOfAnimalBeingFed"},{"$f":"Tabel3[[#This Row],[GDM laag]]","v":"Regional EU"},{"$f":"VLOOKUP(Tabel3[[#This Row],[GAE ID]],'BES EN'!A:AJ,27,FALSE)","v":"Mandatory if a minimum weight of an animal being fed is provided as part of a feeding table on the product packaging (label). If the feeding table is so complex that it can only be provided as an attached image, this field can be left empty."},null,{"$f":"Tabel3[[#This Row],[Dairy, Refrigerated & Frozen]]","v":"-"},{"$f":"Tabel3[[#This Row],[Deli & Prepared]]","v":"-"},{"$f":"Tabel3[[#This Row],[Fresh Meat]]","v":"-"},{"$f":"Tabel3[[#This Row],[Fresh Fish]]","v":"-"},{"$f":"Tabel3[[#This Row],[Fresh Fruits & Vegetables]]","v":"-"},{"$f":"Tabel3[[#This Row],[Grocery]]","v":"-"},{"$f":"Tabel3[[#This Row],[Cleaners]]","v":"-"},{"$f":"Tabel3[[#This Row],[Disposables]]","v":"-"},{"$f":"Tabel3[[#This Row],[Beauty & Personal Care]]","v":"-"},{"$f":"Tabel3[[#This Row],[Petfood]]","v":"J"},{"$f":"Tabel3[[#This Row],[Alcoholic Beverages]]","v":"-"},{"$f":"Tabel3[[#This Row],[Tobacco]]","v":"-"},{"$f":"Tabel3[[#This Row],[Self-care medicines]]","v":"-"},{"$f":"Tabel3[[#This Row],[Special Food]]","v":"-"},{"$f":"Tabel3[[#This Row],[Food Supplements]]","v":"-"},{"$f":"Tabel3[[#This Row],[Healthcare Products]]","v":"-"},{"$f":"Tabel3[[#This Row],[Medical Devices]]","v":"-"},{"$f":"Tabel3[[#This Row],[Batteries]]","v":"-"},{"$f":"Tabel3[[#This Row],[Light Bulbs]]","v":"-"},{"$f":"Tabel3[[#This Row],[Other Categories]]","v":"-"}]
[{"$f":"VLOOKUP(Tabel3[[#This Row],[GAE ID]],'BES EN'!A:AJ,36,FALSE)","v":"Minimum weight of animal being fed UOM"},{"$f":"Tabel3[[#This Row],[GDSN-naam]]","v":"minimumWeightOfAnimalBeingFed/@measurementUnitCode"},{"$f":"Tabel3[[#This Row],[GDM Verplicht / Conditioneel]]","v":"Conditional"},{"$f":"Tabel3[[#This Row],[DMS controle]]","v":"X"},{"$f":"Tabel3[[#This Row],[BMS ID]]","v":404},{"$f":"Tabel3[[#This Row],[Formaat]]","v":"Defined values"},{"$f":"Tabel3[[#This Row],[X Path]]","v":"/catalogue_item_notification:catalogueItemNotificationMessage/transaction/documentCommand/catalogue_item_notification:catalogueItemNotification/catalogueItem/tradeItem/tradeItemInformation/extension/*[namespace-uri()='urn:gs1:gdsn:animal_feeding:xsd:3' and local-name()='animalFeedingModule']/animalFeeding/minimumWeightOfAnimalBeingFed/@measurementUnitCode"},{"$f":"Tabel3[[#This Row],[GDM laag]]","v":"Regional EU"},{"$f":"VLOOKUP(Tabel3[[#This Row],[GAE ID]],'BES EN'!A:AJ,27,FALSE)","v":"Mandatory in case 'Minimum weight of animal being fed' is populated for a consumer unit."},null,{"$f":"Tabel3[[#This Row],[Dairy, Refrigerated & Frozen]]","v":"-"},{"$f":"Tabel3[[#This Row],[Deli & Prepared]]","v":"-"},{"$f":"Tabel3[[#This Row],[Fresh Meat]]","v":"-"},{"$f":"Tabel3[[#This Row],[Fresh Fish]]","v":"-"},{"$f":"Tabel3[[#This Row],[Fresh Fruits & Vegetables]]","v":"-"},{"$f":"Tabel3[[#This Row],[Grocery]]","v":"-"},{"$f":"Tabel3[[#This Row],[Cleaners]]","v":"-"},{"$f":"Tabel3[[#This Row],[Disposables]]","v":"-"},{"$f":"Tabel3[[#This Row],[Beauty & Personal Care]]","v":"-"},{"$f":"Tabel3[[#This Row],[Petfood]]","v":"J"},{"$f":"Tabel3[[#This Row],[Alcoholic Beverages]]","v":"-"},{"$f":"Tabel3[[#This Row],[Tobacco]]","v":"-"},{"$f":"Tabel3[[#This Row],[Self-care medicines]]","v":"-"},{"$f":"Tabel3[[#This Row],[Special Food]]","v":"-"},{"$f":"Tabel3[[#This Row],[Food Supplements]]","v":"-"},{"$f":"Tabel3[[#This Row],[Healthcare Products]]","v":"-"},{"$f":"Tabel3[[#This Row],[Medical Devices]]","v":"-"},{"$f":"Tabel3[[#This Row],[Batteries]]","v":"-"},{"$f":"Tabel3[[#This Row],[Light Bulbs]]","v":"-"},{"$f":"Tabel3[[#This Row],[Other Categories]]","v":"-"}]
[{"$f":"VLOOKUP(Tabel3[[#This Row],[GAE ID]],'BES EN'!A:AJ,36,FALSE)","v":"Maximum weight of animal being fed"},{"$f":"Tabel3[[#This Row],[GDSN-naam]]","v":"maximumWeightOfAnimalBeingFed"},{"$f":"Tabel3[[#This Row],[GDM Verplicht / Conditioneel]]","v":"Conditional"},{"$f":"Tabel3[[#This Row],[DMS controle]]","v":"X"},{"$f":"Tabel3[[#This Row],[BMS ID]]","v":401},{"$f":"Tabel3[[#This Row],[Formaat]]","v":"n..15"},{"$f":"Tabel3[[#This Row],[X Path]]","v":"/catalogue_item_notification:catalogueItemNotificationMessage/transaction/documentCommand/catalogue_item_notification:catalogueItemNotification/catalogueItem/tradeItem/tradeItemInformation/extension/*[namespace-uri()='urn:gs1:gdsn:animal_feeding:xsd:3' and local-name()='animalFeedingModule']/animalFeeding/maximumWeightOfAnimalBeingFed"},{"$f":"Tabel3[[#This Row],[GDM laag]]","v":"Regional EU"},{"$f":"VLOOKUP(Tabel3[[#This Row],[GAE ID]],'BES EN'!A:AJ,27,FALSE)","v":"Mandatory if a maximum weight of an animal being fed is provided as part of a feeding table on the product packaging (label). If the feeding table is so complex that it can only be provided as an attached image, this field can be left empty."},null,{"$f":"Tabel3[[#This Row],[Dairy, Refrigerated & Frozen]]","v":"-"},{"$f":"Tabel3[[#This Row],[Deli & Prepared]]","v":"-"},{"$f":"Tabel3[[#This Row],[Fresh Meat]]","v":"-"},{"$f":"Tabel3[[#This Row],[Fresh Fish]]","v":"-"},{"$f":"Tabel3[[#This Row],[Fresh Fruits & Vegetables]]","v":"-"},{"$f":"Tabel3[[#This Row],[Grocery]]","v":"-"},{"$f":"Tabel3[[#This Row],[Cleaners]]","v":"-"},{"$f":"Tabel3[[#This Row],[Disposables]]","v":"-"},{"$f":"Tabel3[[#This Row],[Beauty & Personal Care]]","v":"-"},{"$f":"Tabel3[[#This Row],[Petfood]]","v":"J"},{"$f":"Tabel3[[#This Row],[Alcoholic Beverages]]","v":"-"},{"$f":"Tabel3[[#This Row],[Tobacco]]","v":"-"},{"$f":"Tabel3[[#This Row],[Self-care medicines]]","v":"-"},{"$f":"Tabel3[[#This Row],[Special Food]]","v":"-"},{"$f":"Tabel3[[#This Row],[Food Supplements]]","v":"-"},{"$f":"Tabel3[[#This Row],[Healthcare Products]]","v":"-"},{"$f":"Tabel3[[#This Row],[Medical Devices]]","v":"-"},{"$f":"Tabel3[[#This Row],[Batteries]]","v":"-"},{"$f":"Tabel3[[#This Row],[Light Bulbs]]","v":"-"},{"$f":"Tabel3[[#This Row],[Other Categories]]","v":"-"}]
[{"$f":"VLOOKUP(Tabel3[[#This Row],[GAE ID]],'BES EN'!A:AJ,36,FALSE)","v":"Maximum weight of animal being fed UOM"},{"$f":"Tabel3[[#This Row],[GDSN-naam]]","v":"maximumWeightOfAnimalBeingFed/@measurementUnitCode"},{"$f":"Tabel3[[#This Row],[GDM Verplicht / Conditioneel]]","v":"Conditional"},{"$f":"Tabel3[[#This Row],[DMS controle]]","v":"X"},{"$f":"Tabel3[[#This Row],[BMS ID]]","v":402},{"$f":"Tabel3[[#This Row],[Formaat]]","v":"Defined values"},{"$f":"Tabel3[[#This Row],[X Path]]","v":"/catalogue_item_notification:catalogueItemNotificationMessage/transaction/documentCommand/catalogue_item_notification:catalogueItemNotification/catalogueItem/tradeItem/tradeItemInformation/extension/*[namespace-uri()='urn:gs1:gdsn:animal_feeding:xsd:3' and local-name()='animalFeedingModule']/animalFeeding/maximumWeightOfAnimalBeingFed/@measurementUnitCode"},{"$f":"Tabel3[[#This Row],[GDM laag]]","v":"Regional EU"},{"$f":"VLOOKUP(Tabel3[[#This Row],[GAE ID]],'BES EN'!A:AJ,27,FALSE)","v":"Mandatory in case 'Maximum weight of animal being fed' is populated for a consumer unit."},null,{"$f":"Tabel3[[#This Row],[Dairy, Refrigerated & Frozen]]","v":"-"},{"$f":"Tabel3[[#This Row],[Deli & Prepared]]","v":"-"},{"$f":"Tabel3[[#This Row],[Fresh Meat]]","v":"-"},{"$f":"Tabel3[[#This Row],[Fresh Fish]]","v":"-"},{"$f":"Tabel3[[#This Row],[Fresh Fruits & Vegetables]]","v":"-"},{"$f":"Tabel3[[#This Row],[Grocery]]","v":"-"},{"$f":"Tabel3[[#This Row],[Cleaners]]","v":"-"},{"$f":"Tabel3[[#This Row],[Disposables]]","v":"-"},{"$f":"Tabel3[[#This Row],[Beauty & Personal Care]]","v":"-"},{"$f":"Tabel3[[#This Row],[Petfood]]","v":"J"},{"$f":"Tabel3[[#This Row],[Alcoholic Beverages]]","v":"-"},{"$f":"Tabel3[[#This Row],[Tobacco]]","v":"-"},{"$f":"Tabel3[[#This Row],[Self-care medicines]]","v":"-"},{"$f":"Tabel3[[#This Row],[Special Food]]","v":"-"},{"$f":"Tabel3[[#This Row],[Food Supplements]]","v":"-"},{"$f":"Tabel3[[#This Row],[Healthcare Products]]","v":"-"},{"$f":"Tabel3[[#This Row],[Medical Devices]]","v":"-"},{"$f":"Tabel3[[#This Row],[Batteries]]","v":"-"},{"$f":"Tabel3[[#This Row],[Light Bulbs]]","v":"-"},{"$f":"Tabel3[[#This Row],[Other Categories]]","v":"-"}]
[{"$f":"VLOOKUP(Tabel3[[#This Row],[GAE ID]],'BES EN'!A:AJ,36,FALSE)","v":"Feeding amount"},{"$f":"Tabel3[[#This Row],[GDSN-naam]]","v":"feedingAmount"},{"$f":"Tabel3[[#This Row],[GDM Verplicht / Conditioneel]]","v":"Conditional"},{"$f":"Tabel3[[#This Row],[DMS controle]]","v":"X"},{"$f":"Tabel3[[#This Row],[BMS ID]]","v":416},{"$f":"Tabel3[[#This Row],[Formaat]]","v":"n..15"},{"$f":"Tabel3[[#This Row],[X Path]]","v":"/catalogue_item_notification:catalogueItemNotificationMessage/transaction/documentCommand/catalogue_item_notification:catalogueItemNotification/catalogueItem/tradeItem/tradeItemInformation/extension/*[namespace-uri()='urn:gs1:gdsn:animal_feeding:xsd:3' and local-name()='animalFeedingModule']/animalFeeding/animalFeedingDetail/feedingAmount"},{"$f":"Tabel3[[#This Row],[GDM laag]]","v":"Regional EU"},{"$f":"VLOOKUP(Tabel3[[#This Row],[GAE ID]],'BES EN'!A:AJ,27,FALSE)","v":"Mandatory if the amount of feed is provided as part of a feeding table on the product packaging (label). If the feeding table is so complex that it can only be provided as an attached image, this field can be left empty."},null,{"$f":"Tabel3[[#This Row],[Dairy, Refrigerated & Frozen]]","v":"-"},{"$f":"Tabel3[[#This Row],[Deli & Prepared]]","v":"-"},{"$f":"Tabel3[[#This Row],[Fresh Meat]]","v":"-"},{"$f":"Tabel3[[#This Row],[Fresh Fish]]","v":"-"},{"$f":"Tabel3[[#This Row],[Fresh Fruits & Vegetables]]","v":"-"},{"$f":"Tabel3[[#This Row],[Grocery]]","v":"-"},{"$f":"Tabel3[[#This Row],[Cleaners]]","v":"-"},{"$f":"Tabel3[[#This Row],[Disposables]]","v":"-"},{"$f":"Tabel3[[#This Row],[Beauty & Personal Care]]","v":"-"},{"$f":"Tabel3[[#This Row],[Petfood]]","v":"J"},{"$f":"Tabel3[[#This Row],[Alcoholic Beverages]]","v":"-"},{"$f":"Tabel3[[#This Row],[Tobacco]]","v":"-"},{"$f":"Tabel3[[#This Row],[Self-care medicines]]","v":"-"},{"$f":"Tabel3[[#This Row],[Special Food]]","v":"-"},{"$f":"Tabel3[[#This Row],[Food Supplements]]","v":"-"},{"$f":"Tabel3[[#This Row],[Healthcare Products]]","v":"-"},{"$f":"Tabel3[[#This Row],[Medical Devices]]","v":"-"},{"$f":"Tabel3[[#This Row],[Batteries]]","v":"-"},{"$f":"Tabel3[[#This Row],[Light Bulbs]]","v":"-"},{"$f":"Tabel3[[#This Row],[Other Categories]]","v":"-"}]
[{"$f":"VLOOKUP(Tabel3[[#This Row],[GAE ID]],'BES EN'!A:AJ,36,FALSE)","v":"Feeding amount UOM"},{"$f":"Tabel3[[#This Row],[GDSN-naam]]","v":"feedingAmount/@measurementUnitCode"},{"$f":"Tabel3[[#This Row],[GDM Verplicht / Conditioneel]]","v":"Conditional"},{"$f":"Tabel3[[#This Row],[DMS controle]]","v":"X"},{"$f":"Tabel3[[#This Row],[BMS ID]]","v":417},{"$f":"Tabel3[[#This Row],[Formaat]]","v":"Defined values"},{"$f":"Tabel3[[#This Row],[X Path]]","v":"/catalogue_item_notification:catalogueItemNotificationMessage/transaction/documentCommand/catalogue_item_notification:catalogueItemNotification/catalogueItem/tradeItem/tradeItemInformation/extension/*[namespace-uri()='urn:gs1:gdsn:animal_feeding:xsd:3' and local-name()='animalFeedingModule']/animalFeeding/animalFeedingDetail/feedingAmount/@measurementUnitCode"},{"$f":"Tabel3[[#This Row],[GDM laag]]","v":"Regional EU"},{"$f":"VLOOKUP(Tabel3[[#This Row],[GAE ID]],'BES EN'!A:AJ,27,FALSE)","v":"Mandatory in case 'Feeding amount' is populated for a consumer unit."},null,{"$f":"Tabel3[[#This Row],[Dairy, Refrigerated & Frozen]]","v":"-"},{"$f":"Tabel3[[#This Row],[Deli & Prepared]]","v":"-"},{"$f":"Tabel3[[#This Row],[Fresh Meat]]","v":"-"},{"$f":"Tabel3[[#This Row],[Fresh Fish]]","v":"-"},{"$f":"Tabel3[[#This Row],[Fresh Fruits & Vegetables]]","v":"-"},{"$f":"Tabel3[[#This Row],[Grocery]]","v":"-"},{"$f":"Tabel3[[#This Row],[Cleaners]]","v":"-"},{"$f":"Tabel3[[#This Row],[Disposables]]","v":"-"},{"$f":"Tabel3[[#This Row],[Beauty & Personal Care]]","v":"-"},{"$f":"Tabel3[[#This Row],[Petfood]]","v":"J"},{"$f":"Tabel3[[#This Row],[Alcoholic Beverages]]","v":"-"},{"$f":"Tabel3[[#This Row],[Tobacco]]","v":"-"},{"$f":"Tabel3[[#This Row],[Self-care medicines]]","v":"-"},{"$f":"Tabel3[[#This Row],[Special Food]]","v":"-"},{"$f":"Tabel3[[#This Row],[Food Supplements]]","v":"-"},{"$f":"Tabel3[[#This Row],[Healthcare Products]]","v":"-"},{"$f":"Tabel3[[#This Row],[Medical Devices]]","v":"-"},{"$f":"Tabel3[[#This Row],[Batteries]]","v":"-"},{"$f":"Tabel3[[#This Row],[Light Bulbs]]","v":"-"},{"$f":"Tabel3[[#This Row],[Other Categories]]","v":"-"}]
[{"$f":"VLOOKUP(Tabel3[[#This Row],[GAE ID]],'BES EN'!A:AJ,36,FALSE)","v":"Minimum feeding amount"},{"$f":"Tabel3[[#This Row],[GDSN-naam]]","v":"minimumFeedingAmount"},{"$f":"Tabel3[[#This Row],[GDM Verplicht / Conditioneel]]","v":"Conditional"},{"$f":"Tabel3[[#This Row],[DMS controle]]","v":"X"},{"$f":"Tabel3[[#This Row],[BMS ID]]","v":422},{"$f":"Tabel3[[#This Row],[Formaat]]","v":"n..15"},{"$f":"Tabel3[[#This Row],[X Path]]","v":"/catalogue_item_notification:catalogueItemNotificationMessage/transaction/documentCommand/catalogue_item_notification:catalogueItemNotification/catalogueItem/tradeItem/tradeItemInformation/extension/*[namespace-uri()='urn:gs1:gdsn:animal_feeding:xsd:3' and local-name()='animalFeedingModule']/animalFeeding/animalFeedingDetail/minimumFeedingAmount"},{"$f":"Tabel3[[#This Row],[GDM laag]]","v":"Regional EU"},{"$f":"VLOOKUP(Tabel3[[#This Row],[GAE ID]],'BES EN'!A:AJ,27,FALSE)","v":"Mandatory if the least amount of the product specified for the animal being fed is provided as part of a feeding table on the packaging. If the feeding table is so complex that it can only be provided as an attached image, this field can be left empty."},null,{"$f":"Tabel3[[#This Row],[Dairy, Refrigerated & Frozen]]","v":"-"},{"$f":"Tabel3[[#This Row],[Deli & Prepared]]","v":"-"},{"$f":"Tabel3[[#This Row],[Fresh Meat]]","v":"-"},{"$f":"Tabel3[[#This Row],[Fresh Fish]]","v":"-"},{"$f":"Tabel3[[#This Row],[Fresh Fruits & Vegetables]]","v":"-"},{"$f":"Tabel3[[#This Row],[Grocery]]","v":"-"},{"$f":"Tabel3[[#This Row],[Cleaners]]","v":"-"},{"$f":"Tabel3[[#This Row],[Disposables]]","v":"-"},{"$f":"Tabel3[[#This Row],[Beauty & Personal Care]]","v":"-"},{"$f":"Tabel3[[#This Row],[Petfood]]","v":"J"},{"$f":"Tabel3[[#This Row],[Alcoholic Beverages]]","v":"-"},{"$f":"Tabel3[[#This Row],[Tobacco]]","v":"-"},{"$f":"Tabel3[[#This Row],[Self-care medicines]]","v":"-"},{"$f":"Tabel3[[#This Row],[Special Food]]","v":"-"},{"$f":"Tabel3[[#This Row],[Food Supplements]]","v":"-"},{"$f":"Tabel3[[#This Row],[Healthcare Products]]","v":"-"},{"$f":"Tabel3[[#This Row],[Medical Devices]]","v":"-"},{"$f":"Tabel3[[#This Row],[Batteries]]","v":"-"},{"$f":"Tabel3[[#This Row],[Light Bulbs]]","v":"-"},{"$f":"Tabel3[[#This Row],[Other Categories]]","v":"-"}]
[{"$f":"VLOOKUP(Tabel3[[#This Row],[GAE ID]],'BES EN'!A:AJ,36,FALSE)","v":"Minimum feeding amount UOM"},{"$f":"Tabel3[[#This Row],[GDSN-naam]]","v":"minimumFeedingAmount/@measurementUnitCode"},{"$f":"Tabel3[[#This Row],[GDM Verplicht / Conditioneel]]","v":"Conditional"},{"$f":"Tabel3[[#This Row],[DMS controle]]","v":"X"},{"$f":"Tabel3[[#This Row],[BMS ID]]","v":423},{"$f":"Tabel3[[#This Row],[Formaat]]","v":"Defined values"},{"$f":"Tabel3[[#This Row],[X Path]]","v":"/catalogue_item_notification:catalogueItemNotificationMessage/transaction/documentCommand/catalogue_item_notification:catalogueItemNotification/catalogueItem/tradeItem/tradeItemInformation/extension/*[namespace-uri()='urn:gs1:gdsn:animal_feeding:xsd:3' and local-name()='animalFeedingModule']/animalFeeding/animalFeedingDetail/minimumFeedingAmount/@measurementUnitCode"},{"$f":"Tabel3[[#This Row],[GDM laag]]","v":"Regional EU"},{"$f":"VLOOKUP(Tabel3[[#This Row],[GAE ID]],'BES EN'!A:AJ,27,FALSE)","v":"Mandatory in case 'Minimum feeding amount' is populated for a consumer unit."},null,{"$f":"Tabel3[[#This Row],[Dairy, Refrigerated & Frozen]]","v":"-"},{"$f":"Tabel3[[#This Row],[Deli & Prepared]]","v":"-"},{"$f":"Tabel3[[#This Row],[Fresh Meat]]","v":"-"},{"$f":"Tabel3[[#This Row],[Fresh Fish]]","v":"-"},{"$f":"Tabel3[[#This Row],[Fresh Fruits & Vegetables]]","v":"-"},{"$f":"Tabel3[[#This Row],[Grocery]]","v":"-"},{"$f":"Tabel3[[#This Row],[Cleaners]]","v":"-"},{"$f":"Tabel3[[#This Row],[Disposables]]","v":"-"},{"$f":"Tabel3[[#This Row],[Beauty & Personal Care]]","v":"-"},{"$f":"Tabel3[[#This Row],[Petfood]]","v":"J"},{"$f":"Tabel3[[#This Row],[Alcoholic Beverages]]","v":"-"},{"$f":"Tabel3[[#This Row],[Tobacco]]","v":"-"},{"$f":"Tabel3[[#This Row],[Self-care medicines]]","v":"-"},{"$f":"Tabel3[[#This Row],[Special Food]]","v":"-"},{"$f":"Tabel3[[#This Row],[Food Supplements]]","v":"-"},{"$f":"Tabel3[[#This Row],[Healthcare Products]]","v":"-"},{"$f":"Tabel3[[#This Row],[Medical Devices]]","v":"-"},{"$f":"Tabel3[[#This Row],[Batteries]]","v":"-"},{"$f":"Tabel3[[#This Row],[Light Bulbs]]","v":"-"},{"$f":"Tabel3[[#This Row],[Other Categories]]","v":"-"}]
[{"$f":"VLOOKUP(Tabel3[[#This Row],[GAE ID]],'BES EN'!A:AJ,36,FALSE)","v":"Maximum feeding amount"},{"$f":"Tabel3[[#This Row],[GDSN-naam]]","v":"maximumFeedingAmount"},{"$f":"Tabel3[[#This Row],[GDM Verplicht / Conditioneel]]","v":"Conditional"},{"$f":"Tabel3[[#This Row],[DMS controle]]","v":"X"},{"$f":"Tabel3[[#This Row],[BMS ID]]","v":420},{"$f":"Tabel3[[#This Row],[Formaat]]","v":"n..15"},{"$f":"Tabel3[[#This Row],[X Path]]","v":"/catalogue_item_notification:catalogueItemNotificationMessage/transaction/documentCommand/catalogue_item_notification:catalogueItemNotification/catalogueItem/tradeItem/tradeItemInformation/extension/*[namespace-uri()='urn:gs1:gdsn:animal_feeding:xsd:3' and local-name()='animalFeedingModule']/animalFeeding/animalFeedingDetail/maximumFeedingAmount"},{"$f":"Tabel3[[#This Row],[GDM laag]]","v":"Regional EU"},{"$f":"VLOOKUP(Tabel3[[#This Row],[GAE ID]],'BES EN'!A:AJ,27,FALSE)","v":"Mandatory if the largest amount of the product specified for the animal being fed is provided as part of a feeding table on the packaging. If the feeding table is so complex that it can only be provided as an attached image, this field can be left empty."},null,{"$f":"Tabel3[[#This Row],[Dairy, Refrigerated & Frozen]]","v":"-"},{"$f":"Tabel3[[#This Row],[Deli & Prepared]]","v":"-"},{"$f":"Tabel3[[#This Row],[Fresh Meat]]","v":"-"},{"$f":"Tabel3[[#This Row],[Fresh Fish]]","v":"-"},{"$f":"Tabel3[[#This Row],[Fresh Fruits & Vegetables]]","v":"-"},{"$f":"Tabel3[[#This Row],[Grocery]]","v":"-"},{"$f":"Tabel3[[#This Row],[Cleaners]]","v":"-"},{"$f":"Tabel3[[#This Row],[Disposables]]","v":"-"},{"$f":"Tabel3[[#This Row],[Beauty & Personal Care]]","v":"-"},{"$f":"Tabel3[[#This Row],[Petfood]]","v":"J"},{"$f":"Tabel3[[#This Row],[Alcoholic Beverages]]","v":"-"},{"$f":"Tabel3[[#This Row],[Tobacco]]","v":"-"},{"$f":"Tabel3[[#This Row],[Self-care medicines]]","v":"-"},{"$f":"Tabel3[[#This Row],[Special Food]]","v":"-"},{"$f":"Tabel3[[#This Row],[Food Supplements]]","v":"-"},{"$f":"Tabel3[[#This Row],[Healthcare Products]]","v":"-"},{"$f":"Tabel3[[#This Row],[Medical Devices]]","v":"-"},{"$f":"Tabel3[[#This Row],[Batteries]]","v":"-"},{"$f":"Tabel3[[#This Row],[Light Bulbs]]","v":"-"},{"$f":"Tabel3[[#This Row],[Other Categories]]","v":"-"}]
[{"$f":"VLOOKUP(Tabel3[[#This Row],[GAE ID]],'BES EN'!A:AJ,36,FALSE)","v":"Maximum feeding amount UOM"},{"$f":"Tabel3[[#This Row],[GDSN-naam]]","v":"maximumFeedingAmount/@measurementUnitCode"},{"$f":"Tabel3[[#This Row],[GDM Verplicht / Conditioneel]]","v":"Conditional"},{"$f":"Tabel3[[#This Row],[DMS controle]]","v":"X"},{"$f":"Tabel3[[#This Row],[BMS ID]]","v":421},{"$f":"Tabel3[[#This Row],[Formaat]]","v":"Defined values"},{"$f":"Tabel3[[#This Row],[X Path]]","v":"/catalogue_item_notification:catalogueItemNotificationMessage/transaction/documentCommand/catalogue_item_notification:catalogueItemNotification/catalogueItem/tradeItem/tradeItemInformation/extension/*[namespace-uri()='urn:gs1:gdsn:animal_feeding:xsd:3' and local-name()='animalFeedingModule']/animalFeeding/animalFeedingDetail/maximumFeedingAmount/@measurementUnitCode"},{"$f":"Tabel3[[#This Row],[GDM laag]]","v":"Regional EU"},{"$f":"VLOOKUP(Tabel3[[#This Row],[GAE ID]],'BES EN'!A:AJ,27,FALSE)","v":"Mandatory in case 'Maximum Feeding Amount' is populated for a consumer unit."},null,{"$f":"Tabel3[[#This Row],[Dairy, Refrigerated & Frozen]]","v":"-"},{"$f":"Tabel3[[#This Row],[Deli & Prepared]]","v":"-"},{"$f":"Tabel3[[#This Row],[Fresh Meat]]","v":"-"},{"$f":"Tabel3[[#This Row],[Fresh Fish]]","v":"-"},{"$f":"Tabel3[[#This Row],[Fresh Fruits & Vegetables]]","v":"-"},{"$f":"Tabel3[[#This Row],[Grocery]]","v":"-"},{"$f":"Tabel3[[#This Row],[Cleaners]]","v":"-"},{"$f":"Tabel3[[#This Row],[Disposables]]","v":"-"},{"$f":"Tabel3[[#This Row],[Beauty & Personal Care]]","v":"-"},{"$f":"Tabel3[[#This Row],[Petfood]]","v":"J"},{"$f":"Tabel3[[#This Row],[Alcoholic Beverages]]","v":"-"},{"$f":"Tabel3[[#This Row],[Tobacco]]","v":"-"},{"$f":"Tabel3[[#This Row],[Self-care medicines]]","v":"-"},{"$f":"Tabel3[[#This Row],[Special Food]]","v":"-"},{"$f":"Tabel3[[#This Row],[Food Supplements]]","v":"-"},{"$f":"Tabel3[[#This Row],[Healthcare Products]]","v":"-"},{"$f":"Tabel3[[#This Row],[Medical Devices]]","v":"-"},{"$f":"Tabel3[[#This Row],[Batteries]]","v":"-"},{"$f":"Tabel3[[#This Row],[Light Bulbs]]","v":"-"},{"$f":"Tabel3[[#This Row],[Other Categories]]","v":"-"}]
[{"$f":"VLOOKUP(Tabel3[[#This Row],[GAE ID]],'BES EN'!A:AJ,36,FALSE)","v":"Feeding frequency"},{"$f":"Tabel3[[#This Row],[GDSN-naam]]","v":"recommendedFrequencyOfFeeding"},{"$f":"Tabel3[[#This Row],[GDM Verplicht / Conditioneel]]","v":"Conditional"},{"$f":"Tabel3[[#This Row],[DMS controle]]","v":"X"},{"$f":"Tabel3[[#This Row],[BMS ID]]","v":424},{"$f":"Tabel3[[#This Row],[Formaat]]","v":"an..500"},{"$f":"Tabel3[[#This Row],[X Path]]","v":"/catalogue_item_notification:catalogueItemNotificationMessage/transaction/documentCommand/catalogue_item_notification:catalogueItemNotification/catalogueItem/tradeItem/tradeItemInformation/extension/*[namespace-uri()='urn:gs1:gdsn:animal_feeding:xsd:3' and local-name()='animalFeedingModule']/animalFeeding/animalFeedingDetail/recommendedFrequencyOfFeeding"},{"$f":"Tabel3[[#This Row],[GDM laag]]","v":"Regional EU"},{"$f":"VLOOKUP(Tabel3[[#This Row],[GAE ID]],'BES EN'!A:AJ,27,FALSE)","v":"Mandatory if a recommended frequency to feed an animal is provided on the product packaging (label). If the feeding table is so complex that it can only be provided as an attached image, this field can be left empty."},null,{"$f":"Tabel3[[#This Row],[Dairy, Refrigerated & Frozen]]","v":"-"},{"$f":"Tabel3[[#This Row],[Deli & Prepared]]","v":"-"},{"$f":"Tabel3[[#This Row],[Fresh Meat]]","v":"-"},{"$f":"Tabel3[[#This Row],[Fresh Fish]]","v":"-"},{"$f":"Tabel3[[#This Row],[Fresh Fruits & Vegetables]]","v":"-"},{"$f":"Tabel3[[#This Row],[Grocery]]","v":"-"},{"$f":"Tabel3[[#This Row],[Cleaners]]","v":"-"},{"$f":"Tabel3[[#This Row],[Disposables]]","v":"-"},{"$f":"Tabel3[[#This Row],[Beauty & Personal Care]]","v":"-"},{"$f":"Tabel3[[#This Row],[Petfood]]","v":"J"},{"$f":"Tabel3[[#This Row],[Alcoholic Beverages]]","v":"-"},{"$f":"Tabel3[[#This Row],[Tobacco]]","v":"-"},{"$f":"Tabel3[[#This Row],[Self-care medicines]]","v":"-"},{"$f":"Tabel3[[#This Row],[Special Food]]","v":"-"},{"$f":"Tabel3[[#This Row],[Food Supplements]]","v":"-"},{"$f":"Tabel3[[#This Row],[Healthcare Products]]","v":"-"},{"$f":"Tabel3[[#This Row],[Medical Devices]]","v":"-"},{"$f":"Tabel3[[#This Row],[Batteries]]","v":"-"},{"$f":"Tabel3[[#This Row],[Light Bulbs]]","v":"-"},{"$f":"Tabel3[[#This Row],[Other Categories]]","v":"-"}]
[{"$f":"VLOOKUP(Tabel3[[#This Row],[GAE ID]],'BES EN'!A:AJ,36,FALSE)","v":"Feeding frequency language code"},{"$f":"Tabel3[[#This Row],[GDSN-naam]]","v":"recommendedFrequencyOfFeeding/@languageCode"},{"$f":"Tabel3[[#This Row],[GDM Verplicht / Conditioneel]]","v":"Conditional"},{"$f":"Tabel3[[#This Row],[DMS controle]]","v":"X"},{"$f":"Tabel3[[#This Row],[BMS ID]]","v":425},{"$f":"Tabel3[[#This Row],[Formaat]]","v":"Defined values"},{"$f":"Tabel3[[#This Row],[X Path]]","v":"/catalogue_item_notification:catalogueItemNotificationMessage/transaction/documentCommand/catalogue_item_notification:catalogueItemNotification/catalogueItem/tradeItem/tradeItemInformation/extension/*[namespace-uri()='urn:gs1:gdsn:animal_feeding:xsd:3' and local-name()='animalFeedingModule']/animalFeeding/animalFeedingDetail/recommendedFrequencyOfFeeding/@languageCode"},{"$f":"Tabel3[[#This Row],[GDM laag]]","v":"Regional EU"},{"$f":"VLOOKUP(Tabel3[[#This Row],[GAE ID]],'BES EN'!A:AJ,27,FALSE)","v":"Mandatory in case 'Recommended frequency of feeding' is populated for the consumer unit."},null,{"$f":"Tabel3[[#This Row],[Dairy, Refrigerated & Frozen]]","v":"-"},{"$f":"Tabel3[[#This Row],[Deli & Prepared]]","v":"-"},{"$f":"Tabel3[[#This Row],[Fresh Meat]]","v":"-"},{"$f":"Tabel3[[#This Row],[Fresh Fish]]","v":"-"},{"$f":"Tabel3[[#This Row],[Fresh Fruits & Vegetables]]","v":"-"},{"$f":"Tabel3[[#This Row],[Grocery]]","v":"-"},{"$f":"Tabel3[[#This Row],[Cleaners]]","v":"-"},{"$f":"Tabel3[[#This Row],[Disposables]]","v":"-"},{"$f":"Tabel3[[#This Row],[Beauty & Personal Care]]","v":"-"},{"$f":"Tabel3[[#This Row],[Petfood]]","v":"J"},{"$f":"Tabel3[[#This Row],[Alcoholic Beverages]]","v":"-"},{"$f":"Tabel3[[#This Row],[Tobacco]]","v":"-"},{"$f":"Tabel3[[#This Row],[Self-care medicines]]","v":"-"},{"$f":"Tabel3[[#This Row],[Special Food]]","v":"-"},{"$f":"Tabel3[[#This Row],[Food Supplements]]","v":"-"},{"$f":"Tabel3[[#This Row],[Healthcare Products]]","v":"-"},{"$f":"Tabel3[[#This Row],[Medical Devices]]","v":"-"},{"$f":"Tabel3[[#This Row],[Batteries]]","v":"-"},{"$f":"Tabel3[[#This Row],[Light Bulbs]]","v":"-"},{"$f":"Tabel3[[#This Row],[Other Categories]]","v":"-"}]
[{"$f":"VLOOKUP(Tabel3[[#This Row],[GAE ID]],'BES EN'!A:AJ,36,FALSE)","v":"Feeding instructions"},{"$f":"Tabel3[[#This Row],[GDSN-naam]]","v":"feedingInstructions"},{"$f":"Tabel3[[#This Row],[GDM Verplicht / Conditioneel]]","v":"Conditional"},{"$f":"Tabel3[[#This Row],[DMS controle]]","v":"X"},{"$f":"Tabel3[[#This Row],[BMS ID]]","v":5913},{"$f":"Tabel3[[#This Row],[Formaat]]","v":"an..5000"},{"$f":"Tabel3[[#This Row],[X Path]]","v":"/catalogue_item_notification:catalogueItemNotificationMessage/transaction/documentCommand/catalogue_item_notification:catalogueItemNotification/catalogueItem/tradeItem/tradeItemInformation/extension/*[namespace-uri()='urn:gs1:gdsn:animal_feeding:xsd:3' and local-name()='animalFeedingModule']/feedingInstructions"},{"$f":"Tabel3[[#This Row],[GDM laag]]","v":"Regional EU"},{"$f":"VLOOKUP(Tabel3[[#This Row],[GAE ID]],'BES EN'!A:AJ,27,FALSE)","v":"Mandatory for animal nutrition if mentioned on the label."},null,{"$f":"Tabel3[[#This Row],[Dairy, Refrigerated & Frozen]]","v":"-"},{"$f":"Tabel3[[#This Row],[Deli & Prepared]]","v":"-"},{"$f":"Tabel3[[#This Row],[Fresh Meat]]","v":"-"},{"$f":"Tabel3[[#This Row],[Fresh Fish]]","v":"-"},{"$f":"Tabel3[[#This Row],[Fresh Fruits & Vegetables]]","v":"-"},{"$f":"Tabel3[[#This Row],[Grocery]]","v":"-"},{"$f":"Tabel3[[#This Row],[Cleaners]]","v":"-"},{"$f":"Tabel3[[#This Row],[Disposables]]","v":"-"},{"$f":"Tabel3[[#This Row],[Beauty & Personal Care]]","v":"-"},{"$f":"Tabel3[[#This Row],[Petfood]]","v":"J"},{"$f":"Tabel3[[#This Row],[Alcoholic Beverages]]","v":"-"},{"$f":"Tabel3[[#This Row],[Tobacco]]","v":"-"},{"$f":"Tabel3[[#This Row],[Self-care medicines]]","v":"-"},{"$f":"Tabel3[[#This Row],[Special Food]]","v":"-"},{"$f":"Tabel3[[#This Row],[Food Supplements]]","v":"-"},{"$f":"Tabel3[[#This Row],[Healthcare Products]]","v":"-"},{"$f":"Tabel3[[#This Row],[Medical Devices]]","v":"-"},{"$f":"Tabel3[[#This Row],[Batteries]]","v":"-"},{"$f":"Tabel3[[#This Row],[Light Bulbs]]","v":"-"},{"$f":"Tabel3[[#This Row],[Other Categories]]","v":"-"}]
[{"$f":"VLOOKUP(Tabel3[[#This Row],[GAE ID]],'BES EN'!A:AJ,36,FALSE)","v":"Feeding instructions language code"},{"$f":"Tabel3[[#This Row],[GDSN-naam]]","v":"feedingInstructions/@languageCode"},{"$f":"Tabel3[[#This Row],[GDM Verplicht / Conditioneel]]","v":"Conditional"},{"$f":"Tabel3[[#This Row],[DMS controle]]","v":"X"},{"$f":"Tabel3[[#This Row],[BMS ID]]","v":5914},{"$f":"Tabel3[[#This Row],[Formaat]]","v":"Defined values"},{"$f":"Tabel3[[#This Row],[X Path]]","v":"/catalogue_item_notification:catalogueItemNotificationMessage/transaction/documentCommand/catalogue_item_notification:catalogueItemNotification/catalogueItem/tradeItem/tradeItemInformation/extension/*[namespace-uri()='urn:gs1:gdsn:animal_feeding:xsd:3' and local-name()='animalFeedingModule']/feedingInstructions/@languageCode"},{"$f":"Tabel3[[#This Row],[GDM laag]]","v":"Regional EU"},{"$f":"VLOOKUP(Tabel3[[#This Row],[GAE ID]],'BES EN'!A:AJ,27,FALSE)","v":"Mandatory in case 'Feeding instructions' is populated for a consumer unit."},null,{"$f":"Tabel3[[#This Row],[Dairy, Refrigerated & Frozen]]","v":"-"},{"$f":"Tabel3[[#This Row],[Deli & Prepared]]","v":"-"},{"$f":"Tabel3[[#This Row],[Fresh Meat]]","v":"-"},{"$f":"Tabel3[[#This Row],[Fresh Fish]]","v":"-"},{"$f":"Tabel3[[#This Row],[Fresh Fruits & Vegetables]]","v":"-"},{"$f":"Tabel3[[#This Row],[Grocery]]","v":"-"},{"$f":"Tabel3[[#This Row],[Cleaners]]","v":"-"},{"$f":"Tabel3[[#This Row],[Disposables]]","v":"-"},{"$f":"Tabel3[[#This Row],[Beauty & Personal Care]]","v":"-"},{"$f":"Tabel3[[#This Row],[Petfood]]","v":"J"},{"$f":"Tabel3[[#This Row],[Alcoholic Beverages]]","v":"-"},{"$f":"Tabel3[[#This Row],[Tobacco]]","v":"-"},{"$f":"Tabel3[[#This Row],[Self-care medicines]]","v":"-"},{"$f":"Tabel3[[#This Row],[Special Food]]","v":"-"},{"$f":"Tabel3[[#This Row],[Food Supplements]]","v":"-"},{"$f":"Tabel3[[#This Row],[Healthcare Products]]","v":"-"},{"$f":"Tabel3[[#This Row],[Medical Devices]]","v":"-"},{"$f":"Tabel3[[#This Row],[Batteries]]","v":"-"},{"$f":"Tabel3[[#This Row],[Light Bulbs]]","v":"-"},{"$f":"Tabel3[[#This Row],[Other Categories]]","v":"-"}]
["Batteries",null,{"$f":"Tabel3[[#This Row],[GDM Verplicht / Conditioneel]]","v":0},"",null,"","",null,null,null,"A","B","C","D","E","F","G","H","I","J","K","L","M","N","O","P","Q","R","S","T"]
[{"$f":"VLOOKUP(Tabel3[[#This Row],[GAE ID]],'BES EN'!A:AJ,36,FALSE)","v":"Are batteries included "},{"$f":"Tabel3[[#This Row],[GDSN-naam]]","v":"areBatteriesIncluded"},{"$f":"Tabel3[[#This Row],[GDM Verplicht / Conditioneel]]","v":"Conditional"},{"$f":"Tabel3[[#This Row],[DMS controle]]","v":0},{"$f":"Tabel3[[#This Row],[BMS ID]]","v":600},{"$f":"Tabel3[[#This Row],[Formaat]]","v":"Boolean"},{"$f":"Tabel3[[#This Row],[X Path]]","v":"/catalogue_item_notification:catalogueItemNotificationMessage/transaction/documentCommand/catalogue_item_notification:catalogueItemNotification/catalogueItem/tradeItem/tradeItemInformation/extension/*[namespace-uri()='urn:gs1:gdsn:battery_information:xsd:3' and local-name()='batteryInformationModule']/areBatteriesIncluded"},{"$f":"Tabel3[[#This Row],[GDM laag]]","v":"Local"},{"$f":"VLOOKUP(Tabel3[[#This Row],[GAE ID]],'BES EN'!A:AJ,27,FALSE)","v":"Mandatory if 'Are batteries required' is set to 'True'"},null,{"$f":"Tabel3[[#This Row],[Dairy, Refrigerated & Frozen]]","v":"-"},{"$f":"Tabel3[[#This Row],[Deli & Prepared]]","v":"-"},{"$f":"Tabel3[[#This Row],[Fresh Meat]]","v":"-"},{"$f":"Tabel3[[#This Row],[Fresh Fish]]","v":"-"},{"$f":"Tabel3[[#This Row],[Fresh Fruits & Vegetables]]","v":"-"},{"$f":"Tabel3[[#This Row],[Grocery]]","v":"-"},{"$f":"Tabel3[[#This Row],[Cleaners]]","v":"-"},{"$f":"Tabel3[[#This Row],[Disposables]]","v":"-"},{"$f":"Tabel3[[#This Row],[Beauty & Personal Care]]","v":"-"},{"$f":"Tabel3[[#This Row],[Petfood]]","v":"-"},{"$f":"Tabel3[[#This Row],[Alcoholic Beverages]]","v":"-"},{"$f":"Tabel3[[#This Row],[Tobacco]]","v":"-"},{"$f":"Tabel3[[#This Row],[Self-care medicines]]","v":"-"},{"$f":"Tabel3[[#This Row],[Special Food]]","v":"-"},{"$f":"Tabel3[[#This Row],[Food Supplements]]","v":"-"},{"$f":"Tabel3[[#This Row],[Healthcare Products]]","v":"-"},{"$f":"Tabel3[[#This Row],[Medical Devices]]","v":"Q"},{"$f":"Tabel3[[#This Row],[Batteries]]","v":"R"},{"$f":"Tabel3[[#This Row],[Light Bulbs]]","v":"-"},{"$f":"Tabel3[[#This Row],[Other Categories]]","v":"T"}]
[{"$f":"VLOOKUP(Tabel3[[#This Row],[GAE ID]],'BES EN'!A:AJ,36,FALSE)","v":"Are batteries required "},{"$f":"Tabel3[[#This Row],[GDSN-naam]]","v":"areBatteriesRequired"},{"$f":"Tabel3[[#This Row],[GDM Verplicht / Conditioneel]]","v":"Conditional"},{"$f":"Tabel3[[#This Row],[DMS controle]]","v":0},{"$f":"Tabel3[[#This Row],[BMS ID]]","v":601},{"$f":"Tabel3[[#This Row],[Formaat]]","v":"Boolean"},{"$f":"Tabel3[[#This Row],[X Path]]","v":"/catalogue_item_notification:catalogueItemNotificationMessage/transaction/documentCommand/catalogue_item_notification:catalogueItemNotification/catalogueItem/tradeItem/tradeItemInformation/extension/*[namespace-uri()='urn:gs1:gdsn:battery_information:xsd:3' and local-name()='batteryInformationModule']/areBatteriesRequired"},{"$f":"Tabel3[[#This Row],[GDM laag]]","v":"Local"},{"$f":"VLOOKUP(Tabel3[[#This Row],[GAE ID]],'BES EN'!A:AJ,27,FALSE)","v":"Mandatory if BEBAT applies"},null,{"$f":"Tabel3[[#This Row],[Dairy, Refrigerated & Frozen]]","v":"-"},{"$f":"Tabel3[[#This Row],[Deli & Prepared]]","v":"-"},{"$f":"Tabel3[[#This Row],[Fresh Meat]]","v":"-"},{"$f":"Tabel3[[#This Row],[Fresh Fish]]","v":"-"},{"$f":"Tabel3[[#This Row],[Fresh Fruits & Vegetables]]","v":"-"},{"$f":"Tabel3[[#This Row],[Grocery]]","v":"-"},{"$f":"Tabel3[[#This Row],[Cleaners]]","v":"-"},{"$f":"Tabel3[[#This Row],[Disposables]]","v":"-"},{"$f":"Tabel3[[#This Row],[Beauty & Personal Care]]","v":"-"},{"$f":"Tabel3[[#This Row],[Petfood]]","v":"-"},{"$f":"Tabel3[[#This Row],[Alcoholic Beverages]]","v":"-"},{"$f":"Tabel3[[#This Row],[Tobacco]]","v":"-"},{"$f":"Tabel3[[#This Row],[Self-care medicines]]","v":"-"},{"$f":"Tabel3[[#This Row],[Special Food]]","v":"-"},{"$f":"Tabel3[[#This Row],[Food Supplements]]","v":"-"},{"$f":"Tabel3[[#This Row],[Healthcare Products]]","v":"-"},{"$f":"Tabel3[[#This Row],[Medical Devices]]","v":"Q"},{"$f":"Tabel3[[#This Row],[Batteries]]","v":"R"},{"$f":"Tabel3[[#This Row],[Light Bulbs]]","v":"-"},{"$f":"Tabel3[[#This Row],[Other Categories]]","v":"T"}]
[{"$f":"VLOOKUP(Tabel3[[#This Row],[GAE ID]],'BES EN'!A:AJ,36,FALSE)","v":"Are batteries built in"},{"$f":"Tabel3[[#This Row],[GDSN-naam]]","v":"areBatteriesBuiltIn"},{"$f":"Tabel3[[#This Row],[GDM Verplicht / Conditioneel]]","v":"Conditional"},{"$f":"Tabel3[[#This Row],[DMS controle]]","v":0},{"$f":"Tabel3[[#This Row],[BMS ID]]","v":612},{"$f":"Tabel3[[#This Row],[Formaat]]","v":"Defined values"},{"$f":"Tabel3[[#This Row],[X Path]]","v":"/catalogue_item_notification:catalogueItemNotificationMessage/transaction/documentCommand/catalogue_item_notification:catalogueItemNotification/catalogueItem/tradeItem/tradeItemInformation/extension/*[namespace-uri()='urn:gs1:gdsn:battery_information:xsd:3' and local-name()='batteryInformationModule']/batteryDetail/areBatteriesBuiltIn"},{"$f":"Tabel3[[#This Row],[GDM laag]]","v":"Local"},{"$f":"VLOOKUP(Tabel3[[#This Row],[GAE ID]],'BES EN'!A:AJ,27,FALSE)","v":"Mandatory if 'Are batteries included' is populated"},null,{"$f":"Tabel3[[#This Row],[Dairy, Refrigerated & Frozen]]","v":"-"},{"$f":"Tabel3[[#This Row],[Deli & Prepared]]","v":"-"},{"$f":"Tabel3[[#This Row],[Fresh Meat]]","v":"-"},{"$f":"Tabel3[[#This Row],[Fresh Fish]]","v":"-"},{"$f":"Tabel3[[#This Row],[Fresh Fruits & Vegetables]]","v":"-"},{"$f":"Tabel3[[#This Row],[Grocery]]","v":"-"},{"$f":"Tabel3[[#This Row],[Cleaners]]","v":"-"},{"$f":"Tabel3[[#This Row],[Disposables]]","v":"-"},{"$f":"Tabel3[[#This Row],[Beauty & Personal Care]]","v":"-"},{"$f":"Tabel3[[#This Row],[Petfood]]","v":"-"},{"$f":"Tabel3[[#This Row],[Alcoholic Beverages]]","v":"-"},{"$f":"Tabel3[[#This Row],[Tobacco]]","v":"-"},{"$f":"Tabel3[[#This Row],[Self-care medicines]]","v":"-"},{"$f":"Tabel3[[#This Row],[Special Food]]","v":"-"},{"$f":"Tabel3[[#This Row],[Food Supplements]]","v":"-"},{"$f":"Tabel3[[#This Row],[Healthcare Products]]","v":"-"},{"$f":"Tabel3[[#This Row],[Medical Devices]]","v":"Q"},{"$f":"Tabel3[[#This Row],[Batteries]]","v":"R"},{"$f":"Tabel3[[#This Row],[Light Bulbs]]","v":"-"},{"$f":"Tabel3[[#This Row],[Other Categories]]","v":"T"}]
[{"$f":"VLOOKUP(Tabel3[[#This Row],[GAE ID]],'BES EN'!A:AJ,36,FALSE)","v":"Battery material type code "},{"$f":"Tabel3[[#This Row],[GDSN-naam]]","v":"batteryTechnologyTypeCode"},{"$f":"Tabel3[[#This Row],[GDM Verplicht / Conditioneel]]","v":"Optional"},{"$f":"Tabel3[[#This Row],[DMS controle]]","v":0},{"$f":"Tabel3[[#This Row],[BMS ID]]","v":613},{"$f":"Tabel3[[#This Row],[Formaat]]","v":"Defined values"},{"$f":"Tabel3[[#This Row],[X Path]]","v":"/catalogue_item_notification:catalogueItemNotificationMessage/transaction/documentCommand/catalogue_item_notification:catalogueItemNotification/catalogueItem/tradeItem/tradeItemInformation/extension/*[namespace-uri()='urn:gs1:gdsn:battery_information:xsd:3' and local-name()='batteryInformationModule']/batteryDetail/batteryTechnologyTypeCode"},{"$f":"Tabel3[[#This Row],[GDM laag]]","v":"Local"},{"$f":"VLOOKUP(Tabel3[[#This Row],[GAE ID]],'BES EN'!A:AJ,27,FALSE)","v":"Mandatory if the product requires a specific battery technology type to operate or the batteries are included with or built into the product."},null,{"$f":"Tabel3[[#This Row],[Dairy, Refrigerated & Frozen]]","v":"-"},{"$f":"Tabel3[[#This Row],[Deli & Prepared]]","v":"-"},{"$f":"Tabel3[[#This Row],[Fresh Meat]]","v":"-"},{"$f":"Tabel3[[#This Row],[Fresh Fish]]","v":"-"},{"$f":"Tabel3[[#This Row],[Fresh Fruits & Vegetables]]","v":"-"},{"$f":"Tabel3[[#This Row],[Grocery]]","v":"-"},{"$f":"Tabel3[[#This Row],[Cleaners]]","v":"-"},{"$f":"Tabel3[[#This Row],[Disposables]]","v":"-"},{"$f":"Tabel3[[#This Row],[Beauty & Personal Care]]","v":"-"},{"$f":"Tabel3[[#This Row],[Petfood]]","v":"-"},{"$f":"Tabel3[[#This Row],[Alcoholic Beverages]]","v":"-"},{"$f":"Tabel3[[#This Row],[Tobacco]]","v":"-"},{"$f":"Tabel3[[#This Row],[Self-care medicines]]","v":"-"},{"$f":"Tabel3[[#This Row],[Special Food]]","v":"-"},{"$f":"Tabel3[[#This Row],[Food Supplements]]","v":"-"},{"$f":"Tabel3[[#This Row],[Healthcare Products]]","v":"-"},{"$f":"Tabel3[[#This Row],[Medical Devices]]","v":"Q"},{"$f":"Tabel3[[#This Row],[Batteries]]","v":"R"},{"$f":"Tabel3[[#This Row],[Light Bulbs]]","v":"-"},{"$f":"Tabel3[[#This Row],[Other Categories]]","v":"T"}]
[{"$f":"VLOOKUP(Tabel3[[#This Row],[GAE ID]],'BES EN'!A:AJ,36,FALSE)","v":"Battery type code"},{"$f":"Tabel3[[#This Row],[GDSN-naam]]","v":"batteryTypeCode"},{"$f":"Tabel3[[#This Row],[GDM Verplicht / Conditioneel]]","v":"Conditional"},{"$f":"Tabel3[[#This Row],[DMS controle]]","v":0},{"$f":"Tabel3[[#This Row],[BMS ID]]","v":614},{"$f":"Tabel3[[#This Row],[Formaat]]","v":"Defined values"},{"$f":"Tabel3[[#This Row],[X Path]]","v":"/catalogue_item_notification:catalogueItemNotificationMessage/transaction/documentCommand/catalogue_item_notification:catalogueItemNotification/catalogueItem/tradeItem/tradeItemInformation/extension/*[namespace-uri()='urn:gs1:gdsn:battery_information:xsd:3' and local-name()='batteryInformationModule']/batteryDetail/batteryTypeCode"},{"$f":"Tabel3[[#This Row],[GDM laag]]","v":"Local"},{"$f":"VLOOKUP(Tabel3[[#This Row],[GAE ID]],'BES EN'!A:AJ,27,FALSE)","v":"Mandatory for batteries"},null,{"$f":"Tabel3[[#This Row],[Dairy, Refrigerated & Frozen]]","v":"-"},{"$f":"Tabel3[[#This Row],[Deli & Prepared]]","v":"-"},{"$f":"Tabel3[[#This Row],[Fresh Meat]]","v":"-"},{"$f":"Tabel3[[#This Row],[Fresh Fish]]","v":"-"},{"$f":"Tabel3[[#This Row],[Fresh Fruits & Vegetables]]","v":"-"},{"$f":"Tabel3[[#This Row],[Grocery]]","v":"-"},{"$f":"Tabel3[[#This Row],[Cleaners]]","v":"-"},{"$f":"Tabel3[[#This Row],[Disposables]]","v":"-"},{"$f":"Tabel3[[#This Row],[Beauty & Personal Care]]","v":"-"},{"$f":"Tabel3[[#This Row],[Petfood]]","v":"-"},{"$f":"Tabel3[[#This Row],[Alcoholic Beverages]]","v":"-"},{"$f":"Tabel3[[#This Row],[Tobacco]]","v":"-"},{"$f":"Tabel3[[#This Row],[Self-care medicines]]","v":"-"},{"$f":"Tabel3[[#This Row],[Special Food]]","v":"-"},{"$f":"Tabel3[[#This Row],[Food Supplements]]","v":"-"},{"$f":"Tabel3[[#This Row],[Healthcare Products]]","v":"-"},{"$f":"Tabel3[[#This Row],[Medical Devices]]","v":"Q"},{"$f":"Tabel3[[#This Row],[Batteries]]","v":"R"},{"$f":"Tabel3[[#This Row],[Light Bulbs]]","v":"-"},{"$f":"Tabel3[[#This Row],[Other Categories]]","v":"T"}]
[{"$f":"VLOOKUP(Tabel3[[#This Row],[GAE ID]],'BES EN'!A:AJ,36,FALSE)","v":"Battery weight "},{"$f":"Tabel3[[#This Row],[GDSN-naam]]","v":"batteryWeight"},{"$f":"Tabel3[[#This Row],[GDM Verplicht / Conditioneel]]","v":"Conditional"},{"$f":"Tabel3[[#This Row],[DMS controle]]","v":0},{"$f":"Tabel3[[#This Row],[BMS ID]]","v":615},{"$f":"Tabel3[[#This Row],[Formaat]]","v":"n..15"},{"$f":"Tabel3[[#This Row],[X Path]]","v":"/catalogue_item_notification:catalogueItemNotificationMessage/transaction/documentCommand/catalogue_item_notification:catalogueItemNotification/catalogueItem/tradeItem/tradeItemInformation/extension/*[namespace-uri()='urn:gs1:gdsn:battery_information:xsd:3' and local-name()='batteryInformationModule']/batteryDetail/batteryWeight"},{"$f":"Tabel3[[#This Row],[GDM laag]]","v":"Local"},{"$f":"VLOOKUP(Tabel3[[#This Row],[GAE ID]],'BES EN'!A:AJ,27,FALSE)","v":"Mandatory for batteries or if the product requires batteries to operate and the batteries are included with or built into the product."},null,{"$f":"Tabel3[[#This Row],[Dairy, Refrigerated & Frozen]]","v":"-"},{"$f":"Tabel3[[#This Row],[Deli & Prepared]]","v":"-"},{"$f":"Tabel3[[#This Row],[Fresh Meat]]","v":"-"},{"$f":"Tabel3[[#This Row],[Fresh Fish]]","v":"-"},{"$f":"Tabel3[[#This Row],[Fresh Fruits & Vegetables]]","v":"-"},{"$f":"Tabel3[[#This Row],[Grocery]]","v":"-"},{"$f":"Tabel3[[#This Row],[Cleaners]]","v":"-"},{"$f":"Tabel3[[#This Row],[Disposables]]","v":"-"},{"$f":"Tabel3[[#This Row],[Beauty & Personal Care]]","v":"-"},{"$f":"Tabel3[[#This Row],[Petfood]]","v":"-"},{"$f":"Tabel3[[#This Row],[Alcoholic Beverages]]","v":"-"},{"$f":"Tabel3[[#This Row],[Tobacco]]","v":"-"},{"$f":"Tabel3[[#This Row],[Self-care medicines]]","v":"-"},{"$f":"Tabel3[[#This Row],[Special Food]]","v":"-"},{"$f":"Tabel3[[#This Row],[Food Supplements]]","v":"-"},{"$f":"Tabel3[[#This Row],[Healthcare Products]]","v":"-"},{"$f":"Tabel3[[#This Row],[Medical Devices]]","v":"Q"},{"$f":"Tabel3[[#This Row],[Batteries]]","v":"R"},{"$f":"Tabel3[[#This Row],[Light Bulbs]]","v":"-"},{"$f":"Tabel3[[#This Row],[Other Categories]]","v":"T"}]
[{"$f":"VLOOKUP(Tabel3[[#This Row],[GAE ID]],'BES EN'!A:AJ,36,FALSE)","v":"Battery weight UOM"},{"$f":"Tabel3[[#This Row],[GDSN-naam]]","v":"batteryWeight/@measurementUnitCode"},{"$f":"Tabel3[[#This Row],[GDM Verplicht / Conditioneel]]","v":"Conditional"},{"$f":"Tabel3[[#This Row],[DMS controle]]","v":0},{"$f":"Tabel3[[#This Row],[BMS ID]]","v":616},{"$f":"Tabel3[[#This Row],[Formaat]]","v":"Defined values"},{"$f":"Tabel3[[#This Row],[X Path]]","v":"/catalogue_item_notification:catalogueItemNotificationMessage/transaction/documentCommand/catalogue_item_notification:catalogueItemNotification/catalogueItem/tradeItem/tradeItemInformation/extension/*[namespace-uri()='urn:gs1:gdsn:battery_information:xsd:3' and local-name()='batteryInformationModule']/batteryDetail/batteryWeight/@measurementUnitCode"},{"$f":"Tabel3[[#This Row],[GDM laag]]","v":"Local"},{"$f":"VLOOKUP(Tabel3[[#This Row],[GAE ID]],'BES EN'!A:AJ,27,FALSE)","v":"Mandatory if 'Battery weight' is populated"},null,{"$f":"Tabel3[[#This Row],[Dairy, Refrigerated & Frozen]]","v":"-"},{"$f":"Tabel3[[#This Row],[Deli & Prepared]]","v":"-"},{"$f":"Tabel3[[#This Row],[Fresh Meat]]","v":"-"},{"$f":"Tabel3[[#This Row],[Fresh Fish]]","v":"-"},{"$f":"Tabel3[[#This Row],[Fresh Fruits & Vegetables]]","v":"-"},{"$f":"Tabel3[[#This Row],[Grocery]]","v":"-"},{"$f":"Tabel3[[#This Row],[Cleaners]]","v":"-"},{"$f":"Tabel3[[#This Row],[Disposables]]","v":"-"},{"$f":"Tabel3[[#This Row],[Beauty & Personal Care]]","v":"-"},{"$f":"Tabel3[[#This Row],[Petfood]]","v":"-"},{"$f":"Tabel3[[#This Row],[Alcoholic Beverages]]","v":"-"},{"$f":"Tabel3[[#This Row],[Tobacco]]","v":"-"},{"$f":"Tabel3[[#This Row],[Self-care medicines]]","v":"-"},{"$f":"Tabel3[[#This Row],[Special Food]]","v":"-"},{"$f":"Tabel3[[#This Row],[Food Supplements]]","v":"-"},{"$f":"Tabel3[[#This Row],[Healthcare Products]]","v":"-"},{"$f":"Tabel3[[#This Row],[Medical Devices]]","v":"Q"},{"$f":"Tabel3[[#This Row],[Batteries]]","v":"R"},{"$f":"Tabel3[[#This Row],[Light Bulbs]]","v":"-"},{"$f":"Tabel3[[#This Row],[Other Categories]]","v":"T"}]
[{"$f":"VLOOKUP(Tabel3[[#This Row],[GAE ID]],'BES EN'!A:AJ,36,FALSE)","v":"Quantity of batteries built in"},{"$f":"Tabel3[[#This Row],[GDSN-naam]]","v":"quantityOfBatteriesBuiltIn"},{"$f":"Tabel3[[#This Row],[GDM Verplicht / Conditioneel]]","v":"Conditional"},{"$f":"Tabel3[[#This Row],[DMS controle]]","v":0},{"$f":"Tabel3[[#This Row],[BMS ID]]","v":617},{"$f":"Tabel3[[#This Row],[Formaat]]","v":"Non-negative integer"},{"$f":"Tabel3[[#This Row],[X Path]]","v":"/catalogue_item_notification:catalogueItemNotificationMessage/transaction/documentCommand/catalogue_item_notification:catalogueItemNotification/catalogueItem/tradeItem/tradeItemInformation/extension/*[namespace-uri()='urn:gs1:gdsn:battery_information:xsd:3' and local-name()='batteryInformationModule']/batteryDetail/quantityOfBatteriesBuiltIn"},{"$f":"Tabel3[[#This Row],[GDM laag]]","v":"Local"},{"$f":"VLOOKUP(Tabel3[[#This Row],[GAE ID]],'BES EN'!A:AJ,27,FALSE)","v":"Mandatory if 'Are batteries built in' is populated with the value 'True'"},null,{"$f":"Tabel3[[#This Row],[Dairy, Refrigerated & Frozen]]","v":"-"},{"$f":"Tabel3[[#This Row],[Deli & Prepared]]","v":"-"},{"$f":"Tabel3[[#This Row],[Fresh Meat]]","v":"-"},{"$f":"Tabel3[[#This Row],[Fresh Fish]]","v":"-"},{"$f":"Tabel3[[#This Row],[Fresh Fruits & Vegetables]]","v":"-"},{"$f":"Tabel3[[#This Row],[Grocery]]","v":"-"},{"$f":"Tabel3[[#This Row],[Cleaners]]","v":"-"},{"$f":"Tabel3[[#This Row],[Disposables]]","v":"-"},{"$f":"Tabel3[[#This Row],[Beauty & Personal Care]]","v":"-"},{"$f":"Tabel3[[#This Row],[Petfood]]","v":"-"},{"$f":"Tabel3[[#This Row],[Alcoholic Beverages]]","v":"-"},{"$f":"Tabel3[[#This Row],[Tobacco]]","v":"-"},{"$f":"Tabel3[[#This Row],[Self-care medicines]]","v":"-"},{"$f":"Tabel3[[#This Row],[Special Food]]","v":"-"},{"$f":"Tabel3[[#This Row],[Food Supplements]]","v":"-"},{"$f":"Tabel3[[#This Row],[Healthcare Products]]","v":"-"},{"$f":"Tabel3[[#This Row],[Medical Devices]]","v":"Q"},{"$f":"Tabel3[[#This Row],[Batteries]]","v":"R"},{"$f":"Tabel3[[#This Row],[Light Bulbs]]","v":"-"},{"$f":"Tabel3[[#This Row],[Other Categories]]","v":"T"}]
[{"$f":"VLOOKUP(Tabel3[[#This Row],[GAE ID]],'BES EN'!A:AJ,36,FALSE)","v":"Quantity of batteries required "},{"$f":"Tabel3[[#This Row],[GDSN-naam]]","v":"quantityOfBatteriesRequired"},{"$f":"Tabel3[[#This Row],[GDM Verplicht / Conditioneel]]","v":"Conditional"},{"$f":"Tabel3[[#This Row],[DMS controle]]","v":0},{"$f":"Tabel3[[#This Row],[BMS ID]]","v":618},{"$f":"Tabel3[[#This Row],[Formaat]]","v":"Non-negative integer"},{"$f":"Tabel3[[#This Row],[X Path]]","v":"/catalogue_item_notification:catalogueItemNotificationMessage/transaction/documentCommand/catalogue_item_notification:catalogueItemNotification/catalogueItem/tradeItem/tradeItemInformation/extension/*[namespace-uri()='urn:gs1:gdsn:battery_information:xsd:3' and local-name()='batteryInformationModule']/batteryDetail/quantityOfBatteriesRequired"},{"$f":"Tabel3[[#This Row],[GDM laag]]","v":"Local"},{"$f":"VLOOKUP(Tabel3[[#This Row],[GAE ID]],'BES EN'!A:AJ,27,FALSE)","v":"Mandatory if 'Are batteries required' is set to 'True'"},null,{"$f":"Tabel3[[#This Row],[Dairy, Refrigerated & Frozen]]","v":"-"},{"$f":"Tabel3[[#This Row],[Deli & Prepared]]","v":"-"},{"$f":"Tabel3[[#This Row],[Fresh Meat]]","v":"-"},{"$f":"Tabel3[[#This Row],[Fresh Fish]]","v":"-"},{"$f":"Tabel3[[#This Row],[Fresh Fruits & Vegetables]]","v":"-"},{"$f":"Tabel3[[#This Row],[Grocery]]","v":"-"},{"$f":"Tabel3[[#This Row],[Cleaners]]","v":"-"},{"$f":"Tabel3[[#This Row],[Disposables]]","v":"-"},{"$f":"Tabel3[[#This Row],[Beauty & Personal Care]]","v":"-"},{"$f":"Tabel3[[#This Row],[Petfood]]","v":"-"},{"$f":"Tabel3[[#This Row],[Alcoholic Beverages]]","v":"-"},{"$f":"Tabel3[[#This Row],[Tobacco]]","v":"-"},{"$f":"Tabel3[[#This Row],[Self-care medicines]]","v":"-"},{"$f":"Tabel3[[#This Row],[Special Food]]","v":"-"},{"$f":"Tabel3[[#This Row],[Food Supplements]]","v":"-"},{"$f":"Tabel3[[#This Row],[Healthcare Products]]","v":"-"},{"$f":"Tabel3[[#This Row],[Medical Devices]]","v":"Q"},{"$f":"Tabel3[[#This Row],[Batteries]]","v":"R"},{"$f":"Tabel3[[#This Row],[Light Bulbs]]","v":"-"},{"$f":"Tabel3[[#This Row],[Other Categories]]","v":"T"}]
[{"$f":"VLOOKUP(Tabel3[[#This Row],[GAE ID]],'BES EN'!A:AJ,36,FALSE)","v":"Quantity of batteries included"},{"$f":"Tabel3[[#This Row],[GDSN-naam]]","v":"quantityOfBatteriesIncluded"},{"$f":"Tabel3[[#This Row],[GDM Verplicht / Conditioneel]]","v":"Conditional"},{"$f":"Tabel3[[#This Row],[DMS controle]]","v":0},{"$f":"Tabel3[[#This Row],[BMS ID]]","v":6295},{"$f":"Tabel3[[#This Row],[Formaat]]","v":"Non-negative integer"},{"$f":"Tabel3[[#This Row],[X Path]]","v":"/catalogue_item_notification:catalogueItemNotificationMessage/transaction/documentCommand/catalogue_item_notification:catalogueItemNotification/catalogueItem/tradeItem/tradeItemInformation/extension/*[namespace-uri()='urn:gs1:gdsn:battery_information:xsd:3' and local-name()='batteryInformationModule']/batteryDetail/quantityOfBatteriesIncluded"},{"$f":"Tabel3[[#This Row],[GDM laag]]","v":"Local"},{"$f":"VLOOKUP(Tabel3[[#This Row],[GAE ID]],'BES EN'!A:AJ,27,FALSE)","v":"Mandatory, in case the ‘Are batteries included’ field is populated with the value ‘TRUE’"},null,{"$f":"Tabel3[[#This Row],[Dairy, Refrigerated & Frozen]]","v":"-"},{"$f":"Tabel3[[#This Row],[Deli & Prepared]]","v":"-"},{"$f":"Tabel3[[#This Row],[Fresh Meat]]","v":"-"},{"$f":"Tabel3[[#This Row],[Fresh Fish]]","v":"-"},{"$f":"Tabel3[[#This Row],[Fresh Fruits & Vegetables]]","v":"-"},{"$f":"Tabel3[[#This Row],[Grocery]]","v":"-"},{"$f":"Tabel3[[#This Row],[Cleaners]]","v":"-"},{"$f":"Tabel3[[#This Row],[Disposables]]","v":"-"},{"$f":"Tabel3[[#This Row],[Beauty & Personal Care]]","v":"-"},{"$f":"Tabel3[[#This Row],[Petfood]]","v":"-"},{"$f":"Tabel3[[#This Row],[Alcoholic Beverages]]","v":"-"},{"$f":"Tabel3[[#This Row],[Tobacco]]","v":"-"},{"$f":"Tabel3[[#This Row],[Self-care medicines]]","v":"-"},{"$f":"Tabel3[[#This Row],[Special Food]]","v":"-"},{"$f":"Tabel3[[#This Row],[Food Supplements]]","v":"-"},{"$f":"Tabel3[[#This Row],[Healthcare Products]]","v":"-"},{"$f":"Tabel3[[#This Row],[Medical Devices]]","v":"Q"},{"$f":"Tabel3[[#This Row],[Batteries]]","v":"R"},{"$f":"Tabel3[[#This Row],[Light Bulbs]]","v":"-"},{"$f":"Tabel3[[#This Row],[Other Categories]]","v":"T"}]
[{"$f":"VLOOKUP(Tabel3[[#This Row],[GAE ID]],'BES EN'!A:AJ,36,FALSE)","v":"Material code"},{"$f":"Tabel3[[#This Row],[GDSN-naam]]","v":"materialCode"},{"$f":"Tabel3[[#This Row],[GDM Verplicht / Conditioneel]]","v":"Conditional"},{"$f":"Tabel3[[#This Row],[DMS controle]]","v":0},{"$f":"Tabel3[[#This Row],[BMS ID]]","v":644},{"$f":"Tabel3[[#This Row],[Formaat]]","v":"an..35"},{"$f":"Tabel3[[#This Row],[X Path]]","v":"/catalogue_item_notification:catalogueItemNotificationMessage/transaction/documentCommand/catalogue_item_notification:catalogueItemNotification/catalogueItem/tradeItem/tradeItemInformation/extension/*[namespace-uri()='urn:gs1:gdsn:battery_information:xsd:3' and local-name()='batteryInformationModule']/batteryDetail/batteryMaterials/tradeItemMaterialComposition/materialCode"},{"$f":"Tabel3[[#This Row],[GDM laag]]","v":"Local"},{"$f":"VLOOKUP(Tabel3[[#This Row],[GAE ID]],'BES EN'!A:AJ,27,FALSE)","v":"Mandatory if the treshold values of the material lead, mercury, cadmium and lithium for batteries are exceeded"},null,{"$f":"Tabel3[[#This Row],[Dairy, Refrigerated & Frozen]]","v":"-"},{"$f":"Tabel3[[#This Row],[Deli & Prepared]]","v":"-"},{"$f":"Tabel3[[#This Row],[Fresh Meat]]","v":"-"},{"$f":"Tabel3[[#This Row],[Fresh Fish]]","v":"-"},{"$f":"Tabel3[[#This Row],[Fresh Fruits & Vegetables]]","v":"-"},{"$f":"Tabel3[[#This Row],[Grocery]]","v":"-"},{"$f":"Tabel3[[#This Row],[Cleaners]]","v":"-"},{"$f":"Tabel3[[#This Row],[Disposables]]","v":"-"},{"$f":"Tabel3[[#This Row],[Beauty & Personal Care]]","v":"-"},{"$f":"Tabel3[[#This Row],[Petfood]]","v":"-"},{"$f":"Tabel3[[#This Row],[Alcoholic Beverages]]","v":"-"},{"$f":"Tabel3[[#This Row],[Tobacco]]","v":"-"},{"$f":"Tabel3[[#This Row],[Self-care medicines]]","v":"-"},{"$f":"Tabel3[[#This Row],[Special Food]]","v":"-"},{"$f":"Tabel3[[#This Row],[Food Supplements]]","v":"-"},{"$f":"Tabel3[[#This Row],[Healthcare Products]]","v":"-"},{"$f":"Tabel3[[#This Row],[Medical Devices]]","v":"Q"},{"$f":"Tabel3[[#This Row],[Batteries]]","v":"R"},{"$f":"Tabel3[[#This Row],[Light Bulbs]]","v":"-"},{"$f":"Tabel3[[#This Row],[Other Categories]]","v":"T"}]
[{"$f":"VLOOKUP(Tabel3[[#This Row],[GAE ID]],'BES EN'!A:AJ,36,FALSE)","v":"Material agency code"},{"$f":"Tabel3[[#This Row],[GDSN-naam]]","v":"materialAgencyCode"},{"$f":"Tabel3[[#This Row],[GDM Verplicht / Conditioneel]]","v":"Conditional"},{"$f":"Tabel3[[#This Row],[DMS controle]]","v":0},{"$f":"Tabel3[[#This Row],[BMS ID]]","v":632},{"$f":"Tabel3[[#This Row],[Formaat]]","v":"Defined values"},{"$f":"Tabel3[[#This Row],[X Path]]","v":"/catalogue_item_notification:catalogueItemNotificationMessage/transaction/documentCommand/catalogue_item_notification:catalogueItemNotification/catalogueItem/tradeItem/tradeItemInformation/extension/*[namespace-uri()='urn:gs1:gdsn:battery_information:xsd:3' and local-name()='batteryInformationModule']/batteryDetail/batteryMaterials/materialAgencyCode"},{"$f":"Tabel3[[#This Row],[GDM laag]]","v":"Local"},{"$f":"VLOOKUP(Tabel3[[#This Row],[GAE ID]],'BES EN'!A:AJ,27,FALSE)","v":"Mandatory if 'Material code' is populated for a consumer unit."},null,{"$f":"Tabel3[[#This Row],[Dairy, Refrigerated & Frozen]]","v":"-"},{"$f":"Tabel3[[#This Row],[Deli & Prepared]]","v":"-"},{"$f":"Tabel3[[#This Row],[Fresh Meat]]","v":"-"},{"$f":"Tabel3[[#This Row],[Fresh Fish]]","v":"-"},{"$f":"Tabel3[[#This Row],[Fresh Fruits & Vegetables]]","v":"-"},{"$f":"Tabel3[[#This Row],[Grocery]]","v":"-"},{"$f":"Tabel3[[#This Row],[Cleaners]]","v":"-"},{"$f":"Tabel3[[#This Row],[Disposables]]","v":"-"},{"$f":"Tabel3[[#This Row],[Beauty & Personal Care]]","v":"-"},{"$f":"Tabel3[[#This Row],[Petfood]]","v":"-"},{"$f":"Tabel3[[#This Row],[Alcoholic Beverages]]","v":"-"},{"$f":"Tabel3[[#This Row],[Tobacco]]","v":"-"},{"$f":"Tabel3[[#This Row],[Self-care medicines]]","v":"-"},{"$f":"Tabel3[[#This Row],[Special Food]]","v":"-"},{"$f":"Tabel3[[#This Row],[Food Supplements]]","v":"-"},{"$f":"Tabel3[[#This Row],[Healthcare Products]]","v":"-"},{"$f":"Tabel3[[#This Row],[Medical Devices]]","v":"Q"},{"$f":"Tabel3[[#This Row],[Batteries]]","v":"R"},{"$f":"Tabel3[[#This Row],[Light Bulbs]]","v":"-"},{"$f":"Tabel3[[#This Row],[Other Categories]]","v":"T"}]
[{"$f":"VLOOKUP(Tabel3[[#This Row],[GAE ID]],'BES EN'!A:AJ,36,FALSE)","v":"Is battery rechargeable"},{"$f":"Tabel3[[#This Row],[GDSN-naam]]","v":"isBatteryRechargeable"},{"$f":"Tabel3[[#This Row],[GDM Verplicht / Conditioneel]]","v":"Conditional"},{"$f":"Tabel3[[#This Row],[DMS controle]]","v":0},{"$f":"Tabel3[[#This Row],[BMS ID]]","v":6294},{"$f":"Tabel3[[#This Row],[Formaat]]","v":"Defined values"},{"$f":"Tabel3[[#This Row],[X Path]]","v":"/catalogue_item_notification:catalogueItemNotificationMessage/transaction/documentCommand/catalogue_item_notification:catalogueItemNotification/catalogueItem/tradeItem/tradeItemInformation/extension/*[namespace-uri()='urn:gs1:gdsn:battery_information:xsd:3' and local-name()='batteryInformationModule']/batteryDetail/isBatteryRechargeable"},{"$f":"Tabel3[[#This Row],[GDM laag]]","v":"Local"},{"$f":"VLOOKUP(Tabel3[[#This Row],[GAE ID]],'BES EN'!A:AJ,27,FALSE)","v":"Mandatory for rechargeable batteries"},null,{"$f":"Tabel3[[#This Row],[Dairy, Refrigerated & Frozen]]","v":"-"},{"$f":"Tabel3[[#This Row],[Deli & Prepared]]","v":"-"},{"$f":"Tabel3[[#This Row],[Fresh Meat]]","v":"-"},{"$f":"Tabel3[[#This Row],[Fresh Fish]]","v":"-"},{"$f":"Tabel3[[#This Row],[Fresh Fruits & Vegetables]]","v":"-"},{"$f":"Tabel3[[#This Row],[Grocery]]","v":"-"},{"$f":"Tabel3[[#This Row],[Cleaners]]","v":"-"},{"$f":"Tabel3[[#This Row],[Disposables]]","v":"-"},{"$f":"Tabel3[[#This Row],[Beauty & Personal Care]]","v":"-"},{"$f":"Tabel3[[#This Row],[Petfood]]","v":"-"},{"$f":"Tabel3[[#This Row],[Alcoholic Beverages]]","v":"-"},{"$f":"Tabel3[[#This Row],[Tobacco]]","v":"-"},{"$f":"Tabel3[[#This Row],[Self-care medicines]]","v":"-"},{"$f":"Tabel3[[#This Row],[Special Food]]","v":"-"},{"$f":"Tabel3[[#This Row],[Food Supplements]]","v":"-"},{"$f":"Tabel3[[#This Row],[Healthcare Products]]","v":"-"},{"$f":"Tabel3[[#This Row],[Medical Devices]]","v":"Q"},{"$f":"Tabel3[[#This Row],[Batteries]]","v":"R"},{"$f":"Tabel3[[#This Row],[Light Bulbs]]","v":"-"},{"$f":"Tabel3[[#This Row],[Other Categories]]","v":"T"}]
[{"$f":"VLOOKUP(Tabel3[[#This Row],[GAE ID]],'BES EN'!A:AJ,36,FALSE)","v":"Battery capacity"},{"$f":"Tabel3[[#This Row],[GDSN-naam]]","v":"batteryCapacity"},{"$f":"Tabel3[[#This Row],[GDM Verplicht / Conditioneel]]","v":"Conditional"},{"$f":"Tabel3[[#This Row],[DMS controle]]","v":0},{"$f":"Tabel3[[#This Row],[BMS ID]]","v":6290},{"$f":"Tabel3[[#This Row],[Formaat]]","v":"n..15"},{"$f":"Tabel3[[#This Row],[X Path]]","v":"/catalogue_item_notification:catalogueItemNotificationMessage/transaction/documentCommand/catalogue_item_notification:catalogueItemNotification/catalogueItem/tradeItem/tradeItemInformation/extension/*[namespace-uri()='urn:gs1:gdsn:battery_information:xsd:3' and local-name()='batteryInformationModule']/batteryDetail/batteryCapacity"},{"$f":"Tabel3[[#This Row],[GDM laag]]","v":"Local"},{"$f":"VLOOKUP(Tabel3[[#This Row],[GAE ID]],'BES EN'!A:AJ,27,FALSE)","v":"Mandatory for batteries if it is stated on the label/packaging"},null,{"$f":"Tabel3[[#This Row],[Dairy, Refrigerated & Frozen]]","v":"-"},{"$f":"Tabel3[[#This Row],[Deli & Prepared]]","v":"-"},{"$f":"Tabel3[[#This Row],[Fresh Meat]]","v":"-"},{"$f":"Tabel3[[#This Row],[Fresh Fish]]","v":"-"},{"$f":"Tabel3[[#This Row],[Fresh Fruits & Vegetables]]","v":"-"},{"$f":"Tabel3[[#This Row],[Grocery]]","v":"-"},{"$f":"Tabel3[[#This Row],[Cleaners]]","v":"-"},{"$f":"Tabel3[[#This Row],[Disposables]]","v":"-"},{"$f":"Tabel3[[#This Row],[Beauty & Personal Care]]","v":"-"},{"$f":"Tabel3[[#This Row],[Petfood]]","v":"-"},{"$f":"Tabel3[[#This Row],[Alcoholic Beverages]]","v":"-"},{"$f":"Tabel3[[#This Row],[Tobacco]]","v":"-"},{"$f":"Tabel3[[#This Row],[Self-care medicines]]","v":"-"},{"$f":"Tabel3[[#This Row],[Special Food]]","v":"-"},{"$f":"Tabel3[[#This Row],[Food Supplements]]","v":"-"},{"$f":"Tabel3[[#This Row],[Healthcare Products]]","v":"-"},{"$f":"Tabel3[[#This Row],[Medical Devices]]","v":"Q"},{"$f":"Tabel3[[#This Row],[Batteries]]","v":"R"},{"$f":"Tabel3[[#This Row],[Light Bulbs]]","v":"-"},{"$f":"Tabel3[[#This Row],[Other Categories]]","v":"T"}]
[{"$f":"VLOOKUP(Tabel3[[#This Row],[GAE ID]],'BES EN'!A:AJ,36,FALSE)","v":"Battery capacity UOM"},{"$f":"Tabel3[[#This Row],[GDSN-naam]]","v":"batteryCapacity/@measurementUnitCode"},{"$f":"Tabel3[[#This Row],[GDM Verplicht / Conditioneel]]","v":"Conditional"},{"$f":"Tabel3[[#This Row],[DMS controle]]","v":0},{"$f":"Tabel3[[#This Row],[BMS ID]]","v":6291},{"$f":"Tabel3[[#This Row],[Formaat]]","v":"Defined values"},{"$f":"Tabel3[[#This Row],[X Path]]","v":"/catalogue_item_notification:catalogueItemNotificationMessage/transaction/documentCommand/catalogue_item_notification:catalogueItemNotification/catalogueItem/tradeItem/tradeItemInformation/extension/*[namespace-uri()='urn:gs1:gdsn:battery_information:xsd:3' and local-name()='batteryInformationModule']/batteryDetail/batteryCapacity/@measurementUnitCode"},{"$f":"Tabel3[[#This Row],[GDM laag]]","v":"Local"},{"$f":"VLOOKUP(Tabel3[[#This Row],[GAE ID]],'BES EN'!A:AJ,27,FALSE)","v":"Mandatory if the 'Battery capacity' field is populated."},null,{"$f":"Tabel3[[#This Row],[Dairy, Refrigerated & Frozen]]","v":"-"},{"$f":"Tabel3[[#This Row],[Deli & Prepared]]","v":"-"},{"$f":"Tabel3[[#This Row],[Fresh Meat]]","v":"-"},{"$f":"Tabel3[[#This Row],[Fresh Fish]]","v":"-"},{"$f":"Tabel3[[#This Row],[Fresh Fruits & Vegetables]]","v":"-"},{"$f":"Tabel3[[#This Row],[Grocery]]","v":"-"},{"$f":"Tabel3[[#This Row],[Cleaners]]","v":"-"},{"$f":"Tabel3[[#This Row],[Disposables]]","v":"-"},{"$f":"Tabel3[[#This Row],[Beauty & Personal Care]]","v":"-"},{"$f":"Tabel3[[#This Row],[Petfood]]","v":"-"},{"$f":"Tabel3[[#This Row],[Alcoholic Beverages]]","v":"-"},{"$f":"Tabel3[[#This Row],[Tobacco]]","v":"-"},{"$f":"Tabel3[[#This Row],[Self-care medicines]]","v":"-"},{"$f":"Tabel3[[#This Row],[Special Food]]","v":"-"},{"$f":"Tabel3[[#This Row],[Food Supplements]]","v":"-"},{"$f":"Tabel3[[#This Row],[Healthcare Products]]","v":"-"},{"$f":"Tabel3[[#This Row],[Medical Devices]]","v":"Q"},{"$f":"Tabel3[[#This Row],[Batteries]]","v":"R"},{"$f":"Tabel3[[#This Row],[Light Bulbs]]","v":"-"},{"$f":"Tabel3[[#This Row],[Other Categories]]","v":"T"}]
[{"$f":"VLOOKUP(Tabel3[[#This Row],[GAE ID]],'BES EN'!A:AJ,36,FALSE)","v":"Battery voltage"},{"$f":"Tabel3[[#This Row],[GDSN-naam]]","v":"batteryVoltage"},{"$f":"Tabel3[[#This Row],[GDM Verplicht / Conditioneel]]","v":"Conditional"},{"$f":"Tabel3[[#This Row],[DMS controle]]","v":0},{"$f":"Tabel3[[#This Row],[BMS ID]]","v":6292},{"$f":"Tabel3[[#This Row],[Formaat]]","v":"n..15"},{"$f":"Tabel3[[#This Row],[X Path]]","v":"/catalogue_item_notification:catalogueItemNotificationMessage/transaction/documentCommand/catalogue_item_notification:catalogueItemNotification/catalogueItem/tradeItem/tradeItemInformation/extension/*[namespace-uri()='urn:gs1:gdsn:battery_information:xsd:3' and local-name()='batteryInformationModule']/batteryDetail/batteryVoltage"},{"$f":"Tabel3[[#This Row],[GDM laag]]","v":"Local"},{"$f":"VLOOKUP(Tabel3[[#This Row],[GAE ID]],'BES EN'!A:AJ,27,FALSE)","v":"Mandatory for batteries if it is stated on the label/packaging"},null,{"$f":"Tabel3[[#This Row],[Dairy, Refrigerated & Frozen]]","v":"-"},{"$f":"Tabel3[[#This Row],[Deli & Prepared]]","v":"-"},{"$f":"Tabel3[[#This Row],[Fresh Meat]]","v":"-"},{"$f":"Tabel3[[#This Row],[Fresh Fish]]","v":"-"},{"$f":"Tabel3[[#This Row],[Fresh Fruits & Vegetables]]","v":"-"},{"$f":"Tabel3[[#This Row],[Grocery]]","v":"-"},{"$f":"Tabel3[[#This Row],[Cleaners]]","v":"-"},{"$f":"Tabel3[[#This Row],[Disposables]]","v":"-"},{"$f":"Tabel3[[#This Row],[Beauty & Personal Care]]","v":"-"},{"$f":"Tabel3[[#This Row],[Petfood]]","v":"-"},{"$f":"Tabel3[[#This Row],[Alcoholic Beverages]]","v":"-"},{"$f":"Tabel3[[#This Row],[Tobacco]]","v":"-"},{"$f":"Tabel3[[#This Row],[Self-care medicines]]","v":"-"},{"$f":"Tabel3[[#This Row],[Special Food]]","v":"-"},{"$f":"Tabel3[[#This Row],[Food Supplements]]","v":"-"},{"$f":"Tabel3[[#This Row],[Healthcare Products]]","v":"-"},{"$f":"Tabel3[[#This Row],[Medical Devices]]","v":"Q"},{"$f":"Tabel3[[#This Row],[Batteries]]","v":"R"},{"$f":"Tabel3[[#This Row],[Light Bulbs]]","v":"-"},{"$f":"Tabel3[[#This Row],[Other Categories]]","v":"T"}]
[{"$f":"VLOOKUP(Tabel3[[#This Row],[GAE ID]],'BES EN'!A:AJ,36,FALSE)","v":"Battery voltage UOM"},{"$f":"Tabel3[[#This Row],[GDSN-naam]]","v":"batteryVoltage/@measurementUnitCode"},{"$f":"Tabel3[[#This Row],[GDM Verplicht / Conditioneel]]","v":"Conditional"},{"$f":"Tabel3[[#This Row],[DMS controle]]","v":0},{"$f":"Tabel3[[#This Row],[BMS ID]]","v":6293},{"$f":"Tabel3[[#This Row],[Formaat]]","v":"Defined values"},{"$f":"Tabel3[[#This Row],[X Path]]","v":"/catalogue_item_notification:catalogueItemNotificationMessage/transaction/documentCommand/catalogue_item_notification:catalogueItemNotification/catalogueItem/tradeItem/tradeItemInformation/extension/*[namespace-uri()='urn:gs1:gdsn:battery_information:xsd:3' and local-name()='batteryInformationModule']/batteryDetail/batteryVoltage/@measurementUnitCode"},{"$f":"Tabel3[[#This Row],[GDM laag]]","v":"Local"},{"$f":"VLOOKUP(Tabel3[[#This Row],[GAE ID]],'BES EN'!A:AJ,27,FALSE)","v":"Mandatory if 'Voltage' is populated"},null,{"$f":"Tabel3[[#This Row],[Dairy, Refrigerated & Frozen]]","v":"-"},{"$f":"Tabel3[[#This Row],[Deli & Prepared]]","v":"-"},{"$f":"Tabel3[[#This Row],[Fresh Meat]]","v":"-"},{"$f":"Tabel3[[#This Row],[Fresh Fish]]","v":"-"},{"$f":"Tabel3[[#This Row],[Fresh Fruits & Vegetables]]","v":"-"},{"$f":"Tabel3[[#This Row],[Grocery]]","v":"-"},{"$f":"Tabel3[[#This Row],[Cleaners]]","v":"-"},{"$f":"Tabel3[[#This Row],[Disposables]]","v":"-"},{"$f":"Tabel3[[#This Row],[Beauty & Personal Care]]","v":"-"},{"$f":"Tabel3[[#This Row],[Petfood]]","v":"-"},{"$f":"Tabel3[[#This Row],[Alcoholic Beverages]]","v":"-"},{"$f":"Tabel3[[#This Row],[Tobacco]]","v":"-"},{"$f":"Tabel3[[#This Row],[Self-care medicines]]","v":"-"},{"$f":"Tabel3[[#This Row],[Special Food]]","v":"-"},{"$f":"Tabel3[[#This Row],[Food Supplements]]","v":"-"},{"$f":"Tabel3[[#This Row],[Healthcare Products]]","v":"-"},{"$f":"Tabel3[[#This Row],[Medical Devices]]","v":"Q"},{"$f":"Tabel3[[#This Row],[Batteries]]","v":"R"},{"$f":"Tabel3[[#This Row],[Light Bulbs]]","v":"-"},{"$f":"Tabel3[[#This Row],[Other Categories]]","v":"T"}]
["Lamps",null,{"$f":"Tabel3[[#This Row],[GDM Verplicht / Conditioneel]]","v":0},"",null,"","",null,null,null,"A","B","C","D","E","F","G","H","I","J","K","L","M","N","O","P","Q","R","S","T"]
[{"$f":"VLOOKUP(Tabel3[[#This Row],[GAE ID]],'BES EN'!A:AJ,36,FALSE)","v":"Light bulb base type"},{"$f":"Tabel3[[#This Row],[GDSN-naam]]","v":"lightBulbBaseType"},{"$f":"Tabel3[[#This Row],[GDM Verplicht / Conditioneel]]","v":"Optional"},{"$f":"Tabel3[[#This Row],[DMS controle]]","v":0},{"$f":"Tabel3[[#This Row],[BMS ID]]","v":5463},{"$f":"Tabel3[[#This Row],[Formaat]]","v":"an..500"},{"$f":"Tabel3[[#This Row],[X Path]]","v":"/catalogue_item_notification:catalogueItemNotificationMessage/transaction/documentCommand/catalogue_item_notification:catalogueItemNotification/catalogueItem/tradeItem/tradeItemInformation/extension/*[namespace-uri()='urn:gs1:gdsn:lighting_device:xsd:3' and local-name()='lightingDeviceModule']/lightBulbInformation/lightBulbBaseType"},{"$f":"Tabel3[[#This Row],[GDM laag]]","v":"Local"},{"$f":"VLOOKUP(Tabel3[[#This Row],[GAE ID]],'BES EN'!A:AJ,27,FALSE)","v":0},null,{"$f":"Tabel3[[#This Row],[Dairy, Refrigerated & Frozen]]","v":"-"},{"$f":"Tabel3[[#This Row],[Deli & Prepared]]","v":"-"},{"$f":"Tabel3[[#This Row],[Fresh Meat]]","v":"-"},{"$f":"Tabel3[[#This Row],[Fresh Fish]]","v":"-"},{"$f":"Tabel3[[#This Row],[Fresh Fruits & Vegetables]]","v":"-"},{"$f":"Tabel3[[#This Row],[Grocery]]","v":"-"},{"$f":"Tabel3[[#This Row],[Cleaners]]","v":"-"},{"$f":"Tabel3[[#This Row],[Disposables]]","v":"-"},{"$f":"Tabel3[[#This Row],[Beauty & Personal Care]]","v":"-"},{"$f":"Tabel3[[#This Row],[Petfood]]","v":"-"},{"$f":"Tabel3[[#This Row],[Alcoholic Beverages]]","v":"-"},{"$f":"Tabel3[[#This Row],[Tobacco]]","v":"-"},{"$f":"Tabel3[[#This Row],[Self-care medicines]]","v":"-"},{"$f":"Tabel3[[#This Row],[Special Food]]","v":"-"},{"$f":"Tabel3[[#This Row],[Food Supplements]]","v":"-"},{"$f":"Tabel3[[#This Row],[Healthcare Products]]","v":"-"},{"$f":"Tabel3[[#This Row],[Medical Devices]]","v":"-"},{"$f":"Tabel3[[#This Row],[Batteries]]","v":"-"},{"$f":"Tabel3[[#This Row],[Light Bulbs]]","v":"S"},{"$f":"Tabel3[[#This Row],[Other Categories]]","v":"-"}]
[{"$f":"VLOOKUP(Tabel3[[#This Row],[GAE ID]],'BES EN'!A:AJ,36,FALSE)","v":"Visible light"},{"$f":"Tabel3[[#This Row],[GDSN-naam]]","v":"visibleLight"},{"$f":"Tabel3[[#This Row],[GDM Verplicht / Conditioneel]]","v":"Optional"},{"$f":"Tabel3[[#This Row],[DMS controle]]","v":0},{"$f":"Tabel3[[#This Row],[BMS ID]]","v":5932},{"$f":"Tabel3[[#This Row],[Formaat]]","v":"n..15"},{"$f":"Tabel3[[#This Row],[X Path]]","v":"/catalogue_item_notification:catalogueItemNotificationMessage/transaction/documentCommand/catalogue_item_notification:catalogueItemNotification/catalogueItem/tradeItem/tradeItemInformation/extension/*[namespace-uri()='urn:gs1:gdsn:lighting_device:xsd:3' and local-name()='lightingDeviceModule']/lightBulbInformation/visibleLight"},{"$f":"Tabel3[[#This Row],[GDM laag]]","v":"Local"},{"$f":"VLOOKUP(Tabel3[[#This Row],[GAE ID]],'BES EN'!A:AJ,27,FALSE)","v":0},null,{"$f":"Tabel3[[#This Row],[Dairy, Refrigerated & Frozen]]","v":"-"},{"$f":"Tabel3[[#This Row],[Deli & Prepared]]","v":"-"},{"$f":"Tabel3[[#This Row],[Fresh Meat]]","v":"-"},{"$f":"Tabel3[[#This Row],[Fresh Fish]]","v":"-"},{"$f":"Tabel3[[#This Row],[Fresh Fruits & Vegetables]]","v":"-"},{"$f":"Tabel3[[#This Row],[Grocery]]","v":"-"},{"$f":"Tabel3[[#This Row],[Cleaners]]","v":"-"},{"$f":"Tabel3[[#This Row],[Disposables]]","v":"-"},{"$f":"Tabel3[[#This Row],[Beauty & Personal Care]]","v":"-"},{"$f":"Tabel3[[#This Row],[Petfood]]","v":"-"},{"$f":"Tabel3[[#This Row],[Alcoholic Beverages]]","v":"-"},{"$f":"Tabel3[[#This Row],[Tobacco]]","v":"-"},{"$f":"Tabel3[[#This Row],[Self-care medicines]]","v":"-"},{"$f":"Tabel3[[#This Row],[Special Food]]","v":"-"},{"$f":"Tabel3[[#This Row],[Food Supplements]]","v":"-"},{"$f":"Tabel3[[#This Row],[Healthcare Products]]","v":"-"},{"$f":"Tabel3[[#This Row],[Medical Devices]]","v":"-"},{"$f":"Tabel3[[#This Row],[Batteries]]","v":"-"},{"$f":"Tabel3[[#This Row],[Light Bulbs]]","v":"S"},{"$f":"Tabel3[[#This Row],[Other Categories]]","v":"-"}]
[{"$f":"VLOOKUP(Tabel3[[#This Row],[GAE ID]],'BES EN'!A:AJ,36,FALSE)","v":"Visible light UOM"},{"$f":"Tabel3[[#This Row],[GDSN-naam]]","v":"visibleLight/@measurementUnitCode"},{"$f":"Tabel3[[#This Row],[GDM Verplicht / Conditioneel]]","v":"Optional"},{"$f":"Tabel3[[#This Row],[DMS controle]]","v":0},{"$f":"Tabel3[[#This Row],[BMS ID]]","v":5933},{"$f":"Tabel3[[#This Row],[Formaat]]","v":"Defined values"},{"$f":"Tabel3[[#This Row],[X Path]]","v":"/catalogue_item_notification:catalogueItemNotificationMessage/transaction/documentCommand/catalogue_item_notification:catalogueItemNotification/catalogueItem/tradeItem/tradeItemInformation/extension/*[namespace-uri()='urn:gs1:gdsn:lighting_device:xsd:3' and local-name()='lightingDeviceModule']/lightBulbInformation/visibleLight/@measurementUnitCode"},{"$f":"Tabel3[[#This Row],[GDM laag]]","v":"Local"},{"$f":"VLOOKUP(Tabel3[[#This Row],[GAE ID]],'BES EN'!A:AJ,27,FALSE)","v":"Mandatory if 'Visible light' is populated for a consumer unit."},null,{"$f":"Tabel3[[#This Row],[Dairy, Refrigerated & Frozen]]","v":"-"},{"$f":"Tabel3[[#This Row],[Deli & Prepared]]","v":"-"},{"$f":"Tabel3[[#This Row],[Fresh Meat]]","v":"-"},{"$f":"Tabel3[[#This Row],[Fresh Fish]]","v":"-"},{"$f":"Tabel3[[#This Row],[Fresh Fruits & Vegetables]]","v":"-"},{"$f":"Tabel3[[#This Row],[Grocery]]","v":"-"},{"$f":"Tabel3[[#This Row],[Cleaners]]","v":"-"},{"$f":"Tabel3[[#This Row],[Disposables]]","v":"-"},{"$f":"Tabel3[[#This Row],[Beauty & Personal Care]]","v":"-"},{"$f":"Tabel3[[#This Row],[Petfood]]","v":"-"},{"$f":"Tabel3[[#This Row],[Alcoholic Beverages]]","v":"-"},{"$f":"Tabel3[[#This Row],[Tobacco]]","v":"-"},{"$f":"Tabel3[[#This Row],[Self-care medicines]]","v":"-"},{"$f":"Tabel3[[#This Row],[Special Food]]","v":"-"},{"$f":"Tabel3[[#This Row],[Food Supplements]]","v":"-"},{"$f":"Tabel3[[#This Row],[Healthcare Products]]","v":"-"},{"$f":"Tabel3[[#This Row],[Medical Devices]]","v":"-"},{"$f":"Tabel3[[#This Row],[Batteries]]","v":"-"},{"$f":"Tabel3[[#This Row],[Light Bulbs]]","v":"S"},{"$f":"Tabel3[[#This Row],[Other Categories]]","v":"-"}]
[{"$f":"VLOOKUP(Tabel3[[#This Row],[GAE ID]],'BES EN'!A:AJ,36,FALSE)","v":"Colour temperature"},{"$f":"Tabel3[[#This Row],[GDSN-naam]]","v":"colourTemperature"},{"$f":"Tabel3[[#This Row],[GDM Verplicht / Conditioneel]]","v":"Optional"},{"$f":"Tabel3[[#This Row],[DMS controle]]","v":0},{"$f":"Tabel3[[#This Row],[BMS ID]]","v":5930},{"$f":"Tabel3[[#This Row],[Formaat]]","v":"n..15"},{"$f":"Tabel3[[#This Row],[X Path]]","v":"/catalogue_item_notification:catalogueItemNotificationMessage/transaction/documentCommand/catalogue_item_notification:catalogueItemNotification/catalogueItem/tradeItem/tradeItemInformation/extension/*[namespace-uri()='urn:gs1:gdsn:lighting_device:xsd:3' and local-name()='lightingDeviceModule']/lightBulbInformation/colourTemperature"},{"$f":"Tabel3[[#This Row],[GDM laag]]","v":"Local"},{"$f":"VLOOKUP(Tabel3[[#This Row],[GAE ID]],'BES EN'!A:AJ,27,FALSE)","v":0},null,{"$f":"Tabel3[[#This Row],[Dairy, Refrigerated & Frozen]]","v":"-"},{"$f":"Tabel3[[#This Row],[Deli & Prepared]]","v":"-"},{"$f":"Tabel3[[#This Row],[Fresh Meat]]","v":"-"},{"$f":"Tabel3[[#This Row],[Fresh Fish]]","v":"-"},{"$f":"Tabel3[[#This Row],[Fresh Fruits & Vegetables]]","v":"-"},{"$f":"Tabel3[[#This Row],[Grocery]]","v":"-"},{"$f":"Tabel3[[#This Row],[Cleaners]]","v":"-"},{"$f":"Tabel3[[#This Row],[Disposables]]","v":"-"},{"$f":"Tabel3[[#This Row],[Beauty & Personal Care]]","v":"-"},{"$f":"Tabel3[[#This Row],[Petfood]]","v":"-"},{"$f":"Tabel3[[#This Row],[Alcoholic Beverages]]","v":"-"},{"$f":"Tabel3[[#This Row],[Tobacco]]","v":"-"},{"$f":"Tabel3[[#This Row],[Self-care medicines]]","v":"-"},{"$f":"Tabel3[[#This Row],[Special Food]]","v":"-"},{"$f":"Tabel3[[#This Row],[Food Supplements]]","v":"-"},{"$f":"Tabel3[[#This Row],[Healthcare Products]]","v":"-"},{"$f":"Tabel3[[#This Row],[Medical Devices]]","v":"-"},{"$f":"Tabel3[[#This Row],[Batteries]]","v":"-"},{"$f":"Tabel3[[#This Row],[Light Bulbs]]","v":"S"},{"$f":"Tabel3[[#This Row],[Other Categories]]","v":"-"}]
[{"$f":"VLOOKUP(Tabel3[[#This Row],[GAE ID]],'BES EN'!A:AJ,36,FALSE)","v":"Colour temperature UOM"},{"$f":"Tabel3[[#This Row],[GDSN-naam]]","v":"colourTemperature/@temperatureMeasurementUnitCode"},{"$f":"Tabel3[[#This Row],[GDM Verplicht / Conditioneel]]","v":"Optional"},{"$f":"Tabel3[[#This Row],[DMS controle]]","v":0},{"$f":"Tabel3[[#This Row],[BMS ID]]","v":5931},{"$f":"Tabel3[[#This Row],[Formaat]]","v":"Defined values"},{"$f":"Tabel3[[#This Row],[X Path]]","v":"/catalogue_item_notification:catalogueItemNotificationMessage/transaction/documentCommand/catalogue_item_notification:catalogueItemNotification/catalogueItem/tradeItem/tradeItemInformation/extension/*[namespace-uri()='urn:gs1:gdsn:lighting_device:xsd:3' and local-name()='lightingDeviceModule']/lightBulbInformation/colourTemperature/@temperatureMeasurementUnitCode"},{"$f":"Tabel3[[#This Row],[GDM laag]]","v":"Local"},{"$f":"VLOOKUP(Tabel3[[#This Row],[GAE ID]],'BES EN'!A:AJ,27,FALSE)","v":"Mandatory if 'Colour temperature' is populated for a consumer unit"},null,{"$f":"Tabel3[[#This Row],[Dairy, Refrigerated & Frozen]]","v":"-"},{"$f":"Tabel3[[#This Row],[Deli & Prepared]]","v":"-"},{"$f":"Tabel3[[#This Row],[Fresh Meat]]","v":"-"},{"$f":"Tabel3[[#This Row],[Fresh Fish]]","v":"-"},{"$f":"Tabel3[[#This Row],[Fresh Fruits & Vegetables]]","v":"-"},{"$f":"Tabel3[[#This Row],[Grocery]]","v":"-"},{"$f":"Tabel3[[#This Row],[Cleaners]]","v":"-"},{"$f":"Tabel3[[#This Row],[Disposables]]","v":"-"},{"$f":"Tabel3[[#This Row],[Beauty & Personal Care]]","v":"-"},{"$f":"Tabel3[[#This Row],[Petfood]]","v":"-"},{"$f":"Tabel3[[#This Row],[Alcoholic Beverages]]","v":"-"},{"$f":"Tabel3[[#This Row],[Tobacco]]","v":"-"},{"$f":"Tabel3[[#This Row],[Self-care medicines]]","v":"-"},{"$f":"Tabel3[[#This Row],[Special Food]]","v":"-"},{"$f":"Tabel3[[#This Row],[Food Supplements]]","v":"-"},{"$f":"Tabel3[[#This Row],[Healthcare Products]]","v":"-"},{"$f":"Tabel3[[#This Row],[Medical Devices]]","v":"-"},{"$f":"Tabel3[[#This Row],[Batteries]]","v":"-"},{"$f":"Tabel3[[#This Row],[Light Bulbs]]","v":"S"},{"$f":"Tabel3[[#This Row],[Other Categories]]","v":"-"}]
[{"$f":"VLOOKUP(Tabel3[[#This Row],[GAE ID]],'BES EN'!A:AJ,36,FALSE)","v":"Minimum colour temperature"},{"$f":"Tabel3[[#This Row],[GDSN-naam]]","v":"minimumColourTemperature"},{"$f":"Tabel3[[#This Row],[GDM Verplicht / Conditioneel]]","v":"Optional"},{"$f":"Tabel3[[#This Row],[DMS controle]]","v":0},{"$f":"Tabel3[[#This Row],[BMS ID]]","v":6335},{"$f":"Tabel3[[#This Row],[Formaat]]","v":"n.. 15"},{"$f":"Tabel3[[#This Row],[X Path]]","v":"/catalogue_item_notification:catalogueItemNotificationMessage/transaction/documentCommand/catalogue_item_notification:catalogueItemNotification/catalogueItem/tradeItem/tradeItemInformation/extension/*[namespace-uri()='urn:gs1:gdsn:lighting_device:xsd:3' and local-name()='lightingDeviceModule']/lightBulbInformation/minimumColourTemperature"},{"$f":"Tabel3[[#This Row],[GDM laag]]","v":"Local"},{"$f":"VLOOKUP(Tabel3[[#This Row],[GAE ID]],'BES EN'!A:AJ,27,FALSE)","v":0},null,{"$f":"Tabel3[[#This Row],[Dairy, Refrigerated & Frozen]]","v":"-"},{"$f":"Tabel3[[#This Row],[Deli & Prepared]]","v":"-"},{"$f":"Tabel3[[#This Row],[Fresh Meat]]","v":"-"},{"$f":"Tabel3[[#This Row],[Fresh Fish]]","v":"-"},{"$f":"Tabel3[[#This Row],[Fresh Fruits & Vegetables]]","v":"-"},{"$f":"Tabel3[[#This Row],[Grocery]]","v":"-"},{"$f":"Tabel3[[#This Row],[Cleaners]]","v":"-"},{"$f":"Tabel3[[#This Row],[Disposables]]","v":"-"},{"$f":"Tabel3[[#This Row],[Beauty & Personal Care]]","v":"-"},{"$f":"Tabel3[[#This Row],[Petfood]]","v":"-"},{"$f":"Tabel3[[#This Row],[Alcoholic Beverages]]","v":"-"},{"$f":"Tabel3[[#This Row],[Tobacco]]","v":"-"},{"$f":"Tabel3[[#This Row],[Self-care medicines]]","v":"-"},{"$f":"Tabel3[[#This Row],[Special Food]]","v":"-"},{"$f":"Tabel3[[#This Row],[Food Supplements]]","v":"-"},{"$f":"Tabel3[[#This Row],[Healthcare Products]]","v":"-"},{"$f":"Tabel3[[#This Row],[Medical Devices]]","v":"-"},{"$f":"Tabel3[[#This Row],[Batteries]]","v":"-"},{"$f":"Tabel3[[#This Row],[Light Bulbs]]","v":"S"},{"$f":"Tabel3[[#This Row],[Other Categories]]","v":"-"}]
[{"$f":"VLOOKUP(Tabel3[[#This Row],[GAE ID]],'BES EN'!A:AJ,36,FALSE)","v":"Minimum colour temperature UOM"},{"$f":"Tabel3[[#This Row],[GDSN-naam]]","v":"minimumColourTemperature/@temperatureMeasurementUnitCode"},{"$f":"Tabel3[[#This Row],[GDM Verplicht / Conditioneel]]","v":"Optional"},{"$f":"Tabel3[[#This Row],[DMS controle]]","v":0},{"$f":"Tabel3[[#This Row],[BMS ID]]","v":6336},{"$f":"Tabel3[[#This Row],[Formaat]]","v":"Defined values"},{"$f":"Tabel3[[#This Row],[X Path]]","v":"/catalogue_item_notification:catalogueItemNotificationMessage/transaction/documentCommand/catalogue_item_notification:catalogueItemNotification/catalogueItem/tradeItem/tradeItemInformation/extension/*[namespace-uri()='urn:gs1:gdsn:lighting_device:xsd:3' and local-name()='lightingDeviceModule']/lightBulbInformation/minimumColourTemperature/@temperatureMeasurementUnitCode"},{"$f":"Tabel3[[#This Row],[GDM laag]]","v":"Local"},{"$f":"VLOOKUP(Tabel3[[#This Row],[GAE ID]],'BES EN'!A:AJ,27,FALSE)","v":"Mandatory if 'Minimum colour temperature' is populated"},null,{"$f":"Tabel3[[#This Row],[Dairy, Refrigerated & Frozen]]","v":"-"},{"$f":"Tabel3[[#This Row],[Deli & Prepared]]","v":"-"},{"$f":"Tabel3[[#This Row],[Fresh Meat]]","v":"-"},{"$f":"Tabel3[[#This Row],[Fresh Fish]]","v":"-"},{"$f":"Tabel3[[#This Row],[Fresh Fruits & Vegetables]]","v":"-"},{"$f":"Tabel3[[#This Row],[Grocery]]","v":"-"},{"$f":"Tabel3[[#This Row],[Cleaners]]","v":"-"},{"$f":"Tabel3[[#This Row],[Disposables]]","v":"-"},{"$f":"Tabel3[[#This Row],[Beauty & Personal Care]]","v":"-"},{"$f":"Tabel3[[#This Row],[Petfood]]","v":"-"},{"$f":"Tabel3[[#This Row],[Alcoholic Beverages]]","v":"-"},{"$f":"Tabel3[[#This Row],[Tobacco]]","v":"-"},{"$f":"Tabel3[[#This Row],[Self-care medicines]]","v":"-"},{"$f":"Tabel3[[#This Row],[Special Food]]","v":"-"},{"$f":"Tabel3[[#This Row],[Food Supplements]]","v":"-"},{"$f":"Tabel3[[#This Row],[Healthcare Products]]","v":"-"},{"$f":"Tabel3[[#This Row],[Medical Devices]]","v":"-"},{"$f":"Tabel3[[#This Row],[Batteries]]","v":"-"},{"$f":"Tabel3[[#This Row],[Light Bulbs]]","v":"S"},{"$f":"Tabel3[[#This Row],[Other Categories]]","v":"-"}]
[{"$f":"VLOOKUP(Tabel3[[#This Row],[GAE ID]],'BES EN'!A:AJ,36,FALSE)","v":"Maximum colour temperature"},{"$f":"Tabel3[[#This Row],[GDSN-naam]]","v":"maximumColourTemperature"},{"$f":"Tabel3[[#This Row],[GDM Verplicht / Conditioneel]]","v":"Optional"},{"$f":"Tabel3[[#This Row],[DMS controle]]","v":0},{"$f":"Tabel3[[#This Row],[BMS ID]]","v":6337},{"$f":"Tabel3[[#This Row],[Formaat]]","v":"n.. 15"},{"$f":"Tabel3[[#This Row],[X Path]]","v":"/catalogue_item_notification:catalogueItemNotificationMessage/transaction/documentCommand/catalogue_item_notification:catalogueItemNotification/catalogueItem/tradeItem/tradeItemInformation/extension/*[namespace-uri()='urn:gs1:gdsn:lighting_device:xsd:3' and local-name()='lightingDeviceModule']/lightBulbInformation/maximumColourTemperature"},{"$f":"Tabel3[[#This Row],[GDM laag]]","v":"Local"},{"$f":"VLOOKUP(Tabel3[[#This Row],[GAE ID]],'BES EN'!A:AJ,27,FALSE)","v":0},null,{"$f":"Tabel3[[#This Row],[Dairy, Refrigerated & Frozen]]","v":"-"},{"$f":"Tabel3[[#This Row],[Deli & Prepared]]","v":"-"},{"$f":"Tabel3[[#This Row],[Fresh Meat]]","v":"-"},{"$f":"Tabel3[[#This Row],[Fresh Fish]]","v":"-"},{"$f":"Tabel3[[#This Row],[Fresh Fruits & Vegetables]]","v":"-"},{"$f":"Tabel3[[#This Row],[Grocery]]","v":"-"},{"$f":"Tabel3[[#This Row],[Cleaners]]","v":"-"},{"$f":"Tabel3[[#This Row],[Disposables]]","v":"-"},{"$f":"Tabel3[[#This Row],[Beauty & Personal Care]]","v":"-"},{"$f":"Tabel3[[#This Row],[Petfood]]","v":"-"},{"$f":"Tabel3[[#This Row],[Alcoholic Beverages]]","v":"-"},{"$f":"Tabel3[[#This Row],[Tobacco]]","v":"-"},{"$f":"Tabel3[[#This Row],[Self-care medicines]]","v":"-"},{"$f":"Tabel3[[#This Row],[Special Food]]","v":"-"},{"$f":"Tabel3[[#This Row],[Food Supplements]]","v":"-"},{"$f":"Tabel3[[#This Row],[Healthcare Products]]","v":"-"},{"$f":"Tabel3[[#This Row],[Medical Devices]]","v":"-"},{"$f":"Tabel3[[#This Row],[Batteries]]","v":"-"},{"$f":"Tabel3[[#This Row],[Light Bulbs]]","v":"S"},{"$f":"Tabel3[[#This Row],[Other Categories]]","v":"-"}]
[{"$f":"VLOOKUP(Tabel3[[#This Row],[GAE ID]],'BES EN'!A:AJ,36,FALSE)","v":"Maximum colour temperature UOM"},{"$f":"Tabel3[[#This Row],[GDSN-naam]]","v":"maximumColourTemperature/@temperatureMeasurementUnitCode"},{"$f":"Tabel3[[#This Row],[GDM Verplicht / Conditioneel]]","v":"Optional"},{"$f":"Tabel3[[#This Row],[DMS controle]]","v":0},{"$f":"Tabel3[[#This Row],[BMS ID]]","v":6338},{"$f":"Tabel3[[#This Row],[Formaat]]","v":"Defined values"},{"$f":"Tabel3[[#This Row],[X Path]]","v":"/catalogue_item_notification:catalogueItemNotificationMessage/transaction/documentCommand/catalogue_item_notification:catalogueItemNotification/catalogueItem/tradeItem/tradeItemInformation/extension/*[namespace-uri()='urn:gs1:gdsn:lighting_device:xsd:3' and local-name()='lightingDeviceModule']/lightBulbInformation/maximumColourTemperature/@temperatureMeasurementUnitCode"},{"$f":"Tabel3[[#This Row],[GDM laag]]","v":"Local"},{"$f":"VLOOKUP(Tabel3[[#This Row],[GAE ID]],'BES EN'!A:AJ,27,FALSE)","v":"Mandatory if 'Maximum colour temperature' is populated"},null,{"$f":"Tabel3[[#This Row],[Dairy, Refrigerated & Frozen]]","v":"-"},{"$f":"Tabel3[[#This Row],[Deli & Prepared]]","v":"-"},{"$f":"Tabel3[[#This Row],[Fresh Meat]]","v":"-"},{"$f":"Tabel3[[#This Row],[Fresh Fish]]","v":"-"},{"$f":"Tabel3[[#This Row],[Fresh Fruits & Vegetables]]","v":"-"},{"$f":"Tabel3[[#This Row],[Grocery]]","v":"-"},{"$f":"Tabel3[[#This Row],[Cleaners]]","v":"-"},{"$f":"Tabel3[[#This Row],[Disposables]]","v":"-"},{"$f":"Tabel3[[#This Row],[Beauty & Personal Care]]","v":"-"},{"$f":"Tabel3[[#This Row],[Petfood]]","v":"-"},{"$f":"Tabel3[[#This Row],[Alcoholic Beverages]]","v":"-"},{"$f":"Tabel3[[#This Row],[Tobacco]]","v":"-"},{"$f":"Tabel3[[#This Row],[Self-care medicines]]","v":"-"},{"$f":"Tabel3[[#This Row],[Special Food]]","v":"-"},{"$f":"Tabel3[[#This Row],[Food Supplements]]","v":"-"},{"$f":"Tabel3[[#This Row],[Healthcare Products]]","v":"-"},{"$f":"Tabel3[[#This Row],[Medical Devices]]","v":"-"},{"$f":"Tabel3[[#This Row],[Batteries]]","v":"-"},{"$f":"Tabel3[[#This Row],[Light Bulbs]]","v":"S"},{"$f":"Tabel3[[#This Row],[Other Categories]]","v":"-"}]
[{"$f":"VLOOKUP(Tabel3[[#This Row],[GAE ID]],'BES EN'!A:AJ,36,FALSE)","v":"Light bulb diameter value"},{"$f":"Tabel3[[#This Row],[GDSN-naam]]","v":"lightBulbDiameterValue"},{"$f":"Tabel3[[#This Row],[GDM Verplicht / Conditioneel]]","v":"Optional"},{"$f":"Tabel3[[#This Row],[DMS controle]]","v":0},{"$f":"Tabel3[[#This Row],[BMS ID]]","v":5464},{"$f":"Tabel3[[#This Row],[Formaat]]","v":"n..15"},{"$f":"Tabel3[[#This Row],[X Path]]","v":"/catalogue_item_notification:catalogueItemNotificationMessage/transaction/documentCommand/catalogue_item_notification:catalogueItemNotification/catalogueItem/tradeItem/tradeItemInformation/extension/*[namespace-uri()='urn:gs1:gdsn:lighting_device:xsd:3' and local-name()='lightingDeviceModule']/lightBulbInformation/lightBulbDiameterValue"},{"$f":"Tabel3[[#This Row],[GDM laag]]","v":"Local"},{"$f":"VLOOKUP(Tabel3[[#This Row],[GAE ID]],'BES EN'!A:AJ,27,FALSE)","v":0},null,{"$f":"Tabel3[[#This Row],[Dairy, Refrigerated & Frozen]]","v":"-"},{"$f":"Tabel3[[#This Row],[Deli & Prepared]]","v":"-"},{"$f":"Tabel3[[#This Row],[Fresh Meat]]","v":"-"},{"$f":"Tabel3[[#This Row],[Fresh Fish]]","v":"-"},{"$f":"Tabel3[[#This Row],[Fresh Fruits & Vegetables]]","v":"-"},{"$f":"Tabel3[[#This Row],[Grocery]]","v":"-"},{"$f":"Tabel3[[#This Row],[Cleaners]]","v":"-"},{"$f":"Tabel3[[#This Row],[Disposables]]","v":"-"},{"$f":"Tabel3[[#This Row],[Beauty & Personal Care]]","v":"-"},{"$f":"Tabel3[[#This Row],[Petfood]]","v":"-"},{"$f":"Tabel3[[#This Row],[Alcoholic Beverages]]","v":"-"},{"$f":"Tabel3[[#This Row],[Tobacco]]","v":"-"},{"$f":"Tabel3[[#This Row],[Self-care medicines]]","v":"-"},{"$f":"Tabel3[[#This Row],[Special Food]]","v":"-"},{"$f":"Tabel3[[#This Row],[Food Supplements]]","v":"-"},{"$f":"Tabel3[[#This Row],[Healthcare Products]]","v":"-"},{"$f":"Tabel3[[#This Row],[Medical Devices]]","v":"-"},{"$f":"Tabel3[[#This Row],[Batteries]]","v":"-"},{"$f":"Tabel3[[#This Row],[Light Bulbs]]","v":"S"},{"$f":"Tabel3[[#This Row],[Other Categories]]","v":"-"}]
[{"$f":"VLOOKUP(Tabel3[[#This Row],[GAE ID]],'BES EN'!A:AJ,36,FALSE)","v":"Light bulb diameter UOM"},{"$f":"Tabel3[[#This Row],[GDSN-naam]]","v":"lightBulbDiameterValue/@measurementUnitCode"},{"$f":"Tabel3[[#This Row],[GDM Verplicht / Conditioneel]]","v":"Optional"},{"$f":"Tabel3[[#This Row],[DMS controle]]","v":0},{"$f":"Tabel3[[#This Row],[BMS ID]]","v":5465},{"$f":"Tabel3[[#This Row],[Formaat]]","v":"Defined values"},{"$f":"Tabel3[[#This Row],[X Path]]","v":"/catalogue_item_notification:catalogueItemNotificationMessage/transaction/documentCommand/catalogue_item_notification:catalogueItemNotification/catalogueItem/tradeItem/tradeItemInformation/extension/*[namespace-uri()='urn:gs1:gdsn:lighting_device:xsd:3' and local-name()='lightingDeviceModule']/lightBulbInformation/lightBulbDiameterValue/@measurementUnitCode"},{"$f":"Tabel3[[#This Row],[GDM laag]]","v":"Local"},{"$f":"VLOOKUP(Tabel3[[#This Row],[GAE ID]],'BES EN'!A:AJ,27,FALSE)","v":"Mandatory if 'Light bulb diameter value' is populated for a consumer unit."},null,{"$f":"Tabel3[[#This Row],[Dairy, Refrigerated & Frozen]]","v":"-"},{"$f":"Tabel3[[#This Row],[Deli & Prepared]]","v":"-"},{"$f":"Tabel3[[#This Row],[Fresh Meat]]","v":"-"},{"$f":"Tabel3[[#This Row],[Fresh Fish]]","v":"-"},{"$f":"Tabel3[[#This Row],[Fresh Fruits & Vegetables]]","v":"-"},{"$f":"Tabel3[[#This Row],[Grocery]]","v":"-"},{"$f":"Tabel3[[#This Row],[Cleaners]]","v":"-"},{"$f":"Tabel3[[#This Row],[Disposables]]","v":"-"},{"$f":"Tabel3[[#This Row],[Beauty & Personal Care]]","v":"-"},{"$f":"Tabel3[[#This Row],[Petfood]]","v":"-"},{"$f":"Tabel3[[#This Row],[Alcoholic Beverages]]","v":"-"},{"$f":"Tabel3[[#This Row],[Tobacco]]","v":"-"},{"$f":"Tabel3[[#This Row],[Self-care medicines]]","v":"-"},{"$f":"Tabel3[[#This Row],[Special Food]]","v":"-"},{"$f":"Tabel3[[#This Row],[Food Supplements]]","v":"-"},{"$f":"Tabel3[[#This Row],[Healthcare Products]]","v":"-"},{"$f":"Tabel3[[#This Row],[Medical Devices]]","v":"-"},{"$f":"Tabel3[[#This Row],[Batteries]]","v":"-"},{"$f":"Tabel3[[#This Row],[Light Bulbs]]","v":"S"},{"$f":"Tabel3[[#This Row],[Other Categories]]","v":"-"}]
[{"$f":"VLOOKUP(Tabel3[[#This Row],[GAE ID]],'BES EN'!A:AJ,36,FALSE)","v":"Size dimension"},{"$f":"Tabel3[[#This Row],[GDSN-naam]]","v":"sizeDimension"},{"$f":"Tabel3[[#This Row],[GDM Verplicht / Conditioneel]]","v":"Optional"},{"$f":"Tabel3[[#This Row],[DMS controle]]","v":0},{"$f":"Tabel3[[#This Row],[BMS ID]]","v":3784},{"$f":"Tabel3[[#This Row],[Formaat]]","v":"n..15"},{"$f":"Tabel3[[#This Row],[X Path]]","v":"/catalogue_item_notification:catalogueItemNotificationMessage/transaction/documentCommand/catalogue_item_notification:catalogueItemNotification/catalogueItem/tradeItem/tradeItemInformation/extension/*[namespace-uri()='urn:gs1:gdsn:trade_item_measurements:xsd:3' and local-name()='tradeItemMeasurementsModule']/tradeItemMeasurements/tradeItemNonPackagedSize/sizeDimension"},{"$f":"Tabel3[[#This Row],[GDM laag]]","v":"Local"},{"$f":"VLOOKUP(Tabel3[[#This Row],[GAE ID]],'BES EN'!A:AJ,27,FALSE)","v":0},null,{"$f":"Tabel3[[#This Row],[Dairy, Refrigerated & Frozen]]","v":"-"},{"$f":"Tabel3[[#This Row],[Deli & Prepared]]","v":"-"},{"$f":"Tabel3[[#This Row],[Fresh Meat]]","v":"-"},{"$f":"Tabel3[[#This Row],[Fresh Fish]]","v":"-"},{"$f":"Tabel3[[#This Row],[Fresh Fruits & Vegetables]]","v":"-"},{"$f":"Tabel3[[#This Row],[Grocery]]","v":"-"},{"$f":"Tabel3[[#This Row],[Cleaners]]","v":"-"},{"$f":"Tabel3[[#This Row],[Disposables]]","v":"-"},{"$f":"Tabel3[[#This Row],[Beauty & Personal Care]]","v":"-"},{"$f":"Tabel3[[#This Row],[Petfood]]","v":"-"},{"$f":"Tabel3[[#This Row],[Alcoholic Beverages]]","v":"-"},{"$f":"Tabel3[[#This Row],[Tobacco]]","v":"-"},{"$f":"Tabel3[[#This Row],[Self-care medicines]]","v":"-"},{"$f":"Tabel3[[#This Row],[Special Food]]","v":"-"},{"$f":"Tabel3[[#This Row],[Food Supplements]]","v":"-"},{"$f":"Tabel3[[#This Row],[Healthcare Products]]","v":"-"},{"$f":"Tabel3[[#This Row],[Medical Devices]]","v":"-"},{"$f":"Tabel3[[#This Row],[Batteries]]","v":"-"},{"$f":"Tabel3[[#This Row],[Light Bulbs]]","v":"S"},{"$f":"Tabel3[[#This Row],[Other Categories]]","v":"-"}]
[{"$f":"VLOOKUP(Tabel3[[#This Row],[GAE ID]],'BES EN'!A:AJ,36,FALSE)","v":"Size dimension measurement unit code"},{"$f":"Tabel3[[#This Row],[GDSN-naam]]","v":"sizeDimension/@measurementUnitCode"},{"$f":"Tabel3[[#This Row],[GDM Verplicht / Conditioneel]]","v":"Optional"},{"$f":"Tabel3[[#This Row],[DMS controle]]","v":0},{"$f":"Tabel3[[#This Row],[BMS ID]]","v":3785},{"$f":"Tabel3[[#This Row],[Formaat]]","v":"Defined values"},{"$f":"Tabel3[[#This Row],[X Path]]","v":"/catalogue_item_notification:catalogueItemNotificationMessage/transaction/documentCommand/catalogue_item_notification:catalogueItemNotification/catalogueItem/tradeItem/tradeItemInformation/extension/*[namespace-uri()='urn:gs1:gdsn:trade_item_measurements:xsd:3' and local-name()='tradeItemMeasurementsModule']/tradeItemMeasurements/tradeItemNonPackagedSize/sizeDimension/@measurementUnitCode"},{"$f":"Tabel3[[#This Row],[GDM laag]]","v":"Local"},{"$f":"VLOOKUP(Tabel3[[#This Row],[GAE ID]],'BES EN'!A:AJ,27,FALSE)","v":"Mandatory if 'Size dimension' is populated for a consumer unit."},null,{"$f":"Tabel3[[#This Row],[Dairy, Refrigerated & Frozen]]","v":"-"},{"$f":"Tabel3[[#This Row],[Deli & Prepared]]","v":"-"},{"$f":"Tabel3[[#This Row],[Fresh Meat]]","v":"-"},{"$f":"Tabel3[[#This Row],[Fresh Fish]]","v":"-"},{"$f":"Tabel3[[#This Row],[Fresh Fruits & Vegetables]]","v":"-"},{"$f":"Tabel3[[#This Row],[Grocery]]","v":"-"},{"$f":"Tabel3[[#This Row],[Cleaners]]","v":"-"},{"$f":"Tabel3[[#This Row],[Disposables]]","v":"-"},{"$f":"Tabel3[[#This Row],[Beauty & Personal Care]]","v":"-"},{"$f":"Tabel3[[#This Row],[Petfood]]","v":"-"},{"$f":"Tabel3[[#This Row],[Alcoholic Beverages]]","v":"-"},{"$f":"Tabel3[[#This Row],[Tobacco]]","v":"-"},{"$f":"Tabel3[[#This Row],[Self-care medicines]]","v":"-"},{"$f":"Tabel3[[#This Row],[Special Food]]","v":"-"},{"$f":"Tabel3[[#This Row],[Food Supplements]]","v":"-"},{"$f":"Tabel3[[#This Row],[Healthcare Products]]","v":"-"},{"$f":"Tabel3[[#This Row],[Medical Devices]]","v":"-"},{"$f":"Tabel3[[#This Row],[Batteries]]","v":"-"},{"$f":"Tabel3[[#This Row],[Light Bulbs]]","v":"S"},{"$f":"Tabel3[[#This Row],[Other Categories]]","v":"-"}]
[{"$f":"VLOOKUP(Tabel3[[#This Row],[GAE ID]],'BES EN'!A:AJ,36,FALSE)","v":"Size type code"},{"$f":"Tabel3[[#This Row],[GDSN-naam]]","v":"sizeTypeCode"},{"$f":"Tabel3[[#This Row],[GDM Verplicht / Conditioneel]]","v":"Optional"},{"$f":"Tabel3[[#This Row],[DMS controle]]","v":0},{"$f":"Tabel3[[#This Row],[BMS ID]]","v":3787},{"$f":"Tabel3[[#This Row],[Formaat]]","v":"Defined values"},{"$f":"Tabel3[[#This Row],[X Path]]","v":"/catalogue_item_notification:catalogueItemNotificationMessage/transaction/documentCommand/catalogue_item_notification:catalogueItemNotification/catalogueItem/tradeItem/tradeItemInformation/extension/*[namespace-uri()='urn:gs1:gdsn:trade_item_measurements:xsd:3' and local-name()='tradeItemMeasurementsModule']/tradeItemMeasurements/tradeItemNonPackagedSize/sizeTypeCode"},{"$f":"Tabel3[[#This Row],[GDM laag]]","v":"Local"},{"$f":"VLOOKUP(Tabel3[[#This Row],[GAE ID]],'BES EN'!A:AJ,27,FALSE)","v":"Mandatory if the field 'Size dimension' is populated for a consumer unit."},null,{"$f":"Tabel3[[#This Row],[Dairy, Refrigerated & Frozen]]","v":"-"},{"$f":"Tabel3[[#This Row],[Deli & Prepared]]","v":"-"},{"$f":"Tabel3[[#This Row],[Fresh Meat]]","v":"-"},{"$f":"Tabel3[[#This Row],[Fresh Fish]]","v":"-"},{"$f":"Tabel3[[#This Row],[Fresh Fruits & Vegetables]]","v":"-"},{"$f":"Tabel3[[#This Row],[Grocery]]","v":"-"},{"$f":"Tabel3[[#This Row],[Cleaners]]","v":"-"},{"$f":"Tabel3[[#This Row],[Disposables]]","v":"-"},{"$f":"Tabel3[[#This Row],[Beauty & Personal Care]]","v":"-"},{"$f":"Tabel3[[#This Row],[Petfood]]","v":"-"},{"$f":"Tabel3[[#This Row],[Alcoholic Beverages]]","v":"-"},{"$f":"Tabel3[[#This Row],[Tobacco]]","v":"-"},{"$f":"Tabel3[[#This Row],[Self-care medicines]]","v":"-"},{"$f":"Tabel3[[#This Row],[Special Food]]","v":"-"},{"$f":"Tabel3[[#This Row],[Food Supplements]]","v":"-"},{"$f":"Tabel3[[#This Row],[Healthcare Products]]","v":"-"},{"$f":"Tabel3[[#This Row],[Medical Devices]]","v":"-"},{"$f":"Tabel3[[#This Row],[Batteries]]","v":"-"},{"$f":"Tabel3[[#This Row],[Light Bulbs]]","v":"S"},{"$f":"Tabel3[[#This Row],[Other Categories]]","v":"-"}]
[{"$f":"VLOOKUP(Tabel3[[#This Row],[GAE ID]],'BES EN'!A:AJ,36,FALSE)","v":"Light bulb lamp type code"},{"$f":"Tabel3[[#This Row],[GDSN-naam]]","v":"lightBulbLampTypeCode"},{"$f":"Tabel3[[#This Row],[GDM Verplicht / Conditioneel]]","v":"Optional"},{"$f":"Tabel3[[#This Row],[DMS controle]]","v":0},{"$f":"Tabel3[[#This Row],[BMS ID]]","v":1486},{"$f":"Tabel3[[#This Row],[Formaat]]","v":"Defined values"},{"$f":"Tabel3[[#This Row],[X Path]]","v":"/catalogue_item_notification:catalogueItemNotificationMessage/transaction/documentCommand/catalogue_item_notification:catalogueItemNotification/catalogueItem/tradeItem/tradeItemInformation/extension/*[namespace-uri()='urn:gs1:gdsn:lighting_device:xsd:3' and local-name()='lightingDeviceModule']/lightBulbInformation/lightBulbLampTypeCode"},{"$f":"Tabel3[[#This Row],[GDM laag]]","v":"Local"},{"$f":"VLOOKUP(Tabel3[[#This Row],[GAE ID]],'BES EN'!A:AJ,27,FALSE)","v":0},null,{"$f":"Tabel3[[#This Row],[Dairy, Refrigerated & Frozen]]","v":"-"},{"$f":"Tabel3[[#This Row],[Deli & Prepared]]","v":"-"},{"$f":"Tabel3[[#This Row],[Fresh Meat]]","v":"-"},{"$f":"Tabel3[[#This Row],[Fresh Fish]]","v":"-"},{"$f":"Tabel3[[#This Row],[Fresh Fruits & Vegetables]]","v":"-"},{"$f":"Tabel3[[#This Row],[Grocery]]","v":"-"},{"$f":"Tabel3[[#This Row],[Cleaners]]","v":"-"},{"$f":"Tabel3[[#This Row],[Disposables]]","v":"-"},{"$f":"Tabel3[[#This Row],[Beauty & Personal Care]]","v":"-"},{"$f":"Tabel3[[#This Row],[Petfood]]","v":"-"},{"$f":"Tabel3[[#This Row],[Alcoholic Beverages]]","v":"-"},{"$f":"Tabel3[[#This Row],[Tobacco]]","v":"-"},{"$f":"Tabel3[[#This Row],[Self-care medicines]]","v":"-"},{"$f":"Tabel3[[#This Row],[Special Food]]","v":"-"},{"$f":"Tabel3[[#This Row],[Food Supplements]]","v":"-"},{"$f":"Tabel3[[#This Row],[Healthcare Products]]","v":"-"},{"$f":"Tabel3[[#This Row],[Medical Devices]]","v":"-"},{"$f":"Tabel3[[#This Row],[Batteries]]","v":"-"},{"$f":"Tabel3[[#This Row],[Light Bulbs]]","v":"S"},{"$f":"Tabel3[[#This Row],[Other Categories]]","v":"-"}]
[{"$f":"VLOOKUP(Tabel3[[#This Row],[GAE ID]],'BES EN'!A:AJ,36,FALSE)","v":"Recommended usage location"},{"$f":"Tabel3[[#This Row],[GDSN-naam]]","v":"recommendedUsageLocation"},{"$f":"Tabel3[[#This Row],[GDM Verplicht / Conditioneel]]","v":"Optional"},{"$f":"Tabel3[[#This Row],[DMS controle]]","v":0},{"$f":"Tabel3[[#This Row],[BMS ID]]","v":793},{"$f":"Tabel3[[#This Row],[Formaat]]","v":"an..5000"},{"$f":"Tabel3[[#This Row],[X Path]]","v":"/catalogue_item_notification:catalogueItemNotificationMessage/transaction/documentCommand/catalogue_item_notification:catalogueItemNotification/catalogueItem/tradeItem/tradeItemInformation/extension/*[namespace-uri()='urn:gs1:gdsn:consumer_instructions:xsd:3' and local-name()='consumerInstructionsModule']/consumerInstructions/recommendedUsageLocation"},{"$f":"Tabel3[[#This Row],[GDM laag]]","v":"Local"},{"$f":"VLOOKUP(Tabel3[[#This Row],[GAE ID]],'BES EN'!A:AJ,27,FALSE)","v":0},null,{"$f":"Tabel3[[#This Row],[Dairy, Refrigerated & Frozen]]","v":"-"},{"$f":"Tabel3[[#This Row],[Deli & Prepared]]","v":"-"},{"$f":"Tabel3[[#This Row],[Fresh Meat]]","v":"-"},{"$f":"Tabel3[[#This Row],[Fresh Fish]]","v":"-"},{"$f":"Tabel3[[#This Row],[Fresh Fruits & Vegetables]]","v":"-"},{"$f":"Tabel3[[#This Row],[Grocery]]","v":"-"},{"$f":"Tabel3[[#This Row],[Cleaners]]","v":"-"},{"$f":"Tabel3[[#This Row],[Disposables]]","v":"-"},{"$f":"Tabel3[[#This Row],[Beauty & Personal Care]]","v":"-"},{"$f":"Tabel3[[#This Row],[Petfood]]","v":"-"},{"$f":"Tabel3[[#This Row],[Alcoholic Beverages]]","v":"-"},{"$f":"Tabel3[[#This Row],[Tobacco]]","v":"-"},{"$f":"Tabel3[[#This Row],[Self-care medicines]]","v":"-"},{"$f":"Tabel3[[#This Row],[Special Food]]","v":"-"},{"$f":"Tabel3[[#This Row],[Food Supplements]]","v":"-"},{"$f":"Tabel3[[#This Row],[Healthcare Products]]","v":"-"},{"$f":"Tabel3[[#This Row],[Medical Devices]]","v":"-"},{"$f":"Tabel3[[#This Row],[Batteries]]","v":"-"},{"$f":"Tabel3[[#This Row],[Light Bulbs]]","v":"S"},{"$f":"Tabel3[[#This Row],[Other Categories]]","v":"-"}]
[{"$f":"VLOOKUP(Tabel3[[#This Row],[GAE ID]],'BES EN'!A:AJ,36,FALSE)","v":"Recommended usage location language code"},{"$f":"Tabel3[[#This Row],[GDSN-naam]]","v":"recommendedUsageLocation/@languageCode"},{"$f":"Tabel3[[#This Row],[GDM Verplicht / Conditioneel]]","v":"Optional"},{"$f":"Tabel3[[#This Row],[DMS controle]]","v":0},{"$f":"Tabel3[[#This Row],[BMS ID]]","v":794},{"$f":"Tabel3[[#This Row],[Formaat]]","v":"Defined values"},{"$f":"Tabel3[[#This Row],[X Path]]","v":"/catalogue_item_notification:catalogueItemNotificationMessage/transaction/documentCommand/catalogue_item_notification:catalogueItemNotification/catalogueItem/tradeItem/tradeItemInformation/extension/*[namespace-uri()='urn:gs1:gdsn:consumer_instructions:xsd:3' and local-name()='consumerInstructionsModule']/consumerInstructions/recommendedUsageLocation/@languageCode"},{"$f":"Tabel3[[#This Row],[GDM laag]]","v":"Local"},{"$f":"VLOOKUP(Tabel3[[#This Row],[GAE ID]],'BES EN'!A:AJ,27,FALSE)","v":"Mandatory if 'Recommended usage location' is populated for a consumer unit."},null,{"$f":"Tabel3[[#This Row],[Dairy, Refrigerated & Frozen]]","v":"-"},{"$f":"Tabel3[[#This Row],[Deli & Prepared]]","v":"-"},{"$f":"Tabel3[[#This Row],[Fresh Meat]]","v":"-"},{"$f":"Tabel3[[#This Row],[Fresh Fish]]","v":"-"},{"$f":"Tabel3[[#This Row],[Fresh Fruits & Vegetables]]","v":"-"},{"$f":"Tabel3[[#This Row],[Grocery]]","v":"-"},{"$f":"Tabel3[[#This Row],[Cleaners]]","v":"-"},{"$f":"Tabel3[[#This Row],[Disposables]]","v":"-"},{"$f":"Tabel3[[#This Row],[Beauty & Personal Care]]","v":"-"},{"$f":"Tabel3[[#This Row],[Petfood]]","v":"-"},{"$f":"Tabel3[[#This Row],[Alcoholic Beverages]]","v":"-"},{"$f":"Tabel3[[#This Row],[Tobacco]]","v":"-"},{"$f":"Tabel3[[#This Row],[Self-care medicines]]","v":"-"},{"$f":"Tabel3[[#This Row],[Special Food]]","v":"-"},{"$f":"Tabel3[[#This Row],[Food Supplements]]","v":"-"},{"$f":"Tabel3[[#This Row],[Healthcare Products]]","v":"-"},{"$f":"Tabel3[[#This Row],[Medical Devices]]","v":"-"},{"$f":"Tabel3[[#This Row],[Batteries]]","v":"-"},{"$f":"Tabel3[[#This Row],[Light Bulbs]]","v":"S"},{"$f":"Tabel3[[#This Row],[Other Categories]]","v":"-"}]
[{"$f":"VLOOKUP(Tabel3[[#This Row],[GAE ID]],'BES EN'!A:AJ,36,FALSE)","v":"Is light bulb suitable for accent lighting"},{"$f":"Tabel3[[#This Row],[GDSN-naam]]","v":"isLightBulbSuitableForAccentLighting"},{"$f":"Tabel3[[#This Row],[GDM Verplicht / Conditioneel]]","v":"Optional"},{"$f":"Tabel3[[#This Row],[DMS controle]]","v":0},{"$f":"Tabel3[[#This Row],[BMS ID]]","v":6334},{"$f":"Tabel3[[#This Row],[Formaat]]","v":"Non-binary logic enumeration "},{"$f":"Tabel3[[#This Row],[X Path]]","v":"/catalogue_item_notification:catalogueItemNotificationMessage/transaction/documentCommand/catalogue_item_notification:catalogueItemNotification/catalogueItem/tradeItem/tradeItemInformation/extension/*[namespace-uri()='urn:gs1:gdsn:lighting_device:xsd:3' and local-name()='lightingDeviceModule']/lightBulbInformation/isLightBulbSuitableForAccentLighting"},{"$f":"Tabel3[[#This Row],[GDM laag]]","v":"Local"},{"$f":"VLOOKUP(Tabel3[[#This Row],[GAE ID]],'BES EN'!A:AJ,27,FALSE)","v":0},null,{"$f":"Tabel3[[#This Row],[Dairy, Refrigerated & Frozen]]","v":"-"},{"$f":"Tabel3[[#This Row],[Deli & Prepared]]","v":"-"},{"$f":"Tabel3[[#This Row],[Fresh Meat]]","v":"-"},{"$f":"Tabel3[[#This Row],[Fresh Fish]]","v":"-"},{"$f":"Tabel3[[#This Row],[Fresh Fruits & Vegetables]]","v":"-"},{"$f":"Tabel3[[#This Row],[Grocery]]","v":"-"},{"$f":"Tabel3[[#This Row],[Cleaners]]","v":"-"},{"$f":"Tabel3[[#This Row],[Disposables]]","v":"-"},{"$f":"Tabel3[[#This Row],[Beauty & Personal Care]]","v":"-"},{"$f":"Tabel3[[#This Row],[Petfood]]","v":"-"},{"$f":"Tabel3[[#This Row],[Alcoholic Beverages]]","v":"-"},{"$f":"Tabel3[[#This Row],[Tobacco]]","v":"-"},{"$f":"Tabel3[[#This Row],[Self-care medicines]]","v":"-"},{"$f":"Tabel3[[#This Row],[Special Food]]","v":"-"},{"$f":"Tabel3[[#This Row],[Food Supplements]]","v":"-"},{"$f":"Tabel3[[#This Row],[Healthcare Products]]","v":"-"},{"$f":"Tabel3[[#This Row],[Medical Devices]]","v":"-"},{"$f":"Tabel3[[#This Row],[Batteries]]","v":"-"},{"$f":"Tabel3[[#This Row],[Light Bulbs]]","v":"S"},{"$f":"Tabel3[[#This Row],[Other Categories]]","v":"-"}]
[{"$f":"VLOOKUP(Tabel3[[#This Row],[GAE ID]],'BES EN'!A:AJ,36,FALSE)","v":"Declared power"},{"$f":"Tabel3[[#This Row],[GDSN-naam]]","v":"declaredPower"},{"$f":"Tabel3[[#This Row],[GDM Verplicht / Conditioneel]]","v":"Optional"},{"$f":"Tabel3[[#This Row],[DMS controle]]","v":0},{"$f":"Tabel3[[#This Row],[BMS ID]]","v":6328},{"$f":"Tabel3[[#This Row],[Formaat]]","v":"n.. 15"},{"$f":"Tabel3[[#This Row],[X Path]]","v":"/catalogue_item_notification:catalogueItemNotificationMessage/transaction/documentCommand/catalogue_item_notification:catalogueItemNotification/catalogueItem/tradeItem/tradeItemInformation/extension/*[namespace-uri()='urn:gs1:gdsn:lighting_device:xsd:3' and local-name()='lightingDeviceModule']/lightBulbInformation/declaredPower"},{"$f":"Tabel3[[#This Row],[GDM laag]]","v":"Local"},{"$f":"VLOOKUP(Tabel3[[#This Row],[GAE ID]],'BES EN'!A:AJ,27,FALSE)","v":0},null,{"$f":"Tabel3[[#This Row],[Dairy, Refrigerated & Frozen]]","v":"-"},{"$f":"Tabel3[[#This Row],[Deli & Prepared]]","v":"-"},{"$f":"Tabel3[[#This Row],[Fresh Meat]]","v":"-"},{"$f":"Tabel3[[#This Row],[Fresh Fish]]","v":"-"},{"$f":"Tabel3[[#This Row],[Fresh Fruits & Vegetables]]","v":"-"},{"$f":"Tabel3[[#This Row],[Grocery]]","v":"-"},{"$f":"Tabel3[[#This Row],[Cleaners]]","v":"-"},{"$f":"Tabel3[[#This Row],[Disposables]]","v":"-"},{"$f":"Tabel3[[#This Row],[Beauty & Personal Care]]","v":"-"},{"$f":"Tabel3[[#This Row],[Petfood]]","v":"-"},{"$f":"Tabel3[[#This Row],[Alcoholic Beverages]]","v":"-"},{"$f":"Tabel3[[#This Row],[Tobacco]]","v":"-"},{"$f":"Tabel3[[#This Row],[Self-care medicines]]","v":"-"},{"$f":"Tabel3[[#This Row],[Special Food]]","v":"-"},{"$f":"Tabel3[[#This Row],[Food Supplements]]","v":"-"},{"$f":"Tabel3[[#This Row],[Healthcare Products]]","v":"-"},{"$f":"Tabel3[[#This Row],[Medical Devices]]","v":"-"},{"$f":"Tabel3[[#This Row],[Batteries]]","v":"-"},{"$f":"Tabel3[[#This Row],[Light Bulbs]]","v":"S"},{"$f":"Tabel3[[#This Row],[Other Categories]]","v":"-"}]
[{"$f":"VLOOKUP(Tabel3[[#This Row],[GAE ID]],'BES EN'!A:AJ,36,FALSE)","v":"Declared power UOM"},{"$f":"Tabel3[[#This Row],[GDSN-naam]]","v":"declaredPower/@measurementUnitCode"},{"$f":"Tabel3[[#This Row],[GDM Verplicht / Conditioneel]]","v":"Optional"},{"$f":"Tabel3[[#This Row],[DMS controle]]","v":0},{"$f":"Tabel3[[#This Row],[BMS ID]]","v":6329},{"$f":"Tabel3[[#This Row],[Formaat]]","v":"Defined values"},{"$f":"Tabel3[[#This Row],[X Path]]","v":"/catalogue_item_notification:catalogueItemNotificationMessage/transaction/documentCommand/catalogue_item_notification:catalogueItemNotification/catalogueItem/tradeItem/tradeItemInformation/extension/*[namespace-uri()='urn:gs1:gdsn:lighting_device:xsd:3' and local-name()='lightingDeviceModule']/lightBulbInformation/declaredPower/@measurementUnitCode"},{"$f":"Tabel3[[#This Row],[GDM laag]]","v":"Local"},{"$f":"VLOOKUP(Tabel3[[#This Row],[GAE ID]],'BES EN'!A:AJ,27,FALSE)","v":"Mandatory if 'Declared power' is populated"},null,{"$f":"Tabel3[[#This Row],[Dairy, Refrigerated & Frozen]]","v":"-"},{"$f":"Tabel3[[#This Row],[Deli & Prepared]]","v":"-"},{"$f":"Tabel3[[#This Row],[Fresh Meat]]","v":"-"},{"$f":"Tabel3[[#This Row],[Fresh Fish]]","v":"-"},{"$f":"Tabel3[[#This Row],[Fresh Fruits & Vegetables]]","v":"-"},{"$f":"Tabel3[[#This Row],[Grocery]]","v":"-"},{"$f":"Tabel3[[#This Row],[Cleaners]]","v":"-"},{"$f":"Tabel3[[#This Row],[Disposables]]","v":"-"},{"$f":"Tabel3[[#This Row],[Beauty & Personal Care]]","v":"-"},{"$f":"Tabel3[[#This Row],[Petfood]]","v":"-"},{"$f":"Tabel3[[#This Row],[Alcoholic Beverages]]","v":"-"},{"$f":"Tabel3[[#This Row],[Tobacco]]","v":"-"},{"$f":"Tabel3[[#This Row],[Self-care medicines]]","v":"-"},{"$f":"Tabel3[[#This Row],[Special Food]]","v":"-"},{"$f":"Tabel3[[#This Row],[Food Supplements]]","v":"-"},{"$f":"Tabel3[[#This Row],[Healthcare Products]]","v":"-"},{"$f":"Tabel3[[#This Row],[Medical Devices]]","v":"-"},{"$f":"Tabel3[[#This Row],[Batteries]]","v":"-"},{"$f":"Tabel3[[#This Row],[Light Bulbs]]","v":"S"},{"$f":"Tabel3[[#This Row],[Other Categories]]","v":"-"}]
[{"$f":"VLOOKUP(Tabel3[[#This Row],[GAE ID]],'BES EN'!A:AJ,36,FALSE)","v":"Equivalent light bulb power"},{"$f":"Tabel3[[#This Row],[GDSN-naam]]","v":"equivalentLightBulbPower"},{"$f":"Tabel3[[#This Row],[GDM Verplicht / Conditioneel]]","v":"Optional"},{"$f":"Tabel3[[#This Row],[DMS controle]]","v":0},{"$f":"Tabel3[[#This Row],[BMS ID]]","v":6330},{"$f":"Tabel3[[#This Row],[Formaat]]","v":"n.. 15"},{"$f":"Tabel3[[#This Row],[X Path]]","v":"/catalogue_item_notification:catalogueItemNotificationMessage/transaction/documentCommand/catalogue_item_notification:catalogueItemNotification/catalogueItem/tradeItem/tradeItemInformation/extension/*[namespace-uri()='urn:gs1:gdsn:lighting_device:xsd:3' and local-name()='lightingDeviceModule']/lightBulbInformation/equivalentLightBulbPower"},{"$f":"Tabel3[[#This Row],[GDM laag]]","v":"Local"},{"$f":"VLOOKUP(Tabel3[[#This Row],[GAE ID]],'BES EN'!A:AJ,27,FALSE)","v":0},null,{"$f":"Tabel3[[#This Row],[Dairy, Refrigerated & Frozen]]","v":"-"},{"$f":"Tabel3[[#This Row],[Deli & Prepared]]","v":"-"},{"$f":"Tabel3[[#This Row],[Fresh Meat]]","v":"-"},{"$f":"Tabel3[[#This Row],[Fresh Fish]]","v":"-"},{"$f":"Tabel3[[#This Row],[Fresh Fruits & Vegetables]]","v":"-"},{"$f":"Tabel3[[#This Row],[Grocery]]","v":"-"},{"$f":"Tabel3[[#This Row],[Cleaners]]","v":"-"},{"$f":"Tabel3[[#This Row],[Disposables]]","v":"-"},{"$f":"Tabel3[[#This Row],[Beauty & Personal Care]]","v":"-"},{"$f":"Tabel3[[#This Row],[Petfood]]","v":"-"},{"$f":"Tabel3[[#This Row],[Alcoholic Beverages]]","v":"-"},{"$f":"Tabel3[[#This Row],[Tobacco]]","v":"-"},{"$f":"Tabel3[[#This Row],[Self-care medicines]]","v":"-"},{"$f":"Tabel3[[#This Row],[Special Food]]","v":"-"},{"$f":"Tabel3[[#This Row],[Food Supplements]]","v":"-"},{"$f":"Tabel3[[#This Row],[Healthcare Products]]","v":"-"},{"$f":"Tabel3[[#This Row],[Medical Devices]]","v":"-"},{"$f":"Tabel3[[#This Row],[Batteries]]","v":"-"},{"$f":"Tabel3[[#This Row],[Light Bulbs]]","v":"S"},{"$f":"Tabel3[[#This Row],[Other Categories]]","v":"-"}]
[{"$f":"VLOOKUP(Tabel3[[#This Row],[GAE ID]],'BES EN'!A:AJ,36,FALSE)","v":"Equivalent light bulb power UOM"},{"$f":"Tabel3[[#This Row],[GDSN-naam]]","v":"equivalentLightBulbPower/@measurementUnitCode"},{"$f":"Tabel3[[#This Row],[GDM Verplicht / Conditioneel]]","v":"Optional"},{"$f":"Tabel3[[#This Row],[DMS controle]]","v":0},{"$f":"Tabel3[[#This Row],[BMS ID]]","v":6331},{"$f":"Tabel3[[#This Row],[Formaat]]","v":"Defined values"},{"$f":"Tabel3[[#This Row],[X Path]]","v":"/catalogue_item_notification:catalogueItemNotificationMessage/transaction/documentCommand/catalogue_item_notification:catalogueItemNotification/catalogueItem/tradeItem/tradeItemInformation/extension/*[namespace-uri()='urn:gs1:gdsn:lighting_device:xsd:3' and local-name()='lightingDeviceModule']/lightBulbInformation/equivalentLightBulbPower/@measurementUnitCode"},{"$f":"Tabel3[[#This Row],[GDM laag]]","v":"Local"},{"$f":"VLOOKUP(Tabel3[[#This Row],[GAE ID]],'BES EN'!A:AJ,27,FALSE)","v":"Mandatory if 'Equivalent light bulb power' is populated"},null,{"$f":"Tabel3[[#This Row],[Dairy, Refrigerated & Frozen]]","v":"-"},{"$f":"Tabel3[[#This Row],[Deli & Prepared]]","v":"-"},{"$f":"Tabel3[[#This Row],[Fresh Meat]]","v":"-"},{"$f":"Tabel3[[#This Row],[Fresh Fish]]","v":"-"},{"$f":"Tabel3[[#This Row],[Fresh Fruits & Vegetables]]","v":"-"},{"$f":"Tabel3[[#This Row],[Grocery]]","v":"-"},{"$f":"Tabel3[[#This Row],[Cleaners]]","v":"-"},{"$f":"Tabel3[[#This Row],[Disposables]]","v":"-"},{"$f":"Tabel3[[#This Row],[Beauty & Personal Care]]","v":"-"},{"$f":"Tabel3[[#This Row],[Petfood]]","v":"-"},{"$f":"Tabel3[[#This Row],[Alcoholic Beverages]]","v":"-"},{"$f":"Tabel3[[#This Row],[Tobacco]]","v":"-"},{"$f":"Tabel3[[#This Row],[Self-care medicines]]","v":"-"},{"$f":"Tabel3[[#This Row],[Special Food]]","v":"-"},{"$f":"Tabel3[[#This Row],[Food Supplements]]","v":"-"},{"$f":"Tabel3[[#This Row],[Healthcare Products]]","v":"-"},{"$f":"Tabel3[[#This Row],[Medical Devices]]","v":"-"},{"$f":"Tabel3[[#This Row],[Batteries]]","v":"-"},{"$f":"Tabel3[[#This Row],[Light Bulbs]]","v":"S"},{"$f":"Tabel3[[#This Row],[Other Categories]]","v":"-"}]
[{"$f":"VLOOKUP(Tabel3[[#This Row],[GAE ID]],'BES EN'!A:AJ,36,FALSE)","v":"Average life light bulb"},{"$f":"Tabel3[[#This Row],[GDSN-naam]]","v":"productCharacteristicValueMeasurement"},{"$f":"Tabel3[[#This Row],[GDM Verplicht / Conditioneel]]","v":"Optional"},{"$f":"Tabel3[[#This Row],[DMS controle]]","v":0},{"$f":"Tabel3[[#This Row],[BMS ID]]","v":2864},{"$f":"Tabel3[[#This Row],[Formaat]]","v":"n..15"},{"$f":"Tabel3[[#This Row],[X Path]]","v":"/catalogue_item_notification:catalogueItemNotificationMessage/transaction/documentCommand/catalogue_item_notification:catalogueItemNotification/catalogueItem/tradeItem/tradeItemInformation/extension/*[namespace-uri()='urn:gs1:gdsn:product_characteristics:xsd:3' and local-name()='productCharacteristicsModule']/productCharacteristics/productCharacteristicValueMeasurement"},{"$f":"Tabel3[[#This Row],[GDM laag]]","v":"Local"},{"$f":"VLOOKUP(Tabel3[[#This Row],[GAE ID]],'BES EN'!A:AJ,27,FALSE)","v":0},null,{"$f":"Tabel3[[#This Row],[Dairy, Refrigerated & Frozen]]","v":"-"},{"$f":"Tabel3[[#This Row],[Deli & Prepared]]","v":"-"},{"$f":"Tabel3[[#This Row],[Fresh Meat]]","v":"-"},{"$f":"Tabel3[[#This Row],[Fresh Fish]]","v":"-"},{"$f":"Tabel3[[#This Row],[Fresh Fruits & Vegetables]]","v":"-"},{"$f":"Tabel3[[#This Row],[Grocery]]","v":"-"},{"$f":"Tabel3[[#This Row],[Cleaners]]","v":"-"},{"$f":"Tabel3[[#This Row],[Disposables]]","v":"-"},{"$f":"Tabel3[[#This Row],[Beauty & Personal Care]]","v":"-"},{"$f":"Tabel3[[#This Row],[Petfood]]","v":"-"},{"$f":"Tabel3[[#This Row],[Alcoholic Beverages]]","v":"-"},{"$f":"Tabel3[[#This Row],[Tobacco]]","v":"-"},{"$f":"Tabel3[[#This Row],[Self-care medicines]]","v":"-"},{"$f":"Tabel3[[#This Row],[Special Food]]","v":"-"},{"$f":"Tabel3[[#This Row],[Food Supplements]]","v":"-"},{"$f":"Tabel3[[#This Row],[Healthcare Products]]","v":"-"},{"$f":"Tabel3[[#This Row],[Medical Devices]]","v":"-"},{"$f":"Tabel3[[#This Row],[Batteries]]","v":"-"},{"$f":"Tabel3[[#This Row],[Light Bulbs]]","v":"S"},{"$f":"Tabel3[[#This Row],[Other Categories]]","v":"-"}]
[{"$f":"VLOOKUP(Tabel3[[#This Row],[GAE ID]],'BES EN'!A:AJ,36,FALSE)","v":"Average life light bulb UOM"},{"$f":"Tabel3[[#This Row],[GDSN-naam]]","v":"productCharacteristicValueMeasurement/@measurementUnitCode"},{"$f":"Tabel3[[#This Row],[GDM Verplicht / Conditioneel]]","v":"Optional"},{"$f":"Tabel3[[#This Row],[DMS controle]]","v":0},{"$f":"Tabel3[[#This Row],[BMS ID]]","v":2865},{"$f":"Tabel3[[#This Row],[Formaat]]","v":"Defined values"},{"$f":"Tabel3[[#This Row],[X Path]]","v":"/catalogue_item_notification:catalogueItemNotificationMessage/transaction/documentCommand/catalogue_item_notification:catalogueItemNotification/catalogueItem/tradeItem/tradeItemInformation/extension/*[namespace-uri()='urn:gs1:gdsn:product_characteristics:xsd:3' and local-name()='productCharacteristicsModule']/productCharacteristics/productCharacteristicValueMeasurement/@measurementUnitCode"},{"$f":"Tabel3[[#This Row],[GDM laag]]","v":"Local"},{"$f":"VLOOKUP(Tabel3[[#This Row],[GAE ID]],'BES EN'!A:AJ,27,FALSE)","v":"Mandatory if 'Average life light bulb' is populated."},null,{"$f":"Tabel3[[#This Row],[Dairy, Refrigerated & Frozen]]","v":"-"},{"$f":"Tabel3[[#This Row],[Deli & Prepared]]","v":"-"},{"$f":"Tabel3[[#This Row],[Fresh Meat]]","v":"-"},{"$f":"Tabel3[[#This Row],[Fresh Fish]]","v":"-"},{"$f":"Tabel3[[#This Row],[Fresh Fruits & Vegetables]]","v":"-"},{"$f":"Tabel3[[#This Row],[Grocery]]","v":"-"},{"$f":"Tabel3[[#This Row],[Cleaners]]","v":"-"},{"$f":"Tabel3[[#This Row],[Disposables]]","v":"-"},{"$f":"Tabel3[[#This Row],[Beauty & Personal Care]]","v":"-"},{"$f":"Tabel3[[#This Row],[Petfood]]","v":"-"},{"$f":"Tabel3[[#This Row],[Alcoholic Beverages]]","v":"-"},{"$f":"Tabel3[[#This Row],[Tobacco]]","v":"-"},{"$f":"Tabel3[[#This Row],[Self-care medicines]]","v":"-"},{"$f":"Tabel3[[#This Row],[Special Food]]","v":"-"},{"$f":"Tabel3[[#This Row],[Food Supplements]]","v":"-"},{"$f":"Tabel3[[#This Row],[Healthcare Products]]","v":"-"},{"$f":"Tabel3[[#This Row],[Medical Devices]]","v":"-"},{"$f":"Tabel3[[#This Row],[Batteries]]","v":"-"},{"$f":"Tabel3[[#This Row],[Light Bulbs]]","v":"S"},{"$f":"Tabel3[[#This Row],[Other Categories]]","v":"-"}]
[{"$f":"VLOOKUP(Tabel3[[#This Row],[GAE ID]],'BES EN'!A:AJ,36,FALSE)","v":"Number of switching cycles before defect"},{"$f":"Tabel3[[#This Row],[GDSN-naam]]","v":"productCharacteristicValueInteger"},{"$f":"Tabel3[[#This Row],[GDM Verplicht / Conditioneel]]","v":"Optional"},{"$f":"Tabel3[[#This Row],[DMS controle]]","v":0},{"$f":"Tabel3[[#This Row],[BMS ID]]","v":5460},{"$f":"Tabel3[[#This Row],[Formaat]]","v":"n..15"},{"$f":"Tabel3[[#This Row],[X Path]]","v":"/catalogue_item_notification:catalogueItemNotificationMessage/transaction/documentCommand/catalogue_item_notification:catalogueItemNotification/catalogueItem/tradeItem/tradeItemInformation/extension/*[namespace-uri()='urn:gs1:gdsn:product_characteristics:xsd:3' and local-name()='productCharacteristicsModule']/productCharacteristics/productCharacteristicValueInteger"},{"$f":"Tabel3[[#This Row],[GDM laag]]","v":"Local"},{"$f":"VLOOKUP(Tabel3[[#This Row],[GAE ID]],'BES EN'!A:AJ,27,FALSE)","v":0},null,{"$f":"Tabel3[[#This Row],[Dairy, Refrigerated & Frozen]]","v":"-"},{"$f":"Tabel3[[#This Row],[Deli & Prepared]]","v":"-"},{"$f":"Tabel3[[#This Row],[Fresh Meat]]","v":"-"},{"$f":"Tabel3[[#This Row],[Fresh Fish]]","v":"-"},{"$f":"Tabel3[[#This Row],[Fresh Fruits & Vegetables]]","v":"-"},{"$f":"Tabel3[[#This Row],[Grocery]]","v":"-"},{"$f":"Tabel3[[#This Row],[Cleaners]]","v":"-"},{"$f":"Tabel3[[#This Row],[Disposables]]","v":"-"},{"$f":"Tabel3[[#This Row],[Beauty & Personal Care]]","v":"-"},{"$f":"Tabel3[[#This Row],[Petfood]]","v":"-"},{"$f":"Tabel3[[#This Row],[Alcoholic Beverages]]","v":"-"},{"$f":"Tabel3[[#This Row],[Tobacco]]","v":"-"},{"$f":"Tabel3[[#This Row],[Self-care medicines]]","v":"-"},{"$f":"Tabel3[[#This Row],[Special Food]]","v":"-"},{"$f":"Tabel3[[#This Row],[Food Supplements]]","v":"-"},{"$f":"Tabel3[[#This Row],[Healthcare Products]]","v":"-"},{"$f":"Tabel3[[#This Row],[Medical Devices]]","v":"-"},{"$f":"Tabel3[[#This Row],[Batteries]]","v":"-"},{"$f":"Tabel3[[#This Row],[Light Bulbs]]","v":"S"},{"$f":"Tabel3[[#This Row],[Other Categories]]","v":"-"}]
[{"$f":"VLOOKUP(Tabel3[[#This Row],[GAE ID]],'BES EN'!A:AJ,36,FALSE)","v":"Light bulb warm up time"},{"$f":"Tabel3[[#This Row],[GDSN-naam]]","v":"lightBulbWarmUpTime"},{"$f":"Tabel3[[#This Row],[GDM Verplicht / Conditioneel]]","v":"Optional"},{"$f":"Tabel3[[#This Row],[DMS controle]]","v":0},{"$f":"Tabel3[[#This Row],[BMS ID]]","v":6332},{"$f":"Tabel3[[#This Row],[Formaat]]","v":"n.. 15"},{"$f":"Tabel3[[#This Row],[X Path]]","v":"/catalogue_item_notification:catalogueItemNotificationMessage/transaction/documentCommand/catalogue_item_notification:catalogueItemNotification/catalogueItem/tradeItem/tradeItemInformation/extension/*[namespace-uri()='urn:gs1:gdsn:lighting_device:xsd:3' and local-name()='lightingDeviceModule']/lightBulbInformation/lightBulbWarmUpTime"},{"$f":"Tabel3[[#This Row],[GDM laag]]","v":"Local"},{"$f":"VLOOKUP(Tabel3[[#This Row],[GAE ID]],'BES EN'!A:AJ,27,FALSE)","v":0},null,{"$f":"Tabel3[[#This Row],[Dairy, Refrigerated & Frozen]]","v":"-"},{"$f":"Tabel3[[#This Row],[Deli & Prepared]]","v":"-"},{"$f":"Tabel3[[#This Row],[Fresh Meat]]","v":"-"},{"$f":"Tabel3[[#This Row],[Fresh Fish]]","v":"-"},{"$f":"Tabel3[[#This Row],[Fresh Fruits & Vegetables]]","v":"-"},{"$f":"Tabel3[[#This Row],[Grocery]]","v":"-"},{"$f":"Tabel3[[#This Row],[Cleaners]]","v":"-"},{"$f":"Tabel3[[#This Row],[Disposables]]","v":"-"},{"$f":"Tabel3[[#This Row],[Beauty & Personal Care]]","v":"-"},{"$f":"Tabel3[[#This Row],[Petfood]]","v":"-"},{"$f":"Tabel3[[#This Row],[Alcoholic Beverages]]","v":"-"},{"$f":"Tabel3[[#This Row],[Tobacco]]","v":"-"},{"$f":"Tabel3[[#This Row],[Self-care medicines]]","v":"-"},{"$f":"Tabel3[[#This Row],[Special Food]]","v":"-"},{"$f":"Tabel3[[#This Row],[Food Supplements]]","v":"-"},{"$f":"Tabel3[[#This Row],[Healthcare Products]]","v":"-"},{"$f":"Tabel3[[#This Row],[Medical Devices]]","v":"-"},{"$f":"Tabel3[[#This Row],[Batteries]]","v":"-"},{"$f":"Tabel3[[#This Row],[Light Bulbs]]","v":"S"},{"$f":"Tabel3[[#This Row],[Other Categories]]","v":"-"}]
[{"$f":"VLOOKUP(Tabel3[[#This Row],[GAE ID]],'BES EN'!A:AJ,36,FALSE)","v":"Light bulb warm up time UOM"},{"$f":"Tabel3[[#This Row],[GDSN-naam]]","v":"lightBulbWarmUpTime/@measurementUnitCode"},{"$f":"Tabel3[[#This Row],[GDM Verplicht / Conditioneel]]","v":"Optional"},{"$f":"Tabel3[[#This Row],[DMS controle]]","v":0},{"$f":"Tabel3[[#This Row],[BMS ID]]","v":6333},{"$f":"Tabel3[[#This Row],[Formaat]]","v":"Defined values"},{"$f":"Tabel3[[#This Row],[X Path]]","v":"/catalogue_item_notification:catalogueItemNotificationMessage/transaction/documentCommand/catalogue_item_notification:catalogueItemNotification/catalogueItem/tradeItem/tradeItemInformation/extension/*[namespace-uri()='urn:gs1:gdsn:lighting_device:xsd:3' and local-name()='lightingDeviceModule']/lightBulbInformation/lightBulbWarmUpTime/@measurementUnitCode"},{"$f":"Tabel3[[#This Row],[GDM laag]]","v":"Local"},{"$f":"VLOOKUP(Tabel3[[#This Row],[GAE ID]],'BES EN'!A:AJ,27,FALSE)","v":"Mandatory if 'Light bulb warm up time' is populated"},null,{"$f":"Tabel3[[#This Row],[Dairy, Refrigerated & Frozen]]","v":"-"},{"$f":"Tabel3[[#This Row],[Deli & Prepared]]","v":"-"},{"$f":"Tabel3[[#This Row],[Fresh Meat]]","v":"-"},{"$f":"Tabel3[[#This Row],[Fresh Fish]]","v":"-"},{"$f":"Tabel3[[#This Row],[Fresh Fruits & Vegetables]]","v":"-"},{"$f":"Tabel3[[#This Row],[Grocery]]","v":"-"},{"$f":"Tabel3[[#This Row],[Cleaners]]","v":"-"},{"$f":"Tabel3[[#This Row],[Disposables]]","v":"-"},{"$f":"Tabel3[[#This Row],[Beauty & Personal Care]]","v":"-"},{"$f":"Tabel3[[#This Row],[Petfood]]","v":"-"},{"$f":"Tabel3[[#This Row],[Alcoholic Beverages]]","v":"-"},{"$f":"Tabel3[[#This Row],[Tobacco]]","v":"-"},{"$f":"Tabel3[[#This Row],[Self-care medicines]]","v":"-"},{"$f":"Tabel3[[#This Row],[Special Food]]","v":"-"},{"$f":"Tabel3[[#This Row],[Food Supplements]]","v":"-"},{"$f":"Tabel3[[#This Row],[Healthcare Products]]","v":"-"},{"$f":"Tabel3[[#This Row],[Medical Devices]]","v":"-"},{"$f":"Tabel3[[#This Row],[Batteries]]","v":"-"},{"$f":"Tabel3[[#This Row],[Light Bulbs]]","v":"S"},{"$f":"Tabel3[[#This Row],[Other Categories]]","v":"-"}]
[{"$f":"VLOOKUP(Tabel3[[#This Row],[GAE ID]],'BES EN'!A:AJ,36,FALSE)","v":"Material weight"},{"$f":"Tabel3[[#This Row],[GDSN-naam]]","v":"materialWeight"},{"$f":"Tabel3[[#This Row],[GDM Verplicht / Conditioneel]]","v":"Optional"},{"$f":"Tabel3[[#This Row],[DMS controle]]","v":0},{"$f":"Tabel3[[#This Row],[BMS ID]]","v":648},{"$f":"Tabel3[[#This Row],[Formaat]]","v":"n..15"},{"$f":"Tabel3[[#This Row],[X Path]]","v":"/catalogue_item_notification:catalogueItemNotificationMessage/transaction/documentCommand/catalogue_item_notification:catalogueItemNotification/catalogueItem/tradeItem/tradeItemInformation/extension/*[namespace-uri()='urn:gs1:gdsn:battery_information:xsd:3' and local-name()='batteryInformationModule']/batteryDetail/batteryMaterials/tradeItemMaterialComposition/materialWeight"},{"$f":"Tabel3[[#This Row],[GDM laag]]","v":"Local"},{"$f":"VLOOKUP(Tabel3[[#This Row],[GAE ID]],'BES EN'!A:AJ,27,FALSE)","v":"Mandatory if the lightbulb contains mercury."},null,{"$f":"Tabel3[[#This Row],[Dairy, Refrigerated & Frozen]]","v":"-"},{"$f":"Tabel3[[#This Row],[Deli & Prepared]]","v":"-"},{"$f":"Tabel3[[#This Row],[Fresh Meat]]","v":"-"},{"$f":"Tabel3[[#This Row],[Fresh Fish]]","v":"-"},{"$f":"Tabel3[[#This Row],[Fresh Fruits & Vegetables]]","v":"-"},{"$f":"Tabel3[[#This Row],[Grocery]]","v":"-"},{"$f":"Tabel3[[#This Row],[Cleaners]]","v":"-"},{"$f":"Tabel3[[#This Row],[Disposables]]","v":"-"},{"$f":"Tabel3[[#This Row],[Beauty & Personal Care]]","v":"-"},{"$f":"Tabel3[[#This Row],[Petfood]]","v":"-"},{"$f":"Tabel3[[#This Row],[Alcoholic Beverages]]","v":"-"},{"$f":"Tabel3[[#This Row],[Tobacco]]","v":"-"},{"$f":"Tabel3[[#This Row],[Self-care medicines]]","v":"-"},{"$f":"Tabel3[[#This Row],[Special Food]]","v":"-"},{"$f":"Tabel3[[#This Row],[Food Supplements]]","v":"-"},{"$f":"Tabel3[[#This Row],[Healthcare Products]]","v":"-"},{"$f":"Tabel3[[#This Row],[Medical Devices]]","v":"-"},{"$f":"Tabel3[[#This Row],[Batteries]]","v":"-"},{"$f":"Tabel3[[#This Row],[Light Bulbs]]","v":"S"},{"$f":"Tabel3[[#This Row],[Other Categories]]","v":"-"}]
[{"$f":"VLOOKUP(Tabel3[[#This Row],[GAE ID]],'BES EN'!A:AJ,36,FALSE)","v":"Material weight UOM"},{"$f":"Tabel3[[#This Row],[GDSN-naam]]","v":"materialWeight/@measurementUnitCode"},{"$f":"Tabel3[[#This Row],[GDM Verplicht / Conditioneel]]","v":"Optional"},{"$f":"Tabel3[[#This Row],[DMS controle]]","v":0},{"$f":"Tabel3[[#This Row],[BMS ID]]","v":649},{"$f":"Tabel3[[#This Row],[Formaat]]","v":"Defined values"},{"$f":"Tabel3[[#This Row],[X Path]]","v":"/catalogue_item_notification:catalogueItemNotificationMessage/transaction/documentCommand/catalogue_item_notification:catalogueItemNotification/catalogueItem/tradeItem/tradeItemInformation/extension/*[namespace-uri()='urn:gs1:gdsn:battery_information:xsd:3' and local-name()='batteryInformationModule']/batteryDetail/batteryMaterials/tradeItemMaterialComposition/materialWeight/@measurementUnitCode"},{"$f":"Tabel3[[#This Row],[GDM laag]]","v":"Local"},{"$f":"VLOOKUP(Tabel3[[#This Row],[GAE ID]],'BES EN'!A:AJ,27,FALSE)","v":"Mandatory if 'Material weight' is populated for a consumer unit."},null,{"$f":"Tabel3[[#This Row],[Dairy, Refrigerated & Frozen]]","v":"-"},{"$f":"Tabel3[[#This Row],[Deli & Prepared]]","v":"-"},{"$f":"Tabel3[[#This Row],[Fresh Meat]]","v":"-"},{"$f":"Tabel3[[#This Row],[Fresh Fish]]","v":"-"},{"$f":"Tabel3[[#This Row],[Fresh Fruits & Vegetables]]","v":"-"},{"$f":"Tabel3[[#This Row],[Grocery]]","v":"-"},{"$f":"Tabel3[[#This Row],[Cleaners]]","v":"-"},{"$f":"Tabel3[[#This Row],[Disposables]]","v":"-"},{"$f":"Tabel3[[#This Row],[Beauty & Personal Care]]","v":"-"},{"$f":"Tabel3[[#This Row],[Petfood]]","v":"-"},{"$f":"Tabel3[[#This Row],[Alcoholic Beverages]]","v":"-"},{"$f":"Tabel3[[#This Row],[Tobacco]]","v":"-"},{"$f":"Tabel3[[#This Row],[Self-care medicines]]","v":"-"},{"$f":"Tabel3[[#This Row],[Special Food]]","v":"-"},{"$f":"Tabel3[[#This Row],[Food Supplements]]","v":"-"},{"$f":"Tabel3[[#This Row],[Healthcare Products]]","v":"-"},{"$f":"Tabel3[[#This Row],[Medical Devices]]","v":"-"},{"$f":"Tabel3[[#This Row],[Batteries]]","v":"-"},{"$f":"Tabel3[[#This Row],[Light Bulbs]]","v":"S"},{"$f":"Tabel3[[#This Row],[Other Categories]]","v":"-"}]

{"sheet":"GPC","index":3,"n_rows":1034,"n_cols":7,"rows_kept":1034,"cut":false,"hidden":true,"merged":[]}
["Alle soorten producten","All product categories","Brick","GPC brick naam (NL)","GDM product type (NL)","GPC brick name (EN)","GDM product category (EN)"]
["Zuivel, gekoelde en bevroren producten","Dairy, Refrigerated & Frozen",10000002,"Fruit – Onbewerkt/Onverwerkt (Diepvries)","Aardappelen, groente en fruit (vers)"," ","Fresh Fruits & Vegetables"]
["Delicatessen en bereide producten","Deli & Prepared",10000003,"Fruit – Onbewerkt/Onverwerkt (Houdbaar)","Aardappelen, groente en fruit (vers)","Fruit – Unprepared/Unprocessed (Shelf Stable)","Fresh Fruits & Vegetables"]
["Vlees (vers)","Fresh Meat",10000005,"Groenten – Onbewerkt/Onverwerkt (Diepvries)","Aardappelen, groente en fruit (vers)","Vegetables – Unprepared/Unprocessed (Frozen)","Fresh Fruits & Vegetables"]
["Vis (vers)","Fresh Fish",10000006,"Groenten – Onbewerkt/Onverwerkt (Houdbaar)","Aardappelen, groente en fruit (vers)","Vegetables – Unprepared/Unprocessed (Shelf Stable)","Fresh Fruits & Vegetables"]
["Aardappelen, groente en fruit (vers)","Fresh Fruits & Vegetables",10000007,"Noten/Zaadjes – Onbewerkt/Onverwerkt (Vers)","Aardappelen, groente en fruit (vers)","Nuts/Seeds – Unprepared/Unprocessed (Perishable)","Fresh Fruits & Vegetables"]
["Kruidenierswaren","Grocery",10000008,"Noten/Zaadjes - Onbewerkt/Onverwerkt (In Pel/Schil)","Aardappelen, groente en fruit (vers)","Nuts/Seeds – Unprepared/Unprocessed (Shelf Stable)","Fresh Fruits & Vegetables"]
["Schoonmaakartikelen","Cleaners",10000016,"Vis – Bereid/Bewerkt (Beperkt Houdbaar)","Vis (vers)","Fish – Prepared/Processed (Perishable)","Fresh Fish"]
["Wegwerpartikelen","Disposables",10000017,"Vis – Bereid/Bewerkt (Diepvries)","Vis (vers)","Fish – Prepared/Processed (Frozen)","Fresh Fish"]
["Cosmetica en persoonlijke verzorgingsproducten","Beauty & Personal Care",10000018,"Vis – Bereid/Bewerkt (Houdbaar)","Vis (vers)","Fish – Prepared/Processed (Shelf Stable)","Fresh Fish"]
["Diervoeding","Petfood",10000019,"Schaal–/Schelpdieren – Niet–bereid/Niet–bewerkt (Beperkt Houdbaar)","Vis (vers)","Shellfish – Unprepared/Unprocessed (Perishable)","Fresh Fish"]
["Alcoholische dranken","Alcoholic Beverages",10000020,"Schaal–/Schelpdieren – Niet–bereid/Niet–bewerkt (Diepvries)","Vis (vers)","Shellfish – Unprepared/Unprocessed (Frozen)","Fresh Fish"]
["Tabakswaren","Tobacco",10000021,"Schaal–/Schelpdieren – Niet–bereid/Niet–bewerkt (Houdbaar)","Vis (vers)","Shellfish – Unprepared/Unprocessed (Shelf Stable)","Fresh Fish"]
["Zelfzorggeneesmiddelen","Self-care medicines",10000025,"Melk (Beperkt Houdbaar)","Zuivel, gekoeld & diepvries","Milk (Perishable)","Dairy, Refrigerated & Frozen"]
["Bijzondere voedingsmiddelen","Special food",10000026,"Melk (Houdbaar)","Zuivel, gekoeld & diepvries","Milk (Shelf Stable)","Dairy, Refrigerated & Frozen"]
["Voedingssupplementen","Food supplements",10000027,"Melk (Diepvries)","Zuivel, gekoeld & diepvries","Milk (Frozen)","Dairy, Refrigerated & Frozen"]
["Gezondheidsproducten, cosmetica en persoonlijke verzorgingsproducten","Healthcare products, cosmetics and personal care",10000028,"Kaas (Beperkt Houdbaar)","Zuivel, gekoeld & diepvries","Cheese (Perishable)","Dairy, Refrigerated & Frozen"]
["Medische hulpmiddelen","Medical devices",10000029,"Kaas (Houdbaar)","Zuivel, gekoeld & diepvries","Cheese (Shelf Stable)","Dairy, Refrigerated & Frozen"]
["Batterijen","Batteries",10000030,"Kaas (Diepvries)","Zuivel, gekoeld & diepvries","Cheese (Frozen)","Dairy, Refrigerated & Frozen"]
["Lampen","Light bulbs",10000040,"Eetbare Oliën – Plantaardig (Houdbaar)","Kruidenierswaren","Oils Edible – Vegetable or Plant (Shelf Stable)","Grocery"]
["Andere categorieën","Other categories",10000041,"Eetbare Vetten – Dierlijk (Beperkt Houdbaar)","Kruidenierswaren","Fats Edible – Animal (Perishable)","Grocery"]
[null,null,10000042,"Eetbare Vetten – Plantaardig (Houdbaar)","Kruidenierswaren","Fats Edible – Vegetable/Plant (Shelf Stable)","Grocery"]
[null,"N.B.:",10000043,"Suiker/Kunstmatige Zoetstof (Houdbaar)","Kruidenierswaren","Sugar/Sugar Substitutes (Shelf Stable)","Grocery"]
[null,"Vetgedrukte productgroepen hebben nog geen GPC bricks toegewezen gekregen",10000044,"Siroop/Suikerstroop/Melasse (Houdbaar)","Kruidenierswaren","Syrup/Treacle/Molasses (Shelf Stable)","Grocery"]
[null,null,10000045,"Chocolade/Combinatie van Chocolade en Snoepjes","Kruidenierswaren","Chocolate and Chocolate/Sugar Candy Combinations – Confectionery","Grocery"]
[null,null,10000047,"Harde/Zachte Snoepjes","Kruidenierswaren","Sugar Candy/Sugar Candy Substitutes Confectionery","Grocery"]
[null,null,10000048,"Kruiden/Specerijen (Beperkt Houdbaar)","Kruidenierswaren","Herbs/Spices (Perishable)","Grocery"]
[null,null,10000049,"Kruiden/Specerijen (Houdbaar)","Kruidenierswaren","Herbs/Spices (Shelf Stable)","Grocery"]
[null,null,10000050,"Extracten/Zout/Vlees Malsmakers (Houdbaar)","Kruidenierswaren","Extracts/Salt/Meat Tenderisers (Shelf Stable)","Grocery"]
[null,null,10000051,"Azijnen","Kruidenierswaren","Vinegars","Grocery"]
[null,null,10000052,"Kookwijnen","Kruidenierswaren","Cooking Wines","Grocery"]
[null,null,10000054,"Dipsauzen/Smaakmakers/Hartige Toppings/Hartige Spreads/Marinades (Beperkt Houdbaar)","Kruidenierswaren","Other Sauces Dipping/Condiments/Savoury Toppings/Savoury Spreads/Marinades (Perishable)","Grocery"]
[null,null,10000055,"Sauzen – Koken (Beperkt Houdbaar)","Kruidenierswaren","Sauces – Cooking (Perishable)","Grocery"]
[null,null,10000056,"Sauzen – Koken (Diepvries)","Kruidenierswaren","Sauces – Cooking (Frozen)","Grocery"]
[null,null,10000057,"Sauzen – Koken (Houdbaar)","Kruidenierswaren","Sauces – Cooking (Shelf Stable)","Grocery"]
[null,null,10000064,"Paté (Beperkt Houdbaar)","Vlees (vers)","Pate (Perishable)","Fresh Meat"]
[null,null,10000068,"Bak/Kook Samenstellingen (Beperkt Houdbaar)","Kruidenierswaren","Baking/Cooking Mixes (Perishable)","Grocery"]
[null,null,10000069,"Bak/Kook Benodigdheden (Beperkt Houdbaar)","Kruidenierswaren","Baking/Cooking Supplies (Perishable)","Grocery"]
[null,null,10000114,"Koffie – Gebruiksklaar","Kruidenierswaren","Coffee – Ready to Drink","Grocery"]
[null,null,10000115,"Koffie – Instant","Kruidenierswaren","Coffee – Instant","Grocery"]
[null,null,10000116,"Thee – Los/Verpakt/Theezakjes","Kruidenierswaren","Tea – Bags/Loose","Grocery"]
[null,null,10000117,"Thee – Instant","Kruidenierswaren","Tea – Instant","Grocery"]
[null,null,10000118,"Thee – Gebruiksklaar","Kruidenierswaren","Tea – Ready to Drink","Grocery"]
[null,null,10000119,"Vruchten– en Kruidenthee – Los/Verpakt/Theezakjes","Kruidenierswaren","Fruit Herbal Infusions – Bags/Loose","Grocery"]
[null,null,10000134,"Pruim–/Snuiftabak","Tabakswaren","Tobacco – Chewing/Snuff","Tobacco"]
[null,null,10000137,"Waterplanten – Niet–bereid/Niet–bewerkt (Beperkt Houdbaar)","Aardappelen, groente en fruit (vers)","Aquatic Plants Unprepared/Unprocessed (Perishable)","Fresh Fruits & Vegetables"]
[null,null,10000138,"Waterplanten – Niet–bereid/Niet–bewerkt (Diepvries)","Aardappelen, groente en fruit (vers)","Aquatic Plants Unprepared/Unprocessed (Frozen)","Fresh Fruits & Vegetables"]
[null,null,10000139,"Waterplanten – Niet–bereid/Niet–bewerkt (Houdbaar)","Aardappelen, groente en fruit (vers)","Aquatic Plants Unprepared/Unprocessed (Shelf Stable)","Fresh Fruits & Vegetables"]
[null,null,10000144,"Gemengde Dranken met Alcohol","Alcoholische dranken","Alcoholic Pre-mixed Drinks","Alcoholic Beverages"]
[null,null,10000145,"Ongewervelde Waterdieren – Bereid/Bewerkt (Diepvries)","Vis (vers)","Aquatic Invertebrates – Prepared/Processed (Frozen)","Fresh Fish"]
[null,null,10000146,"Ongewervelde Waterdieren – Bereid/Bewerkt (Beperkt Houdbaar)","Vis (vers)","Aquatic Invertebrates – Prepared/Processed (Perishable)","Fresh Fish"]
[null,null,10000147,"Ongewervelde Waterdieren – Bereid/Bewerkt (Houdbaar)","Vis (vers)","Aquatic Invertebrates – Prepared/Processed (Shelf Stable)","Fresh Fish"]
[null,null,10000148,"Ongewervelde Waterdieren – Niet–bereid/Niet–bewerkt (Diepvries)","Vis (vers)","Aquatic Invertebrates – Unprepared/Unprocessed (Frozen)","Fresh Fish"]
[null,null,10000149,"Ongewervelde Waterdieren – Niet–bereid/Niet–bewerkt (Beperkt Houdbaar)","Vis (vers)","Aquatic Invertebrates – Unprepared/Unprocessed (Perishable)","Fresh Fish"]
[null,null,10000150,"Ongewervelde Waterdieren – Niet–bereid/Niet–bewerkt (Houdbaar)","Vis (vers)","Aquatic Invertebrates – Unprepared/Unprocessed (Shelf Stable)","Fresh Fish"]
[null,null,10000151,"Waterplanten – Bereid/Bewerkt (Diepvries)","Aardappelen, groente en fruit (vers)","Aquatic Plants Prepared/Processed (Frozen)","Fresh Fruits & Vegetables"]
[null,null,10000152,"Waterplanten – Bereid/Bewerkt (Beperkt Houdbaar)","Aardappelen, groente en fruit (vers)","Aquatic Plants Prepared/Processed (Perishable)","Fresh Fruits & Vegetables"]
[null,null,10000153,"Waterplanten – Bereid/Bewerkt (Houdbaar)","Aardappelen, groente en fruit (vers)","Aquatic Plants Prepared/Processed (Shelf Stable)","Fresh Fruits & Vegetables"]
[null,null,10000155,"Bak/Kook Samenstellingen (Diepvries)","Kruidenierswaren","Baking/Cooking Mixes (Frozen)","Grocery"]
[null,null,10000156,"Bak/Kook Samenstellingen (Houdbaar)","Kruidenierswaren","Baking/Cooking Mixes (Shelf Stable)","Grocery"]
[null,null,10000157,"Bak/Kook Benodigdheden (Diepvries)","Kruidenierswaren","Baking/Cooking Supplies (Frozen)","Grocery"]
[null,null,10000158,"Bak/Kook Benodigdheden (Houdbaar)","Kruidenierswaren","Baking/Cooking Supplies (Shelf Stable)","Grocery"]
[null,null,10000159,"Bier","Alcoholische dranken","Beer","Alcoholic Beverages"]
[null,null,10000160,"Biscuits/Koekjes (Beperkt Houdbaar)","Kruidenierswaren","Biscuits/Cookies (Perishable)","Grocery"]
[null,null,10000161,"Biscuits/Koekjes (Houdbaar)","Kruidenierswaren","Biscuits/Cookies (Shelf Stable)","Grocery"]
[null,null,10000163,"Brood (Diepvries)","Kruidenierswaren","Bread (Frozen)","Grocery"]
[null,null,10000164,"Brood (Beperkt Houdbaar)","Kruidenierswaren","Bread (Perishable)","Grocery"]
[null,null,10000165,"Brood (Houdbaar)","Kruidenierswaren","Bread (Shelf Stable)","Grocery"]
[null,null,10000166,"Gedroogde Broodproducten (Houdbaar)","Kruidenierswaren","Dried Breads (Shelf Stable)","Grocery"]
[null,null,10000167,"Boter (Diepvries)","Zuivel, gekoeld & diepvries","Butter (Frozen)","Dairy, Refrigerated & Frozen"]
[null,null,10000168,"Boter (Beperkt Houdbaar)","Zuivel, gekoeld & diepvries","Butter (Perishable)","Dairy, Refrigerated & Frozen"]
[null,null,10000169,"Boter (Houdbaar)","Zuivel, gekoeld & diepvries","Butter (Shelf Stable)","Dairy, Refrigerated & Frozen"]
[null,null,10000170,"Cakes – Zoet (Diepvries)","Kruidenierswaren","Cakes – Sweet (Frozen)","Grocery"]
[null,null,10000171,"Cakes – Zoet (Beperkt Houdbaar)","Kruidenierswaren","Cakes – Sweet (Perishable)","Grocery"]
[null,null,10000172,"Cakes – Zoet (Houdbaar)","Kruidenierswaren","Cakes – Sweet (Shelf Stable)","Grocery"]
[null,null,10000177,"Chips/Snacks/Gemengde Snacks – Naturel/Geëxtrudeerd (Houdbaar)","Kruidenierswaren","Chips/Crisps/Snack Mixes – Natural/Extruded (Shelf Stable)","Grocery"]
[null,null,10000178,"Chocolade/Cacao/Mout – Niet-gebruiksklaar","Kruidenierswaren","Chocolate/Cocoa/Malt – Not Ready to Drink","Grocery"]
[null,null,10000179,"Chocolade/Cacao/Mout – Gebruiksklaar","Kruidenierswaren","Chocolate/Cocoa/Malt – Ready to Drink","Grocery"]
[null,null,10000180,"Chutneys/Pikante sauzen (Houdbaar)","Kruidenierswaren","Chutneys/Relishes (Shelf Stable)","Grocery"]
[null,null,10000181,"Cider/Perry – Mousserend","Alcoholische dranken","Apple/Pear Alcoholic Beverage – Sparkling","Alcoholic Beverages"]
[null,null,10000185,"Sigaretten","Tabakswaren","Cigarettes","Tobacco"]
[null,null,10000186,"Sigaren","Tabakswaren","Cigars","Tobacco"]
[null,null,10000187,"Smeerbeleg gebaseerd op Noten of Chocolade (Houdbaar)","Kruidenierswaren","Confectionery Based Spreads (Shelf Stable)","Grocery"]
[null,null,10000188,"Room (Diepvries)","Zuivel, gekoeld & diepvries","Cream (Frozen)","Dairy, Refrigerated & Frozen"]
[null,null,10000189,"Room (Beperkt Houdbaar)","Zuivel, gekoeld & diepvries","Cream (Perishable)","Dairy, Refrigerated & Frozen"]
[null,null,10000190,"Room (Houdbaar)","Zuivel, gekoeld & diepvries","Cream (Shelf Stable)","Dairy, Refrigerated & Frozen"]
[null,null,10000191,"Op Zuivel Gebaseerde Dranken – Gebruiksklaar (Beperkt Houdbaar)","Zuivel, gekoeld & diepvries","Dairy Based Drinks – Ready to Drink (Perishable)","Dairy, Refrigerated & Frozen"]
[null,null,10000192,"Op Zuivel Gebaseerde Dranken – Gebruiksklaar (Houdbaar)","Zuivel, gekoeld & diepvries","Dairy Based Drinks – Ready to Drink (Shelf Stable)","Dairy, Refrigerated & Frozen"]
[null,null,10000193,"Dessertsauzen/Toppings/Vullingen (Diepvries)","Kruidenierswaren","Dessert Sauces/Toppings/Fillings (Frozen)","Grocery"]
[null,null,10000194,"Dessertsauzen/Toppings/Vullingen (Beperkt Houdbaar)","Kruidenierswaren","Dessert Sauces/Toppings/Fillings (Perishable)","Grocery"]
[null,null,10000195,"Dessertsauzen/Toppings/Vullingen (Houdbaar)","Kruidenierswaren","Dessert Sauces/Toppings/Fillings (Shelf Stable)","Grocery"]
[null,null,10000196,"Desserts (Diepvries)","Kruidenierswaren","Desserts (Frozen)","Grocery"]
[null,null,10000197,"Desserts (Beperkt Houdbaar)","Kruidenierswaren","Desserts (Perishable)","Grocery"]
[null,null,10000199,"Slasauzen//Dipsausjes (Beperkt Houdbaar)","Kruidenierswaren","Dressings/Dips (Perishable)","Grocery"]
[null,null,10000200,"Slasauzen/Dipsausjes (Houdbaar)","Kruidenierswaren","Dressings/Dips (Shelf Stable)","Grocery"]
[null,null,10000201,"Gearomatiseerde Dranken – Gebruiksklaar","Kruidenierswaren","Drinks Flavoured – Ready to Drink","Grocery"]
[null,null,10000202,"Gearomatiseerde Dranken – Niet-gebruiksklaar","Kruidenierswaren","Drinks Flavoured – Not Ready to Drink","Grocery"]
[null,null,10000203,"Meel – Graanproducten/Peulvruchten (Houdbaar)","Kruidenierswaren","Flour – Cereal/Pulse (Shelf Stable)","Grocery"]
[null,null,10000204,"Fruit – Bereid/Bewerkt (Diepvries)","Aardappelen, groente en fruit (vers)","Fruit – Prepared/Processed (Frozen)","Fresh Fruits & Vegetables"]
[null,null,10000205,"Fruit – Bereid/Bewerkt (Beperkt Houdbaar)","Aardappelen, groente en fruit (vers)","Fruit – Prepared/Processed (Perishable)","Fresh Fruits & Vegetables"]
[null,null,10000206,"Fruit – Bereid/Bewerkt (Houdbaar)","Aardappelen, groente en fruit (vers)","Fruit – Prepared/Processed (Shelf Stable)","Fresh Fruits & Vegetables"]
[null,null,10000207,"Fruit/Noten/Zaadjes Gemengd – Bereid/Bewerkt (Houdbaar)","Kruidenierswaren","Fruit/Nuts/Seeds Mixes – Prepared/Processed (Shelf Stable)","Grocery"]
[null,null,10000210,"Vruchten– en Kruidenthee – Instant","Kruidenierswaren","Fruit Herbal Infusions – Instant","Grocery"]
[null,null,10000211,"Granen/Graanproducten – Niet-gebruiksklaar (Houdbaar)","Kruidenierswaren","Grains/Cereal – Not Ready to Eat – (Shelf Stable)","Grocery"]
[null,null,10000212,"Kruiden/Specerijen (Diepvries)","Kruidenierswaren","Herbs/Spices (Frozen)","Grocery"]
[null,null,10000213,"Honing (Houdbaar)","Kruidenierswaren","Honey (Shelf Stable)","Grocery"]
[null,null,10000214,"IJsblokjes","Kruidenierswaren","Ice","Grocery"]
[null,null,10000215,"IJs (Diepvries)","Zuivel, gekoeld & diepvries","Ice Cream/Ice Novelties (Frozen)","Dairy, Refrigerated & Frozen"]
[null,null,10000216,"IJs (Houdbaar)","Zuivel, gekoeld & diepvries","Ice Cream/Ice Novelties (Shelf Stable)","Dairy, Refrigerated & Frozen"]
[null,null,10000217,"Jam/Marmelade (Houdbaar)","Kruidenierswaren","Jams/Marmalades (Shelf Stable)","Grocery"]
[null,null,10000219,"Vruchtensap – Gebruiksklaar (Beperkt Houdbaar)","Kruidenierswaren","Fruit Juice – Ready to Drink (Perishable)","Grocery"]
[null,null,10000220,"Vruchtensap – Gebruiksklaar (Houdbaar)","Kruidenierswaren","Fruit Juice – Ready to Drink (Shelf Stable)","Grocery"]
[null,null,10000222,"Dranken met Vruchtensap – Gebruiksklaar (Beperkt Houdbaar)","Kruidenierswaren","Fruit Juice Drinks – Ready to Drink (Perishable)","Grocery"]
[null,null,10000223,"Dranken met Vruchtensap – Gebruiksklaar (Houdbaar)","Kruidenierswaren","Fruit Juice Drinks – Ready to Drink (Shelf Stable)","Grocery"]
[null,null,10000227,"Likeuren","Alcoholische dranken","Liqueurs","Alcoholic Beverages"]
[null,null,10000232,"Mineraal–/Bron–/Tafelwater","Kruidenierswaren","Packaged Water","Grocery"]
[null,null,10000235,"Noten/Zaadjes - Bereid/Bewerkt (In Pel/Schil)","Kruidenierswaren","Nuts/Seeds – Prepared/Processed (In shell)","Grocery"]
[null,null,10000236,"Noten/Zaadjes - Bereid/Bewerkt (Uit Pel/Schil)","Kruidenierswaren","Nuts/Seeds – Prepared/Processed (Out of shell)","Grocery"]
[null,null,10000238,"Olijven (Beperkt Houdbaar)","Kruidenierswaren","Olives (Perishable)","Grocery"]
[null,null,10000239,"Olijven (Houdbaar)","Kruidenierswaren","Olives (Shelf Stable)","Grocery"]
[null,null,10000240,"Pasta/Noedels – Gebruiksklaar (Beperkt Houdbaar)","Kruidenierswaren","Pasta/Noodles – Ready to Eat (Perishable)","Grocery"]
[null,null,10000241,"Pasta/Noedels – Gebruiksklaar (Houdbaar)","Kruidenierswaren","Pasta/Noodles – Ready to Eat (Shelf Stable)","Grocery"]
[null,null,10000242,"Pasta/Noedels – Niet-gebruiksklaar (Houdbaar)","Kruidenierswaren","Pasta/Noodles – Not Ready to Eat (Shelf Stable)","Grocery"]
[null,null,10000244,"Ingelegde Groenten","Kruidenierswaren","Pickled Vegetables","Grocery"]
[null,null,10000245,"Taarten/Gebakjes – Zoet (Diepvries)","Kruidenierswaren","Pies/Pastries – Sweet (Frozen)","Grocery"]
[null,null,10000246,"Taarten/Gebakjes – Zoet (Beperkt Houdbaar)","Kruidenierswaren","Pies/Pastries – Sweet (Perishable)","Grocery"]
[null,null,10000247,"Taarten/Gebakjes – Zoet (Houdbaar)","Kruidenierswaren","Pies/Pastries – Sweet (Shelf Stable)","Grocery"]
[null,null,10000248,"Taarten/Gebakjes/Pizza's/Quiches – Hartig (Diepvries)","Delicatessen & bereide producten","Pies/Pastries/Pizzas/Quiches – Savoury (Frozen)","Deli & Prepared"]
[null,null,10000249,"Taarten/Gebakjes/Pizza's/Quiches – Hartig (Beperkt Houdbaar)","Delicatessen & bereide producten","Pies/Pastries/Pizzas/Quiches – Savoury (Perishable)","Deli & Prepared"]
[null,null,10000250,"Taarten/Gebakjes/Pizza's/Quiches – Hartig (Houdbaar)","Delicatessen & bereide producten","Pies/Pastries/Pizzas/Quiches – Savoury (Shelf Stable)","Deli & Prepared"]
[null,null,10000252,"Popcorn (Houdbaar)","Kruidenierswaren","Popcorn (Shelf Stable)","Grocery"]
[null,null,10000254,"Sandwiches/Gevulde Broodjes/Wraps (Diepvries)","Delicatessen & bereide producten","Sandwiches/Filled Rolls/Wraps (Frozen)","Deli & Prepared"]
[null,null,10000255,"Sandwiches/Gevulde Broodjes/Wraps (Beperkt Houdbaar)","Delicatessen & bereide producten","Sandwiches/Filled Rolls/Wraps (Perishable)","Deli & Prepared"]
[null,null,10000256,"Schaal-/Schelpdieren – Bereid/Bewerkt (Diepvries)","Vis (vers)","Shellfish Prepared/Processed (Frozen)","Fresh Fish"]
[null,null,10000257,"Schaal-/Schelpdieren – Bereid/Bewerkt (Beperkt Houdbaar)","Vis (vers)","Shellfish Prepared/Processed (Perishable)","Fresh Fish"]
[null,null,10000258,"Schaal-/Schelpdieren – Bereid/Bewerkt (Houdbaar)","Vis (vers)","Shellfish Prepared/Processed (Shelf Stable)","Fresh Fish"]
[null,null,10000260,"Soepen – Bereid (Diepvries)","Kruidenierswaren","Soups – Prepared (Frozen)","Grocery"]
[null,null,10000261,"Soepen – Bereid (Beperkt Houdbaar)","Kruidenierswaren","Soups – Prepared (Perishable)","Grocery"]
[null,null,10000262,"Soepen – Bereid (Houdbaar)","Kruidenierswaren","Soups – Prepared (Shelf Stable)","Grocery"]
[null,null,10000263,"Sterke Drank","Alcoholische dranken","Spirits","Alcoholic Beverages"]
[null,null,10000264,"Sportdranken – Isotoon/Verrijkt met Mineralen (Niet-gebruiksklaar)","Kruidenierswaren","Sports Drinks – Rehydration (Not Ready to Drink)","Grocery"]
[null,null,10000265,"Sportdranken – Isotoon/Verrijkt met Mineralen (Gebruiksklaar)","Kruidenierswaren","Sports Drinks – Rehydration (Ready To Drink)","Grocery"]
[null,null,10000266,"Energiedranken – Gebruiksklaar","Kruidenierswaren","Stimulants/Energy Drinks – Ready to Drink","Grocery"]
[null,null,10000267,"Shag/Pijptabak (los)","Tabakswaren","Tobacco – Loose","Tobacco"]
[null,null,10000268,"Pijptabak (vast)","Tabakswaren","Tobacco – Solid","Tobacco"]
[null,null,10000270,"Groenten – Bereid/Bewerkt (Diepvries)","Aardappelen, groente en fruit (vers)","Vegetables – Prepared/Processed (Frozen)","Fresh Fruits & Vegetables"]
[null,null,10000271,"Groenten – Bereid/Bewerkt (Beperkt Houdbaar)","Aardappelen, groente en fruit (vers)","Vegetables – Prepared/Processed (Perishable)","Fresh Fruits & Vegetables"]
[null,null,10000272,"Groenten – Bereid/Bewerkt (Houdbaar)","Aardappelen, groente en fruit (vers)","Vegetables – Prepared/Processed (Shelf Stable)","Fresh Fruits & Vegetables"]
[null,null,10000273,"Versterkte Wijn","Alcoholische dranken","Wine – Fortified","Alcoholic Beverages"]
[null,null,10000275,"Mousserende wijn","Alcoholische dranken","Wine – Sparkling","Alcoholic Beverages"]
[null,null,10000276,"Stille Wijn","Alcoholische dranken","Wine – Still","Alcoholic Beverages"]
[null,null,10000277,"Yoghurt (Diepvries)","Zuivel, gekoeld & diepvries","Yogurt (Frozen)","Dairy, Refrigerated & Frozen"]
[null,null,10000278,"Yoghurt (Beperkt Houdbaar)","Zuivel, gekoeld & diepvries","Yogurt (Perishable)","Dairy, Refrigerated & Frozen"]
[null,null,10000279,"Yoghurt (Houdbaar)","Zuivel, gekoeld & diepvries","Yogurt (Shelf Stable)","Dairy, Refrigerated & Frozen"]
[null,null,10000280,"Dipsauzen/Smaakmakers/Hartige Toppings/Hartige Spreads/Marinades (Houdbaar)","Kruidenierswaren","Other Sauces Dipping/Condiments/Savoury Toppings/Savoury Spreads/Marinades (Shelf Stable)","Grocery"]
[null,null,10000281,"Vis – Niet–bereid/Niet–bewerkt (Diepvries)","Vis (vers)","Fish – Unprepared/Unprocessed (Frozen)","Fresh Fish"]
[null,null,10000282,"Vis – Niet–bereid/Niet–bewerkt (Beperkt Houdbaar)","Vis (vers)","Fish – Unprepared/Unprocessed (Perishable)","Fresh Fish"]
[null,null,10000283,"Vis – Niet–bereid/Niet–bewerkt (Houdbaar)","Vis (vers)","Fish – Unprepared/Unprocessed (Shelf Stable)","Fresh Fish"]
[null,null,10000284,"Graanproducten – Gebruiksklaar (Houdbaar)","Kruidenierswaren","Cereals Products – Ready to Eat (Shelf Stable)","Grocery"]
[null,null,10000285,"Graanproducten – Niet-gebruiksklaar (Houdbaar)","Kruidenierswaren","Cereals Products – Not Ready to Eat (Shelf Stable)","Grocery"]
[null,null,10000286,"Graanproducten – Gebruiksklaar (Beperkt Houdbaar)","Kruidenierswaren","Cereal Products – Ready to Eat (Perishable)","Grocery"]
[null,null,10000287,"Graan–/Mueslirepen","Kruidenierswaren","Cereal/Muesli Bars","Grocery"]
[null,null,10000288,"Producten/Maaltijden op basis van Groenten – Gebruiksklaar (Houdbaar)","Kruidenierswaren","Vegetable Based Products / Meals – Ready to Eat (Shelf Stable)","Grocery"]
[null,null,10000289,"Producten/Maaltijden op basis van Groenten – Gebruiksklaar (Beperkt Houdbaar)","Kruidenierswaren","Vegetable Based Products / Meals – Ready to Eat (Perishable)","Grocery"]
[null,null,10000290,"Producten/Maaltijden op basis van Groenten – Niet-gebruiksklaar (Beperkt Houdbaar)","Kruidenierswaren","Vegetable Based Products / Meals – Not Ready to Eat (Perishable)","Grocery"]
[null,null,10000291,"Producten/Maaltijden op basis van Groenten – Niet-gebruiksklaar (Diepvries)","Kruidenierswaren","Vegetable Based Products / Meals – Not Ready to Eat (Frozen)","Grocery"]
[null,null,10000292,"Producten/Maaltijden op basis van Groenten – Niet-gebruiksklaar (Houdbaar)","Kruidenierswaren","Vegetable Based Products / Meals – Not Ready to Eat (Shelf Stable)","Grocery"]
[null,null,10000293,"Producten/Maaltijden op basis van Graan – Gebruiksklaar (Beperkt Houdbaar)","Kruidenierswaren","Grain Based Products / Meals – Ready to Eat – Savoury (Perishable)","Grocery"]
[null,null,10000294,"Producten/Maaltijden op basis van Graan – Gebruiksklaar (Houdbaar)","Kruidenierswaren","Grain Based Products / Meals – Ready to Eat – Savoury (Shelf Stable)","Grocery"]
[null,null,10000295,"Producten/Maaltijden op basis van Graan – Niet-gebruiksklaar)","Kruidenierswaren","Grain Based Products / Meals – Not Ready to Eat – Savoury (Perishable)","Grocery"]
[null,null,10000296,"Producten/Maaltijden op basis van Graan – Niet-gebruiksklaar (Diepvries)","Kruidenierswaren","Grain Based Products / Meals – Not Ready to Eat – Savoury (Frozen)","Grocery"]
[null,null,10000297,"Producten/Maaltijden op basis van Graan – Niet-gebruiksklaar (Houdbaar)","Kruidenierswaren","Grain Based Products / Meals – Not Ready to Eat – Savoury (Shelf Stable)","Grocery"]
[null,null,10000298,"Producten/Maaltijden op basis van Deeg – Gebruiksklaar (Beperkt Houdbaar)","Kruidenierswaren","Dough Based Products / Meals – Ready to Eat – Savoury (Perishable)","Grocery"]
[null,null,10000299,"Producten/Maaltijden op basis van Deeg – Gebruiksklaar (Houdbaar)","Kruidenierswaren","Dough Based Products / Meals – Ready to Eat – Savoury (Shelf Stable)","Grocery"]
[null,null,10000300,"Producten/Maaltijden op basis van Deeg – Niet-gebruiksklaar (Beperkt Houdbaar)","Kruidenierswaren","Dough Based Products / Meals – Not Ready to Eat – Savoury (Perishable)","Grocery"]
[null,null,10000301,"Producten/Maaltijden op basis van Deeg – Niet-gebruiksklaar (Diepvries)","Kruidenierswaren","Dough Based Products / Meals – Not Ready to Eat – Savoury (Frozen)","Grocery"]
[null,null,10000302,"Producten/Maaltijden op basis van Deeg – Niet-gebruiksklaar (Houdbaar)","Kruidenierswaren","Dough Based Products / Meals – Not Ready to Eat – Savoury (Shelf Stable)","Grocery"]
[null,null,10000304,"Biscuits/Koekjes (Diepvries)","Kruidenierswaren","Biscuits/Cookies (Frozen)","Grocery"]
[null,null,10000305,"Gedroogde Broodproducten (Diepvries)","Kruidenierswaren","Dried Breads (Frozen)","Grocery"]
[null,null,10000306,"Paté (Houdbaar)","Vlees (vers)","Pate (Shelf Stable)","Fresh Meat"]
[null,null,10000307,"Vruchtensap – Niet-gebruiksklaar (Diepvries)","Kruidenierswaren","Fruit Juice – Not Ready to Drink (Frozen)","Grocery"]
[null,null,10000308,"Vruchtensap – Niet-gebruiksklaar (Houdbaar)","Kruidenierswaren","Fruit Juice – Not Ready to Drink (Shelf Stable)","Grocery"]
[null,null,10000309,"Dranken met Vruchtensap – Niet-gebruiksklaar (Houdbaar)","Kruidenierswaren","Fruit Juice Drinks – Not Ready to Drink (Shelf Stable)","Grocery"]
[null,null,10000310,"Op Zuivel Gebaseerde Dranken – Niet-gebruiksklaar (Houdbaar)","Zuivel, gekoeld & diepvries","Dairy Based Drinks – Not Ready to Drink (Shelf Stable)","Dairy, Refrigerated & Frozen"]
[null,null,10000311,"Energiedranken – Niet-gebruiksklaar","Kruidenierswaren","Stimulants/Energy Drinks – Not Ready to Drink","Grocery"]
[null,null,10000312,"Desserts (Houdbaar)","Kruidenierswaren","Desserts (Shelf Stable)","Grocery"]
[null,null,10000313,"Vruchten– en Kruidenthee – Gebruiksklaar","Kruidenierswaren","Fruit Herbal Infusions – Ready to Drink","Grocery"]
[null,null,10000314,"Granen/Graanproducten – Niet-gebruiksklaar (Diepvries)","Kruidenierswaren","Grains/Cereal – Not Ready to Eat – (Frozen)","Grocery"]
[null,null,10000315,"Granen/Graanproducten – Niet-gebruiksklaar (Beperkt Houdbaar)","Kruidenierswaren","Grains/Cereal – Not Ready to Eat – (Perishable)","Grocery"]
[null,null,10000316,"Granen/Graanproducten – Gebruiksklaar – (Beperkt Houdbaar)","Kruidenierswaren","Grains/Cereal – Ready to Eat – (Perishable)","Grocery"]
[null,null,10000317,"Pasta/Noedels – Niet-gebruiksklaar (Beperkt Houdbaar)","Kruidenierswaren","Pasta/Noodles – Not Ready to Eat (Perishable)","Grocery"]
[null,null,10000318,"Pasta/Noedels – Niet-gebruiksklaar (Diepvries)","Kruidenierswaren","Pasta/Noodles – Not Ready to Eat (Frozen)","Grocery"]
[null,null,10000319,"Granen/Graanproducten – Gebruiksklaar – (Houdbaar)","Kruidenierswaren","Grains/Cereal – Ready to Eat – (Shelf Stable)","Grocery"]
[null,null,10000320,"Vrouwelijke Hygiëne – Tampons","Cosmetica en persoonlijke verzorgingsproducten","Feminine Hygiene – Tampons","Beauty & Personal Care"]
[null,null,10000321,"Incontinentie bij Volwassenen – Benodigdheden","Cosmetica en persoonlijke verzorgingsproducten","Adult Incontinence – Supplies","Beauty & Personal Care"]
[null,null,10000324,"Aftershave","Cosmetica en persoonlijke verzorgingsproducten","After Shave Care","Beauty & Personal Care"]
[null,null,10000327,"Anti–acné Hulpmiddelen (Niet–elektrisch)","Cosmetica en persoonlijke verzorgingsproducten","Anti-spot Aids (Non Powered)","Beauty & Personal Care"]
[null,null,10000328,"Badadditieven","Cosmetica en persoonlijke verzorgingsproducten","Bath Additives","Beauty & Personal Care"]
[null,null,10000329,"Lichaamshaar Bleek–/Maskeermiddelen","Cosmetica en persoonlijke verzorgingsproducten","Bleaching/Lightening Products","Beauty & Personal Care"]
[null,null,10000330,"Producten voor Lichaamsreiniging","Cosmetica en persoonlijke verzorgingsproducten","Cleansing/Washing/Soap – Body","Beauty & Personal Care"]
[null,null,10000332,"Gezichtsreiniging/Make–up Verwijderproducten (Niet–elektrisch)","Cosmetica en persoonlijke verzorgingsproducten","Cleansers/Cosmetics Removers (Non Powered)","Beauty & Personal Care"]
[null,null,10000333,"Nagels – Reinigingsmiddelen/Cosmetica Verwijderproducten","Cosmetica en persoonlijke verzorgingsproducten","Nails – Cleansers/Cosmetic Removers","Beauty & Personal Care"]
[null,null,10000334,"Bad/Douche Accessoires","Cosmetica en persoonlijke verzorgingsproducten","Cleansing/Washing Accessories – Personal","Beauty & Personal Care"]
[null,null,10000335,"Watten Producten","Cosmetica en persoonlijke verzorgingsproducten","Cotton Wool Products","Beauty & Personal Care"]
[null,null,10000336,"Gebitsprothesen/Orthodontie – Verzorgingsproduct","Cosmetica en persoonlijke verzorgingsproducten","Denture/Orthodontic – Care","Beauty & Personal Care"]
[null,null,10000337,"Gebitsprothesen/Orthodontie – Reinigingsproduct","Cosmetica en persoonlijke verzorgingsproducten","Denture/Orthodontic – Cleansing","Beauty & Personal Care"]
[null,null,10000338,"Transpiratiewerende producten/Deodorants","Cosmetica en persoonlijke verzorgingsproducten","Antiperspirants/Deodorants","Beauty & Personal Care"]
[null,null,10000340,"Depilatie/Epilatie (Niet–elektrisch)","Cosmetica en persoonlijke verzorgingsproducten","Depilation/Epilation (Non Powered)","Beauty & Personal Care"]
[null,null,10000341,"Oor–/Neusverzorging","Cosmetica en persoonlijke verzorgingsproducten","Ear/Nasal Care","Beauty & Personal Care"]
[null,null,10000342,"Peelings/Maskers","Cosmetica en persoonlijke verzorgingsproducten","Exfoliants/Masks","Beauty & Personal Care"]
[null,null,10000343,"Haar – Vals","Cosmetica en persoonlijke verzorgingsproducten","Hair – False","Beauty & Personal Care"]
[null,null,10000344,"Vrouwelijke Hygiëne – Accessoires","Cosmetica en persoonlijke verzorgingsproducten","Feminine Hygiene – Accessories","Beauty & Personal Care"]
[null,null,10000345,"Haar – Kleurmiddelen","Cosmetica en persoonlijke verzorgingsproducten","Hair – Colour","Beauty & Personal Care"]
[null,null,10000346,"Haar – Crèmespoeling/Behandeling","Cosmetica en persoonlijke verzorgingsproducten","Hair – Conditioner/Treatment","Beauty & Personal Care"]
[null,null,10000348,"Haar – Permanent","Cosmetica en persoonlijke verzorgingsproducten","Hair – Perming","Beauty & Personal Care"]
[null,null,10000349,"Scheeraccessoires","Cosmetica en persoonlijke verzorgingsproducten","Hair Removal/Shaving – Accessories","Beauty & Personal Care"]
[null,null,10000350,"Producten ter Verzorging na Ontharing","Cosmetica en persoonlijke verzorgingsproducten","Hair Removal – Care","Beauty & Personal Care"]
[null,null,10000355,"Bruinen Zonder Zon – Topisch (Niet–elektrisch)","Cosmetica en persoonlijke verzorgingsproducten","Sunless Tanning – Topical (Non Powered)","Beauty & Personal Care"]
[null,null,10000356,"Vochtinbrengende Producten","Cosmetica en persoonlijke verzorgingsproducten","Skin Care/Moisturising Products","Beauty & Personal Care"]
[null,null,10000358,"Nagels – Hulpmiddelen(Niet–elektrisch)","Cosmetica en persoonlijke verzorgingsproducten","Nails – Aids (Non Powered)","Beauty & Personal Care"]
[null,null,10000359,"Nagels – Vals","Cosmetica en persoonlijke verzorgingsproducten","Nails – False","Beauty & Personal Care"]
[null,null,10000360,"Nagels – Cosmetica","Cosmetica en persoonlijke verzorgingsproducten","Cosmetics – Nails","Beauty & Personal Care"]
[null,null,10000361,"Nagels – Behandelingen","Cosmetica en persoonlijke verzorgingsproducten","Nails – Treatments","Beauty & Personal Care"]
[null,null,10000362,"Borstvoedingshygiëne Accessoires","Cosmetica en persoonlijke verzorgingsproducten","Nursing Hygiene Accessories","Beauty & Personal Care"]
[null,null,10000363,"Mondverzorging – Accessoires","Cosmetica en persoonlijke verzorgingsproducten","Oral Care – Accessories","Beauty & Personal Care"]
[null,null,10000365,"Parfums","Cosmetica en persoonlijke verzorgingsproducten","Fragrances","Beauty & Personal Care"]
[null,null,10000368,"Haar – Shampoo","Cosmetica en persoonlijke verzorgingsproducten","Hair – Shampoo","Beauty & Personal Care"]
[null,null,10000369,"Scheermesjes","Cosmetica en persoonlijke verzorgingsproducten","Shaving – Blades","Beauty & Personal Care"]
[null,null,10000370,"Wegwerp Scheermesjes (Niet–elektrisch)","Cosmetica en persoonlijke verzorgingsproducten","Shaving – Razors – Disposable (Non Powered)","Beauty & Personal Care"]
[null,null,10000373,"Zonbeschermende Producten","Cosmetica en persoonlijke verzorgingsproducten","Sun Protection Products","Beauty & Personal Care"]
[null,null,10000374,"Body Poeder","Cosmetica en persoonlijke verzorgingsproducten","Skin Drying Powder","Beauty & Personal Care"]
[null,null,10000375,"WC–papier","Cosmetica en persoonlijke verzorgingsproducten","Toilet Paper","Beauty & Personal Care"]
[null,null,10000376,"Vrouwelijke Hygiëne – Handdoekjes/Maandverbanden","Cosmetica en persoonlijke verzorgingsproducten","Feminine Hygiene – Towels/Pads","Beauty & Personal Care"]
[null,null,10000377,"Cosmetica – Hulpmiddelen/Accessoires","Cosmetica en persoonlijke verzorgingsproducten","Cosmetic Aids/Accessories","Beauty & Personal Care"]
[null,null,10000379,"Haar – Accessoires","Cosmetica en persoonlijke verzorgingsproducten","Hair – Accessories","Beauty & Personal Care"]
[null,null,10000381,"Haar – Styling (Niet–elektrisch)","Cosmetica en persoonlijke verzorgingsproducten","Hair – Styling (Non Powered)","Beauty & Personal Care"]
[null,null,10000383,"Gebitsreiniging","Cosmetica en persoonlijke verzorgingsproducten","Dental Cleansing","Beauty & Personal Care"]
[null,null,10000384,"Mondverzorging – Hulpmiddelen(Niet–elektrisch)","Cosmetica en persoonlijke verzorgingsproducten","Oral Care – Aids (Non Powered)","Beauty & Personal Care"]
[null,null,10000385,"Nagels – Accessoires (Niet–elektrisch)","Cosmetica en persoonlijke verzorgingsproducten","Nails – Accessories (Non Powered)","Beauty & Personal Care"]
[null,null,10000388,"Kleurversnellende Producten","Cosmetica en persoonlijke verzorgingsproducten","Sun Tan Accelerator Products","Beauty & Personal Care"]
[null,null,10000397,"Schoonmaakproducten/Verzorging – Hulpmiddelen","Schoonmaakartikelen","Cleaning Aids","Cleaners"]
[null,null,10000398,"Schoonmaakproducten/Verzorging – Accessoires","Schoonmaakartikelen","Cleaning Accessories","Cleaners"]
[null,null,10000405,"Huishoudelijke Schoonmaakmiddelen","Schoonmaakartikelen","Surface Cleaners","Cleaners"]
[null,null,10000423,"Leidingontstoppers","Schoonmaakartikelen","Drain Treatments/Pipe Unblockers","Cleaners"]
[null,null,10000424,"Wasmiddelen","Schoonmaakartikelen","Laundry Detergents","Cleaners"]
[null,null,10000426,"WC–Schoonmaakproducten","Schoonmaakartikelen","Toilet Cleaning Products","Cleaners"]
[null,null,10000427,"Kleurbeschermend middel","Schoonmaakartikelen","Laundry Colour Care","Cleaners"]
[null,null,10000434,"Oppervlakteverzorging/Bescherming","Schoonmaakartikelen","Surface Care/Protection","Cleaners"]
[null,null,10000440,"Schimmelverwijderaars","Schoonmaakartikelen","Mould/Mildew Removers","Cleaners"]
[null,null,10000441,"Desinfecterende middelen","Schoonmaakartikelen","Disinfectants","Cleaners"]
[null,null,10000442,"Ontkalkers","Schoonmaakartikelen","Descalers","Cleaners"]
[null,null,10000443,"Vlekverwijderaars","Schoonmaakartikelen","Stain Removers","Cleaners"]
[null,null,10000444,"Chemisch Reinigen/Stomerij","Schoonmaakartikelen","Laundry Dry Cleaning","Cleaners"]
[null,null,10000445,"Beschermingsproducten voor Vaatwasmachines","Schoonmaakartikelen","Dish Care/Protection","Cleaners"]
[null,null,10000446,"Waterverzachters","Schoonmaakartikelen","Water Softeners","Cleaners"]
[null,null,10000447,"Papieren Handdoekjes","Wegwerpartikelen","Paper Towels","Disposables"]
[null,null,10000460,"Condooms","Cosmetica en persoonlijke verzorgingsproducten","Condoms","Beauty & Personal Care"]
[null,null,10000461,"Pessaria/Cervixkapjes","Cosmetica en persoonlijke verzorgingsproducten","Diaphragms/Cervical Caps","Beauty & Personal Care"]
[null,null,10000462,"Spermiciden","Cosmetica en persoonlijke verzorgingsproducten","Spermicides","Beauty & Personal Care"]
[null,null,10000481,"Incontinentie bij Volwassenen – Maandverbanden","Cosmetica en persoonlijke verzorgingsproducten","Adult Incontinence – Pads","Beauty & Personal Care"]
[null,null,10000482,"Vrouwelijke Hygiëne – Cups","Cosmetica en persoonlijke verzorgingsproducten","Feminine Hygiene – Cups","Beauty & Personal Care"]
[null,null,10000483,"Vrouwelijke Hygiëne – Inlegkruisjes","Cosmetica en persoonlijke verzorgingsproducten","Feminine Hygiene – Panty Liners","Beauty & Personal Care"]
[null,null,10000484,"Toners/Adstringerende Middelen","Cosmetica en persoonlijke verzorgingsproducten","Toners/Astringents","Beauty & Personal Care"]
[null,null,10000485,"Gezichtsdoeken/Zakdoeken (Wegwerpartikel)","Cosmetica en persoonlijke verzorgingsproducten","Facial Tissue/Handkerchiefs (Disposable)","Beauty & Personal Care"]
[null,null,10000486,"Huidverlichting","Cosmetica en persoonlijke verzorgingsproducten","Skin Lightening","Beauty & Personal Care"]
[null,null,10000489,"Hulpmiddelen voor Voetverzorging/Hygiëne","Cosmetica en persoonlijke verzorgingsproducten","Foot Care/Hygiene Aids","Beauty & Personal Care"]
[null,null,10000494,"Babyluiers (Wegwerpartikel)","Cosmetica en persoonlijke verzorgingsproducten","Baby Diapers (Disposable)","Beauty & Personal Care"]
[null,null,10000495,"Baby Inlegluiers","Cosmetica en persoonlijke verzorgingsproducten","Baby Inserts/Pads","Beauty & Personal Care"]
[null,null,10000496,"Babyluiers Accessoires","Cosmetica en persoonlijke verzorgingsproducten","Baby Diapers Accessories","Beauty & Personal Care"]
[null,null,10000505,"Baby Hygiëneproducten","Cosmetica en persoonlijke verzorgingsproducten","Baby Hygiene Products","Beauty & Personal Care"]
[null,null,10000506,"Dranken voor Huisdieren (Diepvries)","Diervoeding","Pet Drinks (Frozen)","Petfood"]
[null,null,10000507,"Voedingsmiddelen voor Huisdieren (Diepvries)","Diervoeding","Pet Food (Frozen)","Petfood"]
[null,null,10000513,"Voedingssupplementen voor Huisdieren","Diervoeding","Pet Nutritional Supplements","Petfood"]
[null,null,10000521,"Voedingsmiddelen voor Huisdieren (Beperkt Houdbaar)","Diervoeding","Pet Food (Perishable)","Petfood"]
[null,null,10000522,"Voedingsmiddelen voor Huisdieren (Houdbaar)","Diervoeding","Pet Food (Shelf Stable)","Petfood"]
[null,null,10000523,"Dranken voor Huisdieren (Beperkt Houdbaar)","Diervoeding","Pet Drinks (Perishable)","Petfood"]
[null,null,10000524,"Dranken voor Huisdieren (Houdbaar)","Diervoeding","Pet Drinks (Shelf Stable)","Petfood"]
[null,null,10000527,"Verzorgingsproductenvoor Contactlenzen","Cosmetica en persoonlijke verzorgingsproducten","Optic Appliances Care – Contact Lenses","Beauty & Personal Care"]
[null,null,10000531,"Bleekmiddel","Schoonmaakartikelen","Bleach","Cleaners"]
[null,null,10000532,"Cosmetica – Gezichtstint","Cosmetica en persoonlijke verzorgingsproducten","Cosmetics – Complexion","Beauty & Personal Care"]
[null,null,10000533,"Cosmetica – Ogen","Cosmetica en persoonlijke verzorgingsproducten","Cosmetics – Eyes","Beauty & Personal Care"]
[null,null,10000534,"Cosmetica – Lippen","Cosmetica en persoonlijke verzorgingsproducten","Cosmetics – Lips","Beauty & Personal Care"]
[null,null,10000535,"Pre–shave/Scheerschuim/Scheermiddel","Cosmetica en persoonlijke verzorgingsproducten","Shaving Preparations","Beauty & Personal Care"]
[null,null,10000536,"Ademverfrissers/Mondspoelingen","Cosmetica en persoonlijke verzorgingsproducten","Breath Fresheners/Mouth Rinses","Beauty & Personal Care"]
[null,null,10000554,"Wegwerpkookgerei","Wegwerpartikelen","Cookware (Disposable)","Disposables"]
[null,null,10000556,"Krasverwijderaars","Schoonmaakartikelen","Scratch Remover Kit/Repairs","Cleaners"]
[null,null,10000564,"Haar – Hulpmiddelen(Niet–elektrisch)","Cosmetica en persoonlijke verzorgingsproducten","Hair – Aids (Non Powered)","Beauty & Personal Care"]
[null,null,10000566,"Persoonlijke Verwarming/Massage (Niet–elektrisch)","Cosmetica en persoonlijke verzorgingsproducten","Personal Warming/Massaging (Non Powered)","Beauty & Personal Care"]
[null,null,10000567,"Producten voor Spierstimulatie (Elektrisch)","Cosmetica en persoonlijke verzorgingsproducten","Body Toning/Firming Products (Powered)","Beauty & Personal Care"]
[null,null,10000573,"Vochtige Doekjes","Cosmetica en persoonlijke verzorgingsproducten","Wipes – Personal","Beauty & Personal Care"]
[null,null,10000574,"Eetbare Vetten – Dierlijk (Houdbaar)","Kruidenierswaren","Fats Edible – Animal (Shelf Stable)","Grocery"]
[null,null,10000576,"Paté (Diepvries)","Vlees (vers)","Pate (Frozen)","Fresh Meat"]
[null,null,10000577,"Dipsauzen/Smaakmakers/Hartige Toppings/Hartige Spreads/Marinades (Diepvries)","Kruidenierswaren","Other Sauces Dipping/Condiments/Savoury Toppings/Savoury Spreads/Marinades (Frozen)","Grocery"]
[null,null,10000578,"Vloeibare Bouillon/Beenderen (Houdbaar)","Kruidenierswaren","Stock/Bones (Shelf Stable)","Grocery"]
[null,null,10000579,"Vloeibare Bouillon/Beenderen (Beperkt Houdbaar)","Kruidenierswaren","Stock/Bones (Perishable)","Grocery"]
[null,null,10000580,"Vloeibare Bouillon/Beenderen (Diepvries)","Kruidenierswaren","Stock/Bones (Frozen)","Grocery"]
[null,null,10000581,"Bouillon/Vleesjus/Glaceermiddelen (Houdbaar)","Kruidenierswaren","Food Glazes (Shelf Stable)","Grocery"]
[null,null,10000583,"Dressing/Dipsausjes (Diepvries)","Kruidenierswaren","Dressing/Dips (Frozen)","Grocery"]
[null,null,10000584,"Kruidensigaretten – Tabak– en Nicotinevrij","Tabakswaren","Herbal Cigarettes – Non Tobacco","Tobacco"]
[null,null,10000585,"Eetbare Vetten – Plantaardig (Beperkt Houdbaar)","Kruidenierswaren","Fats Edible – Vegetable/Plant (Perishable)","Grocery"]
[null,null,10000586,"Chutneys/Pikante sauzen (Diepvries)","Kruidenierswaren","Chutneys/Relishes (Frozen)","Grocery"]
[null,null,10000587,"Chutneys/Pikante sauzen (Beperkt Houdbaar)","Kruidenierswaren","Chutneys/Relishes (Perishable)","Grocery"]
[null,null,10000588,"Alcoholhoudende Dranken gefermenteerd, niet op basis van Druiven – Niet–mousserend","Alcoholische dranken","Non Grape Fermented Alcoholic Beverages – Still","Alcoholic Beverages"]
[null,null,10000589,"Maagbitters/Alcoholische Siropen","Alcoholische dranken","Alcoholic Syrups and Bitters","Alcoholic Beverages"]
[null,null,10000591,"Alcoholische Dranken – Assortimenten","Alcoholische dranken","Alcoholic Beverages Variety Packs","Alcoholic Beverages"]
[null,null,10000592,"Koffie/Thee/Vervangingsmiddelen – Assortimenten","Kruidenierswaren","Coffee/Tea/Substitutes Variety Packs","Grocery"]
[null,null,10000593,"Alcoholvrije Dranken – Assortimenten (Niet-gebruiksklaar)","Kruidenierswaren","Non Alcoholic Beverages Variety Packs – Not Ready to Drink","Grocery"]
[null,null,10000594,"Alcoholvrije Dranken – Assortimenten (Gebruiksklaar)","Kruidenierswaren","Non Alcoholic Beverages Variety Packs – Ready to Drink","Grocery"]
[null,null,10000595,"Bak/Kook Samenstellingen/Benodigdheden – Assortimenten","Kruidenierswaren","Baking/Cooking Mixes/Supplies Variety Packs","Grocery"]
[null,null,10000596,"Biscuits/Koekjes – Assortimenten","Kruidenierswaren","Biscuits/Cookies Variety Packs","Grocery"]
[null,null,10000597,"Zoete Bakkerij Producten – Assortimenten","Kruidenierswaren","Sweet Bakery Products Variety Packs","Grocery"]
[null,null,10000598,"Brood/Bakkerijproducten – Assortimenten","Kruidenierswaren","Bread/Bakery Products Variety Packs","Grocery"]
[null,null,10000599,"Granen/Meel – Assortimenten","Kruidenierswaren","Grains/Flour Variety Packs","Grocery"]
[null,null,10000600,"Bewerkte Graanproducten – Assortimenten","Kruidenierswaren","Processed Cereal Products Variety Packs","Grocery"]
[null,null,10000601,"Graanproduct/Peulvruchtproduct – Assortimenten","Kruidenierswaren","Cereal/Grain/Pulse Products Variety Packs","Grocery"]
[null,null,10000602,"Zoetwaren Producten – Assortimenten","Kruidenierswaren","Confectionery Products Variety Packs","Grocery"]
[null,null,10000603,"Suikers/ Kunstmatige Zoetstoffen – Assortimenten","Kruidenierswaren","Sugars/Sugar Substitute Products Variety Packs","Grocery"]
[null,null,10000604,"Fruit/Noten/Zaadjes Combinatie – Assortimenten","Kruidenierswaren","Fruit/Nuts/Seeds Combination Variety Packs","Grocery"]
[null,null,10000605,"Fruit/Groenten/Noten/Zaadjes – Assortimenten","Kruidenierswaren","Fruits/Vegetables/Nuts/Seeds Variety Packs","Grocery"]
[null,null,10000607,"Melk/Boter/Room/Yoghurt/Kaas/Eieren/Vervangingsmiddelen – Assortimenten","Zuivel, gekoeld & diepvries","Milk/Butter/Cream/Yogurts/Cheese/Eggs/Substitutes Variety Packs","Dairy, Refrigerated & Frozen"]
[null,null,10000608,"Eetbare Vetten – Assortimenten","Kruidenierswaren","Fats Edible Variety Packs","Grocery"]
[null,null,10000609,"Eetbare Oliën en Vetten – Assortimenten","Kruidenierswaren","Oils/Fats Edible Variety Packs","Grocery"]
[null,null,10000611,"Desserts/Dessert Toppings – Assortimenten","Kruidenierswaren","Desserts/Dessert Toppings Variety Packs","Grocery"]
[null,null,10000612,"Snacks – Assortimenten","Kruidenierswaren","Snacks Variety Packs","Grocery"]
[null,null,10000613,"Bereide/Bewerkte Levensmiddelen – Assortimenten","Kruidenierswaren","Prepared/Preserved Foods Variety Packs","Grocery"]
[null,null,10000614,"Schaal–/Schelpdieren – Assortimenten","Vis (vers)","Seafood Variety Packs","Fresh Fish"]
[null,null,10000615,"Kruiden/Specerijen/Extracten – Assortimenten","Kruidenierswaren","Herbs/Spices/Extracts Variety Packs","Grocery"]
[null,null,10000616,"Augurken/Pikante sauzen/Chutneys/Olijven – Assortimenten","Kruidenierswaren","Pickles/Relishes/Chutneys/Olives Variety Packs","Grocery"]
[null,null,10000617,"Sauzen/Spreads/Dipsausjes/Smaakmakers – Assortimenten","Kruidenierswaren","Sauces/Spreads/Dips/Condiments Variety Packs","Grocery"]
[null,null,10000618,"Azijnen/Kookwijnen – Assortimenten","Kruidenierswaren","Vinegars/Cooking Wines Variety Packs","Grocery"]
[null,null,10000619,"Kruiden/Conserveringsmiddelen/Extracten – Assortimenten","Kruidenierswaren","Seasonings/Preservatives/Extracts Variety Packs","Grocery"]
[null,null,10000620,"Rookwaren/Rookaccessoires – Assortimenten","Tabakswaren","Tobacco Products/Smoking Accessories Variety Packs","Tobacco"]
[null,null,10000621,"Zoet Smeerbeleg – Assortimenten","Kruidenierswaren","Sweet Spreads Variety Packs","Grocery"]
[null,null,10000622,"Zoetwaren/Kunstmatige Zoetstof – Assortimenten","Kruidenierswaren","Confectionery/Sugar Sweetening Products Variety Packs","Grocery"]
[null,null,10000623,"Dranken – Assortimenten","Kruidenierswaren","Beverages Variety Packs","Grocery"]
[null,null,10000626,"Ongewervelde Waterdieren/Vis/Schaal–/Schelpdieren Mix – Bereid/Bewerkt (Diepvries)","Vis (vers)","Aquatic Invertebrates/Fish/Shellfish/Seafood Mixes – Prepared/Processed (Frozen)","Fresh Fish"]
[null,null,10000627,"Ongewervelde Waterdieren/Vis/Schaal–/Schelpdieren Mix – Bereid/Bewerkt (Beperkt Houdbaar)","Vis (vers)","Aquatic Invertebrates/Fish/Shellfish/Seafood Mixes – Prepared/Processed (Perishable)","Fresh Fish"]
[null,null,10000628,"Ongewervelde Waterdieren/Vis/Schaal–/Schelpdieren Mix – Bereid/Bewerkt (Houdbaar)","Vis (vers)","Aquatic Invertebrates/Fish/Shellfish/Seafood Mixes – Prepared/Processed (Shelf Stable)","Fresh Fish"]
[null,null,10000629,"Ongewervelde Waterdieren/Vis/Schaal–/Schelpdieren Mix – Niet–bereid/Niet–bewerkt (Diepvries)","Vis (vers)","Aquatic Invertebrates/Fish/Shellfish/Seafood Mixes – Unprepared/Unprocessed (Frozen)","Fresh Fish"]
[null,null,10000630,"Ongewervelde Waterdieren/Vis/Schaal–/Schelpdieren Mix – Niet–bereid/Niet–bewerkt (Beperkt Houdbaar)","Vis (vers)","Aquatic Invertebrates/Fish/Shellfish/Seafood Mixes – Unprepared/Unprocessed (Perishable)","Fresh Fish"]
[null,null,10000631,"Ongewervelde Waterdieren/Vis/Schaal–/Schelpdieren Mix – Niet–bereid/Niet–bewerkt (Houdbaar)","Vis (vers)","Aquatic Invertebrates/Fish/Shellfish/Seafood Mixes – Unprepared/Unprocessed (Shelf Stable)","Fresh Fish"]
[null,null,10000635,"Wegwerptafelgerei/Wegwerptafelbekleding","Wegwerpartikelen","Dinnerware (Disposable)","Disposables"]
[null,null,10000636,"Vaatreiniging/–Verzorging – Hand","Schoonmaakartikelen","Dish Cleaning/Care – Hand","Cleaners"]
[null,null,10000654,"Verzorging/Voedingsmiddelen voor Huisdieren – Assortimenten","Diervoeding","Pet Care/Food Variety Packs","Petfood"]
[null,null,10000658,"Voedingssupplementen voor Huisdieren – Assortimenten","Diervoeding","Pet Nutritional Supplements Variety Packs","Petfood"]
[null,null,10000663,"Voedingsmiddelen/Dranken voor Huisdieren – Assortimenten","Diervoeding","Pet Food/Drinks Variety Packs","Petfood"]
[null,null,10000666,"Schoonheid/Persoonlijke Verzorging/Hygiëne – Assortimenten","Cosmetica en persoonlijke verzorgingsproducten","Beauty/Personal Care/Hygiene Variety Packs","Beauty & Personal Care"]
[null,null,10000668,"Lichaamsmassage/Spierstimulatoren – Assortimenten","Cosmetica en persoonlijke verzorgingsproducten","Body Massage/Toning Variety Packs","Beauty & Personal Care"]
[null,null,10000669,"Cosmeticaproducten – Assortimenten","Cosmetica en persoonlijke verzorgingsproducten","Cosmetic Products Variety Packs","Beauty & Personal Care"]
[null,null,10000671,"Cosmetica/Verzorgingsproducten voor Nagels – Assortimenten","Cosmetica en persoonlijke verzorgingsproducten","Nail Cosmetic/Care Products Variety Packs","Beauty & Personal Care"]
[null,null,10000672,"Cosmetica/Parfums – Assortimenten","Cosmetica en persoonlijke verzorgingsproducten","Cosmetics/Fragrances Variety Packs","Beauty & Personal Care"]
[null,null,10000674,"Mechanische Anticonceptiva – Assortimenten","Cosmetica en persoonlijke verzorgingsproducten","Barrier Contraception Variety Packs","Beauty & Personal Care"]
[null,null,10000675,"Gezinsplanning – Assortimenten","Cosmetica en persoonlijke verzorgingsproducten","Family Planning Variety Packs","Beauty & Personal Care"]
[null,null,10000676,"Haarproducten – Assortimenten","Cosmetica en persoonlijke verzorgingsproducten","Hair Products Variety Packs","Beauty & Personal Care"]
[null,null,10000677,"Haarverzorgingsproducten – Assortimenten","Cosmetica en persoonlijke verzorgingsproducten","Hair Care Products Variety Packs","Beauty & Personal Care"]
[null,null,10000678,"Haar – Styling (Elektrisch)","Cosmetica en persoonlijke verzorgingsproducten","Hair – Styling (Powered)","Beauty & Personal Care"]
[null,null,10000679,"Spiegels voor Persoonlijke Verzorging","Cosmetica en persoonlijke verzorgingsproducten","Mirrors – Personal Care","Beauty & Personal Care"]
[null,null,10000680,"Ontharingsproducten – Assortimenten","Cosmetica en persoonlijke verzorgingsproducten","Hair Removal/Masking Products Variety Packs","Beauty & Personal Care"]
[null,null,10000687,"Verzorging/Behandeling van Zintuigen – Assortimenten","Cosmetica en persoonlijke verzorgingsproducten","Sensory Organs Care/Treatments Variety Packs","Beauty & Personal Care"]
[null,null,10000688,"Verzorgingsproducten voor Brillen","Cosmetica en persoonlijke verzorgingsproducten","Optic Appliances Care – Spectacles","Beauty & Personal Care"]
[null,null,10000689,"Verzorgingsproducten voor Brillen – Accessoires","Cosmetica en persoonlijke verzorgingsproducten","Spectacle Care Accessories","Beauty & Personal Care"]
[null,null,10000692,"Wegwerpzakjes voor Levensmiddelen","Wegwerpartikelen","Disposable Food Bags","Disposables"]
[null,null,10000693,"Wegwerpverpakkingsfolie voor Levensmiddelen","Wegwerpartikelen","Disposable Food Wrap","Disposables"]
[null,null,10000694,"Schoonmaak–/Hygiënemiddelen – Assortimenten","Schoonmaakartikelen","Cleaning/Hygiene Products Variety Packs","Cleaners"]
[null,null,10000698,"Schoonmaakproducten – Assortimenten","Schoonmaakartikelen","Cleaners Variety Packs","Cleaners"]
[null,null,10000699,"Wasproducten – Assortimenten","Schoonmaakartikelen","Laundry Variety Packs","Cleaners"]
[null,null,10000701,"Oppervlakteverzorging – Assortimenten","Schoonmaakartikelen","Surface Care Variety Packs","Cleaners"]
[null,null,10000702,"Huishoudelijke Schoonmaakproducten – Assortimenten","Schoonmaakartikelen","Cleaning Variety Packs","Cleaners"]
[null,null,10000709,"Incontinentie bij Volwassenen – Ondergoed (Wegwerpartikel)","Cosmetica en persoonlijke verzorgingsproducten","Adult Incontinence – Underwear (Disposable)","Beauty & Personal Care"]
[null,null,10000710,"Incontinentie bij Volwassenen – Ondergoed (Geen Wegwerpartikel)","Cosmetica en persoonlijke verzorgingsproducten","Adult Incontinence – Underwear (Non Disposable)","Beauty & Personal Care"]
[null,null,10000712,"Lichaamsverzorgingsproducten – Assortimenten","Cosmetica en persoonlijke verzorgingsproducten","Personal Hygiene Products Variety Packs","Beauty & Personal Care"]
[null,null,10000713,"Incontinentie bij Volwassenen – Assortimenten","Cosmetica en persoonlijke verzorgingsproducten","Adult Incontinence Variety Packs","Beauty & Personal Care"]
[null,null,10000714,"Vrouwelijke Hygiëne – Assortimenten","Cosmetica en persoonlijke verzorgingsproducten","Feminine/Nursing Hygiene Variety Packs","Beauty & Personal Care"]
[null,null,10000715,"Algemene Lichaamsverzorging – Assortimenten","Cosmetica en persoonlijke verzorgingsproducten","General Personal Hygiene Variety Packs","Beauty & Personal Care"]
[null,null,10000716,"Mondhygiëne – Assortimenten","Cosmetica en persoonlijke verzorgingsproducten","Oral Hygiene Variety Packs","Beauty & Personal Care"]
[null,null,10000717,"Huidproducten – Assortimenten","Cosmetica en persoonlijke verzorgingsproducten","Skin Products Variety Packs","Beauty & Personal Care"]
[null,null,10000719,"Verkoelende Gezichts–/Lichaamsbenevelaars","Cosmetica en persoonlijke verzorgingsproducten","Cooling Face/Body Misters","Beauty & Personal Care"]
[null,null,10000721,"Huidverzorging – Assortimenten","Cosmetica en persoonlijke verzorgingsproducten","Skin Care Variety Packs","Beauty & Personal Care"]
[null,null,10000722,"Lichaamsreiniging – Assortimenten","Cosmetica en persoonlijke verzorgingsproducten","Body Washing Variety Packs","Beauty & Personal Care"]
[null,null,10000723,"Bruiningsproducten – Assortimenten","Cosmetica en persoonlijke verzorgingsproducten","Skin Tanning Products Variety Packs","Beauty & Personal Care"]
[null,null,10000728,"Babyluiers (Geen Wegwerpartikel)","Cosmetica en persoonlijke verzorgingsproducten","Baby Diapers (Non Disposable)","Beauty & Personal Care"]
[null,null,10000730,"Scheermesjes (Niet–elektrisch)","Cosmetica en persoonlijke verzorgingsproducten","Shaving – Razors – Non Disposable (Non Powered)","Beauty & Personal Care"]
[null,null,10000731,"Bruinen Zonder Zon – Oraal (Niet–elektrisch)","Cosmetica en persoonlijke verzorgingsproducten","Sunless Tanning – Oral (Non Powered)","Beauty & Personal Care"]
[null,null,10000737,"Voedingssupplementen voor Huisdieren – Overig","Diervoeding","Pet Nutritional Supplements Other","Petfood"]
[null,null,10000741,"Stoffenbeschermers","Schoonmaakartikelen","Fabric Protectors","Cleaners"]
[null,null,10000742,"Strijkconcentraten/Stijfsel","Schoonmaakartikelen","Fabric Finishers/Starch","Cleaners"]
[null,null,10000743,"Wasmiddelversterkers/Bleekmiddelen","Schoonmaakartikelen","Detergent Boosters/Laundry Bleaches","Cleaners"]
[null,null,10000744,"Wasverzachters/Conditioners","Schoonmaakartikelen","Fabric Softeners/Conditioners","Cleaners"]
[null,null,10000746,"Schoonmaakproducten – Overig","Schoonmaakartikelen","Cleaners Other","Cleaners"]
[null,null,10000747,"Wasproducten – Overig","Schoonmaakartikelen","Laundry Other","Cleaners"]
[null,null,10000749,"Oppervlakteverzorging – Overig","Schoonmaakartikelen","Surface Care Other","Cleaners"]
[null,null,10000758,"Lichaamsmassage/Spierstimulatoren – Onderdelen","Cosmetica en persoonlijke verzorgingsproducten","Body Massage/Toning – Replacement Parts","Beauty & Personal Care"]
[null,null,10000759,"Persoonlijke Verwarming/Massage (Elektrisch)","Cosmetica en persoonlijke verzorgingsproducten","Personal Warming/Massaging (Powered)","Beauty & Personal Care"]
[null,null,10000760,"Lichaamsmassage/Spierstimulatoren – Overig","Cosmetica en persoonlijke verzorgingsproducten","Body Massage/Toning Other","Beauty & Personal Care"]
[null,null,10000761,"Cosmetica – Maquillage/Glinsters/Glitters","Cosmetica en persoonlijke verzorgingsproducten","Cosmetic Paints/Shimmers/Glitters","Beauty & Personal Care"]
[null,null,10000763,"Tatoeages/Plakkers/Zelfklevende Sieraden – Tijdelijk","Cosmetica en persoonlijke verzorgingsproducten","Tattoos/Stencils/Stick-on Jewellery – Temporary","Beauty & Personal Care"]
[null,null,10000764,"Valse Wimpers","Cosmetica en persoonlijke verzorgingsproducten","Eyelashes – False","Beauty & Personal Care"]
[null,null,10000767,"Nagels – Accessoires (Elektrisch)","Cosmetica en persoonlijke verzorgingsproducten","Nails – Accessories (Powered)","Beauty & Personal Care"]
[null,null,10000768,"Cosmetica/Verzorgingsproducten voor Nagels – Onderdelen","Cosmetica en persoonlijke verzorgingsproducten","Nail Cosmetic/Care Products – Replacement Parts","Beauty & Personal Care"]
[null,null,10000775,"Cosmeticaproducten – Overig","Cosmetica en persoonlijke verzorgingsproducten","Cosmetic Products Other","Beauty & Personal Care"]
[null,null,10000778,"Cosmetica/Verzorgingsproducten voor Nagels – Overig","Cosmetica en persoonlijke verzorgingsproducten","Nail Cosmetic/Care Products Other","Beauty & Personal Care"]
[null,null,10000780,"Nagels – Hulpmiddelen(Elektrisch)","Cosmetica en persoonlijke verzorgingsproducten","Nails – Aids (Powered)","Beauty & Personal Care"]
[null,null,10000781,"Mondverzorging – Hulpmiddelen(Elektrisch)","Cosmetica en persoonlijke verzorgingsproducten","Oral Care – Aids (Powered)","Beauty & Personal Care"]
[null,null,10000782,"MondHygiëne – Onderdelen","Cosmetica en persoonlijke verzorgingsproducten","Oral Hygiene – Replacement Parts","Beauty & Personal Care"]
[null,null,10000783,"Mondhygiëne – Overig","Cosmetica en persoonlijke verzorgingsproducten","Oral Hygiene Other","Beauty & Personal Care"]
[null,null,10000784,"Incontinentie bij Volwassenen – Overig","Cosmetica en persoonlijke verzorgingsproducten","Adult Incontinence Other","Beauty & Personal Care"]
[null,null,10000785,"Vrouwelijke Hygiëne – Overig","Cosmetica en persoonlijke verzorgingsproducten","Feminine/Nursing Hygiene Other","Beauty & Personal Care"]
[null,null,10000786,"Algemene Lichaamsverzorging – Overig","Cosmetica en persoonlijke verzorgingsproducten","General Personal Hygiene Other","Beauty & Personal Care"]
[null,null,10000806,"Anti–acné Hulpmiddelen (Elektrisch)","Cosmetica en persoonlijke verzorgingsproducten","Anti-spot Aids (Powered)","Beauty & Personal Care"]
[null,null,10000807,"Jacuzzi/Badmassage","Cosmetica en persoonlijke verzorgingsproducten","Bath Massage/Toning","Beauty & Personal Care"]
[null,null,10000808,"Gezichtsreiniging/Make–up Verwijderproducten (Elektrisch)","Cosmetica en persoonlijke verzorgingsproducten","Cleansers/Cosmetics Removers (Powered)","Beauty & Personal Care"]
[null,null,10000809,"Bruinen Zonder Zon (Elektrisch)","Cosmetica en persoonlijke verzorgingsproducten","Sunless Tanning (Powered)","Beauty & Personal Care"]
[null,null,10000810,"Huidverzorging – Onderdelen","Cosmetica en persoonlijke verzorgingsproducten","Skin Care – Replacement Parts","Beauty & Personal Care"]
[null,null,10000811,"Bruiningsproducten – Onderdelen","Cosmetica en persoonlijke verzorgingsproducten","Skin Tanning Products – Replacement Parts","Beauty & Personal Care"]
[null,null,10000812,"Huidverzorging – Overig","Cosmetica en persoonlijke verzorgingsproducten","Skin Care Other","Beauty & Personal Care"]
[null,null,10000813,"Lichaamsreiniging – Overig","Cosmetica en persoonlijke verzorgingsproducten","Body Washing Other","Beauty & Personal Care"]
[null,null,10000814,"Bruiningsproducten – Overig","Cosmetica en persoonlijke verzorgingsproducten","Skin Tanning Products Other","Beauty & Personal Care"]
[null,null,10000828,"Haar – Hulpmiddelen(Elektrisch)","Cosmetica en persoonlijke verzorgingsproducten","Hair – Aids (Powered)","Beauty & Personal Care"]
[null,null,10000829,"Haar – Krulspelden/Haarrollers","Cosmetica en persoonlijke verzorgingsproducten","Hair Curlers/Rollers","Beauty & Personal Care"]
[null,null,10000830,"Depilatie/Epilatie (Elektrisch)","Cosmetica en persoonlijke verzorgingsproducten","Depilation/Epilation (Powered)","Beauty & Personal Care"]
[null,null,10000831,"Scheerapparaten (Elektrisch)","Cosmetica en persoonlijke verzorgingsproducten","Shaving – Razors (Powered)","Beauty & Personal Care"]
[null,null,10000832,"Ontharingsproducten – Onderdelen","Cosmetica en persoonlijke verzorgingsproducten","Hair Removal/Masking Products – Replacement Parts","Beauty & Personal Care"]
[null,null,10000833,"Haarverzorgingsproducten – Onderdelen","Cosmetica en persoonlijke verzorgingsproducten","Hair Care Products – Replacement Parts","Beauty & Personal Care"]
[null,null,10000834,"Haarverzorgingsproducten – Overig","Cosmetica en persoonlijke verzorgingsproducten","Hair Care Products Other","Beauty & Personal Care"]
[null,null,10000835,"Ontharingsproducten – Overig","Cosmetica en persoonlijke verzorgingsproducten","Hair Removal/Masking Products Other","Beauty & Personal Care"]
[null,null,10000838,"Mechanische Anticonceptiva – Overig","Cosmetica en persoonlijke verzorgingsproducten","Barrier Contraception Other","Beauty & Personal Care"]
[null,null,10000885,"Antiseptica","Cosmetica en persoonlijke verzorgingsproducten","Hand Sanitizers / Antiseptics","Beauty & Personal Care"]
[null,null,10000886,"Ongediertebestrijdingsmiddelen","Cosmetica en persoonlijke verzorgingsproducten","Parasite Infestation Treatments","Beauty & Personal Care"]
[null,null,10000887,"Psoriasis/Eczema/Droge Huid Behandelingen","Cosmetica en persoonlijke verzorgingsproducten","Psoriasis/Eczema/Dry Skin/Scalp Treatments","Beauty & Personal Care"]
[null,null,10000888,"Haaruitvalbehandelingen","Cosmetica en persoonlijke verzorgingsproducten","Hair Loss Treatments","Beauty & Personal Care"]
[null,null,10000889,"Kalmerend Middel bij Insectenbeten","Cosmetica en persoonlijke verzorgingsproducten","Insect Bite Relief","Beauty & Personal Care"]
[null,null,10000890,"Anti–schimmel Producten","Cosmetica en persoonlijke verzorgingsproducten","Anti-fungal Products","Beauty & Personal Care"]
[null,null,10000891,"Algemene/Veelzijdige Huid/Hoofdhuidbehandelingen","Cosmetica en persoonlijke verzorgingsproducten","General/Multi Purpose Skin/Scalp Treatments","Beauty & Personal Care"]
[null,null,10000892,"Apparatuur voor Ongediertebestrijding (Niet–elektrisch)","Cosmetica en persoonlijke verzorgingsproducten","Parasite Infestation Equipment (Non Powered)","Beauty & Personal Care"]
[null,null,10000893,"Apparatuur voor Ongediertebestrijding (Elektrisch)","Cosmetica en persoonlijke verzorgingsproducten","Parasite Infestation Equipment (Powered)","Beauty & Personal Care"]
[null,null,10000903,"Acne/Gordelroos Behandelingen","Cosmetica en persoonlijke verzorgingsproducten","Acne/Rosacea Treatments","Beauty & Personal Care"]
[null,null,10000904,"Wrat/Likdoorn/Eeltplek Behandelingen","Cosmetica en persoonlijke verzorgingsproducten","Wart/Verruca/Corn/Callous Treatments","Beauty & Personal Care"]
[null,null,10000905,"Huid/Hoofdhuid Behandelingsproducten – Assortimenten","Cosmetica en persoonlijke verzorgingsproducten","Skin/Scalp Treatment Products Variety Packs","Beauty & Personal Care"]
[null,null,10000906,"Huid/Hoofdhuidbehandelingsproducten – Overig","Cosmetica en persoonlijke verzorgingsproducten","Skin/Scalp Treatment Products Other","Beauty & Personal Care"]
[null,null,10000907,"Voet/Been Verzorging/Behandeling – Overig","Cosmetica en persoonlijke verzorgingsproducten","Foot/Leg Care/Treatments Other","Beauty & Personal Care"]
[null,null,10000911,"Verzorging/Behandeling van Zintuigen – Overig","Cosmetica en persoonlijke verzorgingsproducten","Sensory Organs Care/Treatments Other","Beauty & Personal Care"]
[null,null,10000923,"Lubricatie van de intieme delen","Cosmetica en persoonlijke verzorgingsproducten","Intimate Lubrication","Beauty & Personal Care"]
[null,null,10002423,"Mondbehandelingen","Cosmetica en persoonlijke verzorgingsproducten","Oral/Mouth Treatments","Beauty & Personal Care"]
[null,null,10003689,"Alcoholhoudende Dranken gefermenteerd, niet op basis van Druiven – Mousserend","Alcoholische dranken","Non Grape Fermented Alcoholic Beverages – Sparkling","Alcoholic Beverages"]
[null,null,10005224,"Producten/Maaltijden op basis van Eieren – Niet-gebruiksklaar (Diepvries)","Zuivel, gekoeld & diepvries","Egg Based Products / Meals – Not Ready to Eat (Frozen)","Dairy, Refrigerated & Frozen"]
[null,null,10005225,"Producten/Maaltijden op basis van Eieren – Niet-gebruiksklaar (Beperkt Houdbaar)","Zuivel, gekoeld & diepvries","Egg Based Products / Meals – Not Ready to Eat (Perishable)","Dairy, Refrigerated & Frozen"]
[null,null,10005226,"Producten/Maaltijden op basis van Eieren – Niet-gebruiksklaar (Houdbaar)","Zuivel, gekoeld & diepvries","Egg Based Products / Meals – Not Ready to Eat (Shelf Stable)","Dairy, Refrigerated & Frozen"]
[null,null,10005227,"Producten/Maaltijden op basis van Zuivelproducten/Eieren – Gebruiksklaar (Beperkt Houdbaar)","Zuivel, gekoeld & diepvries","Dairy/Egg Based Products / Meals – Ready to Eat (Perishable)","Dairy, Refrigerated & Frozen"]
[null,null,10005228,"Producten/Maaltijden op basis van Zuivelproducten/Eieren – Gebruiksklaar (Houdbaar)","Zuivel, gekoeld & diepvries","Dairy/Egg Based Products / Meals – Ready to Eat (Shelf Stable)","Dairy, Refrigerated & Frozen"]
[null,null,10005626,"Absorberende stoffen (DHZ)","Cosmetica en persoonlijke verzorgingsproducten","Absorbents (DIY)","Beauty & Personal Care"]
[null,null,10005627,"Hulpmiddelen tegen Vermoeidheid (DHZ)","Cosmetica en persoonlijke verzorgingsproducten","Antifatigue Aids (DIY)","Beauty & Personal Care"]
[null,null,10005628,"Antislip Hulpmiddelen (DHZ)","Cosmetica en persoonlijke verzorgingsproducten","Antislip Aids (DIY)","Beauty & Personal Care"]
[null,null,10005631,"Collectieve Beschermingsmiddelen – Onderdelen/Accessoires","Cosmetica en persoonlijke verzorgingsproducten","Protective Collective Aids Replacement Parts/Accessories","Beauty & Personal Care"]
[null,null,10005646,"Collectieve Beschermingsmiddelen – Overig","Cosmetica en persoonlijke verzorgingsproducten","Protective Collective Aids Other","Beauty & Personal Care"]
[null,null,10005727,"Lipbalsems","Cosmetica en persoonlijke verzorgingsproducten","Lip Balms","Beauty & Personal Care"]
[null,null,10005786,"Rundvlees – Niet–bereid/Niet–bewerkt","Vlees (vers)","Beef – Unprepared/Unprocessed","Fresh Meat"]
[null,null,10005787,"Bizon–/Buffelvlees – Niet–bereid/Niet–bewerkt","Vlees (vers)","Bison/Buffalo – Unprepared/Unprocessed","Fresh Meat"]
[null,null,10005788,"Kippenvlees – Niet–bereid/Niet–bewerkt","Vlees (vers)","Chicken – Unprepared/Unprocessed","Fresh Meat"]
[null,null,10005789,"Hertenvlees, behalve Reevlees – Niet–bereid/Niet–bewerkt","Vlees (vers)","Deer, other than Roe Deer – Unprepared/Unprocessed","Fresh Meat"]
[null,null,10005790,"Eendenvlees – Niet–bereid/Niet–bewerkt","Vlees (vers)","Duck – Unprepared/Unprocessed","Fresh Meat"]
[null,null,10005791,"Kikkerbillen – Niet–bereid/Niet–bewerkt","Vlees (vers)","Frog – Unprepared/Unprocessed","Fresh Meat"]
[null,null,10005792,"Geitenvlees – Niet–bereid/Niet–bewerkt","Vlees (vers)","Goat – Unprepared/Unprocessed","Fresh Meat"]
[null,null,10005793,"Paardenvlees – Niet–bereid/Niet–bewerkt","Vlees (vers)","Horse – Unprepared/Unprocessed","Fresh Meat"]
[null,null,10005795,"Landslak – Niet–bereid/Niet–bewerkt","Vlees (vers)","Land Snail – Unprepared/Unprocessed","Fresh Meat"]
[null,null,10005796,"Lama–/Alpacavlees – Niet–bereid/Niet–bewerkt","Vlees (vers)","Llama/Alpaca – Unprepared/Unprocessed","Fresh Meat"]
[null,null,10005797,"Gemengde Vleessoorten – Niet–bereid/Niet–bewerkt","Vlees (vers)","Mixed Species Meat – Unprepared/Unprocessed","Fresh Meat"]
[null,null,10005798,"Struisvogelvlees – Niet–bereid/Niet–bewerkt","Vlees (vers)","Ostrich – Unprepared/Unprocessed","Fresh Meat"]
[null,null,10005799,"Fazantenvlees – Niet–bereid/Niet–bewerkt","Vlees (vers)","Pheasant – Unprepared/Unprocessed","Fresh Meat"]
[null,null,10005800,"Varkensvlees – Niet–bereid/Niet–bewerkt","Vlees (vers)","Pork – Unprepared/Unprocessed","Fresh Meat"]
[null,null,10005801,"Konijnenvlees – Niet–bereid/Niet–bewerkt","Vlees (vers)","Rabbit – Unprepared/Unprocessed","Fresh Meat"]
[null,null,10005802,"Alternatieve Soorten Vlees/Gevogelte/Wild – Niet–bereid/Niet–bewerkt","Vlees (vers)","Alternative Meat/Poultry Species – Unprepared/Unprocessed","Fresh Meat"]
[null,null,10005803,"Kalkoenenvlees – Niet–bereid/Niet–bewerkt","Vlees (vers)","Turkey – Unprepared/Unprocessed","Fresh Meat"]
[null,null,10005804,"Kalfsvlees – Niet–bereid/Niet–bewerkt","Vlees (vers)","Veal – Unprepared/Unprocessed","Fresh Meat"]
[null,null,10005817,"Wegwerp Draagtassen","Wegwerpartikelen","Personal Carrier Bags (Disposable)","Disposables"]
[null,null,10005822,"Karamel–/Chocoladeappels","Kruidenierswaren","Caramel/Toffee Apples","Grocery"]
[null,null,10005823,"Vleesvervangers (Diepvries)","Kruidenierswaren","Meat Substitutes  (Frozen)","Grocery"]
[null,null,10005824,"Vleesvervangers (Beperkt Houdbaar)","Kruidenierswaren","Meat Substitutes (Perishable)","Grocery"]
[null,null,10005825,"Vleesvervangers (Houdbaar)","Kruidenierswaren","Meat Substitutes (Shelf Stable)","Grocery"]
[null,null,10005826,"Producten/Maaltijden op basis van Zuivelproducten – Niet-gebruiksklaar (Houdbaar)","Zuivel, gekoeld & diepvries","Dairy Based Products / Meals – Not Ready to Eat/Drink (Perishable)","Dairy, Refrigerated & Frozen"]
[null,null,10005827,"Producten/Maaltijden op basis van Zuivelproducten – Niet-gebruiksklaar (Diepvries)","Zuivel, gekoeld & diepvries","Dairy Based Products / Meals – Not Ready to Eat/Drink (Frozen)","Dairy, Refrigerated & Frozen"]
[null,null,10005876,"Grapefruits/Pompelmoezen (Vlaams)","Aardappelen, groente en fruit (vers)","Grapefruits","Fresh Fruits & Vegetables"]
[null,null,10005877,"Pomelo's/Pompelmoezen (Nederlands)","Aardappelen, groente en fruit (vers)","Pummelos","Fresh Fruits & Vegetables"]
[null,null,10005878,"Honingpomelo's","Aardappelen, groente en fruit (vers)","Honey Pomelos","Fresh Fruits & Vegetables"]
[null,null,10005879,"Sweeties","Aardappelen, groente en fruit (vers)","Sweeties","Fresh Fruits & Vegetables"]
[null,null,10005880,"Minneola's/Andere Tangelo's","Aardappelen, groente en fruit (vers)","Minneolas and other Tangelos","Fresh Fruits & Vegetables"]
[null,null,10005881,"Ugli's","Aardappelen, groente en fruit (vers)","Ugli","Fresh Fruits & Vegetables"]
[null,null,10005882,"Citroenen","Aardappelen, groente en fruit (vers)","Lemons","Fresh Fruits & Vegetables"]
[null,null,10005883,"Mexicaanse Limetten","Aardappelen, groente en fruit (vers)","Mexican Limes","Fresh Fruits & Vegetables"]
[null,null,10005884,"Limetten","Aardappelen, groente en fruit (vers)","Limes","Fresh Fruits & Vegetables"]
[null,null,10005885,"Limequats","Aardappelen, groente en fruit (vers)","Limequats","Fresh Fruits & Vegetables"]
[null,null,10005886,"Clementine Mandarijnen","Aardappelen, groente en fruit (vers)","Clementines","Fresh Fruits & Vegetables"]
[null,null,10005887,"Satsuma Mandarijnen","Aardappelen, groente en fruit (vers)","Satsuma Mandarins","Fresh Fruits & Vegetables"]
[null,null,10005888,"Tangerine Mandarijnen","Aardappelen, groente en fruit (vers)","Tangerines","Fresh Fruits & Vegetables"]
[null,null,10005889,"Sinaasappels","Aardappelen, groente en fruit (vers)","Oranges","Fresh Fruits & Vegetables"]
[null,null,10005895,"Appelbananen","Aardappelen, groente en fruit (vers)","Apple Bananas","Fresh Fruits & Vegetables"]
[null,null,10005896,"Babybananen","Aardappelen, groente en fruit (vers)","Baby Bananas","Fresh Fruits & Vegetables"]
[null,null,10005897,"Bananen (Cavendish)","Aardappelen, groente en fruit (vers)","Bananas","Fresh Fruits & Vegetables"]
[null,null,10005898,"Bakbananen","Aardappelen, groente en fruit (vers)","Plantain Bananas","Fresh Fruits & Vegetables"]
[null,null,10005899,"Rode Bananen","Aardappelen, groente en fruit (vers)","Red Bananas","Fresh Fruits & Vegetables"]
[null,null,10005900,"Appels","Aardappelen, groente en fruit (vers)","Apples","Fresh Fruits & Vegetables"]
[null,null,10005901,"Japanse Mispels/Loquats","Aardappelen, groente en fruit (vers)","Japanese Medlars","Fresh Fruits & Vegetables"]
[null,null,10005902,"Nashi-Peren","Aardappelen, groente en fruit (vers)","Nashi","Fresh Fruits & Vegetables"]
[null,null,10005903,"Peren","Aardappelen, groente en fruit (vers)","Pears","Fresh Fruits & Vegetables"]
[null,null,10005905,"Abrikozen","Aardappelen, groente en fruit (vers)","Apricots","Fresh Fruits & Vegetables"]
[null,null,10005907,"Zure Kersen","Aardappelen, groente en fruit (vers)","Sour Cherries","Fresh Fruits & Vegetables"]
[null,null,10005908,"Zoete Kersen","Aardappelen, groente en fruit (vers)","Stemless/Sweet Cherries","Fresh Fruits & Vegetables"]
[null,null,10005909,"Damson-Pruimen","Aardappelen, groente en fruit (vers)","Damsons","Fresh Fruits & Vegetables"]
[null,null,10005910,"Mirabelle-Pruimen","Aardappelen, groente en fruit (vers)","Mirabelles","Fresh Fruits & Vegetables"]
[null,null,10005911,"Nectarines","Aardappelen, groente en fruit (vers)","Nectarines","Fresh Fruits & Vegetables"]
[null,null,10005912,"Perziken","Aardappelen, groente en fruit (vers)","Peaches","Fresh Fruits & Vegetables"]
[null,null,10005913,"Reine Claude Pruimen","Aardappelen, groente en fruit (vers)","Greengages","Fresh Fruits & Vegetables"]
[null,null,10005914,"Japanse Pruimen","Aardappelen, groente en fruit (vers)","Japanese Plums","Fresh Fruits & Vegetables"]
[null,null,10005915,"Plumcots","Aardappelen, groente en fruit (vers)","Plumcots","Fresh Fruits & Vegetables"]
[null,null,10005916,"Hybriden van Steenvruchten","Aardappelen, groente en fruit (vers)","Stonefruit Hybrids","Fresh Fruits & Vegetables"]
[null,null,10005917,"Pruimen","Aardappelen, groente en fruit (vers)","Plums","Fresh Fruits & Vegetables"]
[null,null,10005918,"Tafeldruiven","Aardappelen, groente en fruit (vers)","Table Grapes","Fresh Fruits & Vegetables"]
[null,null,10005921,"Aardbeien","Aardappelen, groente en fruit (vers)","Strawberries","Fresh Fruits & Vegetables"]
[null,null,10005922,"Bosaardbeien","Aardappelen, groente en fruit (vers)","Wood Strawberries","Fresh Fruits & Vegetables"]
[null,null,10005923,"Bramen","Aardappelen, groente en fruit (vers)","Blackberries","Fresh Fruits & Vegetables"]
[null,null,10005924,"Boysenbessen","Aardappelen, groente en fruit (vers)","Boysenberries","Fresh Fruits & Vegetables"]
[null,null,10005925,"Veenbramen/Kruipbramen","Aardappelen, groente en fruit (vers)","Cloudberries","Fresh Fruits & Vegetables"]
[null,null,10005927,"Frambozen","Aardappelen, groente en fruit (vers)","Raspberries","Fresh Fruits & Vegetables"]
[null,null,10005928,"Wilde Bosbessen","Aardappelen, groente en fruit (vers)","Bilberries","Fresh Fruits & Vegetables"]
[null,null,10005929,"Blauwe bessen","Aardappelen, groente en fruit (vers)","Blueberries","Fresh Fruits & Vegetables"]
[null,null,10005930,"Cranberries","Aardappelen, groente en fruit (vers)","Cranberries","Fresh Fruits & Vegetables"]
[null,null,10005932,"Kruisbessen","Aardappelen, groente en fruit (vers)","Gooseberries","Fresh Fruits & Vegetables"]
[null,null,10005934,"Jostabessen","Aardappelen, groente en fruit (vers)","Jostaberries","Fresh Fruits & Vegetables"]
[null,null,10005935,"Ananassen","Aardappelen, groente en fruit (vers)","Pineapples","Fresh Fruits & Vegetables"]
[null,null,10005937,"Kiwi's","Aardappelen, groente en fruit (vers)","Kiwifruits","Fresh Fruits & Vegetables"]
[null,null,10005938,"Mini-Kiwi's/Kiwibessen","Aardappelen, groente en fruit (vers)","Kiwiberries","Fresh Fruits & Vegetables"]
[null,null,10005939,"Cherimoya's","Aardappelen, groente en fruit (vers)","Cherimoya","Fresh Fruits & Vegetables"]
[null,null,10005940,"Suikerappels/Zoetzakken","Aardappelen, groente en fruit (vers)","Sugar Apples","Fresh Fruits & Vegetables"]
[null,null,10005941,"Custardappels","Aardappelen, groente en fruit (vers)","Bullock Hearts","Fresh Fruits & Vegetables"]
[null,null,10005942,"Guanabana's/Zuurzakken","Aardappelen, groente en fruit (vers)","Soursop","Fresh Fruits & Vegetables"]
[null,null,10005946,"Kaki's/Sharonvruchten","Aardappelen, groente en fruit (vers)","Kaki/ Sharon Fruits","Fresh Fruits & Vegetables"]
[null,null,10005948,"Amerikaanse Dadelpruimen","Aardappelen, groente en fruit (vers)","American Persimmon","Fresh Fruits & Vegetables"]
[null,null,10005949,"Reuzengranadilla's/Grote Markoesa's","Aardappelen, groente en fruit (vers)","Barbadines","Fresh Fruits & Vegetables"]
[null,null,10005950,"Curuba's","Aardappelen, groente en fruit (vers)","Curubas","Fresh Fruits & Vegetables"]
[null,null,10005951,"Zoete Granadilla's","Aardappelen, groente en fruit (vers)","Sweet Granadilla","Fresh Fruits & Vegetables"]
[null,null,10005952,"Gele Passievruchten (Maracuja's)","Aardappelen, groente en fruit (vers)","Yellow Maracujas","Fresh Fruits & Vegetables"]
[null,null,10005953,"Paarse Passievruchten","Aardappelen, groente en fruit (vers)","Purple Maracujas","Fresh Fruits & Vegetables"]
[null,null,10005954,"Papaja's","Aardappelen, groente en fruit (vers)","Papayas Formosa","Fresh Fruits & Vegetables"]
[null,null,10005955,"Bergpapaja's","Aardappelen, groente en fruit (vers)","Babacos","Fresh Fruits & Vegetables"]
[null,null,10005956,"Gele Pitahaya's (Drakenvruchten)","Aardappelen, groente en fruit (vers)","Yellow Dragonfruits","Fresh Fruits & Vegetables"]
[null,null,10005957,"Rode Pitahaya's (Drakenvruchten)","Aardappelen, groente en fruit (vers)","Sweet Pitayas","Fresh Fruits & Vegetables"]
[null,null,10005959,"Dadels (vers)","Aardappelen, groente en fruit (vers)","Dates","Fresh Fruits & Vegetables"]
[null,null,10005960,"Vijgen","Aardappelen, groente en fruit (vers)","Figs","Fresh Fruits & Vegetables"]
[null,null,10005961,"Carambola's (Zoete Blimbingen)","Aardappelen, groente en fruit (vers)","Carambola","Fresh Fruits & Vegetables"]
[null,null,10005963,"Zure Blimbingen","Aardappelen, groente en fruit (vers)","Bilimbi","Fresh Fruits & Vegetables"]
[null,null,10005964,"Lychees","Aardappelen, groente en fruit (vers)","Lychees (Litchi)","Fresh Fruits & Vegetables"]
[null,null,10005965,"Physalis (Kaapse Kruisbessen)","Aardappelen, groente en fruit (vers)","Cape Gooseberries","Fresh Fruits & Vegetables"]
[null,null,10005966,"Ramboetans","Aardappelen, groente en fruit (vers)","Rambutan","Fresh Fruits & Vegetables"]
[null,null,10005967,"Cactusvijgen/Woestijnvijgen","Aardappelen, groente en fruit (vers)","Prickly Pears (Barbary Figs)","Fresh Fruits & Vegetables"]
[null,null,10005968,"Mangistans","Aardappelen, groente en fruit (vers)","Mangosteen","Fresh Fruits & Vegetables"]
[null,null,10005969,"Mango's","Aardappelen, groente en fruit (vers)","Mangos","Fresh Fruits & Vegetables"]
[null,null,10005970,"Granaatappels","Aardappelen, groente en fruit (vers)","Pomegranates","Fresh Fruits & Vegetables"]
[null,null,10005971,"Guaves","Aardappelen, groente en fruit (vers)","Guavas","Fresh Fruits & Vegetables"]
[null,null,10005972,"Doerians","Aardappelen, groente en fruit (vers)","Durian","Fresh Fruits & Vegetables"]
[null,null,10005973,"Broodvruchten","Aardappelen, groente en fruit (vers)","Breadfruits","Fresh Fruits & Vegetables"]
[null,null,10005974,"Nangka's","Aardappelen, groente en fruit (vers)","Jackfruits","Fresh Fruits & Vegetables"]
[null,null,10005976,"Sperziebonen","Aardappelen, groente en fruit (vers)","French/Wax Beans","Fresh Fruits & Vegetables"]
[null,null,10005979,"Pronkbonen/Snijbonen","Aardappelen, groente en fruit (vers)","Runner Beans","Fresh Fruits & Vegetables"]
[null,null,10005980,"Tuinbonen","Aardappelen, groente en fruit (vers)","Broad Beans","Fresh Fruits & Vegetables"]
[null,null,10005981,"Canavaliabonen","Aardappelen, groente en fruit (vers)","Jack Beans","Fresh Fruits & Vegetables"]
[null,null,10005982,"Limabonen/Boterbonen","Aardappelen, groente en fruit (vers)","Lima Beans","Fresh Fruits & Vegetables"]
[null,null,10005984,"Erwten","Aardappelen, groente en fruit (vers)","Peas","Fresh Fruits & Vegetables"]
[null,null,10005985,"Suikererwten (Sugar Snaps)","Aardappelen, groente en fruit (vers)","Sugar Snap Peas","Fresh Fruits & Vegetables"]
[null,null,10005986,"Johannesbrood/Carob","Aardappelen, groente en fruit (vers)","Carobs","Fresh Fruits & Vegetables"]
[null,null,10005987,"Bloemkool","Aardappelen, groente en fruit (vers)","Cauliflower","Fresh Fruits & Vegetables"]
[null,null,10005988,"Broccoli","Aardappelen, groente en fruit (vers)","Broccoli","Fresh Fruits & Vegetables"]
[null,null,10005996,"Spruitkool (Spruitjes)","Aardappelen, groente en fruit (vers)","Brussel Sprouts","Fresh Fruits & Vegetables"]
[null,null,10005997,"Rode Kool","Aardappelen, groente en fruit (vers)","Red Cabbages","Fresh Fruits & Vegetables"]
[null,null,10005999,"Witte Kool","Aardappelen, groente en fruit (vers)","White Cabbages","Fresh Fruits & Vegetables"]
[null,null,10006000,"Savooiekool","Aardappelen, groente en fruit (vers)","Savoy Cabbages","Fresh Fruits & Vegetables"]
[null,null,10006003,"Knoflook","Aardappelen, groente en fruit (vers)","Garlic","Fresh Fruits & Vegetables"]
[null,null,10006004,"Olifantsknoflook","Aardappelen, groente en fruit (vers)","Elephant Garlic","Fresh Fruits & Vegetables"]
[null,null,10006005,"Lente-uitjes","Aardappelen, groente en fruit (vers)","Spring (or Spanish) Onions","Fresh Fruits & Vegetables"]
[null,null,10006006,"Uien","Aardappelen, groente en fruit (vers)","Onions","Fresh Fruits & Vegetables"]
[null,null,10006007,"Kurrat","Aardappelen, groente en fruit (vers)","Kurrat","Fresh Fruits & Vegetables"]
[null,null,10006009,"Sjalotten","Aardappelen, groente en fruit (vers)","Shallots","Fresh Fruits & Vegetables"]
[null,null,10006014,"Komkommers","Aardappelen, groente en fruit (vers)","Cucumbers","Fresh Fruits & Vegetables"]
[null,null,10006015,"Courgettes","Aardappelen, groente en fruit (vers)","Courgettes","Fresh Fruits & Vegetables"]
[null,null,10006031,"Oesterzwammen","Aardappelen, groente en fruit (vers)","Oyster Mushrooms","Fresh Fruits & Vegetables"]
[null,null,10006032,"Morieljes","Aardappelen, groente en fruit (vers)","Morels","Fresh Fruits & Vegetables"]
[null,null,10006033,"Cantharellen","Aardappelen, groente en fruit (vers)","Chanterelles","Fresh Fruits & Vegetables"]
[null,null,10006034,"Shiitake's","Aardappelen, groente en fruit (vers)","Shiitake Mushrooms","Fresh Fruits & Vegetables"]
[null,null,10006035,"Eekhoorntjesbrood","Aardappelen, groente en fruit (vers)","Cep","Fresh Fruits & Vegetables"]
[null,null,10006036,"Truffels","Aardappelen, groente en fruit (vers)","Truffles","Fresh Fruits & Vegetables"]
[null,null,10006037,"Watermeloenen","Aardappelen, groente en fruit (vers)","Watermelons","Fresh Fruits & Vegetables"]
[null,null,10006038,"Pompoenen","Aardappelen, groente en fruit (vers)","Pumpkins/Winter Squash","Fresh Fruits & Vegetables"]
[null,null,10006040,"Daslook","Kruidenierswaren","Ramsons","Grocery"]
[null,null,10006041,"Basilicum","Kruidenierswaren","Basil","Grocery"]
[null,null,10006044,"Bijvoet","Kruidenierswaren","Mugwort","Grocery"]
[null,null,10006045,"Bonenkruid","Kruidenierswaren","Summer Savoury","Grocery"]
[null,null,10006046,"Bergbonenkruid","Kruidenierswaren","Winter Savoury","Grocery"]
[null,null,10006047,"Komkommerkruid/Bernagie","Kruidenierswaren","Borage","Grocery"]
[null,null,10006048,"Waterkers","Aardappelen, groente en fruit (vers)","Watercress","Fresh Fruits & Vegetables"]
[null,null,10006049,"Dille","Kruidenierswaren","Dill","Grocery"]
[null,null,10006050,"Angelica/Engelwortel","Kruidenierswaren","Archangel","Grocery"]
[null,null,10006051,"Dragon","Kruidenierswaren","Tarragon","Grocery"]
[null,null,10006052,"Venkel","Aardappelen, groente en fruit (vers)","Fennel  (Subspecies dulce)","Fresh Fruits & Vegetables"]
[null,null,10006053,"Kervel","Kruidenierswaren","Chervil","Grocery"]
[null,null,10006054,"Koriander","Kruidenierswaren","Coriander","Grocery"]
[null,null,10006055,"Tuinkers","Aardappelen, groente en fruit (vers)","Garden Cress","Fresh Fruits & Vegetables"]
[null,null,10006056,"Karwijplant","Kruidenierswaren","Caraway","Grocery"]
[null,null,10006057,"Lavas/Maggiplant","Kruidenierswaren","Lovage","Grocery"]
[null,null,10006058,"Laurier","Kruidenierswaren","Laurel","Grocery"]
[null,null,10006059,"Marjolein/Majoraan","Kruidenierswaren","Marjoram","Grocery"]
[null,null,10006060,"Turkse Oregano","Kruidenierswaren","Pot Marjoram","Grocery"]
[null,null,10006061,"Citroenmelisse","Kruidenierswaren","Balm","Grocery"]
[null,null,10006063,"Munt","Kruidenierswaren","Mint","Grocery"]
[null,null,10006065,"Roomse Kervel","Kruidenierswaren","Sweet Cicely","Grocery"]
[null,null,10006066,"Oregano","Kruidenierswaren","Oregano","Grocery"]
[null,null,10006071,"Kleine Bevernel","Kruidenierswaren","Burnet Saxifrage","Grocery"]
[null,null,10006072,"Rozemarijn","Kruidenierswaren","Rosemary","Grocery"]
[null,null,10006074,"Bieslook","Kruidenierswaren","Chives","Grocery"]
[null,null,10006075,"Tijm","Kruidenierswaren","Common Thyme","Grocery"]
[null,null,10006076,"Citroentijm","Kruidenierswaren","Lemon Thyme","Grocery"]
[null,null,10006077,"Hysop","Kruidenierswaren","Hyssop","Grocery"]
[null,null,10006078,"Citroenverbena/Verveine","Kruidenierswaren","Lemon Verbena","Grocery"]
[null,null,10006079,"Kropsla/Botersla","Aardappelen, groente en fruit (vers)","Head Lettuce (Butterhead)","Fresh Fruits & Vegetables"]
[null,null,10006085,"Bindsla/Romeinse Sla","Aardappelen, groente en fruit (vers)","Romaine (Cos) Lettuce","Fresh Fruits & Vegetables"]
[null,null,10006086,"Veldsla","Aardappelen, groente en fruit (vers)","Lambs Lettuce","Fresh Fruits & Vegetables"]
[null,null,10006088,"Rucola","Aardappelen, groente en fruit (vers)","Rocket","Fresh Fruits & Vegetables"]
[null,null,10006089,"Paardenbloem","Aardappelen, groente en fruit (vers)","Dandelion Greens/Lion's Tooth","Fresh Fruits & Vegetables"]
[null,null,10006090,"Zuring","Aardappelen, groente en fruit (vers)","Sorrel","Fresh Fruits & Vegetables"]
[null,null,10006091,"Spinazie","Aardappelen, groente en fruit (vers)","Spinach","Fresh Fruits & Vegetables"]
[null,null,10006092,"Postelein","Aardappelen, groente en fruit (vers)","Purslane","Fresh Fruits & Vegetables"]
[null,null,10006093,"Witlof (Witloof)","Aardappelen, groente en fruit (vers)","Witloof (Belgian Endive)","Fresh Fruits & Vegetables"]
[null,null,10006094,"Radicchio Rosso","Aardappelen, groente en fruit (vers)","Radicchio Rosso","Fresh Fruits & Vegetables"]
[null,null,10006095,"Suikerij/Groenlof","Aardappelen, groente en fruit (vers)","Sugarloaf","Fresh Fruits & Vegetables"]
[null,null,10006097,"Frisée (Krulandijvie)","Aardappelen, groente en fruit (vers)","Endive (Curled)","Fresh Fruits & Vegetables"]
[null,null,10006100,"Zoete puntpaprika's","Aardappelen, groente en fruit (vers)","Elongated Sweet Peppers (Pointed)","Fresh Fruits & Vegetables"]
[null,null,10006102,"Chilipepers","Aardappelen, groente en fruit (vers)","Chilli Peppers","Fresh Fruits & Vegetables"]
[null,null,10006104,"Aardappelen","Aardappelen, groente en fruit (vers)","Potatoes","Fresh Fruits & Vegetables"]
[null,null,10006107,"Taro's","Aardappelen, groente en fruit (vers)","Taro","Fresh Fruits & Vegetables"]
[null,null,10006108,"Cassave/Maniok","Aardappelen, groente en fruit (vers)","Cassava","Fresh Fruits & Vegetables"]
[null,null,10006109,"Lila Tayers","Aardappelen, groente en fruit (vers)","Lilac Tannia","Fresh Fruits & Vegetables"]
[null,null,10006110,"Witte Tayers","Aardappelen, groente en fruit (vers)","White Tannia","Fresh Fruits & Vegetables"]
[null,null,10006111,"Zoete Aardappelen","Aardappelen, groente en fruit (vers)","Sweet Potatoes","Fresh Fruits & Vegetables"]
[null,null,10006112,"Yamknollen","Aardappelen, groente en fruit (vers)","Yams","Fresh Fruits & Vegetables"]
[null,null,10006113,"Gember","Aardappelen, groente en fruit (vers)","Ginger","Fresh Fruits & Vegetables"]
[null,null,10006114,"Radijsjes","Aardappelen, groente en fruit (vers)","Radishes","Fresh Fruits & Vegetables"]
[null,null,10006115,"Rammenassen","Aardappelen, groente en fruit (vers)","Black Radishes","Fresh Fruits & Vegetables"]
[null,null,10006116,"Meirapen","Aardappelen, groente en fruit (vers)","May Turnips","Fresh Fruits & Vegetables"]
[null,null,10006117,"Raapstelen","Aardappelen, groente en fruit (vers)","Turnip Tops","Fresh Fruits & Vegetables"]
[null,null,10006118,"Koolrapen","Aardappelen, groente en fruit (vers)","Swedish Turnips (Rutabagas)","Fresh Fruits & Vegetables"]
[null,null,10006119,"Teltower Rapen","Aardappelen, groente en fruit (vers)","Teltow Turnips","Fresh Fruits & Vegetables"]
[null,null,10006120,"Witte Rapen","Aardappelen, groente en fruit (vers)","Turnips","Fresh Fruits & Vegetables"]
[null,null,10006121,"Rode bieten","Aardappelen, groente en fruit (vers)","Beetroot","Fresh Fruits & Vegetables"]
[null,null,10006122,"Wortelen","Aardappelen, groente en fruit (vers)","Carrots","Fresh Fruits & Vegetables"]
[null,null,10006123,"Knolselderij","Aardappelen, groente en fruit (vers)","Celeriac","Fresh Fruits & Vegetables"]
[null,null,10006124,"Mierikswortelen","Aardappelen, groente en fruit (vers)","Horseradish","Fresh Fruits & Vegetables"]
[null,null,10006125,"Topinamboeren (Aardperen)","Aardappelen, groente en fruit (vers)","Jerusalem Artichokes","Fresh Fruits & Vegetables"]
[null,null,10006126,"Pastinaken","Aardappelen, groente en fruit (vers)","Parsnips","Fresh Fruits & Vegetables"]
[null,null,10006127,"Wortelpeterselie","Aardappelen, groente en fruit (vers)","Root Parsley","Fresh Fruits & Vegetables"]
[null,null,10006128,"Aubergines","Aardappelen, groente en fruit (vers)","Aubergines","Fresh Fruits & Vegetables"]
[null,null,10006129,"Asperges","Aardappelen, groente en fruit (vers)","Asparagus","Fresh Fruits & Vegetables"]
[null,null,10006130,"Artisjokken","Aardappelen, groente en fruit (vers)","Globe Artichokes","Fresh Fruits & Vegetables"]
[null,null,10006131,"Bleekselderij","Aardappelen, groente en fruit (vers)","Celery","Fresh Fruits & Vegetables"]
[null,null,10006133,"Prei","Aardappelen, groente en fruit (vers)","Leek","Fresh Fruits & Vegetables"]
[null,null,10006134,"Rabarber","Aardappelen, groente en fruit (vers)","Rhubarb","Fresh Fruits & Vegetables"]
[null,null,10006135,"Kardoen","Aardappelen, groente en fruit (vers)","Cardoons","Fresh Fruits & Vegetables"]
[null,null,10006136,"Palmhart","Aardappelen, groente en fruit (vers)","Palm Hearts","Fresh Fruits & Vegetables"]
[null,null,10006137,"Bamboescheuten","Aardappelen, groente en fruit (vers)","Bamboo Shoots","Fresh Fruits & Vegetables"]
[null,null,10006143,"Chinese Kool","Aardappelen, groente en fruit (vers)","Chinese Cabbages","Fresh Fruits & Vegetables"]
[null,null,10006144,"Boerenkool","Aardappelen, groente en fruit (vers)","Kale","Fresh Fruits & Vegetables"]
[null,null,10006145,"Paksoi","Aardappelen, groente en fruit (vers)","Pak Choi","Fresh Fruits & Vegetables"]
[null,null,10006146,"Koolraap/Koolrabi","Aardappelen, groente en fruit (vers)","Kohlrabi","Fresh Fruits & Vegetables"]
[null,null,10006147,"Suikermais","Aardappelen, groente en fruit (vers)","Sweetcorn","Fresh Fruits & Vegetables"]
[null,null,10006148,"Okra","Aardappelen, groente en fruit (vers)","Okra","Fresh Fruits & Vegetables"]
[null,null,10006155,"Andijvie","Aardappelen, groente en fruit (vers)","Endive (Broad Leaf)","Fresh Fruits & Vegetables"]
[null,null,10006157,"Champignons","Aardappelen, groente en fruit (vers)","Common Cultivated Mushroom (Agaricus)","Fresh Fruits & Vegetables"]
[null,null,10006158,"Kousenband/Aspergebonen","Aardappelen, groente en fruit (vers)","Yardlong Beans","Fresh Fruits & Vegetables"]
[null,null,10006159,"Citroengras","Kruidenierswaren","Lemongrass","Grocery"]
[null,null,10006160,"Feijoa's/Ananasguaves","Aardappelen, groente en fruit (vers)","Feijoas","Fresh Fruits & Vegetables"]
[null,null,10006161,"Pruim Cherrytomaten","Aardappelen, groente en fruit (vers)","Cherry Tomatoes – Oblong","Fresh Fruits & Vegetables"]
[null,null,10006162,"Ronde Cherrytomaten","Aardappelen, groente en fruit (vers)","Cherry Tomatoes – Round","Fresh Fruits & Vegetables"]
[null,null,10006163,"Pruimtomaten","Aardappelen, groente en fruit (vers)","Tomatoes – Oblong","Fresh Fruits & Vegetables"]
[null,null,10006164,"Vleestomaten","Aardappelen, groente en fruit (vers)","Tomatoes – Ribbed","Fresh Fruits & Vegetables"]
[null,null,10006165,"Ronde Tomaten","Aardappelen, groente en fruit (vers)","Tomatoes – Round","Fresh Fruits & Vegetables"]
[null,null,10006166,"Tomaten – Mengsels (Vers)","Aardappelen, groente en fruit (vers)","Tomatoes Variety Packs","Fresh Fruits & Vegetables"]
[null,null,10006167,"Cocktail Avocado's","Aardappelen, groente en fruit (vers)","Finger Avocados","Fresh Fruits & Vegetables"]
[null,null,10006168,"Avocado's – Ruwe Schil (Type Hass)","Aardappelen, groente en fruit (vers)","Avocados – Pebbled Peel (Hass-Type)","Fresh Fruits & Vegetables"]
[null,null,10006169,"Avocado's – Gladde Schil","Aardappelen, groente en fruit (vers)","Avocados – Smooth Peel","Fresh Fruits & Vegetables"]
[null,null,10006171,"Groenten – Onbewerkt/Onverwerkt (Vers) – Mengsels","Aardappelen, groente en fruit (vers)","Vegetables – Unprepared/Unprocessed (Fresh) Variety Packs","Fresh Fruits & Vegetables"]
[null,null,10006172,"Fruit – Onbewerkt/Onverwerkt (Vers) – Mengsels","Aardappelen, groente en fruit (vers)","Fruits – Unprepared/Unprocessed (Fresh) Variety Packs","Fresh Fruits & Vegetables"]
[null,null,10006173,"Kweeperen","Aardappelen, groente en fruit (vers)","Quinces","Fresh Fruits & Vegetables"]
[null,null,10006190,"Blokpaprika's","Aardappelen, groente en fruit (vers)","Square Sweet Peppers (Blunt)","Fresh Fruits & Vegetables"]
[null,null,10006191,"Puntpaprika's","Aardappelen, groente en fruit (vers)","Square Tapering Sweet Peppers (Peg Top)","Fresh Fruits & Vegetables"]
[null,null,10006192,"Platte Paprika's (Tomaatpaprika's)","Aardappelen, groente en fruit (vers)","Flat Sweet Peppers (Tomato Peppers)","Fresh Fruits & Vegetables"]
[null,null,10006193,"Aalbessen","Aardappelen, groente en fruit (vers)","Red Currants","Fresh Fruits & Vegetables"]
[null,null,10006194,"Zwarte Bessen","Aardappelen, groente en fruit (vers)","Black Currants","Fresh Fruits & Vegetables"]
[null,null,10006195,"Paprika's (incl. Pepers) – Mengsels (Vers)","Aardappelen, groente en fruit (vers)","Pepper Variety Packs","Fresh Fruits & Vegetables"]
[null,null,10006196,"Romanesco Bloemkool","Aardappelen, groente en fruit (vers)","Romanesco","Fresh Fruits & Vegetables"]
[null,null,10006197,"Spitskool","Aardappelen, groente en fruit (vers)","Pointed Cabbage","Fresh Fruits & Vegetables"]
[null,null,10006198,"Krulpeterselie","Kruidenierswaren","Parsley (Curled)","Grocery"]
[null,null,10006199,"Bladpeterselie (Italiaans)","Kruidenierswaren","Parsley (Flat)","Grocery"]
[null,null,10006200,"Schorseneren","Aardappelen, groente en fruit (vers)","Scorzonera","Fresh Fruits & Vegetables"]
[null,null,10006202,"Ongesorteerde Eieren in Schaal","Zuivel, gekoeld & diepvries","In-Shell Nest Run Eggs","Dairy, Refrigerated & Frozen"]
[null,null,10006203,"Verontreinigde/Beschadigde Eieren in Schaal","Zuivel, gekoeld & diepvries","In-Shell Checked/Dirty Eggs","Dairy, Refrigerated & Frozen"]
[null,null,10006204,"Eierextracten","Zuivel, gekoeld & diepvries","Eggs Extracts","Dairy, Refrigerated & Frozen"]
[null,null,10006210,"Eieren in Schaal","Zuivel, gekoeld & diepvries","In Shell Table Eggs","Dairy, Refrigerated & Frozen"]
[null,null,10006211,"Hardgekookte Eieren (Apart)","Zuivel, gekoeld & diepvries","Individually Cooked Eggs","Dairy, Refrigerated & Frozen"]
[null,null,10006212,"Eiproducten/Eivervangers (met Eieren)","Zuivel, gekoeld & diepvries","Eggs Products/Substitutes","Dairy, Refrigerated & Frozen"]
[null,null,10006213,"Eivervangers (zonder Eieren)","Kruidenierswaren","Eggs Imitations","Grocery"]
[null,null,10006214,"Extracten/Kruiden/Smaakversterkers (Houdbaar)","Kruidenierswaren","Extracts/Seasonings/Flavour Enhancers (Shelf Stable)","Grocery"]
[null,null,10006216,"Soepen – Bereid – Assortimenten","Kruidenierswaren","Soups – Prepared Variety Packs","Grocery"]
[null,null,10006217,"Sandwiches/Gevulde Broodjes/Wraps – Assortimenten","Delicatessen & bereide producten","Sandwiches/Filled Rolls/Wraps Variety Packs","Deli & Prepared"]
[null,null,10006219,"Pasta/Noedels – Assortimenten","Kruidenierswaren","Pasta/Noodles Variety Packs","Grocery"]
[null,null,10006221,"Producten/Maaltijden op basis van Groenten – Assortimenten","Kruidenierswaren","Vegetable Based Products / Meals Variety Packs","Grocery"]
[null,null,10006222,"Producten/Maaltijden op basis van Deeg – Assortimenten","Kruidenierswaren","Dough Based Products / Meals Variety Packs","Grocery"]
[null,null,10006228,"Producten/Maaltijden op basis van Graan – Assortimenten","Kruidenierswaren","Grain Based Products / Meals Variety Packs","Grocery"]
[null,null,10006229,"Producten/Maaltijden op basis van Zuivelproducten/Eieren – Assortimenten","Zuivel, gekoeld & diepvries","Dairy/Egg Based Products / Meals Variety Packs","Dairy, Refrigerated & Frozen"]
[null,null,10006230,"Vleesvervangers – Assortimenten","Kruidenierswaren","Meat Substitutes Variety Packs","Grocery"]
[null,null,10006234,"Ontsmettingsmiddelen","Schoonmaakartikelen","Sanitizers","Cleaners"]
[null,null,10006246,"Penetratie Accessoires (Elektrisch)","Cosmetica en persoonlijke verzorgingsproducten","Penetration Accessories (Powered)","Beauty & Personal Care"]
[null,null,10006247,"Penetratie Accessoires (Niet–elektrisch)","Cosmetica en persoonlijke verzorgingsproducten","Penetration Accessories (Non Powered)","Beauty & Personal Care"]
[null,null,10006248,"Zuigtoestellen (Elektrisch)","Cosmetica en persoonlijke verzorgingsproducten","Suction Devices (Powered)","Beauty & Personal Care"]
[null,null,10006249,"Zuigtoestellen (Niet–elektrisch)","Cosmetica en persoonlijke verzorgingsproducten","Suction Devices (Non Powered)","Beauty & Personal Care"]
[null,null,10006250,"Graanproducten – Niet-gebruiksklaar (Diepvries)","Kruidenierswaren","Cereals Products – Not Ready to Eat (Frozen)","Grocery"]
[null,null,10006251,"Groentesap – Gebruiksklaar (Beperkt Houdbaar)","Kruidenierswaren","Vegetable Juice – Ready to Drink (Perishable)","Grocery"]
[null,null,10006252,"Groentesap – Gebruiksklaar (Houdbaar)","Kruidenierswaren","Vegetable Juice – Ready to Drink (Shelf Stable)","Grocery"]
[null,null,10006253,"Groentesap – Niet-gebruiksklaar (Diepvries)","Kruidenierswaren","Vegetable Juice – Not Ready to Drink (Frozen)","Grocery"]
[null,null,10006254,"Groentesap – Niet-gebruiksklaar (Houdbaar)","Kruidenierswaren","Vegetable Juice – Not Ready to Drink (Shelf Stable)","Grocery"]
[null,null,10006255,"Dranken met Groentesap – Gebruiksklaar (Beperkt Houdbaar)","Kruidenierswaren","Vegetable Juice Drinks – Ready to Drink (Perishable)","Grocery"]
[null,null,10006256,"Dranken met Groentesap – Gebruiksklaar (Houdbaar)","Kruidenierswaren","Vegetable Juice Drinks – Ready to Drink (Shelf Stable)","Grocery"]
[null,null,10006257,"Dranken met Groentesap – Niet-gebruiksklaar (Houdbaar)","Kruidenierswaren","Vegetable Juice Drinks – Not Ready to Drink (Shelf Stable)","Grocery"]
[null,null,10006259,"Zaailingen – Gebruiksklaar","Aardappelen, groente en fruit (vers)","Seedlings - Ready to Eat","Fresh Fruits & Vegetables"]
[null,null,10006260,"Scheuten","Aardappelen, groente en fruit (vers)","Sprouts","Fresh Fruits & Vegetables"]
[null,null,10006261,"Eetbare Bloemen","Aardappelen, groente en fruit (vers)","Edible Flowers","Fresh Fruits & Vegetables"]
[null,null,10006262,"Zilte Groenten – Overig","Aardappelen, groente en fruit (vers)","Tidal Sea Vegetables Other","Fresh Fruits & Vegetables"]
[null,null,10006263,"Beukenzwammen/Shimeji's","Aardappelen, groente en fruit (vers)","Beech Mushrooms","Fresh Fruits & Vegetables"]
[null,null,10006264,"Fluweelpootje/Enoki","Aardappelen, groente en fruit (vers)","Enokitake","Fresh Fruits & Vegetables"]
[null,null,10006265,"Koningsoesterzwam/Eryngii","Aardappelen, groente en fruit (vers)","Eryngii","Fresh Fruits & Vegetables"]
[null,null,10006266,"Overige Wilde Paddenstoelen","Aardappelen, groente en fruit (vers)","Wild Mushrooms (Other)","Fresh Fruits & Vegetables"]
[null,null,10006267,"IJsbergsla","Aardappelen, groente en fruit (vers)","Iceberg Lettuce","Fresh Fruits & Vegetables"]
[null,null,10006268,"Losse/Meervoudige Slabladeren – Overig","Aardappelen, groente en fruit (vers)","Loose Leaf/Multileaf Lettuce Other","Fresh Fruits & Vegetables"]
[null,null,10006269,"Babyleaves","Aardappelen, groente en fruit (vers)","Baby Leaves","Fresh Fruits & Vegetables"]
[null,null,10006270,"Peultjes","Aardappelen, groente en fruit (vers)","Snow Peas","Fresh Fruits & Vegetables"]
[null,null,10006271,"Kikkererwten","Aardappelen, groente en fruit (vers)","Chickpeas","Fresh Fruits & Vegetables"]
[null,null,10006272,"Venkel","Aardappelen, groente en fruit (vers)","Fennel (subspecies azoricum)","Fresh Fruits & Vegetables"]
[null,null,10006275,"After–sun Vochtinbrengende Producten","Cosmetica en persoonlijke verzorgingsproducten","After-Sun Moisturisers","Beauty & Personal Care"]
[null,null,10006278,"Lamsvlees – Niet–bereid/Niet–bewerkt","Vlees (vers)","Lamb – Unprepared/Unprocessed","Fresh Meat"]
[null,null,10006279,"Schapenvlees – Niet–bereid/Niet–bewerkt","Vlees (vers)","Mutton – Unprepared/Unprocessed","Fresh Meat"]
[null,null,10006280,"Wild Zwijn Vlees – Niet–bereid/Niet–bewerkt","Vlees (vers)","Wild Boar – Unprepared/Unprocessed","Fresh Meat"]
[null,null,10006281,"Hazenvlees – Niet–bereid/Niet–bewerkt","Vlees (vers)","Hare – Unprepared/Unprocessed","Fresh Meat"]
[null,null,10006282,"Antilopenvlees – Niet–bereid/Niet–bewerkt","Vlees (vers)","Antelope – Unprepared/Unprocessed","Fresh Meat"]
[null,null,10006283,"Beefalo–/Cattalovlees – Niet–bereid/Niet–bewerkt","Vlees (vers)","Beefalo/Cattalo – Unprepared/Unprocessed","Fresh Meat"]
[null,null,10006284,"Wapitivlees – Niet–bereid/Niet–bewerkt","Vlees (vers)","Elk/Wapiti – Unprepared/Unprocessed","Fresh Meat"]
[null,null,10006285,"Elandvlees – Niet–bereid/Niet–bewerkt","Vlees (vers)","Moose/Elk – Unprepared/Unprocessed","Fresh Meat"]
[null,null,10006286,"Waterbuffelvlees – Niet–bereid/Niet–bewerkt","Vlees (vers)","Water Buffalo – Unprepared/Unprocessed","Fresh Meat"]
[null,null,10006287,"Rendier–/Kariboevlees – Niet–bereid/Niet–bewerkt","Vlees (vers)","Reindeer/Caribou – Unprepared/Unprocessed","Fresh Meat"]
[null,null,10006288,"Emoevlees – Niet–bereid/Niet–bewerkt","Vlees (vers)","Emu – Unprepared/Unprocessed","Fresh Meat"]
[null,null,10006289,"Ganzenvlees – Niet–bereid/Niet–bewerkt","Vlees (vers)","Goose – Unprepared/Unprocessed","Fresh Meat"]
[null,null,10006290,"Parelhoenvlees – Niet–bereid/Niet–bewerkt","Vlees (vers)","Guinea Fowl – Unprepared/Unprocessed","Fresh Meat"]
[null,null,10006291,"Kwartelvlees – Niet–bereid/Niet–bewerkt","Vlees (vers)","Quail – Unprepared/Unprocessed","Fresh Meat"]
[null,null,10006292,"Nandoevlees – Niet–bereid/Niet–bewerkt","Vlees (vers)","Rhea – Unprepared/Unprocessed","Fresh Meat"]
[null,null,10006293,"Duivenvlees – Niet–bereid/Niet–bewerkt","Vlees (vers)","Squab/Pigeon – Unprepared/Unprocessed","Fresh Meat"]
[null,null,10006311,"Koffievervangingsmiddel – Instant","Kruidenierswaren","Coffee Substitutes – Instant","Grocery"]
[null,null,10006312,"Koffievervangingsmiddel – Gebruiksklaar","Kruidenierswaren","Coffee Substitutes – Ready to Drink","Grocery"]
[null,null,10006313,"Kruiden Pruim–/Snuiftabak – Tabakvrij","Tabakswaren","Herbal Chew/Snuff – Non Tobacco","Tobacco"]
[null,null,10006314,"Soep Additieven (Diepvries)","Kruidenierswaren","Soup Additions (Frozen)","Grocery"]
[null,null,10006315,"Soep Additieven (Beperkt Houdbaar)","Kruidenierswaren","Soup Additions (Perishable)","Grocery"]
[null,null,10006316,"Soep Additieven (Houdbaar)","Kruidenierswaren","Soup Additions (Shelf Stable)","Grocery"]
[null,null,10006317,"Mayonaise/Mayonaisevervangers (Diepvries)","Kruidenierswaren","Mayonnaise/Mayonnaise Substitutes (Frozen)","Grocery"]
[null,null,10006318,"Mayonaise/Mayonaisevervangers (Beperkt Houdbaar)","Kruidenierswaren","Mayonnaise/Mayonnaise Substitutes (Perishable)","Grocery"]
[null,null,10006319,"Mayonaise/Mayonaisevervangers (Houdbaar)","Kruidenierswaren","Mayonnaise/Mayonnaise Substitutes (Shelf Stable)","Grocery"]
[null,null,10006320,"Mosterd (Diepvries)","Kruidenierswaren","Mustard (Frozen)","Grocery"]
[null,null,10006321,"Mosterd (Beperkt Houdbaar)","Kruidenierswaren","Mustard (Perishable)","Grocery"]
[null,null,10006322,"Mosterd (Houdbaar)","Kruidenierswaren","Mustard (Shelf Stable)","Grocery"]
[null,null,10006323,"Tomatenketchup/Ketchupvervangers (Diepvries)","Kruidenierswaren","Tomato Ketchup/Ketchup Substitutes (Frozen)","Grocery"]
[null,null,10006324,"Tomatenketchup/Ketchupvervangers (Beperkt Houdbaar)","Kruidenierswaren","Tomato Ketchup/Ketchup Substitutes (Perishable)","Grocery"]
[null,null,10006325,"Tomatenketchup/Ketchupvervangers (Houdbaar)","Kruidenierswaren","Tomato Ketchup/Ketchup Substitutes (Shelf Stable)","Grocery"]
[null,null,10006327,"Cider/Perry – Stil","Alcoholische dranken","Apple/Pear Alcoholic Beverage – Still","Alcoholic Beverages"]
[null,null,10006331,"Wegwerpdozen voor Levensmiddelen","Wegwerpartikelen","Disposable Food Containers","Disposables"]
[null,null,10006332,"Wegwerpverpakkingen Levensmiddelen – Assortimenten","Wegwerpartikelen","Disposable Food Containers Variety Packs","Disposables"]
[null,null,10006333,"Wegwerpverpakkingen Levensmiddelen – Overig","Wegwerpartikelen","Disposable Food Containers Other","Disposables"]
[null,null,10006334,"Anijs","Kruidenierswaren","Anise","Grocery"]
[null,null,10006335,"Arracacha","Aardappelen, groente en fruit (vers)","Arracacha","Fresh Fruits & Vegetables"]
[null,null,10006336,"Vleugelbonen (Goabonen)","Aardappelen, groente en fruit (vers)","Beans (Winged)","Fresh Fruits & Vegetables"]
[null,null,10006337,"Flint-mais","Aardappelen, groente en fruit (vers)","Corn (Indian)","Fresh Fruits & Vegetables"]
[null,null,10006338,"Wilde Appels","Aardappelen, groente en fruit (vers)","Crabapples","Fresh Fruits & Vegetables"]
[null,null,10006339,"Mosterdkool","Aardappelen, groente en fruit (vers)","Gai Choy (Mustard Greens)","Fresh Fruits & Vegetables"]
[null,null,10006340,"Kalebassen","Aardappelen, groente en fruit (vers)","Gourds","Fresh Fruits & Vegetables"]
[null,null,10006341,"Sareptamosterd (Amsoi)","Aardappelen, groente en fruit (vers)","Black Mustard","Fresh Fruits & Vegetables"]
[null,null,10006342,"Ethiopische Mosterd","Aardappelen, groente en fruit (vers)","Greens (Texas Mustard)","Fresh Fruits & Vegetables"]
[null,null,10006343,"Orangelo's","Aardappelen, groente en fruit (vers)","Orangelos","Fresh Fruits & Vegetables"]
[null,null,10006344,"Yamboon","Aardappelen, groente en fruit (vers)","Jicama Bean","Fresh Fruits & Vegetables"]
[null,null,10006345,"Kumquats","Aardappelen, groente en fruit (vers)","Kumquat","Fresh Fruits & Vegetables"]
[null,null,10006346,"Loganbessen","Aardappelen, groente en fruit (vers)","Loganberries","Fresh Fruits & Vegetables"]
[null,null,10006347,"Aardbeiboomvruchten","Aardappelen, groente en fruit (vers)","Madrona","Fresh Fruits & Vegetables"]
[null,null,10006348,"Overige Meloenen","Aardappelen, groente en fruit (vers)","Other Melons","Fresh Fruits & Vegetables"]
[null,null,10006349,"Sopropo","Aardappelen, groente en fruit (vers)","Bitter Melon","Fresh Fruits & Vegetables"]
[null,null,10006350,"Kiwano's","Aardappelen, groente en fruit (vers)","Melon (Horned)","Fresh Fruits & Vegetables"]
[null,null,10006351,"Name Mapuey","Aardappelen, groente en fruit (vers)","Name Mapuey","Fresh Fruits & Vegetables"]
[null,null,10006352,"Waterspinazie/Ong Choy/Kangkung","Aardappelen, groente en fruit (vers)","Water Spinach /Ong Choy","Fresh Fruits & Vegetables"]
[null,null,10006353,"Salie","Kruidenierswaren","Sage","Grocery"]
[null,null,10006354,"Saskatoon Bessen","Aardappelen, groente en fruit (vers)","Saskatoon Berries","Fresh Fruits & Vegetables"]
[null,null,10006355,"Muskaatpompoen","Aardappelen, groente en fruit (vers)","Squash (Calabaza)","Fresh Fruits & Vegetables"]
[null,null,10006356,"Chayote","Aardappelen, groente en fruit (vers)","Squash (Choko)","Fresh Fruits & Vegetables"]
[null,null,10006357,"Fleskalebas","Aardappelen, groente en fruit (vers)","Squash (Opo)","Fresh Fruits & Vegetables"]
[null,null,10006358,"Tamarillo's (Boomtomaten)","Aardappelen, groente en fruit (vers)","Tamarillo","Fresh Fruits & Vegetables"]
[null,null,10006359,"Tamarinde","Aardappelen, groente en fruit (vers)","Tamarindo","Fresh Fruits & Vegetables"]
[null,null,10006360,"Aloë Vera","Aardappelen, groente en fruit (vers)","Aloe Vera","Fresh Fruits & Vegetables"]
[null,null,10006361,"Kaneelvarens","Aardappelen, groente en fruit (vers)","Ferns (Cinnamon)","Fresh Fruits & Vegetables"]
[null,null,10006362,"Koningsvarens","Aardappelen, groente en fruit (vers)","Ferns (Royal)","Fresh Fruits & Vegetables"]
[null,null,10006363,"Grote Klit (Grote Klis)","Aardappelen, groente en fruit (vers)","Gobo Root/Burdock","Fresh Fruits & Vegetables"]
[null,null,10006364,"Lotuswortel","Aardappelen, groente en fruit (vers)","Lotus Root","Fresh Fruits & Vegetables"]
[null,null,10006365,"Mamey Sapota","Aardappelen, groente en fruit (vers)","Mamey","Fresh Fruits & Vegetables"]
[null,null,10006366,"Luffa","Aardappelen, groente en fruit (vers)","Okra (Chinese)","Fresh Fruits & Vegetables"]
[null,null,10006367,"Paarse Morgenster","Aardappelen, groente en fruit (vers)","Salsify","Fresh Fruits & Vegetables"]
[null,null,10006368,"Sapodilla","Aardappelen, groente en fruit (vers)","Sapodillo","Fresh Fruits & Vegetables"]
[null,null,10006369,"Zwarte Sapota","Aardappelen, groente en fruit (vers)","Sapote (Black)","Fresh Fruits & Vegetables"]
[null,null,10006370,"Witte Sapota","Aardappelen, groente en fruit (vers)","Sapote (White)","Fresh Fruits & Vegetables"]
[null,null,10006371,"Suikerriet (Vers)","Aardappelen, groente en fruit (vers)","Sugar Cane","Fresh Fruits & Vegetables"]
[null,null,10006372,"Waterkastanjes (Vers)","Aardappelen, groente en fruit (vers)","Water Chestnuts","Fresh Fruits & Vegetables"]
[null,null,10006390,"Kauwgom","Kruidenierswaren","Chewing Gum","Grocery"]
[null,null,10006394,"Reevlees – Niet–bereid/Niet–bewerkt","Vlees (vers)","Roe Deer – Unprepared/Unprocessed","Fresh Meat"]
[null,null,10006414,"Mispels","Aardappelen, groente en fruit (vers)","Medlar","Fresh Fruits & Vegetables"]
[null,null,10006415,"Ya Peren (Chinese Peren)","Aardappelen, groente en fruit (vers)","Ya Pear (Shandong)","Fresh Fruits & Vegetables"]
[null,null,10006416,"Arrowroot (Pijlwortel)","Aardappelen, groente en fruit (vers)","Arrowroot","Fresh Fruits & Vegetables"]
[null,null,10006417,"Daikon (Witte Rammenas)","Aardappelen, groente en fruit (vers)","White Radish (Daikon)","Fresh Fruits & Vegetables"]
[null,null,10006418,"Knolribzaad/Knolkervel","Aardappelen, groente en fruit (vers)","Turnip Rooted Chervil","Fresh Fruits & Vegetables"]
[null,null,10006419,"Bataviasla","Aardappelen, groente en fruit (vers)","Batavia","Fresh Fruits & Vegetables"]
[null,null,10006420,"Hin Choy/Chinese Spinazie","Aardappelen, groente en fruit (vers)","Hin Choy","Fresh Fruits & Vegetables"]
[null,null,10006421,"Roodlof","Aardappelen, groente en fruit (vers)","Radicchio (Redloof)","Fresh Fruits & Vegetables"]
[null,null,10006422,"Wilde Cichorei","Aardappelen, groente en fruit (vers)","Common Chicory","Fresh Fruits & Vegetables"]
[null,null,10006423,"Puntarelle","Aardappelen, groente en fruit (vers)","Puntarelle","Fresh Fruits & Vegetables"]
[null,null,10006424,"Lollo Bionda","Aardappelen, groente en fruit (vers)","Lollo Bionda","Fresh Fruits & Vegetables"]
[null,null,10006425,"Lollo Rosso","Aardappelen, groente en fruit (vers)","Lollo Rosso","Fresh Fruits & Vegetables"]
[null,null,10006426,"Eikenbladsla","Aardappelen, groente en fruit (vers)","Oakleaf Lettuce","Fresh Fruits & Vegetables"]
[null,null,10006427,"Nieuw-Zeelandse Spinazie","Aardappelen, groente en fruit (vers)","New-Zealand Spinach","Fresh Fruits & Vegetables"]
[null,null,10006428,"Bladgroenten – Onbewerkt/Onverwerkt – Mengsels (Verse Sla mixen)","Aardappelen, groente en fruit (vers)","Leaf Vegetables – Unprepared/Unprocessed Variety Packs","Fresh Fruits & Vegetables"]
[null,null,10006429,"Goji Bessen","Aardappelen, groente en fruit (vers)","Goji Berries","Fresh Fruits & Vegetables"]
[null,null,10006430,"Overige Hybriden van Zacht Fruit","Aardappelen, groente en fruit (vers)","Hybrids of Berries","Fresh Fruits & Vegetables"]
[null,null,10006431,"Vossenbessen/Rode Bosbessen","Aardappelen, groente en fruit (vers)","Lingonberries","Fresh Fruits & Vegetables"]
[null,null,10006432,"Vlierbessen","Aardappelen, groente en fruit (vers)","Elderberries","Fresh Fruits & Vegetables"]
[null,null,10006433,"Overige Annona's","Aardappelen, groente en fruit (vers)","Annona Other","Fresh Fruits & Vegetables"]
[null,null,10006434,"Jambolans","Aardappelen, groente en fruit (vers)","Jambolan","Fresh Fruits & Vegetables"]
[null,null,10006435,"Longans (Drakenogen)","Aardappelen, groente en fruit (vers)","Longan (Dragons Eye)","Fresh Fruits & Vegetables"]
[null,null,10006436,"Salakken (Slangenfruit)","Aardappelen, groente en fruit (vers)","Salak (Snake Fruit)","Fresh Fruits & Vegetables"]
[null,null,10006437,"Pijpkassia","Aardappelen, groente en fruit (vers)","Cassia","Fresh Fruits & Vegetables"]
[null,null,10006438,"Indische Limoenen","Aardappelen, groente en fruit (vers)","Indian Limes","Fresh Fruits & Vegetables"]
[null,null,10006439,"King of Siam Mandarijnen","Aardappelen, groente en fruit (vers)","King Mandarins","Fresh Fruits & Vegetables"]
[null,null,10006440,"Mandarijnen – Mediterrane Types","Aardappelen, groente en fruit (vers)","Mediterranean (Willowleaf) Mandarins","Fresh Fruits & Vegetables"]
[null,null,10006441,"Mandarijnen – Overige Hybride Types","Aardappelen, groente en fruit (vers)","Mandarin Hybrids","Fresh Fruits & Vegetables"]
[null,null,10006442,"Tangors","Aardappelen, groente en fruit (vers)","Tangor","Fresh Fruits & Vegetables"]
[null,null,10006443,"Wilde Perziken (Paraquayos)","Aardappelen, groente en fruit (vers)","Paraguaya","Fresh Fruits & Vegetables"]
[null,null,10006444,"Mizuna","Aardappelen, groente en fruit (vers)","Mizuna","Fresh Fruits & Vegetables"]
[null,null,10006445,"Bimi (Broccolini) en andere Koolachtige Kruisingen","Aardappelen, groente en fruit (vers)","Bimi and Other Brassica Interbreeds","Fresh Fruits & Vegetables"]
[null,null,10006446,"Choi Sum","Aardappelen, groente en fruit (vers)","Choi Sum","Fresh Fruits & Vegetables"]
[null,null,10006447,"Tatsoi","Aardappelen, groente en fruit (vers)","Tatsoi","Fresh Fruits & Vegetables"]
[null,null,10006449,"Augurken","Aardappelen, groente en fruit (vers)","Gherkins","Fresh Fruits & Vegetables"]
[null,null,10006450,"Kromme Komkommers","Aardappelen, groente en fruit (vers)","Crooked Cucumber","Fresh Fruits & Vegetables"]
[null,null,10006451,"Tomatillo's","Aardappelen, groente en fruit (vers)","Tomatillos","Fresh Fruits & Vegetables"]
[null,null,10006452,"Antroewa's (Afrikaanse Aubergine)","Aardappelen, groente en fruit (vers)","Antroewa","Fresh Fruits & Vegetables"]
[null,null,10006453,"Pepino's","Aardappelen, groente en fruit (vers)","Pepino","Fresh Fruits & Vegetables"]
[null,null,10006454,"Linzen","Aardappelen, groente en fruit (vers)","Lentils","Fresh Fruits & Vegetables"]
[null,null,10006455,"Asperge-erwten","Aardappelen, groente en fruit (vers)","Winged Pea","Fresh Fruits & Vegetables"]
[null,null,10006456,"Kruidenmengsels (Verse Kruidenplanten)","Kruidenierswaren","Herbs Variety Pack","Grocery"]
[null,null,10006457,"Bladselderij","Kruidenierswaren","Celery Leaves","Grocery"]
[null,null,10006458,"Zeekool","Aardappelen, groente en fruit (vers)","Sea Kale","Fresh Fruits & Vegetables"]
[null,null,10006459,"Lamsoor/Zeelavendel/Zeeaster","Aardappelen, groente en fruit (vers)","Sea Lavender","Fresh Fruits & Vegetables"]
[null,null,10006460,"Zeekraal","Aardappelen, groente en fruit (vers)","Glasswort","Fresh Fruits & Vegetables"]
[null,null,10006461,"Monniksbaard","Aardappelen, groente en fruit (vers)","Agretti","Fresh Fruits & Vegetables"]
[null,null,10006728,"Bijproducten Zuivel","Zuivel, gekoeld & diepvries","Dairy By-Products","Dairy, Refrigerated & Frozen"]
[null,null,10006729,"Elektronische Sigaretten","Tabakswaren","Electronic Cigarettes","Tobacco"]
[null,null,10006730,"Elektronische Sigaretten – Accessoires","Tabakswaren","Electronic Cigarette Accessories","Tobacco"]
[null,null,10006746,"Cornuco's","Kruidenierswaren","Doodles/ Puffs","Grocery"]
[null,null,10006747,"Zoute Stengels/Mini Pretzels","Kruidenierswaren","Salt Sticks / Mini Pretzels","Grocery"]
[null,null,10006748,"Kant–en–klaarmaaltijden – Niet Direct Gebruik (Diepvries)","Kruidenierswaren","Ready-Made Combination Meals – Not Ready to Eat (Frozen)","Grocery"]
[null,null,10006749,"Kant–en–klaarmaaltijden – Niet Direct Gebruik (Beperkt Houdbaar)","Kruidenierswaren","Ready-Made Combination Meals – Not Ready to Eat (Perishable)","Grocery"]
[null,null,10006750,"Kant–en–klaarmaaltijden – Niet Direct Gebruik (Houdbaar)","Kruidenierswaren","Ready-Made Combination Meals – Not Ready to Eat (Shelf Stable)","Grocery"]
[null,null,10006751,"Kant–en–klaarmaaltijden – Direct Gebruik (Beperkt Houdbaar)","Kruidenierswaren","Ready-Made Combination Meals – Ready to Eat (Perishable)","Grocery"]
[null,null,10006752,"Kant–en–klaarmaaltijden – Direct Gebruik (Houdbaar)","Kruidenierswaren","Ready-Made Combination Meals – Ready to Eat (Shelf Stable)","Grocery"]
[null,null,10006753,"Kant–en–klaarmaaltijden – Direct Gebruik – Assortimenten","Kruidenierswaren","Ready-Made Combination Meals – Ready to Eat Variety Packs","Grocery"]
[null,null,10006754,"Kant–en–klaarmaaltijden – Niet Direct Gebruik – Assortimenten","Kruidenierswaren","Ready-Made Combination Meals – Not Ready to Eat Variety Packs","Grocery"]
[null,null,10006759,"Acai-bessen","Aardappelen, groente en fruit (vers)","Acai Berries","Fresh Fruits & Vegetables"]
[null,null,10006760,"Lulo/Naranjilla","Aardappelen, groente en fruit (vers)","Naranjilla/Lulo","Fresh Fruits & Vegetables"]
[null,null,10006761,"Celtuce/Chinese sla/Stengelsla","Aardappelen, groente en fruit (vers)","Celtuce","Fresh Fruits & Vegetables"]
[null,null,10006821,"Babyluiers en Accessoires – Overig","Cosmetica en persoonlijke verzorgingsproducten","Baby Diapers/Accessories Other","Beauty & Personal Care"]
[null,null,10006822,"Babyluiers en Accessoires – Assortimenten","Cosmetica en persoonlijke verzorgingsproducten","Baby Diapers/Accessories Variety Packs","Beauty & Personal Care"]
[null,null,10006823,"Kai-Lan/Chinese Broccoli","Aardappelen, groente en fruit (vers)","Gai Lan","Fresh Fruits & Vegetables"]
[null,null,10006824,"Fiddlehead Varens","Aardappelen, groente en fruit (vers)","Fiddlehead Ferns","Fresh Fruits & Vegetables"]
[null,null,10006825,"Zwartoogbonen","Aardappelen, groente en fruit (vers)","Black Eyed Peas","Fresh Fruits & Vegetables"]
[null,null,10006826,"Cantaloupemeloenen (Schil zonder Netstructuur)","Aardappelen, groente en fruit (vers)","Non-Netted Cantaloupe Melons","Fresh Fruits & Vegetables"]
[null,null,10006827,"Wintermeloenen of Andere Suikermeloenen","Aardappelen, groente en fruit (vers)","Winter Melons or Odourless Muskmelons","Fresh Fruits & Vegetables"]
[null,null,10006828,"Netmeloenen","Aardappelen, groente en fruit (vers)","Netted Muskmelons","Fresh Fruits & Vegetables"]
[null,null,10006829,"Conomon Meloenen","Aardappelen, groente en fruit (vers)","Conomon Melons","Fresh Fruits & Vegetables"]
[null,null,10006830,"Armeense Komkommer","Aardappelen, groente en fruit (vers)","Armenian Cucumber","Fresh Fruits & Vegetables"]
[null,null,10006831,"Japanse Abrikozen","Aardappelen, groente en fruit (vers)","Mumes","Fresh Fruits & Vegetables"]
[null,null,10006832,"Schisandrabessen","Aardappelen, groente en fruit (vers)","Five-Flavor Berries","Fresh Fruits & Vegetables"]
[null,null,10006833,"Ginsengwortel","Aardappelen, groente en fruit (vers)","Ginseng","Fresh Fruits & Vegetables"]
[null,null,10006834,"Adzukibonen","Aardappelen, groente en fruit (vers)","Adzuki Beans","Fresh Fruits & Vegetables"]
[null,null,10006835,"Stengels van de Zoete Aardappel","Aardappelen, groente en fruit (vers)","Sweet Potato Stems","Fresh Fruits & Vegetables"]
[null,null,10006836,"Lingzhi's/Reishi's","Aardappelen, groente en fruit (vers)","Lingzhi Mushrooms","Fresh Fruits & Vegetables"]
[null,null,10006837,"Jam/Marmelade/Fruitbeleg (Beperkt Houdbaar)","Kruidenierswaren","Jams/Marmalades/Fruit Spreads (Perishable)","Grocery"]
[null,null,10006848,"Honingvervangers","Kruidenierswaren","Honey Substitutes","Grocery"]
[null,null,10006866,"Sukadecitroenen (Cederappels)","Aardappelen, groente en fruit (vers)","Citron","Fresh Fruits & Vegetables"]
[null,null,10006958,"Eetbare Oliën – Plantaardig (Beperkt Houdbaar)","Kruidenierswaren","Oils Edible – Vegetable or Plant (Perishable)","Grocery"]
[null,null,10006966,"Japanse Andoorn","Aardappelen, groente en fruit (vers)","Crosne","Fresh Fruits & Vegetables"]
[null,null,10006967,"Knolcapucien","Aardappelen, groente en fruit (vers)","Mashua (Capucine Tubereuse)","Fresh Fruits & Vegetables"]
[null,null,10006968,"Oca","Aardappelen, groente en fruit (vers)","Oca","Fresh Fruits & Vegetables"]
[null,null,10006969,"Vervangingsproducten voor Melk (Diepvries)","Kruidenierswaren","Milk Substitutes (Frozen)","Grocery"]
[null,null,10006970,"Vervangingsproducten voor Melk (Beperkt Houdbaar)","Kruidenierswaren","Milk Substitutes (Perishable)","Grocery"]
[null,null,10006971,"Vervangingsproducten voor Melk (Houdbaar)","Kruidenierswaren","Milk Substitutes (Shelf Stable)","Grocery"]
[null,null,10006972,"Op Zuivelvervangers Gebaseerde Dranken – Gebruiksklaar (Beperkt Houdbaar)","Kruidenierswaren","Dairy Subsitute Based Drinks – Ready to Drink (Perishable)","Grocery"]
[null,null,10006973,"Op Zuivelvervangers Gebaseerde Dranken – Gebruiksklaar (Houdbaar)","Kruidenierswaren","Dairy Subsitute Based Drinks – Ready to Drink (Shelf Stable)","Grocery"]
[null,null,10006974,"Op Zuivelvervangers Gebaseerde Dranken – Niet-gebruiksklaar (Houdbaar)","Kruidenierswaren","Dairy Substitute Based Drinks – Not Ready to Drink (Shelf Stable)","Grocery"]
[null,null,10006975,"Vervangingsproducten voor Room (Diepvries)","Kruidenierswaren","Cream Substitute (Frozen)","Grocery"]
[null,null,10006976,"Vervangingsproducten voor Room (Beperkt Houdbaar)","Kruidenierswaren","Cream Substitute (Perishable)","Grocery"]
[null,null,10006977,"Vervangingsproducten voor Room (Houdbaar)","Kruidenierswaren","Cream Substitute (Shelf Stable)","Grocery"]
[null,null,10006978,"Vervangingsmiddel voor Yoghurt (Diepvries)","Kruidenierswaren","Yogurt Substitutes (Frozen)","Grocery"]
[null,null,10006979,"Vervangingsproducten voor Yoghurt (Beperkt Houdbaar)","Kruidenierswaren","Yogurt Substitutes (Perishable)","Grocery"]
[null,null,10006980,"Vervangingsproducten voor Yoghurt (Houdbaar)","Kruidenierswaren","Yogurt Substitutes (Shelf Stable)","Grocery"]
[null,null,10006981,"Margarine (Houdbaar)","Zuivel, gekoeld & diepvries","Margarine (Shelf Stable)","Dairy, Refrigerated & Frozen"]
[null,null,10006982,"Margarine (Beperkt Houdbaar)","Zuivel, gekoeld & diepvries","Margarine (Perishable)","Dairy, Refrigerated & Frozen"]
[null,null,10006983,"Margarine (Diepvries)","Zuivel, gekoeld & diepvries","Margarine (Frozen)","Dairy, Refrigerated & Frozen"]
[null,null,10006984,"Zuivelspread (Beperkt Houdbaar)","Zuivel, gekoeld & diepvries","Dairy Spreads (Perishable)","Dairy, Refrigerated & Frozen"]
[null,null,10006985,"Zuivelspread (Diepvries)","Zuivel, gekoeld & diepvries","Dairy Spreads (Frozen)","Dairy, Refrigerated & Frozen"]
[null,null,10006986,"Zuivelspread (Houdbaar)","Zuivel, gekoeld & diepvries","Dairy Spreads (Shelf Stable)","Dairy, Refrigerated & Frozen"]
[null,null,10006987,"Plantaardige Zuivelspread (Houdbaar)","Zuivel, gekoeld & diepvries","Mixed Fat Spreads (Shelf Stable)","Dairy, Refrigerated & Frozen"]
[null,null,10006988,"Plantaardige Zuivelspread (Diepvries)","Zuivel, gekoeld & diepvries","Mixed Fat Spreads (Frozen)","Dairy, Refrigerated & Frozen"]
[null,null,10006989,"Plantaardige Zuivelspread (Beperkt Houdbaar)","Zuivel, gekoeld & diepvries","Mixed Fat Spreads (Perishable)","Dairy, Refrigerated & Frozen"]
[null,null,10006990,"Eetbare Vetten – Gemengd (Beperkt Houdbaar)","Kruidenierswaren","Fats Edible – Mixed (Perishable)","Grocery"]
[null,null,10006991,"Eetbare Vetten – Gemengd (Houdbaar)","Kruidenierswaren","Fats Edible – Mixed (Shelf Stable)","Grocery"]
[null,null,10006992,"Cannabisolie","Tabakswaren","Cannabis Oil","Tobacco"]
[null,null,10006993,"Medicinale Cannabis","Tabakswaren","Cannabis Dried Flower","Tobacco"]
[null,null,10006994,"Voorgerolde Cannabis","Tabakswaren","Cannabis Pre-Rolled","Tobacco"]
[null,null,10006995,"Vervangingsmiddel voor Kaas (Diepvries)","Kruidenierswaren","Cheese Substitutes (Frozen)","Grocery"]
[null,null,10006996,"Vervangingsmiddel voor Kaas (Beperkt Houdbaar)","Kruidenierswaren","Cheese Substitutes (Perishable)","Grocery"]
[null,null,10006997,"Vervangingsmiddel voor Kaas (Houdbaar)","Kruidenierswaren","Cheese Substitutes (Shelf Stable)","Grocery"]
[null,null,10007261,"Drankgerei (Wegwerp)","Wegwerpartikelen","Drinkware (Disposable)","Disposables"]
[null,null,10007262,"Bestek (Wegwerp)","Wegwerpartikelen","Flatware (Disposable)","Disposables"]
[null,null,10007263,"Tafelgerei Accessoires (Wegwerp)","Wegwerpartikelen","Tableware Accessories (Disposable)","Disposables"]
[null,null,10007264,"Tafelkleden/Servetten (Wegwerp)","Wegwerpartikelen","Table Mat/Napkins (Disposable)","Disposables"]
[null,null,10007276,"Snacks – Overig","Kruidenierswaren","Snacks Other","Grocery"]
[null,null,10007932,"Biologische Activator","Schoonmaakartikelen","Biological Activator","Cleaners"]
[null,null,10008002,"Hoja Santa/Heilige Bladpeper","Kruidenierswaren","Hoja Santa","Grocery"]
[null,null,10008003,"Epazote/Welriekende Ganzenvoet","Kruidenierswaren","Epazote","Grocery"]
[null,null,10008004,"Papalo/Boliviaanse Koriander","Kruidenierswaren","Papalo","Grocery"]
[null,null,10008005,"Pipiche","Kruidenierswaren","Pepiche","Grocery"]
[null,null,10008023,"Haar – Borstels en Kammen","Cosmetica en persoonlijke verzorgingsproducten","Hair - Brushes and Combs","Beauty & Personal Care"]
[null,null,10008024,"Cosmetica Applicators","Cosmetica en persoonlijke verzorgingsproducten","Cosmetic Applicators","Beauty & Personal Care"]
[null,null,10008027,"Zachtfruit/Kleinfruit – Mengsels","Aardappelen, groente en fruit (vers)","Small Fruit Variety Packs","Fresh Fruits & Vegetables"]
[null,null,10008029,"Alcoholvrij Bier","Kruidenierswaren","Beer (Non-Alcoholic)","Grocery"]
[null,null,10008030,"Alcoholvrije Mousserende Wijn","Kruidenierswaren","Wine - Sparkling (Non-Alcoholic)","Grocery"]
[null,null,10008031,"Alcoholvrije Stille Wijn","Kruidenierswaren","Wine - Still (Non-Alcoholic)","Grocery"]
[null,null,10008032,"Alcoholvrije Mousserende Cider/Perry","Kruidenierswaren","Apple/Pear Beverage - Sparkling (Non-Alcoholic)","Grocery"]
[null,null,10008033,"Alcoholvrije Stille Cider/Perry","Kruidenierswaren","Apple/Pear Beverage - Still (Non-Alcoholic)","Grocery"]
[null,null,10008034,"Alcoholvrije Likeuren","Kruidenierswaren","Spirits - Non-Alcoholic","Grocery"]
[null,null,10008035,"Alcoholvrije Mixdranken","Kruidenierswaren","Pre-mixed Drinks - Non-Alcoholic","Grocery"]
[null,null,10008036,"Traktaties voor Huisdieren (Aanvullende Eetbare Producten) (Diepvries)","Diervoeding","Pet Treats/Condiments (Complementary edible products) Frozen","Petfood"]
[null,null,10008037,"Traktaties voor Huisdieren (Aanvullende Eetbare Producten) (Beperkt Houdbaar)","Diervoeding","Pet Treats/Condiments (Complementary edible products) Perishable","Petfood"]
[null,null,10008038,"Traktaties voor Huisdieren (Aanvullende Eetbare Producten) (Houdbaar)","Diervoeding","Pet Treats/ Condiments (Complementary edible products) Shelf Stable","Petfood"]
[null,null,10008039,"Bananenbladeren (Garnering van Voedsel)","Aardappelen, groente en fruit (vers)","Banana Leaves (food garnish)","Fresh Fruits & Vegetables"]
[null,null,10008040,"Cactusbladeren (Garnering van Voedsel)","Aardappelen, groente en fruit (vers)","Cactus Leaves (food garnish)","Fresh Fruits & Vegetables"]
[null,null,10008041,"Oranjebloesem (Garnering van Voedsel)","Aardappelen, groente en fruit (vers)","Orange Blossom (food garnish)","Fresh Fruits & Vegetables"]
[null,null,10008042,"Kit voor Alcoholverrijking door middel van Aroma","Alcoholische dranken","Alcohol Flavouring Kit","Alcoholic Beverages"]
[null,null,10008043,"Natuurlijke Omhulsels","Kruidenierswaren","Natural Casings","Grocery"]
[null,null,10008044,"Kunstmatige Omhulsels","Kruidenierswaren","Artificial Casings","Grocery"]
[null,null,10008058,"Militair - Rantsoenen","Kruidenierswaren","Military - Rations","Grocery"]
[null,null,10008059,"Proteïnerepen","Kruidenierswaren","Protein Bars","Grocery"]
[null,null,10008061,"Voedseladditieven","Kruidenierswaren","Food Additives","Grocery"]
[null,null,10008107,"Imitatiekaviaar (Houdbaar)","Vis (vers)","Caviar - Imitation (Shelf Stable)","Fresh Fish"]
[null,null,10008108,"Imitatiekaviaar (Beperkt Houdbaar)","Vis (vers)","Caviar - Imitation (Perishable)","Fresh Fish"]
[null,null,10008119,"Vaatwasmachine - Wasmiddel","Schoonmaakartikelen","Automatic Dishwasher - Detergent ","Cleaners"]
[null,null,10008144,"Vaatwasmachine - Verfrissers","Schoonmaakartikelen","Automatic Dishwasher - Fresheners/Deodorants","Cleaners"]
[null,null,10008145,"Handafwas - Wasmiddel","Schoonmaakartikelen","Hand Dish - Detergent","Cleaners"]
[null,null,10008146,"Vaatwasmachine - Afwaszout","Schoonmaakartikelen","Automatic Dishwasher - Salt","Cleaners"]
[null,null,10008147,"Vaatwasmachine - Spoelmiddel","Schoonmaakartikelen","Automatic Dishwasher - Rinse Aid","Cleaners"]
[null,null,10008148,"Vaatwasmachine - Additieven","Schoonmaakartikelen","Automatic Dishwasher - Additives/Booster","Cleaners"]
[null,null,10008149,"Afwas Voorspoelmiddelen","Schoonmaakartikelen","Dish Pre Wash Treatment","Cleaners"]
[null,null,10008178,"Koffie - Hele Bonen","Kruidenierswaren","Coffee - Whole Beans","Grocery"]
[null,null,10008179,"Koffie - Gemalen Bonen","Kruidenierswaren","Coffee - Ground Beans","Grocery"]
[null,null,10008180,"Koffie - Capsules/Pads","Kruidenierswaren","Coffee - Capsules/Pods","Grocery"]
[null,null,10008181,"Koffievervangers - Capsules/Pads","Kruidenierswaren","Coffee Substitutes - Capsules/Pods","Grocery"]
[null,null,10008182,"Koffievervangers - Gemalen/Infusie","Kruidenierswaren","Coffee Substitutes - Ground/Infused","Grocery"]
[null,null,10008183,"Koffie - Vloeibaar/Niet-gebruiksklaar","Kruidenierswaren","Coffee - Liquid/Not Ready to Drink","Grocery"]
[null,null,10008184,"Thee - Capsules/Pads","Kruidenierswaren","Tea - Capsules/Pods","Grocery"]
[null,null,10008185,"Thee - Vloeibaar/Niet-gebruiksklaar","Kruidenierswaren","Tea - Liquid/Not Ready to Drink","Grocery"]
[null,null,10008186,"Vruchten- en Kruideninfusies/-tisanes - Capsules/Pads","Kruidenierswaren","Fruit Herbal Infusions/Tisanes - Capsules/Pods","Grocery"]
[null,null,10008187,"Vruchten- en Kruideninfusies/-tisanes - Vloeibaar/Niet-gebruiksklaar","Kruidenierswaren","Fruit Herbal Infusions/Tisanes - Liquid/Not Ready to Drink","Grocery"]
[null,null,10008188,"Fruit/Groenten - Mengsels Onbewerkt/Onverwerkt (Vers)","Aardappelen, groente en fruit (vers)","Fruits/Vegetables Variety Packs Unprepared/Unprocessed (Fresh)","Fresh Fruits & Vegetables"]
[null,null,10008189,"Groenten/Fruit - Mengsels - Vers Gesneden","Aardappelen, groente en fruit (vers)","Vegetables/Fruits Variety Pack - Fresh Cut","Fresh Fruits & Vegetables"]
[null,null,10008190,"Citrusvruchten (Vers Gesneden)","Aardappelen, groente en fruit (vers)","Citrus - (Fresh Cut)","Fresh Fruits & Vegetables"]
[null,null,10008191,"Bananen - (Vers Gesneden)","Aardappelen, groente en fruit (vers)","Bananas - (Fresh Cut)","Fresh Fruits & Vegetables"]
[null,null,10008192,"Pitvruchten (Vers Gesneden)","Aardappelen, groente en fruit (vers)","Pome Fruits - (Fresh Cut)","Fresh Fruits & Vegetables"]
[null,null,10008193,"Steenvruchten (Vers Gesneden)","Aardappelen, groente en fruit (vers)","Stone Fruit - (Fresh Cut)","Fresh Fruits & Vegetables"]
[null,null,10008194,"Bessen/Zachtfruit/Kleinfruit (Vers Gesneden)","Aardappelen, groente en fruit (vers)","Berries/Small Fruit - (Fresh Cut)","Fresh Fruits & Vegetables"]
[null,null,10008195,"Ananassen (Vers Gesneden)","Aardappelen, groente en fruit (vers)","Pineapples - (Fresh Cut)","Fresh Fruits & Vegetables"]
[null,null,10008196,"Kiwi’s (Vers Gesneden)","Aardappelen, groente en fruit (vers)","Kiwifruits - (Fresh Cut)","Fresh Fruits & Vegetables"]
[null,null,10008197,"Annona (Vers Gesneden)","Aardappelen, groente en fruit (vers)","Annona - (Fresh Cut)","Fresh Fruits & Vegetables"]
[null,null,10008198,"Avocado’s (Vers Gesneden)","Aardappelen, groente en fruit (vers)","Avocados - (Fresh Cut)","Fresh Fruits & Vegetables"]
[null,null,10008199,"Dadelpruimen (Vers Gesneden)","Aardappelen, groente en fruit (vers)","Persimmon - (Fresh Cut)","Fresh Fruits & Vegetables"]
[null,null,10008200,"Passievruchten (Vers Gesneden)","Aardappelen, groente en fruit (vers)","Passionfruits - (Fresh Cut)","Fresh Fruits & Vegetables"]
[null,null,10008201,"Papaja’s (Vers Gesneden)","Aardappelen, groente en fruit (vers)","Papayas - (Fresh Cut)","Fresh Fruits & Vegetables"]
[null,null,10008202,"Pitahaya’s (Vers Gesneden)","Aardappelen, groente en fruit (vers)","Pitayas - (Fresh Cut)","Fresh Fruits & Vegetables"]
[null,null,10008203,"Fruit (Vers Gesneden) - Overig","Aardappelen, groente en fruit (vers)","Fruit - (Fresh Cut) - Other","Fresh Fruits & Vegetables"]
[null,null,10008204,"Fruit (Vers Gesneden) - Mengsels","Aardappelen, groente en fruit (vers)","Fruits - (Fresh Cut) Variety Packs (Mixed)","Fresh Fruits & Vegetables"]
[null,null,10008205,"Bonen (met Peulen) (Vers Gesneden)","Aardappelen, groente en fruit (vers)","Beans (With Pods) - (Fresh Cut)","Fresh Fruits & Vegetables"]
[null,null,10008206,"Koolsoorten (Vers Gesneden)","Aardappelen, groente en fruit (vers)","Brassica Vegetables - (Fresh Cut)","Fresh Fruits & Vegetables"]
[null,null,10008207,"Bolgroenten (Vers Gesneden)","Aardappelen, groente en fruit (vers)","Bulb Vegetables - (Fresh Cut)","Fresh Fruits & Vegetables"]
[null,null,10008208,"Kikkererwten (Vers Gesneden)","Aardappelen, groente en fruit (vers)","Chickpeas - (Fresh Cut)","Fresh Fruits & Vegetables"]
[null,null,10008209,"Cichoreibladeren (Vers Gesneden)","Aardappelen, groente en fruit (vers)","Chicory Leaves - (Fresh Cut)","Fresh Fruits & Vegetables"]
[null,null,10008210,"Komkommers (Vers Gesneden)","Aardappelen, groente en fruit (vers)","Cucumbers - (Fresh Cut)","Fresh Fruits & Vegetables"]
[null,null,10008211,"Pompoenen – Eetbare Schil (Vers Gesneden)","Aardappelen, groente en fruit (vers)","Cucurbits - Edible Peel - (Fresh Cut)","Fresh Fruits & Vegetables"]
[null,null,10008212,"Pompoenen – Niet-eetbare Schil (Vers Gesneden)","Aardappelen, groente en fruit (vers)","Cucurbits - Inedible Peel - (Fresh Cut)","Fresh Fruits & Vegetables"]
[null,null,10008213,"Eetbare Bloemen (Vers Gesneden)","Aardappelen, groente en fruit (vers)","Edible Flowers - (Fresh Cut)","Fresh Fruits & Vegetables"]
[null,null,10008214,"Varens (Vers Gesneden)","Aardappelen, groente en fruit (vers)","Ferns - (Fresh Cut)","Fresh Fruits & Vegetables"]
[null,null,10008215,"Paddenstoelen (Vers Gesneden)","Aardappelen, groente en fruit (vers)","Fungi - (Fresh Cut)","Fresh Fruits & Vegetables"]
[null,null,10008216,"Kropsla (Vers Gesneden)","Aardappelen, groente en fruit (vers)","Head Lettuce - (Fresh Cut)","Fresh Fruits & Vegetables"]
[null,null,10008217,"Kruiden (Vers Gesneden)","Aardappelen, groente en fruit (vers)","Herbs - (Fresh Cut)","Fresh Fruits & Vegetables"]
[null,null,10008218,"Bladgroenten (Vers Gesneden)","Aardappelen, groente en fruit (vers)","Leaf Vegetables - (Fresh Cut) Variety Packs (Mixed)","Fresh Fruits & Vegetables"]
[null,null,10008219,"Losse/Meervoudige Slabladeren (Vers Gesneden)","Aardappelen, groente en fruit (vers)","Loose Leaf/Multileaf Salad Greens - (Fresh Cut)","Fresh Fruits & Vegetables"]
[null,null,10008220,"Meloenen (Vers Gesneden)","Aardappelen, groente en fruit (vers)","Melons - (Fresh Cut)","Fresh Fruits & Vegetables"]
[null,null,10008221,"Microgroenten (Vers Gesneden)","Aardappelen, groente en fruit (vers)","Micro Vegetables - (Fresh Cut)","Fresh Fruits & Vegetables"]
[null,null,10008222,"Erwten (met Peulen) (Vers Gesneden)","Aardappelen, groente en fruit (vers)","Peas (With Pods) - (Fresh Cut)","Fresh Fruits & Vegetables"]
[null,null,10008223,"Paprika's (incl. Pepers) (Vers Gesneden)","Aardappelen, groente en fruit (vers)","Peppers - (Fresh Cut)","Fresh Fruits & Vegetables"]
[null,null,10008224,"Wortels/Knollen (Vers Gesneden)","Aardappelen, groente en fruit (vers)","Root/Tuber Vegetables - (Fresh Cut)","Fresh Fruits & Vegetables"]
[null,null,10008225,"Sapota (Vers Gesneden)","Aardappelen, groente en fruit (vers)","Sapote - (Fresh Cut)","Fresh Fruits & Vegetables"]
[null,null,10008226,"Cypergras (Vers Gesneden)","Aardappelen, groente en fruit (vers)","Sedges - (Fresh Cut)","Fresh Fruits & Vegetables"]
[null,null,10008227,"Eenbladige Saladegroenten (Vers Gesneden)","Aardappelen, groente en fruit (vers)","Single Leaf Salad Greens - (Fresh Cut)","Fresh Fruits & Vegetables"]
[null,null,10008228,"Overige Nachtschadegewassen (Vers Gesneden)","Aardappelen, groente en fruit (vers)","Solanacea/Others - (Fresh Cut)","Fresh Fruits & Vegetables"]
[null,null,10008229,"Spinazie (Vers Gesneden)","Aardappelen, groente en fruit (vers)","Spinach - (Fresh Cut)","Fresh Fruits & Vegetables"]
[null,null,10008230,"Stengelsla (Vers Gesneden)","Aardappelen, groente en fruit (vers)","Stem Lettuce - (Fresh Cut)","Fresh Fruits & Vegetables"]
[null,null,10008231,"Stengelgroenten (Vers Gesneden)","Aardappelen, groente en fruit (vers)","Stem Vegetables - (Fresh Cut)","Fresh Fruits & Vegetables"]
[null,null,10008232,"Vetplanten (Vers Gesneden)","Aardappelen, groente en fruit (vers)","Succulent - (Fresh Cut)","Fresh Fruits & Vegetables"]
[null,null,10008233,"Suikerriet (Vers Gesneden)","Aardappelen, groente en fruit (vers)","Sugar Canes - (Fresh Cut)","Fresh Fruits & Vegetables"]
[null,null,10008234,"Zilte Groenten (Vers Gesneden)","Aardappelen, groente en fruit (vers)","Tidal Sea Vegetables - (Fresh Cut)","Fresh Fruits & Vegetables"]
[null,null,10008235,"Tomaten (Vers Gesneden)","Aardappelen, groente en fruit (vers)","Tomatoes - (Fresh Cut)","Fresh Fruits & Vegetables"]
[null,null,10008236,"Groenten (Vers Gesneden) - Mengsels","Aardappelen, groente en fruit (vers)","Vegetables - (Fresh Cut) Variety Packs (Mixed)","Fresh Fruits & Vegetables"]
[null,null,10008237,"Groenten (Vers Gesneden) - Overig","Aardappelen, groente en fruit (vers)","Vegetables - Other - (Fresh Cut)","Fresh Fruits & Vegetables"]

{"sheet":"BES NL","index":4,"n_rows":438,"n_cols":12,"rows_kept":438,"cut":false,"hidden":true,"merged":[]}
["Id","LocalName","UsageNotes","Definition","Example","Instructions","ProcessDescription","RelatedInfo","ConsumerUnitsDescription","TradeUnitsDescription","LogisticsUnitsDescription","LocalName (Short)"]
["ANL1001","GS1 locatiecode (GLN) dataleverancier (gln)","De combinatie van de GS1 locatiecode (GLN) van de dataleverancier, de GS1 artikelcode (GTIN) en de doelmarkt identificeert een unieke set kenmerken voor een artikel. De dataleverancier is niet altijd de data-eigenaar, maar is wel verantwoordelijk voor het onderhouden en aanleveren van de artikelgegevens.","Wereldwijd uniek nummer dat de partij identificeert die de informatie over het artikel levert.","5410000999993","Voer de GS1 locatiecode (GLN) in, deze identificeert de partij die de informatie over het artikel in GDSN levert.\nWe raden aan om dezelfde GS1 locatiecode (GLN) te gebruiken als die u gebruikt voor EDI.",""," ","Verplicht"," "," ",{"$f":"IFERROR(LEFT(B2,LEN(B2)-LEN('BES EN'!E2)-3),\"Doelsector\")","v":"GS1 locatiecode (GLN) dataleverancier"}]
["ANL1002","Naam dataleverancier (partyName)",null,"Naam van de dataleverancier (de partij die de gegevens over dit artikel levert).","De Groentjes","Als u de webinterface gebruikt, dan wordt dit veld gevuld met de naam die hoort bij de GS1 locatiecode (GLN) in het veld 'GS1 locatiecode (GLN) dataleverancier'.","",null,null,null,null,{"$f":"IFERROR(LEFT(B3,LEN(B3)-LEN('BES EN'!E3)-3),\"Doelsector\")","v":"Naam dataleverancier"}]
["ANL1003","GS1 artikelcode (GTIN) (gtin)","De combinatie van de GS1 locatiecode (GLN) van de dataleverancier, de GS1 artikelcode (GTIN) en de doelmarkt identificeert een unieke set kenmerken voor een artikel.<br />\nGebruik geen interne code (beginnend met 20-29) als artikelcode, gebruik hiervoor een unieke GS1 artikelcode (GTIN).<br />\nAls u lege emballage/herbruikbare artikelen moet invoeren (bijv. een ladingdrager of krat) in de GDSN datapool, voeg dan een voorloopnul toe aan de bestaande code die bestaat uit 13 cijfers. Bekijk voor meer informatie over codes voor emballage/herbruikbare artikelen de BENELUX-codelijst:<br />\n<a href=\" https://www.gs1.nl/sectorafspraken-over-standaarden/betrouwbare-productdata-levensmiddelen-en-drogisterij-agf-en/gs1-15\" style=\"color:blue; text-decoration:underline\" target=\"_blank\">  https://www.gs1.nl/sectorafspraken-over-standaarden/betrouwbare-productdata-levensmiddelen-en-drogisterij-agf-en/gs1-15</a> (document 'Emballagecodes').","Wereldwijd uniek nummer dat het artikel identificeert.","05410000123459","Voer de 14 cijfers lange GS1 artikelcode (GTIN) in die u gebruikt om het artikel uniek te identificeren.\nAls de GS1 artikelcode (GTIN) minder dan 14 cijfers heeft, dan voert u voorloopnullen in om het aantal compleet te maken.\nSpecifieke procedures zijn van toepassing op artikelen met een variabel gewicht en emballage/herbruikbare artikelen (zie de link in Procesbeschrijving naar het document Toelichting).","Zie voor aanvullende toelichting <a href=\" https://www.gs1.nl/sectorafspraken-over-standaarden/productdata-levensmiddelen-drogisterij-agf-en-foodservice/gs1-5-7\" style=\"color:blue; text-decoration:underline\" target=\"_blank\"> https://www.gs1.nl/sectorafspraken-over-standaarden/productdata-levensmiddelen-drogisterij-agf-en-foodservice/gs1-5-7</a>",null,"Verplicht"," "," ",{"$f":"IFERROR(LEFT(B4,LEN(B4)-LEN('BES EN'!E4)-3),\"Doelsector\")","v":"GS1 artikelcode (GTIN)"}]
["ANL1004","Doelmarkt (targetMarketCountryCode)","De combinatie van de GS1 locatiecode (GLN) van de dataleverancier, de GS1 artikelcode (GTIN) en de doelmarkt identificeert een unieke set kenmerken voor een artikel.<br />\n<br />\nLet op:<br />\n- Met de GS1 code voor Global Market (001) kunt u gegevens aan de &lsquo;wereldwijde&rsquo; doelmarkt publiceren. Deze optie gebruikt u in principe alleen als u artikelstamgegevens wilt publiceren die ook beschikbaar moeten zijn voor een doelmarkt waar geen GDSN ge&iuml;mplementeerd is. Daarnaast ondersteunt deze doelmarkt niet de uitwisseling van lokale gegevens zoals informatie over BTW. Deze doelmarkt is bijvoorbeeld van toepassing op de reisbranche, met tax free shops en cruiseschepen in het bijzonder.<br />\n- Gebruik de GS1 codes voor EU en Non-EU-landen niet om een doelmarkt aan te duiden in dit veld. Deze codes gebruikt u alleen voor velden die een herkomst en/of oorsprong aanduiden.","Het land waar het artikel wordt geleverd en verkocht. De code die de &lsquo;doelmarkt&rsquo; identificeert verwijst naar een land of geografische eenheid op hoger niveau.\n","528\n","Selecteer een correcte code uit de lijst met landcodes, die bestaat uit de &#39;ISO 3166-1&#39; codelijst en een aantal GS1 codes.<br />\nVoor doelmarkt Nederland selecteert u 528.<br />\nVoor doelmarkt Belgi&euml; selecteert u 056. <br />\nVoor doelmarkt Luxemburg selecteert u 442.<br />\nAls een artikel aan retailers in verschillende landen wordt geleverd, dan maakt u voor elke afzonderlijke doelmarkt een afzonderlijk artikel aan. U doet dit door de informatie uit de eerste doelmarkt te kopi&euml;ren en plakken en deze te publiceren voor de volgende doelmarkt. Houd rekening met eventuele lokale verschillen (bijv. belastinggegevens).\n","Zie voor aanvullende toelichting <a href=\" https://www.gs1.nl/sectorafspraken-over-standaarden/productdata-levensmiddelen-drogisterij-agf-en-foodservice/gs1-5-7\" style=\"color:blue; text-decoration:underline\" target=\"_blank\"> https://www.gs1.nl/sectorafspraken-over-standaarden/productdata-levensmiddelen-drogisterij-agf-en-foodservice/gs1-5-7</a>",null,"Verplicht"," "," ",{"$f":"IFERROR(LEFT(B5,LEN(B5)-LEN('BES EN'!E5)-3),\"Doelsector\")","v":"Doelmarkt"}]
["ANL1005","Code GPC Classificatie (gpcCategoryCode)","Om een GPC-classificatiecode te zoeken, gaat u naar: <a href=\" https://www.gs1.org/services/gpc-browser\" style=\"color:blue; text-decoration:underline\" target=\"_blank\"> https://www.gs1.org/services/gpc-browser</a>.<br />\n<br />\nDit veld wordt in Nederland gecontroleerd in het kader van het datakwaliteitsprogramma.\n","Code die de artikelcategorie van het artikel aangeeft volgens de GS1 Global Product Classificatie (GPC) standaard.\n","10000006 (Groenten - Onbereid/Onverwerkt (houdbaar))\n","Selecteer de correcte GPC-classificatiecode, gebruik als hulpmiddel de GPC browser (<a href=\" https://www.gs1.org/services/gpc-browser\" style=\"color:blue; text-decoration:underline\" target=\"_blank\"> https://www.gs1.org/services/gpc-browser</a>). Staat de classificatiecode die u zoekt hier niet in? Gebruik dan de code die de artikelcategorie het dichtst benadert.<br />\nDe code 99999999 mag niet worden gebruikt.<br />\n<br />\nIn het geval van een samengesteld artikel (zie voor een definitie de link in Procesbeschrijving naar het document Toelichting) dat bestaat uit meerdere artikelen met elk hun eigen GS1 artikelcode (GTIN), geef dan elk afzonderlijk artikel een GPC-code. Daarnaast voorziet u het samengestelde artikel zelf ook van een GPC-code. Wanneer de losse artikelen binnen het samengesteld artikel verschillende GPC-codes hebben, kunt u voor het samengestelde artikel niet kiezen voor een specifieke GPC-code. U moet dan kiezen voor een zogenaamde &#39;assortiment GPC-code&#39; of de segmentoverstijgende code.<br />\nVoor een assortiment GPC-code (producten vallen in dat geval binnen hetzelfde segment) kiest u bijvoorbeeld als u een samengesteld artikel hebt dat bestaat uit een fles gin en een fles tonic. Kies dan voor de GPC-code: Brick: 10000623 - Dranken - Assortimenten.<br />\nVoor de segmentoverstijgende code kiest u bijvoorbeeld als u een samengesteld artikel hebt met een paar flesjes bier (segment is &#39;Levensmiddelen/Dranken/Rookwaren&#39;) en een bierglas (segment is &#39;Keuken-/Huishoudbenodigdheden&#39;). In dit geval kiest u voor de GPC-code: Brick: 10000624 - Segmentoverstijgende Classificatie - Assortimenten.\n","Zie voor aanvullende toelichting <a href=\" https://www.gs1.nl/sectorafspraken-over-standaarden/productdata-levensmiddelen-drogisterij-agf-en-foodservice/gs1-5-7\" style=\"color:blue; text-decoration:underline\" target=\"_blank\"> https://www.gs1.nl/sectorafspraken-over-standaarden/productdata-levensmiddelen-drogisterij-agf-en-foodservice/gs1-5-7</a><br />\n<br />\nLokale in Nederland gebruikte validatieregels zijn: 500.022, 500.158, 500.172, 500.173, 500.176, 500.193, 500.199, 500.200, 500.201, 500.202, 500.203, 500.204, 500.205, 500.211, 500.215, 500.220, 500.222, 500.223, 500.230, 500.240, 500.254, 500.255, 500.256, 500.257, 500.258, 500.259, 500.260, 500.265, 500.266, 500.276, 500.277, 500.278, 500.287, 500.288, 500.316, 500.317, 500.319, 500.330, 500.331, 500.332, 500.333, 500.334, 500.344, 500.345, 500.346, 500.347, 500.348, 500.354, 500.356, 500.374, 500.375, 500.379\n","","Verplicht"," "," ",{"$f":"IFERROR(LEFT(B6,LEN(B6)-LEN('BES EN'!E6)-3),\"Doelsector\")","v":"Code GPC Classificatie"}]
["ANL1006","Hiërarchisch niveau  (tradeItemUnitDescriptorCode)","Voor uitgebreide voorbeelden van het hi&euml;rarchisch niveau en van de hi&euml;rarchische opbouw bekijkt u sectie 4 in het document &#39;GDSN Trade Item Implementation Guide&#39; (<a href=\" https://www.gs1.org/gdsn/trade_implementation_guide\" style=\"color:blue; text-decoration:underline\" target=\"_blank\"> https://www.gs1.org/gdsn/trade_implementation_guide</a>).","De code die het niveau van het artikel in de hi&euml;rarchie weergeeft (bijv. pallet, doos, basiseenheid).\n","BASE_UNIT_OR_EACH\n","Selecteer een waarde uit de codelijst &#39;TradeItemUnitDescriptorList&#39;.\n","- <a href=\" https://www.gs1.org/gdsn/trade_implementation_guide\" style=\"color:blue; text-decoration:underline\" target=\"_blank\"> https://www.gs1.org/gdsn/trade_implementation_guide</a> (Trade Item Implementation Guide)<br />\n<br />\nLokale in Nederland gebruikte validatieregels zijn: 500.137, 500.139, 500.141, 500.142, 500.143, 500.144, 500.145, 500.146, 500.147, 500.176, 500.269, 500.270, 500.278, 500.284, 500.306, 500.321, 500.335, 500.376\n",null,"Verplicht"," "," ",{"$f":"IFERROR(LEFT(B7,LEN(B7)-LEN('BES EN'!E7)-3),\"Doelsector\")","v":"Hiërarchisch niveau "}]
["ANL1007","Type display (displayTypeCode)",null,"Een code die bepaalt wat voor soort display een artikel is.","FDR (Floor Display Ready Packaging)","Verplicht als isTradeItemADisplayUnit = 'TRUE'.<br />\nDe mogelijke codes zijn afhankelijk van de geselecteerde 'tradeItemUnitDescriptorCode' (zie veld ‘Hiërarchisch niveau’).\nDe codes 'FDR' en 'FND' zijn alleen toegestaan bij 'PALLET' of bij 'DISPLAY_SHIPPER'. De codes 'SDR' en 'SND' zijn alleen toegestaan bij 'CASE' of bij 'PACK_OR_INNER_PACK'. De code 'UNS' is bij alle hiërarchische niveaus toegestaan.","Lokale in Nederland gebruikte validatieregels zijn: 500.244, 500.268, 500.269, 500.270"," ","Verplicht als de consumenteneenheid een display is.","Verplicht als de handelseenheid een display is.","Verplicht als de pallet een display is.",{"$f":"IFERROR(LEFT(B8,LEN(B8)-LEN('BES EN'!E8)-3),\"Doelsector\")","v":"Type display"}]
["ANL1008","Ingangsdatum/tijd (effectiveDateTime)","Alle artikelgegevens moeten beschikbaar zijn vóór de levering van het artikel.\nOm die reden moet de ingangsdatum altijd eerder zijn dan of gelijk zijn aan de eerste beschikbaarheidsdatum.","De datum en tijd waarop de informatie van de stamgegevens geldig is. Geldig = correct of waar.","2016-05-31T08:00:00 (jjjj-mm-ddTuu:mi:ss)","Werk dit veld bij als er een verandering in de cyclus is (van een nieuw artikel tot en met verwijdering van een artikel) om onderscheid te maken tussen de verschillende versies van de gegevens.<br />\nDit veld wordt ook gebruikt voor wijzigingen aan het artikel waarvoor geen nieuwe GS1 artikelcode (GTIN) nodig is. In dat geval wordt de ingangsdatum van de nieuwe artikelinformatie aangegeven.",null," ","Verplicht",null," ",{"$f":"IFERROR(LEFT(B9,LEN(B9)-LEN('BES EN'!E9)-3),\"Doelsector\")","v":"Ingangsdatum/tijd"}]
["ANL1009","GS1 locatiecode (GLN) lokaal contact (gln)","U gebruikt dit veld als de partij die de gegevens synchroniseert niet de partij is die verantwoordelijk is voor het artikel in de lokale doelmarkt. Zo is bijvoorbeeld Global Company de partij die de gegevens synchroniseert vanuit een hoofdkantoor in de Verenigde Staten, deze GS1 locatiecode (GLN) is ingevuld bij ‘GS1 locatiecode (GLN) dataleverancier’. Global Company Nederland is de partij die het contact is voor de lokale doelmarkt. Hun GLN wordt in dit veld ingevuld.<br />\nBelangrijk: Voer hier niet de GS1 locatiecode (GLN) van de merkhouder in, tenzij de merkhouder ook het lokale contact is.","Wereldwijd uniek nummer dat de partij identificeert die het primaire lokale contact is van de afnemer. De GS1 locatiecode (GLN) van de dataleverancier kan verschillen van een lokale GLN.","5410000111111","Is de GS1 locatiecode (GLN) van de dataleverancier anders dan degene die u gebruikt in EDI-berichten (ORDERS, INVOIC etc.)? Of anders dan degene van het bedrijf waarmee u voor ondersteuning contact moet opnemen? Voer dan de GS1 locatiecode (GLN) van deze lokale leverancier in dit veld in.<br />\nAls u dit veld invult, dan moet u ook het veld ‘Soort lokaal contact’ invullen met de code 'BZL' (Licentiehouder).<br />\nEen GLN bestaat altijd uit 13 cijfers.",null," "," "," "," ",{"$f":"IFERROR(LEFT(B10,LEN(B10)-LEN('BES EN'!E10)-3),\"Doelsector\")","v":"GS1 locatiecode (GLN) lokaal contact"}]
["ANL1010","Aanvullende artikelidentificatie (additionalTradeItemIdentification)","Codes voor artikelen met een variabel gewicht en prijscodes worden alleen in de winkel gebruikt, bijvoorbeeld om het gewicht of de prijs van het artikel aan te geven. Deze codes beginnen met 20, 21, 22, 23 of 28.<br />\n<br />\nDit veld wordt in Nederland gecontroleerd in het kader van het datakwaliteitsprogramma.\n","Aanvullende informatie om artikelen te kunnen identificeren, bijvoorbeeld het artikelnummer van de leverancier.\n","02312345000002 (bij type FOR_INTERNAL_USE_1)<br />\n01331 (bij type RVG)<br />\n4121 (bij type PLU)<br />\n22290=16831\n","Als u voorverpakte artikelen met een variabel gewicht of prijscodes op uw product gebruikt, dan voert u deze codes hier in. U vult dan de code &lsquo;FOR_INTERNAL_USE_1&rsquo; in bij het veld &#39;Aanvullende artikelidentificatie type&#39;. Gebruik altijd voorloopnullen om ervoor te zorgen dat de code uit 14 cijfers bestaat. Zie voor meer informatie over het gebruik van voorloopnullen hoofdstuk 33 van de &#39;GDSN Trade Item Implementation Guide&#39; (<a href=\" https://www.gs1.org/gdsn/trade_implementation_guide\" style=\"color:blue; text-decoration:underline\" target=\"_blank\"> https://www.gs1.org/gdsn/trade_implementation_guide</a>).<br />\nAls u dit veld invult, dan moet u ook het veld &lsquo;Aanvullende artikelidentificatie type&rsquo; invullen. Dit veld kan als het nodig is meer dan eens worden gebruikt. De GS1 artikelcode (GTIN) is altijd leidend voor de identificatie.<br />\n<br />\nVoor zelfzorggeneesmiddelen: Vul hier het RVG-nummer (zelfzorggeneesmiddelen), RVH-nummer (homeopathische middelen) of het EU-registratienummer in. Alleen de waarden RVG, RVH en EU_MEDICAL_PRODUCT_NUMBER uit de codelijst additionalTradeItemIdentificationTypeCode zijn toegestaan.<br />\n<br />\nVoor AGF-producten: vul hier de 4-cijferige PLU (Price Look-Up)-code van het product in. Hiermee geeft u aan om wat voor ras (vari&euml;teit) het gaat. Deze codes vindt u op de website van IFPS Global. Naast dit veld vult u dan ook het veld &lsquo;Aanvullende artikelidentificatie type&rsquo; in met type PLU.\n","- <a href=\" https://www.gs1.org/gdsn/trade_implementation_guide\" style=\"color:blue; text-decoration:underline\" target=\"_blank\"> https://www.gs1.org/gdsn/trade_implementation_guide</a> (Trade Item Implementation Guide)<br />\n<br />\nLokale in Nederland gebruikte validatieregels zijn: 500.018, 500.176, 500.280, 500.281\n",null,"Verplicht voor zelfzorggeneesmiddelen."," "," ",{"$f":"IFERROR(LEFT(B11,LEN(B11)-LEN('BES EN'!E11)-3),\"Doelsector\")","v":"Aanvullende artikelidentificatie"}]
["ANL1011","Aanvullende artikelidentificatie type (additionalTradeItemIdentification/@additionalTradeItemIdentificationTypeCode)","Als u dit veld invult, vul dan ook het veld &#39;Aanvullende artikelidentificatie&#39; in. Dit veld kan als het nodig is meer dan eens worden gebruikt.<br />\n<br />\nDit veld wordt in Nederland gecontroleerd in het kader van het datakwaliteitsprogramma.","Code die de aanvullende artikelidentificatie weergeeft.\n","FOR_INTERNAL_USE_1<br />\nRVG<br />\nPLU\n","Selecteer de correcte waarde uit de codelijst &#39;additionalTradeItemIdentificationTypeCode&#39;.<br />\n<br />\nAls u de code &#39;FOR_INTERNAL_USE_1&#39; (voor intern gebruik 1) gebruikt, dan moet u een GS1 artikelcode (GTIN) met voorloopnullen invullen in het veld &#39;Aanvullende artikelidentificatie&#39;.<br />\n<br />\nVoor geneesmiddelen: kies uit de codelijst &#39;additionalTradeItemIdentificationTypeCode&#39; de waarde die van toepassing is voor uw artikel. Alleen de waarden &#39;RVG&#39;, &#39;RVH&#39; of &#39;EU_MEDICAL_PRODUCT_NUMBER&#39; zijn toegestaan.\n","Lokale in Nederland gebruikte validatieregels zijn: 500.018, 500.199, 500.200, 500.201, 500.202, 500.203, 500.204, 500.205, 500.220, 500.223\n","","Verplicht als het veld 'Aanvullende artikelidentificatie' is ingevuld bij de consumenteneenheid. ","Verplicht als het veld 'Aanvullende artikelidentificatie' is ingevuld bij de handelseenheid.","Verplicht als het veld 'Aanvullende artikelidentificatie' is ingevuld bij de pallet.",{"$f":"IFERROR(LEFT(B12,LEN(B12)-LEN('BES EN'!E12)-3),\"Doelsector\")","v":"Aanvullende artikelidentificatie type"}]
["ANL1012","Code import classificatie (importClassificationValue)","De waarde die u invult, wordt niet gecontroleerd. Zie voor de actuele lijst met Intrastat-codes voor Nederland: <a href=\" https://www.cbs.nl/nl-nl/deelnemers-enquetes/deelnemers-enquetes/bedrijven/onderzoek/internationale-handel-in-goederen/idep-codelijsten\" style=\"color:blue; text-decoration:underline\" target=\"_blank\"> https://www.cbs.nl/nl-nl/deelnemers-enquetes/deelnemers-enquetes/bedrijven/onderzoek/internationale-handel-in-goederen/idep-codelijsten</a>. Kies voor het overzicht met goederencodes en zoek uw product. Vul de codes zonder spaties in GS1 Data Source in.<br />\nZie voor de actuele lijst met Intrastat-codes voor Belgi&euml; en Luxemburg: <a href=\" https://www.nbb.be/fr/statistiques/commerce-exterieur/nomenclatures\" style=\"color:blue; text-decoration:underline\" target=\"_blank\"> https://www.nbb.be/fr/statistiques/commerce-exterieur/nomenclatures</a>. Kies voor het document &#39;la nomenclature 2020&nbsp;au format PDF&#39; en zoek uw product. Vul de bijbehorende code zonder spaties in CDB in.&nbsp;\n","Een classificatie van import- en exportartikelen op basis van belastingen en tarieven.\n","32089001\n","Geef op CE-niveau altijd de uit 8 cijfers bestaande INTRASTAT-code op in combinatie met importClassificationTypeCode = INTRASTAT (zie veld &#39;Type import classificatie&#39;).<br />\n<br />\nDit veld kan als het nodig is meer dan eens worden ingevuld.\n","- <a href=\" https://www.cbs.nl/nl-nl/deelnemers-enquetes/deelnemers-enquetes/bedrijven/onderzoek/internationale-handel-in-goederen/idep-codelijsten\" style=\"color:blue; text-decoration:underline\" target=\"_blank\"> https://www.cbs.nl/nl-nl/deelnemers-enquetes/deelnemers-enquetes/bedrijven/onderzoek/internationale-handel-in-goederen/idep-codelijsten</a> <br />\n<br />\n- <a href=\" https://www.nbb.be/fr/statistiques/commerce-exterieur/nomenclatures\" style=\"color:blue; text-decoration:underline\" target=\"_blank\"> https://www.nbb.be/fr/statistiques/commerce-exterieur/nomenclatures</a>. <br />\n<br />\nLokale in Nederland gebruikte validatieregels zijn: 500.164, 500.229\n",null,"Verplicht"," "," ",{"$f":"IFERROR(LEFT(B13,LEN(B13)-LEN('BES EN'!E13)-3),\"Doelsector\")","v":"Code import classificatie"}]
["ANL1013","Type import classificatie (importClassificationTypeCode)","","Code voor de instantie die de import of export van het artikel controleert.\n","INTRASTAT\n","Selecteer de correcte waarde uit de codelijst 'importClassificationTypeCode'. Als u dit veld invult, dan moet u ook het veld 'Code Import Classificatie' invullen. Dit veld kan als het nodig is meer dan eens worden ingevuld. U vult ten minste de waarde 'INTRASTAT' in dit veld in, indien gewenst kunt u het veld daarnaast met andere waardes vullen.\n","Lokale in Nederland gebruikte validatieregels zijn: 500.148, 500.164, 500.229\n","","Verplicht"," "," ",{"$f":"IFERROR(LEFT(B14,LEN(B14)-LEN('BES EN'!E14)-3),\"Doelsector\")","v":"Type import classificatie"}]
["ANL1014","Land van oorsprong (countryCode)","Dit veld kan meerdere keren voorkomen. Zie voor meer informatie over het gebruik van het land van oorsprong sectie 10 van de &#39;Trade Item Implementation Guide&#39; op de internationale website van GS1 (<a href=\" https://www.gs1.org/gdsn/trade_implementation_guide\" style=\"color:blue; text-decoration:underline\" target=\"_blank\"> https://www.gs1.org/gdsn/trade_implementation_guide</a>). De ISO-landenlijst bevat geen codes voor regio&#39;s (bijvoorbeeld: EU), GS1 heeft hiervoor zelf een codelijst beschikbaar. De codelijst die gepubliceerd is bij dit veld bevat zowel de codes van de ISO-landenlijst als de GS1 codelijst.\n","Het land waar het artikel is geproduceerd. De code moet afkomstig zijn van de &#39;ISO-landenlijst (ISO 3166-1)&#39;.\n","528 (Nederland)\n","Selecteer een waarde uit de lijst, bijvoorbeeld:<br />\n- China (156)<br />\n- Verenigd Koninkrijk (826)<br />\n<br />\nAls een artikel meerdere landen van oorsprong kan hebben, dan vult u alle mogelijke landen in.\n","- <a href=\" https://www.gs1.org/gdsn/trade_implementation_guide\" style=\"color:blue; text-decoration:underline\" target=\"_blank\"> https://www.gs1.org/gdsn/trade_implementation_guide</a> (Trade Item Implementation Guide) <br />\n<br />\nLokale in Nederland gebruikte validatieregels zijn: 500.271\n",null,"Verplicht"," Verplicht in Nederland alleen voor verpakte verse AGF-producten "," ",{"$f":"IFERROR(LEFT(B15,LEN(B15)-LEN('BES EN'!E15)-3),\"Doelsector\")","v":"Land van oorsprong"}]
["ANL1015","Status artikelinformatie (preliminaryItemStatusCode)","Als u de status van een onderliggend artikel de waarde &lsquo;PRELIMINARY&rsquo; geeft, dan mag de status van het bovenliggende artikel niet &lsquo;FINAL&rsquo; zijn. Als u de status van een artikel de waarde &lsquo;PRELIMINARY&rsquo; of &lsquo;FINAL&rsquo; geeft, dan moet de status van dit artikel hetzelfde zijn in alle gepubliceerde hi&euml;rarchie&euml;n waar dit artikel in voorkomt. Zie voor meer informatie over artikelhi&euml;rarchie&euml;n de link in Procesbeschrijving naar het document Toelichting.\n","Een code die aangeeft dat het betreffende artikel gegevens bevat die:<br />\n- De dataleverancier van plan is te corrigeren (of aan te vullen) omdat die gegevens nog onbekend zijn bij de productie (&lsquo;PRELIMINARY&rsquo;; voorlopig), of dat<br />\n- Het artikel alle attribuutwaarden heeft die bij de definitieve status (&lsquo;FINAL&rsquo;; definitief) horen.\n","PRELIMINARY\n","Als dit veld wordt gebruikt, dan moet u ook het veld &lsquo;Eerste verzenddatum/tijd&rsquo; invullen. Selecteer een waarde uit de codelijst &#39;preliminaryItemStatusCode&#39;. U mag artikelgegevens met de status &lsquo;PRELIMINARY&rsquo; doorgeven, op voorwaarde dat dit voor de deadline van de artikelintroductie gebeurt. Daarna mogen de artikelgegevens niet langer de status &lsquo;PRELIMINARY&rsquo; hebben.\n","Zie voor aanvullende toelichting <a href=\" https://www.gs1.nl/sectorafspraken-over-standaarden/productdata-levensmiddelen-drogisterij-agf-en-foodservice/gs1-5-7\" style=\"color:blue; text-decoration:underline\" target=\"_blank\"> https://www.gs1.nl/sectorafspraken-over-standaarden/productdata-levensmiddelen-drogisterij-agf-en-foodservice/gs1-5-7</a>\n",""," "," "," ",{"$f":"IFERROR(LEFT(B16,LEN(B16)-LEN('BES EN'!E16)-3),\"Doelsector\")","v":"Status artikelinformatie"}]
["ANL1016","Eerste verzenddatum/tijd (firstShipDateTime)",null,"Geeft de vroegste datum aan waarop het artikel kan worden verzonden. Dit is onafhankelijk van een specifieke verzendlocatie.","2016-03-09T00:00:00+00:00","Dit veld vult u in als het veld ‘Status artikelinformatie’ is ingevuld. Als de code in het veld ‘Status artikelinformatie’ de waarde ‘PRELIMINARY’ heeft, dan moet de datum in de toekomst liggen. ",null," ","Verplicht als het veld 'Status artikelinformatie' is ingevuld bij de consumenteneenheid. "," "," ",{"$f":"IFERROR(LEFT(B17,LEN(B17)-LEN('BES EN'!E17)-3),\"Doelsector\")","v":"Eerste verzenddatum/tijd"}]
["ANL1017","Volledige omschrijving (tradeItemDescription)","Het doel van de informatie in dit veld is om een product direct te herkennen en te onderscheiden van andere producten. In dit veld staat de unieke omschrijving van een artikel met de merkaanduiding, productaanduiding, inhoudsaanduiding en de verpakkingsaanduiding. De leverancier bepaalt welke unieke omschrijving er moet worden gebruikt.","Tekst die het artikel of de dienst op een unieke manier omschrijft.\n","Nutricia Nutrilon opvolgmelk standaard2 850 gram bus<br />\nMerknaam: Nutricia,<br />\nSubmerk: Nutrilon,<br />\nFunctionele productnaam: opvolgmelk,<br />\nVariant: standaard2&rsquo;,<br />\nNetto inhoud &amp; eenheid: 850 gram en<br />\nVerpakkingstype: bus.\n","Voer in dit veld de unieke omschrijving van een artikel in met de volgende informatie:<br />\n- Merkaanduiding <br />\nVoor de merkaanduiding moet u de velden &lsquo;Merknaam&rsquo;, &lsquo;Submerk&rsquo; gebruiken. Afkorten is niet toegestaan, behalve als het (sub)merk als afkorting op het etiket/verpakking staat zoals AH, P&amp;G, HEMA, COOP, M&amp;M&rsquo;s of LU. De merknaam en het submerk moeten overeenkomen met wat er op het etiket staat.<br />\n- Productaanduiding <br />\nVoor de productaanduiding kunt u de velden &lsquo;Functionele productnaam&rsquo;, &lsquo;Variant&rsquo; gebruiken om het product zo uniek mogelijk te beschrijven. Vul de productaanduiding zo rijk en specifiek mogelijk in zodat producten van elkaar onderscheiden kunnen worden. Let op: als u informatie uit het veld &#39;Functionele productnaam&#39; gebruikt, dan is het de bedoeling dat het de volledige omschrijving duidelijker maakt voor de afnemer.<br />\n- Inhoudsaanduiding <br />\nVoor de inhoudsaanduiding moet u de velden &lsquo;Netto inhoud &amp; eenheid&rsquo; gebruiken. Het is de bedoeling dat de inhoudsaanduiding leesbaar/begrijpelijk is voor de consument. Een consument begrijpt de code &#39;H87&#39; niet, dus gebruik dan &lsquo;stuks&rsquo;.<br />\n- Verpakkingsaanduiding <br />\nVoor de verpakkingsaanduiding kunt u het veld &lsquo;Verpakkingstype&rsquo; gebruiken. Het toevoegen van de verpakkingsaanduiding is alleen verplicht als het nodig is om een product uniek te omschrijven. Het is de bedoeling dat de verpakkingsaanduiding leesbaar/begrijpelijk is voor de consument. Schrijf bijvoorbeeld de code &#39;BBG&#39; uit als &lsquo;bag in box&rsquo;.<br />\n<br />\nVoor doelmarkt 056 (Belgi&euml;): u moet dit veld verplicht invullen in het Nederlands, Frans, Duits en Engels.<br />\nVoor doelmarkt 442 (Luxemburg): u moet dit veld verplicht invullen in het Frans, Duits en Engels.<br />\nVoor doelmarkt 528 (Nederland): u moet dit veld ten minste &eacute;&eacute;n keer verplicht invullen met taalcode &lsquo;nl&rsquo;.\n","Lokale in Nederland gebruikte validatieregels zijn: 500.156\n","","Verplicht"," "," ",{"$f":"IFERROR(LEFT(B18,LEN(B18)-LEN('BES EN'!E18)-3),\"Doelsector\")","v":"Volledige omschrijving"}]
["ANL1018","Volledige omschrijving taalcode (tradeItemDescription/@languageCode)","Dit veld wordt in Nederland gecontroleerd in het kader van het datakwaliteitsprogramma.","Code die een taal specificeert. Toegestane codewaarden staan gespecificeerd in de GS1 codelijst 'LanguageCode'.","nl","Selecteer de correcte waarde uit de 'ISO 639-1 (2-alpha)' codelijst.","- Voor het terugvinden van taalcodes zie: <a href=\" http://www.loc.gov/standards/iso639-2/php/code_list.php\" style=\"color:blue; text-decoration:underline\" target=\"_blank\"> http://www.loc.gov/standards/iso639-2/php/code_list.php</a> <br />\n<br />\nLokale in Nederland gebruikte validatieregels zijn: 500.156 ",null,"Verplicht"," "," ",{"$f":"IFERROR(LEFT(B19,LEN(B19)-LEN('BES EN'!E19)-3),\"Doelsector\")","v":"Volledige omschrijving taalcode"}]
["ANL1019","Merknaam (brandName)","De merknaam staat op de verpakking en moet op alle niveaus van de artikelhi&euml;rarchie precies hetzelfde zijn.<br />\n<br />\nDit veld wordt in Nederland gecontroleerd in het kader van het datakwaliteitsprogramma.","De naam van het merk waaronder het artikel wordt verkocht en gepromoot.\n","U kunt kiezen voor &eacute;&eacute;n van onderstaande voorbeelden:<br />\nMerknaam: Nutricia Nutrilon<br />\nof<br />\nMerknaam: Nutricia<br />\nSubmerk: Nutrilon<br />\nBeide voorbeelden zijn correct. Zorg ervoor dat u &eacute;&eacute;n keuze maakt voor het invoeren van de merknaam en het submerk en dat u deze op dezelfde manier gebruikt voor andere producten. Dus als u kiest voor de merknaam Nutricia Nutrilon, dan voert u dit voor alle producten op dezelfde manier in.<br />\n<br />\nVoorbeeld gebruikt in &lsquo;Volledige omschrijving&rsquo;:<br />\nNutricia Nutrilon opvolgmelk standaard2 850 gram bus<br />\nMerknaam: Nutricia,<br />\nSubmerk: Nutrilon,<br />\nFunctionele productnaam: opvolgmelk,<br />\nVariant: standaard2,<br />\nNetto inhoud &amp; eenheid: 850 gram en<br />\nVerpakkingstype: bus.\n","De merknaam moet overeenkomen met wat er op de verpakking staat. Spel de merknaam altijd op dezelfde manier en gebruik leestekens, hoofdletters en kleine letters consistent.<br />\nVoer bij merkloze artikelen de waarde &lsquo;UNBRANDED&rsquo; in.<br />\nVoer voor combinatieverpakkingen met daarin verschillende merken (bijv. een display of geschenkverpakking) de waarde &lsquo;MIXED&rsquo; in.<br />\nAfkorten is niet toegestaan, behalve als het (sub)merk als afkorting op het etiket/verpakking staat, zoals AH, P&amp;G, HEMA, COOP, M&amp;M&rsquo;s of LU.<br />\nU kunt een merk in sommige gevallen herkennen aan een &reg; markering.<br />\nDe velden &lsquo;Merknaam&rsquo; en &lsquo;Submerk&rsquo; vormen samen de gehele merkomschrijving die op de verpakking staat. U bepaalt wat de merknaam is en wat het submerk. Zorg ervoor dat u hierin consistent bent. Dat betekent dat u voor alle artikelen van hetzelfde merk de merknaam en het submerk op dezelfde manier invoert.\n","Lokale in Nederland gebruikte validatieregels zijn: 500.289, 500.290\n","","Verplicht"," "," ",{"$f":"IFERROR(LEFT(B20,LEN(B20)-LEN('BES EN'!E20)-3),\"Doelsector\")","v":"Merknaam"}]
["ANL1022","Submerk (subBrand)","De submerknaam moet op de daadwerkelijke artikelverpakking voorkomen en op alle niveaus van de artikelhi&euml;rarchie precies hetzelfde zijn. U kunt dit veld alleen gebruiken als het veld &#39;Merknaam&#39; ook wordt gebruikt.<br />\n<br />\nDit veld wordt in Nederland gecontroleerd in het kader van het datakwaliteitsprogramma.","De naam van een submerk. Van een submerk is sprake als er binnen een merk series zijn waarop een aparte marketinginspanning is gericht.\n","Voorbeeld gebruikt in &lsquo;Volledige omschrijving&rsquo;:<br />\nNutricia Nutrilon opvolgmelk standaard2 850 gram bus<br />\nMerknaam: Nutricia,<br />\nSubmerk: Nutrilon,<br />\nFunctionele productnaam: opvolgmelk,<br />\nVariant: standaard2,<br />\nNetto inhoud &amp; eenheid: 850 gram en<br />\nVerpakkingstype: bus.\n","Vul het submerk in dat op het artikel en/of de verpakking staat. De leverancier beslist of er sprake is van een submerk. Spel de submerknaam altijd op dezelfde manier en gebruik leestekens, hoofdletters en kleine letters consistent.<br />\nAfkorten is niet toegestaan, behalve als het (sub)merk als afkorting op het etiket/verpakking staat , zoals AH, P&amp;G, HEMA, COOP, M&amp;M&rsquo;s of LU.<br />\nU kunt een submerk in sommige gevallen herkennen aan een &reg;markering.<br />\nDe velden &lsquo;Merknaam&rsquo; en &lsquo;Submerk&rsquo; vormen samen de volledige merkomschrijving die op de verpakking staat. U bepaalt wat de merknaam is en wat het submerk. Zorg ervoor dat u hierin consistent bent. Dat betekent dat u voor alle artikelen van hetzelfde merk de merknaam en het submerk op dezelfde manier invoert.\n","Lokale in Nederland gebruikte validatieregels zijn: 500.289, 500.291\n",""," "," "," ",{"$f":"IFERROR(LEFT(B21,LEN(B21)-LEN('BES EN'!E21)-3),\"Doelsector\")","v":"Submerk"}]
["ANL1025","Functionele productnaam (functionalName)","Het doel van de velden 'Functionele productnaam' en 'Variant' is om het product zo uniek mogelijk te beschrijven. Hiervoor vult u het veld zo rijk en specifiek mogelijk in. Als er varianten van het artikel bestaan, dan vult u deze in het veld &#39;Variant&#39; in.<br />\n<br />\nDit veld wordt in Nederland gecontroleerd in het kader van het datakwaliteitsprogramma.","Tekst die de essentie van het artikel voor consumenten aangeeft.\n","Functionele productnaam: Kauwgom, Variant: peppermint.<br />\nFunctionele productnaam: Soep, Variant: kip, tomaat<br />\nFunctionele productnaam: Shampoo, Variant: antiroos<br />\nFunctionele productnaam: Wasmiddel, Variant: lentebries, zeebries<br />\nFunctionele productnaam: Rijst, Variant: pandan, basmati<br />\n<br />\nVoorbeeld gebruikt in &lsquo;Volledige omschrijving&rsquo;:<br />\nNutricia Nutrilon opvolgmelk standaard2 850 gram bus<br />\nMerknaam: Nutricia,<br />\nSubmerk: Nutrilon,<br />\nFunctionele productnaam: opvolgmelk,<br />\nVariant: standaard2,<br />\nNetto inhoud &amp; eenheid: 850 gram en<br />\nVerpakkingstype: bus.<br />\n<br />\nBiociden:<br />\nBeschermt tegen muggen en teken.\n","Vul hier de essentie van het artikel in door antwoord te geven op de vraag ‘Wat is het?’. Wees zo specifiek mogelijk. Dit veld mag geen merknamen bevatten.<br />\n<br />\nVoor biociden: vul hier daarnaast in waarvoor de biocide gebruikt kan worden zoals dit op de verpakking staat. Als dit meerdere keren op de verpakking voorkomt, kies dan de korte variant.<br />\n<br />\nVoor doelmarkt 056 (België): u vult dit veld verplicht in de Nederlandse, Franse, Duitse en Engelse taal in.<br />\nVoor doelmarkt 442 (Luxemburg): u vult veld verplicht in de Franse, Duitse en Engelse taal in.<br />\nVoor doelmarkt 528 (Nederland): u vult dit veld ten minste één keer verplicht in met taalcode ‘nl’.","","","Verplicht"," "," ",{"$f":"IFERROR(LEFT(B22,LEN(B22)-LEN('BES EN'!E22)-3),\"Doelsector\")","v":"Functionele productnaam"}]
["ANL1026","Functionele productnaam taalcode (functionalName/@languageCode)","Dit veld wordt in Nederland gecontroleerd in het kader van het datakwaliteitsprogramma.","Code die een taal specificeert. Toegestane codewaarden staan gespecificeerd in de GS1 codelijst 'LanguageCode'.","nl","Selecteer de correcte waarde uit de 'ISO 639-1 (2-alpha)' codelijst.","Zie voor aanvullende toelichting <a href=\" https://www.gs1.nl/sectorafspraken-over-standaarden/productdata-levensmiddelen-drogisterij-agf-en-foodservice/gs1-5-7\" style=\"color:blue; text-decoration:underline\" target=\"_blank\"> https://www.gs1.nl/sectorafspraken-over-standaarden/productdata-levensmiddelen-drogisterij-agf-en-foodservice/gs1-5-7</a> <br />\n<br />\n- Voor het terugvinden van taalcodes zie: <a href=\" http://www.loc.gov/standards/iso639-2/php/code_list.php\" style=\"color:blue; text-decoration:underline\" target=\"_blank\"> http://www.loc.gov/standards/iso639-2/php/code_list.php</a> ",null,"Verplicht"," "," ",{"$f":"IFERROR(LEFT(B23,LEN(B23)-LEN('BES EN'!E23)-3),\"Doelsector\")","v":"Functionele productnaam taalcode"}]
["ANL1027","Variant (variantDescription)","Samen met de functionele productnaam omschrijft dit veld het artikel specifiek. Het moet gelijk zijn aan de variant die op de verpakking staat.<br />\n<br />\nDit veld wordt in Nederland gecontroleerd in het kader van het datakwaliteitsprogramma.","Vrij tekstveld dat wordt gebruikt om de variant van het artikel aan te geven. Varianten zijn de kenmerken die artikelen van hetzelfde merk en formaat van elkaar onderscheiden, zoals bijvoorbeeld smaak of geur.\n","Functionele productnaam: Kauwgom, Variant: peppermint.<br />\nFunctionele productnaam: Soep , Variant: kip, tomaat<br />\nFunctionele productnaam: Shampoo, Variant: antiroos<br />\nFunctionele productnaam: Wasmiddel, Variant: lentebries, zeebries<br />\nFunctionele productnaam: rijst, Variant: pandan, basmati<br />\n<br />\nVoorbeeld gebruikt in &lsquo;Volledige omschrijving&rsquo;:<br />\nNutricia Nutrilon opvolgmelk standaard2 850 gram bus<br />\nMerknaam: Nutricia,<br />\nSubmerk: Nutrilon,<br />\nFunctionele productnaam: opvolgmelk,<br />\nVariant: standaard2,<br />\nNetto inhoud &amp; eenheid: 850 gram en<br />\nVerpakkingstype: bus.\n","Dit veld is verplicht om in te vullen als er verschillende varianten van het artikel zijn. Gebruik hier geen tekst die u ook heeft gebruikt in de velden &lsquo;Merknaam&rsquo; en/of &lsquo;Submerk&rsquo;.\n","","","Verplicht als er verschillende varianten van het artikel zijn en de variant niet is ingevuld in ‘Functionele productnaam’ bij de consumenteneenheid.","Verplicht als er verschillende varianten van het artikel zijn en de variant niet is ingevuld in ‘Functionele productnaam’ bij de handelseenheid.","Verplicht als er verschillende varianten van het artikel zijn en de variant niet is ingevuld in ‘Functionele productnaam’ bij de pallet.",{"$f":"IFERROR(LEFT(B24,LEN(B24)-LEN('BES EN'!E24)-3),\"Doelsector\")","v":"Variant"}]
["ANL1028","Variant taalcode (variantDescription/@languageCode)","Dit veld wordt in Nederland gecontroleerd in het kader van het datakwaliteitsprogramma.","Code die een taal specificeert. Toegestane codewaarden staan gespecificeerd in de GS1 codelijst 'LanguageCode'.","nl","Selecteer de correcte waarde uit de 'ISO 639-1 (2-alpha)' codelijst.","Zie voor aanvullende toelichting <a href=\" https://www.gs1.nl/sectorafspraken-over-standaarden/productdata-levensmiddelen-drogisterij-agf-en-foodservice/gs1-5-7\" style=\"color:blue; text-decoration:underline\" target=\"_blank\"> https://www.gs1.nl/sectorafspraken-over-standaarden/productdata-levensmiddelen-drogisterij-agf-en-foodservice/gs1-5-7</a> <br />\n<br />\n- Voor het terugvinden van taalcodes zie: <a href=\" http://www.loc.gov/standards/iso639-2/php/code_list.php\" style=\"color:blue; text-decoration:underline\" target=\"_blank\"> http://www.loc.gov/standards/iso639-2/php/code_list.php</a> ",null,"Verplicht als het veld 'Variant' is ingevuld bij de consumenteneenheid. ","Verplicht als het veld 'Variant' is ingevuld bij de handelseenheid. ","Verplicht als het veld 'Variant' is ingevuld bij de pallet. ",{"$f":"IFERROR(LEFT(B25,LEN(B25)-LEN('BES EN'!E25)-3),\"Doelsector\")","v":"Variant taalcode"}]
["ANL1029","Korte omschrijving (descriptionShort)","","De naam of korte omschrijving waarmee het artikel wordt ge&iuml;dentificeerd in de GDSN datapool.\n","Stimorol Fresh &amp; Clean Peppermint\n","Vul een korte omschrijving van het artikel in die gebruikt kan worden om het artikel bij de Point Of Sale (POS) te identificeren. Voorkom afkortingen zo veel mogelijk om de omschrijving gemakkelijk leesbaar te houden (afkortingen voor meeteenheden zoals &lsquo;g&rsquo; voor gram en &lsquo;l&rsquo; voor liter zijn wel toegestaan).<br />\n<br />\nDoelmarkt 056 (Belgi&euml;): u moet dit veld verplicht invullen in het Nederlands, Frans, Duits en Engels.<br />\nDoelmarkt 442 (Luxemburg): u moet dit veld verplicht invullen in het Frans, Duits en Engels.<br />\nDoelmarkt 528 (Nederland): u moet dit veld ten minste &eacute;&eacute;n keer verplicht invullen met taalcode &lsquo;nl&rsquo;.\n","Lokale in Nederland gebruikte validatieregels zijn: 500.249\n","","Verplicht"," "," ",{"$f":"IFERROR(LEFT(B26,LEN(B26)-LEN('BES EN'!E26)-3),\"Doelsector\")","v":"Korte omschrijving"}]
["ANL1030","Korte omschrijving taalcode (descriptionShort/@languageCode)",null,"Code die een taal specificeert. Toegestane codewaarden staan gespecificeerd in de GS1 codelijst 'LanguageCode'.","nl","Selecteer de correcte waarde uit de 'ISO 639-1 (2-alpha)' codelijst.","Zie voor aanvullende toelichting <a href=\" https://www.gs1.nl/sectorafspraken-over-standaarden/productdata-levensmiddelen-drogisterij-agf-en-foodservice/gs1-5-7\" style=\"color:blue; text-decoration:underline\" target=\"_blank\"> https://www.gs1.nl/sectorafspraken-over-standaarden/productdata-levensmiddelen-drogisterij-agf-en-foodservice/gs1-5-7</a> <br />\n<br />\n- Voor het terugvinden van taalcodes zie: <a href=\" http://www.loc.gov/standards/iso639-2/php/code_list.php\" style=\"color:blue; text-decoration:underline\" target=\"_blank\"> http://www.loc.gov/standards/iso639-2/php/code_list.php</a> <br />\n<br />\nLokale in Nederland gebruikte validatieregels zijn: 500.249 ",null,"Verplicht","Verplicht, als ‘Korte omschrijving’ is ingevuld voor de handelseenheid.","Verplicht, als ‘Korte omschrijving’ is ingevuld voor de pallet.",{"$f":"IFERROR(LEFT(B27,LEN(B27)-LEN('BES EN'!E27)-3),\"Doelsector\")","v":"Korte omschrijving taalcode"}]
["ANL1033","Aanvullende omschrijving (additionalTradeItemDescription)","Voorkom afkortingen zo veel mogelijk om de omschrijving leesbaar te houden.\n","Tekst die een aanvullende of vrije omschrijving van het artikel bevat.\n","Een verfrissende dorstlesser zonder prik, op basis van echt fruit.\n","Dit veld gebruikt u om een vrije omschrijving van het artikel toe te voegen die niet op het etiket staat. De marketingtekst die u aan de consument wil communiceren, vult u in het veld &#39;Marketinginformatie&#39; in. Gebruik geen afkortingen, behalve voor meeteenheden (bijv. &lsquo;g&rsquo; voor gram of &lsquo;l&rsquo; voor liter). Als het nodig is, kunt u dit veld herhalen.","",""," "," "," ",{"$f":"IFERROR(LEFT(B28,LEN(B28)-LEN('BES EN'!E28)-3),\"Doelsector\")","v":"Aanvullende omschrijving"}]
["ANL1034","Aanvullende omschrijving taalcode (additionalTradeItemDescription/@languageCode)",null,"Code die een taal specificeert. Toegestane codewaarden staan gespecificeerd in de GS1 codelijst 'LanguageCode'.","nl","Selecteer de correcte waarde uit de 'ISO 639-1 (2-alpha)' codelijst.","Zie voor aanvullende toelichting <a href=\" https://www.gs1.nl/sectorafspraken-over-standaarden/productdata-levensmiddelen-drogisterij-agf-en-foodservice/gs1-5-7\" style=\"color:blue; text-decoration:underline\" target=\"_blank\"> https://www.gs1.nl/sectorafspraken-over-standaarden/productdata-levensmiddelen-drogisterij-agf-en-foodservice/gs1-5-7</a> <br />\n<br />\n- Voor het terugvinden van taalcodes zie: <a href=\" http://www.loc.gov/standards/iso639-2/php/code_list.php\" style=\"color:blue; text-decoration:underline\" target=\"_blank\"> http://www.loc.gov/standards/iso639-2/php/code_list.php</a> ",null,"Verplicht als het veld 'Aanvullende omschrijving' is ingevuld bij de consumenteneenheid. ","Verplicht als het veld 'Aanvullende omschrijving' is ingevuld bij de handelseenheid. ","Verplicht als het veld 'Aanvullende omschrijving' is ingevuld bij de pallet. ",{"$f":"IFERROR(LEFT(B29,LEN(B29)-LEN('BES EN'!E29)-3),\"Doelsector\")","v":"Aanvullende omschrijving taalcode"}]
["ANL1035","Aantal kinderen (quantityOfChildren)","Bij het uitwisselen van artikelinformatie via de GDSN datapool wordt voor elk artikel de gehele artikelhiërarchie verzonden.","Getal dat het aantal unieke artikelen (GS1 artikelcodes (GTIN’s)) in de hiërarchie aangeeft.","2","Vul het aantal unieke artikelen (GS1 artikelcodes (GTIN’s)) op dit specifieke niveau van de hiërarchie in. Dit veld wordt automatisch ingevuld voor gebruikers van de data pool wanneer gegevens worden verzonden naar afnemers of andere GDSN datapools.","Zie voor aanvullende toelichting <a href=\" https://www.gs1.nl/sectorafspraken-over-standaarden/productdata-levensmiddelen-drogisterij-agf-en-foodservice/gs1-5-7\" style=\"color:blue; text-decoration:underline\" target=\"_blank\"> https://www.gs1.nl/sectorafspraken-over-standaarden/productdata-levensmiddelen-drogisterij-agf-en-foodservice/gs1-5-7</a><br />\n<br />\nLokale in Nederland gebruikte validatieregels zijn:<br />\n500.006, 500.158, 500.159, 500.160, 500.161, 500.162, 500.164, 500.165, 500.166, 500.254, 500.290, 500.291, 500.292, 500.293, 500.294, 500.342, 500.343"," ","Verplicht als kinderen aanwezig zijn bij de consumenteneenheid.","Verplicht als kinderen aanwezig zijn bij de handelseenheid."," ",{"$f":"IFERROR(LEFT(B30,LEN(B30)-LEN('BES EN'!E30)-3),\"Doelsector\")","v":"Aantal kinderen"}]
["ANL1036","Totaal aantal onderliggende eenheden (totalQuantityOfNextLowerLevelTradeItem)","Bij het uitwisselen van artikelinformatie via de GDSN datapool wordt voor elk artikel de gehele artikelhiërarchie verzonden.","Getal dat het totale aantal artikelen in een hiërarchie aangeeft.","10","Vul het totale aantal artikelen op dit specifieke niveau van de hiërarchie in. Dit veld wordt automatisch ingevuld voor datapoolgebruikers wanneer gegevens worden verzonden naar afnemers of andere GDSN datapools.","Zie voor aanvullende toelichting <a href=\" https://www.gs1.nl/sectorafspraken-over-standaarden/productdata-levensmiddelen-drogisterij-agf-en-foodservice/gs1-5-7\" style=\"color:blue; text-decoration:underline\" target=\"_blank\"> https://www.gs1.nl/sectorafspraken-over-standaarden/productdata-levensmiddelen-drogisterij-agf-en-foodservice/gs1-5-7</a><br />\n<br />\nLokale in Nederland gebruikte validatieregels zijn:<br />\n500.321"," ","Verplicht als kinderen aanwezig zijn bij de consumenteneenheid.","Verplicht als kinderen aanwezig zijn bij de handelseenheid."," ",{"$f":"IFERROR(LEFT(B31,LEN(B31)-LEN('BES EN'!E31)-3),\"Doelsector\")","v":"Totaal aantal onderliggende eenheden"}]
["ANL1037","GS1 artikelcode (GTIN) dochterniveau (gtin)","Bij het uitwisselen van artikelinformatie via de GDSN datapool wordt voor elk artikel de gehele artikelhi&euml;rarchie verzonden.\n","Verwijzing naar de GS1 artikelcode (GTIN) van het artikel op dochterniveau in deze hi&euml;rarchie.\n","08712345999995\n","Verwijzing naar de GS1 artikelcode (GTIN) van het artikel op dochterniveau. Er kan alleen een verband tussen twee of meer GS1 artikelcodes (GTIN&rsquo;s) worden gelegd als de GTIN&rsquo;s die moeten worden gekoppeld zijn toegevoegd aan de datapool (de koppeltransactie kan via XML worden meegestuurd wanneer de GTIN&rsquo;s worden toegevoegd).<br />\n<br />\nDit veld kan als het nodig is meer dan eens worden ingevuld.\n","Zie voor aanvullende toelichting <a href=\" https://www.gs1.nl/sectorafspraken-over-standaarden/productdata-levensmiddelen-drogisterij-agf-en-foodservice/gs1-5-7\" style=\"color:blue; text-decoration:underline\" target=\"_blank\"> https://www.gs1.nl/sectorafspraken-over-standaarden/productdata-levensmiddelen-drogisterij-agf-en-foodservice/gs1-5-7</a>\n","","Verplicht als kinderen aanwezig zijn bij de consumenteneenheid.","Verplicht als kinderen aanwezig zijn bij de handelseenheid."," ",{"$f":"IFERROR(LEFT(B32,LEN(B32)-LEN('BES EN'!E32)-3),\"Doelsector\")","v":"GS1 artikelcode (GTIN) dochterniveau"}]
["ANL1038","Aantal onderliggende eenheden (quantityOfNextLowerLevelTradeItem)","Bij het uitwisselen van artikelinformatie via de GDSN datapool wordt voor elk artikel de gehele artikelhi&euml;rarchie verzonden.\n","Getal dat het aantal eenheden van de GS1 artikelcode (GTIN) op dochterniveau aangeeft.\n","6\n","Vul voor de gespecificeerde &lsquo;GS1 artikelcode (GTIN) dochterniveau&rsquo; het aantal artikelen op dit niveau van de hi&euml;rarchie in. Er kan alleen een verband tussen twee of meer GS1 artikelcodes (GTIN&rsquo;s) worden gelegd als de GTIN&rsquo;s die moeten worden gekoppeld zijn toegevoegd aan de datapool (de koppeltransactie kan via XML worden meegestuurd wanneer de GTIN&rsquo;s worden toegevoegd).<br />\n<br />\nDit veld kan als het nodig is meer dan eens worden ingevuld.<br />\n<br />\nGebruik dit veld alleen voor een logistieke eenheid als aan de palletconfiguratie een GTIN is toegekend. In alle andere gevallen voert u een waarde in bij het veld &lsquo;Aantal eenheden per non-GTIN pallet&rsquo;.\n","Zie voor aanvullende toelichting <a href=\" https://www.gs1.nl/sectorafspraken-over-standaarden/productdata-levensmiddelen-drogisterij-agf-en-foodservice/gs1-5-7\" style=\"color:blue; text-decoration:underline\" target=\"_blank\"> https://www.gs1.nl/sectorafspraken-over-standaarden/productdata-levensmiddelen-drogisterij-agf-en-foodservice/gs1-5-7</a><br />\n<br />\nLokale in Nederland gebruikte validatieregels zijn: 500.006\n","","Verplicht als kinderen aanwezig zijn bij de consumenteneenheid.","Verplicht als kinderen aanwezig zijn bij de handelseenheid."," ",{"$f":"IFERROR(LEFT(B33,LEN(B33)-LEN('BES EN'!E33)-3),\"Doelsector\")","v":"Aantal onderliggende eenheden"}]
["ANL1039","GS1 locatiecode (GLN) merkhouder (gln)","Bent u de merkhouder? Laat dit veld dan leeg.<br />\nBent u een huismerkleverancier? Vul dan in dit veld de GS1 locatiecode (GLN) van uw afnemer (merkhouder) in.<br />\nBent u een groothandelaar en handelt u in merkartikelen van een merkhouder? Vul dan in dit veld de GS1 locatiecode (GLN) van uw leverancier (merkhouder) in.<br />\n<br />\nDit veld wordt in Nederland gecontroleerd in het kader van het datakwaliteitsprogramma.\n","Wereldwijd uniek nummer dat de eigenaar van het merk identificeert.\n","8714039932059\n","Vul hier de GS1 locatiecode (GLN) van de merkhouder in. Een GLN bestaat altijd uit 13 cijfers. Vul ook het veld &#39;Naam merkhouder&#39; in.\n","Lokale in Nederland gebruikte validatieregels zijn: 500.171, 500.172, 500.176, 500.222, 500.230, 500.240, 500.267, 500.292, 500.293, 500.331, 500.344, 500.345, 500.346, 500.347, 500.375, 500.395, 500.396, 500.397\n","","Verplicht als de dataleverancier niet de merkeigenaar is","Verplicht als de dataleverancier niet de merkeigenaar is","Verplicht als de dataleverancier niet de merkeigenaar is",{"$f":"IFERROR(LEFT(B34,LEN(B34)-LEN('BES EN'!E34)-3),\"Doelsector\")","v":"GS1 locatiecode (GLN) merkhouder"}]
["ANL1040","Naam merkhouder (partyName)","Dit veld wordt in Nederland gecontroleerd in het kader van het datakwaliteitsprogramma.","De naam van de partij die de eigenaar van het merk is.","Kwaliteit B.V.","Vul dit veld alleen in als u het veld ‘GS1 locatiecode (GLN) merkhouder’ heeft ingevuld.","Lokale in Nederland gebruikte validatieregels zijn: 500.293"," ","Verplicht als de dataleverancier niet de merkeigenaar is.","Verplicht als de dataleverancier niet de merkeigenaar is.","Verplicht als de dataleverancier niet de merkeigenaar is.",{"$f":"IFERROR(LEFT(B35,LEN(B35)-LEN('BES EN'!E35)-3),\"Doelsector\")","v":"Naam merkhouder"}]
["ANL1041","GS1 locatiecode (GLN) fabrikant (gln)",null,"Wereldwijd uniek nummer dat productielocaties gekoppeld aan de producent van het artikel identificeert.","8700000000001","Vul hier de GS1 locatiecode (GLN) van de producent in.\nEen GLN bestaat altijd uit 13 cijfers. ",null," ","Verplicht voor doelmarkt België als het een alcoholbevattend bier betreft."," "," ",{"$f":"IFERROR(LEFT(B36,LEN(B36)-LEN('BES EN'!E36)-3),\"Doelsector\")","v":"GS1 locatiecode (GLN) fabrikant"}]
["ANL1042","Naam fabrikant (partyName)",null,"De naam van de producent van het artikel.","Kwaliteit B.V.","Verplicht voor België en Luxemburg als het artikel alcoholhoudend bier is (GPC-code = 10000159).<br />\nVul de naam van de producent van dit bier in.",null," ","Verplicht voor doelmarkt België als het een alcoholbevattend bier betreft."," "," ",{"$f":"IFERROR(LEFT(B37,LEN(B37)-LEN('BES EN'!E37)-3),\"Doelsector\")","v":"Naam fabrikant"}]
["ANL1043","Indicatie basiseenheid (isTradeItemABaseUnit)",null,"Een code die aangeeft dat dit artikel de laagste (kleinste) eenheid in de artikelhiërarchie is.","TRUE","Selecteer  ‘TRUE’ of  ‘FALSE’.<br />\nVul de waarde ‘TRUE’ in voor de laagste (kleinste) eenheid in de hiërarchie. De basiseenheid is de kleinste eenheid in de artikelhiërarchie. Dit kan een consumenteneenheid zijn, maar dat hoeft niet.","Lokale in Nederland gebruikte validatieregels zijn: 500.158, 500.159, 500.160, 500.161, 500.162, 500.164, 500.165, 500.166, 500.254, 500.273, 500.290, 500.291, 500.292, 500.293, 500.294, 500.331"," ","Verplicht"," "," ",{"$f":"IFERROR(LEFT(B38,LEN(B38)-LEN('BES EN'!E38)-3),\"Doelsector\")","v":"Indicatie basiseenheid"}]
["ANL1044","Indicatie consumenteneenheid (isTradeItemAConsumerUnit)","Hoe de meetregels worden toegepast, is afhankelijk van wat er in dit veld is geselecteerd (zie het document <a href=\" https://www.gs1.nl/sectoren/levensmiddelen-en-drogisterij/gs1-data-source/meten\" style=\"color:blue; text-decoration:underline\" target=\"_blank\"> https://www.gs1.nl/sectoren/levensmiddelen-en-drogisterij/gs1-data-source/meten</a>).","Een code die aangeeft dat dit artikel een consumenteneenheid is.\n","TRUE\n","Selecteer &#39;TRUE&#39; of &#39;FALSE&#39;. Er kunnen meerdere consumenteneenheden in een hi&euml;rarchie voorkomen.\n","- Zie voor het document met meetregels: <a href=\" https://www.gs1.nl/sectoren/levensmiddelen-en-drogisterij/gs1-data-source/meten\" style=\"color:blue; text-decoration:underline\" target=\"_blank\"> https://www.gs1.nl/sectoren/levensmiddelen-en-drogisterij/gs1-data-source/meten</a> <br />\n<br />\nLokale in Nederland gebruikte validatieregels zijn: 500.001, 500.148, 500.171, 500.172, 500.193, 500.199, 500.200, 500.201, 500.202, 500.203, 500.204, 500.205, 500.211, 500.215, 500.220, 500.222, 500.223, 500.230, 500.231, 500.232, 500.233, 500.234, 500.235, 500.236, 500.240, 500.267, 500.271, 500.276, 500.288, 500.330, 500.342, 500.343, 500.344, 500.345, 500.346, 500.347, 500.348, 500.349, 500.350, 500.351, 500.352, 500.356, 500.374, 500.375, 500.376, 500.379, 500.380, 500.381, 500.382, 500.383, 500.384, 500.385, 500.386, 500.387, 500.389, 500.390, 500.391, 500.392, 500.393, 500.394, 500.395, 500.396, 500.397, 500.398, 500.399, 500.400, 500.401, 500.402, 500.403, 500.404, 500.406, 500.407, 500.408, 500.409, 500.410, 500.411, 500.413, 500.414 \n",null,"Verplicht"," "," ",{"$f":"IFERROR(LEFT(B39,LEN(B39)-LEN('BES EN'!E39)-3),\"Doelsector\")","v":"Indicatie consumenteneenheid"}]
["ANL1045","Indicatie besteleenheid (isTradeItemAnOrderableUnit)","Goederen worden besteld, geleverd en gefactureerd in handelseenheden. Het is verplicht om minimaal één besteleenheid, één levereenheid en één factuureenheid te vermelden voor elke artikelhiërarchie. Meer dan één van elk hiervan is ook toegestaan.","Een code die aangeeft dat dit artikel een besteleenheid is.","TRUE","Selecteer  ‘TRUE’ of  ‘FALSE’.<br />\nVermeld minimaal één besteleenheid voor elke artikelhiërarchie (u kunt er meer dan één invullen).",null," ","Verplicht"," "," ",{"$f":"IFERROR(LEFT(B40,LEN(B40)-LEN('BES EN'!E40)-3),\"Doelsector\")","v":"Indicatie besteleenheid"}]
["ANL1046","Indicatie levereenheid (isTradeItemADespatchUnit)","Goederen worden besteld, geleverd en gefactureerd in handelseenheden. Het is verplicht om minimaal één besteleenheid, één levereenheid en één factuureenheid te vermelden voor elke artikelhiërarchie. Meer dan één van elk hiervan is ook toegestaan.","Een code die aangeeft dat dit artikel een levereenheid is.","TRUE","Selecteer  ‘TRUE’ of  ‘FALSE’.<br />\nVermeld minimaal één levereenheid voor elke artikelhiërarchie (u kunt er meer dan één invullen).",null," ","Verplicht"," "," ",{"$f":"IFERROR(LEFT(B41,LEN(B41)-LEN('BES EN'!E41)-3),\"Doelsector\")","v":"Indicatie levereenheid"}]
["ANL1048","Indicatie variabel artikel (isTradeItemAVariableUnit)","In de voedingssector kan dit van toepassing zijn op vlees, kaas, kip, zuivelproducten en aardappels, groente en fruit. Bijvoorbeeld kaaswiel: gewicht is ca. 25, maar kan 24 of 27 kg zijn.","Een code die aangeeft dat dit artikel variabel is qua gewicht, grootte of volume.","TRUE","Selecteer  ‘TRUE’ of  ‘FALSE’.","Lokale in Nederland gebruikte validatieregels zijn: 500.280"," ","Verplicht"," "," ",{"$f":"IFERROR(LEFT(B42,LEN(B42)-LEN('BES EN'!E42)-3),\"Doelsector\")","v":"Indicatie variabel artikel"}]
["ANL1049","Indicatie displayeenheid (isTradeItemADisplayUnit)","Een voorbeeld is een display met Sinterklaasartikelen, met verschillende soorten pepernoten, speculaas en marsepein.","Een code die aangeeft dat dit artikel een displayeenheid is of als displayeenheid kan worden gebruikt. Een display is ontworpen om naar een winkel te worden vervoerd zonder op een distributiecentrum te worden opgesplitst. Het wordt in de winkel of op een schap tentoongesteld.","TRUE","Selecteer  ‘TRUE’ of  ‘FALSE’.<br />\nAls de waarde = TRUE, dan wordt het veld ‘Type display’ verplicht.","Zie voor aanvullende toelichting <a href=\" https://www.gs1.nl/sectorafspraken-over-standaarden/productdata-levensmiddelen-drogisterij-agf-en-foodservice/gs1-5-7\" style=\"color:blue; text-decoration:underline\" target=\"_blank\"> https://www.gs1.nl/sectorafspraken-over-standaarden/productdata-levensmiddelen-drogisterij-agf-en-foodservice/gs1-5-7</a><br />\n<br />\nLokale in Nederland gebruikte validatieregels zijn:<br />\n500.244, 500.268, 500.278"," ","Verplicht als de consumenteneenheid een display eenheid is.","Verplicht als de handelseenheid een display eenheid is.","Verplicht als de pallet een display eenheid is.",{"$f":"IFERROR(LEFT(B43,LEN(B43)-LEN('BES EN'!E43)-3),\"Doelsector\")","v":"Indicatie displayeenheid"}]
["ANL1050","Is seizoensartikel (isTradeItemSeasonal)",null,"Een code die aangeeft of een artikel al dan niet alleen tijdens bepaalde tijden in het jaar wordt aangeboden of tijdens bepaalde seizoenen wordt gepromoot.","TRUE","Moet ‘TRUE’ zijn als het van toepassing is op het niveau van de basiseenheid. Indien niet van toepassing, kan het veld leeg worden gelaten. Als een artikel een seizoensartikel is (isTradeItemSeasonal = TRUE), moet de dataleverancier de velden ‘Startdatum/tijd beschikbaarheid’ en ‘Einddatum/tijd beschikbaarheid’ gebruiken om de beschikbaarheid van het artikel aan te geven.",null," "," "," "," ",{"$f":"IFERROR(LEFT(B44,LEN(B44)-LEN('BES EN'!E44)-3),\"Doelsector\")","v":"Is seizoensartikel"}]
["ANL1051","Startdatum/tijd beschikbaarheid (startAvailabilityDateTime)","De datum kan in het verleden of in de toekomst liggen. Let op: het artikel is sinds of vanaf deze datum ook beschikbaar voor controle voor het DatakwaliTijd 2.0 programma voor de Nederlandse doelmarkt. ","De datum en tijd vanaf wanneer het artikel kan worden besteld.","2016-05-31T08:00:00 (jjjj-mm-ddTuu:mi:ss)","Vul de datum en tijd in vanaf wanneer het artikel kan/kon worden besteld. Voor seizoensartikelen werkt u de datum bij zodra het artikel weer beschikbaar komt.",null," ","Verplicht"," "," ",{"$f":"IFERROR(LEFT(B45,LEN(B45)-LEN('BES EN'!E45)-3),\"Doelsector\")","v":"Startdatum/tijd beschikbaarheid"}]
["ANL1052","Einddatum/tijd beschikbaarheid (endAvailabilityDateTime)","De stappen zijn als volgt:<br />\n1. Zorg ervoor dat de publicatie succesvol en actief is.<br />\n2. Voer de 'Einddatum/tijd beschikbaarheid' in en sla deze op.<br />\n3. Als u een artikel tijdelijk wilt beëindigen, doet u verder niets. Als u een artikel permanent wilt beëindigen, wacht u tot de afnemer alle facturen heeft betaald en de ‘Einddatum/tijd beschikbaarheid’ 24 uur is verlopen. Daarna kunt u de publicatie verwijderen.<br />\n<br />\nLet op: GS1 artikelcodes (GTIN’s) van artikelen die u al heeft gebruikt/gepubliceerd, mag u nooit hergebruiken. Zie voor de GTIN (GS1 artikelcode) Management regels: https://www.gs1.org/1/gtinrules//en/.","De datum en tijd vanaf wanneer het artikel niet meer kan worden besteld.\n","2016-05-31T08:00:00 (yyyy-mm-ddThh:mi:ss)\n","Vul deze datum in als bekend is vanaf wanneer het artikel niet meer wordt geproduceerd of tijdelijk niet kan worden geleverd. Doe dit voor artikelen die permanent uit het assortiment worden gehaald of voor seizoensartikelen als het seizoen afloopt. De datum moet in de toekomst liggen en kan niet voor de ‘Startdatum/tijd beschikbaarheid’ vallen. Als de consumenteneenheid met een &lsquo;Einddatum/tijd beschikbaarheid&rsquo; is opgenomen in een homogene handelseenheid, moet ook die handelseenheid zijn voorzien van een &lsquo;Einddatum/tijd beschikbaarheid&rsquo;.<br />\nLet op: volg hierbij de 'GTIN Management regels': iedere bovenliggende GS1 artikelcode (GTIN) in de artikelhiërarchie moet een einddatum/tijd beschikbaarheid hebben.","Zie voor aanvullende toelichting <a href=\" https://www.gs1.nl/sectorafspraken-over-standaarden/productdata-levensmiddelen-drogisterij-agf-en-foodservice/gs1-5-7\" style=\"color:blue; text-decoration:underline\" target=\"_blank\"> https://www.gs1.nl/sectorafspraken-over-standaarden/productdata-levensmiddelen-drogisterij-agf-en-foodservice/gs1-5-7</a><br />\n<br />\nLokale in Nederland gebruikte validatieregels zijn: 500.261, 500.272, 500.342\n","","Verplicht als het artikel tijdelijk niet beschikbaar is of als de leverancier het artikel definitief wil beëindigen.","Verplicht als het artikel tijdelijk niet beschikbaar is of als de leverancier het artikel definitief wil beëindigen.","Verplicht als het artikel tijdelijk niet beschikbaar is of als de leverancier het artikel definitief wil beëindigen.",{"$f":"IFERROR(LEFT(B46,LEN(B46)-LEN('BES EN'!E46)-3),\"Doelsector\")","v":"Einddatum/tijd beschikbaarheid"}]
["ANL1056","Eerste beschikbaarheid voor consument (consumerFirstAvailabilityDateTime)",null,"De eerste datum/tijd waarop de afnemer het artikel aan consumenten mag verkopen. Meestal verbonden aan een specifieke geografische locatie.","2016-05-31T08:00:00 (yyyy-mm-ddThh:mi:ss)","Voor artikelen die alleen na een bepaalde datum aan consumenten mogen worden verkocht (bijv. boeken of dvd’s) vult u de datum en tijd in vanaf wanneer de artikelen beschikbaar zijn voor de consument.",null," "," "," "," ",{"$f":"IFERROR(LEFT(B47,LEN(B47)-LEN('BES EN'!E47)-3),\"Doelsector\")","v":"Eerste beschikbaarheid voor consument"}]
["ANL1057","Type verwijzing naar GS1 artikelcode (GTIN) (gtin)","Gebruik dit veld als een artikel (GS1 artikelcode (GTIN) A) bijvoorbeeld wordt vervangen door een nieuwe versie (GS1 artikelcode (GTIN) B), bijvoorbeeld met meer netto-inhoud. Om deze twee artikelen in de datapool aan elkaar te koppelen, vult u het nummer van het te vervangen artikel &ndash; GS1 artikelcode (GTIN) A &ndash; in bij dit veld dat onderdeel is van de artikelgegevens van GS1 artikelcode (GTIN) B. Op die manier kunnen afnemers van GS1 artikelcode (GTIN) B deze artikelcode koppelen aan GS1 artikelcode (GTIN) A.\n","De GS1 artikelcode (GTIN) waarnaar verwezen wordt voor een bepaald doel, bijvoorbeeld &lsquo;vervangt&rsquo;, &lsquo;vervangen door&rsquo;, &lsquo;vergelijkbaar artikel&rsquo;.\n","08715108079309\n","In dit veld vult u de GS1 artikelcode in waar u naar verwijst.<br />\nGaat het om een vervangend artikel? Vul dan hier de GS1 artikelcode (GTIN) in van het artikel dat door dit artikel wordt vervangen (de oude artikelcode).<br />\nGaat het om een vergelijkbaar artikel? Vul dan hier de GS1 artikelcode (GTIN) in van het artikel dat vergelijkbaar is.<br />\nKies in het veld &lsquo;Code type verwijzing naar GS1 artikelcode&rsquo; uit de codelijst de bijbehorende code.\n","",""," "," "," ",{"$f":"IFERROR(LEFT(B48,LEN(B48)-LEN('BES EN'!E48)-3),\"Doelsector\")","v":"Type verwijzing naar GS1 artikelcode (GTIN)"}]
["ANL1058","Code type verwijzing naar GS1 artikelcode (referencedTradeItemTypeCode)","","Een code die het type artikel weergeeft waar voor een bepaald doel naar wordt verwezen, bijvoorbeeld &lsquo;vervangt&rsquo;, &lsquo;vervangen door&rsquo;, &lsquo;vergelijkbaar artikel&rsquo;.\n","REPLACED<br />\nEQUIVALENT\n","Gaat het om een vervangend artikel? Vul in dit veld de waarde &lsquo;REPLACED&rsquo; (vervangen) in.<br />\nGaat het om een vergelijkbaar artikel? Vul in dit veld de waarde &lsquo;EQUIVALENT&rsquo; in.\n\nAls u dit veld invult, dan moet u ook het veld &lsquo;Type verwijzing naar GS1 artikelcode (GTIN)&rsquo; invullen.\n","","","Verplicht als het veld 'Type verwijzing naar GS1 artikelcode (GTIN)' is ingevuld bij de consumenteneenheid. ","Verplicht als het veld 'Type verwijzing naar GS1 artikelcode (GTIN)' is ingevuld bij de handelseenheid. ","Verplicht als het veld 'Type verwijzing naar GS1 artikelcode (GTIN)' is ingevuld bij de pallet. ",{"$f":"IFERROR(LEFT(B49,LEN(B49)-LEN('BES EN'!E49)-3),\"Doelsector\")","v":"Code type verwijzing naar GS1 artikelcode"}]
["ANL1059","Indicatie prijsvermelding (isPriceOnPack)","TRUE' betekent niet automatisch dat de verkoopprijs ook is ingevuld. Het kan een signaal voor interne processen zijn.","Code die aangeeft of de prijs op de verpakking wordt aangegeven of daarop door de producent is bevestigd.","TRUE","Selecteer ‘TRUE’ of  ‘FALSE’.",null," ","Verplicht als de prijs op de verpakking wordt aangegeven (behalve voor artikelen met een in-store code) bij de consumenteneenheid."," "," ",{"$f":"IFERROR(LEFT(B50,LEN(B50)-LEN('BES EN'!E50)-3),\"Doelsector\")","v":"Indicatie prijsvermelding"}]
["ANL1060","Adviesverkoopprijs (tradeItemPrice)",null,"De verkoopprijs/consumentenprijs die door de producent wordt geadviseerd.","2,79 (EUR)","De valutacode ‘EUR’ (euro) is minimaal één keer verplicht als u een waarde invult.","Lokale in Nederland gebruikte validatieregels zijn: 500.058"," "," "," "," ",{"$f":"IFERROR(LEFT(B51,LEN(B51)-LEN('BES EN'!E51)-3),\"Doelsector\")","v":"Adviesverkoopprijs"}]
["ANL1061","Adviesverkoopprijs valutacode (tradeItemPrice/@currencyCode)",null,"Code die een valuta specificeert. Toegestane codewaarden staan gespecifieerd in de GS1 codelijst 'CurrencyCode'.","EUR","Selecteer de juiste waarde uit de codelijst currencyCode.","Lokale in Nederland gebruikte validatieregels zijn: 500.058"," ","Verplicht als het veld 'Adviesverkoopprijs' is ingevuld bij de consumenteneenheid. ","Verplicht als het veld 'Adviesverkoopprijs' is ingevuld bij de handelseenheid. ","Verplicht als het veld 'Adviesverkoopprijs' is ingevuld bij de pallet. ",{"$f":"IFERROR(LEFT(B52,LEN(B52)-LEN('BES EN'!E52)-3),\"Doelsector\")","v":"Adviesverkoopprijs valutacode"}]
["ANL1065","Code soort belasting (dutyFeeTaxTypeCode)","De waarde van dit veld kan worden aangepast per doelmarkt.<br />\nVoor doelmarkt 056 (Belgi&euml;) en doelmarkt 442 (Luxemburg): vul hier de code &lsquo;VAT&rsquo; (of &#39;TVA&#39;, of &#39;BTW&#39;, naar keuze) altijd in voor VAT informatie. Dit veld wordt ook gebruikt om accijns, RECUPEL en ECOTREL informatie te communiceren.<br />\nVoor doelmarkt 528 (Nederlands): vul de waarde &#39;BTW&#39; of &#39;VAT&#39; in.<br />\n<br />\nDe ingevoerde waarde wordt gecontroleerd door de GDSN datapool.\n","Code die het soort belasting aangeeft, die van doelmarkt tot doelmarkt zal vari&euml;ren.\n","BTW\n","Deze informatie is voor de Nederlandse, Belgische en Luxemburgse doelmarkt verplicht voor artikelen waarover belasting moet worden betaald (bijv. btw).\n","- BE taks handleiding (<a href=\" https://www.gs1belu.org/nl/documentatie/handleiding-taksinformatie\" style=\"color:blue; text-decoration:underline\" target=\"_blank\"> https://www.gs1belu.org/nl/documentatie/handleiding-taksinformatie</a>) <br />\n<br />\n - NL: zie de lokale codelijst Duty Fee Tax Type Code (<a href=\" https://www.gs1.org/gdsn/3-x\" style=\"color:blue; text-decoration:underline\" target=\"_blank\"> https://www.gs1.org/gdsn/3-x</a>) <br />\n<br />\nLokale in Nederland gebruikte validatieregels zijn: 500.032\n",null,"Verplicht"," "," ",{"$f":"IFERROR(LEFT(B53,LEN(B53)-LEN('BES EN'!E53)-3),\"Doelsector\")","v":"Code soort belasting"}]
["ANL1069","Code belastingtarief (dutyFeeTaxCategoryCode)","Gebruik voor de Nederlandse doelmarkt uitsluitend &lsquo;HIGH&rsquo; (hoog), &lsquo;LOW&rsquo; (laag), &lsquo;ZERO&rsquo; (nul) of &lsquo;EXEMPT&rsquo; (uitgezonderd). De code &lsquo;EXEMPT&rsquo; wordt gebruikt voor emballageartikelen waarop geen belastingtarieven van toepassing zijn. Zie ook: <a href=\" https://www.belastingdienst.nl/wps/wcm/connect/bldcontentnl/belastingdienst/zakelijk/btw/btw_berekenen_aan_uw_klanten/btw_berekenen/btw_tarief/btw_tarief\" style=\"color:blue; text-decoration:underline\" target=\"_blank\">  https://www.belastingdienst.nl/wps/wcm/connect/bldcontentnl/belastingdienst/zakelijk/btw/btw_berekenen_aan_uw_klanten/btw_berekenen/btw_tarief/btw_tarief</a>.<br />\n<br />\nVoor btw in doelmarkt Belgi&euml; gebruikt u &lsquo;LOW&rsquo; (= 6%), &lsquo;MEDIUM&rsquo; (= 12%) of &lsquo;STANDARD&rsquo; (=21%). Voor BTW in Luxemburg gebruikt de markt ZERO (=0%), LOW (=3%), MEDIUM (=8%), HIGH (=14%) en STANDARD (=17%). Zie ook: <a href=\" https://guichet.public.lu/en/entreprises/fiscalite/tva/notions/tva.html#bloub-5\" style=\"color:blue; text-decoration:underline\" target=\"_blank\">  https://guichet.public.lu/en/entreprises/fiscalite/tva/notions/tva.html#bloub-5</a>.  Gebruik voor andere soorten belasting in doelmarkt Belgi&euml; en Luxemburg de code &lsquo;APPLICABLE&rsquo;, en gebruik de code &lsquo;EXEMPT&rsquo; in het geval van herbruikbare artikelen waarop geen belastingtarieven van toepassing zijn.<br />\n<br />\nDit veld wordt in Nederland gecontroleerd in het kader van het datakwaliteitsprogramma.","Code die aangeeft welk belastingtarief er over het artikel wordt geheven.\n","LOW\n","Deze informatie is verplicht voor artikelen waarover btw moet worden betaald. Gebruik de codelijst &lsquo;taxCategoryCode&rsquo;. Vermeld het tarief dat bij de point of sale (POS) bij consumenten in rekening moet worden gebracht.<br />\n<br />\nIn het geval van samengestelde artikelen (d.w.z. artikelen die verschillende GS1 artikelcodes (GTIN&rsquo;s) op lager niveau bevatten) moet u voor elk van de onderliggende GS1 artikelcodes (GTIN&rsquo;s) het voor die GS1 artikelcode (GTIN) geldende belastingtarief invullen. Het samengestelde artikel voorziet u van het hoogste tarief dat geldt voor de onderliggende GS1 artikelcodes (GTIN&rsquo;s).<br />\n<br />\nZie voor andere soorten belastingen/accijnzen in de Belgilux de specifieke handleiding.\n","Zie voor aanvullende toelichting <a href=\" https://www.gs1.nl/sectorafspraken-over-standaarden/productdata-levensmiddelen-drogisterij-agf-en-foodservice/gs1-5-7\" style=\"color:blue; text-decoration:underline\" target=\"_blank\"> https://www.gs1.nl/sectorafspraken-over-standaarden/productdata-levensmiddelen-drogisterij-agf-en-foodservice/gs1-5-7</a><br />\n<br />\n- BE taks handleiding (<a href=\" https://www.gs1belu.org/nl/documentatie/handleiding-taksinformatie\" style=\"color:blue; text-decoration:underline\" target=\"_blank\"> https://www.gs1belu.org/nl/documentatie/handleiding-taksinformatie</a>) <br />\n<br />\nLokale in Nederland gebruikte validatieregels zijn: 500.294, 500.348\n",null,"Verplicht"," "," ",{"$f":"IFERROR(LEFT(B54,LEN(B54)-LEN('BES EN'!E54)-3),\"Doelsector\")","v":"Code belastingtarief"}]
["ANL1075","Diepte (depth)","Gebruik voor alle afmetingen dezelfde meeteenheid. Gebruik bij voorkeur millimeter als meeteenheid.<br />\n<br />\nDit veld wordt in Nederland gecontroleerd in het kader van het datakwaliteitsprogramma.","Getal dat de afstand tussen het voorste punt en het achterste punt van het artikel inclusief verpakking aangeeft.\n","40 (MMT)\n","Vul een geldige meting in. Gebruik bij voorkeur de eenheid MMT (millimeter), afgerond naar boven (bijvoorbeeld 99,3 mm wordt afgerond naar 100 mm). Zie de &#39;internationale meetregels&#39; voor de juiste meetregels: (<a href=\" https://www.gs1.nl/sectoren/levensmiddelen-en-drogisterij/gs1-data-source/meten\" style=\"color:blue; text-decoration:underline\" target=\"_blank\"> https://www.gs1.nl/sectoren/levensmiddelen-en-drogisterij/gs1-data-source/meten</a>).\n","- Zie voor het document met meetregels: <a href=\" https://www.gs1.nl/sectoren/levensmiddelen-en-drogisterij/gs1-data-source/meten\" style=\"color:blue; text-decoration:underline\" target=\"_blank\"> https://www.gs1.nl/sectoren/levensmiddelen-en-drogisterij/gs1-data-source/meten</a> <br />\n<br />\nLokale in Nederland gebruikte validatieregels zijn: 500.001, 500.169\n",null,"Verplicht"," "," ",{"$f":"IFERROR(LEFT(B55,LEN(B55)-LEN('BES EN'!E55)-3),\"Doelsector\")","v":"Diepte"}]
["ANL1076","Eenheid diepte (depth/@measurementUnitcode)","Dit veld wordt in Nederland gecontroleerd in het kader van het datakwaliteitsprogramma.","Een gestandaardiseerde, reproduceerbare eenheid waarmee een fysieke eigenschap kan worden gemeten.","MMT","Selecteer de juiste waarde uit de codelijst ‘measurementUnitCode’.","Lokale in Nederland gebruikte validatieregels zijn: 500.011"," ","Verplicht"," "," ",{"$f":"IFERROR(LEFT(B56,LEN(B56)-LEN('BES EN'!E56)-3),\"Doelsector\")","v":"Eenheid diepte"}]
["ANL1077","Hoogte (height)","Gebruik voor alle afmetingen dezelfde meeteenheid. Gebruik bij voorkeur millimeter als meeteenheid.<br />\n<br />\nDit veld wordt in Nederland gecontroleerd in het kader van het datakwaliteitsprogramma.","Getal dat de verticale afstand tussen het laagste punt (onderkant) en het hoogste punt (bovenkant) van het artikel inclusief verpakking aangeeft.\n","160 (MMT)\n","Vul een geldige meting in. Gebruik bij voorkeur de eenheid MMT (millimeter), afgerond naar boven (bijvoorbeeld 99,3 mm wordt afgerond naar 100 mm). Zie de &#39;internationale meetregels&#39; voor de juiste meetregels (<a href=\" https://www.gs1.nl/sectoren/levensmiddelen-en-drogisterij/gs1-data-source/meten\" style=\"color:blue; text-decoration:underline\" target=\"_blank\"> https://www.gs1.nl/sectoren/levensmiddelen-en-drogisterij/gs1-data-source/meten</a>).\n","- Zie voor het document met meetregels: <a href=\" https://www.gs1.nl/sectoren/levensmiddelen-en-drogisterij/gs1-data-source/meten\" style=\"color:blue; text-decoration:underline\" target=\"_blank\"> https://www.gs1.nl/sectoren/levensmiddelen-en-drogisterij/gs1-data-source/meten</a> <br />\n<br />\nLokale in Nederland gebruikte validatieregels zijn: 500.167\n",null,"Verplicht"," "," ",{"$f":"IFERROR(LEFT(B57,LEN(B57)-LEN('BES EN'!E57)-3),\"Doelsector\")","v":"Hoogte"}]
["ANL1078","Eenheid hoogte (height/@measurementUnitcode)","Dit veld wordt in Nederland gecontroleerd in het kader van het datakwaliteitsprogramma.","Een gestandaardiseerde, reproduceerbare eenheid waarmee een fysieke eigenschap kan worden gemeten.","MMT","Selecteer de juiste waarde uit de codelijst ‘measurementUnitCode’.","Lokale in Nederland gebruikte validatieregels zijn: 500.011"," ","Verplicht"," "," ",{"$f":"IFERROR(LEFT(B58,LEN(B58)-LEN('BES EN'!E58)-3),\"Doelsector\")","v":"Eenheid hoogte"}]
["ANL1079","Breedte (width)","Gebruik voor alle afmetingen dezelfde meeteenheid. Gebruik bij voorkeur millimeter als meeteenheid.<br />\n<br />\nDit veld wordt in Nederland gecontroleerd in het kader van het datakwaliteitsprogramma.","Getal dat de horizontale afstand tussen het meest linkse uiteinde en het meest rechtse uiteinde van het artikel inclusief verpakking aangeeft.\n","100 (MMT)\n","Vul een geldige meting in. Gebruik bij voorkeur de eenheid MMT (millimeter), afgerond naar boven (bijvoorbeeld 99,3 mm wordt afgerond naar 100 mm). Zie de internationale meetregels voor de juiste meetregels (<a href=\" https://www.gs1.nl/sectoren/levensmiddelen-en-drogisterij/gs1-data-source/meten\" style=\"color:blue; text-decoration:underline\" target=\"_blank\"> https://www.gs1.nl/sectoren/levensmiddelen-en-drogisterij/gs1-data-source/meten</a>).\n","- Zie voor het document met meetregels: <a href=\" https://www.gs1.nl/sectoren/levensmiddelen-en-drogisterij/gs1-data-source/meten\" style=\"color:blue; text-decoration:underline\" target=\"_blank\"> https://www.gs1.nl/sectoren/levensmiddelen-en-drogisterij/gs1-data-source/meten</a> <br />\n<br />\nLokale in Nederland gebruikte validatieregels zijn: 500.001, 500.168\n",null,"Verplicht"," "," ",{"$f":"IFERROR(LEFT(B59,LEN(B59)-LEN('BES EN'!E59)-3),\"Doelsector\")","v":"Breedte"}]
["ANL1080","Eenheid breedte (width/@measurementUnitcode)","Dit veld wordt in Nederland gecontroleerd in het kader van het datakwaliteitsprogramma.","Een gestandaardiseerde, reproduceerbare eenheid waarmee een fysieke eigenschap kan worden gemeten.","MMT","Selecteer de juiste waarde uit de codelijst ‘measurementUnitCode’.","Lokale in Nederland gebruikte validatieregels zijn: 500.011"," ","Verplicht"," "," ",{"$f":"IFERROR(LEFT(B60,LEN(B60)-LEN('BES EN'!E60)-3),\"Doelsector\")","v":"Eenheid breedte"}]
["ANL1081","Brutogewicht (grossWeight)","Dit veld wordt in Nederland gecontroleerd in het kader van het datakwaliteitsprogramma.","Getal dat het gewicht van het artikel aangeeft, inclusief het gewicht van de verpakking. Op palletniveau moet het gewicht van de pallet worden meegerekend.","450 (GRM)","Voer een geldig gewicht in de meeteenheid KGM (kilogram) of GRM (gram) in. ","- Zie voor het document met meetregels: <a href=\" https://www.gs1.nl/sectoren/levensmiddelen-en-drogisterij/gs1-data-source/meten\" style=\"color:blue; text-decoration:underline\" target=\"_blank\"> https://www.gs1.nl/sectoren/levensmiddelen-en-drogisterij/gs1-data-source/meten</a> <br />\n<br />\nLokale in Nederland gebruikte validatieregels zijn:\n500.006, 500.007, 500.008, 500.137, 500.299, 500.303, 500.304 ",null,"Verplicht"," "," ",{"$f":"IFERROR(LEFT(B61,LEN(B61)-LEN('BES EN'!E61)-3),\"Doelsector\")","v":"Brutogewicht"}]
["ANL1082","Eenheid brutogewicht (grossWeight/@measurementUnitCode)","Dit veld wordt in Nederland gecontroleerd in het kader van het datakwaliteitsprogramma.","Een gestandaardiseerde, reproduceerbare eenheid waarmee een fysieke eigenschap kan worden gemeten.","GRM","Selecteer de juiste waarde uit de codelijst ‘measurementUnitCode’.","Lokale in Nederland gebruikte validatieregels zijn: 500.008"," ","Verplicht"," "," ",{"$f":"IFERROR(LEFT(B62,LEN(B62)-LEN('BES EN'!E62)-3),\"Doelsector\")","v":"Eenheid brutogewicht"}]
["ANL1083","Netto-inhoud (netContent)","U kunt de netto-inhoud ook in gram of kilogram invullen; in dat geval is de data die u invult gelijk aan het veld &#39;Nettogewicht&#39;.<br />\n<br />\nDit veld wordt in Nederland gecontroleerd in het kader van het datakwaliteitsprogramma.","Getal dat de inhoud van het artikel in de verpakking aangeeft. Dit wordt meestal op de verpakking weergegeven.\n","- Fles water: 750 (MLT - milliliter)<br />\n- Zak suiker: 1 (KGM - kilogram)<br />\n- Pak luiers: 20 (H87 - stuks)<br />\n- Een fles tomatenketchup: 750 (MLT - milliliter) 855 (GRM - gram)<br />\n- Potje vitaminepillen: 60 (H87 - stuks) 75 (GRM - gram)<br />\n- Zak hondenbrokken 15 (KGM - kilogram)<br />\n- Doosje thee met 25 theezakjes van 2 gram: 25 (H87 - stuks) Optioneel voor &#39;Specificatie van de inhoud&#39;: 25 x 2 g 50 (GRM gram)<br />\n- Promotieverpakking met vier flesjes bier en een bierglas: 5 (H87 - stuks) Optioneel voor &#39;Specificatie van de inhoud&#39;: 4 x 330 ml en 1 x bierglas<br />\n- Multipack blikjes frisdrank: 6 (H87 - stuks) Let op: Voer 6 x 330 ml in het veld &#39;Specificatie van de inhoud&#39; in<br />\n<br />\nDetergenten:<br />\n16\n","De netto-inhoud kan met verschillende meeteenheden op de verpakking zijn weergegeven. Voer alle varianten die op de verpakking staan in dit veld in. Als bijvoorbeeld zowel het aantal stuks als het gewicht worden genoemd, dan voert u beide in (beginnend met het aantal stuks). Gebruik ten minste &eacute;&eacute;n van de volgende meeteenheden: CMT (centimeter), MMT (millimeter), KGM (kilogram), GRM (gram), LTR (liter), CLT (centiliter), MLT (milliliter), H87 (stuks), EA (stuks) of MTR (meter). Het gebruik van andere meeteenheden naast de hierboven vermelde is ook toegestaan.<br />\n<br />\nVoor meervoudige artikelen:<br />\n- Als een artikel een multipack is (bijvoorbeeld een sixpack), dan voert u altijd het totale aantal stuks in (ook als dat niet op de verpakking staat). Vervolgens vult u het veld &#39;Specificatie van de inhoud&#39; in. Bij multipacks worden de onderliggende artikelen ook in de hi&euml;rarchie opgenomen.<br />\n- Als een artikel uit meerdere deelverpakkingen bestaat (bijvoorbeeld afzonderlijk verpakte mueslirepen in een verpakking) voert u altijd het totale aantal stuks in (ook als dat niet op de verpakking staat). Dit is ook van toepassing op promotieartikelen (bijv. een verpakking met vier flesjes bier en een bierglas). Het veld &#39;Specificatie van de inhoud&#39; kan ook worden ingevuld, dit is optioneel.<br />\n- Als een artikel uit meerdere componenten bestaat (bijvoorbeeld een insectenbestrijdingspakket of een wereldgerecht), dan geeft u slechts 1 stuks aan.<br />\n<br />\nVoer het totale gewicht of volume alleen in als dit op de verpakking staat vermeld en voer geen informatie in die is gebaseerd op uw eigen berekeningen.<br />\n<br />\nAls het gewicht op het etiket is vermeld in combinatie met een &#39;geschat&#39;-symbool (℮, ook wel e-teken genoemd) kunt u het veld &#39;Richtlijn&#39; gebruiken om het e-teken toe te voegen.<br />\n<br />\nVoor gebaksproducten waarbij het gewicht sterk kan fluctueren, is het mogelijk om bij netto inhoud alleen het aantal stuks in te voeren, ook als het gewicht op de verpakking staat.<br />\n<br />\nVoor detergenten: Vul hier aanvullend voor wasmiddelen het aantal standaard wasmachineladingen in. Vul dan ook het veld &#39;Eenheid netto-eenheid&#39;, gebruik daarvoor de code &#39;E55&#39;, die geeft het aantal keren dat het object gebruikt wordt aan.\n","Zie voor aanvullende toelichting <a href=\" https://www.gs1.nl/sectorafspraken-over-standaarden/productdata-levensmiddelen-drogisterij-agf-en-foodservice/gs1-5-7\" style=\"color:blue; text-decoration:underline\" target=\"_blank\"> https://www.gs1.nl/sectorafspraken-over-standaarden/productdata-levensmiddelen-drogisterij-agf-en-foodservice/gs1-5-7</a> <br />\n<br />\n- GDSN Trade Item Implementation Guideline: <a href=\" https://www.gs1.org/gdsn/trade_implementation_guide\" style=\"color:blue; text-decoration:underline\" target=\"_blank\"> https://www.gs1.org/gdsn/trade_implementation_guide</a> <br />\n<br />\nLokale in Nederland gebruikte validatieregels zijn: 500.014, 500.016, 500.150, 500.300 \n",null,"Verplicht",null," ",{"$f":"IFERROR(LEFT(B63,LEN(B63)-LEN('BES EN'!E63)-3),\"Doelsector\")","v":"Netto-inhoud"}]
["ANL1084","Eenheid netto-inhoud (netContent/@measurementUnitcode)",null,"Een gestandaardiseerde, reproduceerbare eenheid waarmee een fysieke eigenschap kan worden gemeten.","MLT","Selecteer de juiste waarde uit de codelijst ‘measurementUnitCode’.","Lokale in Nederland gebruikte validatieregels zijn: 500.014, 500.016, 500.150, 500.347, 500.379"," ","Verplicht","Verplicht als het veld 'Netto-inhoud' is ingevuld bij de handelseenheid.","Verplicht als het veld 'Netto-inhoud' is ingevuld bij de pallet.",{"$f":"IFERROR(LEFT(B64,LEN(B64)-LEN('BES EN'!E64)-3),\"Doelsector\")","v":"Eenheid netto-inhoud"}]
["ANL1085","Uitlekgewicht (drainedWeight)","Het uitlekgewicht mag niet groter zijn dan het nettogewicht in dezelfde meeteenheid.<br />\n<br />\nDit veld wordt in Nederland gecontroleerd in het kader van het datakwaliteitsprogramma.","Het gewicht van het uitgelekte artikel.\n","230 (GRM)\n","Gebruik de meeteenheid KGM (kilogram) of GRM (gram). Als een artikel is samengesteld uit meerdere onderdelen (bijvoorbeeld een insectenbestrijdingspakket of wereldgerecht), dan telt u alle uitlekgewichten bij elkaar op. Als er maar &eacute;&eacute;n onderdeel met een uitlekgewicht is, tel dan het uitlekgewicht daarvan op bij de nettogewichten van de andere onderdelen.","Lokale in Nederland gebruikte validatieregels zijn: 500.014, 500.194, 500.301, 500.302\n","","Verplicht als een uitlekgewicht op de verpakking van de consumenteneenheid staat vermeld."," "," ",{"$f":"IFERROR(LEFT(B65,LEN(B65)-LEN('BES EN'!E65)-3),\"Doelsector\")","v":"Uitlekgewicht"}]
["ANL1086","Eenheid uitlekgewicht (drainedWeight/@measurementUnitCode)","Dit veld wordt in Nederland gecontroleerd in het kader van het datakwaliteitsprogramma.","Een gestandaardiseerde, reproduceerbare eenheid waarmee een fysieke eigenschap kan worden gemeten.","GRM","Selecteer de juiste waarde uit de codelijst ‘measurementUnitCode’.","Lokale in Nederland gebruikte validatieregels zijn: 500.014, 500.194"," ","Verplicht als het veld 'Uitlekgewicht' is ingevuld bij de consumenteneenheid.","Verplicht als het veld 'Uitlekgewicht' is ingevuld bij de handelseenheid.","Verplicht als het veld 'Uitlekgewicht' is ingevuld bij de pallet.",{"$f":"IFERROR(LEFT(B66,LEN(B66)-LEN('BES EN'!E66)-3),\"Doelsector\")","v":"Eenheid uitlekgewicht"}]
["ANL1087","Nettogewicht (netWeight)","Bij een artikel met een variabel gewicht (bijv. een bakje gehakt) moet het gemiddelde gewicht van het artikel bij 'Nettogewicht' worden ingevuld. Met andere woorden, verschillende artikelen met dezelfde GS1 artikelcode (GTIN) moeten worden gewogen voordat het nettogewicht kan worden ingevuld.&nbsp;\n","Getal dat het gewicht van het artikel aangeeft, exclusief het gewicht van de verpakking. Op palletniveau moet het gewicht van de pallet niet worden meegerekend.\n","100 (GRM)\n","Gebruik de meeteenheid KGM (kilogram) of GRM (gram). Neem in het geval van onderliggende eenheden het gewicht van de verpakking van die onderliggende eenheden niet mee. Als een artikel bestaat uit meerdere onderdelen (bijvoorbeeld een insectenbestrijdingspakket of wereldgerecht), tel dan alle afzonderlijke nettogewichten bij elkaar op.","Lokale in Nederland gebruikte validatieregels zijn: 500.150, 500.273, 500.274, 500.299, 500.303, 500.304","","Verplicht",null," ",{"$f":"IFERROR(LEFT(B67,LEN(B67)-LEN('BES EN'!E67)-3),\"Doelsector\")","v":"Nettogewicht"}]
["ANL1088","Eenheid nettogewicht (netWeight/@measurementUnitCode)","Dit veld wordt in Nederland gecontroleerd in het kader van het datakwaliteitsprogramma.","Een gestandaardiseerde, reproduceerbare eenheid waarmee een fysieke eigenschap kan worden gemeten.","GRM","Selecteer de juiste waarde uit de codelijst ‘measurementUnitCode’.","Lokale in Nederland gebruikte validatieregels zijn: 500.274"," ","Verplicht","Verplicht als het veld nettogewicht is ingevuld voor de handelseenheid.","Verplicht als het veld nettogewicht is ingevuld voor de pallet.",{"$f":"IFERROR(LEFT(B68,LEN(B68)-LEN('BES EN'!E68)-3),\"Doelsector\")","v":"Eenheid nettogewicht"}]
["ANL1089","Aanvullende afmetingen code (dimensionTypeCode)",null,"Geeft verschillende meetscenario’s weer (bijv. winkeldisplay, uit de verpakking) die voor meting worden gebruikt.","OUT_OF_PACKAGE","Als het relevant is om aanvullende afmetingen op te geven, dan moet u aangeven welke soort aanvullende metingen dit zijn. ",null," ","Verplicht als de vorm van het product andere afmetingen heeft dan het verpakte product."," "," ",{"$f":"IFERROR(LEFT(B69,LEN(B69)-LEN('BES EN'!E69)-3),\"Doelsector\")","v":"Aanvullende afmetingen code"}]
["ANL1090","Aanvullende afmetingen: Hoogte (height)","Gebruik voor alle afmetingen dezelfde meeteenheid.<br />\nGebruik bij voorkeur millimeter als meeteenheid.","De hoogte van het artikel, zoals gemeten volgens de 'Internationale Meetregels', inclusief het verzendingsplatform, tenzij dat door de gekozen pallettypecode is uitgesloten.","230 (MMT)","Als het relevant is om aanvullende afmetingen op te geven, dan moet u de hoogte aangeven die overeenkomt met de waarde in het veld ‘Aanvullende afmetingen code’.","- Zie voor het document met meetregels: <a href=\" https://www.gs1.nl/sectoren/levensmiddelen-en-drogisterij/gs1-data-source/meten\" style=\"color:blue; text-decoration:underline\" target=\"_blank\"> https://www.gs1.nl/sectoren/levensmiddelen-en-drogisterij/gs1-data-source/meten</a> <br />\n<br />\nLokale in Nederland gebruikte validatieregels zijn: 500.297 ",null,"Verplicht als de vorm van het product andere afmetingen heeft dan het verpakte product."," "," ",{"$f":"IFERROR(LEFT(B70,LEN(B70)-LEN('BES EN'!E70)-3),\"Doelsector\")","v":"Aanvullende afmetingen: Hoogte"}]
["ANL1091","Eenheid aanvullende afmetingen: Hoogte (height/@measurementUnitcode)",null,"Een gestandaardiseerde, reproduceerbare eenheid waarmee een fysieke eigenschap kan worden gemeten.","MMT (Millimeter)","Selecteer de juiste waarde uit de codelijst ‘measurementUnitCode’.",null," ","Verplicht als het veld 'Aanvullende afmetingen: Hoogte' is ingevuld bij de consumenteneenheid. ","Verplicht als het veld 'Aanvullende afmetingen: Hoogte' is ingevuld bij de handelseenheid. ","Verplicht als het veld 'Aanvullende afmetingen: Hoogte' is ingevuld bij de pallet. ",{"$f":"IFERROR(LEFT(B71,LEN(B71)-LEN('BES EN'!E71)-3),\"Doelsector\")","v":"Eenheid aanvullende afmetingen: Hoogte"}]
["ANL1092","Aanvullende afmetingen: Breedte (width)","Gebruik voor alle afmetingen dezelfde meeteenheid.<br />\nGebruik bij voorkeur millimeter als meeteenheid.","De breedte van het artikel, zoals gemeten volgens de 'Internationale Meetregels', inclusief het verzendingsplatform, tenzij dat door de gekozen pallettypecode is uitgesloten.","230 (MMT)","Als het relevant is om aanvullende afmetingen op te geven, dan moet u de breedte aangeven die overeenkomt met de waarde in het veld ‘Aanvullende afmetingen code’.","- Zie voor het document met meetregels: <a href=\" https://www.gs1.nl/sectoren/levensmiddelen-en-drogisterij/gs1-data-source/meten\" style=\"color:blue; text-decoration:underline\" target=\"_blank\"> https://www.gs1.nl/sectoren/levensmiddelen-en-drogisterij/gs1-data-source/meten</a> <br />\n<br />\nLokale in Nederland gebruikte validatieregels zijn: 500.298 ",null,"Verplicht als de vorm van het product andere afmetingen heeft dan het verpakte product."," "," ",{"$f":"IFERROR(LEFT(B72,LEN(B72)-LEN('BES EN'!E72)-3),\"Doelsector\")","v":"Aanvullende afmetingen: Breedte"}]
["ANL1093","Eenheid aanvullende afmetingen: Breedte (width/@measurementUnitcode)",null,"Een gestandaardiseerde, reproduceerbare eenheid waarmee een fysieke eigenschap kan worden gemeten.","MMT (Millimeter)","Selecteer de juiste waarde uit de codelijst ‘measurementUnitCode’.",null," ","Verplicht als het veld 'Aanvullende afmetingen: Breedte' is ingevuld bij de consumenteneenheid. ","Verplicht als het veld 'Aanvullende afmetingen: Breedte' is ingevuld bij de handelseenheid. ","Verplicht als het veld 'Aanvullende afmetingen: Breedte' is ingevuld bij de pallet. ",{"$f":"IFERROR(LEFT(B73,LEN(B73)-LEN('BES EN'!E73)-3),\"Doelsector\")","v":"Eenheid aanvullende afmetingen: Breedte"}]
["ANL1094","Aanvullende afmetingen: Diepte (depth)","Gebruik voor alle afmetingen dezelfde meeteenheid.<br />\nGebruik bij voorkeur millimeter als meeteenheid.","De diepte van het artikel, zoals gemeten volgens de 'Internationale Meetregels', inclusief het verzendingsplatform, tenzij dat door de gekozen pallettypecode is uitgesloten.","230 (MMT)","Als het relevant is om aanvullende afmetingen op te geven, dan moet u de diepte aangeven die overeenkomt met de waarde in het veld ‘Aanvullende afmetingen code’.","- Zie voor het document met meetregels: <a href=\" https://www.gs1.nl/sectoren/levensmiddelen-en-drogisterij/gs1-data-source/meten\" style=\"color:blue; text-decoration:underline\" target=\"_blank\"> https://www.gs1.nl/sectoren/levensmiddelen-en-drogisterij/gs1-data-source/meten</a> <br />\n<br />\nLokale in Nederland gebruikte validatieregels zijn: 500.296 ",null,"Verplicht als de vorm van het product andere afmetingen heeft dan het verpakte product."," "," ",{"$f":"IFERROR(LEFT(B74,LEN(B74)-LEN('BES EN'!E74)-3),\"Doelsector\")","v":"Aanvullende afmetingen: Diepte"}]
["ANL1095","Eenheid aanvullende afmetingen: Diepte (depth/@measurementUnitcode)",null,"Een gestandaardiseerde, reproduceerbare eenheid waarmee een fysieke eigenschap kan worden gemeten.","MMT (Millimeter)","Selecteer de juiste waarde uit de codelijst ‘measurementUnitCode’.",null," ","Verplicht als het veld 'Aanvullende afmetingen: Diepte' is ingevuld bij de consumenteneenheid. ","Verplicht als het veld 'Aanvullende afmetingen: Diepte' is ingevuld bij de handelseenheid. ","Verplicht als het veld 'Aanvullende afmetingen: Diepte' is ingevuld bij de pallet. ",{"$f":"IFERROR(LEFT(B75,LEN(B75)-LEN('BES EN'!E75)-3),\"Doelsector\")","v":"Eenheid aanvullende afmetingen: Diepte"}]
["ANL1096","Handelseenheid samenstelling (SRP) diepte (tradeItemCompositionDepth)","Geef het aantal artikelen in de ‘shelf ready packaged’ (SRP) op.","Het aantal kinderen dat van voor naar achteren geteld in een handelseenheid is verpakt. Deze informatie wordt gebruikt bij het space management proces, met name bij het toekennen van hele handelseenheden (omverpakkingen) aan een schap. Dit is nodig voor ‘shelf ready packaged’ (SRP) artikelen.","4 (H87)","Vul het aantal kinderen in dat van voor naar achteren geteld in een handelseenheid is verpakt. Deze informatie wordt gebruikt tijdens het space management proces, met name bij het toekennen van hele handelseenheden (omverpakkingen) aan een schap. Dit is nodig voor ‘shelf ready packaged’ (SRP) artikelen. ",null," "," "," "," ",{"$f":"IFERROR(LEFT(B76,LEN(B76)-LEN('BES EN'!E76)-3),\"Doelsector\")","v":"Handelseenheid samenstelling (SRP) diepte"}]
["ANL1097","Eenheid handelseenheid samenstelling (SRP): diepte (tradeItemCompositionDepth/@measurementUnitcode)","","Een gestandaardiseerde, reproduceerbare eenheid waarmee een fysieke eigenschap kan worden gemeten.","H87","Voer de meeteenheid in waarin de afmeting wordt opgegeven.",null," ","Verplicht als het veld 'Handelseenheid samenstelling (SRP) diepte' is ingevuld bij de consumenteneenheid.","Verplicht als het veld 'Handelseenheid samenstelling (SRP) diepte' is ingevuld bij de handelseenheid.","Verplicht als het veld 'Handelseenheid samenstelling (SRP) diepte' is ingevuld bij de pallet.",{"$f":"IFERROR(LEFT(B77,LEN(B77)-LEN('BES EN'!E77)-3),\"Doelsector\")","v":"Eenheid handelseenheid samenstelling (SRP): diepte"}]
["ANL1098","Handelseenheid samenstelling (SRP) breedte (tradeItemCompositionWidth)","Nodig voor ‘shelf ready packaged’ (SRP) artikelen.","Het aantal kinderen dat naast elkaar in een handelseenheid is verpakt (aan de kant die naar de consument is gericht). Deze informatie wordt gebruikt tijdens het space management proces, met name bij het toekennen van hele handelseenheden (omverpakkingen) aan een schap. De spacemanager wijst altijd basiseenheden toe aan het schap. Meestal zijn er geen afbeeldingen van handelseenheden beschikbaar, en hypermarkten/grote supermarkten moeten hele handelseenheden aan de schappen kunnen toekennen.","4 (H87)","Voer het aantal kinderen in dat naast elkaar in een handelseenheid is verpakt.",null," "," "," "," ",{"$f":"IFERROR(LEFT(B78,LEN(B78)-LEN('BES EN'!E78)-3),\"Doelsector\")","v":"Handelseenheid samenstelling (SRP) breedte"}]
["ANL1099","Eenheid handelseenheid samenstelling (SRP): breedte (tradeItemCompositionWidth/@measurementUnitcode)","","Een gestandaardiseerde, reproduceerbare eenheid waarmee een fysieke eigenschap kan worden gemeten.","H87","Voer de meeteenheid in waarin de afmeting wordt opgegeven.",null," "," Verplicht als het veld 'Handelseenheid samenstelling (SRP) breedte' is ingevuld bij de consumenteneenheid.","  Verplicht als het veld 'Handelseenheid samenstelling (SRP) breedte' is ingevuld bij de handelseenheid.","   Verplicht als het veld 'Handelseenheid samenstelling (SRP) breedte' is ingevuld bij de pallet.",{"$f":"IFERROR(LEFT(B79,LEN(B79)-LEN('BES EN'!E79)-3),\"Doelsector\")","v":"Eenheid handelseenheid samenstelling (SRP): breedte"}]
["ANL1104","Alcoholpercentage (percentageOfAlcoholByVolume)","Voor alcoholische producten met een alcoholpercentage &lt;1,2% zijn ingredi&euml;nten en voedingswaarden wettelijk verplicht.<br />\n<br />\nDit veld wordt in Nederland gecontroleerd in het kader van het datakwaliteitsprogramma.","Percentage alcohol in volume voor alcoholhoudende artikelen.\n","4,7(%) of 0,2(%)\n","Voer het alcoholpercentage in. Als het artikel uit meerdere flessen met verschillende alcoholpercentages bestaat, vul dan het hoogste alcoholpercentage in.\n","Lokale in Nederland gebruikte validatieregels zijn: 500.165, 500.193, 500.331\n","","Verplicht als een alcoholpercentage op de verpakking staat vermeld van de consumenteneenheid."," "," ",{"$f":"IFERROR(LEFT(B80,LEN(B80)-LEN('BES EN'!E80)-3),\"Doelsector\")","v":"Alcoholpercentage"}]
["ANL1105","Stamwortgehalte (degreeOfOriginalWort)",null,"De specificatie van het gehalte stamwort (suiker, water, gist, gerst, hop etc.) wordt gebruikt om de verschillende soorten bier toe te wijzen aan hun respectievelijke belastinggroep/bieraccijns.","12 (graden Plato)","Voer de waarde in graden Plato in. Als het artikel uit meerdere flessen met verschillende graden Plato bestaat, vul dan de hoogste graad in.","Lokale in Nederland gebruikte validatieregels zijn: 500.166, 500.193"," ","Verplicht voor alcoholbevattende bieren."," "," ",{"$f":"IFERROR(LEFT(B81,LEN(B81)-LEN('BES EN'!E81)-3),\"Doelsector\")","v":"Stamwortgehalte"}]
["ANL1106","Wijnjaar (vintage)","Dit veld wordt in Nederland gecontroleerd in het kader van het datakwaliteitsprogramma.\n","Het jaar waarin het merendeel van de ingredi&euml;nten is geoogst en/of de alcoholhoudende drank is geproduceerd. Of voor het wijnjaar de oogstdatum of de productiedatum wordt gebruikt wordt bepaald door de vereisten van de doelmarkt.\n","2016\n","Vul hier het jaar in waarin de druiven voor de wijn hoofdzakelijk zijn verbouwd en geoogst.\n","","","Verplicht voor wijn als het wijnjaar op het etiket/de verpakking staat."," "," ",{"$f":"IFERROR(LEFT(B82,LEN(B82)-LEN('BES EN'!E82)-3),\"Doelsector\")","v":"Wijnjaar"}]
["ANL1107","Minimale houdbaarheid na productie (minimumTradeItemLifespanFromTimeOfProduction)",null,"De periode in dagen, gegarandeerd door de producent, vóór het einde van de houdbaarheidsdatum van het artikel, gebaseerd op de productie.","10 (dagen)","In het geval van samengestelde artikelen (zie de link in Procesbeschrijving naar het document Toelichting) en displays moet u de afzonderlijke GS1 artikelcodes (GTIN’s) van onderliggende eenheden voorzien van de juiste minimale houdbaarheid. Het samengestelde artikel of de display zelf voorziet u van de kortste minimale houdbaarheid van de onderliggende eenheden.<br />\nDe dag van productie geldt als dag nul en wordt niet meegenomen in de berekening.","Lokale in Nederland gebruikte validatieregels zijn: 500.161"," "," "," "," ",{"$f":"IFERROR(LEFT(B83,LEN(B83)-LEN('BES EN'!E83)-3),\"Doelsector\")","v":"Minimale houdbaarheid na productie"}]
["ANL1108","Minimale houdbaarheid vanaf levering (minimumTradeItemLifespanFromTimeOfArrival)",null,"De periode in dagen, gegarandeerd door de producent, vóór het einde van de houdbaarheidsdatum van het artikel, gebaseerd op de aankomst op een gezamenlijk overeengekomen punt in het distributiesysteem van de afnemer. Kan herhaalbaar zijn als een GS1 locatiecode (GLN) wordt gebruikt.","8 (dagen)","In het geval van samengestelde artikelen (zie de link in Procesbeschrijving naar het document Toelichting) en displays moet u de afzonderlijke GS1 artikelcodes (GTIN’s) van onderliggende eenheden voorzien van de juiste minimale houdbaarheid voor die GTIN. Het samengestelde artikel of de display zelf voorziet u van de kortste minimale houdbaarheid van de onderliggende GTIN’s.<br />\nDe dag van levering geldt als dag nul en wordt niet meegenomen in de berekening.","Lokale in Nederland gebruikte validatieregels zijn: 500.162"," ","Verplicht als een 'Tenminste Houdbaar Tot datum' op de verpakking staat van de consumenteneenheid.","Verplicht als een 'Tenminste Houdbaar Tot datum' op de verpakking staat van de handelseenheid.","Verplicht als een 'Tenminste Houdbaar Tot datum' op de verpakking staat van de pallet.",{"$f":"IFERROR(LEFT(B84,LEN(B84)-LEN('BES EN'!E84)-3),\"Doelsector\")","v":"Minimale houdbaarheid vanaf levering"}]
["ANL1109","Houdbaarheid na opening (openedTradeItemLifespan)","Alleen voor bederfelijke artikelen.","Het aantal dagen dat een geopend artikel op het schap kan blijven, waarna het moet worden verwijderd.","2","Als deze is aangegeven op de verpakking, dan geeft u de houdbaarheid aan in dagen na openen.",null," ","Verplicht indien aanwezig op de verpakking van de consumenteneenheid. Optioneel voor de Nederlandse doelmarkt."," "," ",{"$f":"IFERROR(LEFT(B85,LEN(B85)-LEN('BES EN'!E85)-3),\"Doelsector\")","v":"Houdbaarheid na opening"}]
["ANL1110","Minimum temperatuur (minimumTemperature)","Temperatuurinformatie is belangrijk voor verse artikelen, gevaarlijke materialen en artikelen waarop bepaalde temperatuurlimieten van toepassing zijn om de kwaliteit en/of veiligheid te waarborgen. De meeteenheid is verplicht als u een waarde invult.\n","De minimumtemperatuur waar een artikel aan blootgesteld mag worden, zoals gedefinieerd door de producent, zonder dat het gevolgen heeft voor de productveiligheid of -kwaliteit.\n","2 (CEL)\n","Voer de waarde in graden Celsius in.\n","Lokale in Nederland gebruikte validatieregels zijn: 500.159, 500.247\n",""," Verplicht als het product temperatuurgevoelig is en er een minimum temperatuur op het etiket/de verpakking staat","Verplicht als het product temperatuurgevoelig is en er een minimum temperatuur op het etiket/de verpakking staat","Verplicht als het product temperatuurgevoelig is en er een minimum temperatuur op het etiket/de verpakking staat",{"$f":"IFERROR(LEFT(B86,LEN(B86)-LEN('BES EN'!E86)-3),\"Doelsector\")","v":"Minimum temperatuur"}]
["ANL1111","Eenheid minimum temperatuur (minimumTemperature/@temperatureMeasurementUnitCode)",null,"Een gestandaardiseerde, reproduceerbare eenheid waarmee een fysieke eigenschap kan worden gemeten.","CEL","Altijd Celsius.","Lokale in Nederland gebruikte validatieregels zijn: 500.159, 500.247"," ","Verplicht als het veld 'Minimum temperatuur' is ingevuld bij de consumenteneenheid.","Verplicht als het veld 'Minimum temperatuur' is ingevuld bij de handelseenheid.","Verplicht als het veld 'Minimum temperatuur' is ingevuld bij de pallet.",{"$f":"IFERROR(LEFT(B87,LEN(B87)-LEN('BES EN'!E87)-3),\"Doelsector\")","v":"Eenheid minimum temperatuur"}]
["ANL1112","Maximum temperatuur (maximumTemperature)","Temperatuurinformatie is belangrijk voor verse artikelen, gevaarlijke materialen en artikelen waarop bepaalde temperatuurlimieten van toepassing zijn om de kwaliteit en/of veiligheid te waarborgen.<br />\nDe meeteenheid is verplicht als u een waarde invult.","De maximumtemperatuur waar een artikel aan blootgesteld mag worden, zoals gedefinieerd door de producent, zonder dat het gevolgen heeft voor de productveiligheid of -kwaliteit.","8 (CEL)","Voer de waarde in graden Celsius in.","Lokale in Nederland gebruikte validatieregels zijn: 500.160, 500.248, 500.319"," ","Verplicht als het product temperatuurgevoelig is en er een maximum temperatuur op het etiket/de verpakking staat","Verplicht als het product temperatuurgevoelig is en er een maximum temperatuur op het etiket/de verpakking staat","Verplicht als het product temperatuurgevoelig is en er een maximum temperatuur op het etiket/de verpakking staat",{"$f":"IFERROR(LEFT(B88,LEN(B88)-LEN('BES EN'!E88)-3),\"Doelsector\")","v":"Maximum temperatuur"}]
["ANL1113","Eenheid maximum temperatuur (maximumTemperature/@temperatureMeasurementUnitCode)",null,"Een gestandaardiseerde, reproduceerbare eenheid waarmee een fysieke eigenschap kan worden gemeten.","CEL","Altijd Celsius.","Lokale in Nederland gebruikte validatieregels zijn: 500.160, 500.248"," ","Verplicht als het veld 'Maximum temperatuur' is ingevuld bij de consumenteneenheid.","Verplicht als het veld 'Maximum temperatuur' is ingevuld bij de handelseenheid.","Verplicht als het veld 'Maximum temperatuur' is ingevuld bij de pallet.",{"$f":"IFERROR(LEFT(B89,LEN(B89)-LEN('BES EN'!E89)-3),\"Doelsector\")","v":"Eenheid maximum temperatuur"}]
["ANL1114","Soort temperatuur (temperatureQualifierCode)","","Code die het soort temperatuur aangeeft, bijvoorbeeld de opslagtemperatuur.\n","STORAGE_HANDLING\n","Selecteer de juiste waarde uit de waarden 'STORAGE_HANDLING' en 'TRANSPORTATION'.<br /> \nAls u dit veld invult, dan moet u ook het veld 'Minimum temperatuur' en/of 'Maximum temperatuur' invullen.<br /> \nVoer alleen 'TRANSPORTATION' en de bijbehorende temperatuur in als de temperaturen verschillen van die voor 'STORAGE_HANDLING', bijvoorbeeld bevroren brood dat tijdens transport ontdooit.","Lokale in Nederland gebruikte validatieregels zijn: 500.159, 500.160, 500.242, 500.247, 500.248, 500.319\n","","Verplicht als het veld 'Minimum temperatuur' en/of 'Maximum temperatuur' is ingevuld bij de consumenteneenheid.","Verplicht als het veld 'Minimum temperatuur' en/of 'Maximum temperatuur' is ingevuld bij de handelseenheid.","Verplicht als het veld 'Minimum temperatuur' en/of 'Maximum temperatuur' is ingevuld bij de pallet.",{"$f":"IFERROR(LEFT(B90,LEN(B90)-LEN('BES EN'!E90)-3),\"Doelsector\")","v":"Soort temperatuur"}]
["ANL1116","Bestelveelvoud (orderQuantityMultiple)","Als er geen bestelveelvoud is gespecificeerd, is de waarde 1.","De veelvouden waarin het artikel kan worden besteld. Als het minimaal bestelaantal 100 is en het bestelveelvoud 20, kan het artikel alleen worden besteld in de volgende aantallen: 100, 120, 140, 160 etc.","20","Voer de veelvouden in waarin het artikel kan worden besteld. ",null," ","Verplicht als de consumenteneenheid een besteleenheid is. Optioneel voor de Nederlandse doelmarkt.","Verplicht als de handelseenheid een besteleenheid is. Optioneel voor de Nederlandse doelmarkt.","Verplicht als de pallet een besteleenheid is. Optioneel voor de Nederlandse doelmarkt.",{"$f":"IFERROR(LEFT(B91,LEN(B91)-LEN('BES EN'!E91)-3),\"Doelsector\")","v":"Bestelveelvoud"}]
["ANL1117","Minimaal bestelaantal (orderQuantityMinimum)","Als er geen minimaal bestelaantal is gespecificeerd, is de waarde 1.","Geeft een overeengekomen minimumaantal weer waarin het artikel kan worden besteld. Een aantal of een getal. Dit is van toepassing op elke individuele order. Kan een vast aantal zijn voor alle klanten in een doelmarkt.","10","Voer een geheel getal in dat een aantal uitdrukt.",null," ","Verplicht als de consumenteneenheid een besteleenheid is. Optioneel voor de Nederlandse doelmarkt.","Verplicht als de handelseenheid een besteleenheid is. Optioneel voor de Nederlandse doelmarkt.","Verplicht als de pallet een besteleenheid is. Optioneel voor de Nederlandse doelmarkt.",{"$f":"IFERROR(LEFT(B92,LEN(B92)-LEN('BES EN'!E92)-3),\"Doelsector\")","v":"Minimaal bestelaantal"}]
["ANL1118","Verpakkingstype (packagingTypeCode)","Dit veld wordt in Nederland gecontroleerd in het kader van het datakwaliteitsprogramma.\n","Code die het type verpakking aangeeft.\n","BO (Bottle)\n","Voor een beschrijving van de codes, zie de handleiding &#39;Verpakkingstypes&#39; op de website van GS1 Nederland (<a href=\" https://www.gs1.nl/sites/default/files/so_gs1das_richtlijnverpakkingstype.pdf\" style=\"color:blue; text-decoration:underline\" target=\"_blank\"> https://www.gs1.nl/sites/default/files/so_gs1das_richtlijnverpakkingstype.pdf</a>). Als er meerdere verpakkingen om het product zitten, dan bepaalt u wat de meest essenti&euml;le verpakking is en gebruikt u die code. De volgende kenmerken helpen bij het bepalen of een verpakking essentieel is. Als de verpakking:<br />\n- Het product zijn vorm geeft<br />\n- De grootste verpakking is rondom het product<br />\n- Het overgrote deel van de informatie en afbeeldingen over het product bevat<br />\n- Essentieel is voor het intact houden van de inhoud van een verpakking<br />\nIn sommige gevallen heeft een product meer dan 1 verpakking die als essentieel beschouwd kan worden. In dat geval mag u meerdere verpakkingstypes invullen. Bijvoorbeeld een plastic pot met yoghurt of roomkaas die omhuld is door een kartonnen huls. Deze heeft twee hoofd verpakkingselementen: de pot en de huls. In dit geval voert u voor beide hoofd verpakkingselementen een code verpakkingstype op: pot=&rsquo;PT&rsquo; en huls=&rsquo;SY&rsquo;.<br />\n<br />\nAls een product bestaat uit meerdere verpakkingselementen, zoals vaak het geval is, geef dan alleen het hoofdelement aan met een specifieke code. De andere verpakkingselementen DIE LOSGEMAAKT kunnen worden van het hoofdelement, zoals labels, folie of tape geeft u ook een code, maar dan als code verpakkingstype &#39;PUG&#39; (geen specificatie). Let op, een uitzondering op deze regel zijn doppen van flessen van hetzelfde materiaal als de fles zelf (bv. PET), deze moet u benoemen onder dezelfde code verpakkingstype (packagingTypeCode): &lsquo;BO&rsquo;. Alleen als ze gemaakt zijn van ander materiaal (bv. METAAL) vermeldt u de doppen onder het verpakkingstype &lsquo;PUG&rsquo;.\n","Zie voor aanvullende toelichting <a href=\" https://www.gs1.nl/sectorafspraken-over-standaarden/productdata-levensmiddelen-drogisterij-agf-en-foodservice/gs1-5-7\" style=\"color:blue; text-decoration:underline\" target=\"_blank\"> https://www.gs1.nl/sectorafspraken-over-standaarden/productdata-levensmiddelen-drogisterij-agf-en-foodservice/gs1-5-7</a><br />\n<br />\nLokale in Nederland gebruikte validatieregels zijn: 500.061, 500.185, 500.265, 500.302, 500.303, 500.304, 500.306, 500.335\n",null,"Verplicht"," "," ",{"$f":"IFERROR(LEFT(B93,LEN(B93)-LEN('BES EN'!E93)-3),\"Doelsector\")","v":"Verpakkingstype"}]
["ANL1119","Verpakkingsomschrijving (packagingTypeDescription)","","Omschrijving, in de vorm van tekst, van het verpakkingstype dat gebruikt is voor het artikel.","Glazen fles met metalen dop en etiket van papier.","Geef een gedetailleerde beschrijving van de verpakking van het gehele product en alle verpakkingselementen. Als er meerdere hoofdverpakkingselementen zijn, geef dan een aparte gedetailleerde beschrijving per hoofdverpakkingselement, bij de ingevulde code verpakkingstype.","Zie voor aanvullende toelichting <a href=\" https://www.gs1.nl/sectorafspraken-over-standaarden/productdata-levensmiddelen-drogisterij-agf-en-foodservice/gs1-5-7\" style=\"color:blue; text-decoration:underline\" target=\"_blank\"> https://www.gs1.nl/sectorafspraken-over-standaarden/productdata-levensmiddelen-drogisterij-agf-en-foodservice/gs1-5-7</a>",null," "," "," ",{"$f":"IFERROR(LEFT(B94,LEN(B94)-LEN('BES EN'!E94)-3),\"Doelsector\")","v":"Verpakkingsomschrijving"}]
["ANL1120","Verpakkingsomschrijving taalcode (packagingTypeDescription/@languageCode)",null,"Code die een taal specificeert. Toegestane codewaarden staan gespecificeerd in de GS1 codelijst 'LanguageCode'.","nl","Selecteer de correcte waarde uit de 'ISO 639-1 (2-alpha)' codelijst.","Zie voor aanvullende toelichting <a href=\" https://www.gs1.nl/sectorafspraken-over-standaarden/productdata-levensmiddelen-drogisterij-agf-en-foodservice/gs1-5-7\" style=\"color:blue; text-decoration:underline\" target=\"_blank\"> https://www.gs1.nl/sectorafspraken-over-standaarden/productdata-levensmiddelen-drogisterij-agf-en-foodservice/gs1-5-7</a> <br />\n<br />\n- Voor het terugvinden van taalcodes zie: <a href=\" http://www.loc.gov/standards/iso639-2/php/code_list.php\" style=\"color:blue; text-decoration:underline\" target=\"_blank\"> http://www.loc.gov/standards/iso639-2/php/code_list.php</a> ",null,"Verplicht als het veld 'Verpakkingsomschrijving' is ingevuld bij de consumenteneenheid.","Verplicht als het veld 'Verpakkingsomschrijving' is ingevuld bij de handelseenheid.","Verplicht als het veld 'Verpakkingsomschrijving' is ingevuld bij de pallet.",{"$f":"IFERROR(LEFT(B95,LEN(B95)-LEN('BES EN'!E95)-3),\"Doelsector\")","v":"Verpakkingsomschrijving taalcode"}]
["ANL1122","Verpakkingsniveau (packagingLevel)","","Geeft het hi&euml;rarchische niveau van het verpakkingselement aan, bijv. 1, 2, 3. Voorbeeld: een fles in een kartonnen doos op een schap. Het hi&euml;rarchische niveau 1 is de fles (kunststof of glas), niveau 2 is de doos (karton) en niveau 3 is de folie rondom de pallet.\n","1\n","Vul de correcte waarde in.<br />\n1 = Primair: verpakking ontwikkeld als verkoopeenheid voor de consument. Dit is het verpakkingsniveau van producten die als indicatie &#39;BASE_UNIT_OR_EACH&#39; of &#39;PACK_OR_INNER_PACK&#39; hebben. Multipacks (bijvoorbeeld een sixpack flessen) krijgen in dit geval ook packagingLevel 1.<br />\n2 = Secundair: verzameling van meerdere primaire verpakkingen, doorgaans aangegeven als CASE.<br />\n3 = Tertiair: verpakking bedoeld voor transport van handelseenheden, doorgaans aangegeven als PALLET.\n","Zie voor aanvullende toelichting <a href=\" https://www.gs1.nl/sectorafspraken-over-standaarden/productdata-levensmiddelen-drogisterij-agf-en-foodservice/gs1-5-7\" style=\"color:blue; text-decoration:underline\" target=\"_blank\"> https://www.gs1.nl/sectorafspraken-over-standaarden/productdata-levensmiddelen-drogisterij-agf-en-foodservice/gs1-5-7</a>",null," "," "," ",{"$f":"IFERROR(LEFT(B96,LEN(B96)-LEN('BES EN'!E96)-3),\"Doelsector\")","v":"Verpakkingsniveau"}]
["ANL1123","Type datum op verpakking (tradeItemDateOnPackagingTypeCode)","","Geeft het type datum aan dat op de verpakking staat, bijv. THT-datum.\n","BEST_BEFORE_DATE<br />\nEXPIRATION_DATE\n","Voor beperkt houdbare artikelen geeft u het type datum aan dat op de verpakking staat.\n","","","Verplicht als het op de verpakking staat."," "," ",{"$f":"IFERROR(LEFT(B97,LEN(B97)-LEN('BES EN'!E97)-3),\"Doelsector\")","v":"Type datum op verpakking"}]
["ANL1126","Code verpakkingsmateriaal (packagingMaterialTypeCode)","Dit veld kan als het nodig is meer dan eens worden ingevuld, in combinatie met &#39;Hoeveelheid verpakkingsmateriaal&#39;.\n","De materialen die voor de verpakking van het artikel zijn gebruikt, bijvoorbeeld glas of kunststof. Deze materiaalinformatie kan door data-afnemers worden gebruikt voor:<br />\n- Berekening van belastingen/bijdragen/accijnzen.<br />\n- Berekening/schatting van CO2-voetafdruk (optimalisatie van hulpbronnen).<br />\n- Het bepalen van het gebruikte materiaal.\n","GLASS\n","Gebruik de &#39;packagingMaterialTypeCode&#39; codelijst.<br />\nDe codes &#39;METAL_STAINLESS_STEEl&#39;, &#39;METAL_STEEl&#39; en &#39;METAL_ALUMINUM&#39; mogen alleen gebruikt worden als de verpakkingsmaterialen uit meer dan 50% in gewicht uit staal of aluminium bestaan.<br />\n<br />\nAls u dit veld gebruikt, vul dan ook het veld &#39;Hoeveelheid verpakkingsmateriaal&#39;.<br />\n<br />\nAls het materiaal een samengesteld verpakkingsmateriaal is (= een materiaal bestaand uit twee of meer type materialen met verschillende eigenschappen, die, eenmaal samengevoegd, een materiaal met eigen kenmerken wordt, dat anders is dan de individuele onderdelen), dan gebruikt u als packagingMaterialTypeCode (veld &#39;Code verpakkingsmateriaal&#39;) &#39;COMPOSITE&#39;. In dat geval gebruikt u niet het eerder genoemde veld &#39;Hoeveelheid verpakkingsmateriaal&#39; maar de velden &#39;Samengesteld verpakkingsmateriaal - Code verpakkingsmateriaal&#39; (CompositeMaterialDetail.packagingMaterialTypeCode) en &#39;Samengesteld verpakkingsmateriaal - Hoeveelheid verpakkingsmateriaal&#39; (CompositeMaterialDetail.packagingMaterialCompositionQuantity) +UOM.\n","Zie voor aanvullende toelichting <a href=\" https://www.gs1.nl/sectorafspraken-over-standaarden/productdata-levensmiddelen-drogisterij-agf-en-foodservice/gs1-5-7\" style=\"color:blue; text-decoration:underline\" target=\"_blank\"> https://www.gs1.nl/sectorafspraken-over-standaarden/productdata-levensmiddelen-drogisterij-agf-en-foodservice/gs1-5-7</a><br />\n<br />\nLokale in Nederland gebruikte validatieregels zijn: 500.068, 500.185, 500.299, 500.335, 500.336, 500.337, 500.338, 500.339, 500.353\n",null," "," "," ",{"$f":"IFERROR(LEFT(B98,LEN(B98)-LEN('BES EN'!E98)-3),\"Doelsector\")","v":"Code verpakkingsmateriaal"}]
["ANL1127","Hoeveelheid verpakkingsmateriaal (packagingMaterialCompositionQuantity)","Als er een waarde is ingevuld voor de hoeveelheid verpakkingsmateriaal, dan moet er een meeteenheid worden geselecteerd die een gewicht aangeeft (kilogram of gram).\n","Geeft de hoeveelheid verpakkingsmateriaal aan uitgedrukt in gewicht.\n","25 (GRM)\n","Vul dit veld in voor ieder type materiaal van de verpakking. Vermeld de hoeveelheid zo nauwkeurig mogelijk, in 3 decimalen achter de komma. U kunt dit veld meerdere keren gebruiken, in combinatie met het veld &#39;Code verpakkingsmateriaal&#39;\n","Zie voor aanvullende toelichting: <a href=\" https://www.gs1.nl/sectorafspraken-over-standaarden/productdata-levensmiddelen-drogisterij-agf-en-foodservice/gs1-5-7\" style=\"color:blue; text-decoration:underline\" target=\"_blank\"> https://www.gs1.nl/sectorafspraken-over-standaarden/productdata-levensmiddelen-drogisterij-agf-en-foodservice/gs1-5-7</a><br /> \n<br />\nLokale in Nederland gebruikte validatieregels zijn: 500.068\n",null,"Verplicht als het veld ‘Code verpakkingsmateriaal’ is ingevuld en NIET de waarde COMPOSITE heeft.","Verplicht als het veld ‘Code verpakkingsmateriaal’ is ingevuld en NIET de waarde COMPOSITE heeft.","Verplicht als het veld ‘Code verpakkingsmateriaal’ is ingevuld en NIET de waarde COMPOSITE heeft.",{"$f":"IFERROR(LEFT(B99,LEN(B99)-LEN('BES EN'!E99)-3),\"Doelsector\")","v":"Hoeveelheid verpakkingsmateriaal"}]
["ANL1128","Eenheid hoeveelheid verpakkingsmateriaal (packagingMaterialCompositionQuantity/@measurementUnitCode)",null,"Een gestandaardiseerde, reproduceerbare eenheid waarmee een fysieke eigenschap kan worden gemeten.","GRM","Selecteer de juiste waarde uit de codelijst ‘measurementUnitCode’.",null,null,"Verplicht als het veld ‘Code verpakkingsmateriaal’ is ingevuld bij de consumenteneenheid.","Verplicht als het veld ‘Code verpakkingsmateriaal’ is ingevuld bij de handelseenheid.","Verplicht als het veld ‘Code verpakkingsmateriaal’ is ingevuld bij de pallet.",{"$f":"IFERROR(LEFT(B100,LEN(B100)-LEN('BES EN'!E100)-3),\"Doelsector\")","v":"Eenheid hoeveelheid verpakkingsmateriaal"}]
["ANL1129","Materiaaldikte (packagingMaterialThickness)","","De dikte van het verpakkingsmateriaal.","30","Vul een geldige waarde in, samen met het veld voor de meeteenheid. De aanbevolen meeteenheid is micrometer (4H).","Zie voor aanvullende toelichting: <a href=\" https://www.gs1.nl/sectorafspraken-over-standaarden/productdata-levensmiddelen-drogisterij-agf-en-foodservice/gs1-5-7\" style=\"color:blue; text-decoration:underline\" target=\"_blank\"> https://www.gs1.nl/sectorafspraken-over-standaarden/productdata-levensmiddelen-drogisterij-agf-en-foodservice/gs1-5-7</a><br />\n<br />   \nLokale in Nederland gebruikte validatieregels zijn:<br /> \n500.339",null," Verplicht als 'Code verpakkingsmateriaal' gelijk is aan METAL_STAINLESS_STEEL, METAL_STEEL of METAL_ALUMINUM","Verplicht als 'Code verpakkingsmateriaal' gelijk is aan METAL_STAINLESS_STEEL, METAL_STEEL of METAL_ALUMINUM","Verplicht als 'Code verpakkingsmateriaal' gelijk is aan METAL_STAINLESS_STEEL, METAL_STEEL of METAL_ALUMINUM",{"$f":"IFERROR(LEFT(B101,LEN(B101)-LEN('BES EN'!E101)-3),\"Doelsector\")","v":"Materiaaldikte"}]
["ANL1130","Eenheid materiaaldikte (packagingMaterialThickness/@measurementUnitCode)","Vermeld de hoeveelheid zo nauwkeurig mogelijk, in 3 decimalen achter de komma.\n","Een gestandaardiseerde, reproduceerbare eenheid waarmee een fysieke eigenschap kan worden gemeten.\n","4H\n","Selecteer de juiste waarde uit de codelijst &lsquo;measurementUnitCode&rsquo;.\n","","","Verplicht als het veld ‘Materiaaldikte’ is ingevuld bij de consumenteneenheid.","Verplicht als het veld ‘Materiaaldikte’ is ingevuld bij de handelseenheid.","Verplicht als het veld ‘Materiaaldikte’ is ingevuld bij de pallet.",{"$f":"IFERROR(LEFT(B102,LEN(B102)-LEN('BES EN'!E102)-3),\"Doelsector\")","v":"Eenheid materiaaldikte"}]
["ANL1131","Materiaal kleurcode (packagingMaterialColourCodeReference)","Gebruik de lokale codelijst.\n","Geeft de kleur van het verpakkingsmateriaal aan. Dit veld wordt ingevuld met behulp van lokale codelijsten.","TRANSPARENT_BLUE ","Selecteer de juiste waarde uit de codes: 'TRANSPARENT_OTHER', 'NON_TRANSPARENT_BLACK', 'NON_TRANSPARENT_OTHER', 'TRANSPARENT_COLOURLESS', 'TRANSPARENT_GREEN', 'TRANSPARENT_BROWN', 'TRANSPARENT_BLACK' of 'TRANSPARENT_BLUE'. Dit veld geeft aan welk type PET materiaal gebruikt is.","Zie voor aanvullende toelichting: <a href=\" https://www.gs1.nl/sectorafspraken-over-standaarden/productdata-levensmiddelen-drogisterij-agf-en-foodservice/gs1-5-7\" style=\"color:blue; text-decoration:underline\" target=\"_blank\"> https://www.gs1.nl/sectorafspraken-over-standaarden/productdata-levensmiddelen-drogisterij-agf-en-foodservice/gs1-5-7</a><br />\n<br />\nLokale in Nederland gebruikte validatieregels zijn:<br />\n500.338",null," Verplicht als 'Code verpakkingsmateriaal' gelijk is aan POLYMER_PET.","Verplicht als 'Code verpakkingsmateriaal' gelijk is aan POLYMER_PET.","Verplicht als 'Code verpakkingsmateriaal' gelijk is aan POLYMER_PET.",{"$f":"IFERROR(LEFT(B103,LEN(B103)-LEN('BES EN'!E103)-3),\"Doelsector\")","v":"Materiaal kleurcode"}]
["ANL1132","Is verpakkingsmateriaal valoriseerbaar? (isPackagingMaterialRecoverable)","","Bepaalt of verpakkingsmateriaal kan worden teruggewonnen. Terugwinbare materialen zijn materialen die kunnen worden hergebruikt of gerecycled als grondstof.","TRUE","Als u bij ‘Code verpakkingsmateriaal’ als waarde ‘GLASS’ of ‘GLASS_COLOURED’ heeft ingevuld, dan geeft u hier aan of het verpakkingsmateriaal recyclebaar is. ","Zie voor aanvullende toelichting: <a href=\" https://www.gs1.nl/sectorafspraken-over-standaarden/productdata-levensmiddelen-drogisterij-agf-en-foodservice/gs1-5-7\" style=\"color:blue; text-decoration:underline\" target=\"_blank\"> https://www.gs1.nl/sectorafspraken-over-standaarden/productdata-levensmiddelen-drogisterij-agf-en-foodservice/gs1-5-7</a><br />\n<br /> \nLokale in Nederland gebruikte validatieregels zijn:<br />\n500.337",null," Verplicht als 'Code verpakkingsmateriaal' gelijk is aan GLASS of GLASS_COLOURED.","Verplicht als 'Code verpakkingsmateriaal' gelijk is aan GLASS of GLASS_COLOURED.","Verplicht als 'Code verpakkingsmateriaal' gelijk is aan GLASS of GLASS_COLOURED.",{"$f":"IFERROR(LEFT(B104,LEN(B104)-LEN('BES EN'!E104)-3),\"Doelsector\")","v":"Is verpakkingsmateriaal valoriseerbaar?"}]
["ANL1133","Samengesteld verpakkingsmateriaal - Code verpakkingsmateriaal (packagingMaterialTypeCode)","","De materialen die voor de verpakking van het artikel zijn gebruikt, bijvoorbeeld glas of kunststof. Deze materiaalinformatie kan door data-afnemers worden gebruikt voor:<br />\n- Berekening van belastingen/bijdragen/accijnzen.<br />\n- Berekening/schatting van CO2-voetafdruk (optimalisatie van hulpbronnen).<br />\n- Het bepalen van het gebruikte materiaal.\n","GLASS\n","Samengesteld verpakkingsmateriaal is opgebouwd uit verschillende soorten, niet te scheiden materialen. Als er sprake is van samengesteld verpakkingsmateriaal (packagingMaterialTypeCode = COMPOSITE), geef dan de materialen aan waaruit de samenstelling bestaat. Gebruik daarvoor de 'packagingMaterialTypeCode' codelijst.<br />\nDe codes ‘METAL_STAINLESS_STEEL’ of ‘METAL_STEEL’ of ‘METAL_ALUMINUM’ gebruikt u hier alleen als het verpakkingsmateriaal voor meer dan 50% van het gewicht uit staal of aluminium bestaat.<br />\nAls voorbeeld: <br />\n&bull; Het verpakkingsmateriaal is een composiet (samengesteld materiaal). Het composiet bestaat voor meer dan 50% van het gewicht uit het materiaal aluminium/staal en daarnaast uit plastic. U gebruikt dan de code COMPOSITE in het veld ‘Code verpakkingsmateriaal’ en vult vervolgens in dit veld de codes in van de materialen waaruit het composiet bestaat. Voor het materiaal aluminium/staal vult u daarnaast de dikte in het veld ‘Samengesteld verpakkingsmateriaal – Materiaaldikte’ in. <br />\n&bull; Bestaat uw composiet uit twee materialen (waaronder aluminium/staal) maar het materiaal aluminium/staal is minder dan 50% van het gewicht van het verpakkingsmateriaal? Dan ziet u het materiaal niet als composiet en vult u dit veld niet in. U vult dan alleen de gegevens van het andere materiaal in zoals voor andere verpakkingsmaterialen die uit 1 materiaal bestaan. Het gewicht van het aluminium/staal telt u op bij het andere materiaal. Ook de dikte van het aluminium/staal vult u niet in.<br />\n&bull; Bestaat uw composiet uit meerdere materialen (naast het materiaal aluminium/staal) en is het materiaal aluminium/staal minder dan 50% van het gewicht van het verpakkingsmateriaal? Dan vult u het veld ‘Code verpakkingsmateriaal’ met de code ‘COMPOSITE’ en vult in dit veld de gegevens van de andere materialen in. Het gewicht van het aluminium/staal telt u op bij dat van het materiaal met het hoogste gewicht. De dikte van het aluminium/staal vult u niet in.","Zie voor aanvullende toelichting: <a href=\" https://www.gs1.nl/sectorafspraken-over-standaarden/productdata-levensmiddelen-drogisterij-agf-en-foodservice/gs1-5-7\" style=\"color:blue; text-decoration:underline\" target=\"_blank\"> https://www.gs1.nl/sectorafspraken-over-standaarden/productdata-levensmiddelen-drogisterij-agf-en-foodservice/gs1-5-7</a><br />\n<br />\nLokale in Nederland gebruikte validatieregels zijn: 500.336, 500.340, 500.341\n",null," Verplicht als 'Code verpakkingsmateriaal' gelijk is aan COMPOSITE.","Verplicht als 'Code verpakkingsmateriaal' gelijk is aan COMPOSITE.","Verplicht als 'Code verpakkingsmateriaal' gelijk is aan COMPOSITE.",{"$f":"IFERROR(LEFT(B105,LEN(B105)-LEN('BES EN'!E105)-3),\"Doelsector\")","v":"Samengesteld verpakkingsmateriaal - Code verpakkingsmateriaal"}]
["ANL1134","Samengesteld verpakkingsmateriaal - Hoeveelheid verpakkingsmateriaal (packagingMaterialCompositionQuantity)","","De hoeveelheid verpakkingsmateriaal van het artikel. Kan in gewicht, volume of oppervlak worden aangegeven en per land verschillen.\n","40 (GRM)\n","In dit veld geeft u de hoeveelheid van het samengestelde materiaal op. Vermeld de hoeveelheid zo nauwkeurig mogelijk, in 3 decimalen achter de komma. Dit kan in gewicht, volume of oppervlak zijn aangegeven en per land verschillen.\n","Zie voor aanvullende toelichting: <a href=\" https://www.gs1.nl/sectorafspraken-over-standaarden/productdata-levensmiddelen-drogisterij-agf-en-foodservice/gs1-5-7\" style=\"color:blue; text-decoration:underline\" target=\"_blank\"> https://www.gs1.nl/sectorafspraken-over-standaarden/productdata-levensmiddelen-drogisterij-agf-en-foodservice/gs1-5-7</a><br />\n<br />\nLokale in Nederland gebruikte validatieregels zijn: 500.340\n",null,"Verplicht als ‘Samengesteld verpakkingsmateriaal – Code verpakkingsmateriaal’ gevuld is bij de consumenteneenheid.","Verplicht als ‘Samengesteld verpakkingsmateriaal – Code verpakkingsmateriaal’ gevuld is bij de handelseenheid.","Verplicht als ‘Samengesteld verpakkingsmateriaal – Code verpakkingsmateriaal’ gevuld is bij de pallet.",{"$f":"IFERROR(LEFT(B106,LEN(B106)-LEN('BES EN'!E106)-3),\"Doelsector\")","v":"Samengesteld verpakkingsmateriaal - Hoeveelheid verpakkingsmateriaal"}]
["ANL1135","Samengesteld verpakkingsmateriaal - Eenheid hoeveelheid verpakkingsmateriaal (packagingMaterialCompositionQuantity/@measurementUnitCode)","","Een gestandaardiseerde, reproduceerbare eenheid waarmee een fysieke eigenschap kan worden gemeten.\n","GRM\n","Selecteer de juiste waarde uit de codelijst &lsquo;measurementUnitCode&rsquo;.\n","","","Verplicht als het veld ‘Samengesteld verpakkingsmateriaal - Hoeveelheid verpakkingsmateriaal’ is ingevuld bij de consumenteneenheid.","Verplicht als het veld ‘Samengesteld verpakkingsmateriaal - Hoeveelheid verpakkingsmateriaal’ is ingevuld bij de handelseenheid.","Verplicht als het veld ‘Samengesteld verpakkingsmateriaal - Hoeveelheid verpakkingsmateriaal’ is ingevuld bij de pallet.",{"$f":"IFERROR(LEFT(B107,LEN(B107)-LEN('BES EN'!E107)-3),\"Doelsector\")","v":"Samengesteld verpakkingsmateriaal - Eenheid hoeveelheid verpakkingsmateriaal"}]
["ANL1136","Samengesteld verpakkingsmateriaal - Materiaaldikte (packagingMaterialThickness)","Alleen relevant als het samengestelde materiaal is gemaakt van ‘METAL_STAINLESS_STEEL’, ‘METAL_STEEL’ of ‘METAL_ALUMINUM’.","De dikte van het verpakkingsmateriaal.","30 (4H)","Geeft de materiaaldikte van het samengesteld materiaal aan. Vul de correcte waarde in, samen met het veld voor meeteenheid. De aanbevolen meeteenheid is micrometer (4H).","Zie voor aanvullende toelichting: <a href=\" https://www.gs1.nl/sectorafspraken-over-standaarden/productdata-levensmiddelen-drogisterij-agf-en-foodservice/gs1-5-7\" style=\"color:blue; text-decoration:underline\" target=\"_blank\"> https://www.gs1.nl/sectorafspraken-over-standaarden/productdata-levensmiddelen-drogisterij-agf-en-foodservice/gs1-5-7</a><br />\n<br />\nLokale in Nederland gebruikte validatieregels zijn:\n500.341",null,"Verplicht als ‘Samengesteld verpakkingsmateriaal – Code verpakkingsmateriaal’ gelijk is aan METAL_STAINLESS_STEEL, METAL_STEEL of METAL_ALUMINUM.","Verplicht als ‘Samengesteld verpakkingsmateriaal – Code verpakkingsmateriaal’ gelijk is aan METAL_STAINLESS_STEEL, METAL_STEEL of METAL_ALUMINUM.","Verplicht als ‘Samengesteld verpakkingsmateriaal – Code verpakkingsmateriaal’ gelijk is aan METAL_STAINLESS_STEEL, METAL_STEEL of METAL_ALUMINUM.",{"$f":"IFERROR(LEFT(B108,LEN(B108)-LEN('BES EN'!E108)-3),\"Doelsector\")","v":"Samengesteld verpakkingsmateriaal - Materiaaldikte"}]
["ANL1137","Samengesteld verpakkingsmateriaal - Eenheid materiaaldikte (packagingMaterialThickness/@measurementUnitCode)","","Een gestandaardiseerde, reproduceerbare eenheid waarmee een fysieke eigenschap kan worden gemeten.","4H","Selecteer de juiste waarde uit de codelijst ‘measurementUnitCode’.","Zie voor aanvullende toelichting: <a href=\" https://www.gs1.nl/sectorafspraken-over-standaarden/productdata-levensmiddelen-drogisterij-agf-en-foodservice/gs1-5-7\" style=\"color:blue; text-decoration:underline\" target=\"_blank\"> https://www.gs1.nl/sectorafspraken-over-standaarden/productdata-levensmiddelen-drogisterij-agf-en-foodservice/gs1-5-7</a>","","Verplicht als het veld ‘Samengesteld verpakkingsmateriaal - Materiaaldikte’ is ingevuld bij de consumenteneenheid.","Verplicht als het veld ‘Samengesteld verpakkingsmateriaal - Materiaaldikte’ is ingevuld bij de handelseenheid.","Verplicht als het veld ‘Samengesteld verpakkingsmateriaal - Materiaaldikte’ is ingevuld bij de pallet.",{"$f":"IFERROR(LEFT(B109,LEN(B109)-LEN('BES EN'!E109)-3),\"Doelsector\")","v":"Samengesteld verpakkingsmateriaal - Eenheid materiaaldikte"}]
["ANL1138","Emballageartikel/herbruikbaar artikel (isPackagingMarkedReturnable)","Dit veld wordt in Nederland gecontroleerd in het kader van het datakwaliteitsprogramma.\n","Het artikel heeft een herbruikbare verpakking. Dit is een ja/nee-veld (Booleaans) waar &lsquo;ja&#39; (&#39;TRUE&#39;) betekent dat er sprake is van een emballageartikel/herbruikbaar artikel. Dit veld wordt gebruikt voor een emballageartikel/herbruikbaar artikel met of zonder statiegeld.\n","True\n","Selecteer &lsquo;True&rsquo; of &lsquo;False&rsquo;. &lsquo;True&rsquo; betekent dat er sprake is van een emballageartikel/herbruikbaar artikel.\n","Zie voor aanvullende toelichting <a href=\" https://www.gs1.nl/sectorafspraken-over-standaarden/productdata-levensmiddelen-drogisterij-agf-en-foodservice/gs1-5-7\" style=\"color:blue; text-decoration:underline\" target=\"_blank\"> https://www.gs1.nl/sectorafspraken-over-standaarden/productdata-levensmiddelen-drogisterij-agf-en-foodservice/gs1-5-7</a><br />\n<br />\nLokale in Nederland gebruikte validatieregels zijn:<br />\n500.255, 500.257, 500.265, 500.277\n","","Verplicht als de productverpakking kan worden geretourneerd.","Verplicht als de productverpakking kan worden geretourneerd.","Verplicht als de productverpakking kan worden geretourneerd.",{"$f":"IFERROR(LEFT(B110,LEN(B110)-LEN('BES EN'!E110)-3),\"Doelsector\")","v":"Emballageartikel/herbruikbaar artikel"}]
["ANL1139","Code van het emballageartikel/herbruikbaar artikel (returnablePackageDepositIdentification)","Zie voor meer informatie over het gebruik van voorloopnullen hoofdstuk 33 van de &#39;Trade Item Implementation Guide&#39;.\n","In een klein aantal markten wordt de informatie over het emballageartikel/herbruikbaar artikel weergegeven met een GTIN, dat verwijst naar het type lastdrager of verpakking waarop het statiegeld voor het emballageartikel/herbruikbaar artikel van toepassing is.\n","00662510000774 (CHEP P1210B, Plastic Pallet, 1200x1000)<br />\n04045119067670 (Steinie 0,33l)\n","Selecteer een code uit het document &#39;BENELUX RTI List&#39; op de website van GS1 Nederland of GS1 Belgi&euml; en Luxemburg. Voeg altijd een voorloopnul toe aan de code van 13 cijfers voor het emballageartikel/het herbruikbare artikel. De code moet de unieke GS1 artikelcode (GTIN) van het lege emballageartikel/herbruikbare artikel zijn.<br />\n<br />\nDe 30 cl &lsquo;Bruin Nederlands Retour CBK-fles&rsquo; &ndash; de BNR-fles &ndash; is ook toegevoegd aan beide datapools (zowel in Nederland als in Belgi&euml; en Luxemburg), als GTIN 08715079031979.&nbsp;Naast deze fles zijn andere standaard flessen toegevoegd als keuze aan de datapools. Deze kunt u terugvinden in het toelichtingendocument dat op de GS1-website staat: <a href=\" https://www.gs1.nl/sectorafspraken-over-standaarden/productdata-levensmiddelen-drogisterij-agf-en-foodservice/gs1-5-7\" style=\"color:blue; text-decoration:underline\" target=\"_blank\"> https://www.gs1.nl/sectorafspraken-over-standaarden/productdata-levensmiddelen-drogisterij-agf-en-foodservice/gs1-5-7</a> (titel document is &#39;Toelichting op velden&#39;, paragraaf 7.1). Leveranciers die hun bier in &eacute;&eacute;n van deze flessen leveren, kunnen de code voor hun emballageartikel/herbruikbare artikel kiezen.<br />\nAls u uw eigen emballageartikel/herbruikbare artikel toevoegt die u niet wilt toevoegen aan bovengenoemde lijst, dan moet u uw eigen, unieke GTIN toekennen aan het emballageartikel/herbruikbaar artikel en de bijbehorende informatie toevoegen aan de GDSN datapool. Ook aan deze zelf toegekende 13-cijferige code voegt u altijd een voorloopnul toe. U voert deze code in dit veld in.<br />\n<br />\nOp het niveau van consumenteneenheden moet dit veld worden gebruikt om aan te geven welk soort lege verpakking de consument kan retourneren naar de retailer. Zie voor meer informatie over het gebruik van emballageartikelen/herbruikbare artikelen de link in Procesbeschrijving naar het document Toelichting. Deze aanpak geldt ook voor lege retourneerbare verpakkingen van consumenteneenheden.","Zie voor aanvullende toelichting <a href=\" https://www.gs1.nl/sectorafspraken-over-standaarden/productdata-levensmiddelen-drogisterij-agf-en-foodservice/gs1-5-7\" style=\"color:blue; text-decoration:underline\" target=\"_blank\"> https://www.gs1.nl/sectorafspraken-over-standaarden/productdata-levensmiddelen-drogisterij-agf-en-foodservice/gs1-5-7</a><br />\n<br />\n- Benelux RTI lijst (<a href=\" https://www.gs1.nl/sectorafspraken-over-standaarden/productdata-levensmiddelen-drogisterij-agf-en-foodservice/gs1-5-7\" style=\"color:blue; text-decoration:underline\" target=\"_blank\"> https://www.gs1.nl/sectorafspraken-over-standaarden/productdata-levensmiddelen-drogisterij-agf-en-foodservice/gs1-5-7</a>) <br />\n<br />\n- GDSN Trade Item Implementation Guideline (<a href=\" https://www.gs1.org/gdsn/trade_implementation_guide\" style=\"color:blue; text-decoration:underline\" target=\"_blank\"> https://www.gs1.org/gdsn/trade_implementation_guide</a>)<br />\n<br />\nLokale in Nederland gebruikte validatieregels zijn: 500.153, 500.157, 500.255, 500.258, 500.260, 500.277\n",null,"Verplicht als er een GTIN wordt gebruikt om het emballageartikel/herbruikbaar artikel te identificeren.","Verplicht als er een GTIN wordt gebruikt om het emballageartikel/herbruikbaar artikel te identificeren.","Verplicht als er een GTIN wordt gebruikt om het emballageartikel/herbruikbaar artikel te identificeren.",{"$f":"IFERROR(LEFT(B111,LEN(B111)-LEN('BES EN'!E111)-3),\"Doelsector\")","v":"Code van het emballageartikel/herbruikbaar artikel"}]
["ANL1140","Emballageartikelwaarde/herbruikbaar artikelwaarde (returnablePackageDepositAmount)","De valutacode is verplicht als u een waarde invult.","De geldelijke waarde van de individuele emballageartikel/herbruikbaar artikelverpakking.","3,86 (EUR)","Vul dit veld alleen in als er sprake is van de emballageverpakking/herbruikbaar artikelverpakking (‘lege’ eenheid).","Zie voor aanvullende toelichting <a href=\" https://www.gs1.nl/sectorafspraken-over-standaarden/productdata-levensmiddelen-drogisterij-agf-en-foodservice/gs1-5-7\" style=\"color:blue; text-decoration:underline\" target=\"_blank\"> https://www.gs1.nl/sectorafspraken-over-standaarden/productdata-levensmiddelen-drogisterij-agf-en-foodservice/gs1-5-7</a><br />\n<br />\nLokale in Nederland gebruikte validatieregels zijn:<br />\n500.256, 500.259"," ","Verplicht voor emballage-/herbruikbaar artikelen in doelmarkt Nederland, België en Luxemburg."," "," ",{"$f":"IFERROR(LEFT(B112,LEN(B112)-LEN('BES EN'!E112)-3),\"Doelsector\")","v":"Emballageartikelwaarde/herbruikbaar artikelwaarde"}]
["ANL1141","Emballageartikelwaarde/herbruikbaar artikelwaarde valutacode (returnablePackageDepositAmount/@currencyCode)","","Code die een valuta specificeert. Toegestane codewaarden staan gespecifieerd in de GS1 codelijst 'CurrencyCode'.\n","EUR\n","Selecteer de juiste waarde uit de codelijst 'currencyCode'.\n","Zie voor aanvullende toelichting <a href=\" https://www.gs1.nl/sectorafspraken-over-standaarden/productdata-levensmiddelen-drogisterij-agf-en-foodservice/gs1-5-7\" style=\"color:blue; text-decoration:underline\" target=\"_blank\"> https://www.gs1.nl/sectorafspraken-over-standaarden/productdata-levensmiddelen-drogisterij-agf-en-foodservice/gs1-5-7</a>","","Verplicht als het veld 'Emballageartikelwaarde/herbruikbaar artikelwaarde' is gevuld bij de consumenteneenheid."," Verplicht als het veld 'Emballageartikelwaarde/herbruikbaar artikelwaarde' is gevuld bij de handelseenheid."," Verplicht als het veld 'Emballageartikelwaarde/herbruikbaar artikelwaarde' is gevuld bij de pallet.",{"$f":"IFERROR(LEFT(B113,LEN(B113)-LEN('BES EN'!E113)-3),\"Doelsector\")","v":"Emballageartikelwaarde/herbruikbaar artikelwaarde valutacode"}]
["ANL1142","Type pallet (platformTypeCode)","Als de leverancier verschillende pallets voor verschillende klanten gebruikt, dan moet elke soort pallet worden ge&iuml;dentificeerd met een afzonderlijke GS1 artikelcode (GTIN). Op dit specifieke niveau moet de palletinformatie worden ingevuld.&nbsp;<br />\n<br />\nAls de pallet geen artikelcode (GTIN) heeft (een &lsquo;non-GTIN&rsquo; pallet) dan zijn er twee opties: of de consumenteneenheid of de handelseenheid is de hoogste eenheid binnen de hi&euml;rarchie. De informatie over de pallet en het type pallet vult u dan in bij de andere gegevens over de hoogste eenheid in de hi&euml;rarchie.","Geeft aan of de omschreven verzendeenheid wordt geleverd op een pallet/platform en op wat voor type pallet. Als de verzendeenheid wordt geleverd op een pallet, moet hier het type pallet worden ingevuld. De beschikbare pallettypes/-codes worden weergegeven als codes.\n","11 (pallet ISO 1 &ndash; 1/1 EURO Pallet Standaard pallet met afmetingen 80 x 120 cm)\n","Selecteer de juiste waarde uit de codelijst &lsquo;platformTypeCode&#39;.\n","Zie voor aanvullende toelichting <a href=\" https://www.gs1.nl/sectorafspraken-over-standaarden/productdata-levensmiddelen-drogisterij-agf-en-foodservice/gs1-5-7\" style=\"color:blue; text-decoration:underline\" target=\"_blank\"> https://www.gs1.nl/sectorafspraken-over-standaarden/productdata-levensmiddelen-drogisterij-agf-en-foodservice/gs1-5-7</a><br />\n<br />\nLokale in Nederland gebruikte validatieregels zijn: 500.308\n","","Verplicht als de consumenteneenheid de hoogste eenheid binnen de hiërarchie is.","Verplicht als de handelseenheid de hoogste eenheid binnen de hiërarchie is."," Verplicht als de pallet een artikelcode (GTIN) heeft.",{"$f":"IFERROR(LEFT(B114,LEN(B114)-LEN('BES EN'!E114)-3),\"Doelsector\")","v":"Type pallet"}]
["ANL1143","Platformvoorwaarden (platformTermsAndConditionsCode)","Als de leverancier verschillende pallets voor verschillende klanten gebruikt, dan moet elke soort pallet worden geïdentificeerd met een afzonderlijke GS1 artikelcode (GTIN). Op dit specifieke niveau moet de palletinformatie worden ingevuld. ","Geeft aan of het platform uit de voorgeschreven palletconfiguratie is gehuurd, uitwisselbaar is, of er borg op zit en of het slechts één keer kan worden gebruikt.","2 - Uitwisselbare pallets","Selecteer de juiste waarde uit de codelijst ‘platformTermsAndConditionsCode’.","Zie voor aanvullende toelichting <a href=\" https://www.gs1.nl/sectorafspraken-over-standaarden/productdata-levensmiddelen-drogisterij-agf-en-foodservice/gs1-5-7\" style=\"color:blue; text-decoration:underline\" target=\"_blank\"> https://www.gs1.nl/sectorafspraken-over-standaarden/productdata-levensmiddelen-drogisterij-agf-en-foodservice/gs1-5-7</a>"," "," "," "," ",{"$f":"IFERROR(LEFT(B115,LEN(B115)-LEN('BES EN'!E115)-3),\"Doelsector\")","v":"Platformvoorwaarden"}]
["ANL1144","Maximale stapelfactor (stackingFactor)","Als de leverancier verschillende pallets voor verschillende klanten gebruikt, dan moet elke soort pallet worden geïdentificeerd met een afzonderlijke GS1 artikelcode (GTIN). Op dit specifieke niveau moet de palletinformatie worden ingevuld. ","Een factor die de maximale stapelhoogte voor het artikel bepaalt. Geeft het aantal lagen aan waarin het artikel mag worden gestapeld.","2","Voer het maximale aantal lagen in waarin het artikel kan worden gestapeld zonder dat dit schade aan het artikel toebrengt.","Zie voor aanvullende toelichting <a href=\" https://www.gs1.nl/sectorafspraken-over-standaarden/productdata-levensmiddelen-drogisterij-agf-en-foodservice/gs1-5-7\" style=\"color:blue; text-decoration:underline\" target=\"_blank\"> https://www.gs1.nl/sectorafspraken-over-standaarden/productdata-levensmiddelen-drogisterij-agf-en-foodservice/gs1-5-7</a><br />\n<br />\nLokale in Nederland gebruikte validatieregels zijn:<br />\n500.253, 500.284, 500.322"," "," "," ","Verplicht, als er een maximum aantal lagen is dat veilig gestapeld kan worden voor een logistieke eenheid.",{"$f":"IFERROR(LEFT(B116,LEN(B116)-LEN('BES EN'!E116)-3),\"Doelsector\")","v":"Maximale stapelfactor"}]
["ANL1145","Type stapelfactor (stackingFactorTypeCode)","Gebruik dit veld alleen als u het veld &lsquo;Maximale stapelfactor&rsquo; heeft ingevuld. Als de leverancier verschillende pallets voor verschillende klanten gebruikt, dan moet elke soort pallet worden ge&iuml;dentificeerd met een afzonderlijke GS1 artikelcode (GTIN). Op dit specifieke niveau moet de palletinformatie worden ingevuld.","Geeft het ketenproces aan waarbij het artikel in kwestie mag worden gestapeld. Vanuit het perspectief van de keten kunnen deze waarden verschillen voor opslag, wegtransport, spoortransport etc. Als een retailer verzendt tussen magazijnen of winkels, is deze informatie nodig ter ondersteuning van de keten. Zo kunnen pallets bijvoorbeeld tijdens wegtransport twee lagen hoog worden gestapeld, maar in een magazijn drie lagen.\n","STORAGE_UNSPECIFIED\n","Selecteer de juiste waarde uit de volgende waarden van de codelijst &lsquo;stackingFactorTypeCode&rsquo;:<br />\n- STORAGE_UNSPECIFIED (voor goederen in opslag, ongeacht het soort opslag)<br />\n- TRANSPORT_UNSPECIFIED (voor goederen op transport, ongeacht het soort transport)<br />\n- UNSPECIFIED (als de stapelfactor hetzelfde is voor transport en opslag).\n","Zie voor aanvullende toelichting <a href=\" https://www.gs1.nl/sectorafspraken-over-standaarden/productdata-levensmiddelen-drogisterij-agf-en-foodservice/gs1-5-7\" style=\"color:blue; text-decoration:underline\" target=\"_blank\"> https://www.gs1.nl/sectorafspraken-over-standaarden/productdata-levensmiddelen-drogisterij-agf-en-foodservice/gs1-5-7</a><br />\n<br />\nLokale in Nederland gebruikte validatieregels zijn: 500.252, 500.253, 500.322\n",""," "," "," Verplicht als ‘Maximale stapelfactor’ is ingevuld",{"$f":"IFERROR(LEFT(B117,LEN(B117)-LEN('BES EN'!E117)-3),\"Doelsector\")","v":"Type stapelfactor"}]
["ANL1146","Aantal lagen van de GTIN pallet (quantityOfCompleteLayersContainedInATradeItem)","Als de leverancier verschillende pallets voor verschillende klanten gebruikt, dan moet elke soort pallet worden geïdentificeerd met een afzonderlijke GS1 artikelcode (GTIN). Op dit specifieke niveau moet de palletinformatie worden ingevuld. ","Het aantal lagen van de onderliggende handelseenheden op de pallet. Is niet van toepassing op een basiseenheid.","4","Als aan de pallet een GS1 artikelcode (GTIN) is toegekend, voer dan het aantal lagen in waaruit de pallet is opgebouwd.","Zie voor aanvullende toelichting <a href=\" https://www.gs1.nl/sectorafspraken-over-standaarden/productdata-levensmiddelen-drogisterij-agf-en-foodservice/gs1-5-7\" style=\"color:blue; text-decoration:underline\" target=\"_blank\"> https://www.gs1.nl/sectorafspraken-over-standaarden/productdata-levensmiddelen-drogisterij-agf-en-foodservice/gs1-5-7</a><br />\n<br />\nLokale in Nederland gebruikte validatieregels zijn:<br />\n500.141, 500.146, 500.284, 500.308"," "," "," "," ",{"$f":"IFERROR(LEFT(B118,LEN(B118)-LEN('BES EN'!E118)-3),\"Doelsector\")","v":"Aantal lagen van de GTIN pallet"}]
["ANL1147","Aantal onderliggende eenheden per laag GTIN pallet (quantityOfTradeItemsContainedInACompleteLayer)","Als de leverancier verschillende pallets voor verschillende klanten gebruikt, dan moet elke soort pallet worden geïdentificeerd met een afzonderlijke GS1 artikelcode (GTIN). Op dit specifieke niveau moet de palletinformatie worden ingevuld.","Het aantal handelseenheden in een volle laag van het hogere niveau in de verpakkingsconfiguratie. Wordt gebruikt in de hiërarchische verpakkingsstructuur van een handelseenheid.","12","Als aan de palletconfiguratie een GS1 artikelcode (GTIN) is toegekend, voer dan het aantal onderliggende eenheden in waaruit een laag van de pallet bestaat.","Zie voor aanvullende toelichting <a href=\" https://www.gs1.nl/sectorafspraken-over-standaarden/productdata-levensmiddelen-drogisterij-agf-en-foodservice/gs1-5-7\" style=\"color:blue; text-decoration:underline\" target=\"_blank\"> https://www.gs1.nl/sectorafspraken-over-standaarden/productdata-levensmiddelen-drogisterij-agf-en-foodservice/gs1-5-7</a><br />\n<br />\nLokale in Nederland gebruikte validatieregels zijn:<br />\n500.142, 500.147, 500.308, 500.310, 500.321"," "," "," "," Verplicht voor groente en fruit.",{"$f":"IFERROR(LEFT(B119,LEN(B119)-LEN('BES EN'!E119)-3),\"Doelsector\")","v":"Aantal onderliggende eenheden per laag GTIN pallet"}]
["ANL1148","Aantal eenheden per non-GTIN pallet (quantityOfTradeItemsPerPallet)","Als de leverancier verschillende pallets voor verschillende klanten gebruikt, dan moet elke soort pallet worden ge&iuml;dentificeerd met een afzonderlijke GS1 artikelcode (GTIN). Op dit specifieke niveau moet de palletinformatie worden ingevuld.\n","Het aantal artikelen op een pallet. Wordt alleen gebruikt als de pallet geen GS1 artikelcode (GTIN) heeft. Geeft het aantal artikelen aan dat volgens de voorkeuren van de leverancier of retailer op een pallet wordt geplaatst.\n","72\n","Als aan de pallet geen GS1 artikelcode (GTIN) is toegekend, dan voert u het aantal eenheden in waaruit de pallet bestaat.\n","Zie voor aanvullende toelichting <a href=\" https://www.gs1.nl/sectorafspraken-over-standaarden/productdata-levensmiddelen-drogisterij-agf-en-foodservice/gs1-5-7\" style=\"color:blue; text-decoration:underline\" target=\"_blank\"> https://www.gs1.nl/sectorafspraken-over-standaarden/productdata-levensmiddelen-drogisterij-agf-en-foodservice/gs1-5-7</a><br />\n<br />\nLokale in Nederland gebruikte validatieregels zijn: 500.143, 500.145, 500.308, 500.416, 500.417\n","","Verplicht als de consumenteneenheid de hoogste eenheid binnen de hiërarchie is.","Verplicht als de handelseenheid de hoogste eenheid binnen de hiërarchie is."," ",{"$f":"IFERROR(LEFT(B120,LEN(B120)-LEN('BES EN'!E120)-3),\"Doelsector\")","v":"Aantal eenheden per non-GTIN pallet"}]
["ANL1149","Aantal lagen van de non-GTIN pallet (quantityOfLayersPerPallet)","Als de leverancier verschillende pallets voor verschillende klanten gebruikt, dan moet elke soort pallet worden ge&iuml;dentificeerd met een afzonderlijke GS1 artikelcode (GTIN). Op dit specifieke niveau moet de palletinformatie worden ingevuld.\n","Het aantal lagen dat een pallet bevat. Wordt alleen gebruikt als de pallet geen GS1 artikelcode (GTIN) heeft. Geeft het aantal lagen aan dat een pallet bevat volgens de voorkeuren van de leverancier of retailer.\n","4\n","Als aan de palletconfiguratie geen GTIN is toegekend, dan voert u het aantal lagen van de pallet in.\n","Zie voor aanvullende toelichting <a href=\" https://www.gs1.nl/sectorafspraken-over-standaarden/productdata-levensmiddelen-drogisterij-agf-en-foodservice/gs1-5-7\" style=\"color:blue; text-decoration:underline\" target=\"_blank\"> https://www.gs1.nl/sectorafspraken-over-standaarden/productdata-levensmiddelen-drogisterij-agf-en-foodservice/gs1-5-7</a><br />\n<br />\nLokale in Nederland gebruikte validatieregels zijn: 500.144, 500.285, 500.308, 500.311, 500.377, 500.416, 500.417\n","","Verplicht voor groente en fruit als de consumenteneenheid de hoogste eenheid binnen de hiërarchie is.","Verplicht voor groente en fruit als de handelseenheid de hoogste eenheid binnen de hiërarchie is."," ",{"$f":"IFERROR(LEFT(B121,LEN(B121)-LEN('BES EN'!E121)-3),\"Doelsector\")","v":"Aantal lagen van de non-GTIN pallet"}]
["ANL1150","Aantal onderliggende eenheden per laag non-GTIN pallet (quantityOfTradeItemsPerPalletLayer)","Als de leverancier verschillende pallets voor verschillende klanten gebruikt, dan moet elke soort pallet worden ge&iuml;dentificeerd met een afzonderlijke GS1 artikelcode (GTIN). Op dit specifieke niveau moet de palletinformatie worden ingevuld.\n","Het aantal artikelen in &eacute;&eacute;n laag op een pallet. Wordt alleen gebruikt als de pallet geen GS1 artikelcode (GTIN) heeft. Geeft het aantal handelseenheden aan dat volgens de voorkeuren van de leverancier of retailer in een palletlaag wordt geplaatst.\n","18\n","Als aan de pallet geen GS1 artikelcode (GTIN) is toegekend, dan voert u het aantal eenheden in waaruit een laag van de pallet bestaat.\n","Zie voor aanvullende toelichting <a href=\" https://www.gs1.nl/sectorafspraken-over-standaarden/productdata-levensmiddelen-drogisterij-agf-en-foodservice/gs1-5-7\" style=\"color:blue; text-decoration:underline\" target=\"_blank\"> https://www.gs1.nl/sectorafspraken-over-standaarden/productdata-levensmiddelen-drogisterij-agf-en-foodservice/gs1-5-7</a><br />\n<br />\nLokale in Nederland gebruikte validatieregels zijn: 500.145, 500.308, 500.311, 500.378, 500.416, 500.417\n","","Verplicht voor groente en fruit als de consumenteneenheid de hoogste eenheid binnen de hiërarchie is.","Verplicht voor groente en fruit als de handelseenheid de hoogste eenheid binnen de hiërarchie is."," ",{"$f":"IFERROR(LEFT(B122,LEN(B122)-LEN('BES EN'!E122)-3),\"Doelsector\")","v":"Aantal onderliggende eenheden per laag non-GTIN pallet"}]
["ANL1151","Non-GTIN pallethoogte (height)","Als de leverancier verschillende pallets voor verschillende klanten gebruikt, dan moet elke soort pallet worden ge&iuml;dentificeerd met een afzonderlijke GS1 artikelcode (GTIN). Op dit specifieke niveau moet de palletinformatie worden ingevuld.\n","De hoogte van de ladingeenheden, zoals gemeten volgens de &#39;Internationale Meetregels&#39;, inclusief het verzendingsplatform (tenzij dat door de gekozen code voor het type pallet is uitgesloten).\n","2400 (MMT)\n","Voer de totale hoogte van de palletconfiguratie in, inclusief het verzendingsplatform zelf. Gebruik dit alleen voor palletconfiguraties zonder GS1 artikelcode (GTIN). Vul een geldige meting in. Gebruik bij voorkeur de eenheid MMT (millimeter), afgerond naar boven (bijvoorbeeld 99,3 mm wordt afgerond naar 100 mm).\n","Zie voor aanvullende toelichting <a href=\" https://www.gs1.nl/sectorafspraken-over-standaarden/productdata-levensmiddelen-drogisterij-agf-en-foodservice/gs1-5-7\" style=\"color:blue; text-decoration:underline\" target=\"_blank\"> https://www.gs1.nl/sectorafspraken-over-standaarden/productdata-levensmiddelen-drogisterij-agf-en-foodservice/gs1-5-7</a><br />\n<br />\nLokale in Nederland gebruikte validatieregels zijn: 500.139, 500.311, 500.416, 500.417\n","","Verplicht als de consumenteneenheid de hoogste eenheid binnen de hiërarchie is.","Verplicht als de handelseenheid de hoogste eenheid binnen de hiërarchie is."," ",{"$f":"IFERROR(LEFT(B123,LEN(B123)-LEN('BES EN'!E123)-3),\"Doelsector\")","v":"Non-GTIN pallethoogte"}]
["ANL1152","Non-GTIN pallethoogte eenheid (height/@measurementUnitCode)",null,"Een gestandaardiseerde, reproduceerbare eenheid waarmee een fysieke eigenschap kan worden gemeten.","MMT","Selecteer de juiste waarde uit de codelijst ‘measurementUnitCode’.","Zie voor aanvullende toelichting <a href=\" https://www.gs1.nl/sectorafspraken-over-standaarden/productdata-levensmiddelen-drogisterij-agf-en-foodservice/gs1-5-7\" style=\"color:blue; text-decoration:underline\" target=\"_blank\"> https://www.gs1.nl/sectorafspraken-over-standaarden/productdata-levensmiddelen-drogisterij-agf-en-foodservice/gs1-5-7</a>"," ","Verplicht als het veld 'Non-GTIN pallethoogte' is ingevuld bij de consumenteneenheid.","Verplicht als het veld 'Non-GTIN pallethoogte' is ingevuld bij de handelseenheid."," ",{"$f":"IFERROR(LEFT(B124,LEN(B124)-LEN('BES EN'!E124)-3),\"Doelsector\")","v":"Non-GTIN pallethoogte eenheid"}]
["ANL1153","Non-GTIN palletbreedte (width)","Als de leverancier verschillende pallets voor verschillende klanten gebruikt, dan moet elke soort pallet worden geïdentificeerd met een afzonderlijke GS1 artikelcode (GTIN). Op dit specifieke niveau moet de palletinformatie worden ingevuld. ","De breedte van de ladingeenheden, zoals gemeten volgens de 'Internationale Meetregels', inclusief het verzendingsplatform (tenzij dat door de gekozen code voor het type platform is uitgesloten).","1500 (MMT)","Voer de totale breedte van de palletconfiguratie in, inclusief het verzendingsplatform zelf. Gebruik dit alleen voor palletconfiguraties zonder GS1 artikelcode (GTIN). Vul een geldige meting in. Gebruik bij voorkeur de eenheid MMT (millimeter), afgerond naar boven (bijvoorbeeld 99,3 mm wordt afgerond naar 100 mm).","Zie voor aanvullende toelichting <a href=\" https://www.gs1.nl/sectorafspraken-over-standaarden/productdata-levensmiddelen-drogisterij-agf-en-foodservice/gs1-5-7\" style=\"color:blue; text-decoration:underline\" target=\"_blank\"> https://www.gs1.nl/sectorafspraken-over-standaarden/productdata-levensmiddelen-drogisterij-agf-en-foodservice/gs1-5-7</a>"," ","Verplicht als de consumenteneenheid de hoogste eenheid binnen de hiërarchie is.","Verplicht als de handelseenheid de hoogste eenheid binnen de hiërarchie is."," ",{"$f":"IFERROR(LEFT(B125,LEN(B125)-LEN('BES EN'!E125)-3),\"Doelsector\")","v":"Non-GTIN palletbreedte"}]
["ANL1154","Non-GTIN palletbreedte eenheid (width/@measurementUnitCode)",null,"Een gestandaardiseerde, reproduceerbare eenheid waarmee een fysieke eigenschap kan worden gemeten.","MMT","Selecteer de juiste waarde uit de codelijst ‘measurementUnitCode’.","Zie voor aanvullende toelichting <a href=\" https://www.gs1.nl/sectorafspraken-over-standaarden/productdata-levensmiddelen-drogisterij-agf-en-foodservice/gs1-5-7\" style=\"color:blue; text-decoration:underline\" target=\"_blank\"> https://www.gs1.nl/sectorafspraken-over-standaarden/productdata-levensmiddelen-drogisterij-agf-en-foodservice/gs1-5-7</a>"," ","Verplicht als het veld 'Non-GTIN palletbreedte' is ingevuld bij de consumenteneenheid.","Verplicht als het veld 'Non-GTIN palletbreedte' is ingevuld bij de handelseenheid."," ",{"$f":"IFERROR(LEFT(B126,LEN(B126)-LEN('BES EN'!E126)-3),\"Doelsector\")","v":"Non-GTIN palletbreedte eenheid"}]
["ANL1155","Non-GTIN palletdiepte (depth)","Als de leverancier verschillende pallets voor verschillende klanten gebruikt, dan moet elke soort pallet worden geïdentificeerd met een afzonderlijke GS1 artikelcode (GTIN). Op dit specifieke niveau moet de palletinformatie worden ingevuld. ","De diepte van de ladingeenheden, zoals gemeten volgens de 'Internationale Meetregels', inclusief het verzendingsplatform  .","2000 (MMT)","Voer de totale diepte van de palletconfiguratie in, inclusief het verzendingsplatform zelf. Gebruik dit alleen voor palletconfiguraties zonder GS1 artikelcode (GTIN). Vul een geldige meting in. Gebruik bij voorkeur de eenheid MMT (millimeter), afgerond naar boven (bijvoorbeeld 99,3 mm wordt afgerond naar 100 mm). ","Zie voor aanvullende toelichting <a href=\" https://www.gs1.nl/sectorafspraken-over-standaarden/productdata-levensmiddelen-drogisterij-agf-en-foodservice/gs1-5-7\" style=\"color:blue; text-decoration:underline\" target=\"_blank\"> https://www.gs1.nl/sectorafspraken-over-standaarden/productdata-levensmiddelen-drogisterij-agf-en-foodservice/gs1-5-7</a>"," ","Verplicht als de consumenteneenheid de hoogste eenheid binnen de hiërarchie is.","Verplicht als de handelseenheid de hoogste eenheid binnen de hiërarchie is. "," ",{"$f":"IFERROR(LEFT(B127,LEN(B127)-LEN('BES EN'!E127)-3),\"Doelsector\")","v":"Non-GTIN palletdiepte"}]
["ANL1156","Non-GTIN palletdiepte eenheid (depth/@measurementUnitCode)",null,"Een gestandaardiseerde, reproduceerbare eenheid waarmee een fysieke eigenschap kan worden gemeten.","MMT","Selecteer de juiste waarde uit de codelijst ‘measurementUnitCode’.","Zie voor aanvullende toelichting <a href=\" https://www.gs1.nl/sectorafspraken-over-standaarden/productdata-levensmiddelen-drogisterij-agf-en-foodservice/gs1-5-7\" style=\"color:blue; text-decoration:underline\" target=\"_blank\"> https://www.gs1.nl/sectorafspraken-over-standaarden/productdata-levensmiddelen-drogisterij-agf-en-foodservice/gs1-5-7</a>",null,"Verplicht als het veld 'Non-GTIN palletdiepte' is ingevuld bij de consumenteneenheid.","Verplicht als het veld 'Non-GTIN palletdiepte' is ingevuld bij de handelseenheid."," ",{"$f":"IFERROR(LEFT(B128,LEN(B128)-LEN('BES EN'!E128)-3),\"Doelsector\")","v":"Non-GTIN palletdiepte eenheid"}]
["ANL1157","Non-GTIN pallet brutogewicht (grossWeight)","Als de leverancier verschillende pallets voor verschillende klanten gebruikt, dan moet elke soort pallet worden ge&iuml;dentificeerd met een afzonderlijke GS1 artikelcode (GTIN). Op dit specifieke niveau moet de palletinformatie worden ingevuld.\n","Het gewicht van zowel de ladingeenheden (inhoud) als het platform waarop de goederen worden vervoerd (indien aanwezig).\n","24 (KGM)\n","Voer het totale gewicht van de palletconfiguratie in, inclusief het verzendingsplatform zelf. Gebruik dit alleen voor palletconfiguraties zonder GS1 artikelcode (GTIN). Gebruik de meeteenheid KGM (kilogram) of GRM (gram).\n","Zie voor aanvullende toelichting <a href=\" https://www.gs1.nl/sectorafspraken-over-standaarden/productdata-levensmiddelen-drogisterij-agf-en-foodservice/gs1-5-7\" style=\"color:blue; text-decoration:underline\" target=\"_blank\"> https://www.gs1.nl/sectorafspraken-over-standaarden/productdata-levensmiddelen-drogisterij-agf-en-foodservice/gs1-5-7</a><br />\n<br />\nLokale in Nederland gebruikte validatieregels zijn: 500.137, 500.311, 500.313, 500.314, 500.416, 500.417\n","","Verplicht als de consumenteneenheid de hoogste eenheid binnen de hiërarchie is.","Verplicht als de handelseenheid de hoogste eenheid binnen de hiërarchie is."," ",{"$f":"IFERROR(LEFT(B129,LEN(B129)-LEN('BES EN'!E129)-3),\"Doelsector\")","v":"Non-GTIN pallet brutogewicht"}]
["ANL1158","Non-GTIN pallet brutogewicht eenheid (grossWeight/@measurementUnitCode)",null,"Een gestandaardiseerde, reproduceerbare eenheid waarmee een fysieke eigenschap kan worden gemeten.","KGM","Selecteer de juiste waarde uit de codelijst ‘measurementUnitCode’.","Zie voor aanvullende toelichting <a href=\" https://www.gs1.nl/sectorafspraken-over-standaarden/productdata-levensmiddelen-drogisterij-agf-en-foodservice/gs1-5-7\" style=\"color:blue; text-decoration:underline\" target=\"_blank\"> https://www.gs1.nl/sectorafspraken-over-standaarden/productdata-levensmiddelen-drogisterij-agf-en-foodservice/gs1-5-7</a><br />\n<br />\nLokale in Nederland gebruikte validatieregels zijn:<br />\n500.314",null,"Verplicht als het veld 'Non-GTIN pallet brutogewicht' is ingevuld bij de consumenteneenheid.","Verplicht als het veld 'Non-GTIN pallet brutogewicht' is ingevuld bij de handelseenheid."," ",{"$f":"IFERROR(LEFT(B130,LEN(B130)-LEN('BES EN'!E130)-3),\"Doelsector\")","v":"Non-GTIN pallet brutogewicht eenheid"}]
["ANL1159","Non-GTIN pallet stapelfactor (logisticsUnitStackingFactor)","Als de leverancier verschillende pallets voor verschillende klanten gebruikt, dan moet elke soort pallet worden geïdentificeerd met een afzonderlijke GS1 artikelcode (GTIN). Op dit specifieke niveau moet de palletinformatie worden ingevuld. ","De stapelfactor van zowel de ladingeenheden (inhoud) als het platform waarop de goederen worden vervoerd (indien aanwezig). De stapelfactor bepaalt de maximale stapelhoogte voor het artikel. Deze geeft het aantal lagen aan waarin het artikel mag worden gestapeld.","2","Voer het maximale aantal lagen in waarin het artikel kan worden gestapeld zonder dat dit schade aan het artikel toebrengt. Gebruik dit alleen voor palletconfiguraties zonder GS1 artikelcode (GTIN). ","Zie voor aanvullende toelichting <a href=\" https://www.gs1.nl/sectorafspraken-over-standaarden/productdata-levensmiddelen-drogisterij-agf-en-foodservice/gs1-5-7\" style=\"color:blue; text-decoration:underline\" target=\"_blank\"> https://www.gs1.nl/sectorafspraken-over-standaarden/productdata-levensmiddelen-drogisterij-agf-en-foodservice/gs1-5-7</a><br />\n<br />\nLokale in Nederland gebruikte validatieregels zijn:<br />\n500.285"," ","Verplicht als de consumenteneenheid de hoogste eenheid binnen de hiërarchie is. ","Verplicht als de handelseenheid de hoogste eenheid binnen de hiërarchie is."," ",{"$f":"IFERROR(LEFT(B131,LEN(B131)-LEN('BES EN'!E131)-3),\"Doelsector\")","v":"Non-GTIN pallet stapelfactor"}]
["ANL1160","Is de GTIN logistieke eenheid onregelmatig beladen? (isTradeItemPackedIrregularly)","Als hier &lsquo;TRUE&rsquo; wordt ingevoerd, dan moet de retailer het totale aantal eenheden per pallet gebruiken (en niet de vermenigvuldiging van het aantal eenheden per laag en het aantal lagen) om te bepalen hoeveel eenheden de pallet bevat.\n","Geeft aan dat het artikel onregelmatig is verpakt waardoor het niet betekenisvol is om het aantal artikelen op lager niveau in de breedte/diepte/hoogte door te geven.\n","FALSE\n","Als er een GS1 artikelcode (GTIN) is toegekend aan de palletconfiguratie en de pallet is onregelmatig beladen (bijv. een laag van zeven dozen en een volgende laag van acht dozen) om de eenheid te stabiliseren, dan kunt u dat hier aangeven. Kies &eacute;&eacute;n van de volgende waarden:<br />\n- TRUE: de pallet is onregelmatig beladen.<br />\n- FALSE: de pallet is regelmatig beladen (elke laag heeft hetzelfde aantal dozen) en het aantal lagen is overal gelijk. Voer ook het aantal dozen op een pallet in, bij &lsquo;Aantal onderliggende eenheden&rsquo;.\n","Zie voor aanvullende toelichting <a href=\" https://www.gs1.nl/sectorafspraken-over-standaarden/productdata-levensmiddelen-drogisterij-agf-en-foodservice/gs1-5-7\" style=\"color:blue; text-decoration:underline\" target=\"_blank\"> https://www.gs1.nl/sectorafspraken-over-standaarden/productdata-levensmiddelen-drogisterij-agf-en-foodservice/gs1-5-7</a> <br />\n<br /> \nLokale in Nederland gebruikte validatieregels zijn: 500.321",""," "," ","Verplicht als een pallet onregelmatig beladen is",{"$f":"IFERROR(LEFT(B132,LEN(B132)-LEN('BES EN'!E132)-3),\"Doelsector\")","v":"Is de GTIN logistieke eenheid onregelmatig beladen?"}]
["ANL1161","Is de non-GTIN logistieke eenheid onregelmatig beladen? (isNonGTINLogisticsUnitPackedIrregularly)","Als hier &lsquo;TRUE&rsquo; wordt ingevoerd, dan moet de retailer het totale aantal eenheden per pallet gebruiken (en niet de vermenigvuldiging van het aantal eenheden per laag en het aantal lagen) om te bepalen hoeveel eenheden de pallet bevat.\n","Geeft aan dat de non-GTIN logistieke eenheid onregelmatig is verpakt waardoor het niet betekenisvol is om het aantal artikelen op lager niveau in de breedte/diepte/hoogte door te geven.\n","FALSE\n","Als er geen GS1 artikelcode (GTIN) is toegekend aan de palletconfiguratie en de pallet is onregelmatig beladen (bijv. een laag van zeven dozen en een volgende laag van acht dozen) om de eenheid te stabiliseren, dan kunt u dat hier aangeven. Kies &eacute;&eacute;n van de volgende waarden:<br />\n- TRUE: de pallet is onregelmatig beladen.<br />\n- FALSE: de pallet is regelmatig beladen (elke laag heeft hetzelfde aantal dozen) en het aantal lagen is overal gelijk. Voer ook het aantal dozen op een pallet in, bij &lsquo;Aantal eenheden per non-GTIN pallet&rsquo;.\n","Zie voor aanvullende toelichting <a href=\" https://www.gs1.nl/sectorafspraken-over-standaarden/productdata-levensmiddelen-drogisterij-agf-en-foodservice/gs1-5-7\" style=\"color:blue; text-decoration:underline\" target=\"_blank\"> https://www.gs1.nl/sectorafspraken-over-standaarden/productdata-levensmiddelen-drogisterij-agf-en-foodservice/gs1-5-7</a>",""," "," "," ",{"$f":"IFERROR(LEFT(B133,LEN(B133)-LEN('BES EN'!E133)-3),\"Doelsector\")","v":"Is de non-GTIN logistieke eenheid onregelmatig beladen?"}]
["ANL1162","Gevaarlijke stoffen classificatiesysteem (dangerousGoodsRegulationCode)","Als uw product een ADR klasse heeft, vult u hier de code ‘ZCG’, ‘ZNB’ or ‘ZZZ’ in. De ADR klasse zelf, vult u dan in het veld ‘ADR klasse’ in.","Code die het classificatiesysteem voor gevaarlijke stoffen aangeeft en/of de instantie die daarvoor verantwoordelijk is.\n","ZCG\n","Is afhankelijk van het type transport. De  toegestane codes zijn ‘ZCG’ (Ja, is of bevat een gevaarlijke stof), ‘ZGE’ (Bevat gevaarlijke stoffen, maar niet van toepassing op transport), ‘ZNA’ (Bevat of is geen gevaarlijke stof), ‘ZNB’ (Bevat of is geen gevaarlijke stof, maar wel extra informatie voor transport) of ‘ZZZ’ (indien wederzijds overeengekomen wat betreft informatie over transport van gevaarlijke stoffen).\n","Lokale in Nederland gebruikte validatieregels zijn: 500.398, 500.402, 500.403, 500.404","","Verplicht als de GPC-code van uw product op de lijst ‘GPC-codes die mogelijk een gevaarlijke stof bevatten’ staat."," "," ",{"$f":"IFERROR(LEFT(B134,LEN(B134)-LEN('BES EN'!E134)-3),\"Doelsector\")","v":"Gevaarlijke stoffen classificatiesysteem"}]
["ANL1163","ADR klasse (classOfDangerousGoods)","Voor dit veld kunt u alleen kiezen uit de codes van de GDSN codelijst, alhoewel de offici&euml;le ADR subklassen uitgebreider zijn.\n","De gevarenklasse van het artikel. Er zijn negen klassen gevaarlijke stoffen, waarvan sommige verdeeld zijn in subklassen. Elke klasse bepaalt de condities voor, en aard en eigenschappen van, de goederen in het algemeen.\n","8\n","De ADR klasse bestaat uit een numerieke code voor de (hoofd-)klasse, soms gevolgd door een &#39;.&#39; en een subklasse. Kies de juiste code uit de codelijst. Voor gevaarlijke stoffen met een veiligheidsblad (SDS) moet de code overeenkomen met de ADR klasse in hoofdstuk 14 van het SDS en uit het deel komen voor ADR (wegtransport).\n","Lokale in Nederland gebruikte validatieregels zijn: 500.399, 500.400, 500.401, 500.409, 500.411\n","","Verplicht als het veld ‘Gevaarlijke stoffen classificatiesysteem’ niet is gevuld met ‘ZGE’ of ‘ZNA’."," "," ",{"$f":"IFERROR(LEFT(B135,LEN(B135)-LEN('BES EN'!E135)-3),\"Doelsector\")","v":"ADR klasse"}]
["ANL1164","Gevarentype (ADR, BRZO) (dangerousGoodsHazardousCode)","Het ADR-gevarentype wordt in combinatie met het VN-nummer (veld 'UN-nummer') voor de gevaarlijke stof op een rechthoekig oranje bordje op het voertuig vermeld. Het ADR-gevarentype staat altijd bovenaan.<br />\n<br />\nBRZO staat voor 'Besluit risico's zware ongevallen' waarmee een richtlijn over het risico van ernstige ongelukken in Nederland uit 2015 wordt bedoeld en is gebaseerd op de EU Seveso III richtlijn.","Het gevaarsidentificatienummer dat op het voertuig moet worden toegepast wanneer dit artikel (gevaarlijke stof) per weg of spoor wordt vervoerd om de politie, brandweer en anderen in geval van een ongeval te informeren over het soort gevaar dat de lading oplevert.\n","66<br />\nP5a\n","Voer een gevarentype in uit de codelijst ‘dangerousGoodsHazardousCode’. U kunt hier informatie over het ADR-gevarentype invoeren en informatie over de BRZO/Seveso gevarencategorie.<br />\n<br />\nAls u informatie invoert voor het ADR-gevarentype en u heeft een veiligheidsblad (SDS), dan moet de code overeenkomen met het gevarentype in hoofdstuk 14 van het SDS en uit het deel komen voor RID/ADR (wegtransport).<br />\n<br />\nVoor de BRZO/Seveso gevarencategorie vult u hier de gevarencategorie in die overeenkomstig is met Verordening (EG) nr. 1272/2008 (CLP).","Lokale in Nederland gebruikte validatieregels zijn: 500.399\n","","Verplicht als het veld 'ADR klasse' is gevuld met een waarde uit de reeks 1 t/m 9."," "," ",{"$f":"IFERROR(LEFT(B136,LEN(B136)-LEN('BES EN'!E136)-3),\"Doelsector\")","v":"Gevarentype (ADR, BRZO)"}]
["ANL1165","UN-nummer (unitedNationsDangerousGoodsNumber)","","Nummer van vier cijfers, door het Committee of Experts on the Transport of Dangerous Goods van de Verenigde Naties toegekend om een stof of bepaalde groep stoffen te classificeren. Afkorting: UN-nummer.\n","1079\n","Kies de juiste code uit de codelijst.<br />\nVoor gevaarlijke stoffen met een veiligheidsblad (SDS) moet de code moet overeenkomen met het UN-nummer in hoofdstuk 14 van het SDS en uit het deel komen voor ADR (wegtransport).<br />\n<br />\nVul dit veld in als het veld &#39;ADR klasse&#39; een waarde in de reeks 1 t/m 9 bevat.\n","Lokale in Nederland gebruikte validatieregels zijn: 500.400",null,"Verplicht als het veld 'ADR klasse' is gevuld met een waarde uit de reeks 1 t/m 9."," "," ",{"$f":"IFERROR(LEFT(B137,LEN(B137)-LEN('BES EN'!E137)-3),\"Doelsector\")","v":"UN-nummer"}]
["ANL1167","ADR verpakkingsgroep (dangerousGoodsPackingGroup)","Dit veld is van groot belang bij diverse activiteiten zoals bij de bepaling van de limited quantity en tunnelrestrictiecode.\n","Identificeert de mate van risico die deze gevaarlijke goederen tijdens transport met zich meebrengen volgens de regels van IATA/IMDG/ADR/RID.\n","II\n","Kies de juiste code uit de codelijst. Voor gevaarlijke stoffen met een veiligheidsblad (SDS) moet de code overeenkomen met de ADR verpakkingsgroepcode in hoofdstuk 14 van het SDS en uit het deel komen voor ADR (wegtransport).\n","<a href=\" https://www.unece.org/trans/danger/publi/adr/adr2015/15contentse.html\" style=\"color:blue; text-decoration:underline\" target=\"_blank\"> https://www.unece.org/trans/danger/publi/adr/adr2015/15contentse.html</a>\n",""," Verplicht als het veld 'ADR klasse' is gevuld met een waarde uit de reeks 1 t/m 9."," "," ",{"$f":"IFERROR(LEFT(B138,LEN(B138)-LEN('BES EN'!E138)-3),\"Doelsector\")","v":"ADR verpakkingsgroep"}]
["ANL1169","GHS-symbool (gHSSymbolDescriptionCode)","U kunt meerdere symbolen invullen, met een maximum van 9. U begint het veld met een volgnummer, beginnend met 1 (oplopend). In Annex 1 van de &#39;Globally Harmonized System of Classification and Labelling of Chemicals (GHS) fifth revised&#39; (editie 2013) staat een totaaltabel met daarin alle pictogrammen (zie onderin het veld procesbeschrijving).<br />\n<br />\nU kunt meerdere waarden kiezen.<br />\n<br />\nDit veld wordt in Nederland gecontroleerd in het kader van het datakwaliteitsprogramma.","Een code die de pictogrammen weergeeft voor risico-informatie met betrekking tot gezondheid, fysieke gevaren en milieurisico&#39;s, toegekend aan een gevarenklasse en categorie, bijv. het GHS. Tot de pictogrammen behoren geharmoniseerde gevarensymbolen en andere grafische elementen, zoals randen, achtergrondpatronen en kleuren die specifieke informatie overbrengen. Voorbeelden van alle pictogrammen en downloadbare bestanden voor GHS zijn beschikbaar op de VN-website voor het GHS.\n","CORROSION\n","Kies de juiste code uit de codelijst.<br />\nVoor gevaarlijke stoffen met een veiligheidsblad (SDS) moet de waarde overeenkomen met de waarde van de GHS-symboolcode, deze vindt u in hoofdstuk 2 of 15 van het SDS. Gebruik niet de waarde uit hoofdstuk 14, deze bevat het ADR-symbool.<br />\n<br />\nDit veld is verplicht indien het symbool op de verpakking staat vermeld.\n","<a href=\" https://www.unece.org/trans/danger/publi/ghs/pictograms.html\" style=\"color:blue; text-decoration:underline\" target=\"_blank\">https://www.unece.org/trans/danger/publi/ghs/pictograms.html</a><br />\n<br />\nLokale in Nederland gebruikte validatieregels zijn: 500.401\n","","Verplicht als er een GHS-symbool op de verpakking staat."," "," ",{"$f":"IFERROR(LEFT(B139,LEN(B139)-LEN('BES EN'!E139)-3),\"Doelsector\")","v":"GHS-symbool"}]
["ANL1170","Is artikel conform regelgeving? (isTradeItemRegulationCompliant)","Als het artikel is behandeld met biociden dan gebruikt u de waarde BIOCIDE_REGULATION (in het veld ‘Type verordening/richtlijn’) + ‘TRUE’ in dit veld.","Geeft aan of een artikel al dan niet voldoet (of moet voldoen) aan regelgeving.","TRUE","Selecteer de juiste waarde uit de codelijst.<br />\n<br />\nVul dit veld voor producten waar precursoren (grondstoffen) voor explosieven in zitten in per waarde die u bij ‘Type verordening/richtlijn’ hebt ingevuld. Kies daarbij uit ‘TRUE’ of ‘NOT_APPLICABLE’. U kiest voor ‘TRUE’ bij ‘EXPLOSIVES_PRECURSORS_REGISTRATION’ (waarde uit veld ‘Type verordening/richtlijn’) als het product stoffen bevat die in Annex I staan in EU-wetgeving 2019/1148. Bij ‘EXPLOSIVES_PRECURSORS_REPORTING’ kiest u voor ‘TRUE’ als het product stoffen bevat die in Annex II staan in EU-wetgeving 2019/1148. Voor ‘NOT_APPLICABLE’ kiest u als er geen stoffen in zitten die in Annex I of II staan in de EU-wetgeving 2019/1148.",null," "," Verplicht voor producten die precursoren voor explosieven bevatten."," "," ",{"$f":"IFERROR(LEFT(B140,LEN(B140)-LEN('BES EN'!E140)-3),\"Doelsector\")","v":"Is artikel conform regelgeving?"}]
["ANL1171","GHS-signaalwoordencode (gHSSignalWordsCode)","Gevaarlijke stoffen kunnen schadelijk zijn voor mens en/of milieu. De omschrijving van de signaalwoordencode (het signaalwoord) wordt gebruikt om aan te geven of dit artikel gevaarlijk is, met zorg moet worden behandeld of niet gevaarlijk is. U vindt deze op het etiket. Mogelijke signaalwoorden zijn 'Gevaarlijk', 'Waarschuwing' en 'Niet gevaarlijk'.<br />\n<br />\nDit veld wordt in Nederland gecontroleerd in het kader van het datakwaliteitsprogramma.","Woorden als 'Gevaar' en 'Waarschuwing' worden gebruikt om gevaren te benadrukken en de relatieve ernst van het gevaar aan te geven. Voor het GHS zijn deze toegewezen aan een GHS-gevarenklasse en -categorie. Voor sommige minder prominente gevarencategorieën worden geen signaalwoorden gebruikt.\n","DANGER\n","Kies de juiste code uit de codelijst 'GHSSignalWordsCode'. <br />\nAls er meerdere GHS-signaalwoorden zijn, kies dan voor de ernstigste. Bijvoorbeeld als er ‘gevaar’ en ‘waarschuwing’ op het etiket staat, kiest u voor de code ‘DANGER’.<br />\n<br />\nVoor gevaarlijke stoffen met een veiligheidsblad (SDS) vindt u deze in hoofdstuk 2.2 van het SDS. \n","Lokale in Nederland gebruikte validatieregels zijn: 500.401","","Verplicht als het veld ‘GHS-symbool’ of ‘ADR klasse’ is gevuld."," "," ",{"$f":"IFERROR(LEFT(B141,LEN(B141)-LEN('BES EN'!E141)-3),\"Doelsector\")","v":"GHS-signaalwoordencode"}]
["ANL1172","Gevarenaanduidingencode (Hazard) (hazardStatementsCode)","U kunt meerdere waarden kiezen.\n","Aan een gevarenklasse of -categorie zijn standaardzinnen toegekend die de aard van een gevaar omschrijven, bijvoorbeeld EUH001 of H200. Het gaat hier om consumenteninformatie op het etiket/de verpakking en op het SDS-blad uit SDS hoofdstukken 2.1 en 2.2.","EUH001<br />\nH200\n","Selecteer de juiste code uit de codelijst met H-zinnen en EUH-zinnen. Het gaat hier om H-zinnen en EUH-zinnen die als consumenteninformatie op een etiket staan en de zinnen van het SDS-blad. Ook H-zinnen en EUH-zinnen die horen bij mengsels van gevaarlijke stoffen, voert u in dit veld in. Geef in het veld ‘Is gevaarlijke stof een mengsel?’ aan of het een mengsel is.<br />\n<br />\nLet op: H- en EUH-zinnen die op het etiket/SDS-blad staan, kunnen afwijken van de officiële zinnen. Bijvoorbeeld H231 ‘Kan explosief reageren zelfs in afwezigheid van lucht bij verhoogde druk en/of temperatuur’ kan ook als ‘Kan explosief reageren zelfs in afwezigheid van lucht bij verhoogde druk’ op het etiket/SDS-blad staan. In beide gevallen voert u code H231 in dit veld in. Kies de code met de zin die het dichtst bij de zin komt die op uw etiket/SDS-blad staat. Als die zin afwijkt van de zin in de codelijst vult u de zin in zijn geheel in het veld ‘Gevarenaanduidingen (Hazard) aanvullende omschrijving’ in.<br />\nEr zijn ook H- en EUH-zinnen met  een nog in te vullen deel. Bijvoorbeeld EUH-zin 208 ‘Bevat <naam van de sensibiliserende stof>. Kan een allergische reactie veroorzaken’. U voert in dit veld de bijbehorende code in. De gehele zin (inclusief de vrij in te vullen informatie) voert u in het veld ‘Gevarenaanduidingen (Hazard) aanvullende omschrijving’ in.<br />\n<br />\nVoor gevaarlijke stoffen met een veiligheidsblad (SDS) moet de code overeenkomen met de gevarenaanduidingencode in hoofdstuk 2.1 en/of 2.2 van het SDS.<br />\n<br />\nZinnen die zowel in het SDS-blad als op het etiket/de verpakking staan neemt u eenmalig over.","Lokale in Nederland gebruikte validatieregels zijn: 500.402","","Verplicht als er een gevarenaanduiding op het etiket of in het SDS-blad staat, optioneel voor cosmetica en persoonlijke verzorgingsproducten."," "," ",{"$f":"IFERROR(LEFT(B142,LEN(B142)-LEN('BES EN'!E142)-3),\"Doelsector\")","v":"Gevarenaanduidingencode (Hazard)"}]
["ANL1173","Gevarenaanduidingen (Hazard) aanvullende omschrijving (hazardStatementsDescription)",null,"Een omschrijving van de standaardzinnen die aan een gevarenklasse of -categorie worden toegekend en de aard van een gevaar omschrijven. Het gaat hier om consumenteninformatie op het etiket/de verpakking en op het SDS-blad uit SDS hoofdstuk 2.1 en 2.2.\n","Bevat isocyanaten. Kan een allergische reactie veroorzaken.\n","Dit veld is optioneel, maar vult u verplicht in voor EUH- en H-zinnen die aanvullende omschrijvingen vragen of net wat anders op het etiket/SDS-blad staan als in de codelijst. De EUH- en H-zin vult u hier in zijn geheel in. Bijvoorbeeld: de EUH-zin 208 is 'Bevat <...>. Kan een allergische reactie veroorzaken.' U vult de gehele zin inclusief de vrij in te vullen tekst in.<br /> \nBestaat de informatie uit meerdere waarden? Vul deze dan in dit veld in, gescheiden door komma's.<br />\n<br />\nVoor gevaarlijke stoffen met een veiligheidsblad (SDS) moet de waarde overeenkomen met de aanvullende omschrijving van de gevarenaanduidingencode in hoofdstuk 2.1 en/of 2.2 van het SDS.","","","Verplicht, als de H-zin of EUH-zin die u in het veld ‘Gevarenaanduidingencode (Hazard)’ hebt ingevuld om een aanvulling vraagt."," "," ",{"$f":"IFERROR(LEFT(B143,LEN(B143)-LEN('BES EN'!E143)-3),\"Doelsector\")","v":"Gevarenaanduidingen (Hazard) aanvullende omschrijving"}]
["ANL1174","Gevarenaanduidingen (Hazard) aanvullende omschrijving taalcode (hazardStatementsDescription/@languageCode)",null,"Code die een taal specificeert. Toegestane codewaarden staan gespecificeerd in de GS1 codelijst 'LanguageCode'.","nl","Selecteer de correcte waarde uit de 'ISO 639-1 (2-alpha)' codelijst.","- Voor het terugvinden van taalcodes zie: <a href=\" http://www.loc.gov/standards/iso639-2/php/code_list.php\" style=\"color:blue; text-decoration:underline\" target=\"_blank\"> http://www.loc.gov/standards/iso639-2/php/code_list.php</a> ",null,"Verplicht als 'Gevarenaanduidingen (Hazard) - aanvullende omschrijving' is gevuld bij de consumenteneenheid.","Verplicht als 'Gevarenaanduidingen  (Hazard) - aanvullende omschrijving' is gevuld bij de handelseenheid.","Verplicht als 'Gevarenaanduidingen  (Hazard) - aanvullende omschrijving' is gevuld bij de pallet.",{"$f":"IFERROR(LEFT(B144,LEN(B144)-LEN('BES EN'!E144)-3),\"Doelsector\")","v":"Gevarenaanduidingen (Hazard) aanvullende omschrijving taalcode"}]
["ANL1175","Veiligheidsaanbevelingencode (Precautionary) (precautionaryStatementsCode)","U kunt meerdere waarden kiezen. Vul alleen de P-zinnen in die op het etiket staan.\n","Maatregelen die op het etiket van een gevaarlijk artikel staan vermeld om schadelijke effecten te minimaliseren of te voorkomen. Voor het GHS zijn de veiligheidsaanbevelingen gekoppeld aan de afzonderlijke GHS-gevarenaanduidingen en soorten gevaren. Veiligheidsaanbevelingen voor het GHS hebben betrekking op preventie, de respons bij onbedoeld morsen of blootstelling, opslag en verwijdering.\n","P340\n","Selecteer de juiste code uit de lijst met P-zinnen. <br />\n<br />\nLet op: P-zinnen die op het etiket staan, kunnen afwijken van de officiële zinnen. Bijvoorbeeld P210 ‘Verwijderd houden van warmte, hete oppervlakken, vonken, open vuur en andere ontstekingsbronnen. Niet roken’ kan ook als ‘Verwijderd houden van warmte, hete oppervlakken en andere ontstekingsbronnen. Niet roken’ op het etiket staan. In beide gevallen voert u code P210 in dit veld op. Kies de code met de zin die het dichtst bij de zin komt die bij u op het etiket staat. Als de zin op het etiket afwijkt van de zin in de codelijst vult u de zin in zijn geheel in het veld ‘Veiligheidsaanbevelingen (Precautionary) - aanvullende omschrijving’ in.<br />\nEr zijn ook P-zinnen die die een nog in te vullen deel bevatten. Bijvoorbeeld P-zin 264 ‘Na het werken met dit product … grondig wassen’. U voert in dit veld de bijbehorende code op. De gehele zin inclusief de vrij in te vullen informatie voert in het veld ‘Veiligheidsaanbevelingen (Precautionary) - aanvullende omschrijving’ op.<br />\n<br />\nVoor gevaarlijke stoffen met een veiligheidsblad (SDS) moet de code overeenkomen met de veiligheidsaanbevelingencode in hoofdstuk 2.2 van het SDS.","Lokale in Nederland gebruikte validatieregels zijn: 500.403","","Verplicht als er een veiligheidsaanbeveling op het etiket staat, optioneel voor cosmetica en persoonlijke verzorgingsproducten."," "," ",{"$f":"IFERROR(LEFT(B145,LEN(B145)-LEN('BES EN'!E145)-3),\"Doelsector\")","v":"Veiligheidsaanbevelingencode (Precautionary)"}]
["ANL1176","Veiligheidsaanbevelingen (Precautionary) - aanvullende omschrijving (precautionaryStatementsDescription)",null,"Een omschrijving van de maatregelen die op het etiket van een gevaarlijk artikel staan vermeld om schadelijke effecten te minimaliseren of te voorkomen.\n","Vochtig houden met water.\n","Dit veld is optioneel, maar vult u verplicht in voor P-zinnen die aanvullende omschrijvingen vragen of net wat anders op het etiket staan als in onze codelijst. De P-zin vult u hier in zijn geheel in. Bijvoorbeeld: de P-zin 230 is ‘Vochtig houden met...'. U vult de gehele zin inclusief de vrij in te vullen tekst in.<br />\nBestaat de informatie uit meerdere waarden? Vul deze dan in dit veld in, gescheiden door komma's.<br />\n<br />\nVoor gevaarlijke stoffen met een veiligheidsblad (SDS) moet de waarde overeenkomen met de aanvullende omschrijving veiligheidsaanbevelingencode in hoofdstuk 2.2 van het SDS.","","","Verplicht, indien de P-zin die u in het veld ‘Veiligheidsaanbevelingen (Precautionary)’ hebt ingevuld om een aanvulling vraagt."," "," ",{"$f":"IFERROR(LEFT(B146,LEN(B146)-LEN('BES EN'!E146)-3),\"Doelsector\")","v":"Veiligheidsaanbevelingen (Precautionary) - aanvullende omschrijving"}]
["ANL1177","Veiligheidsaanbevelingen (Precautionary) - aanvullende omschrijving taalcode (precautionaryStatementsDescription/@languageCode)",null,"Code die een taal specificeert. Toegestane codewaarden staan gespecificeerd in de GS1 codelijst 'LanguageCode'.","nl","Selecteer de correcte waarde uit de 'ISO 639-1 (2-alpha)' codelijst.","- Voor het terugvinden van taalcodes zie: <a href=\" http://www.loc.gov/standards/iso639-2/php/code_list.php\" style=\"color:blue; text-decoration:underline\" target=\"_blank\"> http://www.loc.gov/standards/iso639-2/php/code_list.php</a> ",null,"Verplicht als het veld 'Veiligheidsaanbevelingen (Precautionary) - aanvullende omschrijving' is ingevuld bij de consumenteneenheid.","Verplicht als het veld 'Veiligheidsaanbevelingen (Precautionary) - aanvullende omschrijving' is ingevuld bij de handelseenheid.","Verplicht als het veld 'Veiligheidsaanbevelingen (Precautionary) - aanvullende omschrijving' is ingevuld bij de pallet.",{"$f":"IFERROR(LEFT(B147,LEN(B147)-LEN('BES EN'!E147)-3),\"Doelsector\")","v":"Veiligheidsaanbevelingen (Precautionary) - aanvullende omschrijving taalcode"}]
["ANL1180","Naam certificerende instantie (certificationAgency)","","<p>Naam van de organisatie die de certificeringsnorm bepaalt of een andere vereiste waaraan moet worden voldaan. Vrij tekstveld. Voorbeeld: Europese Unie.</p>\n","<p>DNV GL Business Assurance<br />\nFAVV/AFSCA<br />\nKOAG KAG</p>\n","<p>Voer de naam van de certificeringsstandaard in zoals die op het certificaat is vermeld.<br />\n<br />\nVoor voedingssupplementen, medische hulpmiddelen&nbsp;en gezondheidsproducten voor de Nederlandse doelmarkt: het is verplicht om de vaste waarde &lsquo;KOAG KAG&rsquo; hier minstens &eacute;&eacute;n keer in te vullen als er een KOAG KAG nummer beschikbaar is op het etiket of de bijsluiter.<br />\n<br />\nVoor voedingssupplementen in de Belux is het verplicht om het NUT-nummer op te geven. Voer in dit veld als naam certificerende instantie &lsquo;FAVV/AFSCA&rsquo; in.</p>\n","","","Verplicht voor voedingssupplementen, medische hulpmiddelen en gezondheidsproducten, indien een KOAG KAG nummer beschikbaar is."," "," ",{"$f":"IFERROR(LEFT(B148,LEN(B148)-LEN('BES EN'!E148)-3),\"Doelsector\")","v":"Naam certificerende instantie"}]
["ANL1181","Certificeringsstandaard (certificationStandard)","","<p>Naam van de certificeringsstandaard. Vrije tekst. Voorbeeld: Eierclassificatie.</p>\n","<p>CSR Prestatieladder niveau 4<br />\nNUT-nummer<br />\nKAG code</p>\n","<p>Voer de naam van de certificeringsstandaard in zoals die op het certificaat is vermeld.<br />\n<br />\nVoor voedingssupplementen, medische hulpmiddelen en gezondheidsproducten voor de Nederlandse doelmarkt : het is verplicht om de vaste waarde &lsquo;KAG code&rsquo; hier minstens &eacute;&eacute;n keer in te vullen als het KOAG KAG nummer beschikbaar is.<br />\n<br />\nVoor voedingssupplementen in de Belux is het verplicht om het NUT-nummer op te geven. Voer in dit veld als certificeringsstandaard &#39;NUT-nummer&#39; in.</p>\n","","","Verplicht voor voedingssupplementen, medische hulpmiddelen en gezondheidsproducten, indien een KOAG KAG nummer beschikbaar is."," "," ",{"$f":"IFERROR(LEFT(B149,LEN(B149)-LEN('BES EN'!E149)-3),\"Doelsector\")","v":"Certificeringsstandaard"}]
["ANL1182","Certificeringsnummer (certificationValue)","KOAG KAG nummer: data-afnemers zien aan dit nummer of het etiket is goedgekeurd door de KOAG KAG. Dat gebruiken zij als input voor op hun website.<br />\n<br />\nDit veld wordt in Nederland gecontroleerd in het kader van het datakwaliteitsprogramma.","Het nummer dat voor dit artikel is uitgegeven door de certificerende instantie.\n","4233-1120-0001<br />\nVALID\n","Neem het certificaatnummer van dit artikel over.<br />\n<br />\nVoor voedingssupplementen, medische hulpmiddelen en gezondheidsproducten voor de Nederlandse doelmarkt : u vult hier verplicht het KOAG KAG nummer van het artikel in als dit beschikbaar is op het etiket of de bijsluiter.<br />\n<br />\nVoor voedingssupplementen in de Belux geeft u verplicht het NUT-nummer op, vul dit nummer in dit veld in.<br />\n<br />\nLet op: vul hier alleen de vaste waarde &#39;VALID&#39; in voor AGF-producten.","Lokale in Nederland gebruikte validatieregels zijn: 500.220, 500.425","","Verplicht voor voedingssupplementen, medische hulpmiddelen en gezondheidsproducten, indien beschikbaar."," "," ",{"$f":"IFERROR(LEFT(B150,LEN(B150)-LEN('BES EN'!E150)-3),\"Doelsector\")","v":"Certificeringsnummer"}]
["ANL1183","Einddatum certificaat (certificationEffectiveEndDateTime)","Alleen invullen als het relevant is.","De datum en tijd vanaf dat de certificatie niet meer geldig is.","2016-05-31T08:00:00 (yyyy-mm-ddThh:mi:ss)","Voer de datum en tijd in tot wanneer een certificaat geldig is. ",null," "," "," "," ",{"$f":"IFERROR(LEFT(B151,LEN(B151)-LEN('BES EN'!E151)-3),\"Doelsector\")","v":"Einddatum certificaat"}]
["ANL1184","Wettelijke benaming (regulatedProductName)","Diervoeding (uit 767/2009): In de wettelijke benaming moet altijd &eacute;&eacute;n van de volgende begrippen voorkomen: &#39;voedermiddel&#39;, &#39;volledig diervoeder&#39;, &#39;aanvullend diervoeder&#39;, &#39;volledige melkvervanger&#39;, &#39;mineraalvoeder&#39;, &#39;aanvullende melkvervanger&#39;, &#39;mengvoeder&#39;, &#39;samengesteld voeder&#39;. Ondanks dat het soort diervoeder, het soort dier en in sommige gevallen de levensfase onderdeel zijn van de wettelijke benaming, vult u deze informatie ook in de velden &#39;Soort diervoeder&#39;, &#39;Soort dier&#39; en &#39;Leeftijd dier&#39; in. Met deze informatie kunnen retailers filters aanmaken, bijvoorbeeld voor informatie op websites.<br />\n<br />\nDit veld wordt in Nederland gecontroleerd in het kader van het datakwaliteitsprogramma.","De voorgeschreven, gereguleerde of generieke naam of aanduiding van het artikel die het voedingsproduct nauwkeurig genoeg omschrijft om het te kunnen onderscheiden van andere voedingsproducten, conform nationale richtlijnen.\n","Voedingsmiddelen:<br />\nVruchtendrank uit geconcentreerd vruchtensap<br />\nBiologische eieren kwaliteitsklasse A<br />\nScharrelkip binnen gehouden<br />\n<br />\nDrogisterij:<br />\nVoedingssupplement<br />\nVoedingssupplement met suiker en zoetstoffen<br />\n<br />\nDiervoeding:<br />\nVolledig diervoeder voor oudere honden van grote rassen (gewicht van 25 tot 45 kg) - vanaf 5 jaar<br />\nVolledig diervoeder voor cavia&#39;s - Ge&euml;xtrudeerde brokjes<br />\nAanvullende voeding voor honden\n","Voer de wettelijke benaming van het artikel in, zoals vermeld op het etiket. Toevoegingen zoals &#39;met zoetstoffen&#39;, &#39;met suiker(s) en zoetstoffen&#39;, &#39;bereid met ...g vruchten per 100 g&#39;, &#39;totaal gehalte aan suikers ...g per 100g&#39;, percentage vetvrije stof zijn onderdeel van de wettelijke benaming en vult u ook in. Zie hiervoor ook bijlages III (voor de achtergrond van de genoemde voorbeelden) &amp; VI (voor andere toevoegingen) van &#39;Verordening 1169/2011&#39;.<br />\n<br />\nVoor voedingssupplementen vult u in ieder geval &#39;Voedingssupplement&#39; in. Daarnaast kan een aanduiding van de categorie nutri&euml;nten ook onderdeel zijn van de wettelijke benaming voor voedingssupplementen. Bijvoorbeeld: vitamines, mineralen, aminozuren, vetzuren of kruidenpreparaat.<br />\n<br />\nVoor Belgi&euml; zijn Nederlands en Frans verplicht; voor Luxemburg Duits en Frans.<br />\n<br />\nVoor diervoeding geldt &#39;Verordening 767/2009&#39;. Om hieraan te voldoen vult u de offici&euml;le, wettelijke naam in zoals deze op de verpakking voorkomt. De wettelijke naam bevat informatie over het soort diervoeder, het soort dier en in sommige gevallen de levensfase van het dier waarvoor het voedsel is bedoeld. In het document met toelichtingen (zie de link in Procesbeschrijving naar het document) vindt u een voorbeeldetiket.\n","Zie voor aanvullende toelichting <a href=\" https://www.gs1.nl/sectorafspraken-over-standaarden/productdata-levensmiddelen-drogisterij-agf-en-foodservice/gs1-5-7\" style=\"color:blue; text-decoration:underline\" target=\"_blank\"> https://www.gs1.nl/sectorafspraken-over-standaarden/productdata-levensmiddelen-drogisterij-agf-en-foodservice/gs1-5-7</a><br />\n<br />\nLokale in Nederland gebruikte validatieregels zijn: 500.173, 500.215, 500.220, 500.222, 500.230, 500.276, 500.45, 500.349\n","","Verplicht voor voedingsmiddelen, voedingssupplementen, bijzondere voedingsmiddelen en diervoeding indien het op het etiket staat."," "," ",{"$f":"IFERROR(LEFT(B152,LEN(B152)-LEN('BES EN'!E152)-3),\"Doelsector\")","v":"Wettelijke benaming"}]
["ANL1185","Wettelijke benaming taalcode (regulatedProductName/@languageCode)","Dit veld wordt in Nederland gecontroleerd in het kader van het datakwaliteitsprogramma.","Code die een taal specificeert. Toegestane codewaarden staan gespecificeerd in de GS1 codelijst 'LanguageCode'.","nl<br />\nfr","Selecteer de correcte waarde uit de 'ISO 639-1 (2-alpha)' codelijst.","- Voor het terugvinden van taalcodes zie: <a href=\" http://www.loc.gov/standards/iso639-2/php/code_list.php\" style=\"color:blue; text-decoration:underline\" target=\"_blank\"> http://www.loc.gov/standards/iso639-2/php/code_list.php</a> ",null,"Verplicht als het veld ‘Wettelijke benaming’ is ingevuld bij de consumenteneenheid.","Verplicht als het veld ‘Wettelijke benaming’ is ingevuld bij de handelseenheid.","Verplicht als het veld ‘Wettelijke benaming’ is ingevuld bij de pallet.",{"$f":"IFERROR(LEFT(B153,LEN(B153)-LEN('BES EN'!E153)-3),\"Doelsector\")","v":"Wettelijke benaming taalcode"}]
["ANL1186","Contactnaam (contactName)","Voor diervoeding: de naam van de exploitant van het diervoederbedrijf kan de naam van de merkeigenaar en/of producent zijn, maar het kan ook de naam van de distributeur/importeur zijn.<br />\n<br />\nDit veld wordt in Nederland gecontroleerd in het kader van het datakwaliteitsprogramma.\n","De naam van het bedrijf of de persoon behorend bij het communicatieadres. ","Class Import B.V.<br />\nHaw Par Healthcare Ltd.<br />\nNestl&eacute; Belgilux SA/NV<br />\nJumbo Consumentenservice<br />\nContact Bonduelle<br />\nHero Klantenservice\n","Voer de naam in die meestal op het etiket staat als contact voor consumenten (vaak te vinden onder ‘Bij vragen over dit product…’). Als u dit veld invult, dan moet u ook het veld ‘Soort lokaal contact’ invullen. Gebruik 'CXC' als bijbehorende ’Soort lokaal contact’.<br />\n<br />\nDiervoeding: vul de naam van de exploitant van het diervoederbedrijf in zoals die meestal op het etiket staat.<br />\n<br />\nDetergenten: Vul hier de naam in van de partij die verantwoordelijk is voor het product.","Zie website: <a href=\" https://www.gs1.nl/sectorafspraken-over-standaarden/productdata-levensmiddelen-drogisterij-agf-en-foodservice/gs1-5-7\" style=\"color:blue; text-decoration:underline\" target=\"_blank\"> https://www.gs1.nl/sectorafspraken-over-standaarden/productdata-levensmiddelen-drogisterij-agf-en-foodservice/gs1-5-7</a><br />\n<br />\nLokale in Nederland gebruikte validatieregels zijn: 500.172, 500.346, 500.374\n","","Verplicht als de naam van het contact op het etiket staat en/of om wettelijke redenen vereist is (bijv. EU/1169)."," "," ",{"$f":"IFERROR(LEFT(B154,LEN(B154)-LEN('BES EN'!E154)-3),\"Doelsector\")","v":"Contactnaam"}]
["ANL1187","Communicatieadres (contactAddress)","Dit veld wordt in Nederland gecontroleerd in het kader van het datakwaliteitsprogramma.\n","Het adres dat hoort bij het type contact. Dit kan bijvoorbeeld bij een contactpersoon voor consumenten het volledige bedrijfsadres zijn, zoals vermeld op de verpakking of het etiket van het artikel.\n","Informatieweg 6, 1234 AB Haarlem<br />\n401 Commonwealth Drive, Singapore 149598<br />\nRue de Birmingham 221, Bruxelles B-1070 Brussel\n","Voer het communicatieadres voor consumenten in, zoals dat meestal op het etiket is vermeld. Als er meerdere adressen zijn, dan voert u ten minste het relevante adres (of adressen) in voor de doelmarkt en/of consumenten. De andere adressen mogen ook worden ingevuld, maar dat is niet verplicht.<br />\nStaat er geen adres op het etiket? Dan is het toegestaan om bijvoorbeeld de website in te vullen, als deze is vermeld.<br />\nAls u dit veld invult, vul dan ook het veld 'Soort lokaal contact' in.<br />\n<br />\nVoor diervoeding: vul hier het volledig bedrijfsadres in van de exploitant, zoals deze meestal is weergegeven op de verpakking of het etiket.<br />\n<br />\nVoor detergenten: Vul hier het adres in van de partij die verantwoordelijk is voor het product.","Zie voor aanvullende toelichting <a href=\" https://www.gs1.nl/sectorafspraken-over-standaarden/productdata-levensmiddelen-drogisterij-agf-en-foodservice/gs1-5-7\" style=\"color:blue; text-decoration:underline\" target=\"_blank\"> https://www.gs1.nl/sectorafspraken-over-standaarden/productdata-levensmiddelen-drogisterij-agf-en-foodservice/gs1-5-7</a><br />\n<br />\nLokale in Nederland gebruikte validatieregels zijn: 500.230, 500.346, 500.374\n","","Verplicht als het communicatieadres op het etiket staat en/of om wettelijke redenen vereist is (bijv. EU/1169). "," "," ",{"$f":"IFERROR(LEFT(B155,LEN(B155)-LEN('BES EN'!E155)-3),\"Doelsector\")","v":"Communicatieadres"}]
["ANL1188","Soort lokaal contact (contactTypeCode)","Dit veld kan meerdere keren worden gebruikt.<br />\n<br />\nDit veld wordt in Nederland gecontroleerd in het kader van het datakwaliteitsprogramma.\n","De generieke categorie van een contactpersoon of partij voor een artikel, bijv. &#39;Inkoop&#39;.\n","CXC\n","U kunt dit veld op twee manieren gebruiken:<br />\n1. Als op het etiket contactgegevens voorkomen, dan moet u altijd in dit veld de vaste waarde &#39;CXC&#39; (consumer support) invullen. Dit is de partij die productondersteuning aan de eindgebruiker van een artikel of service biedt. Vul vervolgens een of meerdere van de velden &#39;Contactnaam&#39;, &#39;Communicatieadres&#39;, &#39;Type communicatiekanaal&#39; en &#39;Gegevens communicatiekanaal&#39; in.<br />\n2. Als de GS1 locatiecode (GLN) van de dataleverancier anders is dan degene van de partij die verantwoordelijk is voor het artikel in de doelmarkt, dan vult u in dit veld de waarde &#39;BZL&#39; (Licentiehouder) in. Vul ook het veld &#39;GS1 locatiecode (GLN) lokaal contact&#39; in.\n","Zie voor aanvullende toelichting <a href=\" https://www.gs1.nl/sectorafspraken-over-standaarden/productdata-levensmiddelen-drogisterij-agf-en-foodservice/gs1-5-7\" style=\"color:blue; text-decoration:underline\" target=\"_blank\"> https://www.gs1.nl/sectorafspraken-over-standaarden/productdata-levensmiddelen-drogisterij-agf-en-foodservice/gs1-5-7</a> <br />\n<br />\nLokale in Nederland gebruikte validatieregels zijn: 500.172, 500.230, 500.374\n","","Verplicht als de velden ‘Contactnaam’ en/of 'Communicatieadres' zijn ingevuld bij de consumenteneenheid.","Verplicht als de velden ‘Contactnaam’ en/of 'Communicatieadres' zijn ingevuld bij de handelseenheid.","Verplicht als de velden ‘Contactnaam’ en/of 'Communicatieadres' zijn ingevuld bij de pallet.",{"$f":"IFERROR(LEFT(B156,LEN(B156)-LEN('BES EN'!E156)-3),\"Doelsector\")","v":"Soort lokaal contact"}]
["ANL1189","Type communicatiekanaal (communicationChannelCode)","Als u dit veld invult, vul dan ook het veld &lsquo;Gegevens communicatiekanaal&rsquo; in.<br />\n<br />\nDit veld wordt in Nederland gecontroleerd in het kader van het datakwaliteitsprogramma.\n","Code die het type communicatiekanaal aangeeft, bijvoorbeeld TELEPHONE.\n","WEBSITE\n","Als er een e-mailadres, website, faxnummer of telefoonnummer op de verpakking staat vermeld, voert u hier het type communicatiekanaal in. Gebruik de codelijst &lsquo;communicationChannelCode&rsquo;.<br />\nDeze informatie is optioneel, als aanvulling op de contactnaam en het communicatieadres.","Zie voor aanvullende toelichting: <a href=\" https://www.gs1.nl/sectorafspraken-over-standaarden/productdata-levensmiddelen-drogisterij-agf-en-foodservice/gs1-5-7\" style=\"color:blue; text-decoration:underline\" target=\"_blank\"> https://www.gs1.nl/sectorafspraken-over-standaarden/productdata-levensmiddelen-drogisterij-agf-en-foodservice/gs1-5-7</a><br />\n<br />\nLokale in Nederland gebruikte validatieregels zijn: 500.374\n","","Verplicht als het veld ‘Gegevens communicatiekanaal’ is ingevuld bij de consumenteneenheid."," "," ",{"$f":"IFERROR(LEFT(B157,LEN(B157)-LEN('BES EN'!E157)-3),\"Doelsector\")","v":"Type communicatiekanaal"}]
["ANL1190","Gegevens communicatiekanaal (communicationValue)","Als u dit veld invult, vul dan ook het veld &lsquo;Type communicatiekanaal&rsquo; in.<br />\n<br />\nDit veld wordt in Nederland gecontroleerd in het kader van het datakwaliteitsprogramma.\n","Tekst die die de gegevens van het communicatiekanaal aangeeft, bijvoorbeeld een telefoonnummer of e-mailadres.\n","www.gs1.nl\n","Als er een e-mailadres, website, faxnummer of telefoonnummer op de verpakking staat vermeld, voert u dat hier in. U kunt slechts &eacute;&eacute;n gegeven invullen. Staan er meerdere gegevens op de verpakking, bijvoorbeeld telefoonnummer en e-mailadres of 2 e-mailadressen, dan moet u dit veld herhalen.<br />\nDeze informatie is optioneel (behalve voor de genoemde productgroepen hieronder), als aanvulling op de contactnaam en het communicatieadres.<br />\n<br />\nVoor diervoeding: vul hier het gratis telefoonnummer, een e-mailadres of andere communicatiemiddel in dat de consument kan gebruiken om aanvullende informatie over het product te krijgen.<br />\n<br />\nVoor detergenten: Vul telefoonnummer(s) en website(s) in die betrekking hebben op de leverancier en op het product, zoals het op de verpakking staat. Websites die verwijzen naar keurmerken vult u niet hier in.","Lokale in Nederland gebruikte validatieregels zijn: 500.374\n","","Verplicht voor diervoeding en detergenten indien op etiket/verpakkking"," "," ",{"$f":"IFERROR(LEFT(B158,LEN(B158)-LEN('BES EN'!E158)-3),\"Doelsector\")","v":"Gegevens communicatiekanaal"}]
["ANL1191","Verplichte vermeldingen (compulsoryAdditiveLabelInformation)","In dit veld mogen ook disclaimers (juridische vrijwaringen van aansprakelijkheid of garantie) worden ingevuld. Bijvoorbeeld: Firma de Noorderzon is niet aansprakelijk voor enige schade ten gevolge van het onjuist interpreteren van deze tekst.<br />\n<br />\nVoor geneesmiddelen, medische hulpmiddelen en gezondheidsproducten geldt: neem waarschuwingen op in het veld &#39;Waarschuwingen en gebruiksbeperkingen&#39;.<br />\n<br />\nDit veld wordt in Nederland gecontroleerd in het kader van het datakwaliteitsprogramma.\n","Een omschrijving van alle vanuit de wet verplichte vermeldingen op het artikel.\n","Voedingsmiddelen:<br />\nVerpakt onder beschermende atmosfeer.<br />\n<br />\nDrogisterij:<br />\nLees voor gebruik de bijgevoegde gebruiksaanwijzing.<br />\nLees voor gebruik de bijsluiter.<br />\nEen gezonde levensstijl is belangrijk, evenals een gevarieerde, evenwichtige voeding waarvoor voedingssupplementen geen vervanging zijn (verplichte vermelding voor voedingssupplementen).<br />\nBuiten het bereik en zicht van kinderen bewaren (GEEN verplichte vermelding voor &#39;bijzondere voedingsmiddelen&#39;, voor dat type product is deze zin een bewaarinstructie)\n","Voer de algemene verplichte vermeldingen in, zoals deze zijn aangegeven in de wetgeving voor het product (zie voor een overzicht van deze vermeldingen de link in Procesbeschrijving naar het document Toelichting). Kwalificaties als &#39;met zoetstoffen&#39; of &#39;met suiker(s) en zoetstoffen&#39; zijn onderdeel van de &#39;Wettelijke benaming&#39;.<br />\nDe informatie in dit veld moet in dezelfde talen als op het productetiket worden ingevuld.","Zie voor aanvullende toelichting <a href=\" https://www.gs1.nl/sectorafspraken-over-standaarden/productdata-levensmiddelen-drogisterij-agf-en-foodservice/gs1-5-7\" style=\"color:blue; text-decoration:underline\" target=\"_blank\"> https://www.gs1.nl/sectorafspraken-over-standaarden/productdata-levensmiddelen-drogisterij-agf-en-foodservice/gs1-5-7</a> <br />\n<br />\nLokale in Nederland gebruikte validatieregels zijn: 500.203, 500.211, 500.215\n","","Verplicht indien het op het etiket staat."," "," ",{"$f":"IFERROR(LEFT(B159,LEN(B159)-LEN('BES EN'!E159)-3),\"Doelsector\")","v":"Verplichte vermeldingen"}]
["ANL1192","Verplichte vermeldingen taalcode (compulsoryAdditiveLabelInformation/@languageCode)","Dit veld wordt in Nederland gecontroleerd in het kader van het datakwaliteitsprogramma.","Code die een taal specificeert. Toegestane codewaarden staan gespecificeerd in de GS1 codelijst 'LanguageCode'.","nl","Selecteer de correcte waarde uit de 'ISO 639-1 (2-alpha)' codelijst.","Zie voor aanvullende toelichting <a href=\" https://www.gs1.nl/sectorafspraken-over-standaarden/productdata-levensmiddelen-drogisterij-agf-en-foodservice/gs1-5-7\" style=\"color:blue; text-decoration:underline\" target=\"_blank\"> https://www.gs1.nl/sectorafspraken-over-standaarden/productdata-levensmiddelen-drogisterij-agf-en-foodservice/gs1-5-7</a> <br />\n<br />\n- Voor het terugvinden van taalcodes zie: <a href=\" http://www.loc.gov/standards/iso639-2/php/code_list.php\" style=\"color:blue; text-decoration:underline\" target=\"_blank\"> http://www.loc.gov/standards/iso639-2/php/code_list.php</a> ",null,"Verplicht als het veld ‘Verplichte vermeldingen’ is ingevuld bij de consumenteneenheid.","Verplicht als het veld ‘Verplichte vermeldingen’ is ingevuld bij de handelseenheid.","Verplicht als het veld ‘Verplichte vermeldingen’ is ingevuld bij de pallet.",{"$f":"IFERROR(LEFT(B160,LEN(B160)-LEN('BES EN'!E160)-3),\"Doelsector\")","v":"Verplichte vermeldingen taalcode"}]
["ANL1193","Specificatie van de inhoud (netContentStatement)","Dit veld wordt in Nederland gecontroleerd in het kader van het datakwaliteitsprogramma.\n","De letterlijke weergave van de netto inhoud(en) zoals op de verpakking staat.\n","4x50g<br />\n4x5 stuks<br />\n1x40g, 1x30g, 1x75g\n","Gebruik dit veld voor informatie over de netto-inhoud die u niet in het veld ‘Netto-inhoud’ kwijt kunt. Dit vult u minimaal in voor verpakte artikelen die bestaan uit twee of meer consumenteenheden met dezelfde hoeveelheid (multi-packs). U vult ook de vermelde specificatie van de inhoud van andere samengestelde artikelen in (zie de link in Procesbeschrijving naar het document Toelichting voor de definitie van samengestelde artikelen).","Zie voor aanvullende toelichting <a href=\" https://www.gs1.nl/sectorafspraken-over-standaarden/productdata-levensmiddelen-drogisterij-agf-en-foodservice/gs1-5-7\" style=\"color:blue; text-decoration:underline\" target=\"_blank\"> https://www.gs1.nl/sectorafspraken-over-standaarden/productdata-levensmiddelen-drogisterij-agf-en-foodservice/gs1-5-7</a>","","Verplicht, als het niet mogelijk is om de netto-inhoud van een product in te voeren in het veld netto-inhoud. Moet worden verstrekt voor multipacks.",""," ",{"$f":"IFERROR(LEFT(B161,LEN(B161)-LEN('BES EN'!E161)-3),\"Doelsector\")","v":"Specificatie van de inhoud"}]
["ANL1194","Specificatie van de inhoud taalcode (netContentStatement/@languageCode)","Dit veld wordt in Nederland gecontroleerd in het kader van het datakwaliteitsprogramma.","Code die een taal specificeert. Toegestane codewaarden staan gespecificeerd in de GS1 codelijst 'LanguageCode'.","nl<br />\nfr","Selecteer de correcte waarde uit de 'ISO 639-1 (2-alpha)' codelijst.","Zie voor aanvullende toelichting <a href=\" https://www.gs1.nl/sectorafspraken-over-standaarden/productdata-levensmiddelen-drogisterij-agf-en-foodservice/gs1-5-7\" style=\"color:blue; text-decoration:underline\" target=\"_blank\"> https://www.gs1.nl/sectorafspraken-over-standaarden/productdata-levensmiddelen-drogisterij-agf-en-foodservice/gs1-5-7</a> <br />\n<br />\n- Voor het terugvinden van taalcodes zie: <a href=\" http://www.loc.gov/standards/iso639-2/php/code_list.php\" style=\"color:blue; text-decoration:underline\" target=\"_blank\"> http://www.loc.gov/standards/iso639-2/php/code_list.php</a> ",null,"Verplicht als het veld ‘Specificatie van de inhoud’ is ingevuld bij de consumenteneenheid.","Verplicht als het veld ‘Specificatie van de inhoud’ is ingevuld bij de handelseenheid.","Verplicht als het veld ‘Specificatie van de inhoud’ is ingevuld bij de pallet.",{"$f":"IFERROR(LEFT(B162,LEN(B162)-LEN('BES EN'!E162)-3),\"Doelsector\")","v":"Specificatie van de inhoud taalcode"}]
["ANL1195","Groottebeschrijving (AGF) (descriptiveSize)","","Een beschrijving van het formaat van het product die de merkhouder wil doorgeven aan consumenten.\n","Voor appels: 70-80 mm, 100-120 g\n","Aardappelen, groenten en fruit (AGF): gebruik dit veld om de grootte van AGF-producten te omschrijven. U vult de &lsquo;grootte&rsquo; in als dit volgens wetgeving verplicht is. EU-verordening 543/2011 bevat voor een aantal AGF-producten richtlijnen voor formaten.<br />\nVoor alle andere AGF-producten gebruikt u de &rsquo;Agricultural Quality Standards&rsquo; UNECE/FFV of UNECE/DDP. Afhankelijk van het type artikel kunnen er andere standaarden van toepassing zijn. Voor elk handelsartikel geeft de website van UNECE &lsquo;bepalingen voor dimensionering&rsquo;.","","","Verplicht als het product valt in de categorie groente en fruit.","Verplicht als het product valt in de categorie groente en fruit.","",{"$f":"IFERROR(LEFT(B163,LEN(B163)-LEN('BES EN'!E163)-3),\"Doelsector\")","v":"Groottebeschrijving (AGF)"}]
["ANL1196","Groottebeschrijving (AGF) taalcode (descriptiveSize/@languageCode)",null,"Code die een taal specificeert. Toegestane codewaarden staan gespecificeerd in de GS1 codelijst 'LanguageCode'.","nl","Selecteer de correcte waarde uit de 'ISO 639-1 (2-alpha)' codelijst.","Zie voor aanvullende toelichting <a href=\" https://www.gs1.nl/sectorafspraken-over-standaarden/productdata-levensmiddelen-drogisterij-agf-en-foodservice/gs1-5-7\" style=\"color:blue; text-decoration:underline\" target=\"_blank\"> https://www.gs1.nl/sectorafspraken-over-standaarden/productdata-levensmiddelen-drogisterij-agf-en-foodservice/gs1-5-7</a> <br />\n<br />\n- Voor het terugvinden van taalcodes zie: <a href=\" http://www.loc.gov/standards/iso639-2/php/code_list.php\" style=\"color:blue; text-decoration:underline\" target=\"_blank\"> http://www.loc.gov/standards/iso639-2/php/code_list.php</a> ",null,"Verplicht als het veld ‘Groottebeschrijving (AGF)’ is ingevuld bij de consumenteneenheid.","Verplicht als het veld ‘Groottebeschrijving (AGF)’ is ingevuld bij de handelseenheid.","Verplicht als het veld ‘Groottebeschrijving (AGF)’ is ingevuld bij de pallet.",{"$f":"IFERROR(LEFT(B164,LEN(B164)-LEN('BES EN'!E164)-3),\"Doelsector\")","v":"Groottebeschrijving (AGF) taalcode"}]
["ANL1197","Standaard portiegrootte (OUD) (servingSizeDescription)","Dit veld vervalt vanaf mei 2020. Tot die tijd zet u artikelgegevens van al gepubliceerde artikelen om naar het veld 'Standaard portiegrootte (NIEUW)', het veld 'Referentie portiegrootte ' of naar het veld 'Gebruiksinstructies' (zie instructie van de respectievelijke velden). Vul dit veld in dezelfde talen in als op het etiket staan.\n","Een vrij tekstveld waarin de portiegrootte wordt opgegeven waarvoor de voedingswaarden zijn vermeld, bijv.: per 1/3 kop (42 g).\n","1 portie is 18 gram<br />\n1 biscuit<br />\nSnickers\n","Vul dit veld bij voorkeur vanaf mei 2019 niet meer in voor nieuwe producten. In plaats daarvan kunt u gebruikmaken van het veld 'Standaard portiegrootte (NIEUW)' of 'Referentie portiegrootte (NIEUW)' (zie instructies van de respectievelijke velden). Als er naast de referentie portiegrootte (zie veld 'Referentie portiegrootte (OUD)') ook nutriënten per portie in de voedingswaardetabel op het etiket staan, en de portie staat in tekst uitgeschreven (bijv. 1 portie is 33,3 g) vul dan de bijbehorende portiegrootte hier in tekst in. Dit veld vult u NIET in als de portie alleen staat aangeduid in de voedingswaardetabel met een getal en meeteenheid (bijvoorbeeld 30 gram). Dan vult u de waarde in 'Referentie portiegrootte (OUD)' in. Als er geen nutriënten per portie op het etiket staan, maar wel een tekst met daarin een standaard portiegrootte, dan vult u die tekst in het veld 'Gebruiksinstructies' in.\n","","","Verplicht voor voedingsmiddelen, voedingssupplementen en bijzondere voedingsmiddelen indien het op het etiket staat."," "," ",{"$f":"IFERROR(LEFT(B165,LEN(B165)-LEN('BES EN'!E165)-3),\"Doelsector\")","v":"Standaard portiegrootte (OUD)"}]
["ANL1198","Standaard portiegrootte taalcode (servingSizeDescription/@languageCode)","Dit veld wordt in Nederland gecontroleerd in het kader van het datakwaliteitsprogramma.\n","Code die een taal specificeert. Toegestane codewaarden staan gespecificeerd in de GS1 codelijst 'LanguageCode'.\n","nl\n","Selecteer de correcte waarde uit de 'ISO 639-1 (2-alpha)' codelijst.\n","Zie voor aanvullende toelichting <a href=\" https://www.gs1.nl/sectorafspraken-over-standaarden/productdata-levensmiddelen-drogisterij-agf-en-foodservice/gs1-5-7\" style=\"color:blue; text-decoration:underline\" target=\"_blank\"> https://www.gs1.nl/sectorafspraken-over-standaarden/productdata-levensmiddelen-drogisterij-agf-en-foodservice/gs1-5-7</a> <br />\n<br />\n- Voor het terugvinden van taalcodes zie: <a href=\" http://www.loc.gov/standards/iso639-2/php/code_list.php\" style=\"color:blue; text-decoration:underline\" target=\"_blank\"> http://www.loc.gov/standards/iso639-2/php/code_list.php</a> \n",null,"Verplicht als het veld ‘Standaard portiegrootte (OUD)’ is ingevuld bij de consumenteneenheid.","Verplicht als het veld ‘Standaard portiegrootte (OUD)’ is ingevuld bij de handelseenheid.","Verplicht als het veld ‘Standaard portiegrootte (OUD)’ is ingevuld bij de pallet.",{"$f":"IFERROR(LEFT(B166,LEN(B166)-LEN('BES EN'!E166)-3),\"Doelsector\")","v":"Standaard portiegrootte taalcode"}]
["ANL1199","Aantal porties per verpakking (numberOfServingsPerPackage)","Dit veld wordt in Nederland gecontroleerd in het kader van het datakwaliteitsprogramma.\n","Het totale aantal porties in het product zoals weergegeven op de verpakking.","4<br />\n4,5\n","Als op het etiket het aantal porties in de verpakking staat, dan is het verplicht om dat aantal hier in te vullen. U vult hier alleen het aantal porties in dat hoort bij het verpakkingsniveau (GTIN) waarvoor u het aantal invoert. Als op het etiket een minimum en maximum aantal porties staat aangegeven, dan gebruikt u de velden 'Minimum aantal porties per verpakking' en 'Maximum aantal porties per verpakking', en laat u dit veld leeg.","Lokale in Nederland gebruikte validatieregels zijn: 500.179, 500.180\n","","Verplicht voor voedingsmiddelen, voedingssupplementen en bijzondere voedingsmiddelen indien het op het etiket staat."," "," ",{"$f":"IFERROR(LEFT(B167,LEN(B167)-LEN('BES EN'!E167)-3),\"Doelsector\")","v":"Aantal porties per verpakking"}]
["ANL1200","Minimum aantal porties per verpakking (numberOfSmallestUnitsPerPackage)","Dit veld wordt in Nederland gecontroleerd in het kader van het datakwaliteitsprogramma.","Het minimum aantal dat uit de verpakking gehaald kan worden. Dit veld moet worden gebruikt in combinatie met het veld ‘Maximum aantal porties per verpakking’ om een minimum en maximum aantal porties per verpakking aan te geven.","4","Als op de verpakking geen exact aantal porties staat vermeld, maar een minimum en een maximum aantal (bijv. 4-6 porties), dan gebruikt u dit veld in combinatie met 'Maximum aantal porties per verpakking'. Voer hier het kleinste aantal in. Dit veld kan niet gevuld worden in combinatie met het veld ‘Aantal porties verpakking’. ","Lokale in Nederland gebruikte validatieregels zijn: 500.180, 500.316"," ","Verplicht voor voedingsmiddelen, voedingssupplementen en bijzondere voedingsmiddelen indien het op het etiket staat."," "," ",{"$f":"IFERROR(LEFT(B168,LEN(B168)-LEN('BES EN'!E168)-3),\"Doelsector\")","v":"Minimum aantal porties per verpakking"}]
["ANL1201","Maximum aantal porties per verpakking (maximumNumberOfSmallestUnitsPerPackage)","Dit veld wordt in Nederland gecontroleerd in het kader van het datakwaliteitsprogramma.","Het maximum aantal dat uit de verpakking gehaald kan worden. Dit veld moet worden gebruikt in combinatie met het veld ‘Minimum aantal porties per verpakking’ om een minimum en maximum aantal porties per verpakking aan te geven.","6","Als op de verpakking geen exact aantal porties staat vermeld, maar een minimum en een maximum aantal (bijv. 4-6 porties), dan voert u hier verplicht het grootste aantal in. Daarnaast voert u het veld ‘Minimum aantal porties per verpakking’ in. Vul dit veld niet in combinatie met het veld ‘Aantal porties verpakking’ in.","Lokale in Nederland gebruikte validatieregels zijn: 500.180, 500.317"," ","Verplicht voor voedingsmiddelen, voedingssupplementen en bijzondere voedingsmiddelen indien het op het etiket staat."," "," ",{"$f":"IFERROR(LEFT(B169,LEN(B169)-LEN('BES EN'!E169)-3),\"Doelsector\")","v":"Maximum aantal porties per verpakking"}]
["ANL1202","Ingrediëntendeclaratie (ingredientStatement)","Dit veld wordt in Nederland gecontroleerd in het kader van het datakwaliteitsprogramma.\n","De samenstelling van het product die overeenkomt met wat op het etiket/de verpakking staat.","Voedingsmiddelen:<br />\nIngredi&euml;nten: groenten (tomaat (10%), prei (5%)), uit, TARWEbloem, weipoeder (MELK), specerijen (MOSTERDmeel, paprikapoeder), aroma&#39;s (bevatten SOJA), zetmeel, kruiden (knoflook, bieslook, peterselie), smaakversterker (E621), voedingszuur (citroenzuur). Kan sporen van noten bevatten.<br />\n<br />\nVoedingssupplementen:<br />\nIngrediënten: VISolie, gelatine, bevochtigingsmiddel: glycerol.","In dit veld vult u voor levensmiddelen, bijzondere voedingsmiddelen en voedingssupplementen de ingrediëntendeclaratie in, plus eventuele kruisbesmettingen die op het etiket/de verpakking staan. Vermeld alle informatie over ingrediënten en kruisbesmettingen die op het etiket/de verpakking staat, ook als dat niet wettelijk verplicht is. Laat dit veld leeg als er geen ingrediëntendeclaratie op het etiket/de verpakking staat.<br />\nLet op: als er geen ingrediëntendeclaratie op het etiket/de verpakking staat, maar er staan wel een of meer allergenen op, dan voert u die allergenen hier in. Dit is bijvoorbeeld het geval als er bij rode wijn op het etiket staat: 'Bevat sulfiet'.<br />\n<br />\nU vult de ingrediëntendeclaratie als volgt in:<br />\n- Begin met de tekst voorafgaand aan de lijst met ingrediënten: 'Ingrediënten:' of 'Bevat', zoals het op uw etiket/de verpakking staat.<br />\n- Houd dezelfde schrijfwijze en woordvolgorde aan als op het etiket/de verpakking.<br />\n- Als er percentages in de ingrediëntendeclaratie staan dan neemt u deze over zoals op het etiket/de verpakking staat.<br />\n- Zijn op het etiket/de verpakking bepaalde ingrediënten (allergenen) vet- of schuingedrukt (of op een andere manier die deze van de andere ingrediënten onderscheidt) weergegeven? Vul deze ingrediënten in dit veld in hoofdletters in (zie ook het voorbeeld).<br /> \n- Soms worden onderdelen van de ingrediëntendeclaratie verduidelijkt door een zin onderaan de ingrediëntendeclaratie op het etiket/de verpakking toe te voegen. Dit wordt bijvoorbeeld aangegeven met een sterretje of een getal of een afkorting in de ingrediëntendeclaratie wordt onderaan uitgeschreven. Al deze verduidelijkingen en ook andere verduidelijkingen kunt u, als ze betrekking hebben op de ingrediënten, in dit veld invoeren.<br />\n<br />\nStaat de informatie over ingrediënten niet in de ingrediëntendeclaratie of direct daaronder, maar wel ergens anders op het etiket/de verpakking? Afhankelijk van het type informatie vult u deze in bij:<br />\n<br />\n1. Verplichte vermeldingen: in het veld 'Verplichte vermeldingen' vult u de verplichte informatie in volgens de '1169-wetgeving' of andere wetgevingen. Een lijst met de verplichte vermeldingen vindt u in de bijlage van het document 'Toelichting op het Benelux datamodel' (zie de link in Procesbeschrijving naar het document Toelichting).<br />\n<br />\n2. Marketingvelden: alle overige informatie over de ingrediënten neemt u op in de velden 'Marketinginformatie', ‘Unique selling point van het product’ of ‘Sleutelwoorden van het product’. Bijvoorbeeld: alle ingrediënten zijn met de hand geplukt.<br />\n<br />\nZo vult u de kruisbesmettingen in: Neem de tekst die gaat over kruisbesmettingen (bijvoorbeeld: 'kan sporen van noten bevatten') over van het etiket/de verpakking, NA de opsomming van de ingrediënten.<br />\n<br />\nAfwijkende situaties:<br />\n- Samengestelde producten (zie definitie in document met toelichtingen): neem alle ingrediëntendeclaraties over die op het etiket/de verpakking staan volgens de hierboven beschreven procedure.<br />\n- Voedingssupplementen: Voor deze productgroep staat ook een samenstelling op het etiket/de verpakking. De samenstelling is een lijst met werkzame stoffen. Deze vult u in het veld ‘Samenstelling/Ingrediënten’ in en niet hier. In dit veld vult u voor voedingssupplementen de lijst met ingrediënten in.","Zie voor aanvullende toelichting <a href=\" https://www.gs1.nl/sectorafspraken-over-standaarden/productdata-levensmiddelen-drogisterij-agf-en-foodservice/gs1-5-7\" style=\"color:blue; text-decoration:underline\" target=\"_blank\"> https://www.gs1.nl/sectorafspraken-over-standaarden/productdata-levensmiddelen-drogisterij-agf-en-foodservice/gs1-5-7</a><br />\n<br />\nLokale in Nederland gebruikte validatieregels zijn: 500.230, 500.288, 500.331, 500.374, 500.375\n","","Verplicht voor voedingsmiddelen, voedingssupplementen en bijzondere voedingsmiddelen als het op het etiket/de verpakking staat."," "," ",{"$f":"IFERROR(LEFT(B170,LEN(B170)-LEN('BES EN'!E170)-3),\"Doelsector\")","v":"Ingrediëntendeclaratie"}]
["ANL1203","Ingrediëntendeclaratie taalcode (ingredientStatement/@languageCode)","Dit veld wordt in Nederland gecontroleerd in het kader van het datakwaliteitsprogramma.","Code die een taal specificeert. Toegestane codewaarden staan gespecificeerd in de GS1 codelijst 'LanguageCode'.","nl","Selecteer de correcte waarde uit de 'ISO 639-1 (2-alpha)' codelijst.","Zie voor aanvullende toelichting <a href=\" https://www.gs1.nl/sectorafspraken-over-standaarden/productdata-levensmiddelen-drogisterij-agf-en-foodservice/gs1-5-7\" style=\"color:blue; text-decoration:underline\" target=\"_blank\"> https://www.gs1.nl/sectorafspraken-over-standaarden/productdata-levensmiddelen-drogisterij-agf-en-foodservice/gs1-5-7</a> <br />\n<br />\n- Voor het terugvinden van taalcodes zie: <a href=\" http://www.loc.gov/standards/iso639-2/php/code_list.php\" style=\"color:blue; text-decoration:underline\" target=\"_blank\"> http://www.loc.gov/standards/iso639-2/php/code_list.php</a> ",null,"Verplicht als het veld ‘Ingrediëntendeclaratie’ is ingevuld bij de consumenteneenheid.","Verplicht als het veld ‘Ingrediëntendeclaratie’ is ingevuld bij de handelseenheid.","Verplicht als het veld ‘Ingrediëntendeclaratie’ is ingevuld bij de pallet.",{"$f":"IFERROR(LEFT(B171,LEN(B171)-LEN('BES EN'!E171)-3),\"Doelsector\")","v":"Ingrediëntendeclaratie taalcode"}]
["ANL1204","Type allergeen (allergenTypeCode)","Dit veld wordt in Nederland gecontroleerd in het kader van het datakwaliteitsprogramma.\n","Code die het type allergeen aangeeft.\n","ML - Lactose\n","Voer altijd in welke allergenen het artikel bevat, niet bevat of kan bevatten als dit in de ingredi&euml;ntendeclaratie of in de wettelijke benaming staat. U herkent allergenen bijvoorbeeld aan de gemarkeerde wijze waarop ze worden weergegeven in de ingredi&euml;ntendeclaratie, bijvoorbeeld vetgedrukt. Voer een kruisbesmetting (kan bevatten) ook altijd in als deze ergens anders (niet in de ingredi&euml;ntendeclaratie of de wettelijke benaming) op het etiket staat.<br />\nGebruik de codelijst &#39;AllergenTypeCode&#39; (zie appendix A1 in het document met toelichtingen, kijk voor de juiste link bij het kopje &#39;Procesbeschrijving&#39;) om de juiste code voor het betreffende allergeen te vinden en die in dit veld in te voeren. U kunt elke code maar &eacute;&eacute;n keer gebruiken.<br />\nVoer voor samengestelde producten alle allergenen in.<br />\n<br />\nLet op: er zijn twee categorie&euml;n allergenen:<br />\n- Verplichte allergenen: vanuit de wetgeving (Verordening (EG) nr. 1169/2011, bijlage II) zijn er veertien typen allergenen die u verplicht op het etiket moet vermelden als deze in het product voorkomen. Deze veertien types allergenen staan vermeld in de codelijst &#39;AllergenTypeCode&#39;. Deze staan ook aangegeven in de codelijst zelf: de codenaam wordt voorafgegaan door (M). U kunt deze selecteren door op &#39;Codenaam&#39; te drukken in de header van de codelijst; de veertien verplichte allergenen staan dan bovenaan de lijst. Verplichte allergenen vult u dus verplicht in als deze zijn benadrukt in de ingredi&euml;ntendeclaratie of als ze in de wettelijke benaming staan. Verplichte allergenen die NIET benadrukt zijn mag u invullen, maar dit is niet verplicht.<br />\n- Niet-verplichte allergenen: als niet-verplichte allergenen duidelijk als allergeen in de wettelijke benaming/ingredi&euml;ntendeclaratie worden aangegeven (bijvoorbeeld omdat ze dikgedrukt zijn), dan voert u deze in. Als ze op het etiket worden genoemd, maar niet benadrukt, kunt u kiezen of u ze in dit veld wilt invullen. Hierop is &eacute;&eacute;n uitzondering, lactose voert u altijd in als het in de wettelijke benaming/ingredi&euml;ntendeclaratie staat. De groep niet-verplichte allergenen bevat een subcategorie waarvoor speciale regels gelden, dit zijn de allergenen die een verdieping zijn van &eacute;&eacute;n van de verplichte allergenen. Hieronder vindt u een instructie over hoe u allergenen in het algemeen moet invoeren, daarbij komt ook aan bod hoe u om moet gaan met allergenen die een verdieping zijn van een verplicht allergeen.<br />\n<br />\nHoe voert u allergenen in?<br />\n1. Zoek het betreffende allergeen op in de codelijst &#39;AllergenTypeCode&#39;.<br />\n2. Controleer of in de laatste kolom van de tabel (Appendix A1 in het toelichtingsdocument, zie de link in &#39;Procesbeschrijving&#39; naar het document met toelichtingen) bij het betreffende allergeen een bovenliggend verplicht allergeen staat vermeld. Als dat zo is, dan voert u dit verplichte allergeen in (ook als het verplichte allergeen zelf niet op het etiket staat). Het kan zijn dat de &#39;bevat&#39; code (zie veld &#39;Bevat&#39;) voor het hoofdallergeen anders is dan voor het verdiepende allergeen. Een voorbeeld is hieronder uitgewerkt voor glutenvrije tarwe. U voert de code van het onderliggende niet-verplichte allergeen in als deze is gemarkeerd in de wettelijke benaming/ingredi&euml;ntendeclaratie. Als deze niet is gemarkeerd, dan mag u het allergeen invoeren, maar dat is niet verplicht.<br />\n3. Als de laatste kolom leeg is, dan voert u de code in van het allergeen dat in de wettelijke benaming/ingredi&euml;ntendeclaratie staat.<br />\n<br />\nTwee invulvoorbeelden:<br />\n- Voor tonijn (wanneer het niet gemarkeerd op de verpakking staat) vult u de verplichte code voor &#39;Vis en producten op basis van vis (AF)&#39; in en mag u de code &#39;Tonijn en producten op basis van tonijn (ABD)&#39; toevoegen.<br />\n- Voor glutenvrije tarwe voert u de allergeencode &#39;Glutenbevattende granen (AW)&#39; in (verplicht voor elk graangewas dat normaal gesproken gluten bevat), met in dit geval als bijbehorende &#39;bevat&#39; (zie veld &#39;Bevat&#39;) code &#39;FREE_FROM&#39;. Verder voegt u de code &#39;Tarwe en producten op basis van tarwe (UW)&#39; toe met &#39;bevat&#39; code &#39;CONTAINS&#39;.\n","Zie voor aanvullende toelichting <a href=\" https://www.gs1.nl/sectorafspraken-over-standaarden/productdata-levensmiddelen-drogisterij-agf-en-foodservice/gs1-5-7\" style=\"color:blue; text-decoration:underline\" target=\"_blank\"> https://www.gs1.nl/sectorafspraken-over-standaarden/productdata-levensmiddelen-drogisterij-agf-en-foodservice/gs1-5-7</a> <br />\n<br />\nLokale in Nederland gebruikte validatieregels zijn: 500.182, 500.231, 500.232, 500.233, 500.234\n","","Verplicht als er allergenen op de verpakking staan vermeld bij de consumenteneenheid, optioneel voor detergenten en biociden."," "," ",{"$f":"IFERROR(LEFT(B172,LEN(B172)-LEN('BES EN'!E172)-3),\"Doelsector\")","v":"Type allergeen"}]
["ANL1205","Bevat  (levelOfContainmentCode)","Dit veld wordt in Nederland gecontroleerd in het kader van het datakwaliteitsprogramma.\n","Code die de mate van aanwezigheid van het allergeen aangeeft.\n","CONTAINS\n","Dit veld vult u in als het veld &#39;Type allergeen&#39; is ingevuld. Vermeld hier of het allergeen dat u bij &#39;Type allergeen&#39; heeft ingevoerd in het artikel aanwezig is, aanwezig kan zijn of niet aanwezig is. Gebruik de codelijst &#39;LevelOfContainmentCode&#39;, deze biedt de volgende opties:<br />\n1. CONTAINS: bewust in het artikel opgenomen.<br />\n2. FREE_FROM: het artikel is vrij van het genoemde allergeen (volgens receptuur).<br />\n3. MAY_CONTAIN: het allergeen is niet bewust opgenomen, maar het artikel kan als gevolg van gedeelde productiefaciliteiten of andere oorzaken het allergeen wel bevatten.<br />\n<br />\nLet op:<br />\n■ Er zijn producten waarbij in de tekst op het etiket staat dat het &#39;glutenvrij&#39; is, maar waar een graanproduct in is verwerkt dat &#39;normaal&#39; wel gluten bevat. Er staat geen keurmerk &#39;glutenvrij&#39; op de verpakking. Bijvoorbeeld glutenvrij havermeel:<br />\n○ Vul dit veld in om aan te geven dat het product (in het geval van dit voorbeeld) haver bevat: haver en haverproducten (glutenbevattend graan).<br />\n○ Vul dit veld vervolgens nogmaals in met de code &#39;FREE_FROM&#39; voor het type allergeen &#39;Glutenbevattende granen (AW)&#39; om aan te geven dat het product geen gluten bevat.<br />\n■ Er zijn ook producten waar een keurmerk &#39;glutenvrij&#39; op staat, maar waar een graanproduct in is verwerkt dat &#39;normaal&#39; wel gluten bevat. Bijvoorbeeld glutenvrij havermeel:<br />\n○ Vul dit veld in om aan te geven dat het product (in het geval van dit voorbeeld) haver bevat: haver en haverproducten (glutenbevattend graan).<br />\n○ Vul in het veld &#39;Vrij van keurmerken&#39; het keurmerk in. Het is wettelijk verplicht om alle glutenbevattende granen te vermelden (in vet of hoofdletters), ook als deze geen gluten meer bevatten. Niet alleen de gluten kunnen een &#39;allergische reactie&#39; oproepen, maar ook andere eiwitten in het graan.<br />\n<br />\nDezelfde regels gelden voor &#39;Type allergeen&#39;: Als een allergeen hier niet is vermeld, betekent dat niet dat het artikel &#39;X-vrij&#39; is. De informatie moet identiek zijn aan wat er op het etiket staat. Het is niet toegestaan om informatie aan GDSN toe te voegen die niet op het etiket staat.\n","Zie voor aanvullende toelichting <a href=\" https://www.gs1.nl/sectorafspraken-over-standaarden/productdata-levensmiddelen-drogisterij-agf-en-foodservice/gs1-5-7\" style=\"color:blue; text-decoration:underline\" target=\"_blank\"> https://www.gs1.nl/sectorafspraken-over-standaarden/productdata-levensmiddelen-drogisterij-agf-en-foodservice/gs1-5-7</a><br />\n<br />\nLokale in Nederland gebruikte validatieregels zijn: 500.114\n","","Verplicht als het veld 'Type allergeen' is ingevuld bij de consumenteneenheid.","Verplicht als het veld 'Type allergeen' is ingevuld bij de handelseenheid.","Verplicht als het veld 'Type allergeen' is ingevuld bij de pallet.",{"$f":"IFERROR(LEFT(B173,LEN(B173)-LEN('BES EN'!E173)-3),\"Doelsector\")","v":"Bevat "}]
["ANL1206","Allergeen informatie verstrekt (isAllergenRelevantDataProvided)","","Bepaalt of er allergeeninformatie is ingevuld bij de waarden die relevant zijn of moeten worden ingevuld op het etiket of equivalent daarvan. Alle niet ingevulde waarden zijn niet relevant of hoeven conform de lokale wetgeving niet op het etiket te worden ingevuld.\n","TRUE\n","Dit veld geeft aan of alle relevante allergeeninformatie over het artikel verstrekt is. Het is van toepassing op voedingsmiddelen waarvoor etiketinformatie verplicht is. Kies uit de waarden &lsquo;TRUE&rsquo; of &lsquo;FALSE&rsquo;.<br />\n<br />\nBelux: de code &lsquo;TRUE&rsquo; moet worden gebruik om de gegevens naar trustbox te kunnen publiceren.","Zie voor aanvullende toelichting <a href=\" https://www.gs1.nl/sectorafspraken-over-standaarden/productdata-levensmiddelen-drogisterij-agf-en-foodservice/gs1-5-7\" style=\"color:blue; text-decoration:underline\" target=\"_blank\"> https://www.gs1.nl/sectorafspraken-over-standaarden/productdata-levensmiddelen-drogisterij-agf-en-foodservice/gs1-5-7</a> <br />\n<br />\nLokale in Nederland gebruikte validatieregels zijn: 500.288\n","","Verplicht voor artikelen waarvoor etiketinformatie is ingevuld bij de consumenteneenheid, optioneel voor detergenten en biociden."," "," ",{"$f":"IFERROR(LEFT(B174,LEN(B174)-LEN('BES EN'!E174)-3),\"Doelsector\")","v":"Allergeen informatie verstrekt"}]
["ANL1207","Status van de bereiding (preparationStateCode)","Dit veld wordt in Nederland gecontroleerd in het kader van het datakwaliteitsprogramma.\n","De code die aangeeft of de informatie over de nutriënten in de nutriëntentabel slaat op het onbereide product of op een product dat is gewijzigd door bereiding door de consument.\n","PREPARED\n","Alleen de codes &#39;PREPARED&#39; en &#39;UNPREPARED&#39; zijn toegestaan. Vul in of de nutri&euml;ntinformatie betrekking heeft op het door de consument onbereide of het bereide product. Als het betrekking heeft op het bereide artikel, wordt dat specifiek op het etiket vermeld.<br />\n- Onbereid: de nutri&euml;ntinformatie heeft betrekking op de staat waarin de artikelen worden verkocht. Voorbeelden: frisdrank, chocoladerepen.<br />\n- Bereid: de nutri&euml;ntinformatie heeft betrekking op de bereide toestand, d.w.z. na bereiding door de consument volgens de instructies op de verpakking. Voorbeelden: cake gemaakt van cakemix, ontbijtgraan met melk.","Lokale in Nederland gebruikte validatieregels zijn: 500.079, 500.170, 500.323, 500.349, 500.355\n","","Verplicht voor voedingsmiddelen, voedingssupplementen en bijzondere voedingsmiddelen als het op het etiket staat."," "," ",{"$f":"IFERROR(LEFT(B175,LEN(B175)-LEN('BES EN'!E175)-3),\"Doelsector\")","v":"Status van de bereiding"}]
["ANL1208","Code nutriënttype (nutrientTypeCode)","Bevat een voedingssupplement en/of bijzonder voedingsmiddel nutri&euml;nten die niet in de codelijst nutri&euml;nten staan? Vult dan alle nutri&euml;nten (ook degene waarvan wel een code is) in het veld &#39;Samenstelling/Ingredi&euml;nten&#39; in. Doe dit volgens de instructie (splits kolommen met puntkomma&#39;s en geef regeleinden aan met een hekje).<br />\n<br />\nDit veld wordt in Nederland gecontroleerd in het kader van het datakwaliteitsprogramma.\n","Code uit de lijst met INFOODS namen voor nutri&euml;nten die de voedingswaarden van het artikel identificeren.\n","LACS (Lactose)\n","Ga naar de codelijst &#39;NutrientTypeCode&#39; en selecteer de juiste code voor de nutri&euml;nten op het etiket. Vul nutri&euml;nten in volgens de volgorde gedefinieerd in bijlage XV van EU-verordening 1169/2011. Vezels (code ‘FIBTG’) mogen ook als nutriënt worden ingevoerd, ook als ze niet op het etiket staan.\n","Lokale in Nederland gebruikte validatieregels zijn: 500.080, 500.081, 500.083, 500.087, 500.088, 500.089, 500.090, 500.091, 500.092, 500.093, 500.094, 500.170, 500.177, 500.178, 500.187, 500.188, 500.189, 500.190, 500.191, 500.192, 500.224, 500.235, 500.236, 500.240, 500.251, 500.320, 500.324, 500.325, 500.355, 500.356\n","","Verplicht voor voedingsmiddelen, voedingssupplementen en bijzondere voedingsmiddelen als het op het etiket staat."," "," ",{"$f":"IFERROR(LEFT(B176,LEN(B176)-LEN('BES EN'!E176)-3),\"Doelsector\")","v":"Code nutriënttype"}]
["ANL1209","Meetnauwkeurigheid (measurementPrecisionCode)","Als er sprake is van &#39;sporen van&#39; een nutri&euml;nt, voert u &#39;LESS THAN&#39; in als meetnauwkeurigheid en &#39;0 GRM&#39; als &#39;Hoeveelheid nutri&euml;nt&#39;. Soms komt het voor dat op etiketten/verpakkingen de waarde van een nutri&euml;nt wordt aangegeven als verwaarloosbaar. In dat geval doet u hetzelfde als wanneer u &#39;sporen van&#39; of &#39;traces&#39; invult: als code gebruikt u &#39;minder dan&#39; en als hoeveelheid nutri&euml;nt vult u 0 gram in.<br />\n<br />\nDit veld wordt in Nederland gecontroleerd in het kader van het datakwaliteitsprogramma.\n","Code die aangeeft of de gespecificeerde inhoud aan nutri&euml;nten exact of bij benadering is. Bij het selecteren van een nauwkeurigheid moeten lokale wettelijke richtlijnen worden gevolgd.\n","APPROXIMATELY\n","Gebruik standaard &#39;APPROXIMATELY&#39; (Bij benadering). &#39;LESS_THAN&#39; (Minder dan) gebruikt u als op het etiket &#39;&lt;&#39; staat. Andere opties worden niet gebruikt.\n","Lokale in Nederland gebruikte validatieregels zijn: 500.082, 500.224, 500.235, 500.236, 500.355\n","","Verplicht voor voedingsmiddelen, voedingssupplementen en bijzondere voedingsmiddelen als het op het etiket staat."," "," ",{"$f":"IFERROR(LEFT(B177,LEN(B177)-LEN('BES EN'!E177)-3),\"Doelsector\")","v":"Meetnauwkeurigheid"}]
["ANL1210","Hoeveelheid nutriënt (quantityContained)","Vermeld voor samengestelde artikelen de voedingswaarden van de artikelen in het samengestelde artikel. Een samengesteld artikel kan een variety pack zijn of een artikel dat verschillende componenten bevat (zie de link in Procesbeschrijving naar het document Toelichting voor definities van samengestelde artikelen). De onderliggende onderdelen van een variety pack geeft u elk een eigen GS1 artikelcode (GTIN), zodat u de nutri&euml;nten kunt invoeren op het niveau van de onderliggende eenheid.<br />\n<br />\nBevat een voedingssupplement en/of bijzonder voedingsmiddel nutri&euml;nten die niet in de codelijst nutri&euml;nten staan? Vult dan alle nutri&euml;nten (ook degene waarvan wel een code is) in het veld &#39;Samenstelling/Ingredi&euml;nten&#39; in. Doe dit volgens de instructie (splits kolommen met puntkomma&#39;s en geef regeleinden aan met een hekje).<br />\n<br />\nDit veld wordt in Nederland gecontroleerd in het kader van het datakwaliteitsprogramma.","Meetwaarde die de hoeveelheid van een bepaald nutri&euml;nt in het artikel aangeeft. Deze is relatief aan de referentie portiegrootte.\n","35,1 (GRM)\n","Voer de hoeveelheid nutri&euml;nt in per eenheid zoals aangegeven in het veld &#39;Referentie portiegrootte&#39;. De meeteenheid wordt in een apart veld ingevuld. Gebruik dezelfde waarden als op het etiket. Voor voedingsmiddelen moet de hoeveelheid nutri&euml;nt worden vermeld per 100 g, 100 ml of 1000 ml.<br />\n<br />\nLet op: u kunt nutri&euml;nthoeveelheden in twee verschillende meeteenheden invoeren voor het nutri&euml;nt &#39;energie&#39; (voor andere nutri&euml;nten vermeldt u altijd maar &eacute;&eacute;n meeteenheid). Doe dit bij voorkeur door de nutri&euml;nt &#39;energie&#39; meer dan eens te vermelden met steeds &eacute;&eacute;n meeteenheid (in plaats van de nutri&euml;nt &#39;energie&#39; slechts eenmaal te vermelden, gevolgd door twee meeteenheden).<br />\nVoorbeeld: Eerste vermelding van de nutri&euml;nt &#39;energie&#39; met slechts &eacute;&eacute;n meeteenheid: Energie 477 kilojoules. Herhaling vermelding nutri&euml;nt &#39;energie, ook in maar &eacute;&eacute;n meeteenheid: Energie 114 kilocalorie&euml;n.<br />\n<br />\nVoer voor voedingssupplementen de hoeveelheden nutri&euml;nten per portie in als dat de enige meeteenheid is die op de verpakking staat. Zie ook de opmerking.<br />\n<br />\nAls &#39;Code nutri&euml;nttype&#39; (UN INFOODS-code) gelijk is aan &eacute;&eacute;n van de volgende waarden: &#39;FAT&#39;, &#39;FASAT&#39;, &#39;FAMSCIS&#39;, &#39;FAPUCIS&#39;, &#39;CHOAVL&#39;, &#39;PRO-&#39;, &#39;FIBTG&#39;, &#39;SUGAR-&#39;, &#39;SALTEQ&#39;, &#39;POLYL&#39; of &#39;STARCH&#39;, wordt de meeteenheid GRM (gram) gebruikt.","Lokale in Nederland gebruikte validatieregels zijn: 500.081, 500.087, 500.088, 500.089, 500.090, 500.091, 500.092, 500.093, 500.094, 500.177, 500.235, 500.236. 500.325, 500.355\n","","Verplicht voor voedingsmiddelen, voedingssupplementen en bijzondere voedingsmiddelen als het op het etiket staat."," "," ",{"$f":"IFERROR(LEFT(B178,LEN(B178)-LEN('BES EN'!E178)-3),\"Doelsector\")","v":"Hoeveelheid nutriënt"}]
["ANL1211","Hoeveelheid nutriënt eenheid (quantityContained/@measurementUnitCode)","Dit veld wordt in Nederland gecontroleerd in het kader van het datakwaliteitsprogramma.\n","Een gestandaardiseerde, reproduceerbare eenheid waarmee een fysieke eigenschap kan worden gemeten.\n","GRM\n","Selecteer de juiste waarde uit de codelijst 'measurementUnitCode'.\n","Lokale in Nederland gebruikte validatieregels zijn: 500.081, 500.087, 500.094, 500.325, 500.355\n","","Verplicht als het veld ‘Hoeveelheid nutriënt’ is ingevuld bij de consumenteneenheid.","Verplicht als het veld ‘Hoeveelheid nutriënt’ is ingevuld bij de handelseenheid.","Verplicht als het veld ‘Hoeveelheid nutriënt’ is ingevuld bij de pallet.",{"$f":"IFERROR(LEFT(B179,LEN(B179)-LEN('BES EN'!E179)-3),\"Doelsector\")","v":"Hoeveelheid nutriënt eenheid"}]
["ANL1212","Referentie portiegrootte (OUD) (servingSize)","Voor enkele productgroepen geldt afwijkende wetgeving waardoor de referentie portiegrootte met een andere eenheid moet worden ingevoerd. Zo geldt bijvoorbeeld voor mineraalwater een verplichte referentie portiegrootte van 1 liter (LTR) of 1000 MLT. Voor voedingssupplementen: als alleen per portie een tabel op het etiket staat, vul deze portie hier dan in. Vul de meeteenheid in een afzonderlijk veld in. Dit veld vervalt vanaf mei 2020. Tot die tijd zet u artikelgegevens van al gepubliceerde artikelen om naar het nieuwe veld 'Referentie portiegrootte (NIEUW)'. Als u dit doet, vul dan ook het veld 'Type portiegrootte' in met de waarde 'BY_MEASURE' voor de wettelijk voorgeschreven 100 GRM, 100 MLT of 1000 ML en met de waarde 'BY_SERVING' voor een portie.\n","Meetwaarde die de portiegrootte weergeeft waarvoor de informatie per nutriënt is vermeld. In sommige markten is dit volgens de daar geldende wetgeving de basishoeveelheid ten opzichte waarvan een nutriënt wordt weergegeven. Voorbeelden: per 100 gram, per 30 gram, &frac12; kopje, enzovoort. Zie de implementatierichtlijnen voor de doelmarkten voor meer informatie over het invullen van dit veld.","100 (GRM)\n","Vul dit veld bij voorkeur vanaf mei 2019 niet meer in voor nieuwe producten. In plaats daarvan kunt u gebruikmaken van het veld 'Referentie portiegrootte (NIEUW)' (zie instructie van dat veld). Geef aan voor welke portiegrootte de nutriëntenlijst geldt. Kies voor voedingsmiddelen in ieder geval voor de wettelijk voorgeschreven 100 GRM of 100 MLT (tenzij een speciale regeling van toepassing is voor de productgroep, zie opmerking hieronder voor meer informatie). Als er daarnaast ook een lijst met nutriënten per portie aanwezig is vult u dit veld nogmaals in, maar dan met de waarde van de portie, en voert u de nutriënten op in de groepering van de portie. Bij voorkeur kiest u voor de vermelding van de portiegrootte in gram of milliliter als dat op het etiket staat (bijvoorbeeld als er staat '1 stuks = 15 gram', dan vult u hier 15 gram in). Vul de meeteenheid in een afzonderlijk veld in.\n","Lokale in Nederland gebruikte validatieregels zijn: 500.094, 500.178, 500.276, 500.323, 500.324, 500.356\n","","Verplicht voor voedingsmiddelen, voedingssupplementen en bijzondere voedingsmiddelen als het op het etiket staat."," "," ",{"$f":"IFERROR(LEFT(B180,LEN(B180)-LEN('BES EN'!E180)-3),\"Doelsector\")","v":"Referentie portiegrootte (OUD)"}]
["ANL1213","Eenheid referentie portiegrootte (servingSize/@measurementUnitCode)","Dit veld wordt in Nederland gecontroleerd in het kader van het datakwaliteitsprogramma.\n","Een gestandaardiseerde, reproduceerbare eenheid waarmee een fysieke eigenschap kan worden gemeten.\n","GRM or MLT\n","Selecteer de juiste waarde uit de codelijst 'measurementUnitCode'.\n","Lokale in Nederland gebruikte validatieregels zijn: 500.094, 500.276, 500.324\n","","Verplicht als het veld ‘Referentie portiegrootte (OUD)’ is ingevuld bij de consumenteneenheid.","Verplicht als het veld ‘Referentie portiegrootte (OUD)’ is ingevuld bij de handelseenheid.","Verplicht als het veld ‘Referentie portiegrootte (OUD)’ is ingevuld bij de pallet.",{"$f":"IFERROR(LEFT(B181,LEN(B181)-LEN('BES EN'!E181)-3),\"Doelsector\")","v":"Eenheid referentie portiegrootte"}]
["ANL1217","% Referentie-inname (dailyValueIntakePercent)","Voor voedingssupplementen die nutri&euml;nten bevatten die niet in de &#39;codelijst nutri&euml;nten&#39; (zie codelijst bij het veld &#39;Code nutri&euml;nttype&#39;) staan, voert u de volledige lijst in het veld &lsquo;Samenstelling/Ingredi&euml;nten&rsquo; in.<br />\n<br />\nDit veld wordt in Nederland gecontroleerd in het kader van het datakwaliteitsprogramma.\n","Het percentage van de referentie-inname van een nutri&euml;nt of de dagelijkse referentie-inname van vitaminen en mineralen, zoals aanbevolen door de autoriteiten van de doelmarkt. Dit wordt uitgedrukt op basis van de (referentie) portiegrootte.\n","18,2\n","Voer het percentage van de referentie-inname van een nutri&euml;nt of de dagelijkse referentie-inname van vitaminen en mineralen in die bij de betreffende &lsquo;referentie portiegrootte&rsquo; hoort.\n","Lokale in Nederland gebruikte validatieregels zijn: 500.083, 500.178\n","","Verplicht voor voedingsmiddelen, voedingssupplementen en bijzondere voedingsmiddelen als het op het etiket staat."," "," ",{"$f":"IFERROR(LEFT(B182,LEN(B182)-LEN('BES EN'!E182)-3),\"Doelsector\")","v":"% Referentie-inname"}]
["ANL1218","% Referentie-inname meetnauwkeurigheid (dailyValueIntakePercentMeasurementPrecisionCode)","Dit veld wordt in Nederland gecontroleerd in het kader van het datakwaliteitsprogramma.\n","Code die aangeeft of de gespecificeerde inhoud aan nutriënten voor '% referentie-inname' exact, bij benadering, minder dan, etc. is. Bij het selecteren van een nauwkeurigheid moeten lokale wettelijke richtlijnen worden gevolgd.\n","LESS_THAN_OR_EQUAL (<=)\n","Voer alleen een waarde in voor dit kenmerk als een van de volgende tekens:  “<”, “<=”, “>”, “>=” op het etiket wordt vermeld bij het percentage referentie-inname. Kies één van de waarden: 'LESS_THAN', 'LESS_THAN_OR_EQUAL', 'GREATER_THAN', 'GREATER_THAN_OR_EQUAL'.\n","",""," "," "," ",{"$f":"IFERROR(LEFT(B183,LEN(B183)-LEN('BES EN'!E183)-3),\"Doelsector\")","v":"% Referentie-inname meetnauwkeurigheid"}]
["ANL1219","Referentie-inname (dailyValueIntakeReference)","Dit veld wordt in Nederland gecontroleerd in het kader van het datakwaliteitsprogramma.\n","Vrij tekstveld waarin de dagelijkse referentie-inname kan worden gespecificeerd waarop het percentage van de referentie-inname per nutri&euml;nt is gebaseerd. Voorbeeld: &#39;Gebaseerd op een dagelijkse inname van 2000 calorie&euml;n&#39;.\n","Referentie-inname van een gemiddelde volwassene (8400 kJ/ 2000 kcal)<br />\nDagelijkse referentie-inname<br />\n* % van Referentie-inname van een gemiddelde volwassene (8400 kJ/2000 kcal)\n","Vul in dit veld de omschrijving van de referentie-inname in zoals deze op het etiket staat. U vult dit veld altijd gezamenlijk met het veld ‘Referentie portiegrootte’ in.<br />\nStaan er meerdere portiegroottes op het etiket (bijv. 100 g en 80 g)? Zorg er dan voor dat u de omschrijving van de referentie-inname altijd minimaal invult bij de portiegrootte waarnaar met een sterretje wordt verwezen. Is er geen sterverwijzing, dan verwijst deze niet naar een specifieke portiegrootte. U kiest dan zelf bij welke ‘Referentie portiegrootte’ u de omschrijving opneemt, dit mag ook bij allebei.<br />\n<br />\nVoor meer informatie bekijkt u hoofdstuk 10.1 van het document ‘Toelichting op velden’. ","Lokale in Nederland gebruikte validatieregels zijn: 500.178\n","","Verplicht voor voedingsmiddelen, voedingssupplementen en bijzondere voedingsmiddelen als het op het etiket staat."," "," ",{"$f":"IFERROR(LEFT(B184,LEN(B184)-LEN('BES EN'!E184)-3),\"Doelsector\")","v":"Referentie-inname"}]
["ANL1220","Referentie-inname taalcode (dailyValueIntakeReference/@languageCode)","Dit veld wordt in Nederland gecontroleerd in het kader van het datakwaliteitsprogramma.","Code die een taal specificeert. Toegestane codewaarden staan gespecificeerd in de GS1 codelijst 'LanguageCode'.","nl","Selecteer de correcte waarde uit de 'ISO 639-1 (2-alpha)' codelijst.","Zie voor aanvullende toelichting <a href=\" https://www.gs1.nl/sectorafspraken-over-standaarden/productdata-levensmiddelen-drogisterij-agf-en-foodservice/gs1-5-7\" style=\"color:blue; text-decoration:underline\" target=\"_blank\"> https://www.gs1.nl/sectorafspraken-over-standaarden/productdata-levensmiddelen-drogisterij-agf-en-foodservice/gs1-5-7</a> <br />\n<br />\n- Voor het terugvinden van taalcodes zie: <a href=\" http://www.loc.gov/standards/iso639-2/php/code_list.php\" style=\"color:blue; text-decoration:underline\" target=\"_blank\"> http://www.loc.gov/standards/iso639-2/php/code_list.php</a> ",null,"Verplicht als het veld ‘Referentie-inname’ is ingevuld bij de consumenteneenheid.","Verplicht als het veld ‘Referentie-inname’ is ingevuld bij de handelseenheid.","Verplicht als het veld ‘Referentie-inname’ is ingevuld bij de pallet.",{"$f":"IFERROR(LEFT(B185,LEN(B185)-LEN('BES EN'!E185)-3),\"Doelsector\")","v":"Referentie-inname taalcode"}]
["ANL1221","Informatie over herkomst (provenanceStatement)","Dit veld wordt in Nederland gecontroleerd in het kader van het datakwaliteitsprogramma.\n","De gedetailleerde vermelding van de plaats van oorsprong die op het etiket/de verpakking staat. Dit kan elke plaats zijn waar een product vandaan komt (al dan niet gelijk aan het land van oorsprong).\n","Ierland<br />\nOostelijke Atlantische Oceaan<br />\nVeluwe<br />\nChampagne<br />\nBottled at the source, San Pellegrino terme (Bergamo) Italy\n","Voer hier alle vermelde informatie over de herkomst in, zoals op het etiket/de verpakking staat. Ook als er verschillende informatie over herkomst staat, bijvoorbeeld waar het dier geslacht is en dat afwijkt van de informatie over herkomst van het gehele product, voert u dat hier in.<br />\nVoor natuurlijk mineraalwater en bronwater is vermelding van de bron onderdeel van de informatie over herkomst (Richtlijn 2009/54/EG).<br />\nInformatie over de herkomst van het artikel in de ingrediëntendeclaratie vult u niet hier in, maar in het veld ‘Ingrediëntendeclaratie’. Een aparte claim over informatie over herkomst die aan het eind van de ingrediëntendeclaratie staat vult u wél in dit veld in. Staat er informatie over de herkomst van het hele artikel én van een specifiek ingrediënt op het etiket? Begin dan met de algemene informatie over de herkomst gevolgd door die van het ingrediënt.\n<br />\n <br />\nVoor vis en schelp- en schaaldieren vult u ook aanvullende velden in met informatie over de herkomst:<br />\n• Voor vis en schelp- en schaaldieren vult u ook de velden 'Code vangstgebied', ‘Productiemethode voor vis’, ‘Code ingevroren vis’ en ‘Vangstmethode' in. Dit geldt NIET voor kweekvis, gekweekte schelp- en schaaldieren, daarvoor vult u alleen dit veld (‘Informatie over herkomst’) in.","Lokale in Nederland gebruikte validatieregels zijn: 500.173\n","","Verplicht als het op het etiket/de verpakking staat."," "," ",{"$f":"IFERROR(LEFT(B186,LEN(B186)-LEN('BES EN'!E186)-3),\"Doelsector\")","v":"Informatie over herkomst"}]
["ANL1222","Informatie over herkomst taalcode (provenanceStatement/@languageCode)","Dit veld wordt in Nederland gecontroleerd in het kader van het datakwaliteitsprogramma.","Code die een taal specificeert. Toegestane codewaarden staan gespecificeerd in de GS1 codelijst 'LanguageCode'.","nl","Selecteer de correcte waarde uit de 'ISO 639-1 (2-alpha)' codelijst.","Zie voor aanvullende toelichting <a href=\" https://www.gs1.nl/sectorafspraken-over-standaarden/productdata-levensmiddelen-drogisterij-agf-en-foodservice/gs1-5-7\" style=\"color:blue; text-decoration:underline\" target=\"_blank\"> https://www.gs1.nl/sectorafspraken-over-standaarden/productdata-levensmiddelen-drogisterij-agf-en-foodservice/gs1-5-7</a> <br />\n<br />\n- Voor het terugvinden van taalcodes zie: <a href=\" http://www.loc.gov/standards/iso639-2/php/code_list.php\" style=\"color:blue; text-decoration:underline\" target=\"_blank\"> http://www.loc.gov/standards/iso639-2/php/code_list.php</a> <br />\n<br />\nLokale in Nederland gebruikte validatieregels zijn:<br />\n500.173 ",null,"Verplicht als het veld ‘Informatie over herkomst’ is ingevuld bij de consumenteneenheid.","Verplicht als het veld ‘Informatie over herkomst’ is ingevuld bij de handelseenheid.","Verplicht als het veld ‘Informatie over herkomst’ is ingevuld bij de pallet.",{"$f":"IFERROR(LEFT(B187,LEN(B187)-LEN('BES EN'!E187)-3),\"Doelsector\")","v":"Informatie over herkomst taalcode"}]
["ANL1227","Code vangstgebied (catchAreaCode)","Voor kweekvis (en gekweekte schaal- en schelpdieren) is het vangstgebied niet van toepassing.<br />\n<br />\nDit veld wordt in Nederland gecontroleerd in het kader van het datakwaliteitsprogramma.\n","Het visgebied waar de zeevruchten die in het product zitten zijn gevangen of gekweekt.\n","41 (Atlantische Ocean, zuidwesten)\n","Vul in dit veld de code in van het vangstgebied zoals deze op het etiket staat. Gebruik hiervoor de codelijst CatchAreaCode_GDSN.","Lokale in Nederland gebruikte validatieregels zijn: 500.287\n","","Verplicht voor vis als het vangstgebied op het etiket/de verpakking staat, met uitzondering van kweekvis en gekweekte schelp- en schaaldieren."," "," ",{"$f":"IFERROR(LEFT(B188,LEN(B188)-LEN('BES EN'!E188)-3),\"Doelsector\")","v":"Code vangstgebied"}]
["ANL1228","Vangstmethode (catchMethodCode)","Voor kweekvis (en gekweekte schaal- en schelpdieren) is de vangstmethode niet van toepassing.<br />\n<br />\nDit veld wordt in Nederland gecontroleerd in het kader van het datakwaliteitsprogramma.\n","De vangstmethode voor vis en schaal- en schelpdieren zoals gespecificeerd door het departement voor visserij en aquacultuur van de Food and Agriculture Organization van de Verenigde Naties. Dit verplichte veld helpt de wereldwijde retailsector om te voldoen aan de Europese vereisten voor een gezamenlijk visserijbeleid.\n","TBS (Bodemtrawls - garnalentrawls)\n","Kies een code die overeenkomt met wat op het etiket/de verpakking staat. Gebruik hiervoor de FAO-codes, de complete lijst vindt u in de codelijst bij dit veld. U vindt de codes ook op de website van de FAO: <a href=\" http://www.fao.org/fishery/geartype/search/en\" style=\"color:blue; text-decoration:underline\" target=\"_blank\"> http://www.fao.org/fishery/geartype/search/en</a>.<br />\nVul altijd eerst een code uit de reeks 01 &ndash; 09 in. Daarna kunt u een code toevoegen die een specifieke methode aanduidt, zoals LHM (Haken en lijnen - Handlijnen en hengelsnoeren (machinaal) (EU)).\n","Lokale in Nederland gebruikte validatieregels zijn: 500.333, 500.334\n","","Verplicht voor vis, als de vangstmethode op het etiket/de verpakking staat, met uitzondering van kweekvis en gekweekte schelp- en schaaldieren."," "," ",{"$f":"IFERROR(LEFT(B189,LEN(B189)-LEN('BES EN'!E189)-3),\"Doelsector\")","v":"Vangstmethode"}]
["ANL1229","Bevat artikel pesticide?  (doesTradeItemContainPesticide)",null,"Geeft aan of het artikel wordt geadverteerd of is geëtiketteerd als chemische stof of een chemische stof bevat die wordt geadverteerd of is geëtiketteerd als een stof die een levend organisme kan doden, afstoten of de groei ervan kan tegengaan.","TRUE","Vul ‘TRUE’ in als het artikel pesticide bevat.",null," "," "," "," ",{"$f":"IFERROR(LEFT(B190,LEN(B190)-LEN('BES EN'!E190)-3),\"Doelsector\")","v":"Bevat artikel pesticide? "}]
["ANL1230","Genetische manipulatie code (geneticallyModifiedDeclarationCode)","","Een indicatie van het al dan niet aanwezig zijn van genetisch gemodificeerd eiwit of DNA in het ingredi&euml;nt.\n","CONTAINS<br />\nFREE_FROM<br />\nMAY_CONTAIN\n","Gebruik de code &#39;CONTAINS&#39; als in het artikel genetisch gemodificeerd eiwit of DNA is gebruikt.\n","",""," "," "," ",{"$f":"IFERROR(LEFT(B191,LEN(B191)-LEN('BES EN'!E191)-3),\"Doelsector\")","v":"Genetische manipulatie code"}]
["ANL1231","Bereidingsinstructies (preparationInstructions)","Dit veld wordt in Nederland gecontroleerd in het kader van het datakwaliteitsprogramma.","Instructie in tekst over de bereiding van het artikel voor consumptie.","Verwarm de koekenpan op hoog vuur. Bak het vlees 4-6 minuten. Leg het vlees op een bord en bestrooi het met zout en peper.","Voer de bereidingsinstructies in zoals vermeld op het etiket. Als de bereidingsinstructies symbolen bevatten, dan voert u deze in als tekst. Als voor de bereiding aanvullende ingrediënten nodig zijn,dan vermeldt u dat hier. Als er geen bereidingsinstructies op het etiket staan, maar wel in de doos zitten, dan voert u de tekst 'Zie ingesloten recept' in. Als er geen bereidingsinstructies op het etiket staan en er ook geen in de doos zitten, laat dit veld dan leeg.","Lokale in Nederland gebruikte validatieregels zijn: 500.170"," ","Verplicht als er op het etiket/de verpakking instructies staan over hoe het product bereid moet worden voor consumptie."," "," ",{"$f":"IFERROR(LEFT(B192,LEN(B192)-LEN('BES EN'!E192)-3),\"Doelsector\")","v":"Bereidingsinstructies"}]
["ANL1232","Bereidingsinstructies taalcode (preparationInstructions/@languageCode)","Dit veld wordt in Nederland gecontroleerd in het kader van het datakwaliteitsprogramma.","Code die een taal specificeert. Toegestane codewaarden staan gespecificeerd in de GS1 codelijst 'LanguageCode'.","nl","Selecteer de correcte waarde uit de 'ISO 639-1 (2-alpha)' codelijst.","Zie voor aanvullende toelichting <a href=\" https://www.gs1.nl/sectorafspraken-over-standaarden/productdata-levensmiddelen-drogisterij-agf-en-foodservice/gs1-5-7\" style=\"color:blue; text-decoration:underline\" target=\"_blank\"> https://www.gs1.nl/sectorafspraken-over-standaarden/productdata-levensmiddelen-drogisterij-agf-en-foodservice/gs1-5-7</a> <br />\n<br />\n- Voor het terugvinden van taalcodes zie: <a href=\" http://www.loc.gov/standards/iso639-2/php/code_list.php\" style=\"color:blue; text-decoration:underline\" target=\"_blank\"> http://www.loc.gov/standards/iso639-2/php/code_list.php</a> <br />\n<br />\nLokale in Nederland gebruikte validatieregels zijn:<br />\n500.170 ",null,"Verplicht als het veld ‘Bereidingsinstructies’ is ingevuld bij de consumenteneenheid.","Verplicht als het veld ‘Bereidingsinstructies’ is ingevuld bij de handelseenheid.","Verplicht als het veld ‘Bereidingsinstructies’ is ingevuld bij de pallet.",{"$f":"IFERROR(LEFT(B193,LEN(B193)-LEN('BES EN'!E193)-3),\"Doelsector\")","v":"Bereidingsinstructies taalcode"}]
["ANL1233","Gebruiksinstructies (consumerUsageInstructions)","Dit veld wordt in Nederland gecontroleerd in het kader van het datakwaliteitsprogramma.\n","Geeft in tekstvorm gebruiksinstructies van een artikel die normaal gesproken op het etiket staan of zijn bijgesloten. De instructies kunnen verwijzen naar de manier waarop de consument het artikel dient te gebruiken. Hieronder vallen niet: bewaren, het bereiden van voeding, en instructies voor het doseren en prepareren van geneesmiddelen.\n","voedingsmiddelen:<br />\nDoor en door verhitten<br />\nLet op: kleine kinderen kunnen zich in noten en pinda&#39;s verslikken.<br />\nDoor gebruik van echt vruchtensap kan er bezinksel op de bodem voorkomen.<br />\nHersluitbaar<br />\n<br />\nDrogisterij en zelfzorggeneesmiddelen:<br />\nGoed schudden voor gebruik.<br />\n<br />\nCosmetica en persoonlijke verzorgingsproducten:<br />\nEnkel gebruiken in een goed geventileerde ruimte. Kort drukken zonder langdurig te verstuiven. Alleen voor beoogd doel gebruiken.<br />\n<br />\nWasmiddelen:<br />\n1 tab: voor standaardwasmachinelading 2 tabs: hard water / zwaar bevuilde was, hard water / 6kg+<br />\n<br />\nBiociden:<br />\nHet middel spaarzaam en zorgvuldig aanbrengen op onbedekte lichaamsdelen; verdeel het middel gelijkmatig over de huid. Draag een lange broek en/of shirt met lange mouwen. Niet toepassen onder kleding. Houd de sproeier tenminste 15cm van de huid, niet direct in het gezicht spuiten. Wanneer het product wordt gebruikt in combinatie met zonnebrand, dan de zonnebrand eerst aanbrengen en 30 minuten wachten voor het aanbrengen van het middel. Om het gezicht te beschermen tegen beten, eerst wat middel in de handpalm aanbrengen en dan uitsmeren over het gezicht. Niet gebruiken bij kinderen jonger dan dertien jaar. Niet meer dan eenmaal per dag gebruiken. Vermijd contact met ogen, slijmvliezen, neus en lippen en beschadigde huid. Het middel niet aanbrengen op plekken waar door buiging van gewrichten, veelvuldige buiging van de huid normaal is, dus niet aanbrengen in knieholte en de elleboogholte. Vermijd contact met voedsel. Was de handen grondig met water en zeep voor het eten of drinken. Gebruik van het middel wordt niet geadviseerd voor kwetsbare groepen, zoals zwangere vrouwen. Was de behandelde huid wanneer bescherming tegen bijtende muggen of teken niet langer nodig is of wanneer irritatie optreed. Bij het gebruik van DEET door reizigers in het buitenland dient rekening gehouden te worden met de richtlijnen die door het Landelijk Co&ouml;rdinatiecentrum Reizigersadvisering (LCR) zijn uitgevaardigd.<br />\n<br />\nLampen: omgevingstemperatuur Ta &ne; 25 &deg;C\n","Voer de etiketinformatie in die verband houdt met het gebruik van het artikel. Als de instructies grafisch zijn weergegeven, vertaal deze dan naar tekst.<br />\n<br />\nNeem voor voedingsmiddelen ook eventuele vrijwillige waarschuwingen mee die betrekking hebben op het gebruik van het voedingsmiddel.<br />\n<br />\nVoor drogisterijartikelen, cosmetica en persoonlijke verzorgingsproducten: voer ook de leeftijd in waarvoor het artikel geschikt is. Neem specifieke waarschuwingen, interacties en contra-indicaties op in het veld &#39;Waarschuwingen en gebruiksbeperkingen&#39;. Vul voor zelfzorggeneesmiddelen aanvullend de velden &#39;Leeftijdsindicatie vanaf&#39; en &#39;Leeftijdsindicatie tot&#39; in en eventueel het veld &#39;Aanvullende leeftijdsindicatie&#39;. De indicaties tegen welke kwaal het middel gebruikt kan worden vult u in het veld &#39;Gezondheidsclaim&#39; (zowel de verkorte als de uitgebreide indicatie) in.<br />\n<br />\nVoor wasmiddelen: vul hier de aanbevolen hoeveelheden en/of doseringsvoorschriften in, zoals aangegeven op de verpakking.<br />\n<br />\nVoor biociden: Vul het volgende in als dit op de verpakking staat (informatie uit de bijsluiter hoeft niet te worden overgenomen):<br />\n- Gebruiksaanwijzing, toedieningsfrequentie en dosering.<br />\n- Bijzonderheden over mogelijke bijwerkingen en aanwijzingen voor verlenen van eerste hulp.<br />\n- Hoe de biocide of zijn verpakking veilig weggegooid kan worden en een eventueel verbod op hergebruik van de verpakking.<br />\n- De zin &#39;Voor gebruik de bijgevoegde gebruiksaanwijzing lezen&#39; en waarschuwingen voor kwetsbare groepen.<br />\n- Wat u moet doen nadat u de biocide heeft gebruikt (bijvoorbeeld wanneer u de biocide opnieuw kunt gebruiken of wanneer u de behandelde ruimte weer mag betreden).<br />\n- De categorie&euml;n gebruikers die de biocide mogen gebruiken<br />\n- De gevaren voor het milieu die het gebruik van de biocide met zich meebrengt.<br />\n<br />\nVoor lampen: vul hier bijzonderheden in rondom het gebruik als die vermeld worden op de verpakking. Bijvoorbeeld: wanneer specifiek temperatuurbeheer vereist is.<br />\n<br />\nDe instructies moeten in dezelfde taal worden vermeld als op de fysieke verpakking: voor Belgi&euml; in ieder geval in het Nederlands en het Frans; voor Luxemburg in ieder geval in het Duits en het Frans.","Lokale in Nederland gebruikte validatieregels zijn: 500.382\n","","Verplicht voor voedingsmiddelen, voedingssupplementen, bijzondere voedingsmiddelen, zelfzorggeneesmiddelen, gezondheidsproducten, cosmetica en persoonlijke verzorgingsproducten, diervoeding, detergenten en biociden."," "," ",{"$f":"IFERROR(LEFT(B194,LEN(B194)-LEN('BES EN'!E194)-3),\"Doelsector\")","v":"Gebruiksinstructies"}]
["ANL1234","Gebruiksinstructies taalcode (consumerUsageInstructions/@languageCode)","Dit veld wordt in Nederland gecontroleerd in het kader van het datakwaliteitsprogramma.","Code die een taal specificeert. Toegestane codewaarden staan gespecificeerd in de GS1 codelijst 'LanguageCode'.","nl","Selecteer de correcte waarde uit de 'ISO 639-1 (2-alpha)' codelijst.","Zie voor aanvullende toelichting <a href=\" https://www.gs1.nl/sectorafspraken-over-standaarden/productdata-levensmiddelen-drogisterij-agf-en-foodservice/gs1-5-7\" style=\"color:blue; text-decoration:underline\" target=\"_blank\"> https://www.gs1.nl/sectorafspraken-over-standaarden/productdata-levensmiddelen-drogisterij-agf-en-foodservice/gs1-5-7</a> <br />\n<br />\n- Voor het terugvinden van taalcodes zie: <a href=\" http://www.loc.gov/standards/iso639-2/php/code_list.php\" style=\"color:blue; text-decoration:underline\" target=\"_blank\"> http://www.loc.gov/standards/iso639-2/php/code_list.php</a> <br />\n<br />\nLokale in Nederland gebruikte validatieregels zijn: 500.382 ",null,"Verplicht als het veld ‘Gebruiksinstructies’ is ingevuld bij de consumenteneenheid.","Verplicht als het veld ‘Gebruiksinstructies’ is ingevuld bij de handelseenheid.","Verplicht als het veld ‘Gebruiksinstructies’ is ingevuld bij de pallet.",{"$f":"IFERROR(LEFT(B195,LEN(B195)-LEN('BES EN'!E195)-3),\"Doelsector\")","v":"Gebruiksinstructies taalcode"}]
["ANL1235","Bewaarinstructies (consumerStorageInstructions)","Voor drogisterijartikelen, cosmetica en persoonlijke verzorgingsproducten neemt u specifieke waarschuwingen, interacties en contra-indicaties op in het veld &#39;Waarschuwingen en gebruiksbeperkingen&#39;.<br />\n<br />\nVoor zelfzorggeneesmiddelen: vul risicowaarschuwingen, contra-indicaties en gebruiksbeperkingen in het veld &#39;Waarschuwingen en gebruiksbeperkingen&#39; in.<br />\n<br />\nVoor drogisterijartikelen, cosmetica en persoonlijke verzorgingsproducten: vul in dit veld ook instructies in voor het weggooien van het product. Begin deze tekst met &#39;Verwijder:&#39; om deze te onderscheiden van de tekst over bewaren.<br />\n<br />\nDit veld wordt in Nederland gecontroleerd in het kader van het datakwaliteitsprogramma.\n","Geeft in tekstvorm bewaarinstructies van een artikel die normaal gesproken op het etiket staan of zijn bijgesloten. Deze informatie kan op de verpakking staan, maar dat hoeft niet. De instructies kunnen verwijzen naar een aanbevolen bewaartemperatuur of een specifieke vereiste opslag.\n","Voedingsmiddelen:<br />\nKoel en droog bewaren.<br />\nHoud rauwe voedingsmiddelen gescheiden van kant-en-klare producten en gaar voedsel.<br />\n<br />\nDrogisterij en Zelfzorggeneesmiddelen:<br />\nGesloten en bij kamertemperatuur (15-25 &deg;C) op een droge en donkere plaats bewaren.<br />\nBewaar de pleisterstrips in de oorspronkelijke verpakking, een verbanddoos of verbandtas.<br />\n<br />\nDiervoeding:<br />\nDit product dient op een koele en droge plaats bewaard te worden. Houd gesloten voor maximaal kauwplezier. Om verstikking te voorkomen, gelieve de verpakking altijd buiten het bereik van baby&#39;s, kleine kinderen en huisdieren te houden.<br />\n<br />\nCosmetica en persoonlijke verzorgingsproducten:<br />\nTegen zonlicht beschermen<br />\nNiet blootstellen aan temperaturen boven 50 &deg;C\n","Voer de etiketinformatie in die verband houdt met het bewaren van het artikel. Als de instructies grafisch zijn weergegeven, vertaal deze dan naar tekst.<br />\n<br />\nNeem voor voedingsmiddelen en diervoeding ook eventuele vrijwillige waarschuwingen op die betrekking hebben op het bewaren van het product.<br />\n<br />\nVoor zelfzorggeneesmiddelen, cosmetica en persoonlijke verzorgingsproducten vult u hier de periode in die aangeeft hoe lang het product kan worden gebruikt na opening van de verpakking indien dit als tekst op het etiket staat. Staat het &#39;open pot&#39; symbool op de verpakking, vul dan de periode in bij het veld &#39;Houdbaarheid voor een klant na opening&#39;.\n","Zie voor aanvullende toelichting <a href=\" https://www.gs1.nl/sectorafspraken-over-standaarden/productdata-levensmiddelen-drogisterij-agf-en-foodservice/gs1-5-7\" style=\"color:blue; text-decoration:underline\" target=\"_blank\"> https://www.gs1.nl/sectorafspraken-over-standaarden/productdata-levensmiddelen-drogisterij-agf-en-foodservice/gs1-5-7</a>","","Verplicht als op het etiket/de verpakking instructies en informatie voor de consument staan over het goed bewaren van het product. "," "," ",{"$f":"IFERROR(LEFT(B196,LEN(B196)-LEN('BES EN'!E196)-3),\"Doelsector\")","v":"Bewaarinstructies"}]
["ANL1236","Bewaarinstructies taalcode (consumerStorageInstructions/@languageCode)","Dit veld wordt in Nederland gecontroleerd in het kader van het datakwaliteitsprogramma.","Code die een taal specificeert. Toegestane codewaarden staan gespecificeerd in de GS1 codelijst 'LanguageCode'.","nl","Selecteer de correcte waarde uit de 'ISO 639-1 (2-alpha)' codelijst.","Zie voor aanvullende toelichting <a href=\" https://www.gs1.nl/sectorafspraken-over-standaarden/productdata-levensmiddelen-drogisterij-agf-en-foodservice/gs1-5-7\" style=\"color:blue; text-decoration:underline\" target=\"_blank\"> https://www.gs1.nl/sectorafspraken-over-standaarden/productdata-levensmiddelen-drogisterij-agf-en-foodservice/gs1-5-7</a> <br />\n<br />\n- Voor het terugvinden van taalcodes zie: <a href=\" http://www.loc.gov/standards/iso639-2/php/code_list.php\" style=\"color:blue; text-decoration:underline\" target=\"_blank\"> http://www.loc.gov/standards/iso639-2/php/code_list.php</a> ",null,"Verplicht als het veld ‘Bewaarinstructies’ is ingevuld bij de consumenteneenheid.","Verplicht als het veld ‘Bewaarinstructies’ is ingevuld bij de handelseenheid.","Verplicht als het veld ‘Bewaarinstructies’ is ingevuld bij de pallet.",{"$f":"IFERROR(LEFT(B197,LEN(B197)-LEN('BES EN'!E197)-3),\"Doelsector\")","v":"Bewaarinstructies taalcode"}]
["ANL1237","Voedingsclaim (nutritionalClaim)","Dit veld wordt in Nederland gecontroleerd in het kader van het datakwaliteitsprogramma.\n","<p>Vrij tekstveld voor verdere aanvullende voedingsclaims.</p>\n","<p>Rijk aan eiwitten.<br />\nDit product bevat 35% minder kcal dan de basisvariant van het product.<br />\nBron van vitamine C</p>\n","<p>Als er voedingsclaims op het etiket staan, vult u deze hier in. Gebruik &eacute;&eacute;n van de geautoriseerde claims van: <a href=\" https://ec.europa.eu/food/safety/labelling_nutrition/claims/register/public/?event=register.home\" style=\"color:blue; text-decoration:underline\" target=\"_blank\"> https://ec.europa.eu/food/safety/labelling_nutrition/claims/register/public/?event=register.home</a>. Of zie de bijlage van verordening (EG) nr. 1924/2006 (<a href=\" https://eur-lex.europa.eu/LexUriServ/LexUriServ.do?uri=OJ:L:2006:404:0009:0025:NL:PDF\" style=\"color:blue; text-decoration:underline\" target=\"_blank\"> https://eur-lex.europa.eu/LexUriServ/LexUriServ.do?uri=OJ:L:2006:404:0009:0025:NL:PDF</a>).<br />\nAls de zin &#39;Dit product bevat van nature aanwezige suikers&#39; op het etiket staat, dan mag u deze in dit veld opvoeren bij de bijbehorende claim &#39;zonder toegevoegde suikers&#39; of in het veld &#39;Verplichte vermeldingen&#39; opnemen.</p>\n","","","Verplicht voor voedingsmiddelen, bijzondere voedingsmiddelen en voedingssupplementen als er voedingsclaims op het etiket staan"," "," ",{"$f":"IFERROR(LEFT(B198,LEN(B198)-LEN('BES EN'!E198)-3),\"Doelsector\")","v":"Voedingsclaim"}]
["ANL1238","Voedingsclaim taalcode (nutritionalClaim/@languageCode)","Dit veld wordt in Nederland gecontroleerd in het kader van het datakwaliteitsprogramma.","Code die een taal specificeert. Toegestane codewaarden staan gespecificeerd in de GS1 codelijst 'LanguageCode'.","nl","Selecteer de correcte waarde uit de 'ISO 639-1 (2-alpha)' codelijst.","Zie voor aanvullende toelichting <a href=\" https://www.gs1.nl/sectorafspraken-over-standaarden/productdata-levensmiddelen-drogisterij-agf-en-foodservice/gs1-5-7\" style=\"color:blue; text-decoration:underline\" target=\"_blank\"> https://www.gs1.nl/sectorafspraken-over-standaarden/productdata-levensmiddelen-drogisterij-agf-en-foodservice/gs1-5-7</a> <br />\n<br />\n- Voor het terugvinden van taalcodes zie: <a href=\" http://www.loc.gov/standards/iso639-2/php/code_list.php\" style=\"color:blue; text-decoration:underline\" target=\"_blank\"> http://www.loc.gov/standards/iso639-2/php/code_list.php</a> ",null,"Verplicht als het veld ‘Voedingsclaim’ is ingevuld bij de consumenteneenheid.","Verplicht als het veld ‘Voedingsclaim’ is ingevuld bij de handelseenheid.","Verplicht als het veld ‘Voedingsclaim’ is ingevuld bij de pallet.",{"$f":"IFERROR(LEFT(B199,LEN(B199)-LEN('BES EN'!E199)-3),\"Doelsector\")","v":"Voedingsclaim taalcode"}]
["ANL1239","Serveersuggestie (servingSuggestion)","","Een suggestie voor hoe het product geserveerd kan worden om de consumentenervaring te verbeteren.\n","Serveer met fruit en groente voor een uitgebalanceerde maaltijd.<br />\nKan worden gebruikt om een Aziatisch accent te geven aan broodjes, wraps, tacobowls, roerbakschotels etc.<br />\nKan worden gebruikt als dipsaus en marinade.\n","Als er serveersuggesties op het etiket staan, dan kunt u die hier vermelden. Serveersuggesties zijn tips over ingrediënten/producten die goed passen bij het gerecht, maar niet noodzakelijk zijn. Dit wordt soms weergegeven door een plaatje en dat mag vertaald worden naar tekst, maar dat hoeft niet.","",""," Verplicht als er een serveersuggestie op het etiket staat."," "," ",{"$f":"IFERROR(LEFT(B200,LEN(B200)-LEN('BES EN'!E200)-3),\"Doelsector\")","v":"Serveersuggestie"}]
["ANL1240","Serveersuggestie taalcode (servingSuggestion/@languageCode)",null,"Code die een taal specificeert. Toegestane codewaarden staan gespecificeerd in de GS1 codelijst 'LanguageCode'.","nl","Selecteer de correcte waarde uit de 'ISO 639-1 (2-alpha)' codelijst.","Zie voor aanvullende toelichting <a href=\" https://www.gs1.nl/sectorafspraken-over-standaarden/productdata-levensmiddelen-drogisterij-agf-en-foodservice/gs1-5-7\" style=\"color:blue; text-decoration:underline\" target=\"_blank\"> https://www.gs1.nl/sectorafspraken-over-standaarden/productdata-levensmiddelen-drogisterij-agf-en-foodservice/gs1-5-7</a> <br />\n<br />\n- Voor het terugvinden van taalcodes zie: <a href=\" http://www.loc.gov/standards/iso639-2/php/code_list.php\" style=\"color:blue; text-decoration:underline\" target=\"_blank\"> http://www.loc.gov/standards/iso639-2/php/code_list.php</a> ",null,"Verplicht als het veld ‘Serveersuggestie’ is ingevuld bij de consumenteneenheid.","Verplicht als het veld ‘Serveersuggestie’ is ingevuld bij de handelseenheid.","Verplicht als het veld ‘Serveersuggestie’ is ingevuld bij de pallet.",{"$f":"IFERROR(LEFT(B201,LEN(B201)-LEN('BES EN'!E201)-3),\"Doelsector\")","v":"Serveersuggestie taalcode"}]
["ANL1241","Gezondheidsclaim (healthClaimDescription)","Zelfzorggeneesmiddelen: de verkorte indicatie is voor gebruik in mobiele apps, de uitgebreide indicatie is bedoeld voor bijvoorbeeld websites of andere toepassingen.<br />\n<br />\nVoorbeelden van alternatieve bewoordingen van toegestane gezondheidsclaims voor voedingsmiddelen,&nbsp;bijzondere voedingsmiddelen en voedingssupplementen staan op:&nbsp;<a href=\"https://www.keuringsraad.nl/gezondheidsproducten/claimsdatabase\" style=\"color:#0563c1; text-decoration:underline\">https://www.keuringsraad.nl/gezondheidsproducten/claimsdatabase</a>.<br />\n<br />\nDit veld wordt in Nederland gecontroleerd in het kader van het datakwaliteitsprogramma.","Een omschrijving van eventuele gezondheidsclaims conform de wetgeving in de doelmarkt.\n","Voedingsmiddelen:<br />\nBewezen: verlaagt het cholesterolgehalte significant<br />\nEiwitten zijn nodig voor een normale groei en ontwikkeling van het beendergestel van kinderen<br />\n<br />\nDrogisterij:<br />\nVitamine C verbetert de opname van ijzer<br />\nVitamine C verhoogt uw weerstand<br />\nVerbetert uw stemming<br />\nGeeft extra energie wanneer u moe bent<br />\nGoed voor de werking van spieren en het zenuwstelsel<br />\n<br />\nDisclaimer:<br />\nGezondheidsclaim in afwachting van Europese toelating.<br />\nEvaluatie gezondheidsclaim loopt nog.<br />\n<br />\nZelfzorggeneesmiddelen:<br />\nBij griep.<br />\nBij misselijkheid, opgeblazen gevoel en zure oprispingen.#Te gebruiken bij: volwassenen - behandeling van de symptomen van misselijkheid en braken - bij een opgeblazen gevoel en oprispingen van de maaginhoud. Kinderen ouder dan 12 jaar en met een lichaamsgewicht van 35 kg of meer - behandeling van de symptomen van misselijkheid en braken.<br />\nAcetylcyste&iuml;ne 600 mg bruistabletten kan worden gebruikt bij aandoeningen van de luchtwegen, zoals astma, bronchitis (ontsteking van het slijmvlies van de luchtpijp), emfyseem, mucoviscidose (taaislijmziekte) en bij bronchi&euml;ctasie&euml;n (langdurige verwijding van een vertakking van de luchtpijp).","Staan er gezondheidsclaims op het etiket? Vermeld deze dan hier. In dit veld kunt u maximaal 1000 posities invullen. Als dit niet voldoende is, herhaal dit veld dan.<br />\n<br />\nVoor voedingsmiddelen: gezondheidsclaims op het etiket vereisen dat er bepaalde informatie bij wordt vermeld (zie wetgeving 1924/2006 artikel 10 a, b, c, d). U vult deze informatie als die op het etiket staat in dit veld in of in het veld &#39;Verplichte vermeldingen&#39;.<br />\n<br />\nVoor medische hulpmiddelen, voedingssupplementen, bijzondere voedingsmiddelen: Als er twee claims staan in een net iets andere bewoording, neem dan de claim van de voorkant van het product over. De claim op de achterkant mag bij &#39;Marketingformatie&#39; of &lsquo;Unique selling point van het product&rsquo;. Als een claim alleen op een deel van de verpakking staat die niet de voorkant is, moet deze ook in dit veld worden opgenomen.<br />\n<br />\nLet op: Staat er bij een voedingssupplement of levensmiddel een disclaimer op het etiket die aangeeft dat de gezondheidsclaim nog niet is goedgekeurd? Voer dan de tekst van de disclaimer hier ook in. <br />\n<br />\nVoor zelfzorggeneesmiddelen: Gebruik dit veld ook voor medische claims of indicaties die op de verpakking van een zelfzorggeneesmiddel voorkomen. De verkorte indicatie staat vaak op de voorzijde van de verpakking en de uitgebreide indicatie op de achterzijde van de verpakking. In dat geval vult u eerst de verkorte indicatie in, dan een #-teken, en daarna de uitgebreide indicatie. Als er alleen een uitgebreide indicatie is, vult u eerst een #-teken in, gevolgd door de uitgebreide indicatie.<br />\n<br />\nVoor cosmetica en persoonlijke verzorgingsproducten: in dit veld vult u gezondheidsclaims in. Als er twee claims staan in een net iets andere bewoording, neem dan de claim van de voorkant van het product over. De claim op de achterkant mag bij &#39;Marketingformatie&#39; of &lsquo;Unique selling point van het product&rsquo;. Als een claim alleen op een deel van de verpakking staat die niet de voorkant is, moet deze ook in dit veld worden opgenomen.","Lokale in Nederland gebruikte validatieregels zijn: 500.220\n","","Verplicht als er gezondheidsclaims en/of medische claims op de verpakking staan."," "," ",{"$f":"IFERROR(LEFT(B202,LEN(B202)-LEN('BES EN'!E202)-3),\"Doelsector\")","v":"Gezondheidsclaim"}]
["ANL1242","Gezondheidsclaim taalcode (healthClaimDescription/@languageCode)","Dit veld wordt in Nederland gecontroleerd in het kader van het datakwaliteitsprogramma.","Code die een taal specificeert. Toegestane codewaarden staan gespecificeerd in de GS1 codelijst 'LanguageCode'.","nl","Selecteer de correcte waarde uit de 'ISO 639-1 (2-alpha)' codelijst.","Zie voor aanvullende toelichting <a href=\" https://www.gs1.nl/sectorafspraken-over-standaarden/productdata-levensmiddelen-drogisterij-agf-en-foodservice/gs1-5-7\" style=\"color:blue; text-decoration:underline\" target=\"_blank\"> https://www.gs1.nl/sectorafspraken-over-standaarden/productdata-levensmiddelen-drogisterij-agf-en-foodservice/gs1-5-7</a> <br />\n<br />\n- Voor het terugvinden van taalcodes zie: <a href=\" http://www.loc.gov/standards/iso639-2/php/code_list.php\" style=\"color:blue; text-decoration:underline\" target=\"_blank\"> http://www.loc.gov/standards/iso639-2/php/code_list.php</a> ",null,"Verplicht als het veld ‘Gezondheidsclaim’ is ingevuld bij de consumenteneenheid.","Verplicht als het veld ‘Gezondheidsclaim’ is ingevuld bij de handelseenheid.","Verplicht als het veld ‘Gezondheidsclaim’ is ingevuld bij de pallet.",{"$f":"IFERROR(LEFT(B203,LEN(B203)-LEN('BES EN'!E203)-3),\"Doelsector\")","v":"Gezondheidsclaim taalcode"}]
["ANL1243","Marketinginformatie (tradeItemMarketingMessage)","Deze informatie gebruiken retailers om het product op hun website te beschrijven. Dit veld geeft de toegevoegde waarde van het product aan voor de consument.<br />\n<br />\nWij en retailers raden u aan deze marketingboodschap zorgvuldig te vullen omdat de informatie in dit veld bij sommige retailers meteen zichtbaar is voor de consument. <br />\n<br />\nDe unique selling points kunt u in het veld ‘Unique selling point van het product’ (Trade Item Feature Benefit) invullen.","Marketingboodschap die bij het artikel hoort.\n","Voedingsmiddelen:<br />\nDe energiedrank met een geweldige smaak. Een toegankelijke energy drink waarmee je een boost kunt geven aan je dag. Het 0,25l blikje is ideaal voor onderweg.<br />\n<br />\nWijn:\nIWSC golden metal 2020<br />\n<br />\nDrogisterij:<br />\nDit product is ontwikkeld door dermatologen.<br />\nDit product bevat uitsluitend natuurlijke ingredi&euml;nten.<br />\n<br />\nCosmetica en persoonlijke verzorgingsproducten:<br />\nDe ideale verzorging voor de hele familie.<br />\n<br />\nDetergenten:&nbsp;<br />\nWaspoeder kleur is een krachtig wasmiddel geschikt voor alle gekleurde was. De kleurbeschermer zorgt ervoor dat kleuren langer mooi blijven.\n","Gebruik dit veld om de belangrijkste marketingboodschap naar de consument te communiceren. Stel de marketingboodschap bijv. samen uit teksten die op de verpakking staan. Gebruik bij voorkeur niet meer dan 200 karakters. Zo zorgt u ervoor dat de tekst goed leesbaar is op elk type scherm. Dit veld is herhaalbaar, dit betekent dat u overige marketingteksten in de herhalingen kunt plaatsen, zoals informatie over prijzen die de wijn of het bier heeft gewonnen.","",""," "," "," ",{"$f":"IFERROR(LEFT(B204,LEN(B204)-LEN('BES EN'!E204)-3),\"Doelsector\")","v":"Marketinginformatie"}]
["ANL1244","Marketinginformatie taalcode (tradeItemMarketingMessage/@languageCode)",null,"Code die een taal specificeert. Toegestane codewaarden staan gespecificeerd in de GS1 codelijst 'LanguageCode'.","nl","Selecteer de correcte waarde uit de 'ISO 639-1 (2-alpha)' codelijst.","Zie voor aanvullende toelichting <a href=\" https://www.gs1.nl/sectorafspraken-over-standaarden/productdata-levensmiddelen-drogisterij-agf-en-foodservice/gs1-5-7\" style=\"color:blue; text-decoration:underline\" target=\"_blank\"> https://www.gs1.nl/sectorafspraken-over-standaarden/productdata-levensmiddelen-drogisterij-agf-en-foodservice/gs1-5-7</a> <br />\n<br />\n- Voor het terugvinden van taalcodes zie: <a href=\" http://www.loc.gov/standards/iso639-2/php/code_list.php\" style=\"color:blue; text-decoration:underline\" target=\"_blank\"> http://www.loc.gov/standards/iso639-2/php/code_list.php</a> ",null,"Verplicht als het veld ‘Marketinginformatie’ is ingevuld bij de consumenteneenheid.","Verplicht als het veld ‘Marketinginformatie’ is ingevuld bij de handelseenheid.","Verplicht als het veld ‘Marketinginformatie’ is ingevuld bij de pallet.",{"$f":"IFERROR(LEFT(B205,LEN(B205)-LEN('BES EN'!E205)-3),\"Doelsector\")","v":"Marketinginformatie taalcode"}]
["ANL1246","Code dieettype (dietTypeCode)","Dit veld wordt in Nederland gecontroleerd in het kader van het datakwaliteitsprogramma.","Een code die het dieet aangeeft waarvoor het artikel geschikt is.\n","HALAL\n","Geef hier aan voor welk dieet het product geschikt is, dit kan zowel grafisch als in tekst op het product staan. Gebruik hiervoor de codelijst dietTypeCode.\n","","","Verplicht als het product geschikt is voor een bepaald dieet"," "," ",{"$f":"IFERROR(LEFT(B206,LEN(B206)-LEN('BES EN'!E206)-3),\"Doelsector\")","v":"Code dieettype"}]
["ANL1248","Overige keurmerken (packagingMarkedLabelAccreditationCode)","Het is mogelijk om dit veld meer dan eens in te vullen, maar een waarde mag slechts &eacute;&eacute;n keer worden gebruikt.<br />\n<br />\nDit veld wordt in Nederland gecontroleerd in het kader van het datakwaliteitsprogramma.\n","Een keurmerk waaruit blijkt dat het artikel erkenning, goedkeuring of certificatie heeft ontvangen naar aanleiding van het opvolgen van richtlijnen van de instantie die het keurmerk uitgeeft. Dit heeft geen betrekking op claims op artikelen met een wettelijk bepaalde betekenis, zoals &#39;vrij van&#39;-keurmerken.\n","UTZ_CERTIFIED<br />\nAQUACULTURE_STEWARDSHIP_COUNCIL<br />\nFAIR_TRADE_MARK\n","Als er een keurmerk op het etiket of de verpakking staat dat deel uitmaakt van de codelijst &#39;packagingMarkedLabelAccreditationCode&#39;, dan vult u dat hier in. Zie daarvoor de internationale keurmerkenlijst (Packaging Label Guide) op onze website: (<a href=\" https://www.gs1.nl/sectorafspraken-over-standaarden/productdata-levensmiddelen-drogisterij-agf-en-foodservice/gs1-5-5\" style=\"color:blue; text-decoration:underline\" target=\"_blank\"> https://www.gs1.nl/sectorafspraken-over-standaarden/productdata-levensmiddelen-drogisterij-agf-en-foodservice/gs1-5-5</a>.\n","Zie voor aanvullende toelichting <a href=\" https://www.gs1.nl/sectorafspraken-over-standaarden/productdata-levensmiddelen-drogisterij-agf-en-foodservice/gs1-5-7\" style=\"color:blue; text-decoration:underline\" target=\"_blank\"> https://www.gs1.nl/sectorafspraken-over-standaarden/productdata-levensmiddelen-drogisterij-agf-en-foodservice/gs1-5-7</a> <br />\n<br />\nLokale in Nederland gebruikte validatieregels zijn: 500.184\n","","Verplicht als er een keurmerk op de verpakking staat van de consumenteneenheid die voorkomt in de internationale keurmerkenlijst, optioneel voor detergenten en biociden."," "," ",{"$f":"IFERROR(LEFT(B207,LEN(B207)-LEN('BES EN'!E207)-3),\"Doelsector\")","v":"Overige keurmerken"}]
["ANL1249","Aanvullend logo op product/verpakking (localPackagingMarkedLabelAccreditationCodeReference)","Het is mogelijk om dit veld meer dan eens in te vullen, maar u mag een waarde slechts &eacute;&eacute;n keer gebruiken.<br />\n<br />\nDit veld wordt in Nederland gecontroleerd in het kader van het datakwaliteitsprogramma.\n","Wordt gebruikt voor markeringen op de verpakking die lokaal worden beheerd en geen wettelijk bepaalde betekenis hebben. Gebruik lokale codelijsten om dit veld in te vullen.\n","SEPARATE_COLLECTION\n","Gebruik dit veld om de code(s) van aanvullende logo's op de verpakking van het artikel in te voeren. Gebruik de code ‘SEPARATE_COLLECTION’ indien op de verpakking een afvalbak aangeeft dat het product separaat ter verwijdering moet worden verzameld.","Zie voor aanvullende toelichting <a href=\" https://www.gs1.nl/sectorafspraken-over-standaarden/productdata-levensmiddelen-drogisterij-agf-en-foodservice/gs1-5-7\" style=\"color:blue; text-decoration:underline\" target=\"_blank\"> https://www.gs1.nl/sectorafspraken-over-standaarden/productdata-levensmiddelen-drogisterij-agf-en-foodservice/gs1-5-7</a> <br />\n<br />\nLokale in Nederland gebruikte validatieregels zijn: 500.250\n","","Verplicht voor voedingsmiddelen, voedingssupplementen, bijzondere voedingsmiddelen, cosmetica en persoonlijke verzorgingsproducten, gezondheidsproducten en batterijen als het op het etiket/de verpakking staat.",null,null,{"$f":"IFERROR(LEFT(B208,LEN(B208)-LEN('BES EN'!E208)-3),\"Doelsector\")","v":"Aanvullend logo op product/verpakking"}]
["ANL1253","Type extern bestand (referencedFileTypeCode)","Productafbeeldingen: als u dit veld gebruikt, dan moet u tevens de velden &#39;Link naar extern bestand&#39; en &#39;Naam van extern bestand&#39; invullen. Dit moet u doen voor de datum die in het veld Startdatum/tijd beschikbaarheid is ingevoerd.<br />\n<br />\nBijsluiter of gebruiksaanwijzing: als u dit veld gebruikt, dan moet u tevens het veld &#39;Link naar extern bestand&#39; invullen.<br />\n<br />\nU kunt deze groep van velden meerdere keren gebruiken.<br />\n<br />\nDit veld wordt in Nederland gecontroleerd in het kader van het datakwaliteitsprogramma.\n","Code die het soort bestand aanduidt waarnaar wordt gerefereerd.\n","PRODUCT_IMAGE (link naar een bestand met daarin een visuele weergave van het artikel)<br />\nMOBILE_READY_HERO_IMAGE<br />\nIFU (Instructions For Use)<br />\nWEBSITE<br />\nDISPOSAL_INSTRUCTION<br />\nDECLARATION_OF_CONFORMITY","Haal de benodigde waarde op uit de GDSN codelijst referencedFileTypeCode.<br />\n<br />\nVoor productafbeeldingen gebruikt u de code &#39;PRODUCT_IMAGE&#39;. Let op: U bent verplicht tenminste &eacute;&eacute;n productafbeelding voor elke nieuwe of gewijzigde consumenteneenheid toe te voegen voor alle producten. Voor tabaksproducten is slechts &eacute;&eacute;n productafbeelding toegestaan. Indien u naast de productafbeelding ook een &#39;hero&#39; afbeelding wilt toevoegen, moet u hiervoor de code &#39;MOBILE_READY_HERO_IMAGE&#39; gebruiken.<br />\n<br />\nDrogisterij: Gebruik de code IFU voor het aanduiden van de bijsluiter/gebruiksaanwijziging.<br />\n<br />\nVoor lampen gebruikt u de code &#39;DISPOSAL_INSTRUCTION&#39; om aan te geven hoe u&nbsp;deze producten moet opruimen bijv. in het geval van een gebroken kwiklamp.<br />\n<br />\nVoor medische hulpmiddelen kunt u de conformiteitsverklaring toevoegen zoals gevraagd door de EU Medical Device Regulation door de code &#39;DECLARATION_OF_CONFORMITY&#39; te gebruiken.\n","Zie voor aanvullende toelichting <a href=\" https://www.gs1.nl/sectorafspraken-over-standaarden/productdata-levensmiddelen-drogisterij-agf-en-foodservice/gs1-5-7\" style=\"color:blue; text-decoration:underline\" target=\"_blank\"> https://www.gs1.nl/sectorafspraken-over-standaarden/productdata-levensmiddelen-drogisterij-agf-en-foodservice/gs1-5-7</a><br />\n<br />\n- Belgilux image specifications: <a href=\" https://gs1belu.org/nl/documentatie/handleiding-productafbeeldingspecificaties\" style=\"color:blue; text-decoration:underline\" target=\"_blank\"> https://gs1belu.org/nl/documentatie/handleiding-productafbeeldingspecificaties</a><br />\n<br />\n- NL Productafbeelding Specificaties: <a href=\" https://www.gs1.nl/sites/default/files/so_productafbeeldingen_specificatiesengebruiksregels.pdf\" style=\"color:blue; text-decoration:underline\" target=\"_blank\"> https://www.gs1.nl/sites/default/files/so_productafbeeldingen_specificatiesengebruiksregels.pdf</a><br />\n<br />\nLokale in Nederland gebruikte validatieregels zijn: 500.204, 500.267, 500.275\n","","Verplicht voor productafbeeldingen en voor zelfzorggeneesmiddelen. Voor medische hulpmiddelen verplicht indien aanwezig."," "," ",{"$f":"IFERROR(LEFT(B209,LEN(B209)-LEN('BES EN'!E209)-3),\"Doelsector\")","v":"Type extern bestand"}]
["ANL1254","Link naar extern bestand (uniformResourceIdentifier)","Productafbeeldingen: als u dit veld gebruikt, dan moet u tevens de velden &#39;Type extern bestand&#39;, &#39;Naam van extern bestand&#39; invullen. Dit moet u doen voor de datum die in het veld Startdatum/tijd beschikbaarheid is ingevoerd.<br />\n<br />\nBijsluiter en gebruiksaanwijzing: als u dit veld gebruikt, dan moet u tevens het veld &#39;Type extern bestand invullen. Verwijs naar de bijsluiter die het CBG (College ter Beoordeling van Geneesmiddelen) heeft goedgekeurd.<br />\n<br />\nU kunt deze groep van velden meerdere keren gebruiken.<br />\n<br />\nDit veld wordt in Nederland gecontroleerd in het kader van het datakwaliteitsprogramma.\n","Locatie plus naam van het bestand dat de externe informatie bevat.\n","http://www.leverancierX.nl/08015565080208_A1L1.TIF<br />\nhttp://db.cbg-meb.nl/Bijsluiters/h109926.pdf<br />\nwww.philips.com\n","Vul hier het volledige internetadres in, dat leidt naar de locatie waar afbeelding, video, geluidsfragment of document is opgeslagen, inclusief de bestandsnaam en de bestandsextensie.<br />\n<br />\nVoor lampen die kwik bevatten: Vul hier de link in naar de website die moet worden geraadpleegd als de lamp per ongeluk breekt, voor instructies over hoe de brokstukken van de lamp moeten worden opgeruimd.","Zie voor aanvullende toelichting <a href=\" https://www.gs1.nl/sectorafspraken-over-standaarden/productdata-levensmiddelen-drogisterij-agf-en-foodservice/gs1-5-7\" style=\"color:blue; text-decoration:underline\" target=\"_blank\"> https://www.gs1.nl/sectorafspraken-over-standaarden/productdata-levensmiddelen-drogisterij-agf-en-foodservice/gs1-5-7</a> <br />\n<br />\n- Belgilux image specifications: <a href=\" https://gs1belu.org/nl/documentatie/handleiding-productafbeeldingspecificaties\" style=\"color:blue; text-decoration:underline\" target=\"_blank\"> https://gs1belu.org/nl/documentatie/handleiding-productafbeeldingspecificaties</a> <br />\n<br />\n- NL Productafbeelding Specificaties: <a href=\" https://www.gs1.nl/sites/default/files/so_productafbeeldingen_specificatiesengebruiksregels.pdf\" style=\"color:blue; text-decoration:underline\" target=\"_blank\"> https://www.gs1.nl/sites/default/files/so_productafbeeldingen_specificatiesengebruiksregels.pdf</a> <br />\n<br />\nLokale in Nederland gebruikte validatieregels zijn: 500.267, 500.275\n",null,"Verplicht voor productafbeeldingen en voor zelfzorggeneesmiddelen. Voor medische hulpmiddelen verplicht indien aanwezig."," "," ",{"$f":"IFERROR(LEFT(B210,LEN(B210)-LEN('BES EN'!E210)-3),\"Doelsector\")","v":"Link naar extern bestand"}]
["ANL1256","Naam van extern bestand (fileName)","Productafbeeldingen: als u dit veld gebruikt, dan moet u tevens de velden &#39;Type extern bestand, &#39;Link naar extern bestand&#39; invullen. Dit moet u doen voor de datum die in het veld Startdatum/tijd beschikbaarheid is ingevoerd.\n\nBijsluiter en gebruiksaanwijzing: u kunt dit veld leeg laten.\n\nU kunt deze groep van velden meerdere keren gebruiken.\n","Naam van het bestand dat de externe informatie bevat.\n","08015565080208_A1L1.pdf\n","Vul hier de naam van het externe bestand in. Deze naam is inclusief de extensie die door de software automatisch gegenereerd wordt. Voor productafbeeldingen is de naamgeving vastgelegd in het document &#39;Productafbeeldingen Specificaties en gebruikersregels voor de levensmiddelen- en drogisterijsector&#39;.\n","Zie voor aanvullende toelichting <a href=\" https://www.gs1.nl/sectorafspraken-over-standaarden/productdata-levensmiddelen-drogisterij-agf-en-foodservice/gs1-5-7\" style=\"color:blue; text-decoration:underline\" target=\"_blank\"> https://www.gs1.nl/sectorafspraken-over-standaarden/productdata-levensmiddelen-drogisterij-agf-en-foodservice/gs1-5-7</a>\n\n- Belgilux image specifications: <a href=\" https://gs1belu.org/nl/documentatie/handleiding-productafbeeldingspecificaties\" style=\"color:blue; text-decoration:underline\" target=\"_blank\"> https://gs1belu.org/nl/documentatie/handleiding-productafbeeldingspecificaties</a> \n\n- NL Productafbeelding Specificaties: <a href=\" https://www.gs1.nl/sites/default/files/so_productafbeeldingen_specificatiesengebruiksregels.pdf\" style=\"color:blue; text-decoration:underline\" target=\"_blank\"> https://www.gs1.nl/sites/default/files/so_productafbeeldingen_specificatiesengebruiksregels.pdf</a> \n\nLokale in Nederland gebruikte validatieregels zijn: NL-V267\n",null,"Verplicht voor productafbeeldingen."," "," ",{"$f":"IFERROR(LEFT(B211,LEN(B211)-LEN('BES EN'!E211)-3),\"Doelsector\")","v":"Naam van extern bestand"}]
["ANL1257","Ingangsdatum van het bestand (fileEffectiveStartDateTime)",null,"De datum waarop het doelbestand van deze externe link van kracht wordt.","2016-05-31T08:00:00 (yyyy-mm-ddThh:mi:ss)","Voer de juiste datum en tijd in. ","Zie voor aanvullende toelichting <a href=\" https://www.gs1.nl/sectorafspraken-over-standaarden/productdata-levensmiddelen-drogisterij-agf-en-foodservice/gs1-5-7\" style=\"color:blue; text-decoration:underline\" target=\"_blank\"> https://www.gs1.nl/sectorafspraken-over-standaarden/productdata-levensmiddelen-drogisterij-agf-en-foodservice/gs1-5-7</a>",null,null,null,null,{"$f":"IFERROR(LEFT(B212,LEN(B212)-LEN('BES EN'!E212)-3),\"Doelsector\")","v":"Ingangsdatum van het bestand"}]
["ANL1258","Dosering (dosageRecommendation)","Dit veld is niet hetzelfde als het veld &#39;Samenstelling/Ingredi&euml;nten&#39;.<br />\n<br />\nDit veld wordt in Nederland gecontroleerd in het kader van het datakwaliteitsprogramma.\n","Informatie over de dosering of doseringsbeperkingen van geneesmiddelen of supplementen die per keer moet worden toegediend/ingenomen. Deze is niet gebaseerd op een voorgeschreven dosering, maar op een aanbevolen dosering of aanbevolen beperking. Dit kan voorgedrukt op de verpakking van het product staan, of moet ge&euml;tiketteerd worden afhankelijk van de regulering per doelmarkt. Voorbeelden: Neem elke 4 uur 2 tabletten; elke dag 1 theelepel innemen, etc.","* 3x daags 1 capsule v&oacute;&oacute;r de maaltijd met water innemen. Na verloop van tijd kan worden overgegaan op een onderhoudsdosering van 2 capsules per dag.<br />\n* Neem niet meer dan 6 tabletten per dag in.<br />\n* Neem per 24 uur maximaal 3 tabletten in.<br />\n* De aanbevolen dosering niet overschrijden.<br />\n* De maximum dosering per dag is 20-30 mg ibuprofen per kg lichaamsgewicht, verdeeld over 3 of 4 giften.\n","Vermeld de aanbevolen dosering inclusief de maximale dagdosering en de doseringsbeperkingen zoals deze op de verpakking of op het etiket staan, en/of de wijze van gebruik.\n","Lokale in Nederland gebruikte validatieregels zijn: 500.199\n","","Verplicht voor bijzondere voedingsmiddelen, medische hulpmiddelen, voedingssupplementen, zelfzorggeneesmiddelen, gezondheidsproducten, cosmetica en persoonlijke verzorgingsproducten indien op de verpakking. Niet voor België."," "," ",{"$f":"IFERROR(LEFT(B213,LEN(B213)-LEN('BES EN'!E213)-3),\"Doelsector\")","v":"Dosering"}]
["ANL1259","Dosering taalcode (dosageRecommendation/@languageCode)",null,"Code die een taal specificeert. Toegestane codewaarden staan gespecificeerd in de GS1 codelijst 'LanguageCode'.","nl","Selecteer de correcte waarde uit de 'ISO 639-1 (2-alpha)' codelijst.","Zie voor aanvullende toelichting <a href=\" https://www.gs1.nl/sectorafspraken-over-standaarden/productdata-levensmiddelen-drogisterij-agf-en-foodservice/gs1-5-7\" style=\"color:blue; text-decoration:underline\" target=\"_blank\"> https://www.gs1.nl/sectorafspraken-over-standaarden/productdata-levensmiddelen-drogisterij-agf-en-foodservice/gs1-5-7</a> <br />\n<br />\n- Voor het terugvinden van taalcodes zie: <a href=\" http://www.loc.gov/standards/iso639-2/php/code_list.php\" style=\"color:blue; text-decoration:underline\" target=\"_blank\"> http://www.loc.gov/standards/iso639-2/php/code_list.php</a> ",null,"Verplicht als het veld ‘Dosering’ is ingevuld bij de consumenteneenheid.","Verplicht als het veld ‘Dosering’ is ingevuld bij de handelseenheid.","Verplicht als het veld ‘Dosering’ is ingevuld bij de pallet.",{"$f":"IFERROR(LEFT(B214,LEN(B214)-LEN('BES EN'!E214)-3),\"Doelsector\")","v":"Dosering taalcode"}]
["ANL1260","Waarschuwingen en gebruiksbeperkingen (drugSideEffectsAndWarnings)","Gebruiks- en bewaarinstructies vult u in de velden &#39;Gebruiksinstructies&#39; en &#39;Bewaarinstructies&#39; in. Vul de &#39;Verplichte vermeldingen&#39; in dat veld in (zie voor een overzicht van deze vermeldingen zie de link in Procesbeschrijving naar het document Toelichting).<br />\n<br />\nVoor zelfzorggeneesmiddelen vult u informatie die gaat over wanneer een product mogelijk gebruikt mag worden in het veld &#39;Aanvulling leeftijdsindicatie&#39; in. Zoals bijvoorbeeld: &#39;Niet gebruiken onder de 5 jaar tenzij een arts dit heeft geadviseerd&#39;.<br />\n<br />\nDit veld wordt in Nederland gecontroleerd in het kader van het datakwaliteitsprogramma.\n","Informatie over de bijwerkingen van het geneesmiddel of supplement. Dit kan voorgedrukt op de verpakking van het product staan, of moet ge&euml;tiketteerd worden afhankelijk van de regulering per doelmarkt. Voorbeelden zijn: Kan slaperigheid veroorzaken; geen machines bedienen; niet innemen bij zwangerschap, etc.\n","- Kan duizeligheid veroorzaken.<br />\n- Niet gebruiken in combinatie met alcohol.<br />\n- Niet gebruiken bij ernstige lever- of nierziekte.<br />\n- Niet gebruiken bij zwangerschap of borstvoeding.<br />\n- VOORZORGSMAATREGELEN: Niet spuiten op een afstand kleiner dan 15 cm van het lichaam. Vermijd opzettelijk inademen. Niet in de richting van de ogen spuiten. Niet op beschadigde huid spuiten.<br />\n- Restjes niet opnieuw gebruiken.\n","Neem de informatie betreffende de specifieke waarschuwingen, gebruiksbeperkingen, interacties en contra-indicaties over zoals deze op de verpakking of op het etiket staan.\n","","","Verplicht voor bijzondere voedingsmiddelen, medische hulpmiddelen, voedingssupplementen, zelfzorggeneesmiddelen, gezondheidsproducten, cosmetica en persoonlijke verzorgingsproducten als dit op het etiket/de verpakking staat. Niet voor België.",null,null,{"$f":"IFERROR(LEFT(B215,LEN(B215)-LEN('BES EN'!E215)-3),\"Doelsector\")","v":"Waarschuwingen en gebruiksbeperkingen"}]
["ANL1261","Waarschuwingen en gebruiksbeperkingen taalcode (drugSideEffectsAndWarnings/@languageCode)",null,"Code die een taal specificeert. Toegestane codewaarden staan gespecificeerd in de GS1 codelijst 'LanguageCode'.","nl","Selecteer de correcte waarde uit de 'ISO 639-1 (2-alpha)' codelijst.","Zie voor aanvullende toelichting <a href=\" https://www.gs1.nl/sectorafspraken-over-standaarden/productdata-levensmiddelen-drogisterij-agf-en-foodservice/gs1-5-7\" style=\"color:blue; text-decoration:underline\" target=\"_blank\"> https://www.gs1.nl/sectorafspraken-over-standaarden/productdata-levensmiddelen-drogisterij-agf-en-foodservice/gs1-5-7</a> <br />\n<br />\n- Voor het terugvinden van taalcodes zie: <a href=\" http://www.loc.gov/standards/iso639-2/php/code_list.php\" style=\"color:blue; text-decoration:underline\" target=\"_blank\"> http://www.loc.gov/standards/iso639-2/php/code_list.php</a> ",null,"Verplicht als het veld ‘Waarschuwingen en gebruiksbeperkingen’ is ingevuld bij de consumenteneenheid.","Verplicht als het veld ‘Waarschuwingen en gebruiksbeperkingen’ is ingevuld bij de handelseenheid.","Verplicht als het veld ‘Waarschuwingen en gebruiksbeperkingen’ is ingevuld bij de pallet.",{"$f":"IFERROR(LEFT(B216,LEN(B216)-LEN('BES EN'!E216)-3),\"Doelsector\")","v":"Waarschuwingen en gebruiksbeperkingen taalcode"}]
["ANL1262","Samenstelling/ingrediënten (nonfoodIngredientStatement)","Dit veld wordt in Nederland gecontroleerd in het kader van het datakwaliteitsprogramma.\n","De samenstelling van het artikel, opgesplitst in de naam van het ingrediënt, de hoeveelheid, de meeteenheid voor de hoeveelheid en het percentage ingrediënt. ","Drogisterijartikelen::<br /> \nSamenstelling:# Per dagelijkse dosis:# Vitamine B6;1,4;mg;100%# Vitamine B2 (Riboflavine);3,4 - 5,1;mg;242% - 364%# Echinacea purpurea;150;mg# Omeprazol;20;mg# % gebaseerd op de dagelijkse referentie-inname<br />\n<br /> \nSamenstelling: Een dagdosering van 12-20 sprays bevat de inhoudsstoffen van 3534-5891 mg extract van de in de ingredi&euml;ntenlijst genoemde planten (Echinacea purpurea herba en radix en Salvia officinalis).<br />\n<br /> \nSamenstelling: Arnica Spierbalsem bestaat uit alcoholische extracten van alruin, Arnica (Valkruid), berkenblad en etherische olie van rozemarijn in een zalfbasis van sesamolie, bijenwas, wolvetalcoholen, wolvet en water.<br />\n<br />\nSamenstelling: SAMENSTELLING PER 2 TABLETTEN: 100 mg Ruscus aculeatus (Muizendoorn) extract met 10% Ruscogenin en 45 mcg vitamine K2 als gepatenteerd UniK2 vitamine K2 MK7 0,2% (60% ADH), vitamine C 12 mg (15% ADH). Bevat geen gluten, lactose of smaakstoffen.<br />\nBiociden:<br />\nActieve stof gehalte: Diethyl-m-toluamide (DEET) 40% g/g.<br />\n<br />\nDetergenten:<br />\nIngrediënten: >30% Aniogene oppervlakteactieve stoffen, 5-15% Niet-ionogene oppervlakteactieve stoffen, Zeep, <5% Fosfanaten, Enzymen, Optische bleekmiddelen, Parfums, Alpha-isomethyl ionene, Benzyl salicylate, Citronellolm, Coumarin, Eugenol, Geraniol, Hexyl cinnamal, Limonene, Linalool","Dit veld is bedoeld voor alle non-food producten: zelfzorggeneesmiddelen, medische hulpmiddelen, voedingssupplementen, gezondheidsproducten, cosmetica en persoonlijke verzorgingsproducten, detergenten en biociden.<br />\n<br />\nIn dit veld vult u voor voedingssupplementen en zelfzorggeneesmiddelen de samenstelling van de actieve stoffen per (dag)dosering (zelfzorggeneesmiddelen per doseereenheid, bijvoorbeeld tablet) in, als deze op de verpakking staat. Dit is voor voedingssupplementen een aanvulling op de ingrediëntendeclaratie.<br />\nBij sommige zelfzorggeneesmiddelen, gezondheidsproducten en medische hulpmiddelen staat ook een omschrijving van de werkzame stoffen op het etiket. Deze vult u ook in dit veld in. Verder vult u hier voor zelfzorggeneesmiddelen en medische hulpmiddelen ook de lijst met hulpstoffen in.<br />\n<br />\nVul voor zelfzorggeneesmiddelen, voedingssupplementen, medische hulpmiddelen en gezondheidsproducten de samenstelling als volgt in:<br />\n- Begin het veld met het woord 'Samenstelling: '.<br />\nStaat de samenstelling in tekst op het etiket? Hou dan bij het invoeren van de samenstelling dezelfde schrijfwijze en volgorde aan als op het etiket.<br />\nStaat de samenstelling in tabelvorm op het etiket? Splits de informatie met puntkomma's op en hou de volgende volgorde aan:<br />\n1. Naam ingrediënt.<br />\n2. Hoeveelheid.<br />\n3. Meeteenheid van hoeveelheid.<br />\n4. Percentage (bij vitaminen/mineralen).<br />\nGeef regeleinden aan met het #-teken.<br />\n<br />\nVoor cosmetica en persoonlijke verzorgingsproducten: vul hier de lijst van ingrediënten in. Begin het veld met het woord 'Ingredients'. Als er meerdere lijsten met ingrediënten op het etiket staan, vul dan ten minste de zogenaamde INCI-lijst in. Dit is een lijst met alle ingrediënten in het Engels of Latijn.<br />\n<br />\nVoor biociden: vul hier de lijst van werkzame stoffen in inclusief de concentratie met de eenheid. Laat de lijst voorafgaan door de tekst die er op de verpakking staat, zoals 'Actieve stof gehalte:'.<br />\n<br />\nVoor detergenten: Vul hier de bestanddelen/ingrediënten in als deze op de verpakking staan, inclusief de tekst die hieraan vooraf gaat (bijvoorbeeld 'Dit product bevat de volgende ingrediënten:'). Allergene geurstoffen moeten hier ook worden vermeld, net zoals aangeduid op de verpakking staat.","Lokale in Nederland gebruikte validatieregels zijn: 500.205, 500.381\n","","Verplicht voor zelfzorggeneesmiddelen, medische hulpmiddelen, voedingssupplementen, gezondheidsproducten, cosmetica en persoonlijke verzorgingsproducten, detergenten en biociden als dit op de verpakking staat.",null,null,{"$f":"IFERROR(LEFT(B217,LEN(B217)-LEN('BES EN'!E217)-3),\"Doelsector\")","v":"Samenstelling/ingrediënten"}]
["ANL1263","Samenstelling/ingrediënten taalcode (nonfoodIngredientStatement/@languageCode)",null,"Code die een taal specificeert. Toegestane codewaarden staan gespecificeerd in de GS1 codelijst 'LanguageCode'.","nl","Selecteer de correcte waarde uit de 'ISO 639-1 (2-alpha)' codelijst.","Zie voor aanvullende toelichting <a href=\" https://www.gs1.nl/sectorafspraken-over-standaarden/productdata-levensmiddelen-drogisterij-agf-en-foodservice/gs1-5-7\" style=\"color:blue; text-decoration:underline\" target=\"_blank\"> https://www.gs1.nl/sectorafspraken-over-standaarden/productdata-levensmiddelen-drogisterij-agf-en-foodservice/gs1-5-7</a> <br />\n<br />\n- Voor het terugvinden van taalcodes zie: <a href=\" http://www.loc.gov/standards/iso639-2/php/code_list.php\" style=\"color:blue; text-decoration:underline\" target=\"_blank\"> http://www.loc.gov/standards/iso639-2/php/code_list.php</a> <br />\n<br />\nLokale in Nederland gebruikte validatieregels zijn: 500.381 ",null,"Verplicht als het veld ‘Samenstelling/Ingrediënten’ is ingevuld bij de consumenteneenheid.","Verplicht als het veld ‘Samenstelling/Ingrediënten’ is ingevuld bij de consumenteneenheid.","Verplicht als het veld ‘Samenstelling/Ingrediënten’ is ingevuld bij de consumenteneenheid.",{"$f":"IFERROR(LEFT(B218,LEN(B218)-LEN('BES EN'!E218)-3),\"Doelsector\")","v":"Samenstelling/ingrediënten taalcode"}]
["ANL1264","Afleverstatus (consumerSalesConditionCode)","Voor zelfzorggeneesmiddelen zijn alleen UAD en AV toegestaan.<br />\n<br />\nDit veld wordt in Nederland gecontroleerd in het kader van het datakwaliteitsprogramma.\n","Een code die aangeeft welke beperkingen er zitten op de verkoop van het artikel aan consumenten, bijvoorbeeld leeftijdsbeperkingen en verkoopbeperkingen.\n","3 (UAD)\n","Alleen voor geneesmiddelen. Voer de code voor de afleverstatus in. De mogelijke codes zijn:<br />\n1 = UR (een uitsluitend op recept verkrijgbaar middel)<br />\n2 = UA (een uitsluitend in apotheek verkrijgbaar middel)<br />\n3 = UAD (een uitsluitend in apotheek en drogisterij verkrijgbaar middel)<br />\nUNRESTRICTED = AV (een algemeen verkrijgbaar middel)\n","Lokale in Nederland gebruikte validatieregels zijn: 500.200, 500.201\n","","Verplicht voor zelfzorggeneesmiddelen. Optioneel voor de Belgische doelmarkt."," "," ",{"$f":"IFERROR(LEFT(B219,LEN(B219)-LEN('BES EN'!E219)-3),\"Doelsector\")","v":"Afleverstatus"}]
["ANL1265","Toedieningsvorm (dosageFormTypeCodeReference)","Vanwege de grote verscheidenheid aan toedieningsvormen is dit een vrij tekstveld.<br />\n<br />\nDit veld wordt in Nederland gecontroleerd in het kader van het datakwaliteitsprogramma.\n","De toedieningsvorm is de fysieke vorm van een geneesmiddel en geeft de vorm van het farmaceutische product aan, bijvoorbeeld &#39;oraal&#39;. \n","Capsule, dragee, druppels, pleister.\n","Voer hier de toedieningsvorm in. Dit is de vorm waarin het medicijn, de vloeistof of een andere vorm met een actief bestanddeel wordt toegediend. Een gewone pleister is dus geen toedieningsvorm, maar bijvoorbeeld een pleister waar jodium in verwerkt is wel.\n","Lokale in Nederland gebruikte validatieregels zijn: 500.202","","Verplicht voor bijzondere voedingsmiddelen, medische hulpmiddelen, voedingssupplementen en zelfzorggeneesmiddelen als dit op de verpakking van de consumenteneenheid staat. Optioneel voor de Belgische doelmarkt."," "," ",{"$f":"IFERROR(LEFT(B220,LEN(B220)-LEN('BES EN'!E220)-3),\"Doelsector\")","v":"Toedieningsvorm"}]
["ANL1266","Type verordening/richtlijn (regulationTypeCode)","Gebruik voor medische hulpmiddelen alleen de code &#39;CE&#39;. Als er twee CE-nummers op het etiket staan, dan voert u alleen de CE van het hoofdartikel in.<br />\n<br />\nDit veld wordt in Nederland gecontroleerd in het kader van het datakwaliteitsprogramma.\n","Een code die aangeeft dat een artikel voldoet aan specifiek geldende overheidsvoorschriften. Verschillende landen vereisen deze code op artikelen die daar geïmporteerd of verkocht worden.","CE<br />\nBIOCIDE_REGULATION<br />\nFEED_SAFETY_REGULATION<br />\nSAFETY_DATA_SHEET_REQUIRED","Voor de verschillende productgroepen kunt u in ieder geval, voor sommige productgroepen is het verplicht, de volgende codes gebruiken:<br />\n&bull; Voor voedingsmiddelen waar er een e-teken op de verpakking staat: u kunt die weergeven door middel van de waarde &#39;E_MARK&#39;.<br />\n&bull; Voor voedingsmiddelen waar er een EG-erkenningsnummer op de verpakking staat: u kunt die weergeven door middel van de waarde &#39;ANIMAL_ID_HEALTH_MARK&#39;.<br />\n&bull; Voor een spuitbus waar het omgekeerde epsilon-teken op staat: u kunt die weergeven door middel van de waarde &#39;AEROSOL_REVERSE_EPSILON&#39;.<br />\n&bull; Voor medische hulpmiddelen gebruikt u VERPLICHT de waarde &#39;CE&#39; (Conformit&eacute; Europ&eacute;enne).<br />\n&bull; Voor diervoeding vult u VERPLICHT de waarde &#39;FEED_SAFETY_REGULATION&#39; in. Hieraan herkennen afnemers dat het om een diervoederproduct gaat.<br />\n&bull; Voor biociden: als het artikel is behandeld met biociden gebruikt u VERPLICHT de waarde &#39;BIOCIDE_REGULATION&#39;. Voer daarnaast voor Belgi&euml; en Luxemburg nog &#39;TRUE&#39; in het veld &#39;Is artikel conform regelgeving?&#39; in.<br />\n&bull; Voor producten waar precursoren (grondstoffen) voor explosieven in zitten, vult u VERPLICHT  ‘EXPLOSIVES_PRECURSORS_REGISTRATION’ (voor stoffen die in bijlage I van 2019/1148 staan) en/of ‘EXPLOSIVES_PRECURSORS_REPORTING’ (voor stoffen die in bijlage II van 2019/1148 staan) in. Daarnaast vult u het veld ‘Is artikel conform wetgeving?’ in om aan te geven of die precursoren in het product zitten.<br />\n&bull; Voor producten met een SDS-blad: Vul voor elk product waar wettelijk een veiligheidsblad (SDS) vereist is hier VERPLICHT de code ‘SAFETY_DATA_SHEET_REQUIRED’ in.<br />\n&bull; Voor Belgi&euml; en Luxemburg: voor producten die bedoeld zijn om met voedingsmiddelen in aanraking te komen (bijvoorbeeld tafelgerei, keukengerei, verpakkingsmateriaal) gebruikt u de waarde &#39;INTENDED_TO_COME_INTO_CONTACT_WITH_FOOD&#39;. Deze producten moeten voldoende inert zijn om aan de voedingsmiddelen geen bestanddelen af te geven in hoeveelheden die voor de gezondheid van de mens gevaar kunnen opleveren, tot een onaanvaardbare wijziging in de samenstelling van de voedingsmiddelen kunnen leiden of tot een aantasting van de organoleptische eigenschappen van de voedingsmiddelen kunnen leiden (bijvoorbeeld smaak, geur of kleur).","Zie voor aanvullende toelichting <a href=\" https://www.gs1.nl/sectorafspraken-over-standaarden/productdata-levensmiddelen-drogisterij-agf-en-foodservice/gs1-5-7\" style=\"color:blue; text-decoration:underline\" target=\"_blank\"> https://www.gs1.nl/sectorafspraken-over-standaarden/productdata-levensmiddelen-drogisterij-agf-en-foodservice/gs1-5-7</a><br />\n<br />\nLokale in Nederland gebruikte validatieregels zijn: 500.211, 500.220, 500.380, 500.381, 500.382, 500.424\n","","Verplicht als het onder bepaalde regelgeving valt. Voor medische hulpmiddelen, diervoeding, producten die precursoren voor explosieven bevatten, als het veld ‘Gevaarlijke stoffen classificatiesysteem’ is ingevuld en niet de waarde ‘ZNA’ heeft en biociden.",null,null,{"$f":"IFERROR(LEFT(B221,LEN(B221)-LEN('BES EN'!E221)-3),\"Doelsector\")","v":"Type verordening/richtlijn"}]
["ANL1267","Identificatie aangemelde instantie (regulatoryPermitIdentification)","<p>Dit nummer voert u alleen in als het veld &#39;Richtlijn&#39; ook is ingevuld.<br />\n<br />\nVoor diervoeding geldt: herhaal dit veld om aan te geven welke verschillende fabrieken het product produceren. Vul alle nummers in die van toepassing zijn, u vindt deze bijvoorbeeld op het deksel of de achterkant van de verpakking.<br />\n<br />\nVoor drogisterijartikelen geldt: als er twee CE-nummers op het etiket staan, dan voert u alleen de CE van het hoofdartikel in.<br />\n<br />\nDit veld wordt in Nederland gecontroleerd in het kader van het datakwaliteitsprogramma.</p>\n","Identificatienummer van de vergunning of licentie die door de aangemelde instantie is verstrekt.","<p>Diervoeding:<br />\nDE 05770000113<br />\n<br />\nMedische hulpmiddelen (CE):<br />\n0344<br />\n<br />\nBiociden:<br />\nNL-0012335-0000</p>\n","<p>Vul het nummer in van de door de overheid aangemelde instantie (zoals op het etiket vermeld) die betrokken is bij de controle.<br />\n<br />\nVoor diervoeding: vul het erkenningsnummer in (ook wel identificatienummer genoemd) van de voor de etikettering verantwoordelijke persoon (overeenkomstig Richtlijn 767/2009). Zie de link in Procesbeschrijving naar het document Toelichting voor een voorbeeld van hoe dit op een etiket/verpakking kan staan.<br />\n<br />\nVoor biociden: vul hier het toelatingsnummer in van uw product en vul dan bij &#39;Richtlijn&#39; de code &#39;BIOCIDE_REGULATION&#39; in.<br />\n<br />\nU kunt dit veld meerdere keren vullen.</p>\n","<p>Zie voor aanvullende toelichting <a href=\" https://www.gs1.nl/sectorafspraken-over-standaarden/productdata-levensmiddelen-drogisterij-agf-en-foodservice/gs1-5-7\" style=\"color:blue; text-decoration:underline\" target=\"_blank\"> https://www.gs1.nl/sectorafspraken-over-standaarden/productdata-levensmiddelen-drogisterij-agf-en-foodservice/gs1-5-7</a><br />\n<br />\nLokale in Nederland gebruikte validatieregels zijn: 500.380, 500.423</p>\n","","Verplicht voor medische hulpmiddelen klasse IIa, IIb en III (optioneel voor de Belgische doelmarkt), diervoeding en biociden."," "," ",{"$f":"IFERROR(LEFT(B222,LEN(B222)-LEN('BES EN'!E222)-3),\"Doelsector\")","v":"Identificatie aangemelde instantie"}]
["ANL1276","Zijn accu’s/batterijen inbegrepen (areBatteriesIncluded)","","Waarde die aangeeft of de accu of batterij bij het product wordt meegeleverd.\n","TRUE\n","Indien van toepassing moeten leveranciers deze informatie aanleveren, zodat retailers de BEBAT/STIBAT-informatie kunnen bepalen. Voer &lsquo;TRUE&rsquo; in als bij het artikel batterijen zijn inbegrepen, en &lsquo;FALSE&rsquo; als de batterijen afzonderlijk worden verkocht.\n","Lokale in Nederland gebruikte validatieregels zijn: 500.390,  500.392,  500.393, 500.415","","Verplicht als het veld ‘Zijn accu's/batterijen vereist’ is ingevuld met de waarde ‘TRUE’"," "," ",{"$f":"IFERROR(LEFT(B223,LEN(B223)-LEN('BES EN'!E223)-3),\"Doelsector\")","v":"Zijn accu’s/batterijen inbegrepen"}]
["ANL1277","Zijn accu’s/batterijen vereist (areBatteriesRequired)",null,"Waarde die aangeeft of de accu of batterij bij het gebruik van het product noodzakelijk zijn.","TRUE","Selecteer ‘TRUE’ of ‘FALSE’.","Lokale in Nederland gebruikte validatieregels zijn: 500.391,  500.393 "," ","Verplicht als BEBAT van toepassing is."," "," ",{"$f":"IFERROR(LEFT(B224,LEN(B224)-LEN('BES EN'!E224)-3),\"Doelsector\")","v":"Zijn accu’s/batterijen vereist"}]
["ANL1278","Zijn accu’s/batterijen ingebouwd (areBatteriesBuiltIn)","Als hier de waarde &lsquo;TRUE&rsquo; is ingevuld, dan vult u ook de velden &lsquo;Aantal ingebouwde accu's/batterijen&rsquo;, &lsquo;Gewicht accu/batterij&rsquo;, &lsquo;Accu/batterij technologie code&rsquo; en &lsquo;Type accu/batterij&rsquo; in.\n","Waarde die aangeeft of de accu of batterij is ge&iuml;ntegreerd in het product.\n","TRUE\n","Vul &#39;TRUE&#39; in als de batterijen in het artikel zijn ingebouwd en niet kunnen worden verwijderd.\n","Lokale in Nederland gebruikte validatieregels zijn: 500.392,  500.394,  500.395,  500.396,  500.397 ","","Verplicht als het veld 'Zijn accu's/batterijen inbegrepen' is ingevuld"," "," ",{"$f":"IFERROR(LEFT(B225,LEN(B225)-LEN('BES EN'!E225)-3),\"Doelsector\")","v":"Zijn accu’s/batterijen ingebouwd"}]
["ANL1279","Accu/batterij technologie code (batteryTechnologyTypeCode)",null,"Het type accu/batterij (bijv. lithium, NiMH) of accu's/batterijen die door het artikel worden gebruikt.","ALKALINE","Selecteer de juiste waarde uit de codelijst ‘batteryTechnologyTypeCode’.","Lokale in Nederland gebruikte validatieregels zijn: 500.388, 500.396"," ","Verplicht als een product een specifiek type accu/batterij nodig heeft om te kunnen werken of als de accu's/batterijen zijn meegeleverd met of ingebouwd in het product."," "," ",{"$f":"IFERROR(LEFT(B226,LEN(B226)-LEN('BES EN'!E226)-3),\"Doelsector\")","v":"Accu/batterij technologie code"}]
["ANL1280","Type accu/batterij (batteryTypeCode)","","Code waarmee het type accu of batterij wordt aangegeven.\n","AA\n","Als dit van toepassing is moeten leveranciers deze informatie aanleveren, zodat de retailers de BEBAT-of STIBAT-informatie kunnen bepalen. Voer het type accu's/batterijen in dat nodig is om het artikel te gebruiken.\n","Lokale in Nederland gebruikte validatieregels zijn: 500.397","","Verplicht voor accu's/batterijen",null,null,{"$f":"IFERROR(LEFT(B227,LEN(B227)-LEN('BES EN'!E227)-3),\"Doelsector\")","v":"Type accu/batterij"}]
["ANL1281","Gewicht accu/batterij (batteryWeight)","","Getal dat het gewicht van elke (oplaadbare) batterij of accu in het product aangeeft.\n","50 (GRM)\n","Voer een geldig gewicht in gram of kilogram in en vul de meeteenheid in het veld &lsquo;Eenheid gewicht accu/batterij&rsquo; in.\n","Lokale in Nederland gebruikte validatieregels zijn: 500.386,  500.387, 500.395 ","","Verplicht voor accu's/batterijen of als een product een specifiek type accu/batterij nodig heeft om te kunnen werken en als de accu's/batterijen zijn meegeleverd met of ingebouwd in het product.",null,null,{"$f":"IFERROR(LEFT(B228,LEN(B228)-LEN('BES EN'!E228)-3),\"Doelsector\")","v":"Gewicht accu/batterij"}]
["ANL1282","Eenheid gewicht accu/batterij (batteryWeight/@measurementUnitCode)","","Een gestandaardiseerde, reproduceerbare eenheid waarmee een fysieke eigenschap kan worden gemeten.\n","GRM\n","Selecteer de juiste waarde uit de codelijst &lsquo;measurementUnitCode&rsquo;.\n","Lokale in Nederland gebruikte validatieregels zijn: 500.387","","Verplicht als het veld ‘Gewicht accu/batterij’ is ingevuld bij de consumenteneenheid.","Verplicht als het veld ‘Gewicht accu/batterij’ is ingevuld bij de handelseenheid.","Verplicht als het veld ‘Gewicht accu/batterij’ is ingevuld bij de pallet.",{"$f":"IFERROR(LEFT(B229,LEN(B229)-LEN('BES EN'!E229)-3),\"Doelsector\")","v":"Eenheid gewicht accu/batterij"}]
["ANL1283","Aantal ingebouwde accu’s/batterijen (quantityOfBatteriesBuiltIn)","Als dit veld is ingevoerd, vul dan ook de velden &lsquo;Zijn accu's/batterijen ingebouwd&rsquo;, &lsquo;Gewicht accu/batterij&rsquo;, &lsquo;Accu/batterij technologie code&rsquo; en &lsquo;Type accu/batterij&rsquo; in.\n","Getal dat het aantal accu&#39;s of batterijen aangeeft dat ge&iuml;ntegreerd is in het product. Is het product voorzien van een vast gemonteerde batterij, dan valt het product niet onder de ADR gevaarlijke stoffen regelgeving.\n","2\n","Als dit van toepassing is, vul dan het aantal ingebouwde accu's/batterijen in.\n","Lokale in Nederland gebruikte validatieregels zijn: 500.383,  500.394,  500.395,  500.396,  500.397 ","","Verplicht, als het veld ‘Zijn accu's/batterijen ingebouwd’ is gevuld met de waarde ‘TRUE’",null,null,{"$f":"IFERROR(LEFT(B230,LEN(B230)-LEN('BES EN'!E230)-3),\"Doelsector\")","v":"Aantal ingebouwde accu’s/batterijen"}]
["ANL1284","Aantal vereiste accu’s/batterijen (quantityOfBatteriesRequired)","","Getal dat het aantal accu&#39;s of batterijen aangeeft dat nodig is om het artikel te gebruiken.\n","3\n","Als dit van toepassing is dan moeten leveranciers deze informatie aanleveren, zodat de retailers de BEBAT/STIBAT-informatie kunnen bepalen. Voer indien van toepassing het aantal vereiste accu's/batterijen in.\n","Lokale in Nederland gebruikte validatieregels zijn: 500.385,  500.391 ","","Verplicht als het veld ‘Zijn accu's/batterijen vereist’ is ingevuld met de waarde TRUE’",null,null,{"$f":"IFERROR(LEFT(B231,LEN(B231)-LEN('BES EN'!E231)-3),\"Doelsector\")","v":"Aantal vereiste accu’s/batterijen"}]
["ANL1287","Code belastingdienst (dutyFeeTaxAgencyCode)","Voor de Nederlandse doelmarkt moet deze code &lsquo;200&rsquo; zijn.<br />\nVoor de Belgische en Luxemburgse doelmarkt moet deze code &lsquo;281&rsquo; zijn.\n","Code die is bepaald door de instantie die belasting int.\n","281 (GS1 Belgi&euml; &amp; Luxemburg)\n","Selecteer een code uit de codelijst responsibleAgencyCode.\n","- BE taks handleiding (<a href=\" https://www.gs1belu.org/nl/documentatie/handleiding-taksinformatie\" style=\"color:blue; text-decoration:underline\" target=\"_blank\"> https://www.gs1belu.org/nl/documentatie/handleiding-taksinformatie</a>) <br />\n<br />\nLokale in Nederland gebruikte validatieregels zijn: 500.032\n",null,null,null,null,{"$f":"IFERROR(LEFT(B232,LEN(B232)-LEN('BES EN'!E232)-3),\"Doelsector\")","v":"Code belastingdienst"}]
["ANL1288","Soort diervoeder (feedType)","Namen van soorten diervoeder zijn: ‘voedermiddel’ (code: FEED_MATERIALS), ‘volledig diervoeder’ (code: COMPLETE), ‘aanvullend diervoeder’ (code: COMPLEMENTARY), ‘volledige melkvervanger’ (code: COMPLETE + code: MILK_REPLACER), ‘mineraalvoeder’ (code: MINERAL), ‘aanvullende melkvervanger’ (code: COMPLEMENTARY + code: MILK_REPLACER), ‘mengvoeder’ (code: COMPOUND).<br />\n<br />\nDit veld wordt in Nederland gecontroleerd in het kader van het datakwaliteitsprogramma.","Soort diervoeder of voedsel gegeven aan wilde of gedomesticeerde dieren gedurende hun leven in de veehouderij, bijvoorbeeld voedermiddel, volledig diervoeder, aanvullend diervoeder.","COMPLETE","Kies een code uit de codelijst 'feedTypeCode' om aan te geven om wat voor een soort diervoeder het gaat. Zie de link in Procesbeschrijving naar het document Toelichting voor een voorbeeldetiket met het soort diervoeder daarop.","Zie voor aanvullende toelichting <a href=\" https://www.gs1.nl/sectorafspraken-over-standaarden/productdata-levensmiddelen-drogisterij-agf-en-foodservice/gs1-5-7\" style=\"color:blue; text-decoration:underline\" target=\"_blank\"> https://www.gs1.nl/sectorafspraken-over-standaarden/productdata-levensmiddelen-drogisterij-agf-en-foodservice/gs1-5-7</a>",null,"Verplicht voor diervoeder",null,null,{"$f":"IFERROR(LEFT(B233,LEN(B233)-LEN('BES EN'!E233)-3),\"Doelsector\")","v":"Soort diervoeder"}]
["ANL1289","Voer bedoeld voor diersoort (targetedConsumptionBy)","Dit veld wordt in Nederland gecontroleerd in het kader van het datakwaliteitsprogramma.","Het soort dier waarvoor het voedsel bedoeld is.","CAT","Kies een code uit de codelijst 'targetedConsumptionByCode' om het soort dier aan te geven waarvoor het voeder is bedoeld. Zie de link in Procesbeschrijving naar het document Toelichting voor een voorbeeldetiket met het soort dier daarop.","Zie voor aanvullende toelichting <a href=\" https://www.gs1.nl/sectorafspraken-over-standaarden/productdata-levensmiddelen-drogisterij-agf-en-foodservice/gs1-5-7\" style=\"color:blue; text-decoration:underline\" target=\"_blank\"> https://www.gs1.nl/sectorafspraken-over-standaarden/productdata-levensmiddelen-drogisterij-agf-en-foodservice/gs1-5-7</a>",null,"Verplicht voor diervoeder",null,null,{"$f":"IFERROR(LEFT(B234,LEN(B234)-LEN('BES EN'!E234)-3),\"Doelsector\")","v":"Voer bedoeld voor diersoort"}]
["ANL1290","Samenstelling diervoeder  (feedCompositionStatement)","Begin de informatie die u hier invoert als volgt: &#39;Samenstelling:&#39;.<br />\n<br />\nDit veld wordt in Nederland gecontroleerd in het kader van het datakwaliteitsprogramma.\n","Samenstelling van het diervoeder, gebaseerd op de ingredi&euml;nten waar het voeder uit bestaat, zoals door lokale regels en wetgeving bepaald.\n","Samenstelling: vlees en dierlijke bijproducten (kip 4%), granen, groenten 4% (erwt, wortel), mineralen, suiker.<br />\n<br />\nSamenstelling: gedehydreerde gevogelte-eiwitten, rijst, dierlijke vetten, tarwe, ma&iuml;smeel, tarwemeel, isolaat van plantaardige eiwitten*, hydrolysaat van dierlijke eiwitten, ma&iuml;sgluten, ma&iuml;s, plantaardige vezels, mineralen, bietenpulp, visolie, gist, sojaolie, psylliumschil en psylliumzade, fructo-oligo-sacchariden, bernagieolie, Tagetes (Afrikaan) extract (bron van lute&iuml;ne), extracten uit groene thee en druiven (bron van polyfenolen), hydrolysaat van schaaldieren (bron van glucosamine), hydrolysaat van kraakbeen (bron chondro&iuml;tine). *L.I.P.: eiwitten geselecteerd vanwege hun zeer hoge verteerbaarheid.\n","Vul in dit veld de informatie in die onder het kopje &lsquo;samenstelling&rsquo; op het etiket staat, inclusief het woord &lsquo;samenstelling&rsquo;. Gebruik dezelfde schrijfwijze en volgorde. Neem ook eventuele percentages over uit de lijst op het etiket, net als eventuele sterverwijzingen. Zie de link in Procesbeschrijving naar het document Toelichting voor een voorbeeldetiket met de samenstelling daarop.<br />\n<br />\nVoor multi-packs: neem alle lijsten met samenstellingen over die op de verpakking staan.","Zie voor aanvullende toelichting <a href=\" https://www.gs1.nl/sectorafspraken-over-standaarden/productdata-levensmiddelen-drogisterij-agf-en-foodservice/gs1-5-7\" style=\"color:blue; text-decoration:underline\" target=\"_blank\"> https://www.gs1.nl/sectorafspraken-over-standaarden/productdata-levensmiddelen-drogisterij-agf-en-foodservice/gs1-5-7</a><br />\n<br />\nLokale in Nederland gebruikte validatieregels zijn: 500.344\n","","Verplicht voor diervoeder indien het op het etiket staat.",null,null,{"$f":"IFERROR(LEFT(B235,LEN(B235)-LEN('BES EN'!E235)-3),\"Doelsector\")","v":"Samenstelling diervoeder "}]
["ANL1291","Samenstelling diervoeder taalcode (feedCompositionStatement/@languageCode)","Dit veld wordt in Nederland gecontroleerd in het kader van het datakwaliteitsprogramma.","Code die een taal specificeert. Toegestane codewaarden staan gespecificeerd in de GS1 codelijst 'LanguageCode'.","nl","Selecteer de correcte waarde uit de 'ISO 639-1 (2-alpha)' codelijst.","Zie voor aanvullende toelichting <a href=\" https://www.gs1.nl/sectorafspraken-over-standaarden/productdata-levensmiddelen-drogisterij-agf-en-foodservice/gs1-5-7\" style=\"color:blue; text-decoration:underline\" target=\"_blank\"> https://www.gs1.nl/sectorafspraken-over-standaarden/productdata-levensmiddelen-drogisterij-agf-en-foodservice/gs1-5-7</a> <br />\n<br />\n- Voor het terugvinden van taalcodes zie: <a href=\" http://www.loc.gov/standards/iso639-2/php/code_list.php\" style=\"color:blue; text-decoration:underline\" target=\"_blank\"> http://www.loc.gov/standards/iso639-2/php/code_list.php</a> ",null,"Verplicht als het veld 'Samenstelling diervoeder' is ingevuld bij de consumenteneenheid. ","Verplicht als het veld 'Samenstelling diervoeder' is ingevuld bij de handelseenheid. ","Verplicht als het veld 'Samenstelling diervoeder' is ingevuld bij de logistieke eenheid. ",{"$f":"IFERROR(LEFT(B236,LEN(B236)-LEN('BES EN'!E236)-3),\"Doelsector\")","v":"Samenstelling diervoeder taalcode"}]
["ANL1292","Analytische bestanddelen diervoeder  (feedAnalyticalConstituentsStatement)","Dit veld wordt in Nederland gecontroleerd in het kader van het datakwaliteitsprogramma.","Lijst van de analytische bestanddelen of gegarandeerde analyse van het diervoeder, gebaseerd op de nutri&euml;ntanalyse van het voltooide product, zoals door lokale regels en wetgeving bepaald.\n","Analytische bestanddelen (%): Eiwit 38 / Vet 13 / As 8,5 / Vezels 1,9 / Calcium 0,89 / Fosfor 0,94. Energie: 390 kcal / 100g.\n","Vul de analytische bestanddelen in (vochtgehalte, eiwit, vet) inclusief de hoeveelheid zoals op de verpakking staat. Zie het document met toelichtingen voor een voorbeeldetiket met de analytische bestanddelen daarop.<br />\n<br />\nInformatie over energie-inhoud van het diervoeder is optioneel (zie voorbeeld hiervan in het document met toelichtingen). Het is geen onderdeel van de analytische bestanddelen. Wanneer het voorkomt op de verpakking, kan het als optionele informatie worden toegevoegd na de opsomming van analytische bestanddelen. Vul in dat geval de energiewaarde met de meeteenheid en de referentiewaarde waartegen het wordt afgezet (meestal 100g) in zoals op de verpakking staat.<br />\n<br />\nVoor multi-packs: neem alle lijsten met analytische bestanddelen over die op de verpakking staan.","Zie voor aanvullende toelichting <a href=\" https://www.gs1.nl/sectorafspraken-over-standaarden/productdata-levensmiddelen-drogisterij-agf-en-foodservice/gs1-5-7\" style=\"color:blue; text-decoration:underline\" target=\"_blank\"> https://www.gs1.nl/sectorafspraken-over-standaarden/productdata-levensmiddelen-drogisterij-agf-en-foodservice/gs1-5-7</a>","","Verplicht voor diervoeder indien het op het etiket staat.",null,null,{"$f":"IFERROR(LEFT(B237,LEN(B237)-LEN('BES EN'!E237)-3),\"Doelsector\")","v":"Analytische bestanddelen diervoeder "}]
["ANL1293","Analytische bestanddelen diervoeder taalcode (feedAnalyticalConstituentsStatement/@languageCode)","Dit veld wordt in Nederland gecontroleerd in het kader van het datakwaliteitsprogramma.","Code die een taal specificeert. Toegestane codewaarden staan gespecificeerd in de GS1 codelijst 'LanguageCode'.","nl","Selecteer de correcte waarde uit de 'ISO 639-1 (2-alpha)' codelijst.","Zie voor aanvullende toelichting <a href=\" https://www.gs1.nl/sectorafspraken-over-standaarden/productdata-levensmiddelen-drogisterij-agf-en-foodservice/gs1-5-7\" style=\"color:blue; text-decoration:underline\" target=\"_blank\"> https://www.gs1.nl/sectorafspraken-over-standaarden/productdata-levensmiddelen-drogisterij-agf-en-foodservice/gs1-5-7</a> <br />\n<br />\n- Voor het terugvinden van taalcodes zie: <a href=\" http://www.loc.gov/standards/iso639-2/php/code_list.php\" style=\"color:blue; text-decoration:underline\" target=\"_blank\"> http://www.loc.gov/standards/iso639-2/php/code_list.php</a> ",null,"Verplicht als het veld 'Analytische bestanddelen diervoeder' is ingevuld bij de consumenteneenheid. ","Verplicht als het veld 'Analytische bestanddelen diervoeder' is ingevuld bij de handelseenheid. ","Verplicht als het veld 'Analytische bestanddelen diervoeder' is ingevuld bij de logistieke eenheid. ",{"$f":"IFERROR(LEFT(B238,LEN(B238)-LEN('BES EN'!E238)-3),\"Doelsector\")","v":"Analytische bestanddelen diervoeder taalcode"}]
["ANL1294","Toevoegingsmiddelen diervoeder (feedAdditiveStatement)","De toevoegingsmiddelen die worden opgenomen, moeten worden voorafgegaan door het woord &lsquo;Toevoegingsmiddelen&rsquo; en als het om bijvoorbeeld &lsquo;nutritionele toevoegingsmiddelen&rsquo; gaat moet die term in zijn geheel worden vermeld.<br />\nLet op: soms staan de toevoegingsmiddelen op verschillende plekken op het etiket, vul deze allemaal in dit veld in.<br />\n<br />\nDit veld wordt in Nederland gecontroleerd in het kader van het datakwaliteitsprogramma.\n","Lijst van stoffen die tijdens de bewerking van het diervoeder worden toegevoegd voor conservering, kleuring of stabilisering, zoals door lokale regels en wetgeving bepaald.\n","Toevoegingsmiddelen (/kg): Nutritionele toevoegingsmiddelen: Vitamine A (22400 IE), Vitamine D3 (1000 IE), E1 (IJzer) (46 mg), E2 (Jodium) (4,6 mg) - Technologische toevoegingsmiddelen: Natriumtripolyfosfaat (3,5 g) - Conserveermiddelen - Antioxidanten\n","Vul hier de stoffen in die onder het kopje &lsquo;Toevoegingsmiddelen&rsquo; of &lsquo;Additieven&rsquo; op het etiket/verpakking staan. Soms staat er &lsquo;nutritionele&rsquo;, &lsquo;technologische&rsquo; of &lsquo;sensori&euml;le&rsquo; voor, ook de stoffen die daaronder worden vermeld, vult u in dit veld in. U begint met de term &#39;toevoegingsmiddelen&#39; of &#39;additieven&#39; enzovoort, afhankelijk van hoe dit op uw etiket staat. Houd de volgorde van de stoffen aan zoals die op het etiket/verpakking staat. Zie de link in Procesbeschrijving naar het document Toelichting voor een voorbeeldetiket met de toevoegingsmiddelen daarop.\n","Zie voor aanvullende toelichting <a href=\" https://www.gs1.nl/sectorafspraken-over-standaarden/productdata-levensmiddelen-drogisterij-agf-en-foodservice/gs1-5-7\" style=\"color:blue; text-decoration:underline\" target=\"_blank\"> https://www.gs1.nl/sectorafspraken-over-standaarden/productdata-levensmiddelen-drogisterij-agf-en-foodservice/gs1-5-7</a>","","Verplicht voor diervoeder indien het op het etiket staat.",null,null,{"$f":"IFERROR(LEFT(B239,LEN(B239)-LEN('BES EN'!E239)-3),\"Doelsector\")","v":"Toevoegingsmiddelen diervoeder"}]
["ANL1295","Toevoegingsmiddelen diervoeder taalcode (feedAdditiveStatement/@languageCode)","Dit veld wordt in Nederland gecontroleerd in het kader van het datakwaliteitsprogramma.","Code die een taal specificeert. Toegestane codewaarden staan gespecificeerd in de GS1 codelijst 'LanguageCode'.","nl","Selecteer de correcte waarde uit de 'ISO 639-1 (2-alpha)' codelijst.","Zie voor aanvullende toelichting <a href=\" https://www.gs1.nl/sectorafspraken-over-standaarden/productdata-levensmiddelen-drogisterij-agf-en-foodservice/gs1-5-7\" style=\"color:blue; text-decoration:underline\" target=\"_blank\"> https://www.gs1.nl/sectorafspraken-over-standaarden/productdata-levensmiddelen-drogisterij-agf-en-foodservice/gs1-5-7</a> <br />\n<br />\n- Voor het terugvinden van taalcodes zie: <a href=\" http://www.loc.gov/standards/iso639-2/php/code_list.php\" style=\"color:blue; text-decoration:underline\" target=\"_blank\"> http://www.loc.gov/standards/iso639-2/php/code_list.php</a> ",null,"Verplicht als het veld 'Toevoegingsmiddelen diervoeder' is ingevuld bij de consumenteneenheid. ","Verplicht als het veld 'Toevoegingsmiddelen diervoeder' is ingevuld bij de handelseenheid. ","Verplicht als het veld 'Toevoegingsmiddelen diervoeder' is ingevuld bij de logistieke eenheid. ",{"$f":"IFERROR(LEFT(B240,LEN(B240)-LEN('BES EN'!E240)-3),\"Doelsector\")","v":"Toevoegingsmiddelen diervoeder taalcode"}]
["ANL1296","Leeftijd/levensfase dier (feedLifestage)","Vul dit veld alleen in als leeftijd een categorie is in de voedingstabel. Echter, voor elke nieuwe ronde van de voedingstabel moeten alle velden van de voedingstabel herhaald worden beginnend met het veld &#39;Leeftijd dier&#39; (ook als dat veld zelf leeg kan blijven).<br />\nLet op: als informatie over een levensfase of de leeftijd geen onderdeel van de voedingstabel is dan laat u dit veld leeg.<br />\n<br />\nDit veld wordt in Nederland gecontroleerd in het kader van het datakwaliteitsprogramma.\n","Geeft de levensfase van het dier waarvoor het product is ontworpen aan, bijvoorbeeld volwassen.\n","Levensfase per kolom/rij van voedingstabel (u hoeft alleen het gedeelte na &lsquo;:&rsquo; in te vullen in dit veld):<br />\n1e kolom/rij: Junior<br />\n2e kolom/rij: Adult 5+<br />\n3e kolom/rij: Senior\n","Vul de levensfase of leeftijd van het dier in waarvoor het product is bedoeld, doe dit alleen als de leeftijd/levensfase onderdeel is van de voedingstabel (zie ook opmerking). In sommige gevallen is het product voor meerdere levensfasen/leeftijden bedoeld. Dan is de voedingstabel op het etiket ingedeeld per leeftijd/levensfase. In die gevallen herhaalt u dit voor elke leeftijd/levensfase. U begint bij de eerste kolom/rij. Zie de link in Procesbeschrijving naar het document Toelichting voor een uitgebreide uitleg over hoe de voedingstabel ingevuld moet worden.\n","Zie voor aanvullende toelichting <a href=\" https://www.gs1.nl/sectorafspraken-over-standaarden/productdata-levensmiddelen-drogisterij-agf-en-foodservice/gs1-5-7\" style=\"color:blue; text-decoration:underline\" target=\"_blank\"> https://www.gs1.nl/sectorafspraken-over-standaarden/productdata-levensmiddelen-drogisterij-agf-en-foodservice/gs1-5-7</a>","","Verplicht als de leeftijd/levensfase onderdeel uitmaakt van de voedingstabel op het etiket. Als de voedingstabel te complex is en alleen via een afbeelding kan worden meegeleverd, laat dit veld dan leeg.",null,null,{"$f":"IFERROR(LEFT(B241,LEN(B241)-LEN('BES EN'!E241)-3),\"Doelsector\")","v":"Leeftijd/levensfase dier"}]
["ANL1297","Minimumgewicht van het dier (minimumWeightOfAnimalBeingFed)","Let op: Wanneer er geen gewichtsklasse maar een exact gewicht staat vermeld in de voedingstabel, vul dan alleen het veld &lsquo;Maximumgewicht van het dier&rsquo; in en laat dit veld leeg.<br />\n<br />\nDit veld wordt in Nederland gecontroleerd in het kader van het datakwaliteitsprogramma.\n","Het laagste gewicht (in een gewichtsklasse) van het dier dat met dit product wordt gevoerd. Deze waarde bepaalt de hoeveelheid voedsel die nodig is voor die leeftijd.\n","3\n","Vul het laagste gewicht (in een gewichtsklasse) in waarvoor de aanbevolen hoeveelheid diervoeder is bedoeld. In sommige gevallen is de voedingstabel gestructureerd per gewichtsklasse (3-4 kg; 4-5 kg enz.). Dan verschilt de voorgeschreven hoeveelheid voedsel per gewichtsklasse. In die gevallen herhaalt u dit veld voor elke gewichtsklasse. U begint met de eerste kolom/rij. Zie de link in Procesbeschrijving naar het document Toelichting voor een uitgebreide uitleg over hoe de voedingstabel ingevuld moet worden.<br />\n<br />\nVul de gewichtseenheid in een apart veld in.\n","Zie voor aanvullende toelichting <a href=\" https://www.gs1.nl/sectorafspraken-over-standaarden/productdata-levensmiddelen-drogisterij-agf-en-foodservice/gs1-5-7\" style=\"color:blue; text-decoration:underline\" target=\"_blank\"> https://www.gs1.nl/sectorafspraken-over-standaarden/productdata-levensmiddelen-drogisterij-agf-en-foodservice/gs1-5-7</a>","","Verplicht als er een minimumgewicht staat in de voedingstabel op het etiket. Als de voedingstabel te complex is en alleen via een afbeelding kan worden meegeleverd, laat dit veld dan leeg.",null,null,{"$f":"IFERROR(LEFT(B242,LEN(B242)-LEN('BES EN'!E242)-3),\"Doelsector\")","v":"Minimumgewicht van het dier"}]
["ANL1298","Eenheid minimumgewicht van het dier (minimumWeightOfAnimalBeingFed/@measurementUnitCode)","Dit veld wordt in Nederland gecontroleerd in het kader van het datakwaliteitsprogramma.","Een gestandaardiseerde, reproduceerbare eenheid waarmee een fysieke eigenschap kan worden gemeten.","KGM","Selecteer de juiste waarde uit de codelijst ‘measurementUnitCode’.","Zie voor aanvullende toelichting <a href=\" https://www.gs1.nl/sectorafspraken-over-standaarden/productdata-levensmiddelen-drogisterij-agf-en-foodservice/gs1-5-7\" style=\"color:blue; text-decoration:underline\" target=\"_blank\"> https://www.gs1.nl/sectorafspraken-over-standaarden/productdata-levensmiddelen-drogisterij-agf-en-foodservice/gs1-5-7</a>",null,"Verplicht als het veld 'Minimumgewicht van het dier' is ingevuld bij de consumenteneenheid. ","Verplicht als het veld 'Minimumgewicht van het dier' is ingevuld bij de handelseenheid. ","Verplicht als het veld 'Minimumgewicht van het dier' is ingevuld bij de logistieke eenheid. ",{"$f":"IFERROR(LEFT(B243,LEN(B243)-LEN('BES EN'!E243)-3),\"Doelsector\")","v":"Eenheid minimumgewicht van het dier"}]
["ANL1299","Maximumgewicht van het dier (maximumWeightOfAnimalBeingFed)","Let op: Wanneer er geen gewichtsklasse maar een exact gewicht wordt gegeven in de voedingstabel, vul dan alleen dit veld in en laat het veld &lsquo;Minimumgewicht van het dier&rsquo; leeg.<br />\n<br />\nDit veld wordt in Nederland gecontroleerd in het kader van het datakwaliteitsprogramma.\n","Het hoogste gewicht (in een gewichtsklasse) van het dier dat met dit product wordt gevoed. Deze waarde bepaalt de hoeveelheid voedsel die nodig is voor die leeftijd.\n","Voor het voorbeeld zie de link in Procesbeschrijving naar het document Toelichting (u hoeft alleen het gedeelte na &lsquo;:&rsquo; in te vullen in dit veld):<br />\n1e ronde: 3<br />\n2e ronde: 4<br />\n3e ronde: 5\n","Vul het hoogste gewicht (in een gewichtsklasse) in waarvoor de aanbevolen hoeveelheid diervoeder is bedoeld. In sommige gevallen is de voedingstabel gestructureerd per gewicht (3 kg; 4 kg enz.) of per gewichtsklasse (3-4 kg; 4-5 kg enz.). Dan verschilt de voorgeschreven hoeveelheid voedsel per gewicht of gewichtsklasse. In die gevallen herhaalt u dit veld voor elk gewicht of gewichtsklasse. U begint met de eerste kolom/rij. Zie de link in Procesbeschrijving naar het document Toelichting voor een uitgebreide uitleg over hoe de voedingstabel ingevuld moet worden.<br />\n<br />\nVul de gewichtseenheid in een apart veld in.\n","Zie voor aanvullende toelichting <a href=\" https://www.gs1.nl/sectorafspraken-over-standaarden/productdata-levensmiddelen-drogisterij-agf-en-foodservice/gs1-5-7\" style=\"color:blue; text-decoration:underline\" target=\"_blank\"> https://www.gs1.nl/sectorafspraken-over-standaarden/productdata-levensmiddelen-drogisterij-agf-en-foodservice/gs1-5-7</a>","","Verplicht als er een maximumgewicht staat in de voedingstabel op het etiket. Als de voedingstabel te complex is en alleen via een afbeelding kan worden meegeleverd, laat dit veld dan leeg.",null,null,{"$f":"IFERROR(LEFT(B244,LEN(B244)-LEN('BES EN'!E244)-3),\"Doelsector\")","v":"Maximumgewicht van het dier"}]
["ANL1300","Eenheid maximumgewicht van het dier (maximumWeightOfAnimalBeingFed/@measurementUnitCode)","Dit veld wordt in Nederland gecontroleerd in het kader van het datakwaliteitsprogramma.","Een gestandaardiseerde, reproduceerbare eenheid waarmee een fysieke eigenschap kan worden gemeten.","KGM","Selecteer de juiste waarde uit de codelijst ‘measurementUnitCode’.","Zie voor aanvullende toelichting <a href=\" https://www.gs1.nl/sectorafspraken-over-standaarden/productdata-levensmiddelen-drogisterij-agf-en-foodservice/gs1-5-7\" style=\"color:blue; text-decoration:underline\" target=\"_blank\"> https://www.gs1.nl/sectorafspraken-over-standaarden/productdata-levensmiddelen-drogisterij-agf-en-foodservice/gs1-5-7</a>",null,"Verplicht als het veld 'Maximumgewicht van het dier' is ingevuld bij de consumenteneenheid. ","Verplicht als het veld 'Maximumgewicht van het dier' is ingevuld bij de handelseenheid. ","Verplicht als het veld 'Maximumgewicht van het dier' is ingevuld bij de logistieke eenheid. ",{"$f":"IFERROR(LEFT(B245,LEN(B245)-LEN('BES EN'!E245)-3),\"Doelsector\")","v":"Eenheid maximumgewicht van het dier"}]
["ANL1301","Hoeveelheid diervoeder (feedingAmount)","Vul een exacte hoeveelheid diervoeder in dit veld in. Staat een minimum- en maximumhoeveelheid diervoeder op de verpakking? Vul deze in de velden &lsquo;Minimumhoeveelheid diervoeder&rsquo; en &lsquo;Maximumhoeveelheid diervoeder&rsquo; in en laat dit veld leeg.<br />\n<br />\nDit veld wordt in Nederland gecontroleerd in het kader van het datakwaliteitsprogramma.\n","De hoeveelheid diervoeder afgestemd op de leeftijd en het gewicht van het dier dat met dit product wordt gevoerd.\n","Voor het voorbeeld zie de link in Procesbeschrijving naar het document Toelichting (u hoeft alleen het gedeelte na &lsquo;:&rsquo; in te vullen in dit veld):<br />\n1e ronde: 45 GRM<br />\n2e ronde: 55 GRM<br />\n3e ronde: 60 GRM\n","Vul de &lsquo;exacte&rsquo; hoeveelheid diervoeder in voor het aangegeven gewicht van het dier. Als de hoeveelheid diervoeder verschilt per gewicht of leeftijd, dan herhaalt u dit veld voor elke hoeveelheid diervoeder. U begint met de eerste kolom/rij. Zie de link in Procesbeschrijving naar het document Toelichting voor een uitgebreide uitleg over hoe de voedingstabel ingevuld moet worden.<br />\n<br />\nVul de eenheid in een apart veld in.\n","Zie voor aanvullende toelichting <a href=\" https://www.gs1.nl/sectorafspraken-over-standaarden/productdata-levensmiddelen-drogisterij-agf-en-foodservice/gs1-5-7\" style=\"color:blue; text-decoration:underline\" target=\"_blank\"> https://www.gs1.nl/sectorafspraken-over-standaarden/productdata-levensmiddelen-drogisterij-agf-en-foodservice/gs1-5-7</a>","","Verplicht als er een exacte hoeveelheid diervoeder in de voedingstabel staat op het etiket. Als de voedingstabel te complex is en alleen via een afbeelding kan worden meegeleverd, laat dit veld dan leeg.",null,null,{"$f":"IFERROR(LEFT(B246,LEN(B246)-LEN('BES EN'!E246)-3),\"Doelsector\")","v":"Hoeveelheid diervoeder"}]
["ANL1302","Eenheid hoeveelheid diervoeder (feedingAmount/@measurementUnitCode)","Dit veld wordt in Nederland gecontroleerd in het kader van het datakwaliteitsprogramma.","Een gestandaardiseerde, reproduceerbare eenheid waarmee een fysieke eigenschap kan worden gemeten.","GRM","Selecteer de juiste waarde uit de codelijst ‘measurementUnitCode’.","Zie voor aanvullende toelichting <a href=\" https://www.gs1.nl/sectorafspraken-over-standaarden/productdata-levensmiddelen-drogisterij-agf-en-foodservice/gs1-5-7\" style=\"color:blue; text-decoration:underline\" target=\"_blank\"> https://www.gs1.nl/sectorafspraken-over-standaarden/productdata-levensmiddelen-drogisterij-agf-en-foodservice/gs1-5-7</a>",null,"Verplicht als het veld 'Hoeveelheid diervoeder' is ingevuld bij de consumenteneenheid. ","Verplicht als het veld 'Hoeveelheid diervoeder' is ingevuld bij de handelseenheid. ","Verplicht als het veld 'Hoeveelheid diervoeder' is ingevuld bij de logistieke eenheid. ",{"$f":"IFERROR(LEFT(B247,LEN(B247)-LEN('BES EN'!E247)-3),\"Doelsector\")","v":"Eenheid hoeveelheid diervoeder"}]
["ANL1303","Minimumhoeveelheid diervoeder (minimumFeedingAmount)","Vul een minimumhoeveelheid diervoeder in dit veld in. Staat een exacte hoeveelheid diervoeder op de verpakking? Vul deze in het veld &lsquo;Hoeveelheid diervoeder&rsquo; in en laat dit veld leeg.<br />\n<br />\nDit veld wordt in Nederland gecontroleerd in het kader van het datakwaliteitsprogramma.\n","De minimumhoeveelheid diervoeder afgestemd op de leeftijd en het gewicht van het dier dat met dit product wordt gevoerd.\n","100\n","Vul de minimumhoeveelheid diervoeder in voor het aangegeven gewicht van het dier. U vult ook het veld &lsquo;Maximumhoeveelheid diervoeder&rsquo; in. Als de minimumhoeveelheid diervoeder verschilt per gewicht of leeftijd, dan herhaalt u dit veld voor elke minimumhoeveelheid diervoeder. U begint met de eerste kolom/rij. Zie de link in Procesbeschrijving naar het document Toelichting voor een uitgebreide uitleg over hoe de voedingstabel ingevuld moet worden.<br />\n<br />\nVul de eenheid in een apart veld in.\n","Zie voor aanvullende toelichting <a href=\" https://www.gs1.nl/sectorafspraken-over-standaarden/productdata-levensmiddelen-drogisterij-agf-en-foodservice/gs1-5-7\" style=\"color:blue; text-decoration:underline\" target=\"_blank\"> https://www.gs1.nl/sectorafspraken-over-standaarden/productdata-levensmiddelen-drogisterij-agf-en-foodservice/gs1-5-7</a>","","Verplicht als er een minimumhoeveelheid diervoeder in de voedingstabel staat op het etiket. Als de voedingstabel te complex is en alleen via een afbeelding kan worden meegeleverd, laat dit veld dan leeg.",null,null,{"$f":"IFERROR(LEFT(B248,LEN(B248)-LEN('BES EN'!E248)-3),\"Doelsector\")","v":"Minimumhoeveelheid diervoeder"}]
["ANL1304","Eenheid minimumhoeveelheid diervoeder (minimumFeedingAmount/@measurementUnitCode)","Dit veld wordt in Nederland gecontroleerd in het kader van het datakwaliteitsprogramma.","Een gestandaardiseerde, reproduceerbare eenheid waarmee een fysieke eigenschap kan worden gemeten.","GRM","Selecteer de juiste waarde uit de codelijst ‘measurementUnitCode’.","Zie voor aanvullende toelichting <a href=\" https://www.gs1.nl/sectorafspraken-over-standaarden/productdata-levensmiddelen-drogisterij-agf-en-foodservice/gs1-5-7\" style=\"color:blue; text-decoration:underline\" target=\"_blank\"> https://www.gs1.nl/sectorafspraken-over-standaarden/productdata-levensmiddelen-drogisterij-agf-en-foodservice/gs1-5-7</a>",null,"Verplicht als het veld 'Minimumhoeveelheid diervoeder' is ingevuld bij de consumenteneenheid. ","Verplicht als het veld 'Minimumhoeveelheid diervoeder' is ingevuld bij de handelseenheid. ","Verplicht als het veld 'Minimumhoeveelheid diervoeder' is ingevuld bij de logistieke eenheid. ",{"$f":"IFERROR(LEFT(B249,LEN(B249)-LEN('BES EN'!E249)-3),\"Doelsector\")","v":"Eenheid minimumhoeveelheid diervoeder"}]
["ANL1305","Maximumhoeveelheid diervoeder (maximumFeedingAmount)","Vul een maximumhoeveelheid diervoeder in dit veld in. Staat een exacte hoeveelheid diervoeder op de verpakking? Vul deze in het veld &#39;Hoeveelheid diervoeder&#39; in en laat dit veld leeg.<br />\n<br />\nDit veld wordt in Nederland gecontroleerd in het kader van het datakwaliteitsprogramma.\n","De maximumhoeveelheid diervoeder afgestemd op de leeftijd en het gewicht van het dier dat met dit product wordt gevoerd.\n","120\n","Vul de maximumhoeveelheid diervoeder in voor het aangegeven gewicht van het dier. U vult ook het veld &lsquo;Minimumhoeveelheid diervoeder&rsquo; in. Als de maximumhoeveelheid diervoeder verschilt per gewicht of leeftijd, dan herhaalt u dit veld voor elke maximumhoeveelheid diervoeder. U begint met de eerste kolom/rij. Zie de link in Procesbeschrijving naar het document Toelichting voor een uitgebreide uitleg over hoe de voedingstabel ingevuld moet worden.<br />\n<br />\nVul de eenheid in een apart veld in.\n","Zie voor aanvullende toelichting <a href=\" https://www.gs1.nl/sectorafspraken-over-standaarden/productdata-levensmiddelen-drogisterij-agf-en-foodservice/gs1-5-7\" style=\"color:blue; text-decoration:underline\" target=\"_blank\"> https://www.gs1.nl/sectorafspraken-over-standaarden/productdata-levensmiddelen-drogisterij-agf-en-foodservice/gs1-5-7</a>","","Verplicht als er een maximumhoeveelheid diervoeder in de voedingstabel staat op het etiket. Als de voedingstabel te complex is en alleen via een afbeelding kan worden meegeleverd, laat dit veld dan leeg.",null,null,{"$f":"IFERROR(LEFT(B250,LEN(B250)-LEN('BES EN'!E250)-3),\"Doelsector\")","v":"Maximumhoeveelheid diervoeder"}]
["ANL1306","Eenheid maximumhoeveelheid diervoeder (maximumFeedingAmount/@measurementUnitCode)","Dit veld wordt in Nederland gecontroleerd in het kader van het datakwaliteitsprogramma.","Een gestandaardiseerde, reproduceerbare eenheid waarmee een fysieke eigenschap kan worden gemeten.","GRM","Selecteer de juiste waarde uit de codelijst ‘measurementUnitCode’.","Zie voor aanvullende toelichting <a href=\" https://www.gs1.nl/sectorafspraken-over-standaarden/productdata-levensmiddelen-drogisterij-agf-en-foodservice/gs1-5-7\" style=\"color:blue; text-decoration:underline\" target=\"_blank\"> https://www.gs1.nl/sectorafspraken-over-standaarden/productdata-levensmiddelen-drogisterij-agf-en-foodservice/gs1-5-7</a>",null,"Verplicht als het veld 'Maximumhoeveelheid diervoeder' is ingevuld bij de consumenteneenheid. ","Verplicht als het veld 'Maximumhoeveelheid diervoeder' is ingevuld bij de handelseenheid. ","Verplicht als het veld 'Maximumhoeveelheid diervoeder' is ingevuld bij de logistieke eenheid. ",{"$f":"IFERROR(LEFT(B251,LEN(B251)-LEN('BES EN'!E251)-3),\"Doelsector\")","v":"Eenheid maximumhoeveelheid diervoeder"}]
["ANL1307","Aanbeveling aantal keren voeren  (recommendedFrequencyOfFeeding)","Dit veld wordt in Nederland gecontroleerd in het kader van het datakwaliteitsprogramma.","De aanbeveling over hoe vaak een dier de aanbevolen hoeveelheid eten moet krijgen binnen een bepaalde tijdsperiode en voor een bepaalde leeftijd of levensfase van het dier. Voorbeelden: twee maaltijden per dag, maximaal 2 kauwstokjes en/of 2 porties per dag.\n","Maximaal 2 stokjes per week<br />\nPer dag 24h\n","De aanbeveling voor het aantal keren voeren kan op twee manieren op het etiket staan:<br />\n1. Er staat hoe vaak het wordt aanbevolen het dier de aanbevolen hoeveelheid eten (voor de specifieke gewichtsklasse van het dier) te geven, bijvoorbeeld per dag.<br />\n2. Er staat een periode waarbinnen het dier de aanbevolen hoeveelheid eten (voor de specifieke gewichtsklasse van het dier) moet krijgen, bijvoorbeeld 24h.<br />\nAls er een voedingstabel op het etiket staat waarbij de aanbevolen hoeveelheid diervoeder verschilt per leeftijd en/of gewicht, dan herhaalt u dit veld voor elke hoeveelheid diervoeder (ook al blijft de aanbeveling hoe vaak het dier te eten te geven gelijk). Zie de link in Procesbeschrijving naar het document Toelichting voor een uitgebreide uitleg over hoe de voedingstabel ingevuld moet worden.\n","Zie voor aanvullende toelichting <a href=\" https://www.gs1.nl/sectorafspraken-over-standaarden/productdata-levensmiddelen-drogisterij-agf-en-foodservice/gs1-5-7\" style=\"color:blue; text-decoration:underline\" target=\"_blank\"> https://www.gs1.nl/sectorafspraken-over-standaarden/productdata-levensmiddelen-drogisterij-agf-en-foodservice/gs1-5-7</a>","","Verplicht als er in de voedingstabel een aanbeveling staat voor het aantal keren voeren op het etiket. Als de voedingstabel te complex is en alleen via een afbeelding kan worden meegeleverd, laat dit veld dan leeg.",null,null,{"$f":"IFERROR(LEFT(B252,LEN(B252)-LEN('BES EN'!E252)-3),\"Doelsector\")","v":"Aanbeveling aantal keren voeren "}]
["ANL1308","Aanbeveling aantal keren voeren taalcode (recommendedFrequencyOfFeeding/@languageCode)","Dit veld wordt in Nederland gecontroleerd in het kader van het datakwaliteitsprogramma.","Code die een taal specificeert. Toegestane codewaarden staan gespecificeerd in de GS1 codelijst 'LanguageCode'.","nl","Selecteer de correcte waarde uit de 'ISO 639-1 (2-alpha)' codelijst.","Zie voor aanvullende toelichting <a href=\" https://www.gs1.nl/sectorafspraken-over-standaarden/productdata-levensmiddelen-drogisterij-agf-en-foodservice/gs1-5-7\" style=\"color:blue; text-decoration:underline\" target=\"_blank\"> https://www.gs1.nl/sectorafspraken-over-standaarden/productdata-levensmiddelen-drogisterij-agf-en-foodservice/gs1-5-7</a> <br />\n<br />\n- Voor het terugvinden van taalcodes zie: <a href=\" http://www.loc.gov/standards/iso639-2/php/code_list.php\" style=\"color:blue; text-decoration:underline\" target=\"_blank\"> http://www.loc.gov/standards/iso639-2/php/code_list.php</a> ",null,"Verplicht als het veld 'Aanbeveling aantal keren voeren' is ingevuld bij de consumenteneenheid. ","Verplicht als het veld 'Aanbeveling aantal keren voeren' is ingevuld bij de handelseenheid. ","Verplicht als het veld 'Aanbeveling aantal keren voeren' is ingevuld bij de pallet. ",{"$f":"IFERROR(LEFT(B253,LEN(B253)-LEN('BES EN'!E253)-3),\"Doelsector\")","v":"Aanbeveling aantal keren voeren taalcode"}]
["ANL1309","Voedingsadvies (feedingInstructions)","Dit veld wordt in Nederland gecontroleerd in het kader van het datakwaliteitsprogramma.","Alle instructies die in tekst beschrijven hoe (bijvoorbeeld welke hoeveelheid of hoe vaak) het dier te eten moet krijgen gebaseerd op de leeftijd, het gewicht, het dieet of andere variabelen. Informatie die in dit veld staat moet overeenkomen met de tekst op het etiket/verpakking.\n","1) Dit product is geen vervanging van de dagelijkse voeding. Met het oog op de extra energie-inname beperkt voeren. Altijd voldoende vers water ter beschikking stellen. Niet geschikt voor puppy&rsquo;s jonger dan 4 maanden. Tijdens het voeren dienen honden altijd onder toezicht te staan.<br />\n2) Voedingsadvies: Voor kleine honden van 7 tot 12 kg: 1 stick per dag. Zorg dat er altijd vers drinkwater beschikbaar is. Blijf in de buurt wanneer u uw hond de snack geeft. Voor de gezondheid van uw hond, respecteer de maximale dagelijkse hoeveelheden en doe dagelijks oefeningen.<br />\n3) Voedingsadvies: Wanneer de volwassen leeftijd bereikt wordt, kunt u geleidelijk aan overschakelen naar Adult voeding. Het is aanbevolen om de hoeveelheid van de voeding aan te passen aan de mate van activiteit, het ras en de leeftijd van uw hond. Hoe uw puppy te voeden? Bezoek de website of neem contact op met de consumentendienst. Zorg dat er altijd vers drinkwater beschikbaar is. De behoeften van uw huisdier wat betreft voeding zullen verschillen overeenkomstig leeftijd, gewicht, geslacht, ras en activiteit. Aangezien het belangrijk is dat uw huisdier de juiste hoeveelheid voeding krijgt, raadpleeg het etiket/verpakking voor het complete, gedetailleerde voedingsadvies.\n","Als u het voedingsadvies op een gestructureerde manier invult door gebruik te maken van bijvoorbeeld de velden &lsquo;Leeftijd dier&rsquo;, &lsquo;Minimumgewicht van het dier&rsquo;, &lsquo;Hoeveelheid diervoeder&rsquo; enz., gebruik dan dit tekstveld als aanvulling om meer algemene informatie in te vullen (zie voorbeeld 1 hier en in het document met toelichtingen).<br />\n<br />\nVoor producten zonder voedingstabel maar met een tekstueel voedingsadvies op de verpakking, vul het voedingsadvies in zoals op de verpakking (zie voorbeeld 2 hier en in het document met toelichtingen). Begin met de specifieke informatie voor het product, gevolgd door meer algemene informatie.<br />\n<br />\nAls de voedingstabel te complex is en daarom niet op een gestructureerde manier kan worden weergegeven, geef dit dan aan door hier deze zin in te vullen: &lsquo;De behoeften van uw huisdier wat betreft voeding zullen verschillen overeenkomstig leeftijd, gewicht, geslacht, ras en activiteit. Aangezien het belangrijk is dat uw huisdier de juiste hoeveelheid voeding krijgt, raadpleeg het etiket/verpakking voor het complete, gedetailleerde voedingsadvies.&rsquo; (zie voorbeeld 3 hier en in het document met toelichtingen).<br />\nLet op: Maak van dit laatste alleen gebruik in uitzonderlijke gevallen en wees u ervan bewust dat dit tot gevolg heeft dat de gegevens niet beschikbaar zijn voor de ontvanger, website, enzovoort.<br />\n<br />\nZie de link in Procesbeschrijving naar het document Toelichting voor een uitgebreide uitleg over hoe de voedingstabel ingevuld moet worden.\n","Zie voor aanvullende toelichting <a href=\" https://www.gs1.nl/sectorafspraken-over-standaarden/productdata-levensmiddelen-drogisterij-agf-en-foodservice/gs1-5-7\" style=\"color:blue; text-decoration:underline\" target=\"_blank\"> https://www.gs1.nl/sectorafspraken-over-standaarden/productdata-levensmiddelen-drogisterij-agf-en-foodservice/gs1-5-7</a> <br />\n<br />\nLokale in Nederland gebruikte validatieregels zijn: 500.344\n","","Verplicht voor diervoeder indien het op het etiket staat.",null,null,{"$f":"IFERROR(LEFT(B254,LEN(B254)-LEN('BES EN'!E254)-3),\"Doelsector\")","v":"Voedingsadvies"}]
["ANL1310","Voedingsadvies taalcode (feedingInstructions/@languageCode)","Dit veld wordt in Nederland gecontroleerd in het kader van het datakwaliteitsprogramma.","Code die een taal specificeert. Toegestane codewaarden staan gespecificeerd in de GS1 codelijst 'LanguageCode'.","nl","Selecteer de correcte waarde uit de 'ISO 639-1 (2-alpha)' codelijst.","Zie voor aanvullende toelichting <a href=\" https://www.gs1.nl/sectorafspraken-over-standaarden/productdata-levensmiddelen-drogisterij-agf-en-foodservice/gs1-5-7\" style=\"color:blue; text-decoration:underline\" target=\"_blank\"> https://www.gs1.nl/sectorafspraken-over-standaarden/productdata-levensmiddelen-drogisterij-agf-en-foodservice/gs1-5-7</a> <br />\n<br />\n- Voor het terugvinden van taalcodes zie: <a href=\" http://www.loc.gov/standards/iso639-2/php/code_list.php\" style=\"color:blue; text-decoration:underline\" target=\"_blank\"> http://www.loc.gov/standards/iso639-2/php/code_list.php</a> ",null,"Verplicht als het veld 'Voedingsadvies' is ingevuld bij de consumenteneenheid. ","Verplicht als het veld 'Voedingsadvies' is ingevuld bij de handelseenheid. ","Verplicht als het veld 'Voedingsadvies' is ingevuld bij de logistieke eenheid. ",{"$f":"IFERROR(LEFT(B255,LEN(B255)-LEN('BES EN'!E255)-3),\"Doelsector\")","v":"Voedingsadvies taalcode"}]
["ANL1311","GPC-attribuut (gpcAttributeTypeCode)","Als u dit veld invult, vul dan ook het veld GPC-attribuutwaarde in.\n","Code die het type attribuut aangeeft volgens de Global Product Classification (GPC) standaard, bijvoorbeeld 20002740 &ndash; Kleur van het Vruchtvlees van Citrusvruchten.\n","20002740 &ndash; Kleur van het Vruchtvlees van Citrusvruchten<br />\n20000743 &ndash; Land/Regio van Oorsprong\n","Met een GPC-attribuut en GPC-attribuutwaarde geeft u nog specifieker aan om wat voor product het gaat, bijvoorbeeld door het land/regio van oorsprong aan te geven, de teeltwijze of de kwaliteit van een product. Het GPC-attribuut geeft de categorie (bijv. de teeltwijze) aan en met de GPC-attribuutwaarde geeft u aan welke waarde uw product heeft binnen die categorie (bijvoorbeeld biologisch; het product wordt op biologische wijze geteeld).<br />\n<br />\nZoek de juiste GPC-attribuutcode via <a href=\" https://www.gs1.org/gpc/browser\" style=\"color:blue; text-decoration:underline\" target=\"_blank\"> https://www.gs1.org/gpc/browser</a>. U kunt alleen kiezen uit GPC-attribuutcodes die onder de code GPC Classificatie van uw product vallen. Zoek daarom eerst uw GPC-code op en kijk welke GPC-attribuutcodes daarbij horen. Staat de GPC-attribuutcode die u zoekt hier niet bij? Laat dit veld dan leeg.\n","Zie voor aanvullende toelichting <a href=\" https://www.gs1.nl/sectorafspraken-over-standaarden/productdata-levensmiddelen-drogisterij-agf-en-foodservice/gs1-5-7\" style=\"color:blue; text-decoration:underline\" target=\"_blank\"> https://www.gs1.nl/sectorafspraken-over-standaarden/productdata-levensmiddelen-drogisterij-agf-en-foodservice/gs1-5-7</a>","",null,null,null,{"$f":"IFERROR(LEFT(B256,LEN(B256)-LEN('BES EN'!E256)-3),\"Doelsector\")","v":"GPC-attribuut"}]
["ANL1312","GPC-attribuutwaarde (gpcAttributeValueCode)","","Code die de waarde van het attribuut aangeeft volgens de Global Product Classification (GPC) standaard, bijvoorbeeld 30001983 &ndash; Rood.\n","30001983 &ndash; Rood 30016148 &ndash; Nicaragua\n","Met een GPC-attribuut en de GPC-attribuutwaarde geeft u nog specifieker aan om wat voor product het gaat, bijvoorbeeld door het land/regio van oorsprong aan te geven, de teeltwijze of de kwaliteit. Het GPC-attribuut geeft de categorie (bijv. de teeltwijze) aan en met de GPC-attribuutwaarde geeft u aan welke waarde uw product heeft binnen die categorie (bijvoorbeeld biologisch; het product wordt op biologische wijze geteeld).<br />\n<br />\nZoek de juiste GPC-attribuutwaarde via <a href=\" https://www.gs1.org/gpc/browser\" style=\"color:blue; text-decoration:underline\" target=\"_blank\"> https://www.gs1.org/gpc/browser</a>. U kunt alleen kiezen uit GPC-attribuutwaardes die vallen onder het bijbehorende GPC-attribuut.\n","Zie voor aanvullende toelichting <a href=\" https://www.gs1.nl/sectorafspraken-over-standaarden/productdata-levensmiddelen-drogisterij-agf-en-foodservice/gs1-5-7\" style=\"color:blue; text-decoration:underline\" target=\"_blank\"> https://www.gs1.nl/sectorafspraken-over-standaarden/productdata-levensmiddelen-drogisterij-agf-en-foodservice/gs1-5-7</a>","","Verplicht indien 'GPC-attribuut' is ingevuld",null,null,{"$f":"IFERROR(LEFT(B257,LEN(B257)-LEN('BES EN'!E257)-3),\"Doelsector\")","v":"GPC-attribuutwaarde"}]
["ANL1313","Type cultuurvariëteit (productCharacteristicValueDescription)","Voor de AGF-sector geldt: namen van rassen vindt u op de site van de UN/ECE standaards: <a href=\" http://www.unece.org/trade/agr/standard/fresh/ffv-standardse.html\" style=\"color:blue; text-decoration:underline\" target=\"_blank\">  http://www.unece.org/trade/agr/standard/fresh/ffv-standardse.html</a>. Daarnaast vindt u voor appels en peren ook onder de GPC-attribuutcode voor ras een opsomming van alle namen van rassen.\n","Geeft aan om wat voor ras (cultuurvari&euml;teit) het gaat. Een ras (cultuurvari&euml;teit=cultivar) is het basale taxon voor de cultuurplanten. Het begrip ras wordt breed gebruikt in de voedingsmiddelensector inclusief de AGF-sector. In de sierteeltsector wordt doorgaans het begrip cultivar gebruikt. Een ras (in Engels &lsquo;variety&rsquo;) is een taxon dat geselecteerd is vanwege een bepaald kenmerk (eigenschap) of combinatie van kenmerken. Het is duidelijk te onderscheiden van andere rassen, is uniform in zijn kenmerken en blijft stabiel na gangbare vermeerdering. Naast het ras (cultuurvari&euml;teit), die door de mens is geselecteerd, bestaat er ook de &quot;botanische vari&euml;teit&quot;. In sommige gevallen is het ras (cultuurvari&euml;teit) gelijk aan de botanische vari&euml;teit. De botanische vari&euml;teit is een enkel botanisch taxon van de laagst bekende rang, die via natuurlijke selectie (evolutie) is ontstaan; een principieel verschil met een ras (cultuurvari&euml;teit), die voor en door mensen is geselecteerd. Rassen kunnen via het kwekersrecht, een specifieke vorm van Intellectueel Eigendomsrecht, worden beschermd. Dit gaat via erkende autoriteiten (o.a. Raad voor Plantenrassen in Nederland). Rassen zijn doorgaans ontstaan als gevolg van mutatie of door (gerichte) kruising.\n","Golden Delicious<br />\nNicoter<br />\nElsanta<br />\nConf&eacute;rence\n","Vul hier het ras (cultuurvari&euml;teit) in. Dit betekent dat u het ras van het product vermeldt voor de AGF-sector en de cultivar voor de sierteeltsector. De botanische vari&euml;teit mag hier niet ingevuld worden, tenzij die gelijk is aan het ras. Het is niet toegestaan om in dit veld het handelsmerk/clubras in te vullen. Voorbeelden van een handelsmerk/clubras zijn Pink Lady (ras: Cripps Pink), Kanzi (ras: Nicoter) en Jazz (ras: Scifresh). Vul voor deze clubrassen dus het ras in. Verder moet u bij &lsquo;productCharacteristicCode&rsquo; de code &lsquo;produceVarietyType&rsquo; invullen.\n","Zie voor aanvullende toelichting <a href=\" https://www.gs1.nl/sectorafspraken-over-standaarden/productdata-levensmiddelen-drogisterij-agf-en-foodservice/gs1-5-7\" style=\"color:blue; text-decoration:underline\" target=\"_blank\"> https://www.gs1.nl/sectorafspraken-over-standaarden/productdata-levensmiddelen-drogisterij-agf-en-foodservice/gs1-5-7</a>","",null,null,null,{"$f":"IFERROR(LEFT(B258,LEN(B258)-LEN('BES EN'!E258)-3),\"Doelsector\")","v":"Type cultuurvariëteit"}]
["ANL1314","Type cultuurvariëteit taalcode (productCharacteristicValueDescription/@languageCode)",null,"Code die een taal specificeert. Toegestane codewaarden staan gespecificeerd in de GS1 codelijst 'LanguageCode'.","nl","Selecteer de correcte waarde uit de 'ISO 639-1 (2-alpha)' codelijst.","Zie voor aanvullende toelichting <a href=\" https://www.gs1.nl/sectorafspraken-over-standaarden/productdata-levensmiddelen-drogisterij-agf-en-foodservice/gs1-5-7\" style=\"color:blue; text-decoration:underline\" target=\"_blank\"> https://www.gs1.nl/sectorafspraken-over-standaarden/productdata-levensmiddelen-drogisterij-agf-en-foodservice/gs1-5-7</a> <br />\n<br />\n- Voor het terugvinden van taalcodes zie: <a href=\" http://www.loc.gov/standards/iso639-2/php/code_list.php\" style=\"color:blue; text-decoration:underline\" target=\"_blank\"> http://www.loc.gov/standards/iso639-2/php/code_list.php</a> ",null,"Verplicht indien 'Type cultuurvariëteit' is ingevuld.","Verplicht indien 'Type cultuurvariëteit' is ingevuld.","Verplicht indien 'Type cultuurvariëteit' is ingevuld.",{"$f":"IFERROR(LEFT(B259,LEN(B259)-LEN('BES EN'!E259)-3),\"Doelsector\")","v":"Type cultuurvariëteit taalcode"}]
["ANL1315","Teeltwijze (growingMethodCode)","Als u kiest voor de code ‘ORGANIC’ dan vult u ook de velden 'Beheerorganisatie biologische producten' en ‘Biologische statuscode’ in.<br />\n<br />\nGebruik voor vis het veld ‘Productiemethode voor vis’.","De methode waarop het product is gekweekt, gecultiveerd, verbouwd en/of geteeld.\n","CONVENTIONAL<br />\nORGANIC\n","In dit veld geeft u aan via welke methode het product is gekweekt, gecultiveerd, verbouwd en/of geteeld. Daarvoor kiest u een code uit de codelijst ‘GrowingMethodCode’ in. U bent verplicht om voor groente en fruit één van de volgende codes te kiezen: CONVENTIONAL, FIELD_GROWN, GREENHOUSE, HYDROPONIC, INTEGRATED_PEST_MANAGEMENT, ORGANIC, SHADE_GROWN of WILD.","","","Verplicht als er op het etiket staat hoe het product is gekweekt, gecultiveerd, verbouwd en/of geteeld. Niet verplicht voor vis",null,null,{"$f":"IFERROR(LEFT(B260,LEN(B260)-LEN('BES EN'!E260)-3),\"Doelsector\")","v":"Teeltwijze"}]
["ANL1316","Beheerorganisatie biologische producten (organicClaimAgencyCode)","U vult dit veld verplicht in voor biologische producten.\n","Een beheerorganisatie die standaarden over biologische producten opstelt en beheert.\n","6 &ndash; USDA (US Department of Agriculture)<br />\n22 &ndash; EU commission\n","Vul in dit veld in welke beheerorganisatie verantwoordelijk is voor het uitgeven en beheren van het biologische keurmerk dat u op uw product hebt staan. Kies daarvoor een code uit de codelijst &lsquo;OrganicClaimAgencyCode&rsquo;. Voorbeelden zijn &lsquo;6- USDA (US Department of Agriculture)&rsquo; en &rsquo;22 &ndash; EU commission&rsquo;.","","","Verplicht voor biologische producten",null,null,{"$f":"IFERROR(LEFT(B261,LEN(B261)-LEN('BES EN'!E261)-3),\"Doelsector\")","v":"Beheerorganisatie biologische producten"}]
["ANL1317","Biologische statuscode (organicTradeItemCode)","U vult dit veld verplicht in voor biologische producten.\n","Wordt gebruikt om aan te geven dat een product of &eacute;&eacute;n of meer van zijn onderdelen biologisch is.\n","1 &ndash; 100% Organic<br />\n5 &ndash; Not Organic\n","Via dit veld geeft u aan wat de biologische status is van uw product. Kies daarvoor een code uit de codelijst &lsquo;OrganicTradeItemCode&rsquo;. Voorbeelden zijn &lsquo;1 &ndash; 100% Organic&rsquo;, &lsquo;5 &ndash; Not Organic&rsquo; en &lsquo;6 &ndash; In conversion&rsquo;.\n","","","Verplicht voor biologische producten",null,null,{"$f":"IFERROR(LEFT(B262,LEN(B262)-LEN('BES EN'!E262)-3),\"Doelsector\")","v":"Biologische statuscode"}]
["ANL1318","Chemische behandeling na oogsten (postHarvestTreatmentChemicalCode)","Voor bepaalde producten is het wettelijk verplicht om deze informatie te verschaffen, zoals citrusvruchten.\n","Wordt gebruikt om aan te geven of fruit of groente na oogst wel of niet met chemicali&euml;n of was is behandeld.\n","CHEMICALLY_TREATED_AFTER_HARVESTING<br />\nWAXED\n","Geef in dit veld aan of fruit of groente na de oogst is behandeld met chemicali&euml;n of was. Doe dat door een code te kiezen uit de codelijst &lsquo;PostHarvestTreatmentChemicalCode&rsquo;.\n","","",null,null,null,{"$f":"IFERROR(LEFT(B263,LEN(B263)-LEN('BES EN'!E263)-3),\"Doelsector\")","v":"Chemische behandeling na oogsten"}]
["ANL1319","Leeftijdsindicatie vanaf  (healthcareItemMinimumUsageAge)","Vul de eenheid (bijvoorbeeld maand of jaar) in een apart veld in. De eenheid hoeft niet dezelfde te zijn als in het veld &#39;Leeftijdsindicatie tot&#39;. Wanneer er op de verpakking verschillende vermeldingen staan over vanaf wanneer een product gebruikt mag worden, dan maakt u de keuze welke u het meest relevant vindt. U kunt er maar &eacute;&eacute;n invoeren.<br />\n<br />\nDit veld wordt in Nederland gecontroleerd in het kader van het datakwaliteitsprogramma.\n","De minimumleeftijd vanaf wanneer u het gezondheidsproduct mag gebruiken, bijvoorbeeld 6 maanden of 18 jaar.\n","6\n","Vul hier de leeftijd in vanaf wanneer het zelfzorggeneesmiddel ingenomen mag worden. Als er staat &#39;voor volwassenen&#39; dan vult u hier 18 in. Staat er &#39;voor kinderen en volwassenen&#39;? Vul dan 3 in.<br />\nAls er geen exacte leeftijd op het etiket staat, dan geldt de volgende tabel als indicatie voor de leeftijden die ingevuld moeten worden voor kinderen:<br />\n- Baby 0 tot en met 2<br />\n- Peuter 2 tot en met 4<br />\n- Kleuter 3 tot en met 5<br />\n- Kinderen 3 tot 18<br />\n<br />\nStaat op het etiket een zin aangegeven met de strekking &#39;Geef dit middel niet aan kinderen onder de x jaar, tenzij een arts dit heeft geadviseerd&#39;? Vul dan 3 in en vul daarnaast ook het veld &#39;Aanvulling leeftijdsindicatie&#39; in met de verduidelijking.\n","","","Verplicht voor zelfzorggeneesmiddelen als het op de verpakking staat.",null,null,{"$f":"IFERROR(LEFT(B264,LEN(B264)-LEN('BES EN'!E264)-3),\"Doelsector\")","v":"Leeftijdsindicatie vanaf "}]
["ANL1320","Eenheid leeftijdsindicatie vanaf  (healthcareItemMinimumUsageAge/@timeMeasurementUnitCode)",null,"Een gestandaardiseerde, reproduceerbare eenheid waarmee een fysieke eigenschap kan worden gemeten.","MON","Selecteer de juiste waarde uit de codelijst ‘TimeMeasurementUnitCode’.",null,null,"Verplicht als het veld 'Leeftijdsindicatie vanaf' is ingevuld bij de consumenteneenheid. ","Verplicht als het veld 'Leeftijdsindicatie vanaf' is ingevuld bij de handelseenheid.","Verplicht als het veld 'Leeftijdsindicatie vanaf' is ingevuld bij de logistieke eenheid. ",{"$f":"IFERROR(LEFT(B265,LEN(B265)-LEN('BES EN'!E265)-3),\"Doelsector\")","v":"Eenheid leeftijdsindicatie vanaf "}]
["ANL1321","Leeftijdsindicatie tot (healthcareItemMaximumUsageAge)","Vul de eenheid (bijvoorbeeld maand of jaar) in een apart veld in. De eenheid hoeft niet dezelfde te zijn als bij het veld &#39;Leeftijdsindicatie vanaf&#39;. Wanneer er op de verpakking verschillende vermeldingen staan over tot wanneer een product gebruikt mag worden, dan maakt u de keuze welke u het meest relevant vindt. U kunt er maar een invoeren.<br />\n<br />\nDit veld wordt in Nederland gecontroleerd in het kader van het datakwaliteitsprogramma.\n","De maximumleeftijd tot wanneer u het gezondheidsproduct mag gebruiken, bijvoorbeeld 6 maanden of 18 jaar.\n","18\n","Vul hier de leeftijd in tot wanneer het zelfzorggeneesmiddel genomen mag worden. Staat er alleen een &#39;vanaf leeftijd&#39;, bijvoorbeeld &#39;Te gebruiken door kinderen vanaf 12 jaar&#39;? Dan laat u het veld &#39;Leeftijdsindicatie tot&#39; leeg. Als er geen exacte leeftijd op het etiket staat, dan geldt de volgende tabel als indicatie voor de leeftijden die ingevuld moeten worden voor kinderen:<br />\n- Baby 0 tot en met 2<br />\n- Peuter 2 tot en met 4<br />\n- Kleuter 3 tot en met 5<br />\n- Kinderen Vanaf 3 tot 18","","","Verplicht voor zelfzorggeneesmiddelen als het op het etiket of de verpakking staat.",null,null,{"$f":"IFERROR(LEFT(B266,LEN(B266)-LEN('BES EN'!E266)-3),\"Doelsector\")","v":"Leeftijdsindicatie tot"}]
["ANL1322","Eenheid leeftijdsindicatie tot (healthcareItemMaximumUsageAge/@timeMeasurementUnitCode)",null,"Een gestandaardiseerde, reproduceerbare eenheid waarmee een fysieke eigenschap kan worden gemeten.","ANN","Selecteer de juiste waarde uit de codelijst ‘TimeMeasurementUnitCode’.",null,null,"Verplicht als het veld 'Leeftijdsindicatie tot' is ingevuld bij de consumenteneenheid. ","Verplicht als het veld 'Leeftijdsindicatie tot' is ingevuld bij de handelseenheid. ","Verplicht als het veld 'Leeftijdsindicatie tot' is ingevuld bij de logistieke eenheid. ",{"$f":"IFERROR(LEFT(B267,LEN(B267)-LEN('BES EN'!E267)-3),\"Doelsector\")","v":"Eenheid leeftijdsindicatie tot"}]
["ANL1323","Aanvulling leeftijdsindicatie (healthcareItemUsageAgeDescription)","Dit veld wordt in Nederland gecontroleerd in het kader van het datakwaliteitsprogramma.\n","Aanvullende informatie over de leeftijdsindicatie van een zelfzorggeneesmiddel, bijvoorbeeld &#39;Dit product is niet ge&iuml;ndiceerd voor gebruik bij kinderen jonger dan 6 jaar, tenzij een arts dit heeft geadviseerd.&#39;\n","Geef dit middel niet aan kinderen onder de 12 jaar, tenzij een arts dit heeft geadviseerd.\n","Vul hier de aanvullende tekst in die behoort bij de leeftijdsindicatie. In dit veld vult u de aanvullende tekst in die aangeeft vanaf welke leeftijd een product (mogelijk) gebruikt kan worden (meestal onder de voorwaarde dat een arts dit heeft geadviseerd). Vul dit veld alleen in als u het/de veld(en) &#39;Leeftijdsindicatie vanaf&#39; en/of &#39;Leeftijdsindicatie tot&#39; ook heeft ingevuld. Tekst die waarschuwt dat een product onder een bepaalde leeftijd niet gebruikt mag worden, vult u in het veld &#39;Waarschuwingen en gebruiksbeperkingen&#39; in.\n","","","Verplicht voor zelfzorggeneesmiddelen als het op de verpakking staat.",null,null,{"$f":"IFERROR(LEFT(B268,LEN(B268)-LEN('BES EN'!E268)-3),\"Doelsector\")","v":"Aanvulling leeftijdsindicatie"}]
["ANL1324","Aanvulling leeftijdsindicatie taalcode (healthcareItemUsageAgeDescription/@languageCode)",null,"Code die een taal specificeert. Toegestane codewaarden staan gespecificeerd in de GS1 codelijst 'LanguageCode'.","nl","Selecteer de correcte waarde uit de 'ISO 639-1 (2-alpha)' codelijst.","- Voor het terugvinden van taalcodes zie: <a href=\" http://www.loc.gov/standards/iso639-2/php/code_list.php\" style=\"color:blue; text-decoration:underline\" target=\"_blank\"> http://www.loc.gov/standards/iso639-2/php/code_list.php</a> ",null,"Verplicht als het veld 'Aanvulling leeftijdsindicatie' is ingevuld bij de consumenteneenheid. ","Verplicht als het veld 'Aanvulling leeftijdsindicatie' is ingevuld bij de handelseenheid. ","Verplicht als het veld 'Aanvulling leeftijdsindicatie' is ingevuld bij de logistieke eenheid. ",{"$f":"IFERROR(LEFT(B269,LEN(B269)-LEN('BES EN'!E269)-3),\"Doelsector\")","v":"Aanvulling leeftijdsindicatie taalcode"}]
["ANL1325","Te gebruiken tijdens zwangerschap (usageDuringPregnancyCode)","Retailers moeten daarnaast op hun website de consumenten er op wijzen dat bij zwangerschap het altijd wordt aanbevolen om een arts te raadplegen, en dat het belangrijk is dat de consument alle informatie leest, ook de bijsluiter.<br />\n<br />\nDit veld wordt in Nederland gecontroleerd in het kader van het datakwaliteitsprogramma.\n","Geeft voor zelfzorggeneesmiddelen aan of u het artikel mag gebruiken tijdens de zwangerschap.\n","MOGELIJK\n","Kies een van de volgende waarden uit codelijst AllowedUsageCode. De toegestane codes zijn:<br />\nNEE: het product mag niet tijdens zwangerschap gebruikt worden.<br />\nMOGELIJK: het product kan mogelijkerwijs gebruikt worden tijdens de gehele zwangerschap, maar wij raden aan om eerste de bijsluiter goed te lezen.<br />\nNIET VAN TOEPASSING: het product is niet van toepassing bij zwangerschap, bijvoorbeeld omdat dit alleen voor mannen of voor kinderen onder de 6 jaar is bedoeld.<br />\n<br />\nStaat er op het etiket dat het gedurende een deel van de zwangerschap niet mogelijk is om het product te gebruiken? Dan kiest u alsnog voor &#39;MOGELIJK&#39;. Bijvoorbeeld: gebruik dit middel niet in de laatste 3 maanden van de zwangerschap.\n","","","Verplicht voor zelfzorggeneesmiddelen want retailers willen dit altijd ontvangen.",null,null,{"$f":"IFERROR(LEFT(B270,LEN(B270)-LEN('BES EN'!E270)-3),\"Doelsector\")","v":"Te gebruiken tijdens zwangerschap"}]
["ANL1326","Te gebruiken tijdens borstvoeding (usageDuringBreastFeedingCode)","Retailers moeten daarnaast op hun website de consumenten er op wijzen dat bij het geven van borstvoeding het altijd wordt aanbevolen om een arts te raadplegen, en dat het belangrijk is dat de consument alle informatie leest, ook de bijsluiter.<br />\n<br />\nDit veld wordt in Nederland gecontroleerd in het kader van het datakwaliteitsprogramma.\n","Geeft voor zelfzorggeneesmiddelen aan of u het artikel mag gebruiken tijdens de periode van het geven van borstvoeding.\n","MOGELIJK\n","Kies een van de volgende waarden uit codelijst AllowedUsageCode. De toegestane codes zijn:<br />\nNEE: het product mag niet tijdens borstvoeding gebruikt worden.<br />\nMOGELIJK: het product kan mogelijkerwijs gebruikt worden tijdens de borstvoeding, maar wij raden aan om eerste de bijsluiter goed te lezen.<br />\nNIET VAN TOEPASSING: het product is niet van toepassing bij borstvoeding, bij voorbeeld omdat dit alleen voor mannen of voor kinderen onder de 6 jaar is bedoeld.\n","","","Verplicht voor zelfzorggeneesmiddelen want retailers willen dit altijd ontvangen.",null,null,{"$f":"IFERROR(LEFT(B271,LEN(B271)-LEN('BES EN'!E271)-3),\"Doelsector\")","v":"Te gebruiken tijdens borstvoeding"}]
["ANL1328","Aanvullend classificatiesysteem (additionalTradeItemClassificationSystemCode)","Als u dit veld invult, vul dan ook het veld &lsquo;Aanvullend classificatiesysteem waarde&rsquo; in.<br />\n<br />\nVoor zelfzorggeneesmiddelen: de code 25 is de enige toegestane code uit de codelijst.\n","Het classificatiesysteem voor de aanvullende productclassificatie.\n","25 (voor zelfzorggeneesmiddelen)<br />\n<br />\n76 (voor medische hulpmiddelen, indien dit valt onder de nieuwe EU verordening)<br />\n85 (voor medische hulpmiddelen, indien dit valt onder de oude EU richtlijn)","Voor zelfzorggeneesmiddelen: vul in dit veld de vaste waarde &lsquo;25&rsquo; (ATC) uit de codelijst &#39;AdditionalTradeItemClassificationCodeListCode&#39; in.<br />\n<br />\nVoor medische hulpmiddelen:<br />\n- vul in dit veld de waarde &lsquo;76&rsquo; uit de codelijst &#39;AdditionalTradeItemClassificationCodeListCode&#39; in, als het valt onder de Medical Devices Regulation (EU MDR 2017/745) of In vitro Diagnostics Regulation (EU IVDR 2017/746).<br />\n- vul in dit veld de waarde &lsquo;85&rsquo; uit de codelijst &#39;AdditionalTradeItemClassificationCodeListCode&#39; in, als het valt onder de Medical Devices Directive (MDD 93/42/EEC), Active Implantable Medical Devices Directive (90/385/EEC) of In vitro Diagnostic Medical Devices Directive (IVDD 98/79/EC).","Zie voor aanvullende toelichting <a href=\" https://www.gs1.nl/sectorafspraken-over-standaarden/productdata-levensmiddelen-drogisterij-agf-en-foodservice/gs1-5-7\" style=\"color:blue; text-decoration:underline\" target=\"_blank\"> https://www.gs1.nl/sectorafspraken-over-standaarden/productdata-levensmiddelen-drogisterij-agf-en-foodservice/gs1-5-7</a><br />\n<br />\nLokale in Nederland gebruikte validatieregels zijn: 500.279, 500.422","","Verplicht als het veld 'Aanvullend classificatiesysteem waarde' is ingevuld bij de consumenteneenheid. ",null,null,{"$f":"IFERROR(LEFT(B272,LEN(B272)-LEN('BES EN'!E272)-3),\"Doelsector\")","v":"Aanvullend classificatiesysteem"}]
["ANL1329","Aanvullend classificatiesysteem waarde (additionalTradeItemClassificationCodeValue)","Als dit veld is ingevuld, dan moet u ook het veld &lsquo;Aanvullend classificatiesysteem&rsquo; invullen.\n","Categoriecode op basis van alternatief classificatieschema gebruikt in aanvulling op het GS1-classificatieschema. Hier de code conform de aanvullende classificatie volgens ATC (Anatomical Therapeutic Chemical classification system).\n","D04AA (voor zelfzorggeneesmiddelen)<br />\n<br />\nEU_CLASS_IIA (voor medische hulpmiddelen)\n","Voor zelfzorggeneesmiddelen: Kies de ATC-code die bij het zelfzorggeneesmiddel hoort uit de lijst vermeld in Appendix A3 van het document &#39;Toelichting op velden in Attribute Explorer&#39;. Deze code gebruikt u om de bijbehorende risicowaarschuwingen en/of verwijzing naar de huisarts te tonen. Als u de juiste ATC-code invoert, kunnen retailers de informatie gebruiken voor bijvoorbeeld een website.<br />\n<br />\nVoor medische hulpmiddelen: kies de juiste klasse van het medische hulpmiddel uit de van toepassing zijnde lokale codelijst &lsquo;DeviceRiskClass&rsquo;. U vindt deze op de website van Global Office ( <a href=\"https://www.gs1.org/standards/gdsn/3-x\" style=\"color:blue; text-decoration:underline\">https://www.gs1.org/standards/gdsn/3-x</a>) onder het kopje &lsquo;EUDAMED&rsquo;.","<p>Zie voor aanvullende toelichting <a href=\" https://www.gs1.nl/sectorafspraken-over-standaarden/productdata-levensmiddelen-drogisterij-agf-en-foodservice/gs1-5-7\" style=\"color:blue; text-decoration:underline\" target=\"_blank\"> https://www.gs1.nl/sectorafspraken-over-standaarden/productdata-levensmiddelen-drogisterij-agf-en-foodservice/gs1-5-7</a><br />\n<br />\nLokale in Nederland gebruikte validatieregels zijn: 500.279, 500.376</p>\n","","Verplicht voor zelfzorggeneesmiddelen en medische hulpmiddelen.",null,null,{"$f":"IFERROR(LEFT(B273,LEN(B273)-LEN('BES EN'!E273)-3),\"Doelsector\")","v":"Aanvullend classificatiesysteem waarde"}]
["ANL1332","Code SDS (referencedFileTypeCode)","Als u dit veld gebruikt, vul dan ook het veld 'URL bestandsnaam SDS' in. Publiekrechtelijk is de merkhouder verantwoordelijk voor de levering van het SDS. Privaatrechtelijk kan echter afgesproken worden dat de producent/groothandel verantwoordelijk is voor de levering van het SDS.\n","Code die het soort bestand aanduidt waarnaar wordt gerefereerd.\n","SAFETY_DATA_SHEET\n","Vul hier de waarde 'SAFETY_DATA_SHEET' in die staat in de codelijst 'referencedFileTypeCode'. Vul dit veld in als u in het veld ‘Type verordening/richtlijn’ de waarde ‘SAFETY_DATA_SHEET_REQUIRED’ heeft ingevuld.\n","Lokale in Nederland gebruikte validatieregels zijn: 500.275, 500.406, 500.407, 500.408","","Verplicht als er in het veld ‘Type verordening/richtlijn’ de waarde ‘SAFETY_DATA_SHEET_REQUIRED’ is ingevuld.",null,null,{"$f":"IFERROR(LEFT(B274,LEN(B274)-LEN('BES EN'!E274)-3),\"Doelsector\")","v":"Code SDS"}]
["ANL1333","URL bestandsnaam SDS (uniformResourceIdentifier)","Als u de SDS in meerdere talen wilt invoeren, dan maakt u een tweede groepering aan waarbij u dit veld opnieuw invult met de link naar de SDS, maar dan in een andere taal. ","Locatie plus naam van het bestand dat de externe informatie bevat.","http://www.lev.nl/SDS/SDS08711247123456.pdf","Vul in dit veld een internetadres in dat naar de juiste locatie van het veiligheidsblad in de betreffende taal van het product verwijst.<br /> \nVul dit veld in als u in het veld ‘Type verordening/richtlijn’ de waarde ‘SAFETY_DATA_SHEET_REQUIRED’ heeft ingevuld. ","Lokale in Nederland gebruikte validatieregels zijn: 500.275",null,"Verplicht als er in het veld ‘Type verordening/richtlijn’ de waarde ‘SAFETY_DATA_SHEET_REQUIRED’ is ingevuld.",null,null,{"$f":"IFERROR(LEFT(B275,LEN(B275)-LEN('BES EN'!E275)-3),\"Doelsector\")","v":"URL bestandsnaam SDS"}]
["ANL1334","Naam van extern bestand SDS (fileName)",null,"Naam van het bestand dat de externe informatie bevat.","SDS08711247123456.pdf","Vul hier de naam van het externe bestand in.",null,null,null,null,null,{"$f":"IFERROR(LEFT(B276,LEN(B276)-LEN('BES EN'!E276)-3),\"Doelsector\")","v":"Naam van extern bestand SDS"}]
["ANL1335","Datum laatste herziening SDS (fileEffectiveStartDateTime)","Let op: niet te verwarren met de printdatum van het document, die kan immers later zijn. Sommige leveranciers printen de SDS namelijk op verzoek en niet alleen op de datum dat de laatste herziening heeft plaatsgevonden.","De datum waarop het doelbestand van deze externe link van kracht wordt.","2015-02-16T00:00:00","Vermeld hier voor het veiligheidsblad de datum van de laatste wijziging van het veiligheidsblad. De datum mag niet in de toekomst liggen. Vermeld als tijd in het veld 'T00:00:00'. <br />\nVul dit veld in als u in het veld ‘Type verordening/richtlijn’ de waarde ‘SAFETY_DATA_SHEET_REQUIRED’ heeft ingevuld.","Lokale in Nederland gebruikte validatieregels zijn: 500.406",null,"Verplicht als er in het veld ‘Type verordening/richtlijn’ de waarde ‘SAFETY_DATA_SHEET_REQUIRED’ is ingevuld.",null,null,{"$f":"IFERROR(LEFT(B277,LEN(B277)-LEN('BES EN'!E277)-3),\"Doelsector\")","v":"Datum laatste herziening SDS"}]
["ANL1336","SDS taalcode (fileLanguageCode)","Binnen een doelmarkt kunt u dit veld meerdere keren invullen omdat een veiligheidsblad (SDS) in meerdere talen beschikbaar kan zijn.","Code die de taal aangeeft waarin de tekst van het SDS wordt uitgedrukt, gecodeerd volgens ISO 639-1 (2-alpha).","nl","Selecteer de correcte waarde uit de 'ISO 639-1 (2-alpha)' codelijst.<br /> \nVul dit veld in als u in het veld ‘Type verordening/richtlijn’ de waarde ‘SAFETY_DATA_SHEET_REQUIRED’ heeft ingevuld.","- Voor het terugvinden van taalcodes zie: <a href=\" http://www.loc.gov/standards/iso639-2/php/code_list.php\" style=\"color:blue; text-decoration:underline\" target=\"_blank\"> http://www.loc.gov/standards/iso639-2/php/code_list.php</a> <br />\n<br />\nLokale in Nederland gebruikte validatieregels zijn: 500.407 ",null,"Verplicht als er in het veld ‘Type verordening/richtlijn’ de waarde ‘SAFETY_DATA_SHEET_REQUIRED’ is ingevuld.",null,null,{"$f":"IFERROR(LEFT(B278,LEN(B278)-LEN('BES EN'!E278)-3),\"Doelsector\")","v":"SDS taalcode"}]
["ANL1337","Handelsnaam op SDS (contentDescription)","Deze naam kan voor producten met een veiligheidsblad (SDS) hetzelfde zijn als de omschrijving van het UN-nummer (zie veld 'UN-nummer').","Tekst die op de titelpagina van het veiligheidsblad is vermeld.","Bison stain remover 250ML","Vermeld de naam van het product die op de titelpagina van het veiligheidsblad staat. Lever per SDS deze rubriek in één taal aan: die van het SDS. Binnen een doelmarkt kan de naam meerdere keren voorkomen, afhankelijk van de taal.<br />\nVul dit veld in als u in het veld ‘Type verordening/richtlijn’ de waarde ‘SAFETY_DATA_SHEET_REQUIRED’ heeft ingevuld.","Lokale in Nederland gebruikte validatieregels zijn: 500.408",null,"Verplicht als er in het veld ‘Type verordening/richtlijn’ de waarde ‘SAFETY_DATA_SHEET_REQUIRED’ is ingevuld.",null,null,{"$f":"IFERROR(LEFT(B279,LEN(B279)-LEN('BES EN'!E279)-3),\"Doelsector\")","v":"Handelsnaam op SDS"}]
["ANL1338","Handelsnaam op SDS taalcode (contentDescription/@languageCode)",null,"Code die een taal specificeert. Toegestane codewaarden staan gespecificeerd in de GS1 codelijst 'LanguageCode'.","nl","Selecteer de correcte waarde uit de 'ISO 639-1 (2-alpha)' codelijst.","- Voor het terugvinden van taalcodes zie: <a href=\" http://www.loc.gov/standards/iso639-2/php/code_list.php\" style=\"color:blue; text-decoration:underline\" target=\"_blank\"> http://www.loc.gov/standards/iso639-2/php/code_list.php</a> ",null,"Verplicht als 'Handelsnaam op SDS' is gevuld bij de consumenteneenheid.","Verplicht als 'Handelsnaam op SDS' is gevuld bij de handelseenheid.","Verplicht als 'Handelsnaam op SDS' is gevuld bij de pallet.",{"$f":"IFERROR(LEFT(B280,LEN(B280)-LEN('BES EN'!E280)-3),\"Doelsector\")","v":"Handelsnaam op SDS taalcode"}]
["ANL1342","Excepted quantity code (specialPermitOrExemptionIdentification)","Gevaarlijke goederen kunnen onder bepaalde voorwaarden (juiste verpakking en gelimiteerd volume) toch als normale goederen vervoerd worden. Voer deze code in als sprake is van een dergelijke uitzonderingsclausule. Excepted quantity wordt op het veiligheidsblad soms ook wel &#39;Uitgezonderde hoeveelheid&#39; genoemd.\n","Code waarmee de uitzondering op de regelgeving voor hoeveelheid gevaarlijke stoffen wordt aangegeven.\n","E0\n","Kies de juiste code uit de codelijst en vul die in dit veld in.<br />\n<br />\nVoor gevaarlijke stoffen met een veiligheidsblad (SDS), selecteer alleen een code als de code is vermeld bij hoofdstuk 14.7 in het SDS.<br />\n<br />\nVul dit veld in als u in het veld &#39;ADR klasse&#39; een waarde in de reeks 1 t/m 9 heeft staan.<br />\n<br />\nCodes:<br />\nE0<br />\nE1<br />\nE2<br />\nE3<br />\nE4<br />\nE5<br />\nNOT_APPLICABLE<br />\nUNCLASSIFIED<br />\nUNIDENTIFIED\n","Lokale in Nederland gebruikte validatieregels zijn: 500.409, 500.410","","Verplicht als bij de consumenteneenheid 'ADR klasse' is gevuld met een waarde uit de reeks 1 t/m 9.",null,null,{"$f":"IFERROR(LEFT(B281,LEN(B281)-LEN('BES EN'!E281)-3),\"Doelsector\")","v":"Excepted quantity code"}]
["ANL1343","Excepted quantity code - beheersorganisatie (specialPermitOrExemptionIdentification/@identificationSchemeAgencyCode)",null,"Vaste tekst die de beheersorganisatie van de uitgezonderde hoeveelheid aangeeft.","ADR_ExceptedQuantityCode","Vul dit veld in samen met het veld 'Excepted quantity code'. Vul in dit veld de vaste waarde 'ADR_ExceptedQuantityCode' in.","Lokale in Nederland gebruikte validatieregels zijn: 500.410",null,"Verplicht als 'Excepted quantity code' is gevuld bij de consumenteneenheid.","Verplicht als 'Excepted quantity code' is gevuld bij de handelseenheid.","Verplicht als 'Excepted quantity code' is gevuld bij de pallet.",{"$f":"IFERROR(LEFT(B282,LEN(B282)-LEN('BES EN'!E282)-3),\"Doelsector\")","v":"Excepted quantity code - beheersorganisatie"}]
["ANL1344","ADR tunnelrestrictiecode  (aDRTunnelRestrictionCode)","Tunnelrestrictiecodes zijn ingedeeld in de categorie A t/m E. Tunnelrestrictiecodes moeten bij vervoer van gevaarlijke stoffen ook worden vermeld op transportdocumenten. Tunnelrestrictiecodes heten ook wel &#39;Tunnelbeperkingscode&#39; op het veiligheidsblad.\n","Code waarmee de tunnelbeperking overeenkomstig het ADR regime wordt aangegeven.\n","B1000C\n","Kies de juiste code uit de codelijst.<br />\n<br />\nVoor gevaarlijke stoffen met een veiligheidsblad (SDS), zorg dat de code overeenkomt met de tunnelrestrictiecode in hoofdstuk 14.7 van het SDS en uit het deel komt voor ADR (wegtransport).<br />\n<br />\nVul dit veld in als u&nbsp;in het veld &#39;ADR klasse&#39; een waarde in de reeks 1 t/m 9 heeft ingevuld.\n","Lokale in Nederland gebruikte validatieregels zijn: 500.411","","Verplicht als het veld 'ADR klasse' is gevuld met een waarde uit de reeks 1 t/m 9.",null,null,{"$f":"IFERROR(LEFT(B283,LEN(B283)-LEN('BES EN'!E283)-3),\"Doelsector\")","v":"ADR tunnelrestrictiecode "}]
["ANL1345","Classificatiecode (ADR) (dangerousGoodsClassificationCode)","De waarde van de classificatiecode (ADR) is afhankelijk van de waarde van het veld &#39;ADR klasse&#39; overeenkomstig het ADR-verdrag. Een classificatiecode kan niet voor alle ADR-klassen worden bepaald. Vul een classificatiecode in als die op het veiligheidsblad staat.\n","Code waarmee de gedetailleerde classificatie binnen het ADR-systeem wordt aangegeven.\n","TF\n","Kies de juiste code uit de codelijst.<br />\n<br />\nVoor gevaarlijke stoffen met een veiligheidsblad (SDS) moet de code overeenkomen met de ADR classificatiecode in hoofdstuk 14 van het SDS en uit het deel komen voor ADR (wegtransport).\n","<a href=\" https://www.unece.org/trans/danger/publi/adr/adr2015/15contentse.html\" style=\"color:blue; text-decoration:underline\" target=\"_blank\"> https://www.unece.org/trans/danger/publi/adr/adr2015/15contentse.html</a>\n","","Verplicht als het veld 'ADR klasse' is gevuld met een waarde uit de reeks 1 t/m 9.",null,null,{"$f":"IFERROR(LEFT(B284,LEN(B284)-LEN('BES EN'!E284)-3),\"Doelsector\")","v":"Classificatiecode (ADR)"}]
["ANL1348","Vervoersnaam - aanvulling (dangerousGoodsShippingName)","Dit veld bevat geen apart veld voor de taalcode. De taalcode neemt u daarom in dit veld op door het vooraan te noemen gevolgd door een dubbele punt en de aanvullende omschrijving. Herhaal dit veld om de aanvulling op de vervoersnaam in een andere taal op te nemen.\n","Tekst die de aanvulling op de vervoersnaam (proper shipping name) van de gevaarlijke stof vermeldt, indien het label behorend bij het betreffende UN-nummer dat aangeeft.\n","nl:Pyrrolidine\n","Vul hier de aanvulling op de vervoersnaam (=definitie van het UN-nummer) in, als de omschrijving van het UN-nummer dit voorschrijft. Begin met de 2-letterige taalaanduiding van de aanvulling, gevolgd door een &#39;:&#39;, bijvoorbeeld &#39;nl: Pyrrolidine&#39;.<br />\nAls er meerdere stoffen voorkomen dan vult u deze per taal in dit veld in, gescheiden door een komma.<br />\n<br />\nVoor gevaarlijke stoffen met een veiligheidsblad (SDS) kunt u de waarde vinden in hoofdstuk 14 van het SDS.<br />\n<br />\nVul dit veld alleen in als u in het veld &#39;ADR klasse&#39; een waarde tussen 1 t/m 9 heeft ingevuld.","","","",null,null,{"$f":"IFERROR(LEFT(B285,LEN(B285)-LEN('BES EN'!E285)-3),\"Doelsector\")","v":"Vervoersnaam - aanvulling"}]
["ANL1349","Hazard label nummer  (dangerousHazardousLabelNumber)","Voorbeelden van de ADR-symbolen vindt u in hoofdstuk 5.2.2.2 van het ADR-handboek. Dit handboek kunt u downloaden van de website van UNECE, zie onder in het veld procesbeschrijving.<br />\n<br />\nU kunt meerdere waarden kiezen.\n","Code waarmee het symbool op het product dat behoort bij de categorie van de gevaarlijke stof wordt aangegeven.\n","4.3\n","Kies de juiste waarde uit de codelijst. De waarde komt overeen met de ADR-symboolcode in hoofdstuk 14 van het veiligheidsblad (SDS). Gebruik NIET de waarden uit de hoofdstukken 2 of 15, deze bevatten het GHS-symbool.<br />\n<br />\nU mag het veld meerdere keren vullen met verschillende ADR-symboolcodes, met een maximum van 9.<br />\n<br />\nVul dit veld alleen in als u in het veld &#39;ADR klasse&#39; een waarde tussen 1 t/m 9 heeft ingevuld.","<a href=\" https://www.unece.org/trans/danger/publi/adr/adr2015/15contentse.html\" style=\"color:blue; text-decoration:underline\" target=\"_blank\"> https://www.unece.org/trans/danger/publi/adr/adr2015/15contentse.html</a>\n","","",null,null,{"$f":"IFERROR(LEFT(B286,LEN(B286)-LEN('BES EN'!E286)-3),\"Doelsector\")","v":"Hazard label nummer "}]
["ANL1350","Hazard label nummer - volgnummer  (dangerousHazardousLabelSequenceNumber)","","Code waarmee het volgnummer van het symbool dat behoort bij de categorie van de gevaarlijke stoffen wordt aangegeven.\n","1\n","Vul een volgnummer (oplopend) in voor elke symboolcode, beginnend met 1.\n","","","Verplicht als bij de consumenteneenheid 'Hazard label nummer' is gevuld.",null,null,{"$f":"IFERROR(LEFT(B287,LEN(B287)-LEN('BES EN'!E287)-3),\"Doelsector\")","v":"Hazard label nummer - volgnummer "}]
["ANL1354","Indicatie stof op kankerverwekkende stoffenlijst SZW  (isSubstanceOfVeryHighConcern)",null,"Waarde die aangeeft of het product een stof bevat die op de SZW lijst voor kankerverwekkende stoffen staat. ","FALSE","Kies uit 'TRUE' of 'FALSE'.<br /> \nVul dit veld alleen in voor de Nederlandse doelmarkt.",null,null,null,null,null,{"$f":"IFERROR(LEFT(B288,LEN(B288)-LEN('BES EN'!E288)-3),\"Doelsector\")","v":"Indicatie stof op kankerverwekkende stoffenlijst SZW "}]
["ANL1356","Identificatie chemisch ingrediënt (chemicalIngredientIdentification)","Als u dit veld invult met het CAS-identificatienummer, vul dan ook de velden ‘Type beheerde lijst met chemische ingrediënten’ en ‘Concentratie chemisch ingrediënt’ in.<br />\n<br />\nVOS = Vluchtige Organische Stof. Verschillende types verf hebben eigen milieueffecten. Met deze code geeft u de maximaal toelaatbare concentratie vluchtige organische stof aan. Wereldwijd willen regeringen het gebruik van deze stoffen terugdringen vanuit milieu en klimatologisch oogpunt. Wet- en regelgeving moeten zorgen dat de gehaltes ervan in de lucht worden teruggedrongen.","Een uniek nummer om een chemische stof te identificeren. Het nummer wordt gebruikt om verwijzingen tussen gereguleerde lijsten van chemicaliën mogelijk te maken. Een voorbeeld is het CAS-nummer.\n","3811-04-9<br />\nAaSG","Voor producten die precursoren voor explosieven bevatten, vult u hier het CAS-identificatienummer in van de precursor.<br />\n<br />\nVoor verfproducten vult u hier de juiste code in volgens de VOS wet- en regelgeving, precies zoals daarin is vastgelegd.","Lokale in Nederland gebruikte validatieregels zijn: 500.414","","Verplicht voor producten die precursoren voor explosieven bevatten en verfproducten.",null,null,{"$f":"IFERROR(LEFT(B289,LEN(B289)-LEN('BES EN'!E289)-3),\"Doelsector\")","v":"Identificatie chemisch ingrediënt"}]
["ANL1357","VOS-categorie - beheersorganisatie (chemicalIngredientOrganisation)","","Vaste tekst die de beheersorganisatie van de VOS-categorie (VOS = vluchtige organische stof) aangeeft.\n","VOS\n","Vul hier de vaste waarde 'VOS' in.\n",null,"","Verplicht voor verfproducten.",null,null,{"$f":"IFERROR(LEFT(B290,LEN(B290)-LEN('BES EN'!E290)-3),\"Doelsector\")","v":"VOS-categorie - beheersorganisatie"}]
["ANL1358","Concentratie chemisch ingrediënt (chemicalIngredientConcentration)","Als u dit veld invult voor precursoren, vul dan ook de velden ‘Type beheerde lijst met chemische ingrediënten’ en ‘Identificatie chemisch ingrediënt’ in.<br />\n<br />\nDe waarde van de VOS wordt uitgedrukt in gram per liter en moet lager zijn dan het maximum voor de betreffende VOS-categorie.","Het percentage of de hoeveelheid van een chemisch ingrediënt ten opzichte van de totale samenstelling van het product.","5 (P1)<br />\n32","Voor producten die precursoren voor explosieven bevatten, vult u in dit veld de concentratie (in procenten) in van de precursoren die het product bevat. Vul daarnaast het veld 'Concentratie chemisch ingrediënt  eenheid' in met de code 'P1' (procenten). <br />\n<br />\nVoor verfproducten: vul hier de waarde van de VOS in gram per liter in, 'Gl' in de codelijst 'measurementUnitCode'. Voor producten met een veiligheidsblad (SDS) kunt u deze waarde vinden in hoofdstuk 15 van het SDS.","Lokale in Nederland gebruikte validatieregels zijn: 500.414","","Verplicht voor producten die precursoren voor explosieven bevatten en verfproducten.",null,null,{"$f":"IFERROR(LEFT(B291,LEN(B291)-LEN('BES EN'!E291)-3),\"Doelsector\")","v":"Concentratie chemisch ingrediënt"}]
["ANL1359","Concentratie chemisch ingrediënt  eenheid (chemicalIngredientConcentration/@measurementUnitCode)",null,"Een gestandaardiseerde, reproduceerbare eenheid waarmee een fysieke eigenschap kan worden gemeten.","GL<br />\nP1","Selecteer de juiste waarde uit de codelijst ‘measurementUnitCode’.",null,null,"Verplicht als 'Concentratie chemisch ingrediënt' is ingevuld bij de consumenteneenheid.","Verplicht als 'Concentratie chemisch ingrediënt' is ingevuld bij de handelseenheid.","Verplicht als 'Concentratie chemisch ingrediënt' is ingevuld bij de pallet.",{"$f":"IFERROR(LEFT(B292,LEN(B292)-LEN('BES EN'!E292)-3),\"Doelsector\")","v":"Concentratie chemisch ingrediënt  eenheid"}]
["ANL1361","Vlampunt - minimum  (flashPointTemperatureLowerValue)","Een vlampunt geeft de minimale temperatuur aan waarop in een vloeistof gasvorming ontstaat in een dusdanige concentratie dat zich een ontvlambaar mengsel van lucht en gas aan het oppervlakte vormt. Voor de meeste stoffen is dat niet &eacute;&eacute;n exacte temperatuur maar een temperatuurbereik, waarbinnen ontvlambare gassen ontstaan. U vult alleen dit veld in als het om de exacte temperatuur gaat. Als u ook het veld &#39;Vlampunt - maximum&#39; invult, dan bevat dit veld de ondergrens van het temperatuurbereik. Als het vanuit wetgeving verplicht is een vlampunt op te geven, dan vult u in dit veld het minimum in. Het invoeren van het maximum is optioneel.\n","Getal dat de minimumtemperatuur van een temperatuurbereik of de exacte temperatuur voor het vlampunt aangeeft.\n","23\n","Vul in dit veld het vlampunt in.<br />\nWordt er een exact vlampunt vermeld? Vul dan alleen dit veld in.<br />\nWilt u twee waardes vermelden (minimum en maximum)? Vul dan dit veld in en het veld &#39;Vlampunt - maximum&#39;.<br />\nVul alleen hele graden in, zonder decimalen. Vul de eenheid van de temperatuur (&#39;CEL&#39;) in volgens de codelijst &#39;temperatureMeasurementUnitCode&#39; in het veld &#39;Eenheid vlampunt - minimum&#39;.<br />\nAls het exacte vlampunt of de reeks niet kan worden bepaald dan vult u in dit veld de waarde &#39;999&#39; in.<br />\n<br />\nVoor producten met een veiligheidsblad (SDS) vermeldt u de vlampuntreeks zoals deze in hoofdstuk 9 in het SDS voorkomt.\n","","",null,null,null,{"$f":"IFERROR(LEFT(B293,LEN(B293)-LEN('BES EN'!E293)-3),\"Doelsector\")","v":"Vlampunt - minimum "}]
["ANL1362","Eenheid vlampunt - minimum (flashPointTemperatureLowerValue/@temperatureMeasurementUnitCode)",null,"Een gestandaardiseerde, reproduceerbare eenheid waarmee een fysieke eigenschap kan worden gemeten.","CEL","Selecteer de juiste waarde uit de codelijst ‘temperatureMeasurementUnitCode’.",null,null,"Verplicht als 'Vlampunt - minimum' is ingevuld bij de consumenteneenheid.","Verplicht als 'Vlampunt - minimum' is ingevuld bij de handelseenheid.","Verplicht als 'Vlampunt - minimum' is ingevuld bij de pallet.",{"$f":"IFERROR(LEFT(B294,LEN(B294)-LEN('BES EN'!E294)-3),\"Doelsector\")","v":"Eenheid vlampunt - minimum"}]
["ANL1363","Vlampunt - maximum  (flashPointTemperatureUpperValue)","Een vlampunt geeft de minimale temperatuur aan waarop in een vloeistof gasvorming ontstaat in een dusdanige concentratie dat zich een ontvlambaar mengsel van lucht en gas aan het oppervlakte vormt. Voor de meeste stoffen is dat niet &eacute;&eacute;n exacte temperatuur maar een temperatuurbereik, waarbinnen dergelijke ontvlambare gassen ontstaan. Dit veld bevat het maximum van zo&#39;n bereik. Als het vanuit wetgeving verplicht is een vlampunt op te geven dan minimum invullen (in veld &#39;Vlampunt - minimum&#39;). Het invoeren van het maximum in dit veld is optioneel.\n","Getal dat de maximumtemperatuur van een temperatuurbereik voor het vlampunt aangeeft.\n","28\n","Vul in dit veld het maximale vlampunt in. De waarde moet groter zijn dan het vlampunt - minimum.<br />\nWordt er een exact vlampunt vermeld? Vul dan een waarde in het veld &#39;Vlampunt minimum in&#39; en laat dit veld leeg.<br />\nWilt u twee waardes vermelden (minimum en maximum)? Vul dan dit veld in en het veld &#39;Vlampunt - minimum&#39;.<br />\nVul alleen hele graden in, zonder decimalen. Vul de eenheid van de temperatuur (&#39;CEL&#39;) in volgens de codelijst &#39;temperatureMeasurementUnitCode&#39; in het veld &#39;Eenheid vlampunt - maximum&#39;.<br />\nAls het exacte vlampunt of de reeks niet kan worden bepaald dan vult u in dit veld de waarde &#39;999&#39; in.<br />\n<br />\nVoor producten met een veiligheidsblad (SDS) vermeldt u de vlampuntreeks zoals deze in hoofdstuk 9 in het SDS voorkomt.\n","","",null,null,null,{"$f":"IFERROR(LEFT(B295,LEN(B295)-LEN('BES EN'!E295)-3),\"Doelsector\")","v":"Vlampunt - maximum "}]
["ANL1364","Eenheid vlampunt - maximum (flashPointTemperatureUpperValue/@temperatureMeasurementUnitCode)",null,"Een gestandaardiseerde, reproduceerbare eenheid waarmee een fysieke eigenschap kan worden gemeten.","CEL","Selecteer de juiste waarde uit de codelijst ‘temperatureMeasurementUnitCode’.",null,null,"Verplicht als 'Vlampunt - maximum' is ingevuld bij de consumenteneenheid.","Verplicht als 'Vlampunt - maximum' is ingevuld bij de handelseenheid.","Verplicht als 'Vlampunt - maximum' is ingevuld bij de pallet.",{"$f":"IFERROR(LEFT(B296,LEN(B296)-LEN('BES EN'!E296)-3),\"Doelsector\")","v":"Eenheid vlampunt - maximum"}]
["ANL1365","Code karakteristieke functionaliteit (tradeItemFeatureCodeReference)","Als de sterilisatiemethode op de verpakking staat, dan vult u ook het veld &lsquo;Type sterilisatie gebruikt door fabrikant&rsquo; in.<br />\n<br />\nDit veld wordt in Nederland gecontroleerd in het kader van het datakwaliteitsprogramma.\n","Een code die een karakteristieke functionaliteit aanduidt, die vermeld wordt als een bijzondere en aantrekkelijke eigenschap voor het product, bijvoorbeeld BUILT_IN_ALARM_CLOCK. Gebruik de codelijst &lsquo;FeatureCode&rsquo;.","WATERPROOF<br />\nMedische hulpmiddelen: STERILE<br />\nLampen: DIMMABLE","Vul dit veld voor medische hulpmiddelen met de code &lsquo;STERILE&rsquo; uit de codelijst &lsquo;FeatureCode&rsquo; om aan te geven dat het een steriel product betreft.<br />\n<br />\nVoor watervaste producten kiest u de code ‘WATERPROOF.<br />\n<br />\nVoor lampen geeft u in dit veld met de code &lsquo;DIMMABLE&rsquo; aan dat een lamp gedimd kan worden.","","","Verplicht voor medische hulpmiddelen als op de verpakking staat (in tekst of als logo) dat het een steriel product betreft en voor lampen als op de verpakking staat aangegeven dat de lamp gedimd kan worden.",null,null,{"$f":"IFERROR(LEFT(B297,LEN(B297)-LEN('BES EN'!E297)-3),\"Doelsector\")","v":"Code karakteristieke functionaliteit"}]
["ANL1366","Type sterilisatie gebruikt door fabrikant (initialManufacturerSterilisationCode)",null,"Een code waarmee wordt aangegeven op welke manier het product door de fabrikant is gesteriliseerd bij het verlaten van de fabrikant. Sterilisatie verwijst naar elk proces dat effectief overdraagbare agentia (zoals schimmels, bacteriën, virussen, prionen en sporen) doodt of elimineert van een oppervlak, uitrusting, voedingsmiddel, medicijn of biologisch kweekmedium.","LIQUID_CHEMICAL","Vul dit veld met de sterilisatiemethode, zoals deze op de verpakking staat vermeld. U kiest deze waarde uit de codelijst ‘SterilisationTypeCode’.",null,null,"Verplicht voor medische hulpmiddelen als de sterilisatiemethode op de verpakking staat.",null,null,{"$f":"IFERROR(LEFT(B298,LEN(B298)-LEN('BES EN'!E298)-3),\"Doelsector\")","v":"Type sterilisatie gebruikt door fabrikant"}]
["ANL1367","Aanvullende nutriëntinformatie  (nutrientSource)","Vul dit veld alleen in als u ook het veld &lsquo;Code nutri&euml;nttype&rsquo; met het bijbehorende nutri&euml;nt heeft gevuld.<br />\n<br />\nDit veld wordt in Nederland gecontroleerd in het kader van het datakwaliteitsprogramma.\n","Informatie over het ingredi&euml;nt waar het nutri&euml;nt uit voortkomt.","Zout is enkel afkomstig uit natuurlijk voorkomend natrium<br />\nBevat van nature aanwezige suikers","Vul in dit veld aanvullende informatie in over het ingredi&euml;nt waar het nutri&euml;nt uit voortkomt, zoals op het etiket/de verpakking staat. Deze informatie wordt op het etiket door middel van een markering gekoppeld aan het bijbehorende nutri&euml;nt in de voedingswaardetabel. Dit kan een sterretje zijn, maar ook andere soorten markeringen komen voor.\n","Zie voor aanvullende toelichting <a href=\" https://www.gs1.nl/sectorafspraken-over-standaarden/productdata-levensmiddelen-drogisterij-agf-en-foodservice/gs1-5-7\" style=\"color:blue; text-decoration:underline\" target=\"_blank\"> https://www.gs1.nl/sectorafspraken-over-standaarden/productdata-levensmiddelen-drogisterij-agf-en-foodservice/gs1-5-7</a>\n","",null,null,null,{"$f":"IFERROR(LEFT(B299,LEN(B299)-LEN('BES EN'!E299)-3),\"Doelsector\")","v":"Aanvullende nutriëntinformatie "}]
["ANL1368","Aanvullende nutriëntinformatie taalcode (nutrientSource/@languageCode)",null,"Code die een taal specificeert. Toegestane codewaarden staan gespecificeerd in de GS1 codelijst 'LanguageCode'.","nl","Selecteer de correcte waarde uit de 'ISO 639-1 (2-alpha)' codelijst.","- Voor het terugvinden van taalcodes zie: <a href=\" http://www.loc.gov/standards/iso639-2/php/code_list.php\" style=\"color:blue; text-decoration:underline\" target=\"_blank\"> http://www.loc.gov/standards/iso639-2/php/code_list.php</a> ",null,"Verplicht als het veld ‘Aanvullende nutriëntinformatie ’ is ingevuld bij de consumenteneenheid.","Verplicht als het veld ‘Aanvullende nutriëntinformatie ’ is ingevuld bij de handelseenheid.","Verplicht als het veld ‘Aanvullende nutriëntinformatie ’ is ingevuld bij de pallet.",{"$f":"IFERROR(LEFT(B300,LEN(B300)-LEN('BES EN'!E300)-3),\"Doelsector\")","v":"Aanvullende nutriëntinformatie taalcode"}]
["ANL1369","Zonbeschermingsfactor (SPF) (sunProtectionFactor)","Het is mogelijk dat op de voorkant van een product niet de SPF staat, maar wel een term als &#39;High&#39; of &#39;Medium&#39;. Deze informatie vult u naar keuze in het veld &#39;Marketinginformatie&#39;, &lsquo;Unique selling point van het product&rsquo; of &lsquo;Sleutelwoorden van het product&rsquo; in. Op een andere zijde van het product (vaak de achterkant) vindt u dan de SPF.<br />\n<br />\nDit veld wordt in Nederland gecontroleerd in het kader van het datakwaliteitsprogramma.\n","Een maat voor Ultra Violet B (UVB) stralingsbescherming, die varieert van 1 tot 90.","Zonnebrandmiddelen: 50+<br />\n<br />\nCosmetica: 17","Vul dit veld met de zonbeschermingsfactor (SPF) die op de verpakking staat.<br />\n<br />\nVoor zonnebrandmiddelen: Kies hiervoor een waarde uit de codelijst &#39;SunProtectionFactor&#39;.<br />\n<br />\nVoor cosmetica en persoonlijke verzorgingsproducten: vul dit veld met een waarde tussen 1 en 90.\n","Lokale in Nederland gebruikte validatieregels zijn: 500.286, 500.354\n","","Verplicht als de zonbeschermingsfactor op de verpakking staat.",null,null,{"$f":"IFERROR(LEFT(B301,LEN(B301)-LEN('BES EN'!E301)-3),\"Doelsector\")","v":"Zonbeschermingsfactor (SPF)"}]
["ANL1370","Houdbaarheid voor een klant na opening (itemPeriodSafeToUseAfterOpening)","De eenheid vult u in een apart veld in.<br />\n<br />\nDit veld wordt in Nederland gecontroleerd in het kader van het datakwaliteitsprogramma.\n","De tijdsperiode na opening waarin het product nog veilig kan worden gebruikt. De tijdsperiode na opening dat het product kan worden gebruikt zonder gevaar voor de consument. Deze vermelding MOET worden weergegeven in een aantal maanden of een aantal jaren, bijvoorbeeld 50 MON.","12","Als op de verpakking het symbool met de open pot staat, vul hier dan de waarde van de houdbaarheidsperiode in zoals deze in het symbool met de open pot is weergegeven. Staat er geen open pot symbool maar wel een houdbaarheidsperiode, vul deze houdbaarheidsperiode in dat geval in het veld &#39;Bewaarinstructies&#39; in, inclusief de eenheid.\n","","","Verplicht voor bijzondere voedingsmiddelen, medische hulpmiddelen, voedingssupplementen, zelfzorggeneesmiddelen, gezondheidsproducten, cosmetica en persoonlijke verzorgingsproducten als dit op het etiket/de verpakking van de consumenteneenheid staat.",null,null,{"$f":"IFERROR(LEFT(B302,LEN(B302)-LEN('BES EN'!E302)-3),\"Doelsector\")","v":"Houdbaarheid voor een klant na opening"}]
["ANL1371","Houdbaarheid voor een klant na opening eenheid (itemPeriodSafeToUseAfterOpening/@timeMeasurementUnitCode)",null,"Een gestandaardiseerde, reproduceerbare eenheid waarmee een fysieke eigenschap kan worden gemeten.","MON","Selecteer de juiste waarde uit de codelijst ‘measurementUnitCode’.",null,null,"Verplicht als het veld ‘Houdbaarheid voor een klant na opening’ is ingevuld bij de consumenteneenheid.","Verplicht als het veld ‘Houdbaarheid voor een klant na opening’ is ingevuld bij de handelseenheid.","Verplicht als het veld ‘Houdbaarheid voor een klant na opening’ is ingevuld bij de pallet.",{"$f":"IFERROR(LEFT(B303,LEN(B303)-LEN('BES EN'!E303)-3),\"Doelsector\")","v":"Houdbaarheid voor een klant na opening eenheid"}]
["ANL1372","Standaard portiegrootte (nutrientBasisQuantityDescription)","Vul dit veld in dezelfde talen in als op het etiket staan.<br />\n<br />\nDit veld wordt in Nederland gecontroleerd in het kader van het datakwaliteitsprogramma.\n","De beschrijving of aanvullende informatie over de portiegrootte die op het etiket/de verpakking staat.\n","1 portie is 18 gram<br />\n1 biscuit<br />\nSnickers\n","Vul de bijbehorende portiegrootte hier als tekst in als er naast de referentie portiegrootte (zie veld 'Referentie portiegrootte') ook nutriënten per portie in de voedingswaardetabel op het etiket staan en deze als tekst is uitgeschreven (bijv. 1 portie is 33,3 g).<br /> \nAls er op de verpakking een verduidelijking van verschillende portieaanduidingen staat (bijvoorbeeld een vegetarisch bereide portie en een portie bereid met vlees), dan mag u deze tekst hier invullen.<br />\nVul dit veld NIET in als de portie alleen in de voedingswaardetabel staat met een getal en meeteenheid (bijvoorbeeld 30 gram) en niet ergens anders is uitgeschreven. Als er alleen een getal met een meeteenheid staat, vult u die waarde in &#39;Referentie portiegrootte&#39; in.<br />\n<br />\nAls er geen nutri&euml;nten per portie op het etiket staan, maar wel een tekst met daarin een standaard portiegrootte, dan vult u die tekst in het veld &#39;Gebruiksinstructies&#39; in.<br />\n<br />\nComponenten:<br />\nEen artikel met componenten bevat (afzonderlijk verpakte) onderling verschillende onderdelen. Minstens &eacute;&eacute;n ervan heeft geen GS1 artikelcode. Als de nutri&euml;nten van de componenten op uw etiket staan moet u deze ook invullen. Als u de nutri&euml;nten van de componenten van een artikel gaat invullen, gebruikt u dit veld (Standaard portiegrootte) om aan te duiden bij welk component die nutri&euml;nten horen.<br />\nEen voorbeeld van een artikel met componenten is een zak Mars Mini&#39;s, met als componenten Mars, Snickers, Twix etc. In dit voorbeeld staan de nutri&euml;nten zowel in 100 gram als per portie vermeld op het etiket. Per component geeft u in dat geval de nutri&euml;nten per 100 gram weer en de nutri&euml;nten per portie. In dit veld (&#39;Standaard portiegrootte&#39;) geeft u de beschrijving van het component waarvoor u de nutri&euml;nten invult. Voor 100 gram: &#39;Mars&#39; en voor de portie: &#39;Mars, 18 gram&#39;. In het veld &#39;Referentie portiegrootte&#39; (nutrientBasisQuantity) vult u de waarde in waarvoor de nutri&euml;nten ingevuld worden (100 gram of de portie van 18 gram). <br />\nDeze instructie geldt ook voor variety packs, waarbij de onderliggende artikelen wel een GS1 artikelcode hebben (bijvoorbeeld een 6 pack gemengde bieren).\n","Zie voor aanvullende toelichting <a href=\" https://www.gs1.nl/sectorafspraken-over-standaarden/productdata-levensmiddelen-drogisterij-agf-en-foodservice/gs1-5-7\" style=\"color:blue; text-decoration:underline\" target=\"_blank\"> https://www.gs1.nl/sectorafspraken-over-standaarden/productdata-levensmiddelen-drogisterij-agf-en-foodservice/gs1-5-7</a>","","Verplicht voor voedingsmiddelen, voedingssupplementen en bijzondere voedingsmiddelen als het op het etiket/de verpakking staat.",null,null,{"$f":"IFERROR(LEFT(B304,LEN(B304)-LEN('BES EN'!E304)-3),\"Doelsector\")","v":"Standaard portiegrootte"}]
["ANL1373","Standaard portiegrootte taalcode (nutrientBasisQuantityDescription/@languageCode)","","Code die een taal specificeert. Toegestane codewaarden staan gespecificeerd in de GS1 codelijst 'LanguageCode'.\n","nl\n","Selecteer de correcte waarde uit de 'ISO 639-1 (2-alpha)' codelijst.\n","- Voor het terugvinden van taalcodes zie: <a href=\" http://www.loc.gov/standards/iso639-2/php/code_list.php\" style=\"color:blue; text-decoration:underline\" target=\"_blank\"> http://www.loc.gov/standards/iso639-2/php/code_list.php</a> ",null,"Verplicht als het veld ‘Standaard portiegrootte’ is ingevuld bij de consumenteneenheid.","Verplicht als het veld ‘Standaard portiegrootte’ is ingevuld bij de handelseenheid.","Verplicht als het veld ‘Standaard portiegrootte’ is ingevuld bij de pallet.",{"$f":"IFERROR(LEFT(B305,LEN(B305)-LEN('BES EN'!E305)-3),\"Doelsector\")","v":"Standaard portiegrootte taalcode"}]
["ANL1374","Referentie portiegrootte (nutrientBasisQuantity)","Voor enkele productgroepen geldt afwijkende wetgeving waardoor de referentie portiegrootte met een andere eenheid moet worden ingevoerd. Zo geldt bijvoorbeeld voor mineraalwater een verplichte referentie portiegrootte van 1 liter (LTR) of 1000 MLT.<br />\n<br />\nVoor voedingssupplementen: als alleen per portie een tabel op het etiket staat, vul deze portie hier dan in.<br />\n<br />\nVul de meeteenheid in een afzonderlijk veld in.<br />\n<br />\nDit veld wordt in Nederland gecontroleerd in het kader van het datakwaliteitsprogramma.\n","De basishoeveelheid, met zijn meeteenheid, waarnaar de voedingswaardes die op het etiket staan verwijzen.\n","100 (GRM)\n","Geef aan voor welke portiegrootte de nutri&euml;ntenlijst geldt. Kies voor voedingsmiddelen in ieder geval voor de wettelijk voorgeschreven 100 GRM of 100 MLT (tenzij een speciale regeling van toepassing is voor de productgroep, zie opmerking hieronder voor meer informatie).<br />\nAls er daarnaast ook een lijst met nutri&euml;nten per portie aanwezig is vult u dit veld nogmaals in, maar dan met de waarde van de portie, en voert u de nutri&euml;nten op in de groepering van de portie.<br />\nBij voorkeur kiest u voor de vermelding van de portiegrootte in gram of milliliter als dat op het etiket staat (bijvoorbeeld als er staat &#39;1 stuks = 15 gram&#39;, dan vult u hier 15 gram in). Vul de meeteenheid in een afzonderlijk veld in.<br />\n<br />\nComponenten:<br />\nEen artikel met componenten bevat (afzonderlijk verpakte) onderling verschillende onderdelen. Minstens &eacute;&eacute;n ervan heeft geen GS1 artikelcode. Als de nutri&euml;nten van de componenten op uw etiket staan moet u deze ook invullen. Als u de nutri&euml;nten van de componenten van een artikel gaat invullen, gebruikt u het veld (Standaard portiegrootte) om aan te duiden bij welk component die nutri&euml;nten horen.<br />\nEen voorbeeld van een artikel met componenten is een zak Mars Mini&#39;s, met als componenten Mars, Snickers, Twix etc. In dit voorbeeld staan de nutri&euml;nten zowel in 100 gram als per portie vermeld op het etiket. Per component geeft u in dat geval de nutri&euml;nten per 100 gram weer en de nutri&euml;nten per portie. In het veld &#39;Standaard portiegrootte&#39; (nutrientBasisQuantityDescription) geeft u de beschrijving van het component waarvoor u de nutri&euml;nten invult. Voor 100 gram: &#39;Mars&#39; en voor de portie: &#39;Mars, 18 gram&#39;. In dit veld (&#39;Referentie portiegrootte&#39; (nutrientBasisQuantity)) vult u de waarde in waarvoor de nutri&euml;nten ingevuld worden (100 gram of de portie van 18 gram).<br />\nDeze instructie geldt ook voor variety packs, waarbij de onderliggende artikelen wel een GS1 artikelcode hebben (bijvoorbeeld een 6 pack gemengde bieren).\n","Zie voor aanvullende toelichting <a href=\" https://www.gs1.nl/sectorafspraken-over-standaarden/productdata-levensmiddelen-drogisterij-agf-en-foodservice/gs1-5-7\" style=\"color:blue; text-decoration:underline\" target=\"_blank\"> https://www.gs1.nl/sectorafspraken-over-standaarden/productdata-levensmiddelen-drogisterij-agf-en-foodservice/gs1-5-7</a><br />\n<br />\nLokale in Nederland gebruikte validatieregels zijn: 500.178, 500.323, 500.324, 500.325, 500.356\n","","Verplicht voor voedingsmiddelen, voedingssupplementen en bijzondere voedingsmiddelen als het op het etiket/de verpakking staat.",null,null,{"$f":"IFERROR(LEFT(B306,LEN(B306)-LEN('BES EN'!E306)-3),\"Doelsector\")","v":"Referentie portiegrootte"}]
["ANL1375","Referentie portiegrootte eenheid (nutrientBasisQuantity/@measurementUnitCode)","","Een gestandaardiseerde, reproduceerbare eenheid waarmee een fysieke eigenschap kan worden gemeten.\n","GRM\n","Selecteer de juiste waarde uit de codelijst 'measurementUnitCode'.\n","Lokale in Nederland gebruikte validatieregels zijn: 500.324, 500.325\n","","Verplicht als het veld ‘Referentie portiegrootte’ is ingevuld bij de consumenteneenheid.","Verplicht als het veld ‘Referentie portiegrootte’ is ingevuld bij de handelseenheid.","Verplicht als het veld ‘Referentie portiegrootte’ is ingevuld bij de pallet.",{"$f":"IFERROR(LEFT(B307,LEN(B307)-LEN('BES EN'!E307)-3),\"Doelsector\")","v":"Referentie portiegrootte eenheid"}]
["ANL1377","Indicatie viscositeitsuitzondering (specialPermitOrExemptionIdentification)","","Waarde die aangeeft of de goederen volgens de viscositeitsregels worden geleverd door de leverancier.\n","FALSE\n","Keuze uit ‘TRUE’, ‘FALSE’, ‘UNIDENTIFIED’ of ‘NOT_APPLICABLE’. U kiest voor ‘TRUE’ als de viscositeit hoog is, voor ‘FALSE’ als dat niet zo is en voor ‘UNIDENTIFIED’ als u verplicht bent het veld in te vullen maar nog niet met zekerheid kan zeggen of het ‘TRUE’ of ‘FALSE’ moet zijn.<br />\n<br />\nVoor producten met een veiligheidsblad (SDS) kunt u dit terugvinden in hoofdstuk 9 van uw SDS.<br />\n<br />\nNaast dit veld moet u ook het veld ‘Code viscositeitsuitzondering – beheersorganisatie’ invullen.","","","Verplicht als het veld 'ADR klasse' is gevuld met een waarde uit de reeks 1 t/m 9.",null,null,{"$f":"IFERROR(LEFT(B308,LEN(B308)-LEN('BES EN'!E308)-3),\"Doelsector\")","v":"Indicatie viscositeitsuitzondering"}]
["ANL1378","Code viscositeitsuitzondering – beheersorganisatie  (specialPermitOrExemptionIdentification/@identificationSchemeAgencyCode)",null,"Vaste tekst die de beheersorganisatie van de viscositeitsuitzondering aangeeft.","ADR_ViscosityException","Vul hier de vaste waarde \"ADR_ViscosityException\" in.<br />\nAls u dit veld invult dan moet u ook het veld ‘Indicatie viscositeitsuitzondering’ invullen.",null,null,"Verplicht, als het veld ‘Indicatie viscositeitsuitzondering’ is ingevuld met 'TRUE' bij de consumenteneenheid.",null,null,{"$f":"IFERROR(LEFT(B309,LEN(B309)-LEN('BES EN'!E309)-3),\"Doelsector\")","v":"Code viscositeitsuitzondering – beheersorganisatie "}]
["ANL1379","Product is een service (isTradeItemAService)",null,"Geeft aan of het product een service is. Bijvoorbeeld: een bon voor het opwaarderen van telefoontegoed, een toegangsticket voor een pretpark, een sportevenement of theater. Een bon voor onderhouds- of installatieservice of reparatiediensten.","TRUE","Selecteer ‘TRUE’ of ‘FALSE’.<br />\nGegevens zoals afmetingen en gewicht zijn in het geval van een service niet van toepassing en hoeft u niet in te vullen.",null,null,null,null,null,{"$f":"IFERROR(LEFT(B310,LEN(B310)-LEN('BES EN'!E310)-3),\"Doelsector\")","v":"Product is een service"}]
["ANL1380","Staat van het product (tradeItemConditionCode)",null,"Een code die aangeeft in welke staat van bereiding het product aan de eindconsument verkocht moet worden. Deze bereiding kan plaatsvinden bij de leverancier, de retailer of derden. Het type bereiding wordt bepaald door de sectorstandaard, de leverancier of de retailer.","CUT_FOR_SALE","Dit veld gebruikt u bij versartikelen (kaas, vleeswaren e.d.). Bij versartikelen die u in bulk uitlevert, geeft u met dit veld aan of het product reeds bewerkt voor de eindconsument aan de winkel aangeleverd wordt of dat een bewerking op de winkelvloer moet plaatsvinden.<br />\nKies de juiste code uit de codelijst.",null,null,null,null,null,{"$f":"IFERROR(LEFT(B311,LEN(B311)-LEN('BES EN'!E311)-3),\"Doelsector\")","v":"Staat van het product"}]
["ANL1381","Code recyclebaar materiaaltype (packagingRecyclingSchemeCode)","","Een code die het recyclingsysteem bepaalt waarin het product valt als het gerecycled gaat worden. Is van toepassing op recyclebare verpakkingen met en zonder statiegeld.","41 (Aluminium)\n","Geef hier aan van welk type materiaal de recycleerbare onderdelen van de verpakking gemaakt zijn. Kies de juiste code uit de codelijst ‘packagingRecyclingSchemeCode’. Herhaal dit veld als er meerdere materialen recyclebaar zijn.<br />\nEen voorbeeld: de verpakking Pringles bestaat uit de volgende onderdelen:<br />\n- Metalen bodem<br />\n- Kartonnen container<br />\n- Metalen laag in de kartonnen container<br />\n- Plastic dop<br />\n- Afdekfolie van metaal<br />\nAls alle materialen recyclebaar zijn, voeg dan de volgende codes uit de codelijst toe:<br />\n- 41 (Aluminium)<br />\n- 20 (Cardboard)<br />\n- 4 (Low-density Polyethylenes).","","","",null,null,{"$f":"IFERROR(LEFT(B312,LEN(B312)-LEN('BES EN'!E312)-3),\"Doelsector\")","v":"Code recyclebaar materiaaltype"}]
["ANL1382","Indicatie recyclable aanwezig (isTradeItemMarkedAsRecyclable)","Als op de verpakking een logo staat dat voorkomt in de codelijst van het veld ‘Overige keurmerken’, moet u dat tevens in Overige keurmerken aangeven. ","Op het product staat een recyclable keurmerk. Dit kan een keurmerk zijn van verschillende regionale organisaties.","FALSE","Selecteer ‘TRUE’ of ‘FALSE’. De waarde 'TRUE' gebruikt u alleen als het keurmerk voorkomt in de codelijst met internationaal beschikbare keurmerken, de 'Packaging Label Guide'.",null,null,"",null,null,{"$f":"IFERROR(LEFT(B313,LEN(B313)-LEN('BES EN'!E313)-3),\"Doelsector\")","v":"Indicatie recyclable aanwezig"}]
["ANL1383","Leeftijd/levensfase dier taalcode (feedLifestage/@languageCode)",null,"Code die een taal specificeert. Toegestane codewaarden staan gespecificeerd in de GS1 codelijst 'LanguageCode'.","nl","Selecteer de correcte waarde uit de 'ISO 639-1 (2-alpha)' codelijst.","Zie voor aanvullende toelichting <a href=\" https://www.gs1.nl/sectorafspraken-over-standaarden/productdata-levensmiddelen-drogisterij-agf-en-foodservice/gs1-5-7\" style=\"color:blue; text-decoration:underline\" target=\"_blank\"> https://www.gs1.nl/sectorafspraken-over-standaarden/productdata-levensmiddelen-drogisterij-agf-en-foodservice/gs1-5-7</a> <br />\n<br />\n- Voor het terugvinden van taalcodes zie: <a href=\" http://www.loc.gov/standards/iso639-2/php/code_list.php\" style=\"color:blue; text-decoration:underline\" target=\"_blank\"> http://www.loc.gov/standards/iso639-2/php/code_list.php</a> ",null,"Verplicht als het veld 'Leeftijd dier' is ingevuld bij de consumenteneenheid. ","Verplicht als het veld 'Leeftijd dier' is ingevuld bij de handelseenheid. ","Verplicht als het veld 'Leeftijd dier' is ingevuld bij de pallet. ",{"$f":"IFERROR(LEFT(B314,LEN(B314)-LEN('BES EN'!E314)-3),\"Doelsector\")","v":"Leeftijd/levensfase dier taalcode"}]
["ANL1384","Type lampfitting (lightBulbBaseType)","","Gloeilampfittingen, lampfittingen en lamphouders leveren een elektronische verbinding en ondersteuning van een lamp voor verlichtingsarmatuur.\n","E27<br />\nGU5.3\n","Vul het type lampfitting in, zoals aangegeven op de verpakking.\n","","",null,null,null,{"$f":"IFERROR(LEFT(B315,LEN(B315)-LEN('BES EN'!E315)-3),\"Doelsector\")","v":"Type lampfitting"}]
["ANL1385","Nuttige lichtstroom (visibleLight)",null,"Totale hoeveelheid zichtbaar licht die door een lichtbron wordt uitgegeven.","970 (lumen)","Vul in dit veld de nominale nuttige lichtstroom/ lichtopbrengst in zoals aangegeven op de verpakking. ",null,null,null,null,null,{"$f":"IFERROR(LEFT(B316,LEN(B316)-LEN('BES EN'!E316)-3),\"Doelsector\")","v":"Nuttige lichtstroom"}]
["ANL1386","Eenheid nuttige lichtstroom (visibleLight/@measurementUnitCode)",null,"Een gestandaardiseerde, reproduceerbare eenheid waarmee een fysieke eigenschap kan worden gemeten.","LUM","Selecteer de juiste waarde uit de codelijst ‘measurementUnitCode’.",null,null,"Verplicht als het veld 'Nuttige lichtstroom' is ingevuld bij de consumenteneenheid.","Verplicht als het veld 'Nuttige lichtstroom' is ingevuld bij de handelseenheid.","Verplicht als het veld 'Nuttige lichtstroom' is ingevuld bij de pallet.",{"$f":"IFERROR(LEFT(B317,LEN(B317)-LEN('BES EN'!E317)-3),\"Doelsector\")","v":"Eenheid nuttige lichtstroom"}]
["ANL1387","Kleurtemperatuur (colourTemperature)","","Kleurtemperatuur is een manier om de uitstraling van de lamp te beschrijven, uitgedrukt in Kelvin.\n","3000 (K)\n","Vul hier de waarde in van de kleurtemperatuur van de lamp, zoals vermeld op de verpakking.\n","Lokale in Nederland gebruikte validatieregels zijn: 500.419\n","",null,null,null,{"$f":"IFERROR(LEFT(B318,LEN(B318)-LEN('BES EN'!E318)-3),\"Doelsector\")","v":"Kleurtemperatuur"}]
["ANL1388","Eenheid kleurtemperatuur (colourTemperature/@temperatureMeasurementUnitCode)",null,"Een gestandaardiseerde, reproduceerbare eenheid waarmee een fysieke eigenschap kan worden gemeten.","KEL (Kelvin)","Selecteer de juiste waarde uit de codelijst ‘temperatureMeasurementUnitCode’.",null,null,"Verplicht als het veld 'Kleurtemperatuur' is ingevuld bij de consumenteneenheid.","Verplicht als het veld 'Kleurtemperatuur' is ingevuld bij de handelseenheid.","Verplicht als het veld 'Kleurtemperatuur' is ingevuld bij de pallet.",{"$f":"IFERROR(LEFT(B319,LEN(B319)-LEN('BES EN'!E319)-3),\"Doelsector\")","v":"Eenheid kleurtemperatuur"}]
["ANL1389","Lampdiameter (lightBulbDiameterValue)","Reflectoren van 63 mm worden bijvoorbeeld aangeduid als R63, maar in de VS staan ze bekend als R20 (2,5 in). In beide regio's staat een PAR38-reflector echter bekend als PAR38.","De maximale diameter van de lamp, hetzij in 1/8 inch, hetzij in millimeter, afhankelijk van de vorm en de regio. ","52 (mm)","Vul hier de maximale diameter van de lamp in millimeter in, zoals aangeduid op de verpakking.",null,null,null,null,null,{"$f":"IFERROR(LEFT(B320,LEN(B320)-LEN('BES EN'!E320)-3),\"Doelsector\")","v":"Lampdiameter"}]
["ANL1390","Eenheid lampdiameter (lightBulbDiameterValue/@measurementUnitCode)",null,"Een gestandaardiseerde, reproduceerbare eenheid waarmee een fysieke eigenschap kan worden gemeten.","MMT","Selecteer de juiste waarde uit de codelijst ‘measurementUnitCode’.",null,null,"Verplicht als het veld 'Lampdiameter' is ingevuld bij de consumenteneenheid. ","Verplicht als het veld 'Lampdiameter' is ingevuld bij de handelseenheid.","Verplicht als het veld 'Lampdiameter' is ingevuld bij de pallet.",{"$f":"IFERROR(LEFT(B321,LEN(B321)-LEN('BES EN'!E321)-3),\"Doelsector\")","v":"Eenheid lampdiameter"}]
["ANL1391","Waarde van de afmeting (sizeDimension)","Als u dit veld invult, vul dan ook de velden &lsquo;Code type afmeting&rsquo; en &lsquo;Eenheid waarde van de afmeting&rsquo; in.\n","De numerieke waarde van de meting, bepaald door het formaattype.\n","36(&deg;)\n","Neem de waarde van de afmeting over zoals deze op de verpakking staat.<br />\n<br />\nVoor lampen geldt: Vul in dit veld de nominale hoek van de lichtbundel in (in graden). Dit is alleen van toepassing voor gerichte lampen, en staat vaak als icoon op de verpakking.\n","","",null,null,null,{"$f":"IFERROR(LEFT(B322,LEN(B322)-LEN('BES EN'!E322)-3),\"Doelsector\")","v":"Waarde van de afmeting"}]
["ANL1392","Eenheid waarde van de afmeting (sizeDimension/@measurementUnitCode)","","Een gestandaardiseerde, reproduceerbare eenheid waarmee een fysieke eigenschap kan worden gemeten.\n","DD\n","Selecteer de juiste waarde uit de codelijst &lsquo;measurementUnitCode&rsquo;.\n","","","Verplicht als het veld 'Waarde van de afmeting' is ingevuld bij de consumenteneenheid.","Verplicht als het veld 'Waarde van de afmeting' is ingevuld bij de handelseenheid","Verplicht als het veld 'Waarde van de afmeting' is ingevuld bij de pallet.",{"$f":"IFERROR(LEFT(B323,LEN(B323)-LEN('BES EN'!E323)-3),\"Doelsector\")","v":"Eenheid waarde van de afmeting"}]
["ANL1393","Code type afmeting (sizeTypeCode)","Als u dit veld invult, vul dan ook de velden &lsquo;Waarde van de afmeting&rsquo; en &rsquo;Eenheid waarde van de afmeting&rsquo; in.\n","Code om het type afmeting aan te duiden dat relevant is voor het gebruik van het artikel.\n","LIGHT_BEAM_ANGLE\n","Selecteer de juiste waarde uit de codelijst &lsquo;SizeTypeCode&rsquo; die hoort bij het type meting dat u invult in het veld &lsquo;Waarde van de afmeting&rsquo;.<br />\n<br />\nVoor lampen geldt: Vul in dit veld de code voor de hoek van de lichtbundel in: &lsquo;LIGHT_BEAM_ANGLE&rsquo;. Dit geldt alleen voor gerichte lampen en staat vaak als icoon op de verpakking.\n","","","Verplicht als het veld 'Waarde van de afmeting' is ingevuld bij de consumenteneenheid.","","",{"$f":"IFERROR(LEFT(B324,LEN(B324)-LEN('BES EN'!E324)-3),\"Doelsector\")","v":"Code type afmeting"}]
["ANL1394","Aanduiding gebruik (recommendedUsageLocation)",null,"De primaire locatie die wordt aanbevolen voor het gebruik van het artikel, bijvoorbeeld binnen, buiten, binnen / buiten, voertuig, keuken, etc.","Bestemd voor gebruik buitenshuis.","Vul in dit veld de aanbevolen locatie voor het gebruik van het artikel in, zoals aangegeven op de verpakking.",null,null,null,null,null,{"$f":"IFERROR(LEFT(B325,LEN(B325)-LEN('BES EN'!E325)-3),\"Doelsector\")","v":"Aanduiding gebruik"}]
["ANL1395","Aanduiding gebruik taalcode (recommendedUsageLocation/@languageCode)",null,"Code die een taal specificeert. Toegestane codewaarden staan gespecificeerd in de GS1 codelijst 'LanguageCode'.","nl","Selecteer de correcte waarde uit de 'ISO 639-1 (2-alpha)' codelijst.","- Voor het terugvinden van taalcodes zie: <a href=\" http://www.loc.gov/standards/iso639-2/php/code_list.php\" style=\"color:blue; text-decoration:underline\" target=\"_blank\"> http://www.loc.gov/standards/iso639-2/php/code_list.php</a> ",null,"Verplicht als het veld 'Aanduiding gebruik' is ingevuld bij de consumenteneenheid.","Verplicht als het veld 'Aanduiding gebruik' is ingevuld bij de handelseenheid.","Verplicht als het veld 'Aanduiding gebruik' is ingevuld bij de pallet.",{"$f":"IFERROR(LEFT(B326,LEN(B326)-LEN('BES EN'!E326)-3),\"Doelsector\")","v":"Aanduiding gebruik taalcode"}]
["ANL1396","Materiaalcode (materialCode)","Vul het veld materialAgencyCode in met de waarde &lsquo;GS1&rsquo;.\n","Met een materiaalcode geeft u aan welk materiaal in uw product zit.\n","Pb\n","Voor batterijen en lampen: vul dit veld in met een materiaalcode als het materiaal in het product een grenswaarde overschrijdt (zie hieronder). Als meerdere materialen de grenswaarde overschrijden vult u dit veld dus meerdere keren in.<br />\n<br />\nVoor batterijen geldt:<br />\n&bull; Meer dan 0,004% lood -&gt; Pb<br />\n&bull; Meer dan 0,0005% kwik -&gt; Hg<br />\n&bull; Meer dan 0,002% cadmium -&gt; Ca<br />\n&bull; Lithium aanwezig -&gt; Li<br />\n<br /> \nVoor lampen geldt:<br />\n&bull; Kwik aanwezig -&gt; Hg<br />\n<br />\nMet dit veld geeft u een indicatie of bovenstaande het geval is. Gebruikt de lokale codelijst &lsquo;Materiaalcode&rsquo;.\n","","","Verplicht als de grenswaarden van de materialen lood, kwik, cadmium en lithium voor batterijen worden overschreden.",null,null,{"$f":"IFERROR(LEFT(B327,LEN(B327)-LEN('BES EN'!E327)-3),\"Doelsector\")","v":"Materiaalcode"}]
["ANL1397","Beheersorganisatie voor materiaalcodes (materialAgencyCode)",null,"De beheersorganisatie die de materiaalcodes beheert.","GS1","Vul hier altijd de waarde ‘GS1’ in.",null,null,"Verplicht als het veld 'Materiaalcode' is ingevuld bij de consumenteneenheid.","Verplicht als het veld 'Materiaalcode' is ingevuld bij de handelseenheid.","Verplicht als het veld 'Materiaalcode' is ingevuld bij de pallet.",{"$f":"IFERROR(LEFT(B328,LEN(B328)-LEN('BES EN'!E328)-3),\"Doelsector\")","v":"Beheersorganisatie voor materiaalcodes"}]
["ANL1398","Toelatingsnummer einddatum (permitEndDateTime)","De datum waarop de vergunning afloopt, staat meestal niet op het etiket.\n","De datum waarop de vergunning afloopt.\n","1/1/2020\n","Biociden moeten een vergunning van de overheid hebben dat het product op de markt mag worden gebracht. Vul in dit veld de datum in waarop de vergunning afloopt.\n","","","Verplicht voor biociden indien beschikbaar",null,null,{"$f":"IFERROR(LEFT(B329,LEN(B329)-LEN('BES EN'!E329)-3),\"Doelsector\")","v":"Toelatingsnummer einddatum"}]
["ANL1399","Productiemethode voor vis (productionMethodForFishAndSeafoodCode)","","De productiemethode voor vis en schaal- en schelpdieren is een door GS1 bijgehouden codelijst, afgeleid van de afdeling Visserij en Aquacultuur van de Voedsel- en Landbouworganisatie (FAO) van de Verenigde Naties. Dit veld ondersteunt de wereldwijde retailsector bij het implementeren van de EU-wetgeving voor een algemeen visserijbeleid. \n","AQUACULTURE\n","Vul hier de productiemethode voor vis en schaal- en schelpdieren in. Toegestane waarden zijn:<br />\nBinnenvisserij (INLAND_FISHERY)<br />\nZeevisserij (MARINE_FISHERY)<br />\nKweekvis (AQUACULTURE)\n","","","Verplicht voor vis en schaal- en schelpdieren",null,null,{"$f":"IFERROR(LEFT(B330,LEN(B330)-LEN('BES EN'!E330)-3),\"Doelsector\")","v":"Productiemethode voor vis"}]
["ANL1400","Sleutelwoorden van het product (tradeItemKeyWords)","De retailer kan de informatie uit dit veld gebruiken om het makkelijker te maken voor zoekmachines om het product te vinden.\n","Woorden of woordgroepen die helpen om producten op internet vindbaar te maken via zoekmachines, bijvoorbeeld shampoo, schuim, baby.\n","Biologisch<br />\nSinaasappel<br />\nVoor gekleurd haar\n","Gebruik dit veld voor alle sleutelwoorden die relevant zijn voor het product. Vul per keer dat u dit veld invult &eacute;&eacute;n sleutelwoord of woordgroep in.\n","","",null,null,null,{"$f":"IFERROR(LEFT(B331,LEN(B331)-LEN('BES EN'!E331)-3),\"Doelsector\")","v":"Sleutelwoorden van het product"}]
["ANL1401","Sleutelwoorden van het product taalcode (tradeItemKeyWords/@languageCode)",null,"Code die een taal specificeert. Toegestane codewaarden staan gespecificeerd in de GS1 codelijst 'LanguageCode'.","nl","Selecteer de correcte waarde uit de 'ISO 639-1 (2-alpha)' codelijst.","- Voor het terugvinden van taalcodes zie: <a href=\" http://www.loc.gov/standards/iso639-2/php/code_list.php\" style=\"color:blue; text-decoration:underline\" target=\"_blank\"> http://www.loc.gov/standards/iso639-2/php/code_list.php</a> ",null,"Verplicht als het veld 'Sleutelwoorden van het product' is ingevuld bij de consumenteneenheid.","Verplicht als het veld 'Sleutelwoorden van het product' is ingevuld bij de handelseenheid.","Verplicht als het veld 'Sleutelwoorden van het product' is ingevuld bij de pallet.",{"$f":"IFERROR(LEFT(B332,LEN(B332)-LEN('BES EN'!E332)-3),\"Doelsector\")","v":"Sleutelwoorden van het product taalcode"}]
["ANL1402","Unique selling point van het product (tradeItemFeatureBenefit)","De retailer kan de informatie uit dit veld gebruiken om het product op hun website te beschrijven. Er kan overlap zitten tussen de unique selling points en de sleutelwoorden van het product.\n","Veld voor marketinggerichte teksten voor consumenten waarmee de belangrijkste kenmerken of voordelen van het product worden aangegeven voor websites.\n","Glutenvrij<br />\nVerbeterde formule\n","Gebruik dit veld voor de unique selling points (USP&rsquo;s) die relevant zijn voor dit product. Vul &eacute;&eacute;n USP in per keer dat u dit veld invoert.\n","","",null,null,null,{"$f":"IFERROR(LEFT(B333,LEN(B333)-LEN('BES EN'!E333)-3),\"Doelsector\")","v":"Unique selling point van het product"}]
["ANL1403","Unique selling point van het product taalcode (tradeItemFeatureBenefit/@languageCode)",null,"Code die een taal specificeert. Toegestane codewaarden staan gespecificeerd in de GS1 codelijst 'LanguageCode'.","nl","Selecteer de correcte waarde uit de 'ISO 639-1 (2-alpha)' codelijst.","- Voor het terugvinden van taalcodes zie: <a href=\" http://www.loc.gov/standards/iso639-2/php/code_list.php\" style=\"color:blue; text-decoration:underline\" target=\"_blank\"> http://www.loc.gov/standards/iso639-2/php/code_list.php</a> ",null,"Verplicht als het veld 'Unique selling point van het product' is ingevuld bij de consumenteneenheid.","Verplicht als het veld 'Unique selling point van het product' is ingevuld bij de handelseenheid.","Verplicht als het veld 'Unique selling point van het product' is ingevuld bij de pallet.",{"$f":"IFERROR(LEFT(B334,LEN(B334)-LEN('BES EN'!E334)-3),\"Doelsector\")","v":"Unique selling point van het product taalcode"}]
["ANL1404","Kwaliteitscode (gradeCodeReference)","Kwaliteitsstandaarden zorgen voor een gemeenschappelijke taal tussen kopers en verkopers, waardoor voor de consument de kwaliteit van het product verzekerd is.<br />\n<br />\nDit veld wordt in Nederland gecontroleerd in het kader van het datakwaliteitsprogramma.\n","Een code die de mate van verfijning, kenmerken of mogelijkheden van een product aangeeft, bijvoorbeeld de kwaliteitsklasse van een aardewerken tegel of een voedingsmiddel zoals eieren.\n","II (aardappel, groente en fruit)\n","Gebruik dit veld om aan te geven wat de kwaliteit van een product is.\n","","","Verplicht als de kwaliteitscode (zoals grootte, gewicht, kwaliteit) op het etiket/de verpakking staat.",null,null,{"$f":"IFERROR(LEFT(B335,LEN(B335)-LEN('BES EN'!E335)-3),\"Doelsector\")","v":"Kwaliteitscode"}]
["ANL1405","Gewicht materiaal (materialWeight)",null,"Het gemeten gewicht van het materiaal, uitgedrukt in ounces per vierkante meter of gram per vierkante meter.","2.5","Indien de gloeilamp kwik bevat, voer hier de hoeveelheid kwik in.",null," ","Verplicht indien de gloeilamp kwik bevat."," "," ",{"$f":"IFERROR(LEFT(B336,LEN(B336)-LEN('BES EN'!E336)-3),\"Doelsector\")","v":"Gewicht materiaal"}]
["ANL1406","Eenheid gewicht materiaal (materialWeight/@measurementUnitCode)",null,"Een gestandaardiseerde, reproduceerbare eenheid waarmee een fysieke eigenschap kan worden gemeten.","GRM","Selecteer de juiste waarde uit de codelijst ‘measurementUnitCode’.",null,null,"Verplicht als het veld 'gewicht materiaal' is ingevuld bij de consumenteneenheid. ","Verplicht als het veld 'gewicht materiaal' is ingevuld bij de handelseenheid. ","Verplicht als het veld 'gewicht materiaal' is ingevuld bij de logistiek eenheid. ",{"$f":"IFERROR(LEFT(B337,LEN(B337)-LEN('BES EN'!E337)-3),\"Doelsector\")","v":"Eenheid gewicht materiaal"}]
["ANL1407","Type lamp (lightBulbLampTypeCode)",null,"Een code die het type lamp beschrijft, of dit nu het artikel is of zich in het artikel bevindt, bijvoorbeeld LED.","HALOGEN","Vul het type gloeilamp of lamp in, zoals aangegeven op de verpakking.\nSelecteer de waarde uit de codelijst 'LightBulbLampTypeCode'.",null,null,null,null,null,{"$f":"IFERROR(LEFT(B338,LEN(B338)-LEN('BES EN'!E338)-3),\"Doelsector\")","v":"Type lamp"}]
["ANL1408","Indicatie voordeelverpakking (specialItemCode)","Dit veld wordt in Nederland gecontroleerd in het kader van het datakwaliteitsprogramma.\n","Dit veld identificeert specifieke artikelen voor promotie- of bijzondere tracking doeleinden.\n","VALUE_PACK\n","Vul hier de waarde VALUE_PACK in uit de codelijst SpecialItemCode indien op de verpakking duidelijk staat vermeld dat het een voordeelverpakking betreft. Er kan bijvoorbeeld &#39;voordeelverpakking&#39; of &#39;2 + 1 gratis&#39; staan. Andere codes uit de codelijst zijn niet toegestaan.\n","","","Verplicht als op de verpakking staat vermeld dat het om een voordeelverpakking gaat, optioneel voor detergenten en biociden.",null,null,{"$f":"IFERROR(LEFT(B339,LEN(B339)-LEN('BES EN'!E339)-3),\"Doelsector\")","v":"Indicatie voordeelverpakking"}]
["ANL1409","Wettelijke benaming volgnummer (regulatedProductName/@sequenceNumber)","","Een getal dat wordt gebruikt om de volgorde van deverschillende voorkomens van het attribuut aan te geven.","1","Voer het volgnummer van het voorkomen van het veld in en zorg ervoor dat u niet tweemaal hetzelfde volgnummer gebruikt. Het volgnummer wordt gebruikt om de ontvanger in staat te stellen alle voorkomens van het veld in de juiste volgorde te plaatsen.",null,null,"Verplicht als het veld 'Wettelijke benaming' meerdere keren is ingevuld voor dezelfde taalcode.","Verplicht als het veld 'Wettelijke benaming' meerdere keren is ingevuld voor dezelfde taalcode.","Verplicht als het veld 'Wettelijke benaming' meerdere keren is ingevuld voor dezelfde taalcode.",{"$f":"IFERROR(LEFT(B340,LEN(B340)-LEN('BES EN'!E340)-3),\"Doelsector\")","v":"Wettelijke benaming volgnummer"}]
["ANL1410","Marketinginformatie volgnummer (tradeItemMarketingMessage/@sequenceNumber)","","Een getal dat wordt gebruikt om de volgorde van de verschillende voorkomens van het attribuut aan te geven.\n","1\n","Voer het volgnummer van het voorkomen van het veld in en zorg ervoor dat u niet tweemaal hetzelfde volgnummer gebruikt. Het volgnummer wordt gebruikt om de ontvanger in staat te stellen alle voorkomens van het veld in de juiste volgorde te plaatsen.\n","","","Verplicht als het veld 'Marketinginformatie' meerdere keren is ingevuld voor dezelfde taalcode.","Verplicht als het veld 'Marketinginformatie' meerdere keren is ingevuld voor dezelfde taalcode.","Verplicht als het veld 'Marketinginformatie' meerdere keren is ingevuld voor dezelfde taalcode.",{"$f":"IFERROR(LEFT(B341,LEN(B341)-LEN('BES EN'!E341)-3),\"Doelsector\")","v":"Marketinginformatie volgnummer"}]
["ANL1411","Unique selling point van het product volgnummer (tradeItemFeatureBenefit/@sequenceNumber)","","Een getal dat wordt gebruikt om de volgorde van de verschillende voorkomens van het attribuut aan te geven.\n","1\n","Voer het volgnummer van het voorkomen van het veld in en zorg ervoor dat u niet tweemaal hetzelfde volgnummer gebruikt. Het volgnummer wordt gebruikt om de ontvanger in staat te stellen alle voorkomens van het veld in de juiste volgorde te plaatsen.\n","","","Verplicht als het veld 'Unique selling point van het product' meerdere keren is ingevuld voor dezelfde taalcode.","Verplicht als het veld 'Unique selling point van het product' meerdere keren is ingevuld voor dezelfde taalcode.","Verplicht als het veld 'Unique selling point van het product' meerdere keren is ingevuld voor dezelfde taalcode.",{"$f":"IFERROR(LEFT(B342,LEN(B342)-LEN('BES EN'!E342)-3),\"Doelsector\")","v":"Unique selling point van het product volgnummer"}]
["ANL1412","Samenstelling/ingrediënten volgnummer (nonfoodIngredientStatement/@sequenceNumber)","","Een getal dat wordt gebruikt om de volgorde van de verschillende voorkomens van het attribuut aan te geven.\n","1\n","Voer het volgnummer van het voorkomen van het veld in en zorg ervoor dat u niet tweemaal hetzelfde volgnummer gebruikt. Het volgnummer wordt gebruikt om de ontvanger in staat te stellen alle voorkomens van het veld in de juiste volgorde te plaatsen.\n","","","Verplicht als het veld 'Samenstelling/ingrediënten' meerdere keren is ingevuld voor dezelfde taalcode.","Verplicht als het veld 'Samenstelling/ingrediënten' meerdere keren is ingevuld voor dezelfde taalcode.","Verplicht als het veld 'Samenstelling/ingrediënten' meerdere keren is ingevuld voor dezelfde taalcode.",{"$f":"IFERROR(LEFT(B343,LEN(B343)-LEN('BES EN'!E343)-3),\"Doelsector\")","v":"Samenstelling/ingrediënten volgnummer"}]
["ANL1413","Herkomstlocatie biologische producten (organicProductPlaceOfFarmingCode)","Alleen voor biologische producten.\n","Vermelding van het land of de landen waar de agrarische grondstoffen waaruit het product is samengesteld, zijn geteeld, overeenkomstig EG Verordening nr. 834/2007. Deze verordening geldt alleen voor het biologische product, niet voor de individuele grondstoffen. Indien het communautaire logo wordt gebruikt, moet tevens een indicatie van de plaats waar de agrarische grondstoffen waaruit het product is samengesteld zijn geteeld, in de nabijheid van het logo worden weergegeven. Deze verordening is van toepassing op de volgende producten, afkomstig uit de landbouw, met inbegrip van aquacultuur, wanneer de producten in de handel worden gebracht of het de bedoeling is om in de handel te brengen:<br />\na) Levende of onverwerkte landbouwproducten;<br />\nb) Verwerkte landbouwproducten voor gebruik als levensmiddel;<br />\nc) Diervoeder;<br />\nd) Vegetatief teeltmateriaal en zaaizaad.<br />\nDe producten van jacht en visserij op wilde dieren worden niet als biologische productie beschouwd. Deze verordening is ook van toepassing op als levensmiddel of diervoeder gebruikt gist.\n","EU_AND_NON_EU_AGRICULTURE\n","Voer voor biologische producten de herkomstlocatie in die op de verpakking staat door middel van een code uit de codelijst organicProductPlaceOfFarmingCode. Als alle grondstoffen van het biologische product uit één land komen gebruikt u de code 'FARMING_COUNTRY_OF_ORIGIN'. ","","","vul dit veld in voor biologische producten (voedingsmiddelen of diervoeding) als de herkomstlocatie op de verpakking staat.",null,null,{"$f":"IFERROR(LEFT(B344,LEN(B344)-LEN('BES EN'!E344)-3),\"Doelsector\")","v":"Herkomstlocatie biologische producten"}]
["ANL1414","Capaciteit accu/batterij (batteryCapacity)","","De capaciteit van een batterij staat voor de maximale hoeveelheid energie die onder bepaalde gespecificeerde omstandigheden uit de batterij kan worden gehaald. Deze capaciteit is een maat voor de lading die door de batterij wordt opgeslagen en wordt bepaald door de hoeveelheid actief materiaal in de batterij. Wordt uitgedrukt in Amp&egrave;re uur, milliamp&egrave;re uur, etc.\n","3 (Ah)\n","Vul in dit veld de capaciteit van de accu/batterij in, uitgedrukt in amp&egrave;re-uur (Ah) of milliamp&egrave;re-uur (mAh).\n","","","Verplicht voor batterijen als het op de verpakking/het etiket staat.",null,null,{"$f":"IFERROR(LEFT(B345,LEN(B345)-LEN('BES EN'!E345)-3),\"Doelsector\")","v":"Capaciteit accu/batterij"}]
["ANL1415","Eenheid capaciteit accu/batterij (batteryCapacity/@measurementUnitCode)","","Code die een meeteenheid aangeeft. Toegestane codewaarden zijn vermeld in de GS1 codelijst &#39;MeasurementUnitCode&#39;.\n","E09 (milliampere hour)<br />\nAMH (ampere hour)\n","Selecteer de juiste waarde uit de codelijst &lsquo;MeasurementUnitCode&rsquo;.\n","","","Verplicht als het veld 'Capaciteit accu/batterij’ is ingevuld bij de consumenteneenheid.","Verplicht als het veld 'Capaciteit accu/batterij' is ingevuld bij de handelseenheid","Verplicht als het veld 'Capaciteit accu/batterij' is ingevuld bij de pallet.",{"$f":"IFERROR(LEFT(B346,LEN(B346)-LEN('BES EN'!E346)-3),\"Doelsector\")","v":"Eenheid capaciteit accu/batterij"}]
["ANL1416","Voltage (batteryVoltage)","","De spanning van een batterij is het elektrisch potentiaalverschil tussen de positieve en negatieve pool van de batterij, en wordt gemeten in volt.\n","9 (V)\n","Vul in dit veld het voltage/de spanning van de batterij in, uitgedrukt in Volt.\n","","","Verplicht voor batterijen als het op de verpakking/het etiket staat.",null,null,{"$f":"IFERROR(LEFT(B347,LEN(B347)-LEN('BES EN'!E347)-3),\"Doelsector\")","v":"Voltage"}]
["ANL1417","Eenheid voltage (batteryVoltage/@measurementUnitCode)","","Code die een meeteenheid aangeeft. Toegestane codewaarden zijn vermeld in de GS1 codelijst &#39;MeasurementUnitCode&#39;.\n","2H\n","Selecteer de juiste waarde uit de codelijst &lsquo;MeasurementUnitCode&rsquo;.\n","","","Verplicht als het veld 'Voltage' is ingevuld bij de consumenteneenheid.","Verplicht als het veld 'Voltage' is ingevuld bij de handelseenheid.","Verplicht als het veld 'Voltage' is ingevuld bij de pallet.",{"$f":"IFERROR(LEFT(B348,LEN(B348)-LEN('BES EN'!E348)-3),\"Doelsector\")","v":"Eenheid voltage"}]
["ANL1418","Is accu/batterij oplaadbaar (isBatteryRechargeable)","","Een indicator die aangeeft of de batterij kan worden opgeladen. Een oplaadbare batterij is een type batterij dat vele malen kan worden opgeladen, ontladen en opnieuw opgeladen.\n","TRUE\n","Geef hier aan of de batterij oplaadbaar is of niet. Selecteer de juiste waarde uit de codelijst &lsquo;NonBinaryLogicEnumeration&rsquo;.\n","","","Verplicht voor oplaadbare batterijen",null,null,{"$f":"IFERROR(LEFT(B349,LEN(B349)-LEN('BES EN'!E349)-3),\"Doelsector\")","v":"Is accu/batterij oplaadbaar"}]
["ANL1419","Aantal inbegrepen accu’s/batterijen (quantityOfBatteriesIncluded)","","Om het aantal gespecificeerde batterijen in de verpakking en/of ingebouwd in het product te identificeren.\n","2\n","Vul in dit veld het aantal batterijen in, dat in de verpakking of in het product zit.\n","Lokale in Nederland gebruikte validatieregels zijn: 500.384,  500.390 ","","Verplicht, als het veld ‘Zijn accu's/batterijen inbegrepen’ is gevuld met de waarde ‘TRUE’",null,null,{"$f":"IFERROR(LEFT(B350,LEN(B350)-LEN('BES EN'!E350)-3),\"Doelsector\")","v":"Aantal inbegrepen accu’s/batterijen"}]
["ANL1420","Doelsector (targetSector)","Uw GLN is al door GS1 in een sector ingedeeld waarin u primair actief bent. Bent u alleen in deze sector actief? Dan hoeft u dit veld niet te vullen.","Om aan te geven voor welke sector een artikel bedoeld is.\n","DiY (Doe het zelf, tuin en dier)\n","Geef in dit veld aan voor welke sector(en) uw artikel bestemd is, als u in meerdere sectoren actief bent. Met behulp van dit veld kunt u per artikel aangeven naar welke sector(en) het wordt gepubliceerd. Voor xml-gebruikers: als attributeName geeft u 'targetSector' aan.",null,null,null,null,null,{"$f":"IFERROR(LEFT(B351,LEN(B351)-LEN('BES EN'!E351)-3),\"Doelsector\")","v":"Doelsector"}]
["ANL1421","Opgegeven vermogen (declaredPower)",null,"Het vermogen dat aangeeft hoeveel elektriciteit de lamp kan omzetten naar licht en warmte binnen een bepaalde tijd. Een 25 Watt lamp zal, als deze aanstaat, 25 Watt-uren aan energie gebruiken binnen 1 uur.","15","Vul het vermogen in van de lamp, tot 0,1 Watt nauwkeurig, zoals aangegeven op de verpakking.",null,null,null,null,null,{"$f":"IFERROR(LEFT(B352,LEN(B352)-LEN('BES EN'!E352)-3),\"Doelsector\")","v":"Opgegeven vermogen"}]
["ANL1422","Opgegeven vermogen eenheid (declaredPower/@measurementUnitCode)",null,"Een gestandaardiseerde, reproduceerbare eenheid waarmee een fysieke eigenschap kan worden gemeten.","WTT (Watt)\n","Selecteer de juiste waarde uit de codelijst ‘measurementUnitCode’.",null,null,"Verplicht als het veld 'Opgegeven vermogen' is gevuld",null,null,{"$f":"IFERROR(LEFT(B353,LEN(B353)-LEN('BES EN'!E353)-3),\"Doelsector\")","v":"Opgegeven vermogen eenheid"}]
["ANL1423","Lampvermogen equivalent (equivalentLightBulbPower)",null,"Geeft het equivalente lampvermogen aan dat gedefinieerd is als het vermogen van de vervangen lamp, als de lamp beschouwd wordt als equivalent van het vervangen lamptype.","15","Vul in dit veld het vermogen in dat overeenkomt met het vermogen van het lamptype dat vervangen wordt. ",null,null,null,null,null,{"$f":"IFERROR(LEFT(B354,LEN(B354)-LEN('BES EN'!E354)-3),\"Doelsector\")","v":"Lampvermogen equivalent"}]
["ANL1424","Lampvermogen equivalent eenheid (equivalentLightBulbPower/@measurementUnitCode)","","Een gestandaardiseerde, reproduceerbare eenheid waarmee een fysieke eigenschap kan worden gemeten.\n","WTT (Watt)\n","Selecteer de juiste waarde uit de codelijst &lsquo;measurementUnitCode&rsquo;.\n","","","Verplicht als het veld 'Lampvermogen equivalent' is gevuld.",null,null,{"$f":"IFERROR(LEFT(B355,LEN(B355)-LEN('BES EN'!E355)-3),\"Doelsector\")","v":"Lampvermogen equivalent eenheid"}]
["ANL1425","Levensduur lamp (productCharacteristicValueMeasurement)",null,"Nominale levensduur van de lamp in uur.","6000","Vul de levensduur van de lamp in aantal uren in, zoals aangegeven op de verpakking. Vul bij ‘productCharacteristicCode’ de code ‘averageLife’ in.",null,null,null,null,null,{"$f":"IFERROR(LEFT(B356,LEN(B356)-LEN('BES EN'!E356)-3),\"Doelsector\")","v":"Levensduur lamp"}]
["ANL1426","Levensduur lamp eenheid (productCharacteristicValueMeasurement/@measurementUnitCode)",null,"Een gestandaardiseerde, reproduceerbare eenheid waarmee een fysieke eigenschap kan worden gemeten.","HUR (uur)","Selecteer de juiste waarde uit de codelijst ‘measurementUnitCode’.",null,null,"Verplicht als het veld 'Levensduur lamp' is ingevuld.",null,null,{"$f":"IFERROR(LEFT(B357,LEN(B357)-LEN('BES EN'!E357)-3),\"Doelsector\")","v":"Levensduur lamp eenheid"}]
["ANL1427","Aantal schakelcycli voor defect (productCharacteristicValueInteger)",null,"Aantal schakelcycli voor een voortijdig defect optreedt, een manier om een levensduur van een lamp aan te duiden.","6000","Vul hier het aantal schakelcycli voor een defect in, zoals aangegeven op de verpakking. Vul bij ‘productCharacteristicCode’ de code ‘numberOfSwitches’ in.",null,null,null,null,null,{"$f":"IFERROR(LEFT(B358,LEN(B358)-LEN('BES EN'!E358)-3),\"Doelsector\")","v":"Aantal schakelcycli voor defect"}]
["ANL1428","Minimum kleurtemperatuur (minimumColourTemperature)","","Geeft de minimum kleurtemperatuur aan en beschrijft de minimum uitstraling van de lamp uitgedrukt in Kelvin.\n","1800\n","Vul de minimum kleurtemperatuur in zoals aangegeven op de verpakking.\n","Lokale in Nederland gebruikte validatieregels zijn: 500.419\n","",null,null,null,{"$f":"IFERROR(LEFT(B359,LEN(B359)-LEN('BES EN'!E359)-3),\"Doelsector\")","v":"Minimum kleurtemperatuur"}]
["ANL1429","Minimum kleurtemperatuur eenheid (minimumColourTemperature/@temperatureMeasurementUnitCode)",null,"Een gestandaardiseerde, reproduceerbare eenheid waarmee een fysieke eigenschap kan worden gemeten.","KEL (Kelvin)","Selecteer de juiste waarde uit de codelijst ‘TemperatureMeasurementUnitCode’.",null,null,"Verplicht als het veld 'Minimum kleurtemperatuur' is gevuld.",null,null,{"$f":"IFERROR(LEFT(B360,LEN(B360)-LEN('BES EN'!E360)-3),\"Doelsector\")","v":"Minimum kleurtemperatuur eenheid"}]
["ANL1430","Maximum kleurtemperatuur (maximumColourTemperature)","","Geeft de maximum kleurtemperatuur aan en beschrijft de maximum uitstraling van de lamp uitgedrukt in Kelvin.\n","2700\n","Vul de maximum kleurtemperatuur in zoals aangegeven op de verpakking.\n","Lokale in Nederland gebruikte validatieregels zijn: 500.419\n","",null,null,null,{"$f":"IFERROR(LEFT(B361,LEN(B361)-LEN('BES EN'!E361)-3),\"Doelsector\")","v":"Maximum kleurtemperatuur"}]
["ANL1431","Maximum kleurtemperatuur eenheid (maximumColourTemperature/@temperatureMeasurementUnitCode)",null,"Een gestandaardiseerde, reproduceerbare eenheid waarmee een fysieke eigenschap kan worden gemeten.","KEL (Kelvin)","Selecteer de juiste waarde uit de codelijst ‘TemperatureMeasurementUnitCode’.",null,null,"Verplicht als het veld 'Maximum kleurtemperatuur' is gevuld.",null,null,{"$f":"IFERROR(LEFT(B362,LEN(B362)-LEN('BES EN'!E362)-3),\"Doelsector\")","v":"Maximum kleurtemperatuur eenheid"}]
["ANL1432","Opwarmtijd tot 60% (lightBulbWarmUpTime)",null,"Geeft de maximale duur in seconden aan die nodig is voor de lamp om tot 60% van het volle vermogen te komen.","5","Vul hier de opwarmingstijd tot 60% van de volledige lichtopbrengst in, zoals aangegeven op de verpakking. Dit kan op de verpakking aangegeven zijn als ‘direct vol licht’ als dit in minder dan 1 seconde is. Dit staat vaak als icoon op de verpakking.",null,null,null,null,null,{"$f":"IFERROR(LEFT(B363,LEN(B363)-LEN('BES EN'!E363)-3),\"Doelsector\")","v":"Opwarmtijd tot 60%"}]
["ANL1433","Opwarmtijd tot 60% eenheid (lightBulbWarmUpTime/@measurementUnitCode)",null,"Een gestandaardiseerde, reproduceerbare eenheid waarmee een fysieke eigenschap kan worden gemeten.","SEC (seconde)","Selecteer de juiste waarde uit de codelijst ‘MeasurementUnitCode’.",null,null,"Verplicht als het veld 'Opwarmtijd tot 60%' is gevuld.",null,null,{"$f":"IFERROR(LEFT(B364,LEN(B364)-LEN('BES EN'!E364)-3),\"Doelsector\")","v":"Opwarmtijd tot 60% eenheid"}]
["ANL1434","Indicatie accentverlichting (isLightBulbSuitableForAccentLighting)",null,"Geeft aan of de lamp wel/niet geschikt is voor accentverlichting. Alleen voor gerichte lampen en als de hoek van de lichtbundel van de lamp ≥ 90 ° is en de nuttige lichtstroom ervan moet worden gemeten in een kegel van 120°.","TRUE","Selecteer ‘TRUE’  als de lamp geschikt is voor accentverlichting, en ‘FALSE’ bij een gerichte lamp die niet geschikt is voor accentverlichting.",null,null,null,null,null,{"$f":"IFERROR(LEFT(B365,LEN(B365)-LEN('BES EN'!E365)-3),\"Doelsector\")","v":"Indicatie accentverlichting"}]
["ANL1435","Taalcode van extern bestand (fileLanguageCode)","U kunt meerdere talen gebruiken binnen een doelmarkt, zodat een extern bestand in meerdere talen beschikbaar kan zijn.\n","Code die de taal aangeeft waarin de tekst van het externe bestand wordt uitgedrukt.\n","nl\n","Selecteer de juiste waarde uit de codelijst &lsquo;LanguageCode&rsquo;. Dit is de &#39;ISO 639-1 (2-Alpha)&#39; codelijst. Alleen toegestaan als ook &lsquo;Type extern bestand&rsquo; is ingevuld.\n","","",null,null,null,{"$f":"IFERROR(LEFT(B366,LEN(B366)-LEN('BES EN'!E366)-3),\"Doelsector\")","v":"Taalcode van extern bestand"}]
["ANL1436","Code voedingsprogramma (nutritionalProgramCode)",null,"Identificeert het type programma dat is ontworpen om mensen aan te moedigen om op een bepaalde manier te eten.","8 (Nutri-Score)","Kies de juiste waarde uit de codelijst ‘NutritionalProgramCode’.",null,null,"Verplicht voor voedingsmiddelen en bijzondere voedingsmiddelen als de Nutri-Score op de verpakking staat.",null,null,{"$f":"IFERROR(LEFT(B367,LEN(B367)-LEN('BES EN'!E367)-3),\"Doelsector\")","v":"Code voedingsprogramma"}]
["ANL1437","Code Nutri-Score (nutritionalScore)","U kunt alleen de waarden ‘A’, ‘B’, ‘C’, ‘D’ of ‘E’ invullen als u in het veld ‘Code voedingsprogramma’ als waarde ‘8’ hebt gekozen.","Een puntenscore of score beoordeling, geassocieerd met een voedingsprogramma, bijvoorbeeld A - E voor Nutri-Score.","C","Kies een van de waarden: A, B, C, D of E.",null,null,"Verplicht voor voedingsmiddelen en bijzondere voedingsmiddelen als de Nutri-Score op de verpakking staat.",null,null,{"$f":"IFERROR(LEFT(B368,LEN(B368)-LEN('BES EN'!E368)-3),\"Doelsector\")","v":"Code Nutri-Score"}]
["ANL1438","Voedingsprogramma ingrediënt type (nutritionalProgramIngredientTypeCode)",null,"Maakt het mogelijk de groepen van de belangrijkste ingrediënten in het product te identificeren om ze beter voor de consument te kunnen benadrukken.","FRUITS_VEGETABLES_LEGUMES_AND_NUTS","Gebruik voor de Nutri-Score de code FRUITS_VEGETABLES_LEGUMES_AND_NUTS om de hoeveelheid fruit, groenten, peulvruchten en noten aan te geven die het recept van het product bevat.<br />\nGebruik dit attribuut samen met het veld ‘Voedingsprogramma ingrediënt hoeveelheid’.","Lokale in Nederland gebruikte validatieregels zijn: 500.433",null,null,null,null,{"$f":"IFERROR(LEFT(B369,LEN(B369)-LEN('BES EN'!E369)-3),\"Doelsector\")","v":"Voedingsprogramma ingrediënt type"}]
["ANL1439","Voedingsprogramma ingrediënt hoeveelheid (nutritionalProgramIngredientMeasurement)",null,"Waarde en meeteenheid verbonden aan het veld nutritionalProgramIngredientTypeCode.","40.1","Gebruik dit veld in het kader van de Nutri-Score om het percentage fruit, groenten, peulvruchten en noten in het product aan te geven, bijv. waarde 80 en meeteenheid P1 (= Procent). Gebruik dan altijd de meeteenheid P1.<br />\nVoer ofwel de exacte waarde in, of de waarde uit de volgende lijst die kleiner is dan de werkelijke waarde en er het dichtst bij ligt: 0% / 40,1% / 60,1% / 80,1%.<br />\nGebruik deze velden samen met het veld ‘Voedingsprogramma ingrediënt type’.","Lokale in Nederland gebruikte validatieregels zijn: 500.433, 500.435",null,null,null,null,{"$f":"IFERROR(LEFT(B370,LEN(B370)-LEN('BES EN'!E370)-3),\"Doelsector\")","v":"Voedingsprogramma ingrediënt hoeveelheid"}]
["ANL1440","Eenheid voedingsprogramma ingrediënt hoeveelheid (nutritionalProgramIngredientMeasurement/@measurementUnitCode)",null,"Een gestandaardiseerde, reproduceerbare eenheid waarmee een fysieke eigenschap kan worden gemeten.","P1 (procent)\n","Selecteer de juiste waarde uit de codelijst ‘MeasurementUnitCode’.","Lokale in Nederland gebruikte validatieregels zijn: 500.434",null,"Verplicht als 'Voedingsprogramma ingrediënt hoeveelheid' is ingevuld.","Verplicht als 'Voedingsprogramma ingrediënt hoeveelheid' is ingevuld.","Verplicht als 'Voedingsprogramma ingrediënt hoeveelheid' is ingevuld.",{"$f":"IFERROR(LEFT(B371,LEN(B371)-LEN('BES EN'!E371)-3),\"Doelsector\")","v":"Eenheid voedingsprogramma ingrediënt hoeveelheid"}]
["ANL1441","Functie of behandelmogelijkheid van het huidproduct (skinProductFunctionOrTreatmentCode)","Dit veld kan meerdere keren voorkomen.","Geeft de beschrijvende term aan, gebaseerd op productpromotie, etikettering of verpakking, die door de productfabrikant wordt gebruikt om de verschillende functies of behandelmogelijkheden van het huidproduct of hydraterende product aan te geven.","MOISTURISING (Hydraterend)\nACNE_OR_BLACKHEADS (Acne of mee-eters)","Vul hier de functie van het product in en/of voor welke behandelmogelijkheden het huidproduct of hydraterende product wordt gebruikt. Gebruik hiervoor de codelijst ‘SkinProductFunctionOrTreatmentCode’.",null,null,null,null,null,{"$f":"IFERROR(LEFT(B372,LEN(B372)-LEN('BES EN'!E372)-3),\"Doelsector\")","v":"Functie of behandelmogelijkheid van het huidproduct"}]
["ANL1442","Huidtype (targetSkinTypeCode)","Dit veld kan meerdere keren voorkomen.","Geeft de beschrijvende term aan, gebaseerd op productpromotie, etikettering of verpakking, die door de productfabrikant wordt gebruikt om het huidtype waarvoor het product bedoeld is te identificeren.","CRACKED (Gebarsten)\nOILY (Vettig)","Vul hier in voor welk huidtype het huidproduct wordt gebruikt. Gebruik hiervoor de codelijst ‘TargetSkinTypeCode’.",null,null,null,null,null,{"$f":"IFERROR(LEFT(B373,LEN(B373)-LEN('BES EN'!E373)-3),\"Doelsector\")","v":"Huidtype"}]
["ANL1443","Functie of behandelmogelijkheid van het haarproduct (hairProductFunctionOrTreatmentCode)","Dit veld kan meerdere keren voorkomen.","Geeft de beschrijvende term aan, gebaseerd op productpromotie, etikettering of verpakking, die door de productfabrikant wordt gebruikt om de verschillende functies of behandelmogelijkheden van het haarproduct aan te geven.","SPLIT_ENDS (gespleten punten)\nCONDITIONER (conditioner)","Vul hier de functie van het haarproduct in of voor welke behandelmogelijkheden het haarproduct wordt gebruikt. Gebruik hiervoor de codelijst ‘HairProductFunctionOrTreatmentCode’.",null,null,null,null,null,{"$f":"IFERROR(LEFT(B374,LEN(B374)-LEN('BES EN'!E374)-3),\"Doelsector\")","v":"Functie of behandelmogelijkheid van het haarproduct"}]
["ANL1444","Haartype (targetHairTypeCode)","Dit veld kan meerdere keren voorkomen.","Geeft de beschrijvende term aan, gebaseerd op productpromotie, etikettering of verpakking, die door de productfabrikant wordt gebruikt om het haartype waarvoor het product bedoeld is te identificeren.","WAVY (golvend)\nFRIZZY (pluizig)","Vul hier in voor welk haartype het haarproduct wordt gebruikt. Gebruik hiervoor de codelijst ‘TargetHairTypeCode’.",null,null,null,null,null,{"$f":"IFERROR(LEFT(B375,LEN(B375)-LEN('BES EN'!E375)-3),\"Doelsector\")","v":"Haartype"}]
["ANL1445","Natuurlijke haarkleurcode (naturalHairColourCode)","Dit veld kan meerdere keren voorkomen.","Geeft de beschrijvende term aan, gebaseerd op productpromotie, etikettering of verpakking, die door de productfabrikant wordt gebruikt om de natuurlijke haarkleur aan te geven waarvoor het product is bedoeld.","BLONDE (Blond)\nRED (Rood)","Vul hier in voor welke kleur natuurlijk haar het product wordt gebruikt. Gebruik hiervoor de codelijst ‘NaturalHairColourCode’.",null,null,null,null,null,{"$f":"IFERROR(LEFT(B376,LEN(B376)-LEN('BES EN'!E376)-3),\"Doelsector\")","v":"Natuurlijke haarkleurcode"}]
["ANL1446","Functie van de tandheelkundige producten (dentalProductFunctionCode)","Dit veld kan meerdere keren voorkomen.","Geeft de beschrijvende term aan, gebaseerd op productpromotie, etikettering of verpakking, die door de productfabrikant wordt gebruikt om het type tandheelkundige eigenschappen van het product te identificeren.","FRESH_BREATH (Frisse adem)\nTARTAR_CONTROL (Anti-tandsteen)","Vul hier in waarvoor het gebitsproduct wordt gebruikt.\nGebruik de codelijst ‘DentalProductFunctionCode’.",null,null,null,null,null,{"$f":"IFERROR(LEFT(B377,LEN(B377)-LEN('BES EN'!E377)-3),\"Doelsector\")","v":"Functie van de tandheelkundige producten"}]
["ANL1447","Tijdstip van gebruik (timeOfApplicationCode)","Dit veld kan meerdere keren voorkomen.","Geeft de beschrijvende term aan, gebaseerd op productpromotie, etikettering of verpakking, die door de productfabrikant wordt gebruikt om het tijdstip aan te geven waarop het product moet worden gebruikt.","DAY\nNIGHT","Vul hier in op welk tijdstip het product moet worden gebruikt. \nGebruik hiervoor de codelijst ‘TimeOfApplicationCode’.",null,null,null,null,null,{"$f":"IFERROR(LEFT(B378,LEN(B378)-LEN('BES EN'!E378)-3),\"Doelsector\")","v":"Tijdstip van gebruik"}]
["ANL1448","Code geslacht van de doelgroep (targetConsumerGender)",null,"Geeft aan wat het geslacht van de doelgroep is waarvoor het product is ontworpen.","FEMALE (Vrouw)\nMALE (Man)\nUNISEX (Unisex)","Geef in dit veld aan voor welk geslacht het product is ontworpen.\nGebruik hiervoor de codelijst ‘TargetConsumerGenderCode’.",null,null,null,null,null,{"$f":"IFERROR(LEFT(B379,LEN(B379)-LEN('BES EN'!E379)-3),\"Doelsector\")","v":"Code geslacht van de doelgroep"}]
["ANL1449","Code leeftijd van de doelgroep (targetConsumerAgeGroupCode)",null,"Een beschrijving van de leeftijdsgroep waarvoor het product is ontworpen. Voorbeelden zijn zuigeling, kind, puber, volwassene. Hier horen niet de leeftijdscategorieën thuis.","BABY (Baby)\nTEEN (Pubers)\nSENIOR (Senioren)","Geef hier aan voor welke leeftijdsgroep het product is ontworpen.\nGebruik hiervoor de codelijst ‘TargetConsumerAgeGroupCode’.",null,null,null,null,null,{"$f":"IFERROR(LEFT(B380,LEN(B380)-LEN('BES EN'!E380)-3),\"Doelsector\")","v":"Code leeftijd van de doelgroep"}]
["ANL1450","Substantie (formationTypeCode)",null,"Geeft de beschrijvende term aan, gebaseerd op productpromotie, etikettering of verpakking, die door de productfabrikant wordt gebruikt om de staat aan te geven waarin het product wordt verkocht.","CLAY (Klei)\nWIPE (Doekje)","Geef hier aan welke substantie het product heeft.\nGebruik hiervoor de codelijst ‘FormationTypeCode’.",null,null,null,null,null,{"$f":"IFERROR(LEFT(B381,LEN(B381)-LEN('BES EN'!E381)-3),\"Doelsector\")","v":"Substantie"}]
["ANL1451","Indicatie claim bestanddeel op verpakking (claimMarkedOnPackage)","Dit veld wordt in Nederland gecontroleerd in het kader van het datakwaliteitsprogramma.","Staat de claim die in de velden ‘Code type claim’ en ‘Code bestanddeelclaim’ is ingevuld op de verpakking?","FALSE","Geef hier aan of de claim die in het veld ‘Code bestanddeelclaim’ is ingevuld op de verpakking staat of niet.",null,null,"Verplicht als de claim die in het veld ‘Code bestanddeelclaim’ is ingevuld niet op de verpakking staat.",null,null,{"$f":"IFERROR(LEFT(B382,LEN(B382)-LEN('BES EN'!E382)-3),\"Doelsector\")","v":"Indicatie claim bestanddeel op verpakking"}]
["ANL1452","Indicatie dieettype op verpakking (isDietTypeMarkedOnPackage)","Dit veld wordt in Nederland gecontroleerd in het kader van het datakwaliteitsprogramma.","Staat het dieettype dat is ingevuld in het veld ‘dietTypeCode’ (of soms in het veld ‘dietTypeSubCode’) op de verpakking?","FALSE","Geef hier aan of de claim die is ingevuld in het veld ‘Code dieettype’ op de verpakking staat of niet.",null,null,"Verplicht, als de claim die in het veld ‘Code dieettype’ is ingevuld niet op de verpakking staat.",null,null,{"$f":"IFERROR(LEFT(B383,LEN(B383)-LEN('BES EN'!E383)-3),\"Doelsector\")","v":"Indicatie dieettype op verpakking"}]
["ANL1453","Code gereguleerde grenswaarde wel/niet overschreden (regulatoryActComplianceLevelCode)",null,"Code die de hoeveelheid van het product of de samenstelling ervan vergelijkt met drempelwaardes die zijn gedefinieerd door een verordening die is  ingevoerd in het veld ‘Type verordening/richtlijn’. Dit kan per regelgeving, markt of regio verschillen. Bijvoorbeeld de concentratielimiet voor precursoren voor explosieven waarvoor een beperking geldt, gedefinieerd in EU-verordening 2019/1148.","ABOVE_REGULATED_LEVELS<br />\nBELOW_REGULATED_LEVELS","Vul hier ‘ABOVE_REGULATED_LEVELS’ in als het product precursor(en) voor explosieven bevat boven de grenswaarde voor die precursor(en) zoals genoemd in Annex I van EU-wetgeving 2019/1148. Vul ‘BELOW_REGULATED_LEVELS’ in als de hoeveelheid van de precursor(en) gelijk aan of kleiner is dan de grenswaarde. Als het product meerdere precursoren bevat waarvan er sommige boven en sommige onder de grenswaarde komen, vult u ‘ABOVE_REGULATED_LEVELS’ in.",null,null,"Verplicht als bij ‘Type verordening/richtlijn’ de code ‘EXPLOSIVES_PRECURSORS_REGISTRATION’ is gebruikt en het veld ‘Is artikel conform regelgeving?’ gevuld is met ‘TRUE’.",null,null,{"$f":"IFERROR(LEFT(B384,LEN(B384)-LEN('BES EN'!E384)-3),\"Doelsector\")","v":"Code gereguleerde grenswaarde wel/niet overschreden"}]
["ANL1454","Waarden gedefinieerd in richtlijn (regulationLevelCodeReference)",null,"Een externe code die is gekoppeld aan een specifiek waarschuwingstype en mogelijk een beschrijving waarmee ontvangers artikelen met vergelijkbare waarschuwingsniveaus kunnen herkennen die niet kunnen worden verkregen uit een beschrijving. De informatie in dit veld kan afkomstig zijn uit een specifiek artikel van een wettelijke verordening. Bijvoorbeeld: - als de RegulationTypeCode ‘SMALL_PARTS’ is, zou de RegulationLevelCodeReference ‘Level 5’ zijn met codeDescription ‘Niet voor leeftijden onder de 3’ - als de RegulationTypeCode ‘BIOCIDE_REGULATION’ is, zou de RegulationLevelCodeReference ‘PT1’ zijn met codeDescription ‘Menselijke hygiëne’.","7697-37-2 (Salpeterzuur)<br />\n67-64-1 (Aceton)","Vul hier in welke precursoren (grondstoffen) voor explosieven in het product zitten (zie hiervoor EU-wetgeving 2019/1148). Gebruik hiervoor de Europese lokale codelijst.",null,null,"Verplicht voor producten die precursoren voor explosieven bevatten.",null,null,{"$f":"IFERROR(LEFT(B385,LEN(B385)-LEN('BES EN'!E385)-3),\"Doelsector\")","v":"Waarden gedefinieerd in richtlijn"}]
["ANL1455","Type beheerde lijst met chemische ingrediënten (chemicalIngredientScheme)","Als u dit veld invult, vul dan ook de velden ‘Identificatie chemisch ingrediënt’ en ‘Concentratie chemisch ingrediënt’ in.","Een beheerde lijst met chemische ingrediënten, bijvoorbeeld CAS.","CAS","Vul hier ‘CAS’ in voor producten die precursoren voor explosieven bevatten.",null,null,"Verplicht voor producten die precursoren voor explosieven bevatten.",null,null,{"$f":"IFERROR(LEFT(B386,LEN(B386)-LEN('BES EN'!E386)-3),\"Doelsector\")","v":"Type beheerde lijst met chemische ingrediënten"}]
["ANL1456","Gevarentype regelgevende instantie (dangerousGoodsRegulationAgency)",null,"Geeft de instantie aan die verantwoordelijk is voor een classificatiesysteem van gevaarlijke goederen.","SEVESO","Vul hier de gevarencategorie in die u wilt invullen in het veld ‘Gevarentype (ADR/BRZO)’. Voor de toepassing ADR-gevarentype selecteert u ‘ADR’ uit de codelijst ‘DangerousGoodsRegulationAgencyCode’, voor de toepassing BRZO/SEVESO gevarencategorie kiest u ‘SEVESO’ uit deze codelijst.",null,null,"Verplicht als het veld ‘Gevarentype (ADR/BRZO)’ gevuld is.",null,null,{"$f":"IFERROR(LEFT(B387,LEN(B387)-LEN('BES EN'!E387)-3),\"Doelsector\")","v":"Gevarentype regelgevende instantie"}]
["ANL1457","Code functie verpakking (packagingFunctionCode)","Dit veld is belangrijk voor schoonmaak-, verdelgings- en bestrijdingsmiddelen, meestal in vloeibare vorm.","Een code die wordt gebruikt om een specifieke functionaliteit te beschrijven van een verpakking die voortkomt uit specifieke processen of kenmerken van het verpakkingstype. Deze extra functionaliteiten kunnen van toepassing zijn op meerdere typen verpakkingen.","CHILD_RESISTANT_CLOSURE","Voer de code ‘CHILD_RESISTANT_CLOSURE’ in voor een kindveilige sluiting.",null,null,null,null,null,{"$f":"IFERROR(LEFT(B388,LEN(B388)-LEN('BES EN'!E388)-3),\"Doelsector\")","v":"Code functie verpakking"}]
["ANL1458","Productgroep (tradeItemGroupIdentificationCodeReference)","Gevaarlijke producten zijn producten waarvan de ADR-klasse de waarde 1 tot en met 9 heeft of waarvoor een SDS wettelijk verplicht is. Regelgeving spitst zich toe op specifieke productgroepen zoals bouwmaterialen, (timmer)hout, verf, batterijen of explosieven. De indeling in gevarenklassen is gebaseerd op wettelijke regelgeving en kan worden gebruikt in rapportages aan overheidsinstanties. Omdat de datapool bedoeld is voor internationaal gebruik worden alleen de codes voor de gevarenklasse opgeslagen in de datapool zonder hun betekenis. De betekenis van de code kan lokaal worden uitgedrukt in de betreffende taal (zie de bijbehorende codelijst).","Een code die door de leverancier of fabrikant is toegewezen om een handelsartikel logisch te groeperen, onafhankelijk van de GPC-code.","15","Geef hiermee de groep producten aan waartoe dit product behoort. Kies de juiste code uit de codelijst ‘tradeItemGroupIdentificationCodeReference’.",null,null,null,null,null,{"$f":"IFERROR(LEFT(B389,LEN(B389)-LEN('BES EN'!E389)-3),\"Doelsector\")","v":"Productgroep"}]
["ANL1459","Limited quantity waarde (dangerousGoodsLimitedQuantityIndex)","Op sommige veiligheidsbladen wordt het volume uitgedrukt in kilogram en op andere in liter of milliliter. Limited quantity wordt op het veiligheidsblad soms ook wel 'Beperkte hoeveelheid' genoemd.","Nummer dat de maximum toegestane netto inhoud van de binnenverpakking van een artikel aangeeft waarvoor de Limited Quantity regeling van het ADR regime mag worden toegepast.","876","Vul dit veld in als uw artikel valt onder de Limited Quantity regeling. Vermeld de eenheid in milliliter, liter of kilogram.<br />\n<br />\nSelecteer voor gevaarlijke stoffen met een veiligheidsblad (SDS) de waarde van het limited quantity volume uit hoofdstuk 14.7 van het SDS.",null,null,"Verplicht voor een artikel dat valt onder de limited quantity regeling.",null,null,{"$f":"IFERROR(LEFT(B390,LEN(B390)-LEN('BES EN'!E390)-3),\"Doelsector\")","v":"Limited quantity waarde"}]
["ANL1460","Eenheid limited quantity waarde (dangerousGoodsLimitedQuantityIndex/@measurementUnitCode)",null,"Een gestandaardiseerde, reproduceerbare eenheid waarmee een fysieke eigenschap kan worden gemeten.","MLT","Selecteer de juiste waarde uit de codelijst ‘measurementUnitCode’.",null,null,"Verplicht als 'Limited quantity waarde' is ingevuld bij de consumenteneenheid.","Verplicht als 'Limited quantity waarde' is ingevuld bij de handelseenheid.","Verplicht als 'Limited quantity waarde' is ingevuld bij de pallet.",{"$f":"IFERROR(LEFT(B391,LEN(B391)-LEN('BES EN'!E391)-3),\"Doelsector\")","v":"Eenheid limited quantity waarde"}]
["ANL1461","Is gevaarlijke stof een mengsel? (isDangerousSubstanceAMixture)",null,"Geeft aan of de gevaarlijke stof al dan niet een mengsel is van meerdere stoffen.","TRUE","Kies in dit veld voor ‘True’ als de informatie die u heeft vermeld in het veld ‘Gevarenaanduidingencode (Hazard)’ voor een mengsel is van gevaarlijke stoffen. Kies ‘False’ als de informatie die u daar vermeld niet voor een mengsel van gevaarlijke stoffen is.",null,null,"Verplicht als het veld ‘Gevarenaanduidingencode (Hazard)’ is ingevuld voor een mengsel van gevaarlijke stoffen.",null,null,{"$f":"IFERROR(LEFT(B392,LEN(B392)-LEN('BES EN'!E392)-3),\"Doelsector\")","v":"Is gevaarlijke stof een mengsel?"}]
["ANL1462","Code voor de kleur van de alcoholische drank (alcoholicBeverageColourCode)",null,"De beschrijvende term die door de leverancier gebruikt wordt om de kleur van de alcoholische drank weer te geven.","RED<br />\nROSE<br />\nAMBER<br />\nBROWN","Vul hier de code van de kleur van de alcoholische drank in. Kies hiervoor een code uit de codelijst ‘alcoholicBeverageColourCode’.",null,null,null,null,null,{"$f":"IFERROR(LEFT(B393,LEN(B393)-LEN('BES EN'!E393)-3),\"Doelsector\")","v":"Code voor de kleur van de alcoholische drank"}]
["ANL1463","Type alcoholische drank (alcoholBeverageTypeCode)",null,"Een code om aan te geven wat het type alcoholische drank is, bijvoorbeeld Spirit-Bourbon, Beer-German bock, Still wine-Ice wine.","SPARKLING_WINE_CHAMPAGNE<br />\nSTILL_WINE_VIN_DE_TABLE<br />\nBEER_LAGER<br />\nFLAVOURED_BEER","Vul hier de code van het type alcoholische drank in. Kies hiervoor een code uit de codelijst ‘alcoholBeverageTypeCode’.",null,null,null,null,null,{"$f":"IFERROR(LEFT(B394,LEN(B394)-LEN('BES EN'!E394)-3),\"Doelsector\")","v":"Type alcoholische drank"}]
["ANL1464","Zoetheid van het alcoholische product (sweetnessLevelOfAlcoholicBeverageCode)",null,"De term die door de leverancier wordt gebruikt om een specifiek niveau van zoetheid van een alcoholische drank aan te geven. ","BRUT<br />\nMEDIUM_DRY","Vul hier de code in die hoort bij de zoetheid van het alcoholische product. Kies hiervoor een code uit de codelijst 'sweetnessLevelOfAlcoholicBeverageCode'.",null,null,null,null,null,{"$f":"IFERROR(LEFT(B395,LEN(B395)-LEN('BES EN'!E395)-3),\"Doelsector\")","v":"Zoetheid van het alcoholische product"}]
["ANL1465","Code voor oorsprong van wijn (originOfWineCode)","De eerste twee letters van de code zijn de landcode, daarna komt de regio en indien nodig daarna nog de streek (bijvoorbeeld bij ‘FR_ALSACE_CREMANT D’ALSACE’).","Geeft de regio aan waar de wijn is geproduceerd.","FR_ALSACE_CREMANT D’ALSACE<br />\nAR_MENDOZA","Vul hier de code in die hoort bij de wijnregio waarin het product is geproduceerd. Kies hiervoor een code uit de codelijst ‘originOfWineCode’. ",null,null,null,null,null,{"$f":"IFERROR(LEFT(B396,LEN(B396)-LEN('BES EN'!E396)-3),\"Doelsector\")","v":"Code voor oorsprong van wijn"}]
["ANL1466","Code voor druivensoort (grapeVarietyCode)",null,"De druivensoort die voor de productie van deze wijn wordt gebruikt, bijvoorbeeld Merlot, uitgedrukt als een code.","SAUVIGNON_BLANC<br />\nSHIRAZ","Vul hier de code in die hoort bij de druivensoort die is gebruikt voor de productie van deze wijn. Kies hiervoor een code uit de codelijst ‘grapeVarietyCode’.",null,null,null,null,null,{"$f":"IFERROR(LEFT(B397,LEN(B397)-LEN('BES EN'!E397)-3),\"Doelsector\")","v":"Code voor druivensoort"}]
["ANL1467","Code voor smaakprofiel van de alcoholische drank (productCharacteristicValueCode)",null,"Geeft de beschrijvende term aan die de leverancier gebruikt om het karakteristieke smaak- of aromaprofiel van een alcoholische drank weer te geven.","EARTHY (aards)<br />\nRICH (rijk)","Vul hier de code in die hoort bij het karakteristieke type smaak- of aromaprofiel dat de alcoholische drank heeft. Kies hiervoor een code uit de codelijst ‘alcoholicBeverageCharacteristicCode’. Vul daarnaast bij ‘productCharacteristicCode’ de code ‘alcoholicBeverageCharacteristicDescription’ in.",null,null,null,null,null,{"$f":"IFERROR(LEFT(B398,LEN(B398)-LEN('BES EN'!E398)-3),\"Doelsector\")","v":"Code voor smaakprofiel van de alcoholische drank"}]
["ANL1468","Code verpakkingskenmerk (packagingFeatureCode)","Gebruik dit veld om retailers en consumenten aanvullende informatie te geven over verpakkingskenmerken die van invloed kunnen zijn op hun aankoopbeslissingen.<br />\n<br />\nU kunt dit veld meerdere keren gebruiken.","De code die kenmerken van de verpakking van het artikel beschrijft.","SCREW_CAP (Schroefdop)<br />\nNATURAL_CORK (Kurk)","Selecteer de juiste code uit de codelijst ‘packagingFeatureCode’.<br />\n<br />\nVoor wijn: Vul hier de code in die hoort bij het type sluiting van de fles. Kies hiervoor een code uit de codelijst ‘packagingFeatureCode’.",null,null,null,null,null,{"$f":"IFERROR(LEFT(B399,LEN(B399)-LEN('BES EN'!E399)-3),\"Doelsector\")","v":"Code verpakkingskenmerk"}]
["ANL1469","Merkomschrijving (brandMarketingDescription)",null,"Een marketingtekst die focust op het merk van het product. Bijvoorbeeld de geschiedenis van het merk.","Sinds 1888 is dit wijnhuis al actief en staat de kwaliteit van de wijnen voorop. Klein begonnen in Frankrijk, maar sindsdien uitgegroeid tot één van de meest beeldbepalende wijnhuizen ter wereld.","Vul hier de marketingtekst van uw merk in. Bijvoorbeeld de geschiedenis van het merk.",null,null,null,null,null,{"$f":"IFERROR(LEFT(B400,LEN(B400)-LEN('BES EN'!E400)-3),\"Doelsector\")","v":"Merkomschrijving"}]
["ANL1470","Code voor type basissmaak (typeOfBasicTasteCode)",null,"Geeft de basissmaak van een product aan. Samen met het veld ‘strongnessOfBasicTaste’ maakt dit duidelijk hoe sterk de basissmaak in het product aanwezig is.","BITTER<br />\nUMAMI","Vul hier de code in die hoort bij de basissmaak die in een product aanwezig is en waarvan u de sterkte wilt opgeven. Kies hiervoor een code uit de codelijst ‘typeOfBasicTasteCode’. De sterkte geeft u in het veld ‘Code voor de sterkte van de basissmaak’ aan.",null,null,null,null,null,{"$f":"IFERROR(LEFT(B401,LEN(B401)-LEN('BES EN'!E401)-3),\"Doelsector\")","v":"Code voor type basissmaak"}]
["ANL1471","Code voor de sterkte van de basissmaak (strongnessOfBasicTasteCode)",null,"Geeft de sterkte aan van de basissmaak die in het product aanwezig is.","VERY_LOW<br />\nMEDIUM","Vul hier de code in die hoort bij de sterkte van een basissmaak van een product. Kies hiervoor een code uit de codelijst ‘strongnessOfBasicTasteCode’.",null,null,null,null,null,{"$f":"IFERROR(LEFT(B402,LEN(B402)-LEN('BES EN'!E402)-3),\"Doelsector\")","v":"Code voor de sterkte van de basissmaak"}]
["ANL1472","Waarde van de bitterheid van bier (bitternessOfBeerMeasurement)","Vul de meeteenheid in het veld ‘Eenheid waarde bitterheid van bier’ in.","Geeft de beschrijvende term aan die de leverancier gebruikt om de bitterheid van bier te weergeven, uitgedrukt in IBU en/of EBU.","25","Vul hier de IBU- of EBU-waarde voor bier in.",null,null,null,null,null,{"$f":"IFERROR(LEFT(B403,LEN(B403)-LEN('BES EN'!E403)-3),\"Doelsector\")","v":"Waarde van de bitterheid van bier"}]
["ANL1473","Eenheid waarde bitterheid van bier (bitternessOfBeerMeasurement /@measurementUnitCode)",null,"Een gestandaardiseerde, reproduceerbare eenheid waarmee een fysieke eigenschap kan worden gemeten.","EBU","Selecteer de juiste waarde (EBU of IBU) uit de codelijst ‘bitternessOfBeerMeasurementUnitCode’.",null,null,"Verplicht, als het veld ‘Waarde van de bitterheid van bier’ is ingevuld.","Verplicht, als het veld ‘Waarde van de bitterheid van bier’ is ingevuld.","Verplicht, als het veld ‘Waarde van de bitterheid van bier’ is ingevuld.",{"$f":"IFERROR(LEFT(B404,LEN(B404)-LEN('BES EN'!E404)-3),\"Doelsector\")","v":"Eenheid waarde bitterheid van bier "}]
["ANL1474","Alternatieve kleurbeschrijving (colourDescription)","U kunt dit veld herhalen in meerdere talen.","De beschrijving van de kleur van het product.","Geel met rode strepen<br />\nDonkergrijs/zwart met donkerbruine ondertoon","Vul hier een nauwkeurige beschrijving van de kleur van het product in.",null,null,null,null,null,{"$f":"IFERROR(LEFT(B405,LEN(B405)-LEN('BES EN'!E405)-3),\"Doelsector\")","v":"Alternatieve kleurbeschrijving"}]
["ANL1475","Alternatieve kleurbeschrijving taalcode (colourDescription/@languageCode)",null,"Code die een taal specificeert. Toegestane codewaarden staan gespecificeerd in de GS1 codelijst 'LanguageCode'.","nl","Selecteer de correcte waarde uit de 'ISO 639-1 (2-alpha)' codelijst.",null,null,"Verplicht als het veld ‘Alternatieve kleurbeschrijving’ is ingevuld bij de consumenteneenheid.","Verplicht als het veld ‘Alternatieve kleurbeschrijving’ is ingevuld bij de handelseenheid.","Verplicht als het veld ‘Alternatieve kleurbeschrijving’ is ingevuld bij de pallet.",{"$f":"IFERROR(LEFT(B406,LEN(B406)-LEN('BES EN'!E406)-3),\"Doelsector\")","v":"Alternatieve kleurbeschrijving taalcode"}]
["ANL1476","Einddatum digital asset (fileEffectiveEndDateTime)",null,"De datum/tijd waarop het digital asset niet meer gebruikt kan worden.","2024-01-01T00:00:00 (jjjj-mm-ddTuu:mi:ss)","Als het digital asset dat u stuurt maar tot een bepaalde datum gebruikt mag worden, vult u dit veld in met deze datum.",null,null,"Verplicht als het digital asset na een bepaalde datum niet meer mag worden gebruikt.","Verplicht als het digital asset na een bepaalde datum niet meer mag worden gebruikt.","Verplicht als het digital asset na een bepaalde datum niet meer mag worden gebruikt.",{"$f":"IFERROR(LEFT(B407,LEN(B407)-LEN('BES EN'!E407)-3),\"Doelsector\")","v":"Einddatum digital asset"}]
["ANL1477","Code ingevroren vis (storageStateCode)","Dit veld wordt in Nederland gecontroleerd in het kader van het datakwaliteitsprogramma.","Een code die aangeeft of de vis ingevroren is geweest of niet.","NOT_PREVIOUSLY_FROZEN<br />\nPREVIOUSLY_FROZEN","Vul hier in of de vis ingevroren is geweest of niet. Selecteer daarvoor een code uit de codelijst ‘storageStateCode’.",null,null,"Verplicht voor een product waar vis in zit (volgens de EU-verordening 1379/2013) en als dit op het etiket/de verpakking staat.",null,null,{"$f":"IFERROR(LEFT(B408,LEN(B408)-LEN('BES EN'!E408)-3),\"Doelsector\")","v":"Code ingevroren vis"}]
["ANL1478","Wetenschappelijke naam van vis en schaal- en schelpdieren (speciesForFisheryStatisticsPurposesName)","Dit veld wordt in Nederland gecontroleerd in het kader van het datakwaliteitsprogramma.","De wetenschappelijke naam van vis en schaal- en schelpdieren.","Scomber scombrus (makreel)","Vul hier de wetenschappelijke naam in van de vis of van de schaal- of schelpdieren.",null,null,"Verplicht voor vis en schaal- en schelpdieren als dit op het etiket/de verpakking staat.",null,null,{"$f":"IFERROR(LEFT(B409,LEN(B409)-LEN('BES EN'!E409)-3),\"Doelsector\")","v":"Wetenschappelijke naam van vis en schaal- en schelpdieren"}]
["ANL1479","Geslacht (genus)","Dit veld wordt in Nederland gecontroleerd in het kader van het datakwaliteitsprogramma.","De wetenschappelijke naam van de categorie (de taxonomische rang) van het biologische classificatiesysteem die direct boven de ‘Soortaanduiding’ (species) komt.","Malus (appel)<br />\nEquus (paard)","Voer hier de naam van het geslacht van het product in. Dit is de Latijnse naam van een product en dan alleen het onderdeel dat met een hoofdletter begint. Bijvoorbeeld, de Latijnse naam voor appel is ‘Malus domestica’, de naam van het geslacht is dan ‘Malus’. Het onderdeel ‘domestica’ voert u in bij het veld ‘Soort’.",null,null,"Verplicht voor groente en fruit.",null,null,{"$f":"IFERROR(LEFT(B410,LEN(B410)-LEN('BES EN'!E410)-3),\"Doelsector\")","v":"Geslacht"}]
["ANL1480","Soortaanduiding (Species)","Dit veld wordt in Nederland gecontroleerd in het kader van het datakwaliteitsprogramma.","De wetenschappelijke naam van de categorie (taxonomische rang) van het biologische classificatiesysteem die direct onder het geslacht (genus) komt. De naam van een soort wordt in de taxonomische nomenclatuur weergegeven door een Latijns bijvoeglijk naamwoord of zelfstandig naamwoord\ngeschreven in kleine letters. Voor de soortnaam komt de naam van het geslacht (die begint met een hoofdletter), bijvoorbeeld Ananas comosus (de ananas) en Equus caballus (het paard).","domestica (appel)<br />\ncaballus (paard)","Voer hier de soortnaam van het product op. Dit is de Latijnse naam van een product en dan alleen het onderdeel dat met een kleine letter begint. Bijvoorbeeld, de Latijnse naam voor appel is ‘Malus domestica’, de naam van de soort is dan ‘domestica’. Het onderdeel ‘Malus’ voert u in bij het veld ‘Geslacht’.",null,null,"Verplicht voor groente en fruit.",null,null,{"$f":"IFERROR(LEFT(B411,LEN(B411)-LEN('BES EN'!E411)-3),\"Doelsector\")","v":"Soortaanduiding"}]
["ANL1481","Aanduiding niet-verpakt of voorverpakt (variableTradeItemTypeCode)",null,"De code die de afnemer informeert of het product voorverpakt of niet-verpakt is. Dit geldt voor producten die variabel zijn in gewicht.","PRE_PACKED","Door gebruik te maken van dit veld kunt u aangeven of uw in gewicht variërend product verpakt is. Selecteer de juiste code uit de codelijst ‘variableTradeItemTypeCode’.",null,null,"Verplicht voor groente, fruit en vlees.",null,null,{"$f":"IFERROR(LEFT(B412,LEN(B412)-LEN('BES EN'!E412)-3),\"Doelsector\")","v":"Aanduiding niet-verpakt of voorverpakt"}]
["ANL1482","Code bestanddeelclaim (nutritionalClaimNutrientElementCode)","Vul ook het veld ‘Code type claim’ in.<br />\nU kunt de combinatie van deze twee velden meerdere keren gebruiken.<br />\n<br />\nDit veld wordt in Nederland gecontroleerd in het kader van het datakwaliteitsprogramma.","De code om te verwijzen naar een specifiek bestanddeel in een product waarop een claim betrekking heeft.","GLUTEN<br />\nLATEX","Voer in dit veld in op welk bestanddeel van een product een bepaalde claim van toepassing is, dit kan zowel grafisch als in tekst op het product staan. Selecteer de juiste waarde uit de codelijst ‘nutritionalClaimNutrientElementCode’.",null,null,"Verplicht als op het etiket/de verpakking een claim over een specifiek bestanddeel van het product staat.",null,null,{"$f":"IFERROR(LEFT(B413,LEN(B413)-LEN('BES EN'!E413)-3),\"Doelsector\")","v":"Code bestanddeelclaim"}]
["ANL1483","Code type claim (nutritionalClaimTypeCode)","Vul ook het veld ‘Code bestanddeelclaim’ in.<br />\nU kunt de combinatie van deze twee velden meerdere keren gebruiken.<br />\n<br />\nDit veld wordt in Nederland gecontroleerd in het kader van het datakwaliteitsprogramma.","De code die het type claim aangeeft dat relevant is voor de ‘Code bestanddeelclaim’.","FREE_FROM<br />\nNO_ADDED","Vul in dit veld in wat er geclaimd wordt voor het bestanddeel dat u in het veld ‘Code bestanddeelclaim’ heeft ingevoerd. Selecteer de juiste waarde uit de codelijst ‘nutritionalClaimTypeCode’.",null,null,"Verplicht als het veld ‘Code bestanddeelclaim’ is gevuld.",null,null,{"$f":"IFERROR(LEFT(B414,LEN(B414)-LEN('BES EN'!E414)-3),\"Doelsector\")","v":"Code type claim"}]
["ANL1484","Aantal porties per verpakking meetnauwkeurigheid (numberOfServingsPerPackageMeasurementPrecisionCode)","U gebruikt dit veld niet als u ‘Minimum aantal porties per verpakking’ (numberOfSmallestUnitsPerPackage) en ‘Maximum aantal porties per verpakking’ (maximumNumberOfSmallestUnitsPerPackage) gebruikt. <br />\n<br />\nDit veld wordt in Nederland gecontroleerd in het kader van het datakwaliteitsprogramma.","De code die aangeeft of de op de verpakking aangegeven aantal porties per verpakking bij benadering is.","APPROXIMATELY","U gebruikt dit om de meetnauwkeurigheid aan te geven van het aantal porties dat het product bevat. Als volgens het etiket/de verpakking het ‘Aantal porties per verpakking’ niet exact dat aantal is, maar bij benadering/ongeveer, gebruikt u de code APPROXIMATELY. Selecteer de juiste waarde uit de codelijst ‘measurementPrecisionCode’.<br />\nU gebruikt dit veld samen met ‘Aantal porties per verpakking’.",null,null,"Verplicht als er op het etiket de meetnauwkeurigheid wordt aangegeven van het aantal porties per verpakking.",null,null,{"$f":"IFERROR(LEFT(B415,LEN(B415)-LEN('BES EN'!E415)-3),\"Doelsector\")","v":"Aantal porties per verpakking meetnauwkeurigheid"}]
["ANL1485","Code type bereiding (preparationTypeCode)","Het is mogelijk om dit veld meerdere keren te gebruiken.<br />\n<br />\nDit veld wordt in Nederland gecontroleerd in het kader van het datakwaliteitsprogramma.","Code die de techniek aangeeft die wordt gebruikt om het product klaar te maken voor consumptie. Bijvoorbeeld: bakken, koken.","AIR_FRY","Vul hier de methode in die gebruikt kan worden om het product klaar te maken voor consumptie. Selecteer de juiste waarde uit de codelijst ‘preparationTypeCode’. ",null,null,"Verplicht als de bereidingstechniek op het etiket/de verpakking staat.",null,null,{"$f":"IFERROR(LEFT(B416,LEN(B416)-LEN('BES EN'!E416)-3),\"Doelsector\")","v":"Code type bereiding"}]
["ANL1486","Code toestand producttemperatuur (tradeItemTemperatureConditionTypeCode)","Dit veld wordt in Nederland gecontroleerd in het kader van het datakwaliteitsprogramma.","De code die wordt gebruikt om de staat van het product te identificeren bij aankoop door de consument.","DEEP_FROZEN","Gebruik dit veld om aan de consument de temperatuurtoestand van het product bij aankoop mee te delen. Selecteer de juiste waarde uit de codelijst ‘tradeItemTemperatureConditionTypeCode’.",null,null,"Verplicht als de temperatuurtoestand van het product op moment van verkoop op het etiket/de verpakking staat.",null,null,{"$f":"IFERROR(LEFT(B417,LEN(B417)-LEN('BES EN'!E417)-3),\"Doelsector\")","v":"Code toestand producttemperatuur"}]
["ANL1487","Vorm van het product (tradeItemFormCode)",null,"Een code voor de vorm van het eigenlijke product, niet van de verpakking. Bijvoorbeeld OBLONG (rechthoekig).","ROUND (rond)","Met dit veld duidt u de vorm aan van het eigenlijke artikel (de inhoud van de verpakking). Selecteer de juiste waarde uit de codelijst ‘tradeItemFormCode’.",null,null,"Verplicht als het product in de categorie groente en fruit valt en de vorm van het artikel aan de koper moet worden gecommuniceerd.",null,null,{"$f":"IFERROR(LEFT(B418,LEN(B418)-LEN('BES EN'!E418)-3),\"Doelsector\")","v":"Vorm van het product"}]
["ANL1488","Beoogde consumentenleeftijd (targetConsumerAge)","Dit veld wordt in Nederland gecontroleerd in het kader van het datakwaliteitsprogramma.","De beschrijving van de beoogde leeftijd of leeftijdscategorie van de consument.","8-12 jaar (Lego Starwars)<br />\n6+ (It’s so me! Scrunchie maker)<br />\nGeef dit middel niet aan kinderen onder de 6 jaar, tenzij een arts dit heeft geadviseerd.","Vul hier de aanvullende tekst in die behoort bij de leeftijdsindicatie. In dit veld vult u de tekst in die aangeeft vanaf welke leeftijd een product (mogelijk) gebruikt kan worden (meestal onder de voorwaarde dat een arts dit heeft geadviseerd). <br />\n<br />\nVoor zelfzorggeneesmiddelen: Vul dit veld alleen in als u het/de veld(en) 'Leeftijdsindicatie vanaf' en/of 'Leeftijdsindicatie tot' ook heeft ingevuld. De tekst die waarschuwt dat een product onder een bepaalde leeftijd niet gebruikt mag worden, vult u in het veld 'Waarschuwingen en gebruiksbeperkingen' in.",null,null,"Verplicht indien de beoogde leeftijd of leeftijdscategorie op het etiket/de verpakking staat.",null,null,{"$f":"IFERROR(LEFT(B419,LEN(B419)-LEN('BES EN'!E419)-3),\"Doelsector\")","v":"Beoogde consumentenleeftijd"}]
["ANL1489","Beoogde consumentenleeftijd taalcode (targetConsumerAge/@languageCode)","Dit veld wordt in Nederland gecontroleerd in het kader van het datakwaliteitsprogramma.","Code die een taal specificeert. Toegestane codewaarden staan gespecificeerd in de GS1 codelijst 'LanguageCode'.","nl","Selecteer de correcte waarde uit de 'ISO 639-1 (2-alpha)' codelijst.",null,null,"Verplicht, als ‘Beoogde consumentenleeftijd’ is ingevuld bij de consumenteenheid.","Verplicht, als ‘Beoogde consumentenleeftijd’ is ingevuld bij de handelseenheid.","Verplicht, als ‘Beoogde consumentenleeftijd’ is ingevuld bij de pallet.",{"$f":"IFERROR(LEFT(B420,LEN(B420)-LEN('BES EN'!E420)-3),\"Doelsector\")","v":"Beoogde consumentenleeftijd taalcode"}]
[null,null,null,null,null,null,null,null,null,null,null,{"$f":"IFERROR(LEFT(B421,LEN(B421)-LEN('BES EN'!E421)-3),\"Doelsector\")","v":"Doelsector"}]
[null,null,null,null,null,null,null,null,null,null,null,{"$f":"IFERROR(LEFT(B422,LEN(B422)-LEN('BES EN'!E422)-3),\"Doelsector\")","v":"Doelsector"}]
[null,null,null,null,null,null,null,null,null,null,null,{"$f":"IFERROR(LEFT(B423,LEN(B423)-LEN('BES EN'!E423)-3),\"Doelsector\")","v":"Doelsector"}]
[null,null,null,null,null,null,null,null,null,null,null,{"$f":"IFERROR(LEFT(B424,LEN(B424)-LEN('BES EN'!E424)-3),\"Doelsector\")","v":"Doelsector"}]
[null,null,null,null,null,null,null,null,null,null,null,{"$f":"IFERROR(LEFT(B425,LEN(B425)-LEN('BES EN'!E425)-3),\"Doelsector\")","v":"Doelsector"}]
[null,null,null,null,null,null,null,null,null,null,null,{"$f":"IFERROR(LEFT(B426,LEN(B426)-LEN('BES EN'!E426)-3),\"Doelsector\")","v":"Doelsector"}]
[null,null,null,null,null,null,null,null,null,null,null,{"$f":"IFERROR(LEFT(B427,LEN(B427)-LEN('BES EN'!E427)-3),\"Doelsector\")","v":"Doelsector"}]
[null,null,null,null,null,null,null,null,null,null,null,{"$f":"IFERROR(LEFT(B428,LEN(B428)-LEN('BES EN'!E428)-3),\"Doelsector\")","v":"Doelsector"}]
[null,null,null,null,null,null,null,null,null,null,null,{"$f":"IFERROR(LEFT(B429,LEN(B429)-LEN('BES EN'!E429)-3),\"Doelsector\")","v":"Doelsector"}]
[null,null,null,null,null,null,null,null,null,null,null,{"$f":"IFERROR(LEFT(B430,LEN(B430)-LEN('BES EN'!E430)-3),\"Doelsector\")","v":"Doelsector"}]
[null,null,null,null,null,null,null,null,null,null,null,{"$f":"IFERROR(LEFT(B431,LEN(B431)-LEN('BES EN'!E431)-3),\"Doelsector\")","v":"Doelsector"}]
[null,null,null,null,null,null,null,null,null,null,null,{"$f":"IFERROR(LEFT(B432,LEN(B432)-LEN('BES EN'!E432)-3),\"Doelsector\")","v":"Doelsector"}]
[null,null,null,null,null,null,null,null,null,null,null,{"$f":"IFERROR(LEFT(B433,LEN(B433)-LEN('BES EN'!E433)-3),\"Doelsector\")","v":"Doelsector"}]
[null,null,null,null,null,null,null,null,null,null,null,{"$f":"IFERROR(LEFT(B434,LEN(B434)-LEN('BES EN'!E434)-3),\"Doelsector\")","v":"Doelsector"}]
[null,null,null,null,null,null,null,null,null,null,null,{"$f":"IFERROR(LEFT(B435,LEN(B435)-LEN('BES EN'!E435)-3),\"Doelsector\")","v":"Doelsector"}]
[null,null,null,null,null,null,null,null,null,null,null,{"$f":"IFERROR(LEFT(B436,LEN(B436)-LEN('BES EN'!E436)-3),\"Doelsector\")","v":"Doelsector"}]
[null,null,null,null,null,null,null,null,null,null,null,{"$f":"IFERROR(LEFT(B437,LEN(B437)-LEN('BES EN'!E437)-3),\"Doelsector\")","v":"Doelsector"}]
[null,null,null,null,null,null,null,null,null,null,null,{"$f":"IFERROR(LEFT(B438,LEN(B438)-LEN('BES EN'!E438)-3),\"Doelsector\")","v":"Doelsector"}]

{"sheet":"BES EN","index":5,"n_rows":438,"n_cols":36,"rows_kept":438,"cut":false,"hidden":true,"merged":[]}
["Id","Status","LocalName","ModelID","GDSNName","Version","XPath","DataType","CodeList","FieldSizeMin","FieldSizeMax","Multiplicity","Bricks","Sector","Grouping","SequenceNum","Category","Recipients","UsageNotes","Definition","Example","Instructions","ProcessDescription","RelatedInfo","EUMatureDataModel","ConsumerUnitsLevel","ConsumerUnitsDescription","TradeUnitsLevel","TradeUnitsDescription","LogisticsUnitsLevel","LogisticsUnitsDescription","CreatedBy","LastModifiedBy","CreatedOn","LastModifiedOn","Local Name (short)"]
["ANL1001","Active","Information provider (GLN) (gln)","MNL0020","gln","3.1.17","/catalogue_item_notification:catalogueItemNotificationMessage/transaction/documentCommand/catalogue_item_notification:catalogueItemNotification/catalogueItem/tradeItem/informationProviderOfTradeItem/gln","GLN",null,"","","0..1","","FMCG","General","002","Health;Fruit&Vegetable;Petfood;Food","","The combination of the information provider GLN (Global Location Number), GTIN (Global Trade Item Number) and target market identifies a unique set of attributes for a trade item. The information provider is not necessarily the data owner, but he is responsible for maintaining and supplying the trade item data.","Unique international number identifying the party providing the information about the trade item.","5410000999993","Enter the unique GLN (Global Location Number) identifying the party providing the information about the trade item in GDSN.\nIt is recommended to use the same GLN as that used for EDI purposes. ",null,null,"False","M","Mandatory","M"," ","M"," ","Sarina","Sarina","9/27/2021 6:38:10 PM","11/4/2021 8:56:37 PM",{"$f":"IF(A2=\"ANL1420\",\"Targetsector\",LEFT(C2,LEN(C2)-LEN('BES EN'!E2)-3))","v":"Information provider (GLN)"}]
["ANL1002","Active","Name of information provider (partyName)","MNL0020","partyName","3.1.17","/catalogue_item_notification:catalogueItemNotificationMessage/transaction/documentCommand/catalogue_item_notification:catalogueItemNotification/catalogueItem/tradeItem/informationProviderOfTradeItem/partyName","string",null,"1","200","0..1","","FMCG","Fruit&Vegetable;General","381","Food;Petfood;Fruit&Vegetable;Health","",null,"Name of the party supplying the information about the trade item.","De Groentjes","This field is populated by the data pool with the name of the GLN from the field 'Information provider (GLN)' when using the web interface.",null,null,"False","O"," ","O"," ","O"," ","Sarina","Sarina","9/27/2021 6:38:10 PM","11/4/2021 8:56:38 PM",{"$f":"IF(A3=\"ANL1420\",\"Targetsector\",LEFT(C3,LEN(C3)-LEN('BES EN'!E3)-3))","v":"Name of information provider"}]
["ANL1003","Active","Global trade item number (GTIN) (gtin)","MNL0020","gtin","3.1.17","/catalogue_item_notification:catalogueItemNotificationMessage/transaction/documentCommand/catalogue_item_notification:catalogueItemNotification/catalogueItem/tradeItem/gtin","GTIN",null,"","","1..1","","FMCG","General","001","Food;Petfood;Fruit&Vegetable;Health","","The combination of the information provider GLN (Global Location Number), GTIN (Global Trade Item Number) and target market identifies a unique set of attributes for a trade item.<br />\nDo not use an internal code (starting with 20-29) as a GTIN. You must use a unique GTIN.<br />\nIf you need to enter empty returnable packaging (e.g. a load carrier or crate) in the GDSN data pool, prefix the 13-digit code for that item with a leading zero. For more information on returnable packaging codes see 'the BENELUX list of returnable trade item codes':<br />\n<a href=\" https://www.gs1.nl/en/industries/reliable-product-data-food-health-and-beauty/gs1-data-source-for-the-exchange-of-2-2\" style=\"color:blue; text-decoration:underline\" target=\"_blank\">  https://www.gs1.nl/en/industries/reliable-product-data-food-health-and-beauty/gs1-data-source-for-the-exchange-of-2-2</a> (document 'Benelux RTI list').","Unique international number identifying the trade item.","05410000123459","Enter the 14-digit Global Trade Item Number (GTIN) used for the unique identification of the trade item.\nIf the GTIN has fewer than 14 digits, add leading zeroes to complete the number.\nSpecific procedures apply for products with variable weights, returnable assets and consumer empties (cf. specific documentation).","For additional explanation see: <a href=\" https://www.gs1.nl/en/industries/food-health-and-beauty/gs1-data-source/entering-data/attribute-explorer-attributes-list\" style=\"color:blue; text-decoration:underline\" target=\"_blank\"> https://www.gs1.nl/en/industries/food-health-and-beauty/gs1-data-source/entering-data/attribute-explorer-attributes-list</a>",null,"False","M","Mandatory","M"," ","M"," ","Sarina","Sarina","9/27/2021 6:38:10 PM","11/4/2021 8:56:39 PM",{"$f":"IF(A4=\"ANL1420\",\"Targetsector\",LEFT(C4,LEN(C4)-LEN('BES EN'!E4)-3))","v":"Global trade item number (GTIN)"}]
["ANL1004","Active","Target market country code (targetMarketCountryCode)","MNL0020","targetMarketCountryCode","3.1.17","/catalogue_item_notification:catalogueItemNotificationMessage/transaction/documentCommand/catalogue_item_notification:catalogueItemNotification/catalogueItem/tradeItem/targetMarket/targetMarketCountryCode","CodeList","BENELUX_GDSN_CountryCode","","","1..1","","FMCG","General","003","Petfood;Health;Fruit&Vegetable;Food","","The combination of the information provider GLN (Global Location Number), GTIN (Global Trade Item Number) and target market identifies a unique set of attributes for a trade item.<br />\n<br />\nNote:<br />\n- The GS1 code for Global Market (001) can be used to publish to the &lsquo;global&rsquo; target market. This option is meant to be used only to publish your product data for (a) target market(s) where GDSN is not supported. Beware that in this case local data such as Tax, Import, Regulation information etc cannot be synchronised. This target market can be applicable for the traveling industry, with tax free shops and cruise ships in particular.<br />\n- Do not use the GS1 codes voor EU and Non-EU-countries to indicate a target market in this field. These codes can only be used for fields to indicate provenance/origin.","The country where the product is delivered and sold. The code identifying the &lsquo;target market&rsquo; refers to a country or higher level geographical unit.\n","528\n","Select a correct code from the list of country codes, this list contains the &#39;ISO 3166-1&#39; code list and some GS1 codes.<br />\nFor target market Netherlands, select 528<br />\nFor target market Belgium, select 056<br />\nFor target market Luxembourg, select 442<br />\nIf a product is delivered to retailers in different countries, a separate product needs to be created for each separate target market. You can do this by copying and pasting the information from the first target market and publishing it for the next target market, taking into account the possible local differences (e.g. tax information).\n","For additional explanation see: <a href=\" https://www.gs1.nl/en/industries/food-health-and-beauty/gs1-data-source/entering-data/attribute-explorer-attributes-list\" style=\"color:blue; text-decoration:underline\" target=\"_blank\"> https://www.gs1.nl/en/industries/food-health-and-beauty/gs1-data-source/entering-data/attribute-explorer-attributes-list</a>",null,"False","M","Mandatory","M"," ","M"," ","Sarina","Sarina","9/27/2021 6:38:11 PM","11/4/2021 8:56:40 PM",{"$f":"IF(A5=\"ANL1420\",\"Targetsector\",LEFT(C5,LEN(C5)-LEN('BES EN'!E5)-3))","v":"Target market country code"}]
["ANL1005","Active","GPC classification category code (gpcCategoryCode)","MNL0020","gpcCategoryCode","3.1.17","/catalogue_item_notification:catalogueItemNotificationMessage/transaction/documentCommand/catalogue_item_notification:catalogueItemNotification/catalogueItem/tradeItem/gDSNTradeItemClassification/gpcCategoryCode","string",null,"8","8","1..1","","FMCG","Datakwalitijd 2.0;General","004","Fruit&Vegetable;Health;Petfood;Food","","If you need to search for a GPC classification code, see <a href=\" https://www.gs1.org/services/gpc-browser\" style=\"color:blue; text-decoration:underline\" target=\"_blank\"> https://www.gs1.org/services/gpc-browser</a>.<br />\n<br />\nThis field is checked in the context of the Dutch data quality program.","Code specifying a product category according to the GS1 Global Product Classification (GPC) standard.\n","10000006 (Vegetables - Unprepared/Unprocessed (Shelf Stable))\n","Select the correct GPC classification code, use the GPC-browser tool for this (<a href=\" https://www.gs1.org/services/gpc-browser\" style=\"color:blue; text-decoration:underline\" target=\"_blank\"> https://www.gs1.org/services/gpc-browser</a>). Can you not find the appropriate GPC classification code for your product? Use in that case the GPC classification code that most closely approximates the product category.<br />\nThe code 99999999 must not be used.<br />\n<br />\nIn the case of an article that is composed of several articles (composite article, for more information, please refer to the link below in Process Description to the explanatory document), you must enter for each article the GPC code that applies for that specific article. The composite article itself must also have a GPC code. Enter for the composite article the code of the applicable assortment or the cross-segment code.\n","For additional explanation see <a href=\" https://www.gs1.nl/en/industries/food-health-and-beauty/gs1-data-source/entering-data/attribute-explorer-attributes-list\" style=\"color:blue; text-decoration:underline\" target=\"_blank\"> https://www.gs1.nl/en/industries/food-health-and-beauty/gs1-data-source/entering-data/attribute-explorer-attributes-list</a><br />\n<br />\nLocal Dutch applicable validation rules are: 500.022, 500.158, 500.172, 500.173, 500.176, 500.193, 500.199, 500.200, 500.201, 500.202, 500.203, 500.204, 500.205, 500.211, 500.215, 500.220, 500.222, 500.223, 500.230, 500.240, 500.254, 500.255, 500.256, 500.257, 500.258, 500.259, 500.260, 500.265, 500.266, 500.276, 500.277, 500.278, 500.287, 500.288, 500.316, 500.317, 500.319, 500.330, 500.331, 500.332, 500.333, 500.334, 500.344, 500.345, 500.346, 500.347, 500.348, 500.354, 500.356, 500.374, 500.375, 500.379\n",null,"False","M","Mandatory","M"," ","M"," ","Sarina","Sarina","9/27/2021 6:38:11 PM","11/4/2021 8:56:41 PM",{"$f":"IF(A6=\"ANL1420\",\"Targetsector\",LEFT(C6,LEN(C6)-LEN('BES EN'!E6)-3))","v":"GPC classification category code"}]
["ANL1006","Active","Trade item unit descriptor (tradeItemUnitDescriptorCode)","MNL0020","tradeItemUnitDescriptorCode","3.1.17","/catalogue_item_notification:catalogueItemNotificationMessage/transaction/documentCommand/catalogue_item_notification:catalogueItemNotification/catalogueItem/tradeItem/tradeItemUnitDescriptorCode","CodeList","BENELUX_GDSN_TradeItemUnitDescriptorCode","","","0..1","","FMCG","General;Hierarchy","005","Food;Petfood;Fruit&Vegetable;Health","","For detailed examples of product types and the hierarchical structure see Section 4 of the document &#39;GDSN Trade Item Implementation Guide&#39; (<a href=\" https://www.gs1.org/gdsn/trade_implementation_guide\" style=\"color:blue; text-decoration:underline\" target=\"_blank\"> https://www.gs1.org/gdsn/trade_implementation_guide</a>).","Code identifying the trade item&#39;s level in the hierarchy (e.g. pallet, box, base unit).\n","BASE_UNIT_OR_EACH\n","Select a value from the &#39;TradeItemUnitDescriptorList&#39; code list.\n","- <a href=\" https://www.gs1.org/gdsn/trade_implementation_guide\" style=\"color:blue; text-decoration:underline\" target=\"_blank\"> https://www.gs1.org/gdsn/trade_implementation_guide</a> (Trade Item Implementation Guide)<br />\n<br />\nLocal Dutch applicable validation rules are: 500.137, 500.139, 500.141, 500.142, 500.143, 500.144, 500.145, 500.146, 500.147, 500.176, 500.269, 500.270, 500.278, 500.284, 500.306, 500.321, 500.335, 500.376\n",null,"False","M","Mandatory","M"," ","M"," ","Sarina","Sarina","9/27/2021 6:38:11 PM","11/4/2021 8:56:42 PM",{"$f":"IF(A7=\"ANL1420\",\"Targetsector\",LEFT(C7,LEN(C7)-LEN('BES EN'!E7)-3))","v":"Trade item unit descriptor"}]
["ANL1007","Active","Type of display (displayTypeCode)","MNL0020","displayTypeCode","3.1.17","/catalogue_item_notification:catalogueItemNotificationMessage/transaction/documentCommand/catalogue_item_notification:catalogueItemNotification/catalogueItem/tradeItem/displayUnitInformation/displayTypeCode","CodeList","BENELUX_GDSN_DisplayTypeCode","","","0..1","","FMCG","General","006","Petfood;Fruit&Vegetable;Health;Food",""," ","A code determining the type of display that a product is.","FDR (Floor Display Ready Packaging)","Mandatory if the 'Is trade item a display unit' field is filled in with the value 'TRUE'.<br />\nThe possible codes depend on the selected 'tradeItemUnitDescriptorCode' (see the 'Trade item unit descriptor' field).<br />\nThe codes 'FDR' and 'FND' are only allowed on 'PALLET' of 'DISPLAY_SHIPPER'. The codes 'SDR' and 'SND' are only allowed on 'CASE' or 'PACK_OR_INNER_PACK'. The code 'UNS' is allowed for all trade item unit descriptor codes.","Local Dutch applicable validation rules are: 500.244, 500.268, 500.269, 500.270",null,"False","CM","Mandatory if it's a display.","CM","if it's a display.","CM","if it's a display.","Sarina","Sarina","9/27/2021 6:38:11 PM","11/4/2021 8:56:43 PM",{"$f":"IF(A8=\"ANL1420\",\"Targetsector\",LEFT(C8,LEN(C8)-LEN('BES EN'!E8)-3))","v":"Type of display"}]
["ANL1008","Active","Effective date time (effectiveDateTime)","MNL0020","effectiveDateTime","3.1.17","/catalogue_item_notification:catalogueItemNotificationMessage/transaction/documentCommand/catalogue_item_notification:catalogueItemNotification/catalogueItem/tradeItem/tradeItemSynchronisationDates/effectiveDateTime","DateTime",null,"","","0..1","","FMCG","General","007","Food;Fruit&Vegetable;Health;Petfood","","All product data needs to be available before the delivery of the product.\nThe effective date should therefore always be earlier than, or equal to, the start availability date.\n","The date and time when the information contents of the master data are valid. Valid = correct or true.","2016-05-31T08:00:00 (yyyy-mm-ddThh:mi:ss)","Update this field whenever there is a change in the cycle (from a new item to deletion of an item) so as to distinguish the various data versions.<br />\nThis field is also used for changes to the item that do not require a new GTIN. In that case it indicates the effective date of the new item information.",null,null,"False","M","Mandatory","M"," ","M"," ","Sarina","Sarina","9/27/2021 6:38:11 PM","11/4/2021 8:56:44 PM",{"$f":"IF(A9=\"ANL1420\",\"Targetsector\",LEFT(C9,LEN(C9)-LEN('BES EN'!E9)-3))","v":"Effective date time"}]
["ANL1009","Active","Contact (GLN) (gln)","MNL0020","gln","3.1.17","/catalogue_item_notification:catalogueItemNotificationMessage/transaction/documentCommand/catalogue_item_notification:catalogueItemNotification/catalogueItem/tradeItem/tradeItemContactInformation/gln","GLN",null,"","","0..1","","FMCG","General","008","Food;Petfood;Health","","You should use this field if the party that synchronises the data is different from the party responsible for the trade item in the local target market. For example, Global Company is the party that synchronises the data from a head office in America, that GLN is entered in the 'Information provider (GLN)' field. Global Company Nederland is the party that is the contact for the local target market. Their GLN is entered in this field.<br />\nImportant: do not enter the brand owner’s GLN unless the brand owner is also the local contact.","Unique international number identifying the party that is the buyer’s primary local contact. The information provider’s GLN (Global Location Number) may be different from the local GLN.","5410000111111","If the GLN of the information provider is not the same as the GLN of the company that is responsible for the trade item in the local target market, enter the local supplier GLN in this field.<br />\nIf you populate this field, you should also populate the ‘Contact Type’ field, selecting the code BZL (Licensee Registrar).<br />\nA GLN always comprises 13 characters.",null,null,"False","O"," ","O"," ","O"," ","Sarina","Sarina","9/27/2021 6:38:11 PM","11/4/2021 8:56:45 PM",{"$f":"IF(A10=\"ANL1420\",\"Targetsector\",LEFT(C10,LEN(C10)-LEN('BES EN'!E10)-3))","v":"Contact (GLN)"}]
["ANL1010","Active","Additional trade item identification (additionalTradeItemIdentification)","MNL0020","additionalTradeItemIdentification","3.1.17","/catalogue_item_notification:catalogueItemNotificationMessage/transaction/documentCommand/catalogue_item_notification:catalogueItemNotification/catalogueItem/tradeItem/additionalTradeItemIdentification","String80",null,"1","80","0..n","","FMCG","General;Fruit&Vegetable;Datakwalitijd 2.0;Label health&beauty","009","Petfood;Health;Fruit&Vegetable;Food","","Pre-packed variable weight and price codes are only used in store to indicate the weight or price of the product, for instance. These codes start with 20, 21, 22, 23 or 28.<br />\n<br />\nThis field is checked in the context of the Dutch data quality program.\n","Additional information enabling products to be identified, e.g. the supplier&#39;s article number.\n","02312345000002 (for type: FOR_INTERNAL_USE_1)<br />\n01331 (for type: RVG)<br />\n4121 (for type PLU)<br />\n22290=16831\n","If you use pre-packed variable weight or price codes on your products, enter them here, using the code &#39;FOR_INTERNAL_USE_1&#39;. Always use leading zeroes to pad the number of digits out to 14. For more information about the use of leading zeroes please refer to chapter 33 of the &#39;GDSN Trade Item Implementation Guide&#39; (<a href=\" https://www.gs1.org/gdsn/trade_implementation_guide\" style=\"color:blue; text-decoration:underline\" target=\"_blank\"> https://www.gs1.org/gdsn/trade_implementation_guide</a>).<br />\nIf you populate this field, you should also populate the &lsquo;Additional Trade Item Identification Type&rsquo; field. This field can be used more than once, if necessary. Identification is always based on the GTIN (Global Trade Item Number).<br />\n<br />\nFor self-care medicines: enter the RVG number&#39; (self-care medicinal items), the RVH number (homeopathic self-care medicinal items) or the EU registration number here. Only the values &#39;RVG&#39;, &#39;RVH&#39; and &#39;EU_MEDICAL_PRODUCT_NUMBER&#39; from the code list additionalTradeItemIdentificationTypeCode are allowed.<br />\n<br />\nFor fresh fruit and vegetables: you can enter the four-digit PLU (Price Look-Up) code of the product here. This code indicates the variety of the product. You can find these codes on the website of IFPS Global (<a href=\" http://www.ifpsglobal.com/Identification/PLU-Codes/PLU-codes-Search\" style=\"color:blue; text-decoration:underline\" target=\"_blank\"> http://www.ifpsglobal.com/Identification/PLU-Codes/PLU-codes-Search</a>). If you enter the PLU code in this field, also enter the value &lsquo;PLU&rsquo; in the &lsquo;Additional trade item identification type&rsquo; field.\n","- <a href=\" https://www.gs1.org/gdsn/trade_implementation_guide\" style=\"color:blue; text-decoration:underline\" target=\"_blank\"> https://www.gs1.org/gdsn/trade_implementation_guide</a> (Trade Item Implementation Guide)<br />\n<br />\nLocal Dutch applicable validation rules are:500.018, 500.176, 500.280, 500.281\n",null,"False","CM","Mandatory for self-care medicines.","O"," ","O"," ","Sarina","Sarina","9/27/2021 6:38:11 PM","11/4/2021 8:56:46 PM",{"$f":"IF(A11=\"ANL1420\",\"Targetsector\",LEFT(C11,LEN(C11)-LEN('BES EN'!E11)-3))","v":"Additional trade item identification"}]
["ANL1011","Active","Additional trade item identification type (additionalTradeItemIdentification/@additionalTradeItemIdentificationTypeCode)","MNL0020","additionalTradeItemIdentification/@additionalTradeItemIdentificationTypeCode","3.1.17","/catalogue_item_notification:catalogueItemNotificationMessage/transaction/documentCommand/catalogue_item_notification:catalogueItemNotification/catalogueItem/tradeItem/additionalTradeItemIdentification/@additionalTradeItemIdentificationTypeCode","CodeList","BENELUX_GDSN_AdditionalTradeItemIdentificationTypeCode","","","1..1","","FMCG","Label health&beauty;General;Datakwalitijd 2.0;Fruit&Vegetable","010","Food;Petfood;Health;Fruit&Vegetable","","If you populate this field, you should also populate the &#39;Additional Trade Item Identification&#39; field. This field can be used more than once, if necessary.<br />\n<br />\nThis field is checked in the context of the Dutch data quality program.","Code specifying the &#39;Additional Trade Item Identification&#39;.\n","FOR_INTERNAL_USE_1<br />\nRVG<br />\nPLU\n","Select the correct value from the &#39;additionalTradeItemIdentificationTypeCode&#39; code list.<br />\n<br />\nIf the code &#39;FOR_INTERNAL_USE_1&#39; is used, a GTIN (Global Trade Item Number) with leading zeroes must be entered in the &lsquo;Additional Trade Item Identification&rsquo; field.<br />\n<br />\nFor pharmaceuticals: select the applicable value from the &#39;additionalTradeItemIdentificationTypeCode&#39; code list only &#39;RVG&#39; for self-care medicines, &#39;RVH&#39; for homeopathic products or &#39;EU_MEDICAL_PRODUCT_NUMBER&#39; as EU registration number are allowed).\n","Local Dutch applicable validation rules are: 500.018, 500.199, 500.200, 500.201, 500.202, 500.203, 500.204, 500.205, 500.220, 500.223\n",null,"False","CM","Mandatory in case the field 'Additional trade item identification' is populated. ","CM","Mandatory in case the field 'Additional trade item identification' is populated. ","CM","in case the field 'Additional trade item identification' is populated. ","Sarina","Sarina","9/27/2021 6:38:12 PM","11/4/2021 8:56:47 PM",{"$f":"IF(A12=\"ANL1420\",\"Targetsector\",LEFT(C12,LEN(C12)-LEN('BES EN'!E12)-3))","v":"Additional trade item identification type"}]
["ANL1012","Active","Import classification value (importClassificationValue)","MNL0020","importClassificationValue","3.1.17","/catalogue_item_notification:catalogueItemNotificationMessage/transaction/documentCommand/catalogue_item_notification:catalogueItemNotification/catalogueItem/tradeItem/tradeItemInformation/extension/*[namespace-uri()='urn:gs1:gdsn:place_of_item_activity:xsd:3' and local-name()='placeOfItemActivityModule']/importClassification/importClassificationValue","string",null,"1","70","0..1","","FMCG","General","011","Health;Petfood;Fruit&Vegetable;Food","","The value that is filled in, is not being checked. For the current list of Intrastat codes see for the Netherlands: <a href=\" https://www.cbs.nl/nl-nl/deelnemers-enquetes/deelnemers-enquetes/bedrijven/onderzoek/internationale-handel-in-goederen/idep-codelijsten\" style=\"color:blue; text-decoration:underline\" target=\"_blank\"> https://www.cbs.nl/nl-nl/deelnemers-enquetes/deelnemers-enquetes/bedrijven/onderzoek/internationale-handel-in-goederen/idep-codelijsten</a>. Select the list with &#39;goederencodes&#39; and search for your product. Enter the codes without spaces in GS1 Data Source.<br />\nFor the current list of Intrastat codes see for Belgium and Luxembourg: <a href=\" https://www.nbb.be/fr/statistiques/commerce-exterieur/nomenclatures\" style=\"color:blue; text-decoration:underline\" target=\"_blank\"> https://www.nbb.be/fr/statistiques/commerce-exterieur/nomenclatures</a>. Select the list &#39;la nomenclature 2020&nbsp;au format PDF&#39; and search for your product. Enter the corresponding code without spaces in CDB.\n","A classification of import and export items by taxes and rates.\n","32089001\n","On CE level always provide the 8-digit INTRASTAT code in combination with importClassificationTypeCode = &#39;INTRASTAT&#39; (see the &#39;Import classification type&#39; field).<br />\n<br />\nThis field can be filled in more than once, if necessary.\n","- <a href=\" https://www.cbs.nl/nl-nl/deelnemers-enquetes/deelnemers-enquetes/bedrijven/onderzoek/internationale-handel-in-goederen/idep-codelijsten\" style=\"color:blue; text-decoration:underline\" target=\"_blank\"> https://www.cbs.nl/nl-nl/deelnemers-enquetes/deelnemers-enquetes/bedrijven/onderzoek/internationale-handel-in-goederen/idep-codelijsten</a><br />\n<br />\n- <a href=\" https://www.nbb.be/fr/statistiques/commerce-exterieur/nomenclatures\" style=\"color:blue; text-decoration:underline\" target=\"_blank\"> https://www.nbb.be/fr/statistiques/commerce-exterieur/nomenclatures</a>.<br />\n<br />\nLocal Dutch applicable validation rules are: 500.164, 500.229\n",null,"False","M","Mandatory","O"," ","O"," ","Sarina","Sarina","9/27/2021 6:38:12 PM","11/4/2021 8:56:48 PM",{"$f":"IF(A13=\"ANL1420\",\"Targetsector\",LEFT(C13,LEN(C13)-LEN('BES EN'!E13)-3))","v":"Import classification value"}]
["ANL1013","Active","Import classification type (importClassificationTypeCode)","MNL0020","importClassificationTypeCode","3.1.17","/catalogue_item_notification:catalogueItemNotificationMessage/transaction/documentCommand/catalogue_item_notification:catalogueItemNotification/catalogueItem/tradeItem/tradeItemInformation/extension/*[namespace-uri()='urn:gs1:gdsn:place_of_item_activity:xsd:3' and local-name()='placeOfItemActivityModule']/importClassification/importClassificationTypeCode","CodeList","BENELUX_GDSN_ImportClassificationTypeCode","","","0..1","","FMCG","General","012","Petfood;Health;Fruit&Vegetable;Food","",null,"Code for the body that controls the importation or exportation of the trade item.\n","INTRASTAT\n","Select the correct value from the 'importClassificationTypeCode' code list. If you fill in this field, you should also fill in the 'Import Classification Value' field. This field can be filled in more than once, if necessary. At least one instance of this field should have the value INTRASTAT.\n","Local Dutch applicable validation rules are: 500.148, 500.164, 500.229\n",null,"False","M","Mandatory","O"," ","O"," ","Sarina","Sarina","9/27/2021 6:38:12 PM","11/4/2021 8:56:49 PM",{"$f":"IF(A14=\"ANL1420\",\"Targetsector\",LEFT(C14,LEN(C14)-LEN('BES EN'!E14)-3))","v":"Import classification type"}]
["ANL1014","Active","Trade item country of origin (countryCode)","MNL0020","countryCode","3.1.17","/catalogue_item_notification:catalogueItemNotificationMessage/transaction/documentCommand/catalogue_item_notification:catalogueItemNotification/catalogueItem/tradeItem/tradeItemInformation/extension/*[namespace-uri()='urn:gs1:gdsn:place_of_item_activity:xsd:3' and local-name()='placeOfItemActivityModule']/placeOfProductActivity/countryOfOrigin/countryCode","CodeList","BENELUX_GDSN_CountryCode","","","1..1","","FMCG","General","013","Petfood;Food;Fruit&Vegetable;Health","","The field may occur multiple times. For more information on how to use country of origin see Section 10 of the &#39;Trade Item Implementation Guide&#39; on the international website of GS1 (<a href=\" https://www.gs1.org/gdsn/trade_implementation_guide\" style=\"color:blue; text-decoration:underline\" target=\"_blank\"> https://www.gs1.org/gdsn/trade_implementation_guide</a>). The ISO country code list (ISO 3166-1) does not contain codes for regions (for example: EU), GS1 has created a separate codelist for this. The codelist attached to this attribute contains the codes from the ISO country code list and the GS1 codelist.\n","The country where the trade item was produced. The code should be taken from the &#39;ISO country&#39; code list (ISO 3166-1).\n","528 (Nederland)\n","Select a value from the list, e.g.:<br />\nChina (156)<br />\nUnited Kingdom (826)<br />\n<br />\nIf a product may originate from multiple origins, list all possible countries of origin.\n","- <a href=\" https://www.gs1.org/gdsn/trade_implementation_guide\" style=\"color:blue; text-decoration:underline\" target=\"_blank\"> https://www.gs1.org/gdsn/trade_implementation_guide</a> (Trade Item Implementation Guide)<br />\n<br />\nLocal Dutch applicable validation rules are: 500.271\n",null,"False","M","Mandatory","CM"," Mandatory for the Netherlands only for packed fresh fruits and vegetables","O"," ","Sarina","Sarina","9/27/2021 6:38:12 PM","11/4/2021 8:56:50 PM",{"$f":"IF(A15=\"ANL1420\",\"Targetsector\",LEFT(C15,LEN(C15)-LEN('BES EN'!E15)-3))","v":"Trade item country of origin"}]
["ANL1015","Active","Preliminary item status code (preliminaryItemStatusCode)","MNL0020","preliminaryItemStatusCode","3.1.17","/catalogue_item_notification:catalogueItemNotificationMessage/transaction/documentCommand/catalogue_item_notification:catalogueItemNotification/catalogueItem/tradeItem/preliminaryItemStatusCode","CodeList","BENELUX_GDSN_PreliminaryItemStatusCode","","","0..1","","FMCG","General","014","Fruit&Vegetable;Petfood;Food;Health","","If the status of a child has the value &lsquo;PRELIMINARY&rsquo;, the status of the parent must not be &lsquo;FINAL&rsquo;. If the status of an article has the value &lsquo;PRELIMINARY&rsquo; or &lsquo;FINAL&rsquo;, the status of this article must be the same in all published hierarchies in which it appears. For more information about article hierarchies, please refer to the link below in Process Description to the explanatory document.\n","A code indicating whether the trade item in question contains data that:<br />\n- The information provider intends to correct (or to supplement with additional values) due to the fact that data is still unknown by pre-production (PRELIMINARY), or whether that<br />\n- The trade item has all attribute values that belong to the &#39;go to market&#39; status (FINAL).\n","PRELIMINARY\n","When using this field, the &#39;First Ship Date Time&#39; field must also be filled in. Select a value from the &#39;preliminaryItemStatusCode&#39; code list. Product data may be communicated with the status &#39;PRELIMINARY&#39; if it is communicated before the deadline for the product introduction. After that, the article information may no longer be &#39;PRELIMINARY&#39;.\n","For additional explanation see <a href=\" https://www.gs1.nl/en/industries/food-health-and-beauty/gs1-data-source/entering-data/attribute-explorer-attributes-list\" style=\"color:blue; text-decoration:underline\" target=\"_blank\"> https://www.gs1.nl/en/industries/food-health-and-beauty/gs1-data-source/entering-data/attribute-explorer-attributes-list</a>",null,"False","O"," ","O"," ","O"," ","Sarina","Sarina","9/27/2021 6:38:12 PM","11/4/2021 8:56:51 PM",{"$f":"IF(A16=\"ANL1420\",\"Targetsector\",LEFT(C16,LEN(C16)-LEN('BES EN'!E16)-3))","v":"Preliminary item status code"}]
["ANL1016","Active","First ship date time (firstShipDateTime)","MNL0020","firstShipDateTime","3.1.17","/catalogue_item_notification:catalogueItemNotificationMessage/transaction/documentCommand/catalogue_item_notification:catalogueItemNotification/catalogueItem/tradeItem/tradeItemInformation/extension/*[namespace-uri()='urn:gs1:gdsn:delivery_purchasing_information:xsd:3' and local-name()='deliveryPurchasingInformationModule']/deliveryPurchasingInformation/firstShipDateTime","DateTime",null,"","","0..1","","FMCG","General","015","Food;Petfood;Fruit&Vegetable;Health",""," ","Indicates the earliest date on which the trade item can be shipped. This is independent of any specific ship-from location.","2016-03-09T00:00:00+00:00","Should be provided if 'preliminaryItemStatusCode' is populated. If the status is PRELIMINARY, the date should be in the future. ",null,null,"False","CM","Mandatory in case the 'Preliminary item status code' field is populated.","O"," ","O"," ","Sarina","Sarina","9/27/2021 6:38:12 PM","11/4/2021 8:56:53 PM",{"$f":"IF(A17=\"ANL1420\",\"Targetsector\",LEFT(C17,LEN(C17)-LEN('BES EN'!E17)-3))","v":"First ship date time"}]
["ANL1017","Active","Trade item description (tradeItemDescription)","MNL0020","tradeItemDescription","3.1.17","/catalogue_item_notification:catalogueItemNotificationMessage/transaction/documentCommand/catalogue_item_notification:catalogueItemNotification/catalogueItem/tradeItem/tradeItemInformation/extension/*[namespace-uri()='urn:gs1:gdsn:trade_item_description:xsd:3' and local-name()='tradeItemDescriptionModule']/tradeItemDescriptionInformation/tradeItemDescription","Description200",null,"","","0..n","","FMCG","Description;Biocides;Detergents;Label health&beauty","021","Food;Fruit&Vegetable;Health;Petfood","","The information in this field is meant to make the product easily recognizable and distinguishable from other products. The unique description of a product with the brand indication, the product indication, the content indication and the packaging indication is stated in this field. The supplier takes care to provide a unique description of each product.","Text describing the trade item or service in a unique way.\n","Nutricia Nutrilon opvolgmelk standaard2 850 gram bus<br />\nBrand name: Nutricia,<br />\nSub brand: Nutrilon,<br />\nFunctional productname: opvolgmelk,<br />\nVariant: standaard2,<br />\nNet content: 850 gram and<br />\nPackaging type code: bus.\n","Enter the unique trade item description of a product with the following information:<br />\n- Brand indication <br />\nYou must use the &lsquo;Brand name&rsquo;, &lsquo;Sub brand&rsquo; fields for the brand indication. It is not permitted to abbreviate the brand name/sub brand, unless the brand name/sub brand is shown on the packaging as an abbreviation, examples are AH, P&amp;G, HEMA, COOP, M&amp;M&rsquo;s or LU. The brand name and sub brand should match the packaging.<br />\n- Product indication <br />\nYou can use the &lsquo;Functional name&rsquo;, &lsquo;Variant&rsquo; fields for the product indication to uniquely describe the product. Make the product indication as specific as possible to be able to distinguish between different products. Note: when you use information from the &lsquo;Functional name&rsquo; field, it should make the trade item description more clear to the buyer.<br />\n- Content indication <br />\nYou must use the &lsquo;Net content &amp; measurement&rsquo; fields for the content indication. The packaging indication should be clear/comprehensible to the consumer. A consumer does not understand the code &lsquo;H87&rsquo;, so use &lsquo;pieces&rsquo; instead.<br />\n- Packaging indication <br />\nYou can use the &lsquo;Packaging type code&rsquo; field for the packaging indication. It is only mandatory to add the packaging indication if needed to uniquely describe a product. The packaging indication should be clear/comprehensible to the consumer. For example, do not use the code &lsquo;BBG&rsquo; but use &lsquo;bag in box&rsquo; instead.<br />\n<br />\nFor target market 056 (Belgium): it is mandatory to enter the attribute in Dutch, French, German and English.<br />\nFor target market 442 (Luxembourg): it is mandatory to enter the attribute in French, German and English.<br />\nFor target market 528 (Netherlands): it is mandatory to have at least one instance with language code nl.\n","Local Dutch applicable validation rules are: 500.156\n",null,"False","M","Mandatory","M"," ","M"," ","Sarina","Sarina","9/27/2021 6:38:12 PM","11/4/2021 8:56:54 PM",{"$f":"IF(A18=\"ANL1420\",\"Targetsector\",LEFT(C18,LEN(C18)-LEN('BES EN'!E18)-3))","v":"Trade item description"}]
["ANL1018","Active","Trade item description language code (tradeItemDescription/@languageCode)","MNL0020","tradeItemDescription/@languageCode","3.1.17","/catalogue_item_notification:catalogueItemNotificationMessage/transaction/documentCommand/catalogue_item_notification:catalogueItemNotification/catalogueItem/tradeItem/tradeItemInformation/extension/*[namespace-uri()='urn:gs1:gdsn:trade_item_description:xsd:3' and local-name()='tradeItemDescriptionModule']/tradeItemDescriptionInformation/tradeItemDescription/@languageCode","CodeList","BENELUX_GDSN_LanguageCode","","","1..1","","FMCG","Description;Biocides;Label health&beauty;Detergents","022","Petfood;Food;Health;Fruit&Vegetable","","This field is checked in the context of the Dutch data quality program.","Code specifying a language. Allowed code values are specified in GS1 code list 'LanguageCode'.","nl","Select the correct value from the 'ISO 639-1 (2-alpha)' code list.","- To find the applicable language codes, see: <a href=\" http://www.loc.gov/standards/iso639-2/php/code_list.php\" style=\"color:blue; text-decoration:underline\" target=\"_blank\"> http://www.loc.gov/standards/iso639-2/php/code_list.php</a> <br />\n<br />\nLocal Dutch applicable validation rules are: 500.156 ",null,"False","M","Mandatory","M"," ","M"," ","Sarina","Sarina","9/27/2021 6:38:13 PM","11/4/2021 8:56:55 PM",{"$f":"IF(A19=\"ANL1420\",\"Targetsector\",LEFT(C19,LEN(C19)-LEN('BES EN'!E19)-3))","v":"Trade item description language code"}]
["ANL1019","Active","Brand name (brandName)","MNL0020","brandName","3.1.17","/catalogue_item_notification:catalogueItemNotificationMessage/transaction/documentCommand/catalogue_item_notification:catalogueItemNotification/catalogueItem/tradeItem/tradeItemInformation/extension/*[namespace-uri()='urn:gs1:gdsn:trade_item_description:xsd:3' and local-name()='tradeItemDescriptionModule']/tradeItemDescriptionInformation/brandNameInformation/brandName","string",null,"1","70","1..1","","FMCG","Detergents;Label health&beauty;Biocides;Datakwalitijd 2.0;Petfood;Description","023","Petfood;Health;Fruit&Vegetable;Food","","The brand name must be shown on the actual packaging and should be identical on all levels of the product hierarchy.<br />\n<br />\nThis field is checked in the context of the Dutch data quality program.\n","The name of the brand under which the trade item is sold and promoted.\n","You may choose one of the following options:<br />\nBrand name: Nutricia Nutrilon<br />\nor<br />\nBrand name: Nutricia Sub brand: Nutrilon<br />\nBoth options are correct. Take care to choose one option for entering brand name and sub brand and use this option for all other products of the same brand. Consequently, if you choose for the brand name Nutricia Nutrilon, you have to enter this brand name for all products of the same brand. Example used in the &#39;Trade item description&#39; field:<br />\nNutricia Nutrilon opvolgmelk standaard2 850 gram bus<br />\nBrand name: Nutricia,<br />\nSub brand: Nutrilon,<br />\nFunctional name: opvolgmelk,<br />\nVariant: standaard2,<br />\nNet content &amp; measurement: 850 gram<br />\nand Packaging type code: bus.\n","The brand name should be identical to what is shown on the packaging. Always spell the brand name in the same way, using punctuation and upper case and lower case uniformly.<br />\nIn the case of unbranded items enter the value &lsquo;UNBRANDED&rsquo;.<br />\nIn the case of combination packages containing various brands (e.g. a display or gift pack) enter the value &lsquo;MIXED&rsquo;.<br />\nIt is not permitted to abbreviate the brand name, unless the brand name is shown on the packaging as an abbreviation, examples are AH, P&amp;G, HEMA, COOP, M&amp;M&rsquo;s or LU.<br />\nIn some cases you can recognize a brand name by the &reg;mark.<br />\nThe &lsquo;Brand Name&rsquo; and &lsquo;Sub Brand&rsquo; fields together make up the total brand description on the packaging. You determine which has to be the brand name and which the sub brand. Make sure you use it consistently. This means that for all products of the same brand, you enter the brand name and sub brand in the same way.\n","Local Dutch applicable validation rules are: 500.289, 500.290\n",null,"False","M","Mandatory","M"," ","M"," ","Sarina","Sarina","9/27/2021 6:38:13 PM","11/4/2021 8:56:57 PM",{"$f":"IF(A20=\"ANL1420\",\"Targetsector\",LEFT(C20,LEN(C20)-LEN('BES EN'!E20)-3))","v":"Brand name"}]
["ANL1022","Active","Sub brand (subBrand)","MNL0020","subBrand","3.1.17","/catalogue_item_notification:catalogueItemNotificationMessage/transaction/documentCommand/catalogue_item_notification:catalogueItemNotification/catalogueItem/tradeItem/tradeItemInformation/extension/*[namespace-uri()='urn:gs1:gdsn:trade_item_description:xsd:3' and local-name()='tradeItemDescriptionModule']/tradeItemDescriptionInformation/brandNameInformation/subBrand","string",null,"1","70","0..1","","FMCG","Detergents;Description;Petfood;Datakwalitijd 2.0;Biocides;Label health&beauty","026","Food;Health;Petfood","","The sub brand must be shown on the actual packaging and should be identical on all levels of the product hierarchy. You can only use this field if the &lsquo;Brand Name&rsquo; field is also used.<br />\n<br />\nThis field is checked in the context of the Dutch data quality program.","The name of a sub brand. A sub brand applies if a brand contains series which are marketed separately.\n","Example used in &#39;Trade item description&#39; field:<br />\nNutricia Nutrilon opvolgmelk standaard2 850 gram bus<br />\nBrand name: Nutricia,<br />\nSub brand: Nutrilon,<br />\nFunctionale name: opvolgmelk,<br />\nVariant: standaard2,<br />\nNet content &amp; measurement: 850 gram&nbsp;<br />\nand Packaging type code: bus.\n","Enter the sub brand shown on the item and/or packaging. It is the supplier who decides whether there is a sub brand. Always spell the sub brand in the same way, using punctuation and upper case and lower case uniformly.<br />\nIt is not permitted to abbreviate the sub brand, unless the sub brand is shown on the packaging as an abbreviation, examples are AH, P&amp;G, HEMA, COOP, M&amp;M&rsquo;s or LU.<br />\nIn some cases you can recognize a sub brand by the &reg;mark.<br />\nThe sub brand and the brand name together make up the total brand description specified on the packaging. You determine which has to be the brand name and which the sub brand. Make sure you use it consistently. This means that for all products of the same brand, you enter the brand name and sub brand in the same way.\n","Local Dutch applicable validation rules are: 500.289, 500.291\n",null,"False","O"," ","O"," ","O"," ","Sarina","Sarina","9/27/2021 6:38:13 PM","11/4/2021 8:56:58 PM",{"$f":"IF(A21=\"ANL1420\",\"Targetsector\",LEFT(C21,LEN(C21)-LEN('BES EN'!E21)-3))","v":"Sub brand"}]
["ANL1025","Active","Functional name (functionalName)","MNL0020","functionalName","3.1.17","/catalogue_item_notification:catalogueItemNotificationMessage/transaction/documentCommand/catalogue_item_notification:catalogueItemNotification/catalogueItem/tradeItem/tradeItemInformation/extension/*[namespace-uri()='urn:gs1:gdsn:trade_item_description:xsd:3' and local-name()='tradeItemDescriptionModule']/tradeItemDescriptionInformation/functionalName","Description35",null,"","","0..n","","FMCG","Label health&beauty;Detergents;Biocides;Petfood;Datakwalitijd 2.0;Description","029","Fruit&Vegetable;Petfood;Health;Food","","The &lsquo;Functional name&rsquo; and &lsquo;Variant&rsquo; fields should be used to uniquely describe the product. Consequently, the information entered in this field should be as specific and detailed as possible. If variants of the product exist, enter these variants in the &lsquo;Variant&rsquo; field.<br />\n<br />\nThis field is checked in the context of the Dutch data quality program.","Text indicating the essence of the item for consumers.\n","Functional name: Kauwgom, Variant: peppermint.<br />\nFunctional name: Soep, Variant: kip, tomaat<br />\nFunctional name: Shampoo, Variant: antiroos<br />\nFunctional name: Wasmiddel, Variant: lentebries, zeebries<br />\nFunctional name: Rijst, Variant: pandan, basmati<br />\n<br />\nExample used in &#39;Trade item description&#39; field:<br />\nNutricia Nutrilon opvolgmelk standaard2 850 gram bus<br />\nBrand name: Nutricia,<br />\nSub brand: Nutrilon, Functional name: opvolgmelk,<br />\nVariant: standaard2,<br />\nNet content &amp; measurement: 850 gram<br />\nand Packaging type code: bus.<br />\n<br />\nBiocides:<br />\nProtect against mosquitoes and ticks.\n","Populate the gist of the trade item by answering the question ‘What is it?’. Be as specific as possible. This field may not contain any brand names.<br />\n<br />\nBiocides: also enter the use of the biocide here, as stated on the packaging. If the use is stated there multiple times, enter the short variant in this field.<br />\n<br />\nFor target market 056 (Belgium): it is mandatory to enter the attribute in Dutch, French, German and English.<br />\nFor target market 442 (Luxembourg): it is mandatory to enter the attribute in French, German and English.<br />\nFor target market 528 (Netherlands): it is mandatory to have at least one instance with language code nl.",null,null,"False","M","Mandatory","M"," ","M"," ","Sarina","Sarina","9/27/2021 6:38:13 PM","11/4/2021 8:57:00 PM",{"$f":"IF(A22=\"ANL1420\",\"Targetsector\",LEFT(C22,LEN(C22)-LEN('BES EN'!E22)-3))","v":"Functional name"}]
["ANL1026","Active","Functional name language code (functionalName/@languageCode)","MNL0020","functionalName/@languageCode","3.1.17","/catalogue_item_notification:catalogueItemNotificationMessage/transaction/documentCommand/catalogue_item_notification:catalogueItemNotification/catalogueItem/tradeItem/tradeItemInformation/extension/*[namespace-uri()='urn:gs1:gdsn:trade_item_description:xsd:3' and local-name()='tradeItemDescriptionModule']/tradeItemDescriptionInformation/functionalName/@languageCode","CodeList","BENELUX_GDSN_LanguageCode","","","1..1","","FMCG","Detergents;Biocides;Label health&beauty;Description;Petfood;Datakwalitijd 2.0","030","Fruit&Vegetable;Health;Food;Petfood","","This field is checked in the context of the Dutch data quality program.","Code specifying a language. Allowed code values are specified in GS1 code list 'LanguageCode'.","nl","Select the correct value from the 'ISO 639-1 (2-alpha)' code list.","For additional explanation see <a href=\" https://www.gs1.nl/en/industries/food-health-and-beauty/gs1-data-source/entering-data/attribute-explorer-attributes-list\" style=\"color:blue; text-decoration:underline\" target=\"_blank\"> https://www.gs1.nl/en/industries/food-health-and-beauty/gs1-data-source/entering-data/attribute-explorer-attributes-list</a> <br />\n<br />\n- To find the applicable language codes, see: <a href=\" http://www.loc.gov/standards/iso639-2/php/code_list.php\" style=\"color:blue; text-decoration:underline\" target=\"_blank\"> http://www.loc.gov/standards/iso639-2/php/code_list.php</a> ",null,"False","M","Mandatory","M"," ","M"," ","Sarina","Sarina","9/27/2021 6:38:13 PM","11/4/2021 8:57:02 PM",{"$f":"IF(A23=\"ANL1420\",\"Targetsector\",LEFT(C23,LEN(C23)-LEN('BES EN'!E23)-3))","v":"Functional name language code"}]
["ANL1027","Active","Variant description (variantDescription)","MNL0020","variantDescription","3.1.17","/catalogue_item_notification:catalogueItemNotificationMessage/transaction/documentCommand/catalogue_item_notification:catalogueItemNotification/catalogueItem/tradeItem/tradeItemInformation/extension/*[namespace-uri()='urn:gs1:gdsn:trade_item_description:xsd:3' and local-name()='tradeItemDescriptionModule']/tradeItemDescriptionInformation/variantDescription","Description500",null,"","","0..n","","FMCG","Description;Datakwalitijd 2.0;Petfood;Label health&beauty;Biocides;Detergents","031","Health;Fruit&Vegetable;Petfood;Food","","Together with the functional name, this field describes the product specifically. Should be the same as the variant shown on the actual product packaging.<br />\n<br />\nThis field is checked in the context of the Dutch data quality program.","Free text field used to identify the variant of the product. Variants are the distinguishing characteristics that differentiate products with the same brand and size including such things as the particular flavor, fragrance, taste.\n","Functional name: Kauwgom, Variant: peppermint.<br />\nFunctional name: Soep , Variant: kip, tomaat<br />\nFunctional name: Shampoo, Variant: antiroos<br />\nFunctional name: Wasmiddel, Variant: lentebries, zeebries<br />\nFunctional name: rijst, Variant: pandan, basmati<br />\n<br />\nExample used in &#39;Trade item description&#39; field:<br />\nNutricia Nutrilon opvolgmelk standaard2 850 gram bus<br />\nBrand name: Nutricia,<br />\nSub brand: Nutrilon,<br />\nFunctional name: opvolgmelk,<br />\nVariant: standaard2,<br />\nNet content &amp; measurement: 850 gram<br />\nand Packaging type code: bus.\n","This attribute is mandatory when there are different variants of the trade item. It is not permitted to enter text in this field that you have also used in the &lsquo;brand name&rsquo; and/or &lsquo;sub brand&rsquo; fields.\n",null,null,"False","CM","Mandatory if there are different variants of the same type of item and the variant is not entered in ‘Functional name’.","CM","if there are different variants of the same type of item and the variant is not entered in ‘Functional name’.","CM","if there are different variants of the same type of item and the variant is not entered in ‘Functional name’.","Sarina","Sarina","9/27/2021 6:38:13 PM","11/4/2021 8:57:03 PM",{"$f":"IF(A24=\"ANL1420\",\"Targetsector\",LEFT(C24,LEN(C24)-LEN('BES EN'!E24)-3))","v":"Variant description"}]
["ANL1028","Active","Variant description language code (variantDescription/@languageCode)","MNL0020","variantDescription/@languageCode","3.1.17","/catalogue_item_notification:catalogueItemNotificationMessage/transaction/documentCommand/catalogue_item_notification:catalogueItemNotification/catalogueItem/tradeItem/tradeItemInformation/extension/*[namespace-uri()='urn:gs1:gdsn:trade_item_description:xsd:3' and local-name()='tradeItemDescriptionModule']/tradeItemDescriptionInformation/variantDescription/@languageCode","CodeList","BENELUX_GDSN_LanguageCode","","","1..1","","FMCG","Petfood;Description;Detergents;Label health&beauty;Datakwalitijd 2.0;Biocides","032","Petfood;Food;Health;Fruit&Vegetable","","This field is checked in the context of the Dutch data quality program.","Free text field used to identify the variant of the product. Variants are the distinguishing characteristics that differentiate products with the same brand and size including such things as the particular flavor, fragrance, taste.","nl","Select the correct value from the 'ISO 639-1 (2-alpha)' code list.","For additional explanation see <a href=\" https://www.gs1.nl/en/industries/food-health-and-beauty/gs1-data-source/entering-data/attribute-explorer-attributes-list\" style=\"color:blue; text-decoration:underline\" target=\"_blank\"> https://www.gs1.nl/en/industries/food-health-and-beauty/gs1-data-source/entering-data/attribute-explorer-attributes-list</a> <br />\n<br />\n- To find the applicable language codes, see: <a href=\" http://www.loc.gov/standards/iso639-2/php/code_list.php\" style=\"color:blue; text-decoration:underline\" target=\"_blank\"> http://www.loc.gov/standards/iso639-2/php/code_list.php</a> ",null,"False","CM","Mandatory in case the 'Variant description' field is populated.","CM","in case the 'Variant description' field is populated.","CM","in case the 'Variant description' field is populated.","Sarina","Sarina","9/27/2021 6:38:13 PM","11/4/2021 8:57:05 PM",{"$f":"IF(A25=\"ANL1420\",\"Targetsector\",LEFT(C25,LEN(C25)-LEN('BES EN'!E25)-3))","v":"Variant description language code"}]
["ANL1029","Active","Description short (descriptionShort)","MNL0020","descriptionShort","3.1.17","/catalogue_item_notification:catalogueItemNotificationMessage/transaction/documentCommand/catalogue_item_notification:catalogueItemNotification/catalogueItem/tradeItem/tradeItemInformation/extension/*[namespace-uri()='urn:gs1:gdsn:trade_item_description:xsd:3' and local-name()='tradeItemDescriptionModule']/tradeItemDescriptionInformation/descriptionShort","Description35",null,"","","0..n","","FMCG","Description","033","Food;Fruit&Vegetable;Petfood;Health","",null,"The name or short description of the trade item identifying it in the data pool.\n","Stimorol Fresh &amp; Clean Peppermint\n","Provide a short description of the trade item to identify it at the Point Of Sale (POS). Avoid abbreviations as much as possible (abbreviations of units of measurement like g for grams and l for litres are allowed), so as to keep the description easy to read.<br />\n<br />\nTarget Market 056 (Belgium): it is mandatory to enter the attribute in Dutch, French, German and English.<br />\nTarget Market 442 (Luxembourg): it is mandatory to enter the attribute in French, German and English.<br />\nTarget Market 528 (Netherlands): it is mandatory to have at least one instance with language code &#39;nl&#39;.\n","Local Dutch applicable validation rules are: 500.249\n",null,"False","M","Mandatory","O"," ","O"," ","Sarina","Sarina","9/27/2021 6:38:14 PM","11/4/2021 8:57:07 PM",{"$f":"IF(A26=\"ANL1420\",\"Targetsector\",LEFT(C26,LEN(C26)-LEN('BES EN'!E26)-3))","v":"Description short"}]
["ANL1030","Active","Description short language code (descriptionShort/@languageCode)","MNL0020","descriptionShort/@languageCode","3.1.17","/catalogue_item_notification:catalogueItemNotificationMessage/transaction/documentCommand/catalogue_item_notification:catalogueItemNotification/catalogueItem/tradeItem/tradeItemInformation/extension/*[namespace-uri()='urn:gs1:gdsn:trade_item_description:xsd:3' and local-name()='tradeItemDescriptionModule']/tradeItemDescriptionInformation/descriptionShort/@languageCode","CodeList","BENELUX_GDSN_LanguageCode","","","1..1","","FMCG","Description","034","Fruit&Vegetable;Health;Food;Petfood",""," ","Code specifying a language. Allowed code values are specified in GS1 code list 'LanguageCode'.","nl","Select the correct value from the 'ISO 639-1 (2-alpha)' code list.","For additional explanation see <a href=\" https://www.gs1.nl/en/industries/food-health-and-beauty/gs1-data-source/entering-data/attribute-explorer-attributes-list\" style=\"color:blue; text-decoration:underline\" target=\"_blank\"> https://www.gs1.nl/en/industries/food-health-and-beauty/gs1-data-source/entering-data/attribute-explorer-attributes-list</a><br /> \n<br />\n- To find the applicable language codes, see: <a href=\" http://www.loc.gov/standards/iso639-2/php/code_list.php\" style=\"color:blue; text-decoration:underline\" target=\"_blank\"> http://www.loc.gov/standards/iso639-2/php/code_list.php</a> <br />\n<br />\nLocal Dutch applicable validation rules are:\n500.249",null,"False","M","Mandatory","CM","Mandatory, if ‘Description short’ is populated for the trade unit.","CM","Mandatory, if ‘Description short’ is populated for the logistic unit.","Sarina","Sarina","9/27/2021 6:38:14 PM","11/4/2021 8:57:09 PM",{"$f":"IF(A27=\"ANL1420\",\"Targetsector\",LEFT(C27,LEN(C27)-LEN('BES EN'!E27)-3))","v":"Description short language code"}]
["ANL1033","Active","Additional trade item description (additionalTradeItemDescription)","MNL0020","additionalTradeItemDescription","3.1.17","/catalogue_item_notification:catalogueItemNotificationMessage/transaction/documentCommand/catalogue_item_notification:catalogueItemNotification/catalogueItem/tradeItem/tradeItemInformation/extension/*[namespace-uri()='urn:gs1:gdsn:trade_item_description:xsd:3' and local-name()='tradeItemDescriptionModule']/tradeItemDescriptionInformation/additionalTradeItemDescription","Description2000",null,"","","0..n","","FMCG","Description","037","Petfood;Health;Fruit&Vegetable;Food","","Avoid abbreviations as far as possible so as to keep the description easy to read.\n","Text providing an additional or free-form description of the trade item.\n","Een verfrissende dorstlesser zonder prik, op basis van echt fruit.\n","This field can be used to provide an additional free-form description of the trade item that is not written on the label. The marketing text that you want to communicate to the consumer can be entered in the &#39;Trade item marketing message&#39; field. Do not use any abbreviations other than abbreviations for units of measurement (e.g. &#39;g for grams, &#39;l&#39; for litres). This field can be repeated if necessary.\n",null,null,"False","O"," ","O"," ","O"," ","Sarina","Sarina","9/27/2021 6:38:14 PM","11/4/2021 8:57:10 PM",{"$f":"IF(A28=\"ANL1420\",\"Targetsector\",LEFT(C28,LEN(C28)-LEN('BES EN'!E28)-3))","v":"Additional trade item description"}]
["ANL1034","Active","Additional trade item description language code (additionalTradeItemDescription/@languageCode)","MNL0020","additionalTradeItemDescription/@languageCode","3.1.17","/catalogue_item_notification:catalogueItemNotificationMessage/transaction/documentCommand/catalogue_item_notification:catalogueItemNotification/catalogueItem/tradeItem/tradeItemInformation/extension/*[namespace-uri()='urn:gs1:gdsn:trade_item_description:xsd:3' and local-name()='tradeItemDescriptionModule']/tradeItemDescriptionInformation/additionalTradeItemDescription/@languageCode","CodeList","BENELUX_GDSN_LanguageCode","","","1..1","","FMCG","Description","038","Petfood;Food;Health;Fruit&Vegetable",""," ","Code specifying a language. Allowed code values are specified in GS1 code list 'LanguageCode'.","nl","Select the correct value from the 'ISO 639-1 (2-alpha)' code list.","For additional explanation see <a href=\" https://www.gs1.nl/en/industries/food-health-and-beauty/gs1-data-source/entering-data/attribute-explorer-attributes-list\" style=\"color:blue; text-decoration:underline\" target=\"_blank\"> https://www.gs1.nl/en/industries/food-health-and-beauty/gs1-data-source/entering-data/attribute-explorer-attributes-list</a> <br />\n<br />\n- To find the applicable language codes, see: <a href=\" http://www.loc.gov/standards/iso639-2/php/code_list.php\" style=\"color:blue; text-decoration:underline\" target=\"_blank\"> http://www.loc.gov/standards/iso639-2/php/code_list.php</a> ",null,"False","CM","Mandatory in case the 'Additional trade item description' field is populated.","CM","in case the 'Additional trade item description' field is populated.","CM","in case the 'Additional trade item description' field is populated.","Sarina","Sarina","9/27/2021 6:38:14 PM","11/4/2021 8:57:12 PM",{"$f":"IF(A29=\"ANL1420\",\"Targetsector\",LEFT(C29,LEN(C29)-LEN('BES EN'!E29)-3))","v":"Additional trade item description language code"}]
["ANL1035","Active","Quantity of children (quantityOfChildren)","MNL0020","quantityOfChildren","3.1.17","/catalogue_item_notification:catalogueItemNotificationMessage/transaction/documentCommand/catalogue_item_notification:catalogueItemNotification/catalogueItem/tradeItem/nextLowerLevelTradeItemInformation/quantityOfChildren","nonNegativeInteger",null,"","","1..1","","FMCG","Hierarchy","171","Food;Fruit&Vegetable;Health;Petfood","","When exchanging trade item information via the GDSN data pool, the complete trade item hierarchy for each trade item is sent.","Number indicating the quantity of the kind of trade items (Global Trade Item Numbers (GTINs)) in the hierarchy.  ","2","Indicate the quantity of the kind of trade items (Global Trade Items (GTINs)) this specific hierarchical level contains. This field is populated automatically for data pool users when data is sent to buyers or other data pools.","For additional explanation see <a href=\" https://www.gs1.nl/en/industries/food-health-and-beauty/gs1-data-source/entering-data/attribute-explorer-attributes-list\" style=\"color:blue; text-decoration:underline\" target=\"_blank\"> https://www.gs1.nl/en/industries/food-health-and-beauty/gs1-data-source/entering-data/attribute-explorer-attributes-list</a><br />\n<br />\nLocal Dutch applicable validation rules are:<br />\n500.006, 500.158, 500.159, 500.160, 500.161, 500.162, 500.164, 500.165, 500.166, 500.254, 500.290, 500.291, 500.292, 500.293, 500.294, 500.342, 500.343",null,"False","CM","Mandatory if there are children","CM","if there are children","M"," ","Sarina","Sarina","9/27/2021 6:38:14 PM","11/4/2021 8:57:14 PM",{"$f":"IF(A30=\"ANL1420\",\"Targetsector\",LEFT(C30,LEN(C30)-LEN('BES EN'!E30)-3))","v":"Quantity of children"}]
["ANL1036","Active","Total quantity of next lower level trade item (totalQuantityOfNextLowerLevelTradeItem)","MNL0020","totalQuantityOfNextLowerLevelTradeItem","3.1.17","/catalogue_item_notification:catalogueItemNotificationMessage/transaction/documentCommand/catalogue_item_notification:catalogueItemNotification/catalogueItem/tradeItem/nextLowerLevelTradeItemInformation/totalQuantityOfNextLowerLevelTradeItem","nonNegativeInteger",null,"","","1..1","","FMCG","Hierarchy","172","Petfood;Fruit&Vegetable;Health;Food","","When exchanging trade item information via the GDSN data pool, the complete trade item hierarchy for each trade item is sent.","Number indicating the total quantity of trade items in a hierarchy .","10","Indicate the total number of trade items this specific hierarchical level contains. This field is populated automatically for data pool users when data is sent to buyers or other data pools.","For additional explanation see <a href=\" https://www.gs1.nl/en/industries/food-health-and-beauty/gs1-data-source/entering-data/attribute-explorer-attributes-list\" style=\"color:blue; text-decoration:underline\" target=\"_blank\"> https://www.gs1.nl/en/industries/food-health-and-beauty/gs1-data-source/entering-data/attribute-explorer-attributes-list</a><br />\n<br />\nLocal Dutch applicable validation rules are:<br />\n500.321",null,"False","CM","Mandatory if there are children","CM","if there are children","M"," ","Sarina","Sarina","9/27/2021 6:38:14 PM","11/4/2021 8:57:16 PM",{"$f":"IF(A31=\"ANL1420\",\"Targetsector\",LEFT(C31,LEN(C31)-LEN('BES EN'!E31)-3))","v":"Total quantity of next lower level trade item"}]
["ANL1037","Active","Next lower level trade item information (GTIN) (gtin)","MNL0020","gtin","3.1.17","/catalogue_item_notification:catalogueItemNotificationMessage/transaction/documentCommand/catalogue_item_notification:catalogueItemNotification/catalogueItem/tradeItem/nextLowerLevelTradeItemInformation/childTradeItem/gtin","GTIN",null,"","","1..1","","FMCG","Hierarchy","173","Fruit&Vegetable;Petfood;Food;Health","","When exchanging trade item information via the GDSN data pool, the complete trade item hierarchy for each trade item is sent.\n","Reference to the GTIN of the next lower level trade item in this hierarchy.\n","08712345999995\n","Indicate the GTIN (Global Trade Item Number) of the next lower level trade item. A relationship between two or more GTINs can only be established once the GTINs to be linked have been added to the data pool (the link transaction can be sent via XML at the same time as the GTINs are added).<br />\n<br />\nThis field can be filled in more than once, if necessary.\n","For additional explanation see <a href=\" https://www.gs1.nl/en/industries/food-health-and-beauty/gs1-data-source/entering-data/attribute-explorer-attributes-list\" style=\"color:blue; text-decoration:underline\" target=\"_blank\"> https://www.gs1.nl/en/industries/food-health-and-beauty/gs1-data-source/entering-data/attribute-explorer-attributes-list</a>",null,"False","CM","Mandatory if there are children","CM","if there are children","M"," ","Sarina","Sarina","9/27/2021 6:38:14 PM","11/4/2021 8:57:18 PM",{"$f":"IF(A32=\"ANL1420\",\"Targetsector\",LEFT(C32,LEN(C32)-LEN('BES EN'!E32)-3))","v":"Next lower level trade item information (GTIN)"}]
["ANL1038","Active","Quantity of next lower level trade item (quantityOfNextLowerLevelTradeItem)","MNL0020","quantityOfNextLowerLevelTradeItem","3.1.17","/catalogue_item_notification:catalogueItemNotificationMessage/transaction/documentCommand/catalogue_item_notification:catalogueItemNotification/catalogueItem/tradeItem/nextLowerLevelTradeItemInformation/childTradeItem/quantityOfNextLowerLevelTradeItem","nonNegativeInteger",null,"","","1..1","","FMCG","Hierarchy","174","Petfood;Health;Fruit&Vegetable;Food","","When exchanging trade item information via the GDSN data pool, the complete trade item hierarchy for each trade item is sent.\n","Number indicating the quantity of units of the GTIN at the next lower level.\n","6\n","Indicate for the specified &#39;Next lower level trade item information (GTIN)&#39; the number of trade items this hierarchical level contains. A relationship between two or more GTINs (Global Trade Item Number) can only be established once the GTINs to be linked have been added to the data pool (the link transaction can be sent via XML at the same time as the GTINs are added).<br />\n<br />\nThis field can be filled in more than once, if necessary.<br />\n<br />\nUse this field only for a logistic unit when the pallet configuration has a GTIN assigned. In all other cases you need to enter a value in the &#39;Quantity of trade items per non-GTIN pallet&#39; field.\n","For additional explanation see <a href=\" https://www.gs1.nl/en/industries/food-health-and-beauty/gs1-data-source/entering-data/attribute-explorer-attributes-list\" style=\"color:blue; text-decoration:underline\" target=\"_blank\"> https://www.gs1.nl/en/industries/food-health-and-beauty/gs1-data-source/entering-data/attribute-explorer-attributes-list</a><br />\n<br />\nLocal Dutch applicable validation rules are: 500.006\n",null,"False","CM","Mandatory if there are children","CM","if there are children","M"," ","Sarina","Sarina","9/27/2021 6:38:15 PM","11/4/2021 8:57:21 PM",{"$f":"IF(A33=\"ANL1420\",\"Targetsector\",LEFT(C33,LEN(C33)-LEN('BES EN'!E33)-3))","v":"Quantity of next lower level trade item"}]
["ANL1039","Active","Brand owner (GLN) (gln)","MNL0020","gln","3.1.17","/catalogue_item_notification:catalogueItemNotificationMessage/transaction/documentCommand/catalogue_item_notification:catalogueItemNotification/catalogueItem/tradeItem/brandOwner/gln","GLN",null,"","","0..1","","FMCG","Datakwalitijd 2.0","051","Petfood;Fruit&Vegetable;Health;Food","","Are you the brand owner? You can leave this field empty.<br />\nAre you a private label supplier? Fill this field with the GLN (Global Location Number) of your buyer (brand owner).<br />\nAre you a wholesaler and do you trade products of a brand owner, fill this field with the GLN of your supplier (brand owner).<br />\n<br />\nThis field is checked in the context of the Dutch data quality program.\n","Unique international number identifying the party that owns the brand.\n","8714039932059\n","Enter in this field the GLN (Global Location Number) of the brand owner. A GLN always comprises 13 characters. Besides the GLN, you must also populate &#39;Name of brand owner&#39;.\n","Local Dutch applicable validation rules are: 500.171, 500.172, 500.176, 500.222, 500.230, 500.240, 500.267, 500.292, 500.293, 500.331, 500.344, 500.345, 500.346, 500.347, 500.375, 500.395, 500.396, 500.397\n",null,"False","CM","Mandatory if the information provider is not the brand owner","CM","if the information provider is not the brand owner","CM","if the information provider is not the brand owner","Sarina","Sarina","9/27/2021 6:38:15 PM","11/4/2021 8:57:23 PM",{"$f":"IF(A34=\"ANL1420\",\"Targetsector\",LEFT(C34,LEN(C34)-LEN('BES EN'!E34)-3))","v":"Brand owner (GLN)"}]
["ANL1040","Active","Name of brand owner (partyName)","MNL0020","partyName","3.1.17","/catalogue_item_notification:catalogueItemNotificationMessage/transaction/documentCommand/catalogue_item_notification:catalogueItemNotification/catalogueItem/tradeItem/brandOwner/partyName","string",null,"1","200","0..1","","FMCG","Datakwalitijd 2.0","052","Food;Petfood;Fruit&Vegetable;Health","","This field is checked in the context of the Dutch data quality program.","The name of the party that is the owner of the brand.","Kwaliteit B.V.","Fill in this field if you also filled in the field 'Brand Owner (GLN)'.","Local Dutch applicable validation rules are: 500.293",null,"False","CM","Mandatory if the information provider is not the brand owner","CM","if the information provider is not the brand owner","CM","if the information provider is not the brand owner","Sarina","Sarina","9/27/2021 6:38:15 PM","11/4/2021 8:57:25 PM",{"$f":"IF(A35=\"ANL1420\",\"Targetsector\",LEFT(C35,LEN(C35)-LEN('BES EN'!E35)-3))","v":"Name of brand owner"}]
["ANL1041","Active","Manufacturer (GLN) (gln)","MNL0020","gln","3.1.17","/catalogue_item_notification:catalogueItemNotificationMessage/transaction/documentCommand/catalogue_item_notification:catalogueItemNotification/catalogueItem/tradeItem/manufacturerOfTradeItem/gln","GLN",null,"","","0..1","","FMCG","General","053","Health;Fruit&Vegetable;Petfood;Food",""," ","Unique international number identifying production locations linked to the manufacturer of the trade item.","8700000000001","Enter in this field the GLN of the manufacturer.\nA GLN always comprises 13 characters. ",null,null,"False","CM","Mandatory for the Belgian target market if it is an alcoholic beer.","O"," ","O"," ","Sarina","Sarina","9/27/2021 6:38:15 PM","11/4/2021 8:57:27 PM",{"$f":"IF(A36=\"ANL1420\",\"Targetsector\",LEFT(C36,LEN(C36)-LEN('BES EN'!E36)-3))","v":"Manufacturer (GLN)"}]
["ANL1042","Active","Name of manufacturer of trade item (partyName)","MNL0020","partyName","3.1.17","/catalogue_item_notification:catalogueItemNotificationMessage/transaction/documentCommand/catalogue_item_notification:catalogueItemNotification/catalogueItem/tradeItem/manufacturerOfTradeItem/partyName","string",null,"1","200","0..1","","FMCG","General","054","Food;Fruit&Vegetable;Health;Petfood",""," ","The name of the manufacturer of the trade item.","Kwaliteit B.V.","Mandatory for Belux if the product is an alcoholic beer (GPC code = 10000159).<br />\nEnter the name of the manufacturer of this beer. ",null,null,"False","CM","Mandatory for the Belgian target market if it is an alcoholic beer.","O"," ","O"," ","Sarina","Sarina","9/27/2021 6:38:15 PM","11/4/2021 8:57:29 PM",{"$f":"IF(A37=\"ANL1420\",\"Targetsector\",LEFT(C37,LEN(C37)-LEN('BES EN'!E37)-3))","v":"Name of manufacturer of trade item"}]
["ANL1043","Active","Is trade item a base unit (isTradeItemABaseUnit)","MNL0020","isTradeItemABaseUnit","3.1.17","/catalogue_item_notification:catalogueItemNotificationMessage/transaction/documentCommand/catalogue_item_notification:catalogueItemNotification/catalogueItem/tradeItem/isTradeItemABaseUnit","boolean",null,"","","0..1","","FMCG","Ordering","061","Food;Health;Fruit&Vegetable;Petfood",""," ","Code indicating that this item is the lowest (smallest) unit in the trade item hierarchy.","TRUE","Select ‘TRUE’ or ‘FALSE’.<br />\nYou should set this value to 'TRUE' for the lowest (smallest) unit in the hierarchy. The base unit is the smallest unit in the trade item hierarchy. It can be a consumer unit but need not be.","Local Dutch applicable validation rules are: 500.158, 500.159, 500.160, 500.161, 500.162, 500.164, 500.165, 500.166, 500.254, 500.273, 500.290, 500.291, 500.292, 500.293, 500.294, 500.331",null,"False","M","Mandatory","M"," ","M"," ","Sarina","Sarina","9/27/2021 6:38:15 PM","11/4/2021 8:57:32 PM",{"$f":"IF(A38=\"ANL1420\",\"Targetsector\",LEFT(C38,LEN(C38)-LEN('BES EN'!E38)-3))","v":"Is trade item a base unit"}]
["ANL1044","Active","Is trade item a consumer unit (isTradeItemAConsumerUnit)","MNL0020","isTradeItemAConsumerUnit","3.1.17","/catalogue_item_notification:catalogueItemNotificationMessage/transaction/documentCommand/catalogue_item_notification:catalogueItemNotification/catalogueItem/tradeItem/isTradeItemAConsumerUnit","boolean",null,"","","0..1","","FMCG","Ordering","062","Fruit&Vegetable;Health;Food;Petfood","","How the measurement rules are applied depends on what is selected in this field (see the document <a href=\" https://www.gs1.org/standards/gs1-package-measurement-rules-standard\" style=\"color:blue; text-decoration:underline\" target=\"_blank\"> https://www.gs1.org/standards/gs1-package-measurement-rules-standard</a>).","Code indicating that this trade item is a consumer unit.\n","TRUE\n","Select &#39;TRUE&#39; or &#39;FALSE&#39;. Multiple consumer trade items in a hierarchy are permitted.\n","- See for the measurement rules: <a href=\" https://www.gs1.org/standards/gs1-package-measurement-rules-standard\" style=\"color:blue; text-decoration:underline\" target=\"_blank\"> https://www.gs1.org/standards/gs1-package-measurement-rules-standard</a> <br />\n<br />\nLocal Dutch applicable validation rules are: 500.001, 500.148, 500.171, 500.172, 500.193, 500.199, 500.200, 500.201, 500.202, 500.203, 500.204, 500.205, 500.211, 500.215, 500.220, 500.222, 500.223, 500.230, 500.231, 500.232, 500.233, 500.234, 500.235, 500.236, 500.240, 500.267, 500.271, 500.276, 500.288, 500.330, 500.342, 500.343, 500.344, 500.345, 500.346, 500.347, 500.348, 500.349, 500.350, 500.351, 500.352, 500.356, 500.374, 500.375, 500.376, 500.379, 500.380, 500.381, 500.382, 500.383, 500.384, 500.385, 500.386, 500.387, 500.389, 500.390, 500.391, 500.392, 500.393, 500.394, 500.395, 500.396, 500.397, 500.398, 500.399, 500.400, 500.401, 500.402, 500.403, 500.404, 500.406, 500.407, 500.408, 500.409, 500.410, 500.411, 500.413, 500.414 \n",null,"False","M","Mandatory","M"," ","M"," ","Sarina","Sarina","9/27/2021 6:38:15 PM","11/4/2021 8:57:34 PM",{"$f":"IF(A39=\"ANL1420\",\"Targetsector\",LEFT(C39,LEN(C39)-LEN('BES EN'!E39)-3))","v":"Is trade item a consumer unit"}]
["ANL1045","Active","Is trade item an orderable unit (isTradeItemAnOrderableUnit)","MNL0020","isTradeItemAnOrderableUnit","3.1.17","/catalogue_item_notification:catalogueItemNotificationMessage/transaction/documentCommand/catalogue_item_notification:catalogueItemNotification/catalogueItem/tradeItem/isTradeItemAnOrderableUnit","boolean",null,"","","0..1","","FMCG","Ordering","063","Food;Health;Fruit&Vegetable;Petfood","","Goods are ordered, supplied and invoiced in trade units. It is mandatory to state at least one orderable unit, one despatch unit and one invoice unit for each trade item hierarchy. More than one of each is also permitted.","Code indicating that this item is an orderable unit.","TRUE","Select ‘TRUE’ or ‘FALSE’.<br />\nList at least one orderable unit for each trade item hierarchy (more than one is permitted).",null,null,"False","M","Mandatory","M"," ","M"," ","Sarina","Sarina","9/27/2021 6:38:15 PM","11/4/2021 8:57:37 PM",{"$f":"IF(A40=\"ANL1420\",\"Targetsector\",LEFT(C40,LEN(C40)-LEN('BES EN'!E40)-3))","v":"Is trade item an orderable unit"}]
["ANL1046","Active","Is trade item a despatch unit (isTradeItemADespatchUnit)","MNL0020","isTradeItemADespatchUnit","3.1.17","/catalogue_item_notification:catalogueItemNotificationMessage/transaction/documentCommand/catalogue_item_notification:catalogueItemNotification/catalogueItem/tradeItem/isTradeItemADespatchUnit","boolean",null,"","","0..1","","FMCG","Ordering","064","Petfood;Fruit&Vegetable;Health;Food","","Goods are ordered, supplied and invoiced in trade units. It is mandatory to state at least one orderable unit, one despatch unit and one invoice unit for each trade item hierarchy. More than one of each is also permitted.","Code indicating that this item is a despatch unit.","TRUE","Select ‘TRUE’ or ‘FALSE’.<br />\nList at least one despatch unit for each trade item hierarchy (more than one is permitted).",null,null,"False","M","Mandatory","M"," ","M"," ","Sarina","Sarina","9/27/2021 6:38:16 PM","11/4/2021 8:57:39 PM",{"$f":"IF(A41=\"ANL1420\",\"Targetsector\",LEFT(C41,LEN(C41)-LEN('BES EN'!E41)-3))","v":"Is trade item a despatch unit"}]
["ANL1048","Active","Is trade item a variable unit (isTradeItemAVariableUnit)","MNL0020","isTradeItemAVariableUnit","3.1.17","/catalogue_item_notification:catalogueItemNotificationMessage/transaction/documentCommand/catalogue_item_notification:catalogueItemNotification/catalogueItem/tradeItem/tradeItemInformation/extension/*[namespace-uri()='urn:gs1:gdsn:variable_trade_item_information:xsd:3' and local-name()='variableTradeItemInformationModule']/variableTradeItemInformation/isTradeItemAVariableUnit","boolean",null,"","","0..1","","FMCG","Ordering","066","Food;Health;Fruit&Vegetable;Petfood","","In the food sector this can apply to meat, cheese, chicken, dairy products and potatoes, vegetables and fruit. E.g.: cheese wheel: weight is approx. 25, but could be 24 or 27 kg.","Code indicating that this item is variable in weight, size or volume.","TRUE","Select ‘TRUE’ or ‘FALSE’.","Local Dutch applicable validation rules are: 500.280",null,"False","M","Mandatory","M"," ","M"," ","Sarina","Sarina","9/27/2021 6:38:16 PM","11/4/2021 8:57:42 PM",{"$f":"IF(A42=\"ANL1420\",\"Targetsector\",LEFT(C42,LEN(C42)-LEN('BES EN'!E42)-3))","v":"Is trade item a variable unit"}]
["ANL1049","Active","Is trade item a display unit (isTradeItemADisplayUnit)","MNL0020","isTradeItemADisplayUnit","3.1.17","/catalogue_item_notification:catalogueItemNotificationMessage/transaction/documentCommand/catalogue_item_notification:catalogueItemNotification/catalogueItem/tradeItem/displayUnitInformation/isTradeItemADisplayUnit","CodeList","BENELUX_GDSN_NonBinaryLogicEnumeration","","","0..1","","FMCG","Ordering","067","Petfood;Fruit&Vegetable;Food;Health","","An example is a display of 'Sinterklaas' items with various kinds of ginger nuts, spiced biscuit and marzipan.","Code indicating that this item is a display unit or can be used as one. A display is designed to be transported to a store without being split up at a distribution centre. It is displayed in store or on a shelf.","TRUE","Select ‘TRUE’ or ‘FALSE’.<br />\nIf the value = TRUE, the attribute 'displayTypeCode' becomes mandatory.","For additional explanation see <a href=\" https://www.gs1.nl/en/industries/food-health-and-beauty/gs1-data-source/entering-data/attribute-explorer-attributes-list\" style=\"color:blue; text-decoration:underline\" target=\"_blank\"> https://www.gs1.nl/en/industries/food-health-and-beauty/gs1-data-source/entering-data/attribute-explorer-attributes-list</a><br />\n<br />\nLocal Dutch applicable validation rules are:<br />\n500.244, 500.268, 500.278",null,"False","CM","Mandatory if the item is a display unit.","CM","if the item is a display unit.","CM","if the item is a display unit.","Sarina","Sarina","9/27/2021 6:38:16 PM","11/4/2021 8:57:44 PM",{"$f":"IF(A43=\"ANL1420\",\"Targetsector\",LEFT(C43,LEN(C43)-LEN('BES EN'!E43)-3))","v":"Is trade item a display unit"}]
["ANL1050","Active","Is trade item seasonal (isTradeItemSeasonal)","MNL0020","isTradeItemSeasonal","3.1.17","/catalogue_item_notification:catalogueItemNotificationMessage/transaction/documentCommand/catalogue_item_notification:catalogueItemNotification/catalogueItem/tradeItem/tradeItemInformation/extension/*[namespace-uri()='urn:gs1:gdsn:marketing_information:xsd:3' and local-name()='marketingInformationModule']/marketingInformation/season/isTradeItemSeasonal","CodeList","BENELUX_GDSN_NonBinaryLogicEnumeration","","","0..1","","FMCG","Ordering","068","Food;Fruit&Vegetable;Petfood;Health",""," ","An indicator of whether or not the trade item is only offered during certain parts of the year or targeted at different seasons.","TRUE","Should be 'TRUE' if applicable on base unit level. If not applicable, the field can be left empty. If a product is indicated as seasonal (isTradeItemSeasonal = TRUE), the information provider should use the attributes start and end availability date time to communicate the availability of the product. ",null,null,"False","O"," ","O"," ","O"," ","Sarina","Sarina","9/27/2021 6:38:16 PM","11/4/2021 8:57:47 PM",{"$f":"IF(A44=\"ANL1420\",\"Targetsector\",LEFT(C44,LEN(C44)-LEN('BES EN'!E44)-3))","v":"Is trade item seasonal"}]
["ANL1051","Active","Start availability date time (startAvailabilityDateTime)","MNL0020","startAvailabilityDateTime","3.1.17","/catalogue_item_notification:catalogueItemNotificationMessage/transaction/documentCommand/catalogue_item_notification:catalogueItemNotification/catalogueItem/tradeItem/tradeItemInformation/extension/*[namespace-uri()='urn:gs1:gdsn:delivery_purchasing_information:xsd:3' and local-name()='deliveryPurchasingInformationModule']/deliveryPurchasingInformation/startAvailabilityDateTime","DateTime",null,"","","0..1","","FMCG","General","091","Health;Food;Petfood;Fruit&Vegetable","","The date can be either in the past or the future. Note: the item is from this date onward also available for product data checks in the Data Quality 2.0 programme for the Dutch target market.","Date and time from which the trade item can be ordered.","2016-05-31T08:00:00 (yyyy-mm-ddThh:mi:ss)","Enter the date and time from which the item can be/was able to be ordered. In the case of seasonal items the date should be updated as soon as the item becomes available again.",null,null,"False","M","Mandatory","M"," ","M"," ","Sarina","Sarina","9/27/2021 6:38:16 PM","11/4/2021 8:57:50 PM",{"$f":"IF(A45=\"ANL1420\",\"Targetsector\",LEFT(C45,LEN(C45)-LEN('BES EN'!E45)-3))","v":"Start availability date time"}]
["ANL1052","Active","End availability date time (endAvailabilityDateTime)","MNL0020","endAvailabilityDateTime","3.1.17","/catalogue_item_notification:catalogueItemNotificationMessage/transaction/documentCommand/catalogue_item_notification:catalogueItemNotification/catalogueItem/tradeItem/tradeItemInformation/extension/*[namespace-uri()='urn:gs1:gdsn:delivery_purchasing_information:xsd:3' and local-name()='deliveryPurchasingInformationModule']/deliveryPurchasingInformation/endAvailabilityDateTime","DateTime",null,"","","0..1","","FMCG","General","092","Fruit&Vegetable;Petfood;Food;Health","","The steps are as follows:<br />\n1. Make sure the publication is successful and active.<br />\n2. Enter the ‘End Availability Date Time’ and save it.<br />\n3. If you want to temporarily discontinue a trade item, do nothing else. If you want to permanently discontinue a trade item, wait until the buyer has paid all invoices and the ‘End availability date time’ has expired for 24 hours, after which you can delete the publication.<br />\n<br />\nImportant: GTINs that have been used/published may never be reused. For the GTIN Management Rules, see https://www.gs1.org/1/gtinrules//en/.","The date/time when the product is no longer available for order from the seller.\n","2016-05-31T08:00:00 (yyyy-mm-ddThh:mi:ss)\n","Populate the date if it is known from when the product is no longer available for order or when the product cannot be ordered temporarily. Do this for items that are permanently discontinued or for seasonal items when the season ends.\nThe date must be in the future and must not be before the &lsquo;Start availability date time&rsquo;. If the consumer unit has an &#39;End availability date time&#39; and is part of a homogeneous trading unit, that trading unit should also be provided with an &#39;End availability date time&#39;.<br />\nNote: follow the 'GTIN Management Rules': each higher level packaging GTIN needs to have an end availability date time as well.","For additional explanation see <a href=\" https://www.gs1.nl/en/industries/food-health-and-beauty/gs1-data-source/entering-data/attribute-explorer-attributes-list\" style=\"color:blue; text-decoration:underline\" target=\"_blank\"> https://www.gs1.nl/en/industries/food-health-and-beauty/gs1-data-source/entering-data/attribute-explorer-attributes-list</a><br /> \n<br />\nLocal Dutch applicable validation rules are: 500.261, 500.272, 500.342\n",null,"False","CM","Mandatory if the trade item is temporarily not available or if the supplier wants to terminate the trade item permanently.","CM","if the trade item is temporarily not available or if the supplier wants to terminate the trade item permanently.","CM","if the trade item is temporarily not available or if the supplier wants to terminate the trade item permanently.","Sarina","Sarina","9/27/2021 6:38:16 PM","11/4/2021 8:57:52 PM",{"$f":"IF(A46=\"ANL1420\",\"Targetsector\",LEFT(C46,LEN(C46)-LEN('BES EN'!E46)-3))","v":"End availability date time"}]
["ANL1056","Active","Consumer first availability date time (consumerFirstAvailabilityDateTime)","MNL0020","consumerFirstAvailabilityDateTime","3.1.17","/catalogue_item_notification:catalogueItemNotificationMessage/transaction/documentCommand/catalogue_item_notification:catalogueItemNotification/catalogueItem/tradeItem/tradeItemInformation/extension/*[namespace-uri()='urn:gs1:gdsn:delivery_purchasing_information:xsd:3' and local-name()='deliveryPurchasingInformationModule']/deliveryPurchasingInformation/consumerFirstAvailabilityDateTime","DateTime",null,"","","0..1","","FMCG","General","096","Health;Food;Petfood;Fruit&Vegetable",""," ","The first date/time when the buyer is allowed to sell the trade item to consumers. Usually related to a specific geography.","2016-05-31T08:00:00 (yyyy-mm-ddThh:mi:ss)","For products that may only be sold to a consumer as of a specific date (e.g. Book/DVD releases), please provide the date and time from which the products are available for the end consumer.",null,null,"False","O"," ","O"," ","O"," ","Sarina","Sarina","9/27/2021 6:38:16 PM","11/4/2021 8:57:55 PM",{"$f":"IF(A47=\"ANL1420\",\"Targetsector\",LEFT(C47,LEN(C47)-LEN('BES EN'!E47)-3))","v":"Consumer first availability date time"}]
["ANL1057","Active","Refererenced trade item (GTIN) (gtin)","MNL0020","gtin","3.1.17","/catalogue_item_notification:catalogueItemNotificationMessage/transaction/documentCommand/catalogue_item_notification:catalogueItemNotification/catalogueItem/tradeItem/referencedTradeItem/gtin","GTIN",null,"","","1..1","","FMCG","General","016","Petfood;Food;Fruit&Vegetable;Health","","Use this attribute when an item (GTIN A) is replaced by a new version (GTIN B) with, say, more net content. In order to link these two products in the data pool, the number of the replaced product &ndash; GTIN A &ndash; has to be entered in this field that is part of the product record of GTIN B. In this way recipients of GTIN B will be able to link it to GTIN A through this attribute.\n","A trade item not in the trade item hierarchy that is referenced for a specific purpose for example substitute, replaced by, equivalent trade items.\n","08715108079309\n","Use this field to enter the GTIN you are referring to.<br />\nIn case of a replacing item: enter the GTIN of the item that will be replaced by this item (the &lsquo;old&rsquo; GTIN).<br />\nIn case of an equivalent item: enter the GTIN of the item that is equivalent to this item.<br />\nEnter the relevant code referring to the purpose in the field &lsquo;Referenced trade item type code&rsquo;.\n",null,null,"False","O"," ","O"," ","O"," ","Sarina","Sarina","9/27/2021 6:38:16 PM","11/4/2021 8:57:58 PM",{"$f":"IF(A48=\"ANL1420\",\"Targetsector\",LEFT(C48,LEN(C48)-LEN('BES EN'!E48)-3))","v":"Refererenced trade item (GTIN)"}]
["ANL1058","Active","Referenced trade item type code (referencedTradeItemTypeCode)","MNL0020","referencedTradeItemTypeCode","3.1.17","/catalogue_item_notification:catalogueItemNotificationMessage/transaction/documentCommand/catalogue_item_notification:catalogueItemNotification/catalogueItem/tradeItem/referencedTradeItem/referencedTradeItemTypeCode","CodeList","BENELUX_GDSN_ReferencedTradeItemTypeCode","","","1..1","","FMCG","General","017","Fruit&Vegetable;Petfood;Health;Food","",null,"A code depicting the type of trade item that is referenced for a specific purpose, for example substitute, replaced by, equivalent trade items.\n","REPLACED<br />\nEQUIVALENT\n","In case of a replacing item: use the value &lsquo;REPLACED&rsquo;.<br />\nIn case of an equivalent item: use the value &#39;EQUIVALENT&#39;.\n\nWhen you fill in this field, you must also fill in the &lsquo;Referenced trade item&rsquo; field\n",null,null,"False","CM","Mandatory in case the 'Refererenced trade item (GTIN)' field is populated.","CM","in case the 'Refererenced trade item (GTIN)' field is populated.","CM","in case the 'Refererenced trade item (GTIN)' field is populated.","Sarina","Sarina","9/27/2021 6:38:17 PM","11/4/2021 8:58:01 PM",{"$f":"IF(A49=\"ANL1420\",\"Targetsector\",LEFT(C49,LEN(C49)-LEN('BES EN'!E49)-3))","v":"Referenced trade item type code"}]
["ANL1059","Active","Is price on pack (isPriceOnPack)","MNL0020","isPriceOnPack","3.1.17","/catalogue_item_notification:catalogueItemNotificationMessage/transaction/documentCommand/catalogue_item_notification:catalogueItemNotification/catalogueItem/tradeItem/tradeItemInformation/extension/*[namespace-uri()='urn:gs1:gdsn:packaging_marking:xsd:3' and local-name()='packagingMarkingModule']/packagingMarking/isPriceOnPack","boolean",null,"","","0..1","","FMCG","Ordering","069","Food;Health;Petfood;Fruit&Vegetable","","'TRUE' does not automatically mean that the retail price is also populated. It may be just a signal for internal processes only.","Code indicating whether the price is shown on the packaging or has been affixed to it by the manufacturer.","TRUE","Select ‘TRUE’ or ‘FALSE’.",null,null,"False","CM","Mandatory if the price is shown on the consumer unit (except for items with an in-store code).","O"," ","O"," ","Sarina","Sarina","9/27/2021 6:38:17 PM","11/4/2021 8:58:04 PM",{"$f":"IF(A50=\"ANL1420\",\"Targetsector\",LEFT(C50,LEN(C50)-LEN('BES EN'!E50)-3))","v":"Is price on pack"}]
["ANL1060","Active","Suggested retail price (tradeItemPrice)","MNL0020","tradeItemPrice","3.1.17","/catalogue_item_notification:catalogueItemNotificationMessage/transaction/documentCommand/catalogue_item_notification:catalogueItemNotification/catalogueItem/tradeItem/tradeItemInformation/extension/*[namespace-uri()='urn:gs1:gdsn:sales_information:xsd:3' and local-name()='salesInformationModule']/tradeItemPriceInformation/suggestedRetailPrice/tradeItemPrice","Amount",null,"","","1..1","","FMCG","Ordering","070","Petfood;Fruit&Vegetable;Health;Food",""," ","The retail/consumer price suggested by the manufacturer.","2.79 (EUR)","The currency code 'EUR' is mandatory at least once if you enter a value.","Local Dutch applicable validation rules are: 500.058",null,"False","O"," ","O"," ","O"," ","Sarina","Sarina","9/27/2021 6:38:17 PM","11/4/2021 8:58:07 PM",{"$f":"IF(A51=\"ANL1420\",\"Targetsector\",LEFT(C51,LEN(C51)-LEN('BES EN'!E51)-3))","v":"Suggested retail price"}]
["ANL1061","Active","Suggested retail price currency code (tradeItemPrice/@currencyCode)","MNL0020","tradeItemPrice/@currencyCode","3.1.17","/catalogue_item_notification:catalogueItemNotificationMessage/transaction/documentCommand/catalogue_item_notification:catalogueItemNotification/catalogueItem/tradeItem/tradeItemInformation/extension/*[namespace-uri()='urn:gs1:gdsn:sales_information:xsd:3' and local-name()='salesInformationModule']/tradeItemPriceInformation/suggestedRetailPrice/tradeItemPrice/@currencyCode","CodeList","BENELUX_GDSN_CurrencyCode","","","1..1","","FMCG","Ordering","071","Food;Health;Fruit&Vegetable;Petfood",""," ","Code specifying a currency. Allowed code values are specified in GS1 code list 'CurrencyCode'.","EUR","Select the correct value from the 'currencyCode' code list.","Local Dutch applicable validation rules are: 500.058",null,"False","CM","Mandatory in case the 'Suggested retail price' field is populated.","CM","in case the 'Suggested retail price' field is populated.","CM","in case the 'Suggested retail price' field is populated.","Sarina","Sarina","9/27/2021 6:38:17 PM","11/4/2021 8:58:10 PM",{"$f":"IF(A52=\"ANL1420\",\"Targetsector\",LEFT(C52,LEN(C52)-LEN('BES EN'!E52)-3))","v":"Suggested retail price currency code"}]
["ANL1065","Active","Tax type code (dutyFeeTaxTypeCode)","MNL0020","dutyFeeTaxTypeCode","3.1.17","/catalogue_item_notification:catalogueItemNotificationMessage/transaction/documentCommand/catalogue_item_notification:catalogueItemNotification/catalogueItem/tradeItem/tradeItemInformation/extension/*[namespace-uri()='urn:gs1:gdsn:duty_fee_tax_information:xsd:3' and local-name()='dutyFeeTaxInformationModule']/dutyFeeTaxInformation/dutyFeeTaxTypeCode","string","BENELUX_GDSN_TaxTypeCode","1","80","1..1","","FMCG","Tax ","101","Health;Food;Fruit&Vegetable;Petfood","","The value of this field can be changed depending on the target market.<br />\nFor TM 056 (Belgium) and TM 442 (Luxembourg): the code &#39;VAT&#39; should always be provided.<br />\nFor TM 528 (Netherlands): enter the value &lsquo;BTW&rsquo; or &lsquo;VAT&rsquo;.<br />\n<br />\nThe entered value is validated by the data pool.\n","Code indicating the type of tax, which will vary from one target market to another.\n","BTW\n","This information is mandatory for the Dutch, Belgian and Luxembourg target market in the case of products on which tax is payable (e.g. VAT).\n","- BE tax manual (<a href=\" https://www.gs1belu.org/nl/documentatie/handleiding-taksinformatie\" style=\"color:blue; text-decoration:underline\" target=\"_blank\"> https://www.gs1belu.org/nl/documentatie/handleiding-taksinformatie</a>) <br />\n<br />\n - NL: see local code list Duty Fee Tax Type Code (<a href=\" https://www.gs1.org/gdsn/3-x\" style=\"color:blue; text-decoration:underline\" target=\"_blank\"> https://www.gs1.org/gdsn/3-x</a>) <br />\n<br />\nLocal Dutch applicable validation rules are: 500.032\n",null,"False","M","Mandatory","M"," ","M"," ","Sarina","Sarina","9/27/2021 6:38:17 PM","11/4/2021 8:58:13 PM",{"$f":"IF(A53=\"ANL1420\",\"Targetsector\",LEFT(C53,LEN(C53)-LEN('BES EN'!E53)-3))","v":"Tax type code"}]
["ANL1069","Active","Tax category code (dutyFeeTaxCategoryCode)","MNL0020","dutyFeeTaxCategoryCode","3.1.17","/catalogue_item_notification:catalogueItemNotificationMessage/transaction/documentCommand/catalogue_item_notification:catalogueItemNotification/catalogueItem/tradeItem/tradeItemInformation/extension/*[namespace-uri()='urn:gs1:gdsn:duty_fee_tax_information:xsd:3' and local-name()='dutyFeeTaxInformationModule']/dutyFeeTaxInformation/dutyFeeTax/dutyFeeTaxCategoryCode","CodeList","BENELUX_GDSN_TaxCategoryCode","","","0..1","","FMCG","Datakwalitijd 2.0;Tax ","104","Fruit&Vegetable;Petfood;Health;Food","","For BTW in the Netherlands target market: use only High (hoog), Low (laag), Zero (nul) or Exempt (uitgezonderd). The code &#39;Exempt&#39; is used in case of returnable packaging for which no tax applies. See also: <a href=\" https://www.belastingdienst.nl/wps/wcm/connect/bldcontentnl/belastingdienst/zakelijk/btw/btw_berekenen_aan_uw_klanten/btw_berekenen/btw_tarief/btw_tarief\" style=\"color:blue; text-decoration:underline\" target=\"_blank\">  https://www.belastingdienst.nl/wps/wcm/connect/bldcontentnl/belastingdienst/zakelijk/btw/btw_berekenen_aan_uw_klanten/btw_berekenen/btw_tarief/btw_tarief</a>.<br />\n<br />\nFor VAT in Belgium target market use LOW (= 6%), MEDIUM (= 12%) and STANDARD (=21%) For other types of taxes in Belgium target market: use code &#39;APPLICABLE&#39; or for returnable packaging for which no tax applies use code &#39;EXEMPT&#39;.\nFor VAT/TVA in Luxembourg target market use ZERO (0%), LOW (3%), MEDIUM (8%), HIGH (14%), STANDARD (17%). See also: <a href=\" https://guichet.public.lu/en/entreprises/fiscalite/tva/notions/tva.html#bloub-5\" style=\"color:blue; text-decoration:underline\" target=\"_blank\">  https://guichet.public.lu/en/entreprises/fiscalite/tva/notions/tva.html#bloub-5</a>.<br />\n<br />\nThis field is checked in the context of the Dutch data quality program.\n","Code indicating the rate at which the tax is collected on the trade item.\n","LOW\n","This information is mandatory in the case of products on which VAT is payable. Use the &#39;taxCategoryCode&#39; code list. State the rate that has to be charged to consumers at the point of sale (POS).<br />\n<br />\nIn the case of composite products (i.e. products which contain different children GTINs) each of the children must have the tax rate that applies to them. Only the highest rate of all children is to be entered for the parent composite product.<br />\n<br />\nFor other types of Belgilux taxes/duties, please consult the specific manual.\n","For additional explanation see <a href=\" https://www.gs1.nl/en/industries/food-health-and-beauty/gs1-data-source/entering-data/attribute-explorer-attributes-list\" style=\"color:blue; text-decoration:underline\" target=\"_blank\"> https://www.gs1.nl/en/industries/food-health-and-beauty/gs1-data-source/entering-data/attribute-explorer-attributes-list</a><br />\n<br />\n- BE tax manual (<a href=\" https://www.gs1belu.org/nl/documentatie/handleiding-taksinformatie\" style=\"color:blue; text-decoration:underline\" target=\"_blank\"> https://www.gs1belu.org/nl/documentatie/handleiding-taksinformatie</a>) <br />\n<br />\nLocal Dutch applicable validation rules are: 500.294, 500.348\n",null,"False","M","Mandatory","M"," ","M"," ","Sarina","Sarina","9/27/2021 6:38:17 PM","11/4/2021 8:58:16 PM",{"$f":"IF(A54=\"ANL1420\",\"Targetsector\",LEFT(C54,LEN(C54)-LEN('BES EN'!E54)-3))","v":"Tax category code"}]
["ANL1075","Active","Depth (depth)","MNL0020","depth","3.1.17","/catalogue_item_notification:catalogueItemNotificationMessage/transaction/documentCommand/catalogue_item_notification:catalogueItemNotification/catalogueItem/tradeItem/tradeItemInformation/extension/*[namespace-uri()='urn:gs1:gdsn:trade_item_measurements:xsd:3' and local-name()='tradeItemMeasurementsModule']/tradeItemMeasurements/depth","Measurement",null,"","","0..1","","FMCG","Dimensions;Datakwalitijd 2.0","121","Food;Petfood;Fruit&Vegetable;Health","","Use the same unit of measurement for all dimensions. Use preferably millimetres as the unit of measurement.<br />\n<br />\nThis field is checked in the context of the Dutch data quality program.\n","Number indicating the dimension from the foremost point to the rearmost point of the product, including packaging.\n","40 (MMT)\n","Enter a valid measurement expressed in preferably the unit of measurement MMT (millimetres) rounded up to an integer if possible (for example 99.3 mm will rounded up to 100 mm). Check the international measurement rules for the correct measurement rules (<a href=\" https://www.gs1.org/standards/gs1-package-measurement-rules-standard\" style=\"color:blue; text-decoration:underline\" target=\"_blank\"> https://www.gs1.org/standards/gs1-package-measurement-rules-standard</a>).","- See for the measurement rules: <a href=\" https://www.gs1.org/standards/gs1-package-measurement-rules-standard\" style=\"color:blue; text-decoration:underline\" target=\"_blank\"> https://www.gs1.org/standards/gs1-package-measurement-rules-standard</a> <br />\n<br />\nLocal Dutch applicable validation rules are: 500.001, 500.169\n",null,"False","M","Mandatory","M"," ","M"," ","Sarina","Sarina","9/27/2021 6:38:17 PM","11/4/2021 8:58:20 PM",{"$f":"IF(A55=\"ANL1420\",\"Targetsector\",LEFT(C55,LEN(C55)-LEN('BES EN'!E55)-3))","v":"Depth"}]
["ANL1076","Active","Depth UOM (depth/@measurementUnitcode)","MNL0020","depth/@measurementUnitcode","3.1.17","/catalogue_item_notification:catalogueItemNotificationMessage/transaction/documentCommand/catalogue_item_notification:catalogueItemNotification/catalogueItem/tradeItem/tradeItemInformation/extension/*[namespace-uri()='urn:gs1:gdsn:trade_item_measurements:xsd:3' and local-name()='tradeItemMeasurementsModule']/tradeItemMeasurements/depth/@measurementUnitcode","CodeList","BENELUX_GDSN_MeasurementUnitCode","","","1..1","","FMCG","Dimensions;Datakwalitijd 2.0","122","Petfood;Health;Food;Fruit&Vegetable","","This field is checked in the context of the Dutch data quality program.","Any standardised, reproducible unit that can be used to measure any physical property.","MMT","Select the value from the 'MeasurementUnitCode' code list.","Local Dutch applicable validation rules are: 500.011",null,"False","M","Mandatory","M"," ","M"," ","Sarina","Sarina","9/27/2021 6:38:18 PM","11/4/2021 8:58:23 PM",{"$f":"IF(A56=\"ANL1420\",\"Targetsector\",LEFT(C56,LEN(C56)-LEN('BES EN'!E56)-3))","v":"Depth UOM"}]
["ANL1077","Active","Height (height)","MNL0020","height","3.1.17","/catalogue_item_notification:catalogueItemNotificationMessage/transaction/documentCommand/catalogue_item_notification:catalogueItemNotification/catalogueItem/tradeItem/tradeItemInformation/extension/*[namespace-uri()='urn:gs1:gdsn:trade_item_measurements:xsd:3' and local-name()='tradeItemMeasurementsModule']/tradeItemMeasurements/height","Measurement",null,"","","0..1","","FMCG","Dimensions;Datakwalitijd 2.0","123","Fruit&Vegetable;Petfood;Food;Health","","Use the same unit of measurement for all dimensions. Use preferably millimetres as the unit of measurement.<br />\n<br />\nThis field is checked in the context of the Dutch data quality program.","Number indicating the vertical dimension from the lowest (bottom) point to the highest (top) point of the product, including packaging.\n","160 (MMT)\n","Enter a valid measurement expressed in preferably the unit of measurement MMT (millimetres) rounded up to an integer if possible (for example 99.3 mm will rounded up to 100 mm). Check the international measurement rules for the correct measurement rules (<a href=\" https://www.gs1.org/standards/gs1-package-measurement-rules-standard\" style=\"color:blue; text-decoration:underline\" target=\"_blank\"> https://www.gs1.org/standards/gs1-package-measurement-rules-standard</a>).","- See for the measurement rules: <a href=\" https://www.gs1.org/standards/gs1-package-measurement-rules-standard\" style=\"color:blue; text-decoration:underline\" target=\"_blank\"> https://www.gs1.org/standards/gs1-package-measurement-rules-standard</a> <br />\n<br />\nLocal Dutch applicable validation rules are: 500.167\n",null,"False","M","Mandatory","M"," ","M"," ","Sarina","Sarina","9/27/2021 6:38:18 PM","11/4/2021 8:58:26 PM",{"$f":"IF(A57=\"ANL1420\",\"Targetsector\",LEFT(C57,LEN(C57)-LEN('BES EN'!E57)-3))","v":"Height"}]
["ANL1078","Active","Height UOM (height/@measurementUnitcode)","MNL0020","height/@measurementUnitcode","3.1.17","/catalogue_item_notification:catalogueItemNotificationMessage/transaction/documentCommand/catalogue_item_notification:catalogueItemNotification/catalogueItem/tradeItem/tradeItemInformation/extension/*[namespace-uri()='urn:gs1:gdsn:trade_item_measurements:xsd:3' and local-name()='tradeItemMeasurementsModule']/tradeItemMeasurements/height/@measurementUnitcode","CodeList","BENELUX_GDSN_MeasurementUnitCode","","","1..1","","FMCG","Datakwalitijd 2.0;Dimensions","124","Fruit&Vegetable;Food;Health;Petfood","","This field is checked in the context of the Dutch data quality program.","Any standardised, reproducible unit that can be used to measure any physical property.","MMT","Select the value from the 'MeasurementUnitCode' code list.","Local Dutch applicable validation rules are: 500.011",null,"False","M","Mandatory","M"," ","M"," ","Sarina","Sarina","9/27/2021 6:38:18 PM","11/4/2021 8:58:29 PM",{"$f":"IF(A58=\"ANL1420\",\"Targetsector\",LEFT(C58,LEN(C58)-LEN('BES EN'!E58)-3))","v":"Height UOM"}]
["ANL1079","Active","Width (width)","MNL0020","width","3.1.17","/catalogue_item_notification:catalogueItemNotificationMessage/transaction/documentCommand/catalogue_item_notification:catalogueItemNotification/catalogueItem/tradeItem/tradeItemInformation/extension/*[namespace-uri()='urn:gs1:gdsn:trade_item_measurements:xsd:3' and local-name()='tradeItemMeasurementsModule']/tradeItemMeasurements/width","Measurement",null,"","","0..1","","FMCG","Dimensions;Datakwalitijd 2.0","125","Food;Petfood;Fruit&Vegetable;Health","","Use the same unit of measurement for all dimensions. Use preferably millimetres as the unit of measurement.<br />\n<br />\nThis field is checked in the context of the Dutch data quality program.","Number indicating the horizontal dimension from the leftmost point to the rightmost point of the product, including packaging.\n","100 (MMT)\n","Enter a valid measurement expressed in preferably the unit of measurement MMT (millimetres) rounded up to an integer if possible (for example 99.3 mm will rounded up to 100 mm). Check the international measurement rules for the correct measurement rules (<a href=\" https://www.gs1.org/standards/gs1-package-measurement-rules-standard\" style=\"color:blue; text-decoration:underline\" target=\"_blank\"> https://www.gs1.org/standards/gs1-package-measurement-rules-standard</a>).","- See for the measurement rules: <a href=\" https://www.gs1.org/standards/gs1-package-measurement-rules-standard\" style=\"color:blue; text-decoration:underline\" target=\"_blank\"> https://www.gs1.org/standards/gs1-package-measurement-rules-standard</a> <br />\n<br />\nLocal Dutch applicable validation rules are: 500.001, 500.168\n",null,"False","M","Mandatory","M"," ","M"," ","Sarina","Sarina","9/27/2021 6:38:18 PM","11/4/2021 8:58:32 PM",{"$f":"IF(A59=\"ANL1420\",\"Targetsector\",LEFT(C59,LEN(C59)-LEN('BES EN'!E59)-3))","v":"Width"}]
["ANL1080","Active","Width UOM (width/@measurementUnitcode)","MNL0020","width/@measurementUnitcode","3.1.17","/catalogue_item_notification:catalogueItemNotificationMessage/transaction/documentCommand/catalogue_item_notification:catalogueItemNotification/catalogueItem/tradeItem/tradeItemInformation/extension/*[namespace-uri()='urn:gs1:gdsn:trade_item_measurements:xsd:3' and local-name()='tradeItemMeasurementsModule']/tradeItemMeasurements/width/@measurementUnitcode","CodeList","BENELUX_GDSN_MeasurementUnitCode","","","1..1","","FMCG","Dimensions;Datakwalitijd 2.0","126","Petfood;Health;Food;Fruit&Vegetable","","This field is checked in the context of the Dutch data quality program.","Any standardised, reproducible unit that can be used to measure any physical property.","MMT","Select the value from the 'MeasurementUnitCode' code list.","Local Dutch applicable validation rules are: 500.011",null,"False","M","Mandatory","M"," ","M"," ","Sarina","Sarina","9/27/2021 6:38:18 PM","11/4/2021 8:58:36 PM",{"$f":"IF(A60=\"ANL1420\",\"Targetsector\",LEFT(C60,LEN(C60)-LEN('BES EN'!E60)-3))","v":"Width UOM"}]
["ANL1081","Active","Gross weight (grossWeight)","MNL0020","grossWeight","3.1.17","/catalogue_item_notification:catalogueItemNotificationMessage/transaction/documentCommand/catalogue_item_notification:catalogueItemNotification/catalogueItem/tradeItem/tradeItemInformation/extension/*[namespace-uri()='urn:gs1:gdsn:trade_item_measurements:xsd:3' and local-name()='tradeItemMeasurementsModule']/tradeItemMeasurements/tradeItemWeight/grossWeight","Measurement",null,"","","0..1","","FMCG","Dimensions;Datakwalitijd 2.0","127","Fruit&Vegetable;Petfood;Food;Health","","This field is checked in the context of the Dutch data quality program.","Number indicating the weight of the product, including the weight of the packaging. At pallet level the weight of the pallet should be included.","450 (GRM)","Enter a valid weight expressed in the unit of measurement KGM (kilograms) or GRM (grams). ","- See for the measurement rules: <a href=\" https://www.gs1.org/standards/gs1-package-measurement-rules-standard\" style=\"color:blue; text-decoration:underline\" target=\"_blank\"> https://www.gs1.org/standards/gs1-package-measurement-rules-standard</a> <br />\n<br />\nLocal Dutch applicable validation rules are:\n500.006, 500.007, 500.008, 500.137, 500.299, 500.303, 500.304 ",null,"False","M","Mandatory","M"," ","M"," ","Sarina","Sarina","9/27/2021 6:38:18 PM","11/4/2021 8:58:39 PM",{"$f":"IF(A61=\"ANL1420\",\"Targetsector\",LEFT(C61,LEN(C61)-LEN('BES EN'!E61)-3))","v":"Gross weight"}]
["ANL1082","Active","Gross weight UOM (grossWeight/@measurementUnitCode)","MNL0020","grossWeight/@measurementUnitCode","3.1.17","/catalogue_item_notification:catalogueItemNotificationMessage/transaction/documentCommand/catalogue_item_notification:catalogueItemNotification/catalogueItem/tradeItem/tradeItemInformation/extension/*[namespace-uri()='urn:gs1:gdsn:trade_item_measurements:xsd:3' and local-name()='tradeItemMeasurementsModule']/tradeItemMeasurements/tradeItemWeight/grossWeight/@measurementUnitCode","CodeList","BENELUX_GDSN_MeasurementUnitCode","","","1..1","","FMCG","Dimensions;Datakwalitijd 2.0","128","Fruit&Vegetable;Food;Health;Petfood","","This field is checked in the context of the Dutch data quality program.","Any standardised, reproducible unit that can be used to measure any physical property.","GRM","Select the value from the 'MeasurementUnitCode' code list.","Local Dutch applicable validation rules are: 500.008",null,"False","M","Mandatory","M"," ","M"," ","Sarina","Sarina","9/27/2021 6:38:18 PM","11/4/2021 8:58:43 PM",{"$f":"IF(A62=\"ANL1420\",\"Targetsector\",LEFT(C62,LEN(C62)-LEN('BES EN'!E62)-3))","v":"Gross weight UOM"}]
["ANL1083","Active","Net content (netContent)","MNL0020","netContent","3.1.17","/catalogue_item_notification:catalogueItemNotificationMessage/transaction/documentCommand/catalogue_item_notification:catalogueItemNotification/catalogueItem/tradeItem/tradeItemInformation/extension/*[namespace-uri()='urn:gs1:gdsn:trade_item_measurements:xsd:3' and local-name()='tradeItemMeasurementsModule']/tradeItemMeasurements/netContent","Measurement",null,"","","0..n","","FMCG","Dimensions;Petfood;Label health&beauty;Detergents;Biocides;Batteries;Label;Datakwalitijd 2.0","129","Food;Petfood;Fruit&Vegetable;Health","","Net content may also be entered in grams or kilograms, in which case it will be the same as the value in the &#39;Net Weight&#39; field.<br />\n<br />\nThis field is checked in the context of the Dutch data quality program.","Number indicating the content of the product in the packaging. This is normally shown on the packaging.\n","- Bottle of water: 750 (MLT - Milliliter)<br />\n- Pack of sugar: 1 (KGM - Kilogram)<br />\n- Pack of nappies: 20 (H87 - Pieces)<br />\n- Bottle of tomato ketchup: 750 (MLT - Milliliter) 855 (GRM - Gram)<br />\n- Jar of vitamin pills: 60 (H87 - Pieces) 75 (GRM - Gram)<br />\n- Bag of dog chunks: 15 (KGM - Kilogram)<br />\n- Box of tea with 25 teabags of 2 gram: 25 (H87 - Pieces) Optional for &#39;Net Content Statement&#39;: 25 x 2 g 50 (GRM - Gram)<br />\n- Promotional pack with 4 bottles of beer and a beer glass: 5 (H87 - Pieces) Optional for &#39;Net Content Statement&#39;: 4 x 330 ml and 1 x beer glass<br />\n- Multi-pack cans of lemonade: 6 (H87 - Pieces) Important: enter 6 x 330 ml in the field &#39;Net Content Statement&#39;<br />\n<br />\nDetergents:<br />\n16\n","The net content can be represented by several units of measurement on the packaging. Enter all variants mentioned on the packaging in this field. For example, when both the number of pieces and the weight are mentioned, enter both (starting with the number of pieces). Use at least one of the following units of measurement: CMT (centimetres), MMT (millimetres), KGM (kilograms), GRM (grams), LTR (litres), CLT (centilitres), MLT (millilitres), H87 (pieces), EA (pieces) or MTR (metres). It is also permitted to use other units of measurement in addition to those mentioned here.<br />\n<br />\nFor products composed of several components:<br />\n- Where an item is a multi-pack (for example a six-pack), always enter the total number of pieces (even if it is not on the packaging). Consequently, fill the &#39;Net content statement&#39; field. The next lower level units must be inserted in the hierarchy in the case of multi-packs.<br />\n- When an item consists of multiple sub packages (for example multiple muesli bars separately packaged inside a packaging), always enter the total number of pieces (also when this is not stated on the label). This also applies to promotional items (such as a pack containing 4 bottles of beer + a beer glass). The &#39;Net content statement&#39; field may also be filled, this is optional.<br />\n- If an item consists of multiple components differing from each other (for example an insect control package or a taco kit), state only 1 number of pieces.<br />\nEnter the total weight or volume only if this is stated on the packaging and do not enter information based on your own calculations.<br />\n<br />\nIf the weight is stated on the label together with an estimated sign, ℮, also referred to as the e-mark, you can use the field &#39;Regulation Type Code&#39; to add the e-mark.<br />\n<br />\nFor pastry products, where weights can fluctuate, it is possible to enter pieces only, even if the weight is stated on the label.<br />\n<br />\nFor detergents: Additionally, fill in the number of standard washing machine loads for detergents. Use the code &#39;E55&#39; in the field &#39;Net content UOM&#39;, this indicates the number of times the object is used.\n","For additional explanation see <a href=\" https://www.gs1.nl/en/industries/food-health-and-beauty/gs1-data-source/entering-data/attribute-explorer-attributes-list\" style=\"color:blue; text-decoration:underline\" target=\"_blank\"> https://www.gs1.nl/en/industries/food-health-and-beauty/gs1-data-source/entering-data/attribute-explorer-attributes-list</a> <br />\n<br />\n- GDSN Trade Item Implementation Guideline: <a href=\" https://www.gs1.org/gdsn/trade_implementation_guide\" style=\"color:blue; text-decoration:underline\" target=\"_blank\"> https://www.gs1.org/gdsn/trade_implementation_guide</a> <br />\n<br />\nLocal Dutch applicable validation rules are: 500.014, 500.016, 500.150, 500.300, 500.347 \n",null,"False","M","Mandatory","O",null,"O"," ","Sarina","Sarina","9/27/2021 6:38:18 PM","11/4/2021 8:58:46 PM",{"$f":"IF(A63=\"ANL1420\",\"Targetsector\",LEFT(C63,LEN(C63)-LEN('BES EN'!E63)-3))","v":"Net content"}]
["ANL1084","Active","Net content UOM (netContent/@measurementUnitcode)","MNL0020","netContent/@measurementUnitcode","3.1.17","/catalogue_item_notification:catalogueItemNotificationMessage/transaction/documentCommand/catalogue_item_notification:catalogueItemNotification/catalogueItem/tradeItem/tradeItemInformation/extension/*[namespace-uri()='urn:gs1:gdsn:trade_item_measurements:xsd:3' and local-name()='tradeItemMeasurementsModule']/tradeItemMeasurements/netContent/@measurementUnitcode","CodeList","BENELUX_GDSN_MeasurementUnitCode","","","1..1","","FMCG","Label;Dimensions;Datakwalitijd 2.0;Label health&beauty;Biocides;Petfood;Batteries;Detergents","130","Petfood;Health;Food;Fruit&Vegetable","",null,"Any standardised, reproducible unit that can be used to measure any physical property.","MLT","Select the value from the 'MeasurementUnitCode' code list.","Local Dutch applicable validation rules are: 500.014, 500.016, 500.150, 500.347, 500.379",null,"False","M","Mandatory","CM","in case the 'Net content' field is populated.","CM","in case the 'Net content' field is populated.","Sarina","Sarina","9/27/2021 6:38:19 PM","11/4/2021 8:58:50 PM",{"$f":"IF(A64=\"ANL1420\",\"Targetsector\",LEFT(C64,LEN(C64)-LEN('BES EN'!E64)-3))","v":"Net content UOM"}]
["ANL1085","Active","Drained weight (drainedWeight)","MNL0020","drainedWeight","3.1.17","/catalogue_item_notification:catalogueItemNotificationMessage/transaction/documentCommand/catalogue_item_notification:catalogueItemNotification/catalogueItem/tradeItem/tradeItemInformation/extension/*[namespace-uri()='urn:gs1:gdsn:trade_item_measurements:xsd:3' and local-name()='tradeItemMeasurementsModule']/tradeItemMeasurements/tradeItemWeight/drainedWeight","Measurement",null,"","","0..1","","FMCG","Label;Petfood;Dimensions;Datakwalitijd 2.0","131","Fruit&Vegetable;Petfood;Food;Health","","The drained weight must not exceed the net weight, expressed in the same unit of measurement.<br />\n<br />\nThis field is checked in the context of the Dutch data quality program.","The weight of the drained product.\n","230 (GRM)\n","Use the unit of measurement &#39;KGM&#39; (kilograms) or &#39;GRM&#39; (grams). Where a product is composed of multiple components (for example an insect control package or a taco kit), add up all the drained weights. If there is only one component with a drained weight, add the drained weight of this component to the net weights of the other components.\n","Local Dutch applicable validation rules are: 500.014, 500.194, 500.301, 500.302\n",null,"False","CM","Mandatory if a drained weight is shown on the packaging.","O"," ","O"," ","Sarina","Sarina","9/27/2021 6:38:19 PM","11/4/2021 8:58:54 PM",{"$f":"IF(A65=\"ANL1420\",\"Targetsector\",LEFT(C65,LEN(C65)-LEN('BES EN'!E65)-3))","v":"Drained weight"}]
["ANL1086","Active","Drained weight UOM (drainedWeight/@measurementUnitCode)","MNL0020","drainedWeight/@measurementUnitCode","3.1.17","/catalogue_item_notification:catalogueItemNotificationMessage/transaction/documentCommand/catalogue_item_notification:catalogueItemNotification/catalogueItem/tradeItem/tradeItemInformation/extension/*[namespace-uri()='urn:gs1:gdsn:trade_item_measurements:xsd:3' and local-name()='tradeItemMeasurementsModule']/tradeItemMeasurements/tradeItemWeight/drainedWeight/@measurementUnitCode","CodeList","BENELUX_GDSN_MeasurementUnitCode","","","1..1","","FMCG","Petfood;Datakwalitijd 2.0;Label;Dimensions","132","Fruit&Vegetable;Food;Health;Petfood","","This field is checked in the context of the Dutch data quality program.","Any standardised, reproducible unit that can be used to measure any physical property.","GRM","Select the value from the 'MeasurementUnitCode code' list.","Local Dutch applicable validation rules are: 500.014, 500.194",null,"False","CM","Mandatory in case the 'Drained weight' field is populated for the consumer unit.","CM","in case the 'Drained weight' field is populated for the trade unit.","CM","in case the 'Drained weight' field is populated for the pallet","Sarina","Sarina","9/27/2021 6:38:19 PM","11/4/2021 8:58:57 PM",{"$f":"IF(A66=\"ANL1420\",\"Targetsector\",LEFT(C66,LEN(C66)-LEN('BES EN'!E66)-3))","v":"Drained weight UOM"}]
["ANL1087","Active","Net weight (netWeight)","MNL0020","netWeight","3.1.17","/catalogue_item_notification:catalogueItemNotificationMessage/transaction/documentCommand/catalogue_item_notification:catalogueItemNotification/catalogueItem/tradeItem/tradeItemInformation/extension/*[namespace-uri()='urn:gs1:gdsn:trade_item_measurements:xsd:3' and local-name()='tradeItemMeasurementsModule']/tradeItemMeasurements/tradeItemWeight/netWeight","Measurement",null,"","","0..1","","FMCG","Dimensions","133","Food;Petfood;Fruit&Vegetable;Health","","In the case of a variable weight item (e.g. a tray of mince), the average weight of the product should be entered under 'Net Weight'. In other words, several products with the same GTIN (Global Trade Item Number) need to be weighed in order to enter the net weight.&nbsp;\n","Used to identify the net weight of the trade item. Net weight excludes any packaging materials. Has to be associated with a valid UoM.\n","100 (GRM)\n","Use the unit of measurement KGM (kilograms) or GRM (grams). In the case of next lower level units, do not take into account the weights of the packaging of these next lower level units. If a product is composed of several components (e.g. an insect control package or a taco kit), add the individual net weights.\n","Local Dutch applicable validation rules are: 500.150, 500.273, 500.274, 500.299, 500.303, 500.304",null,"False","M","Mandatory","O",null,"O"," ","Sarina","Sarina","9/27/2021 6:38:19 PM","11/4/2021 8:59:01 PM",{"$f":"IF(A67=\"ANL1420\",\"Targetsector\",LEFT(C67,LEN(C67)-LEN('BES EN'!E67)-3))","v":"Net weight"}]
["ANL1088","Active","Net weight UOM (netWeight/@measurementUnitCode)","MNL0020","netWeight/@measurementUnitCode","3.1.17","/catalogue_item_notification:catalogueItemNotificationMessage/transaction/documentCommand/catalogue_item_notification:catalogueItemNotification/catalogueItem/tradeItem/tradeItemInformation/extension/*[namespace-uri()='urn:gs1:gdsn:trade_item_measurements:xsd:3' and local-name()='tradeItemMeasurementsModule']/tradeItemMeasurements/tradeItemWeight/netWeight/@measurementUnitCode","CodeList","BENELUX_GDSN_MeasurementUnitCode","","","1..1","","FMCG","Dimensions","134","Petfood;Health;Food;Fruit&Vegetable","","This field is checked in the context of the Dutch data quality program.","Code specifying a unit of measurement. Permitted code values are specified in GS1 code list 'MeasurementUnitCode'.","GRM","Select the value from the 'MeasurementUnitCode' code list.","Local Dutch applicable validation rules are: 500.274",null,"False","M","Mandatory","CM","Mandatory if the net weight is populated for the trade unit.","CM","if the net weight is populated for the pallet.","Sarina","Sarina","9/27/2021 6:38:19 PM","11/4/2021 8:59:05 PM",{"$f":"IF(A68=\"ANL1420\",\"Targetsector\",LEFT(C68,LEN(C68)-LEN('BES EN'!E68)-3))","v":"Net weight UOM"}]
["ANL1089","Active","Dimension type code (dimensionTypeCode)","MNL0020","dimensionTypeCode","3.1.17","/catalogue_item_notification:catalogueItemNotificationMessage/transaction/documentCommand/catalogue_item_notification:catalogueItemNotification/catalogueItem/tradeItem/tradeItemInformation/extension/*[namespace-uri()='urn:gs1:gdsn:trade_item_measurements:xsd:3' and local-name()='tradeItemMeasurementsModule']/tradeItemMeasurements/additionalTradeItemDimensions/dimensionTypeCode","CodeList","BENELUX_GDSN_DimensionTypeCode","","","1..1","","FMCG","Dimensions","135","Food;Health;Fruit&Vegetable;Petfood",""," ","Depicts certain measurement scenarios (e.g. retail display, out of package) used for measurement.","OUT_OF_PACKAGE","If it is relevant to provide additional dimensions, indicate what type of additional dimensions are provided. ",null,null,"False","CM","Mandatory if the physical form of the product has different dimensions than the packaged product.","O"," ","O"," ","Sarina","Sarina","9/27/2021 6:38:19 PM","11/4/2021 8:59:09 PM",{"$f":"IF(A69=\"ANL1420\",\"Targetsector\",LEFT(C69,LEN(C69)-LEN('BES EN'!E69)-3))","v":"Dimension type code"}]
["ANL1090","Active","Additional trade item dimension: height (height)","MNL0020","height","3.1.17","/catalogue_item_notification:catalogueItemNotificationMessage/transaction/documentCommand/catalogue_item_notification:catalogueItemNotification/catalogueItem/tradeItem/tradeItemInformation/extension/*[namespace-uri()='urn:gs1:gdsn:trade_item_measurements:xsd:3' and local-name()='tradeItemMeasurementsModule']/tradeItemMeasurements/additionalTradeItemDimensions/height","Measurement",null,"","","1..1","","FMCG","Dimensions","136","Petfood;Food;Health;Fruit&Vegetable","","Use the same unit of measurement for all dimensions.<br />\nUse preferably millimetres as the unit of measurement.","The height of the item, as measured according to the 'Package Measurement Rules', including the shipping platform unless it is excluded according to the chosen 'Pallet Type Code'.","230 (MMT)","If it is relevant to provide additional dimensions, indicate the height corresponding to the value in the 'Dimension type code' field.","- See for the measurement rules: <a href=\" https://www.gs1.org/standards/gs1-package-measurement-rules-standard\" style=\"color:blue; text-decoration:underline\" target=\"_blank\"> https://www.gs1.org/standards/gs1-package-measurement-rules-standard</a> <br />\n<br />\nLocal Dutch applicable validation rules are: 500.297 ",null,"False","CM","Mandatory if the physical form of the product has different dimensions than the packaged product.","O"," ","O"," ","Sarina","Sarina","9/27/2021 6:38:20 PM","11/4/2021 8:59:13 PM",{"$f":"IF(A70=\"ANL1420\",\"Targetsector\",LEFT(C70,LEN(C70)-LEN('BES EN'!E70)-3))","v":"Additional trade item dimension: height"}]
["ANL1091","Active","Additional trade item dimension: height UOM (height/@measurementUnitcode)","MNL0020","height/@measurementUnitcode","3.1.17","/catalogue_item_notification:catalogueItemNotificationMessage/transaction/documentCommand/catalogue_item_notification:catalogueItemNotification/catalogueItem/tradeItem/tradeItemInformation/extension/*[namespace-uri()='urn:gs1:gdsn:trade_item_measurements:xsd:3' and local-name()='tradeItemMeasurementsModule']/tradeItemMeasurements/additionalTradeItemDimensions/height/@measurementUnitcode","CodeList","BENELUX_GDSN_MeasurementUnitCode","","","1..1","","FMCG","Dimensions","137","Fruit&Vegetable;Food;Health;Petfood","",null,"Any standardised, reproducible unit that can be used to measure any physical property.","MMT (Millimeter)","Provide the unit of measure in which the dimension is specified.",null,null,"False","CM","Mandatory in case the 'Additional trade item dimension: height' field is populated.","CM","in case the 'Additional trade item dimension: height' field is populated.","CM","in case the 'Additional trade item dimension: height' field is populated.","Sarina","Sarina","9/27/2021 6:38:20 PM","11/4/2021 8:59:17 PM",{"$f":"IF(A71=\"ANL1420\",\"Targetsector\",LEFT(C71,LEN(C71)-LEN('BES EN'!E71)-3))","v":"Additional trade item dimension: height UOM"}]
["ANL1092","Active","Additional trade item dimension: width (width)","MNL0020","width","3.1.17","/catalogue_item_notification:catalogueItemNotificationMessage/transaction/documentCommand/catalogue_item_notification:catalogueItemNotification/catalogueItem/tradeItem/tradeItemInformation/extension/*[namespace-uri()='urn:gs1:gdsn:trade_item_measurements:xsd:3' and local-name()='tradeItemMeasurementsModule']/tradeItemMeasurements/additionalTradeItemDimensions/width","Measurement",null,"","","1..1","","FMCG","Dimensions","138","Food;Petfood;Fruit&Vegetable;Health","","Use the same unit of measurement for all dimensions.<br />\nUse preferably millimetres as the unit of measurement.","The width of the item, as measured according to the 'Package Measurement Rules', including the shipping platform unless it is excluded according to the chosen 'Pallet Type Code'.","230 (MMT)","If it is relevant to provide additional dimensions, indicate the width corresponding to the value in the 'Dimension type code' field.","- See for the measurement rules: <a href=\" https://www.gs1.org/standards/gs1-package-measurement-rules-standard\" style=\"color:blue; text-decoration:underline\" target=\"_blank\"> https://www.gs1.org/standards/gs1-package-measurement-rules-standard</a> <br />\n<br />\nLocal Dutch applicable validation rules are: 500.298 ",null,"False","CM","Mandatory if the physical form of the product has different dimensions than the packaged product.","O"," ","O"," ","Sarina","Sarina","9/27/2021 6:38:20 PM","11/4/2021 8:59:21 PM",{"$f":"IF(A72=\"ANL1420\",\"Targetsector\",LEFT(C72,LEN(C72)-LEN('BES EN'!E72)-3))","v":"Additional trade item dimension: width"}]
["ANL1093","Active","Additional trade item dimension: width UOM (width/@measurementUnitcode)","MNL0020","width/@measurementUnitcode","3.1.17","/catalogue_item_notification:catalogueItemNotificationMessage/transaction/documentCommand/catalogue_item_notification:catalogueItemNotification/catalogueItem/tradeItem/tradeItemInformation/extension/*[namespace-uri()='urn:gs1:gdsn:trade_item_measurements:xsd:3' and local-name()='tradeItemMeasurementsModule']/tradeItemMeasurements/additionalTradeItemDimensions/width/@measurementUnitcode","CodeList","BENELUX_GDSN_MeasurementUnitCode","","","1..1","","FMCG","Dimensions","139","Petfood;Health;Food;Fruit&Vegetable","",null,"Any standardised, reproducible unit that can be used to measure any physical property.","MMT (Millimeter)","Provide the unit of measure in which the dimension is specified.",null,null,"False","CM","Mandatory in case the 'Additional trade item dimension: width' field is populated.","CM","in case the 'Additional trade item dimension: width' field is populated.","CM","in case the 'Additional trade item dimension: width' field is populated.","Sarina","Sarina","9/27/2021 6:38:20 PM","11/4/2021 8:59:25 PM",{"$f":"IF(A73=\"ANL1420\",\"Targetsector\",LEFT(C73,LEN(C73)-LEN('BES EN'!E73)-3))","v":"Additional trade item dimension: width UOM"}]
["ANL1094","Active","Additional trade item dimension: depth (depth)","MNL0020","depth","3.1.17","/catalogue_item_notification:catalogueItemNotificationMessage/transaction/documentCommand/catalogue_item_notification:catalogueItemNotification/catalogueItem/tradeItem/tradeItemInformation/extension/*[namespace-uri()='urn:gs1:gdsn:trade_item_measurements:xsd:3' and local-name()='tradeItemMeasurementsModule']/tradeItemMeasurements/additionalTradeItemDimensions/depth","Measurement",null,"","","1..1","","FMCG","Dimensions","140","Petfood;Food;Health;Fruit&Vegetable","","Use the same unit of measurement for all dimensions.<br />\nUse preferably millimetres as the unit of measurement.","The depth of the item, as measured according to the 'Package Measurement Rules', including the shipping platform unless it is excluded according to the chosen 'Pallet Type Code'.","230 (MMT)","If it is relevant to provide additional dimensions, indicate the depth corresponding to the value in the  'Dimension type code' field.","- See for the measurement rules: <a href=\" https://www.gs1.org/standards/gs1-package-measurement-rules-standard\" style=\"color:blue; text-decoration:underline\" target=\"_blank\"> https://www.gs1.org/standards/gs1-package-measurement-rules-standard</a> <br />\n<br />\nLocal Dutch applicable validation rules are: 500.296 ",null,"False","CM","Mandatory if the physical form of the product has different dimensions than the packaged product.","O"," ","O"," ","Sarina","Sarina","9/27/2021 6:38:20 PM","11/4/2021 8:59:29 PM",{"$f":"IF(A74=\"ANL1420\",\"Targetsector\",LEFT(C74,LEN(C74)-LEN('BES EN'!E74)-3))","v":"Additional trade item dimension: depth"}]
["ANL1095","Active","Additional trade item dimension: depth UOM (depth/@measurementUnitcode)","MNL0020","depth/@measurementUnitcode","3.1.17","/catalogue_item_notification:catalogueItemNotificationMessage/transaction/documentCommand/catalogue_item_notification:catalogueItemNotification/catalogueItem/tradeItem/tradeItemInformation/extension/*[namespace-uri()='urn:gs1:gdsn:trade_item_measurements:xsd:3' and local-name()='tradeItemMeasurementsModule']/tradeItemMeasurements/additionalTradeItemDimensions/depth/@measurementUnitcode","CodeList","BENELUX_GDSN_MeasurementUnitCode","","","1..1","","FMCG","Dimensions","141","Fruit&Vegetable;Food;Health;Petfood","",null,"Any standardised, reproducible unit that can be used to measure any physical property.","MMT (Millimeter)","Provide the unit of measure in which the dimension is specified.",null,null,"False","CM","Mandatory in case the 'Additional trade item dimension: depth' field is populated.","CM","in case the 'Additional trade item dimension: depth' field is populated.","CM","in case the 'Additional trade item dimension: depth' field is populated.","Sarina","Sarina","9/27/2021 6:38:20 PM","11/4/2021 8:59:33 PM",{"$f":"IF(A75=\"ANL1420\",\"Targetsector\",LEFT(C75,LEN(C75)-LEN('BES EN'!E75)-3))","v":"Additional trade item dimension: depth UOM"}]
["ANL1096","Active","Trade item composition depth (tradeItemCompositionDepth)","MNL0020","tradeItemCompositionDepth","3.1.17","/catalogue_item_notification:catalogueItemNotificationMessage/transaction/documentCommand/catalogue_item_notification:catalogueItemNotification/catalogueItem/tradeItem/tradeItemInformation/extension/*[namespace-uri()='urn:gs1:gdsn:trade_item_measurements:xsd:3' and local-name()='tradeItemMeasurementsModule']/tradeItemMeasurements/tradeItemCompositionDepth","Measurement",null,"","","0..1","","FMCG","Dimensions","142","Food;Petfood;Fruit&Vegetable;Health","","Indicate the number of items in the shelf ready package (SRP).","The number of child items that are packaged from front to back in a trade unit. This information is used in the space process, especially when allocating whole trade units (intermediate) into the shelf. This is needed for shelf ready packaged (SRP) products.","4 (H87)","Provide the number of child items that are packaged from front to back in a trade unit. This information is used in the space process, especially when allocating whole Trade Units (intermediate) to the shelf. This is needed for shelf ready packaged (SRP) products.",null,null,"False","O"," ","O"," ","O"," ","Sarina","Sarina","9/27/2021 6:38:20 PM","11/4/2021 8:59:37 PM",{"$f":"IF(A76=\"ANL1420\",\"Targetsector\",LEFT(C76,LEN(C76)-LEN('BES EN'!E76)-3))","v":"Trade item composition depth"}]
["ANL1097","Active","Trade item composition depth UOM (tradeItemCompositionDepth/@measurementUnitcode)","MNL0020","tradeItemCompositionDepth/@measurementUnitcode","3.1.17","/catalogue_item_notification:catalogueItemNotificationMessage/transaction/documentCommand/catalogue_item_notification:catalogueItemNotification/catalogueItem/tradeItem/tradeItemInformation/extension/*[namespace-uri()='urn:gs1:gdsn:trade_item_measurements:xsd:3' and local-name()='tradeItemMeasurementsModule']/tradeItemMeasurements/tradeItemCompositionDepth/@measurementUnitcode","CodeList","BENELUX_GDSN_MeasurementUnitCode","","","1..1","","FMCG","Dimensions","143","Petfood;Health;Food;Fruit&Vegetable","",null,"Any standardised, reproducible unit that can be used to measure any physical property.","H87","Provide the unit of measure in which the dimension is specified.",null,null,"False","CM","Mandatory in case the 'Trade item composition depth' field is populated.","CM","  in case the 'Trade item composition depth' field is populated.","CM","in case the 'Trade item composition depth' field is populated.","Sarina","Sarina","9/27/2021 6:38:21 PM","11/4/2021 8:59:41 PM",{"$f":"IF(A77=\"ANL1420\",\"Targetsector\",LEFT(C77,LEN(C77)-LEN('BES EN'!E77)-3))","v":"Trade item composition depth UOM"}]
["ANL1098","Active","Trade item composition width  (tradeItemCompositionWidth)","MNL0020","tradeItemCompositionWidth","3.1.17","/catalogue_item_notification:catalogueItemNotificationMessage/transaction/documentCommand/catalogue_item_notification:catalogueItemNotification/catalogueItem/tradeItem/tradeItemInformation/extension/*[namespace-uri()='urn:gs1:gdsn:trade_item_measurements:xsd:3' and local-name()='tradeItemMeasurementsModule']/tradeItemMeasurements/tradeItemCompositionWidth","Measurement",null,"","","0..1","","FMCG","Dimensions","144","Petfood;Food;Health;Fruit&Vegetable","","Needed for shelf ready packaged (SRP) products.","The number of child items that are packaged beside each other in a trade unit (on the consumer facing side). This information is used in the space process, especially when allocating whole trade units (intermediate) to the shelf. The space manager always allocates base units to the shelf. Usually there are no pictures of trade units available and for hypermarkets/large supermarkets there is a need to allocate whole trade units to the shelves.","4 (H87)","Indicate the number of child items beside each other in a trade unit.",null,null,"False","O"," ","O"," ","O"," ","Sarina","Sarina","9/27/2021 6:38:21 PM","11/4/2021 8:59:45 PM",{"$f":"IF(A78=\"ANL1420\",\"Targetsector\",LEFT(C78,LEN(C78)-LEN('BES EN'!E78)-3))","v":"Trade item composition width "}]
["ANL1099","Active","Trade item composition width UOM (tradeItemCompositionWidth/@measurementUnitcode)","MNL0020","tradeItemCompositionWidth/@measurementUnitcode","3.1.17","/catalogue_item_notification:catalogueItemNotificationMessage/transaction/documentCommand/catalogue_item_notification:catalogueItemNotification/catalogueItem/tradeItem/tradeItemInformation/extension/*[namespace-uri()='urn:gs1:gdsn:trade_item_measurements:xsd:3' and local-name()='tradeItemMeasurementsModule']/tradeItemMeasurements/tradeItemCompositionWidth/@measurementUnitcode","CodeList","BENELUX_GDSN_MeasurementUnitCode","","","1..1","","FMCG","Dimensions","145","Fruit&Vegetable;Food;Health;Petfood","",null,"Any standardised, reproducible unit that can be used to measure any physical property.","H87","Provide the unit of measure in which the dimension is specified.\n",null,null,"False","CM","Mandatory in case the 'Trade item composition width' field is populated.","CM","in case the 'Trade item composition width' field is populated.","CM","in case the 'Trade item composition width' field is populated.","Sarina","Sarina","9/27/2021 6:38:21 PM","11/4/2021 8:59:50 PM",{"$f":"IF(A79=\"ANL1420\",\"Targetsector\",LEFT(C79,LEN(C79)-LEN('BES EN'!E79)-3))","v":"Trade item composition width UOM"}]
["ANL1104","Active","Percentage of alcohol by volume (percentageOfAlcoholByVolume)","MNL0020","percentageOfAlcoholByVolume","3.1.17","/catalogue_item_notification:catalogueItemNotificationMessage/transaction/documentCommand/catalogue_item_notification:catalogueItemNotification/catalogueItem/tradeItem/tradeItemInformation/extension/*[namespace-uri()='urn:gs1:gdsn:alcohol_information:xsd:3' and local-name()='alcoholInformationModule']/alcoholInformation/percentageOfAlcoholByVolume","decimal",null,"","","0..1","","FMCG","Label health&beauty;Datakwalitijd 2.0;Label","151","Health;Food","","For alcoholic products with an alcohol percentage &lt;1,2% ingredients and nutrients are legally required.<br />\n<br />\nThis field is checked in the context of the Dutch data quality program.","Percentage of alcohol by volume for products containing alcohol.\n","4.7(%) or 0.2(%)\n","Enter the percentage of alcohol. In case of an item consisting of components with different alcohol percentages, populate the highest percentage.\n","Local Dutch applicable validation rules are: 500.165, 500.193, 500.331\n",null,"False","CM","Mandatory if an alcohol percentage is stated on the packaging/label.","O"," ","O"," ","Sarina","Sarina","9/27/2021 6:38:21 PM","11/4/2021 8:59:54 PM",{"$f":"IF(A80=\"ANL1420\",\"Targetsector\",LEFT(C80,LEN(C80)-LEN('BES EN'!E80)-3))","v":"Percentage of alcohol by volume"}]
["ANL1105","Active","Degree of original wort (degreeOfOriginalWort)","MNL0020","degreeOfOriginalWort","3.1.17","/catalogue_item_notification:catalogueItemNotificationMessage/transaction/documentCommand/catalogue_item_notification:catalogueItemNotification/catalogueItem/tradeItem/tradeItemInformation/extension/*[namespace-uri()='urn:gs1:gdsn:alcohol_information:xsd:3' and local-name()='alcoholInformationModule']/alcoholInformation/degreeOfOriginalWort","decimal",null,"","","0..1","","FMCG","Label","152","Food;Health",""," ","The specification of the degrees of original wort (sugar, water, yeast, barley, hops, etc.) is used to allocate different kinds of beer to their respective tax group/beer tax rate.","12 (degrees Plato)","Enter the value in degrees Plato. In case the item consists of components with different degrees Plato, populate the highest degree.","Local Dutch applicable validation rules are: 500.166, 500.193",null,"False","CM","Mandatory for alcoholic beers","O"," ","O"," ","Sarina","Sarina","9/27/2021 6:38:21 PM","11/4/2021 8:59:58 PM",{"$f":"IF(A81=\"ANL1420\",\"Targetsector\",LEFT(C81,LEN(C81)-LEN('BES EN'!E81)-3))","v":"Degree of original wort"}]
["ANL1106","Active","Vintage (vintage)","MNL0020","vintage","3.1.17","/catalogue_item_notification:catalogueItemNotificationMessage/transaction/documentCommand/catalogue_item_notification:catalogueItemNotification/catalogueItem/tradeItem/tradeItemInformation/extension/*[namespace-uri()='urn:gs1:gdsn:alcohol_information:xsd:3' and local-name()='alcoholInformationModule']/alcoholInformation/vintage","gYear",null,"","","0..n","","FMCG","Label","153","Food;Health","","This field is checked in the context of the Dutch data quality program.\n","The year in which the majority of ingredients are harvested and/or the alcoholic beverage is produced. Determination as to whether the vintage year is the harvest date or production date is according to requirements in the target market.\n","2016\n","Indicate the year in which the grapes of the wine were primarily grown and harvested.\n",null,null,"False","CM","Mandatory for wine if the product vintage year is printed on the product packaging (label).","O"," ","O"," ","Sarina","Sarina","9/27/2021 6:38:21 PM","11/4/2021 9:00:04 PM",{"$f":"IF(A82=\"ANL1420\",\"Targetsector\",LEFT(C82,LEN(C82)-LEN('BES EN'!E82)-3))","v":"Vintage"}]
["ANL1107","Active","Minimum trade item lifespan from time of production (minimumTradeItemLifespanFromTimeOfProduction)","MNL0020","minimumTradeItemLifespanFromTimeOfProduction","3.1.17","/catalogue_item_notification:catalogueItemNotificationMessage/transaction/documentCommand/catalogue_item_notification:catalogueItemNotification/catalogueItem/tradeItem/tradeItemInformation/extension/*[namespace-uri()='urn:gs1:gdsn:trade_item_lifespan:xsd:3' and local-name()='tradeItemLifespanModule']/tradeItemLifespan/minimumTradeItemLifespanFromTimeOfProduction","nonNegativeInteger",null,"","","0..1","","FMCG","General","161","Fruit&Vegetable;Petfood;Food;Health",""," ","The period in days, guaranteed by the manufacturer, before the expiration date of the product, based on the production.","10 (days)","In the case of composite trade items (please refer to the link below in Process Description to the explanatory document) and displays, the separate child GTINs must be provided with the appropriate minimum lifespan for that GTIN (Global Trade Item Number). The composite trade item or display itself must be provided with the shortest lifespan of all child GTINs.<br />\nThe day of production is day zero and must therefore not be used in the calculation.","Local Dutch applicable validation rules are: 500.161",null,"False","O"," ","O"," ","O"," ","Sarina","Sarina","9/27/2021 6:38:21 PM","11/4/2021 9:00:08 PM",{"$f":"IF(A83=\"ANL1420\",\"Targetsector\",LEFT(C83,LEN(C83)-LEN('BES EN'!E83)-3))","v":"Minimum trade item lifespan from time of production"}]
["ANL1108","Active","Minimum trade item lifespan from time of arrival (minimumTradeItemLifespanFromTimeOfArrival)","MNL0020","minimumTradeItemLifespanFromTimeOfArrival","3.1.17","/catalogue_item_notification:catalogueItemNotificationMessage/transaction/documentCommand/catalogue_item_notification:catalogueItemNotification/catalogueItem/tradeItem/tradeItemInformation/extension/*[namespace-uri()='urn:gs1:gdsn:trade_item_lifespan:xsd:3' and local-name()='tradeItemLifespanModule']/tradeItemLifespan/minimumTradeItemLifespanFromTimeOfArrival","nonNegativeInteger",null,"","","0..1","","FMCG","General","162","Food;Petfood;Fruit&Vegetable;Health",""," ","The period in days, guaranteed by the manufacturer, before the expiration date of the trade item, based on arrival at a mutually agreed point in the buyer’s distribution system. Can be repeatable upon use of GLN (Global Location Number).","8 (days)","In the case of composite trade items (please refer to the link below in Process Description to the  explanatory document) and displays, the separate child GTINs must be provided with the appropriate minimum lifespan for that GTIN (Global Trade Item Number). The composite trade item or display itself must be provided with the shortest lifespan of all child GTINs.<br />\nThe day of arrival is day zero and must therefore not be used in the calculation.","Local Dutch applicable validation rules are: 500.162",null,"False","CM","Mandatory if a best before date is shown on the packaging.","CM","if a best before date is shown on the packaging.","CM","if a best before date is shown on the packaging.","Sarina","Sarina","9/27/2021 6:38:22 PM","11/4/2021 9:00:13 PM",{"$f":"IF(A84=\"ANL1420\",\"Targetsector\",LEFT(C84,LEN(C84)-LEN('BES EN'!E84)-3))","v":"Minimum trade item lifespan from time of arrival"}]
["ANL1109","Active","Opened trade item lifespan (openedTradeItemLifespan)","MNL0020","openedTradeItemLifespan","3.1.17","/catalogue_item_notification:catalogueItemNotificationMessage/transaction/documentCommand/catalogue_item_notification:catalogueItemNotification/catalogueItem/tradeItem/tradeItemInformation/extension/*[namespace-uri()='urn:gs1:gdsn:trade_item_lifespan:xsd:3' and local-name()='tradeItemLifespanModule']/tradeItemLifespan/openedTradeItemLifespan","nonNegativeInteger",null,"","","0..1","","FMCG","General","163","Petfood;Fruit&Vegetable;Food;Health","","Only for perishable items.","The number of days for which the trade item that had been opened can remain on the shelf and must then be removed.","2","If indicated on the packaging, indicate the lifespan in days after opening. ",null,null,"False","CM","Mandatory when available. Optional for the Dutch target market.","O"," ","O"," ","Sarina","Sarina","9/27/2021 6:38:22 PM","11/4/2021 9:00:18 PM",{"$f":"IF(A85=\"ANL1420\",\"Targetsector\",LEFT(C85,LEN(C85)-LEN('BES EN'!E85)-3))","v":"Opened trade item lifespan"}]
["ANL1110","Active","Minimum temperature (minimumTemperature)","MNL0020","minimumTemperature","3.1.17","/catalogue_item_notification:catalogueItemNotificationMessage/transaction/documentCommand/catalogue_item_notification:catalogueItemNotification/catalogueItem/tradeItem/tradeItemInformation/extension/*[namespace-uri()='urn:gs1:gdsn:trade_item_temperature_information:xsd:3' and local-name()='tradeItemTemperatureInformationModule']/tradeItemTemperatureInformation/minimumTemperature","TemperatureMeasurement",null,"","","0..1","","FMCG","General;Label health&beauty","164","Fruit&Vegetable;Health;Petfood;Food","","Temperature information is important for fresh produce, dangerous materials and products subject to certain temperature limits to ensure quality and/or safety.\nThe unit of measurement is mandatory if you enter a value.","The minimum temperature at which a trade item can be held, as defined by the manufacturer, without affecting product safety or quality.","2 (CEL)","Enter the value in whole degrees centigrade (Celsius).\n","Local Dutch applicable validation rules are: 500.159, 500.247\n",null,"False","CM","Mandatory if the product is temperature sensitive and minimum temperature is stated on the packaging.","CM","Mandatory if the product is temperature sensitive and minimum temperature is stated on the packaging.","CM","Mandatory if the product is temperature sensitive and minimum temperature is stated on the packaging.","Sarina","Sarina","9/27/2021 6:38:22 PM","11/4/2021 9:00:23 PM",{"$f":"IF(A86=\"ANL1420\",\"Targetsector\",LEFT(C86,LEN(C86)-LEN('BES EN'!E86)-3))","v":"Minimum temperature"}]
["ANL1111","Active","Minimum temperature measurement unit code (minimumTemperature/@temperatureMeasurementUnitCode)","MNL0020","minimumTemperature/@temperatureMeasurementUnitCode","3.1.17","/catalogue_item_notification:catalogueItemNotificationMessage/transaction/documentCommand/catalogue_item_notification:catalogueItemNotification/catalogueItem/tradeItem/tradeItemInformation/extension/*[namespace-uri()='urn:gs1:gdsn:trade_item_temperature_information:xsd:3' and local-name()='tradeItemTemperatureInformationModule']/tradeItemTemperatureInformation/minimumTemperature/@temperatureMeasurementUnitCode","CodeList","BENELUX_GDSN_TemperatureMeasurementUnitCode","","","1..1","","FMCG","General;Label health&beauty","165","Health;Food;Petfood;Fruit&Vegetable",""," ","Any standardised, reproducible unit that can be used to measure any physical property.","CEL","Always Celsius.","Local Dutch applicable validation rules are: 500.159, 500.247",null,"False","CM","Mandatory in case the 'Minimum temperature' field is populated.","CM","in case the 'Minimum temperature' field is populated.","CM","in case the 'Minimum temperature' field is populated.","Sarina","Sarina","9/27/2021 6:38:22 PM","11/4/2021 9:00:28 PM",{"$f":"IF(A87=\"ANL1420\",\"Targetsector\",LEFT(C87,LEN(C87)-LEN('BES EN'!E87)-3))","v":"Minimum temperature measurement unit code"}]
["ANL1112","Active","Maximum temperature (maximumTemperature)","MNL0020","maximumTemperature","3.1.17","/catalogue_item_notification:catalogueItemNotificationMessage/transaction/documentCommand/catalogue_item_notification:catalogueItemNotification/catalogueItem/tradeItem/tradeItemInformation/extension/*[namespace-uri()='urn:gs1:gdsn:trade_item_temperature_information:xsd:3' and local-name()='tradeItemTemperatureInformationModule']/tradeItemTemperatureInformation/maximumTemperature","TemperatureMeasurement",null,"","","0..1","","FMCG","Label health&beauty;General","166","Food;Petfood;Fruit&Vegetable;Health","","Temperature information is important for fresh produce, dangerous materials and products subject to certain temperature limits to ensure quality and/or safety.<br />\nThe unit of measurement is mandatory if you enter a value.","The maximum temperature that a trade item cannot exceed, as defined by the manufacturer, without affecting product safety or quality.","8 (CEL)","Enter the value in whole degrees centigrade (Celsius).","Local Dutch applicable validation rules are: 500.160, 500.248, 500.319",null,"False","CM","Mandatory if the product is temperature sensitive and maximum temperature is stated on the packaging.","CM"," Mandatory if the product is temperature sensitive and maximum temperature is stated on the packaging.","CM","Mandatory if the product is temperature sensitive and maximum temperature is stated on the packaging.","Sarina","Sarina","9/27/2021 6:38:22 PM","11/4/2021 9:00:32 PM",{"$f":"IF(A88=\"ANL1420\",\"Targetsector\",LEFT(C88,LEN(C88)-LEN('BES EN'!E88)-3))","v":"Maximum temperature"}]
["ANL1113","Active","Maximum temperature measurement unit code (maximumTemperature/@temperatureMeasurementUnitCode)","MNL0020","maximumTemperature/@temperatureMeasurementUnitCode","3.1.17","/catalogue_item_notification:catalogueItemNotificationMessage/transaction/documentCommand/catalogue_item_notification:catalogueItemNotification/catalogueItem/tradeItem/tradeItemInformation/extension/*[namespace-uri()='urn:gs1:gdsn:trade_item_temperature_information:xsd:3' and local-name()='tradeItemTemperatureInformationModule']/tradeItemTemperatureInformation/maximumTemperature/@temperatureMeasurementUnitCode","CodeList","BENELUX_GDSN_TemperatureMeasurementUnitCode","","","1..1","","FMCG","Label health&beauty;General","167","Fruit&Vegetable;Food;Health;Petfood",""," ","Any standardised, reproducible unit that can be used to measure any physical property.","CEL","Always Celsius.","Local Dutch applicable validation rules are: 500.160, 500.248",null,"False","CM","Mandatory in case the 'Maximum temperature' field is populated.","CM","in case the 'Maximum temperature' field is populated.","CM","in case the 'Maximum temperature' field is populated.","Sarina","Sarina","9/27/2021 6:38:22 PM","11/4/2021 9:00:37 PM",{"$f":"IF(A89=\"ANL1420\",\"Targetsector\",LEFT(C89,LEN(C89)-LEN('BES EN'!E89)-3))","v":"Maximum temperature measurement unit code"}]
["ANL1114","Active","Temperature qualifier code (temperatureQualifierCode)","MNL0020","temperatureQualifierCode","3.1.17","/catalogue_item_notification:catalogueItemNotificationMessage/transaction/documentCommand/catalogue_item_notification:catalogueItemNotification/catalogueItem/tradeItem/tradeItemInformation/extension/*[namespace-uri()='urn:gs1:gdsn:trade_item_temperature_information:xsd:3' and local-name()='tradeItemTemperatureInformationModule']/tradeItemTemperatureInformation/temperatureQualifierCode","CodeList","BENELUX_GDSN_TemperatureQualifierCode","","","0..1","","FMCG","General;Label health&beauty","168","Fruit&Vegetable;Petfood;Health;Food","",null,"Code qualifying the type of a temperature requirement, for example 'storage'","STORAGE_HANDLING","Select the correct value from the values 'STORAGE_HANDLING' and 'TRANSPORTATION'.<br /> \nIf you fill in this field, you must also fill in the 'Minimum temperature' and/or 'Maximum temperature' field.<br /> \nOnly enter 'TRANSPORTATION' and the corresponding temperatures if the temperatures differ from those for 'STORAGE_HANDLING', for example: frozen bread that defrosts during transport.","Local Dutch applicable validation rules are: 500.159, 500.160, 500.242, 500.247, 500.248, 500.319\n",null,"False","CM","Mandatory if either minimum temperature or maximum temperature is populated","CM","if either minimum temperature or maximum temperature is populated","CM","if either minimum temperature or maximum temperature is populated","Sarina","Sarina","9/27/2021 6:38:23 PM","11/4/2021 9:00:42 PM",{"$f":"IF(A90=\"ANL1420\",\"Targetsector\",LEFT(C90,LEN(C90)-LEN('BES EN'!E90)-3))","v":"Temperature qualifier code"}]
["ANL1116","Active","Order quantity multiple (orderQuantityMultiple)","MNL0020","orderQuantityMultiple","3.1.17","/catalogue_item_notification:catalogueItemNotificationMessage/transaction/documentCommand/catalogue_item_notification:catalogueItemNotification/catalogueItem/tradeItem/tradeItemInformation/extension/*[namespace-uri()='urn:gs1:gdsn:delivery_purchasing_information:xsd:3' and local-name()='deliveryPurchasingInformationModule']/deliveryPurchasingInformation/orderQuantityMultiple","nonNegativeInteger",null,"","","0..1","","FMCG","Ordering","076","Fruit&Vegetable;Petfood;Health;Food","","If there is no specified quantity multiple in which to order, the value is 1.","The order quantity multiples in which the trade item may be ordered. If the order quantity minimum is 100 and the order quantity multiple is 20, the trade item can only be ordered in the following quantities: 100, 120, 140, 160, etc..","20","Enter the quantity multiple in which the product can be ordered. ",null,null,"False","CM","Mandatory if orderable unit. Optional for the Dutch target market.","CM","if orderable unit. Optional for the Dutch target market.","CM","if orderable unit. Optional for the Dutch target market.","Sarina","Sarina","9/27/2021 6:38:23 PM","11/4/2021 9:00:48 PM",{"$f":"IF(A91=\"ANL1420\",\"Targetsector\",LEFT(C91,LEN(C91)-LEN('BES EN'!E91)-3))","v":"Order quantity multiple"}]
["ANL1117","Active","Order quantity minimum (orderQuantityMinimum)","MNL0020","orderQuantityMinimum","3.1.17","/catalogue_item_notification:catalogueItemNotificationMessage/transaction/documentCommand/catalogue_item_notification:catalogueItemNotification/catalogueItem/tradeItem/tradeItemInformation/extension/*[namespace-uri()='urn:gs1:gdsn:delivery_purchasing_information:xsd:3' and local-name()='deliveryPurchasingInformationModule']/deliveryPurchasingInformation/orderQuantityMinimum","nonNegativeInteger",null,"","","0..1","","FMCG","Ordering","077","Food;Health;Petfood;Fruit&Vegetable","","If there is no specified minimum order quantity in which to order, the value is 1.","Represents an agreed minimum quantity of the trade item that can be ordered. A number or a count. This applies to each individual order. Can be a fixed amount for all customers in a target market.","10","Enter an integer expressing a quantity.",null,null,"False","CM","Mandatory if orderable unit. Optional for the Dutch target market.","CM","if orderable unit. Optional for the Dutch target market.","CM","if orderable unit. Optional for the Dutch target market.","Sarina","Sarina","9/27/2021 6:38:23 PM","11/4/2021 9:00:53 PM",{"$f":"IF(A92=\"ANL1420\",\"Targetsector\",LEFT(C92,LEN(C92)-LEN('BES EN'!E92)-3))","v":"Order quantity minimum"}]
["ANL1118","Active","Packaging type code (packagingTypeCode)","MNL0020","packagingTypeCode","3.1.17","/catalogue_item_notification:catalogueItemNotificationMessage/transaction/documentCommand/catalogue_item_notification:catalogueItemNotification/catalogueItem/tradeItem/tradeItemInformation/extension/*[namespace-uri()='urn:gs1:gdsn:packaging_information:xsd:3' and local-name()='packagingInformationModule']/packaging/packagingTypeCode","CodeList","BENELUX_GDSN_GDSN_PackageTypeCode","","","0..1","","FMCG","Datakwalitijd 2.0;Packaging","201","Fruit&Vegetable;Petfood;Health;Food","","This field is checked in the context of the Dutch data quality program.\n","Code indicating the type of packaging.\n","BO (Bottle)\n","To select the correct value, see the document &lsquo;Code List for Packaging Types&rsquo; on the website of GS1 Netherlands (<a href=\" https://www.gs1.nl/sites/default/files/so_gs1das_richtlijnverpakkingstype.pdf\" style=\"color:blue; text-decoration:underline\" target=\"_blank\"> https://www.gs1.nl/sites/default/files/so_gs1das_richtlijnverpakkingstype.pdf</a>). If the product has multiple types of packaging around it, you determine the principal packaging type and use the code from that packaging type. In order to select the principal packaging type of a trade item, it is necessary to look for the prevalent type of packaging present. Prevalent can be defined as the part of the packaging that fulfils one or more of the following traits:<br />\n- Gives the trade item structural form or shape<br />\n- Is the largest single packaging element in the item<br />\n- Contains the bulk of the trade item&rsquo;s information and imaging<br />\n- Is essential for the preservation of the trade item&rsquo;s integrity<br />\nIn some cases a product can have more than one packaging that can be of a prevalent type. In that case, it is allowed to populate multiple packaging types. E.g. a plastic pot of yoghurt or cream cheese which is enveloped by a carboard sleeve has two prevalent packaging types: the pot and the sleeve. Here you indicate both prevalent packagings with their packagingTypeCode: pot = &lsquo;PT&rsquo; and sleeve = &lsquo;SY&rsquo;.<br />\n<br />\nIf a product consists of multiple packaging elements, as most do, only the main element should be specified with a specific code. The other packaging elements THAT CAN BE DETACHED from the main element, such as labels, foils or tape, should also be indicated, but with the packaging type code &lsquo;PUG&rsquo; (=unspecified). However, caps of bottles that are of the same material as the bottle itself (e.g. PET) should be mentioned under the same packagingTypeCode (&lsquo;BO&rsquo;). Only if they are made out of other materials (e.g. METAL), they should be listed under a separate packagingTypeCode &lsquo;PUG&rsquo;.\n","For additional explanation see <a href=\" https://www.gs1.nl/en/industries/food-health-and-beauty/gs1-data-source/entering-data/attribute-explorer-attributes-list\" style=\"color:blue; text-decoration:underline\" target=\"_blank\"> https://www.gs1.nl/en/industries/food-health-and-beauty/gs1-data-source/entering-data/attribute-explorer-attributes-list</a><br />\n<br />\nLocal Dutch applicable validation rules are: 500.061, 500.185, 500.265, 500.302, 500.303, 500.304, 500.306, 500.335\n",null,"False","M","Mandatory","M"," ","M"," ","Sarina","Sarina","9/27/2021 6:38:23 PM","11/4/2021 9:00:58 PM",{"$f":"IF(A93=\"ANL1420\",\"Targetsector\",LEFT(C93,LEN(C93)-LEN('BES EN'!E93)-3))","v":"Packaging type code"}]
["ANL1119","Active","Packaging type description (packagingTypeDescription)","MNL0020","packagingTypeDescription","3.1.17","/catalogue_item_notification:catalogueItemNotificationMessage/transaction/documentCommand/catalogue_item_notification:catalogueItemNotification/catalogueItem/tradeItem/tradeItemInformation/extension/*[namespace-uri()='urn:gs1:gdsn:packaging_information:xsd:3' and local-name()='packagingInformationModule']/packaging/packagingTypeDescription","Description200",null,"","","0..n","","FMCG","Packaging","202","Food;Health;Fruit&Vegetable;Petfood","",null,"Text description of the type of packaging used for the trade item.","Glass bottle with a metal cap and a paper label.","Provide a detailed description of the packaging of the entire product with al it’s packaging elements. In case of several principal packaging types, provide a separate detailed description at, and for every principal packaging type.","For additional explanation see <a href=\" https://www.gs1.nl/en/industries/food-health-and-beauty/gs1-data-source/entering-data/attribute-explorer-attributes-list\" style=\"color:blue; text-decoration:underline\" target=\"_blank\"> https://www.gs1.nl/en/industries/food-health-and-beauty/gs1-data-source/entering-data/attribute-explorer-attributes-list</a>",null,"False","O"," ","O"," ","O"," ","Sarina","Sarina","9/27/2021 6:38:23 PM","11/4/2021 9:01:04 PM",{"$f":"IF(A94=\"ANL1420\",\"Targetsector\",LEFT(C94,LEN(C94)-LEN('BES EN'!E94)-3))","v":"Packaging type description"}]
["ANL1120","Active","Packaging type description language code (packagingTypeDescription/@languageCode)","MNL0020","packagingTypeDescription/@languageCode","3.1.17","/catalogue_item_notification:catalogueItemNotificationMessage/transaction/documentCommand/catalogue_item_notification:catalogueItemNotification/catalogueItem/tradeItem/tradeItemInformation/extension/*[namespace-uri()='urn:gs1:gdsn:packaging_information:xsd:3' and local-name()='packagingInformationModule']/packaging/packagingTypeDescription/@languageCode","CodeList","BENELUX_GDSN_LanguageCode","","","1..1","","FMCG","Packaging","203","Food;Fruit&Vegetable;Health;Petfood",""," ","Code specifying a language. Allowed code values are specified in GS1 code list 'LanguageCode'.","nl","Select the correct value from the 'ISO 639-1 (2-alpha)' code list.","For additional explanation see <a href=\" https://www.gs1.nl/en/industries/food-health-and-beauty/gs1-data-source/entering-data/attribute-explorer-attributes-list\" style=\"color:blue; text-decoration:underline\" target=\"_blank\"> https://www.gs1.nl/en/industries/food-health-and-beauty/gs1-data-source/entering-data/attribute-explorer-attributes-list</a> <br />\n<br />\n- To find the applicable language codes, see: <a href=\" http://www.loc.gov/standards/iso639-2/php/code_list.php\" style=\"color:blue; text-decoration:underline\" target=\"_blank\"> http://www.loc.gov/standards/iso639-2/php/code_list.php</a> ",null,"False","CM","Mandatory if 'Packaging type description' is populated.","CM","if 'Packaging type description' is populated","CM","if 'Packaging type description' is populated.","Sarina","Sarina","9/27/2021 6:38:24 PM","11/4/2021 9:01:09 PM",{"$f":"IF(A95=\"ANL1420\",\"Targetsector\",LEFT(C95,LEN(C95)-LEN('BES EN'!E95)-3))","v":"Packaging type description language code"}]
["ANL1122","Active","Packaging level (packagingLevel)","MNL0020","packagingLevel","3.1.17","/catalogue_item_notification:catalogueItemNotificationMessage/transaction/documentCommand/catalogue_item_notification:catalogueItemNotification/catalogueItem/tradeItem/tradeItemInformation/extension/*[namespace-uri()='urn:gs1:gdsn:packaging_information:xsd:3' and local-name()='packagingInformationModule']/packaging/packagingLevel","nonNegativeInteger",null,"","","0..1","","FMCG","Packaging","205","Health;Food;Fruit&Vegetable;Petfood","",null,"Identifies the hierarchical level of the packaging element, i.e. 1,2,3. For example: a bottle in a cardboard box displayed on a shelf. The level 1 hierarchical level is the bottle (plastic or glass), level 2 would be the box (cardboard) and level 3 would be the film around the pallet.\n","1\n","Enter a valid integer.<br />\n1 = Primary: Packaging designed to make 1 selling unit for the consumer. This will be the packaging level for articles that are indicated as &#39;BASE_UNIT_OR_EACH&#39; or &#39;PACK_OR_INNER_PACK&#39;. Multipacks (e.g. a sixpack of bottles) will in this case ALSO have packagingLevel 1.<br />\n2 = Secondary: Grouping of multiple primary packages. This will normally be the CASE level.<br />\n3 = Tertiary: Packaging intended for transport of selling units or groupings. This will normally be the PALLET level.\n","For additional explanation see <a href=\" https://www.gs1.nl/en/industries/food-health-and-beauty/gs1-data-source/entering-data/attribute-explorer-attributes-list\" style=\"color:blue; text-decoration:underline\" target=\"_blank\"> https://www.gs1.nl/en/industries/food-health-and-beauty/gs1-data-source/entering-data/attribute-explorer-attributes-list</a>",null,"False","O"," ","O"," ","O"," ","Sarina","Sarina","9/27/2021 6:38:24 PM","11/4/2021 9:01:14 PM",{"$f":"IF(A96=\"ANL1420\",\"Targetsector\",LEFT(C96,LEN(C96)-LEN('BES EN'!E96)-3))","v":"Packaging level"}]
["ANL1123","Active","Trade item date on packaging type code (tradeItemDateOnPackagingTypeCode)","MNL0020","tradeItemDateOnPackagingTypeCode","3.1.17","/catalogue_item_notification:catalogueItemNotificationMessage/transaction/documentCommand/catalogue_item_notification:catalogueItemNotification/catalogueItem/tradeItem/tradeItemInformation/extension/*[namespace-uri()='urn:gs1:gdsn:packaging_marking:xsd:3' and local-name()='packagingMarkingModule']/packagingMarking/packagingDate/tradeItemDateOnPackagingTypeCode","CodeList","BENELUX_GDSN_TradeItemDateOnPackagingTypeCode","","","0..1","","FMCG","Packaging","206","Fruit&Vegetable;Petfood;Food;Health","",null,"Indicates the type of date marked on the packaging, for example &#39;Best Before Date&#39;.\n","BEST_BEFORE_DATE,<br />\nEXPIRATION_DATE\n","For perishable items, indicate the type of date marked on the packaging.\n",null,null,"False","CM","Mandatory if on the packaging. ","O"," ","O"," ","Sarina","Sarina","9/27/2021 6:38:24 PM","11/4/2021 9:01:20 PM",{"$f":"IF(A97=\"ANL1420\",\"Targetsector\",LEFT(C97,LEN(C97)-LEN('BES EN'!E97)-3))","v":"Trade item date on packaging type code"}]
["ANL1126","Active","Packaging material type code (packagingMaterialTypeCode)","MNL0020","packagingMaterialTypeCode","3.1.17","/catalogue_item_notification:catalogueItemNotificationMessage/transaction/documentCommand/catalogue_item_notification:catalogueItemNotification/catalogueItem/tradeItem/tradeItemInformation/extension/*[namespace-uri()='urn:gs1:gdsn:packaging_information:xsd:3' and local-name()='packagingInformationModule']/packaging/packagingMaterial/packagingMaterialTypeCode","CodeList","BENELUX_GDSN_PackagingMaterialTypeCode","","","1..1","","FMCG","Packaging","209","Health;Petfood;Fruit&Vegetable;Food","","This field can be filled in more than once, in combination with &#39;packagingMaterialCompositionQuantity&#39;.\n","The materials used for the packaging of the trade item, for example glass or plastic. This material information can be used by data recipients for:<br />\n- Tax calculations/fees/duties calculation<br />\n- Carbon footprint calculations/estimations (resource optimisation)<br />\n- To determine the material used (GDD)\n","GLASS\n","Composite packaging material is made up of different types of materials that cannot be separated. If the material is a composite of different materials (packagingMaterialTypeCode = COMPOSITE), indicate the materials that make up the composite. Use the 'packagingMaterialTypeCode' code list.\nThe codes 'METAL_STAINLESS_STEEL', 'METAL_STEEL' and 'METAL_ALUMINUM' should only be used here if the packaging material consists of more than 50% steel or aluminum (in weight).\n\nAs an example:\n- The packaging material is a composite. More than 50% of the weight of the composite consists of aluminum/steel, the rest is plastic. You use the code COMPOSITE in the ‘Packaging material type code’ field and then populate the codes of the materials in this field. For the aluminum/steel material, you also enter the thickness in the ‘Composite Material detail packaging material thickness’ field.\n- Does your composite consist of two materials (of which one is aluminum/steel) and is the material aluminum/steel less than 50% of the weight of the packaging material? Then do NOT treat this packaging material as a composite and leave this field empty. You only enter the data of the other material like you would do for packaging materials that consist of one material. The weight of the aluminum/steel you add to the weight of the other material. You do not enter the thickness of the aluminum/steel.\n- Does your composite consists of several materials in addition to aluminum/steel and is the aluminum/steel material less than 50% of the weight of the packaging material? Then fill in the ‘Packaging material type code’ field with the code 'COMPOSITE' and populate in this field the details of the other materials. Add the weight of the aluminum/steel to that of the material with the highest weight. You do not enter the thickness of the aluminum/steel","For additional explanation see <a href=\" https://www.gs1.nl/en/industries/food-health-and-beauty/gs1-data-source/entering-data/attribute-explorer-attributes-list\" style=\"color:blue; text-decoration:underline\" target=\"_blank\"> https://www.gs1.nl/en/industries/food-health-and-beauty/gs1-data-source/entering-data/attribute-explorer-attributes-list</a><br />\n<br />\nLocal Dutch applicable validation rules are: 500.068, 500.185, 500.299, 500.335, 500.336, 500.337, 500.338, 500.339, 500.353\n",null,"False","O"," ","O"," ","O"," ","Sarina","Sarina","9/27/2021 6:38:24 PM","11/4/2021 9:01:26 PM",{"$f":"IF(A98=\"ANL1420\",\"Targetsector\",LEFT(C98,LEN(C98)-LEN('BES EN'!E98)-3))","v":"Packaging material type code"}]
["ANL1127","Active","Packaging material composition quantity (packagingMaterialCompositionQuantity)","MNL0020","packagingMaterialCompositionQuantity","3.1.17","/catalogue_item_notification:catalogueItemNotificationMessage/transaction/documentCommand/catalogue_item_notification:catalogueItemNotification/catalogueItem/tradeItem/tradeItemInformation/extension/*[namespace-uri()='urn:gs1:gdsn:packaging_information:xsd:3' and local-name()='packagingInformationModule']/packaging/packagingMaterial/packagingMaterialCompositionQuantity","Measurement",null,"","","0..n","","FMCG","Packaging","210","Food;Petfood;Fruit&Vegetable;Health","","If a value has been entered for the packaging material composition quantity, a weight (kilogram, gram) unit of measurement must be selected.\n","This indicates the quantity of packaging material in terms of weight.\n","25 (GRM)\n","Fill in this field for each type of material in the packaging. Use 3 decimal places to describe the quantity as accurate as possible. If necessary, this field can be filled in more than once, in combination with &#39;Packaging material type code&#39;.\n","For additional explanation see <a href=\" https://www.gs1.nl/en/industries/food-health-and-beauty/gs1-data-source/entering-data/attribute-explorer-attributes-list\" style=\"color:blue; text-decoration:underline\" target=\"_blank\"> https://www.gs1.nl/en/industries/food-health-and-beauty/gs1-data-source/entering-data/attribute-explorer-attributes-list</a><br />\n<br />\nLocal Dutch applicable validation rules are: 500.068\n",null,"False","CM","Mandatory if ‘Packaging material type code’ is populated and NOT equal to COMPOSITE","CM","if ‘Packaging material type code’ is populated and NOT equal to COMPOSITE","CM","if ‘Packaging material type code’ is populated and NOT equal to COMPOSITE","Sarina","Sarina","9/27/2021 6:38:24 PM","11/4/2021 9:01:32 PM",{"$f":"IF(A99=\"ANL1420\",\"Targetsector\",LEFT(C99,LEN(C99)-LEN('BES EN'!E99)-3))","v":"Packaging material composition quantity"}]
["ANL1128","Active","Packaging material composition quantity UOM (packagingMaterialCompositionQuantity/@measurementUnitCode)","MNL0020","packagingMaterialCompositionQuantity/@measurementUnitCode","3.1.17","/catalogue_item_notification:catalogueItemNotificationMessage/transaction/documentCommand/catalogue_item_notification:catalogueItemNotification/catalogueItem/tradeItem/tradeItemInformation/extension/*[namespace-uri()='urn:gs1:gdsn:packaging_information:xsd:3' and local-name()='packagingInformationModule']/packaging/packagingMaterial/packagingMaterialCompositionQuantity/@measurementUnitCode","CodeList","BENELUX_GDSN_MeasurementUnitCode","","","1..1","","FMCG","Packaging","211","Petfood;Health;Food;Fruit&Vegetable",""," ","Any standardised, reproducible unit that can be used to measure any physical property.","GRM","Select the correct value from the 'MeasurementUnitCode' code list.",null,null,"False","CM","Mandatory if ‘Packaging material type code’ is populated","CM","if ‘Packaging material type code’ is populated","CM","if ‘Packaging material type code’ is populated","Sarina","Sarina","9/27/2021 6:38:24 PM","11/4/2021 9:01:37 PM",{"$f":"IF(A100=\"ANL1420\",\"Targetsector\",LEFT(C100,LEN(C100)-LEN('BES EN'!E100)-3))","v":"Packaging material composition quantity UOM"}]
["ANL1129","Active","Packaging material thickness (packagingMaterialThickness)","MNL0020","packagingMaterialThickness","3.1.17","/catalogue_item_notification:catalogueItemNotificationMessage/transaction/documentCommand/catalogue_item_notification:catalogueItemNotification/catalogueItem/tradeItem/tradeItemInformation/extension/*[namespace-uri()='urn:gs1:gdsn:packaging_information:xsd:3' and local-name()='packagingInformationModule']/packaging/packagingMaterial/packagingMaterialThickness","Measurement",null,"","","0..1","","FMCG","Packaging","212","Petfood;Fruit&Vegetable;Food;Health","",null,"The thickness of a packaging material.","30","Enter a valid measurement expressed in the unit of measurement specified for the ‘Packaging material thickness UOM’ field. The recommended unit of measurement is micrometer (4H).","For additional explanation see <a href=\" https://www.gs1.nl/en/industries/food-health-and-beauty/gs1-data-source/entering-data/attribute-explorer-attributes-list\" style=\"color:blue; text-decoration:underline\" target=\"_blank\"> https://www.gs1.nl/en/industries/food-health-and-beauty/gs1-data-source/entering-data/attribute-explorer-attributes-list</a><br />\n<br />\nLocal Dutch applicable validation rules are: 500.339",null,"False","CM","Mandatory if 'Packaging material type code' is equal to METAL_STAINLESS_STEEL, METAL_STEEL or METAL_ALUMINUM","CM","If 'Packaging material type code' is equal to METAL_STAINLESS_STEEL, METAL_STEEL or METAL_ALUMINUM ","CM","if 'Packaging material type code' is equal to METAL_STAINLESS_STEEL, METAL_STEEL or METAL_ALUMINUM","Sarina","Sarina","9/27/2021 6:38:25 PM","11/4/2021 9:01:43 PM",{"$f":"IF(A101=\"ANL1420\",\"Targetsector\",LEFT(C101,LEN(C101)-LEN('BES EN'!E101)-3))","v":"Packaging material thickness"}]
["ANL1130","Active","Packaging material thickness UOM (packagingMaterialThickness/@measurementUnitCode)","MNL0020","packagingMaterialThickness/@measurementUnitCode","3.1.17","/catalogue_item_notification:catalogueItemNotificationMessage/transaction/documentCommand/catalogue_item_notification:catalogueItemNotification/catalogueItem/tradeItem/tradeItemInformation/extension/*[namespace-uri()='urn:gs1:gdsn:packaging_information:xsd:3' and local-name()='packagingInformationModule']/packaging/packagingMaterial/packagingMaterialThickness/@measurementUnitCode","CodeList","BENELUX_GDSN_MeasurementUnitCode","","","1..1","","FMCG","Packaging","213","Fruit&Vegetable;Food;Health;Petfood","","Use 3 decimal places to describe the quantity as accurate as possible.\n","Any standardised, reproducible unit that can be used to measure any physical property.\n","4H\n","Select the correct value from the &lsquo;measurementUnitCode&rsquo; code list.\n",null,null,"False","CM","Mandatory if 'Packaging material thickness' is populated","CM","if 'Packaging material thickness' is populated","CM","if 'Packaging material thickness' is populated","Sarina","Sarina","9/27/2021 6:38:25 PM","11/4/2021 9:01:48 PM",{"$f":"IF(A102=\"ANL1420\",\"Targetsector\",LEFT(C102,LEN(C102)-LEN('BES EN'!E102)-3))","v":"Packaging material thickness UOM"}]
["ANL1131","Active","Packaging material colour code reference (packagingMaterialColourCodeReference)","MNL0020","packagingMaterialColourCodeReference","3.1.17","/catalogue_item_notification:catalogueItemNotificationMessage/transaction/documentCommand/catalogue_item_notification:catalogueItemNotification/catalogueItem/tradeItem/tradeItemInformation/extension/*[namespace-uri()='urn:gs1:gdsn:packaging_information:xsd:3' and local-name()='packagingInformationModule']/packaging/packagingMaterial/packagingMaterialColourCodeReference","CodeList","BENELUX_GDSN_PackagingMaterialColourCode","","","0..1","","FMCG","Packaging","214","Health;Food;Fruit&Vegetable;Petfood","","Use a local code list.","Identifies the packaging material colour. This attribute is populated by local code lists.","TRANSPARENT_BLUE ","Select the correct value from the following codes: 'TRANSPARENT_OTHER', 'NON_TRANSPARENT_BLACK', 'NON_TRANSPARENT_OTHER', 'TRANSPARENT_COLOURLESS', 'TRANSPARENT_GREEN', 'TRANSPARENT_BROWN', 'TRANSPARENT_BLACK' or 'TRANSPARENT_BLUE'. Used to indicate the type of PET material used.","For additional explanation see <a href=\" https://www.gs1.nl/en/industries/food-health-and-beauty/gs1-data-source/entering-data/attribute-explorer-attributes-list\" style=\"color:blue; text-decoration:underline\" target=\"_blank\"> https://www.gs1.nl/en/industries/food-health-and-beauty/gs1-data-source/entering-data/attribute-explorer-attributes-list</a><br />\n<br />\nLocal Dutch applicable validation rules are: 500.338",null,"False","CM","Mandatory if 'Packaging material type code' is POLYMER_PET.","CM","if 'Packaging material type code' is POLYMER_PET.","CM","if 'Packaging material type code' is POLYMER_PET.","Sarina","Sarina","9/27/2021 6:38:25 PM","11/4/2021 9:01:54 PM",{"$f":"IF(A103=\"ANL1420\",\"Targetsector\",LEFT(C103,LEN(C103)-LEN('BES EN'!E103)-3))","v":"Packaging material colour code reference"}]
["ANL1132","Active","Is packaging material recoverable (isPackagingMaterialRecoverable)","MNL0020","isPackagingMaterialRecoverable","3.1.17","/catalogue_item_notification:catalogueItemNotificationMessage/transaction/documentCommand/catalogue_item_notification:catalogueItemNotification/catalogueItem/tradeItem/tradeItemInformation/extension/*[namespace-uri()='urn:gs1:gdsn:packaging_information:xsd:3' and local-name()='packagingInformationModule']/packaging/packagingMaterial/isPackagingMaterialRecoverable","CodeList","BENELUX_GDSN_NonBinaryLogicEnumeration","","","0..1","","FMCG","Packaging","215","Health;Petfood;Fruit&Vegetable;Food","",null,"Determines whether packaging material is recoverable. Recoverable materials are those which are capable of being reused or returned to use in the form of raw materials.","TRUE","If 'PackagingMaterialTypeCode' is equal to 'GLASS' or 'GLASS_COLOURED', indicate whether the material is recoverable.","For additional explanation see <a href=\" https://www.gs1.nl/en/industries/food-health-and-beauty/gs1-data-source/entering-data/attribute-explorer-attributes-list\" style=\"color:blue; text-decoration:underline\" target=\"_blank\"> https://www.gs1.nl/en/industries/food-health-and-beauty/gs1-data-source/entering-data/attribute-explorer-attributes-list</a><br />\n<br />\nLocal Dutch applicable validation rules are: 500.337",null,"False","CM","Mandatory if 'Packaging material type code' is GLASS or GLASS_COLOURED.","CM","if 'Packaging material type code' is GLASS or GLASS_COLOURED.","CM","if 'Packaging material type code' is GLASS or GLASS_COLOURED.","Sarina","Sarina","9/27/2021 6:38:25 PM","11/4/2021 9:02:00 PM",{"$f":"IF(A104=\"ANL1420\",\"Targetsector\",LEFT(C104,LEN(C104)-LEN('BES EN'!E104)-3))","v":"Is packaging material recoverable"}]
["ANL1133","Active","Composite material detail packaging material type code (packagingMaterialTypeCode)","MNL0020","packagingMaterialTypeCode","3.1.17","/catalogue_item_notification:catalogueItemNotificationMessage/transaction/documentCommand/catalogue_item_notification:catalogueItemNotification/catalogueItem/tradeItem/tradeItemInformation/extension/*[namespace-uri()='urn:gs1:gdsn:packaging_information:xsd:3' and local-name()='packagingInformationModule']/packaging/packagingMaterial/compositeMaterialDetail/packagingMaterialTypeCode","CodeList","BENELUX_GDSN_PackagingMaterialTypeCode","","","1..1","","FMCG","Packaging","216","Food;Health;Petfood;Fruit&Vegetable","",null,"The materials used for the packaging of the trade item, for example glass or plastic. This material information can be used by data recipients for:<br />\n- Tax calculations/fees/duties calculation /<br />\n- Carbon footprint calculations/estimations (resource optimisation)<br />\n- To determine the material used.\n","GLASS\n","Composite packaging material is made up of different types of materials that cannot be separated. If the material is a composite of different materials (packagingMaterialTypeCode = COMPOSITE), indicate the materials that make up the composite. Use the &#39;packagingMaterialTypeCode&#39; code list.<br />\nThe codes &#39;METAL_STAINLESS_STEEL&#39;, &#39;METAL_STEEL&#39; and &#39;METAL_ALUMINUM&#39; should only be used here if the packaging material consists of more than 50% steel or aluminum (in weight).<br />\n<br />\nAs an example:<br />\n- The packaging material is a composite. More than 50% of the weight of the composite consists of aluminum/steel, the rest is plastic. You use the code COMPOSITE in the ‘Packaging material type code’ field and then populate the codes of the materials in this field. For the aluminum/steel material, you also enter the thickness in the ‘Composite Material detail packaging material thickness’ field.<br />\n- Does your composite consist of two materials (of which one is aluminum/steel) and is the material aluminum/steel less than 50% of the weight of the packaging material? Then do NOT treat this packaging material as a composite and leave this field empty. You only enter the data of the other material like you would do for packaging materials that consist of one material. The weight of the aluminum/steel you add to the weight of the other material. You do not enter the thickness of the aluminum/steel.<br />\n- Does your composite consists of several materials in addition to aluminum/steel and is the aluminum/steel material less than 50% of the weight of the packaging material? Then fill in the ‘Packaging material type code’ field with the code 'COMPOSITE' and populate in this field the details of the other materials. Add the weight of the aluminum/steel to that of the material with the highest weight. You do not enter the thickness of the aluminum/steel.","For additional explanation see <a href=\" https://www.gs1.nl/en/industries/food-health-and-beauty/gs1-data-source/entering-data/attribute-explorer-attributes-list\" style=\"color:blue; text-decoration:underline\" target=\"_blank\"> https://www.gs1.nl/en/industries/food-health-and-beauty/gs1-data-source/entering-data/attribute-explorer-attributes-list</a><br />\n<br />\nLocal Dutch applicable validation rules are: 500.336, 500.340, 500.341\n",null,"False","CM","Mandatory if 'Packaging material type code' is COMPOSITE.","CM","if 'Packaging material type code' is COMPOSITE.","CM","if 'Packaging material type code' is COMPOSITE.","Sarina","Sarina","9/27/2021 6:38:25 PM","11/4/2021 9:02:06 PM",{"$f":"IF(A105=\"ANL1420\",\"Targetsector\",LEFT(C105,LEN(C105)-LEN('BES EN'!E105)-3))","v":"Composite material detail packaging material type code"}]
["ANL1134","Active","Composite material detail packaging material composition quantity (packagingMaterialCompositionQuantity)","MNL0020","packagingMaterialCompositionQuantity","3.1.17","/catalogue_item_notification:catalogueItemNotificationMessage/transaction/documentCommand/catalogue_item_notification:catalogueItemNotification/catalogueItem/tradeItem/tradeItemInformation/extension/*[namespace-uri()='urn:gs1:gdsn:packaging_information:xsd:3' and local-name()='packagingInformationModule']/packaging/packagingMaterial/compositeMaterialDetail/packagingMaterialCompositionQuantity","Measurement",null,"","","0..n","","FMCG","Packaging","217","Food;Fruit&Vegetable;Petfood;Health","",null,"The quantity of the packaging material of the trade item. Can be weight, volume or surface, can vary by country.\n","40 (GRM)\n","Indicate the quantity of the materials that make up the composite material. Use 3 decimal places to describe the quantity as accurate as possible. This can be indicated in weight, volume or surface and vary by country.\n","For additional explanation see <a href=\" https://www.gs1.nl/en/industries/food-health-and-beauty/gs1-data-source/entering-data/attribute-explorer-attributes-list\" style=\"color:blue; text-decoration:underline\" target=\"_blank\"> https://www.gs1.nl/en/industries/food-health-and-beauty/gs1-data-source/entering-data/attribute-explorer-attributes-list</a><br />\n<br />\nLocal Dutch applicable validation rules are: 500.340\n",null,"False","CM","Mandatory if 'Composite material detail packaging material type code' is populated.","CM","if 'Composite material detail packaging material type code' is populated.","CM","if 'Composite material detail packaging material type code' is populated.","Sarina","Sarina","9/27/2021 6:38:25 PM","11/4/2021 9:02:11 PM",{"$f":"IF(A106=\"ANL1420\",\"Targetsector\",LEFT(C106,LEN(C106)-LEN('BES EN'!E106)-3))","v":"Composite material detail packaging material composition quantity"}]
["ANL1135","Active","Composite material detail packaging material composition quantity UOM (packagingMaterialCompositionQuantity/@measurementUnitCode)","MNL0020","packagingMaterialCompositionQuantity/@measurementUnitCode","3.1.17","/catalogue_item_notification:catalogueItemNotificationMessage/transaction/documentCommand/catalogue_item_notification:catalogueItemNotification/catalogueItem/tradeItem/tradeItemInformation/extension/*[namespace-uri()='urn:gs1:gdsn:packaging_information:xsd:3' and local-name()='packagingInformationModule']/packaging/packagingMaterial/compositeMaterialDetail/packagingMaterialCompositionQuantity/@measurementUnitCode","CodeList","BENELUX_GDSN_MeasurementUnitCode","","","1..1","","FMCG","Packaging","218","Petfood;Health;Food;Fruit&Vegetable","",null,"Any standardised, reproducible unit that can be used to measure any physical property.\n","GRM\n","Select the correct value from the &#39;measurementUnitCode&#39; code list.\n",null,null,"False","CM","Mandatory if 'Composite material detail packaging material composition quantity' is populated","CM","if 'Composite material detail packaging material composition quantity' is populated","CM","if 'Composite material detail packaging material composition quantity' is populated","Sarina","Sarina","9/27/2021 6:38:26 PM","11/4/2021 9:02:17 PM",{"$f":"IF(A107=\"ANL1420\",\"Targetsector\",LEFT(C107,LEN(C107)-LEN('BES EN'!E107)-3))","v":"Composite material detail packaging material composition quantity UOM"}]
["ANL1136","Active","Composite material detail packaging material thickness (packagingMaterialThickness)","MNL0020","packagingMaterialThickness","3.1.17","/catalogue_item_notification:catalogueItemNotificationMessage/transaction/documentCommand/catalogue_item_notification:catalogueItemNotification/catalogueItem/tradeItem/tradeItemInformation/extension/*[namespace-uri()='urn:gs1:gdsn:packaging_information:xsd:3' and local-name()='packagingInformationModule']/packaging/packagingMaterial/compositeMaterialDetail/packagingMaterialThickness","Measurement",null,"","","0..1","","FMCG","Packaging","219","Petfood;Fruit&Vegetable;Food;Health","","Only relevant if the composite material is made of ‘METAL_STAINLESS_STEEL’, ‘METAL_STEEL’ or ‘METAL_ALUMINUM’.","The thickness of a packaging material.","30 (4H)","Indicates the thickness of the materials that make up the composite material.\nEnter a valid measurement expressed in the unit of measurement specified for the ‘Composite material detail packaging material thickness UOM’ field. The recommended unit of measurement is micrometer (4H).","For additional explanation see <a href=\" https://www.gs1.nl/en/industries/food-health-and-beauty/gs1-data-source/entering-data/attribute-explorer-attributes-list\" style=\"color:blue; text-decoration:underline\" target=\"_blank\"> https://www.gs1.nl/en/industries/food-health-and-beauty/gs1-data-source/entering-data/attribute-explorer-attributes-list</a><br />\n<br />\nLocal Dutch applicable validation rules are:\n500.341",null,"False","CM","Mandatory if 'Composite material detail packaging material type code' equals METAL_STAINLESS_STEEL, METAL_STEEL or METAL_ALUMINUM.","CM","if 'Composite material detail packaging material type code' equals METAL_STAINLESS_STEEL, METAL_STEEL or METAL_ALUMINUM.","CM","if 'Composite material detail packaging material type code' equals METAL_STAINLESS_STEEL, METAL_STEEL or METAL_ALUMINUM.","Sarina","Sarina","9/27/2021 6:38:26 PM","11/4/2021 9:02:23 PM",{"$f":"IF(A108=\"ANL1420\",\"Targetsector\",LEFT(C108,LEN(C108)-LEN('BES EN'!E108)-3))","v":"Composite material detail packaging material thickness"}]
["ANL1137","Active","Composite material detail packaging material thickness UOM (packagingMaterialThickness/@measurementUnitCode)","MNL0020","packagingMaterialThickness/@measurementUnitCode","3.1.17","/catalogue_item_notification:catalogueItemNotificationMessage/transaction/documentCommand/catalogue_item_notification:catalogueItemNotification/catalogueItem/tradeItem/tradeItemInformation/extension/*[namespace-uri()='urn:gs1:gdsn:packaging_information:xsd:3' and local-name()='packagingInformationModule']/packaging/packagingMaterial/compositeMaterialDetail/packagingMaterialThickness/@measurementUnitCode","CodeList","BENELUX_GDSN_MeasurementUnitCode","","","1..1","","FMCG","Packaging","220","Fruit&Vegetable;Petfood;Food;Health","",null,"Any standardised, reproducible unit that can be used to measure any physical property.","4H","Select the correct value from the ‘measurementUnitCode’ code list.","For additional explanation see <a href=\" https://www.gs1.nl/en/industries/food-health-and-beauty/gs1-data-source/entering-data/attribute-explorer-attributes-list\" style=\"color:blue; text-decoration:underline\" target=\"_blank\"> https://www.gs1.nl/en/industries/food-health-and-beauty/gs1-data-source/entering-data/attribute-explorer-attributes-list</a>",null,"False","CM","Mandatory if 'Composite material detail packaging material thickness' is populated","CM","if 'Composite material detail packaging material thickness' is populated","CM","if 'Composite material detail packaging material thickness' is populated","Sarina","Sarina","9/27/2021 6:38:26 PM","11/4/2021 9:02:29 PM",{"$f":"IF(A109=\"ANL1420\",\"Targetsector\",LEFT(C109,LEN(C109)-LEN('BES EN'!E109)-3))","v":"Composite material detail packaging material thickness UOM"}]
["ANL1138","Active","Packaging marked returnable indicator (isPackagingMarkedReturnable)","MNL0020","isPackagingMarkedReturnable","3.1.17","/catalogue_item_notification:catalogueItemNotificationMessage/transaction/documentCommand/catalogue_item_notification:catalogueItemNotification/catalogueItem/tradeItem/tradeItemInformation/extension/*[namespace-uri()='urn:gs1:gdsn:packaging_marking:xsd:3' and local-name()='packagingMarkingModule']/packagingMarking/isPackagingMarkedReturnable","boolean",null,"","","0..1","","FMCG","Packaging","225","Food;Petfood;Health;Fruit&Vegetable","","This field is checked in the context of the Dutch data quality program.\n","Trade item has returnable packaging. This is a yes/no (Boolean) where &#39;yes&#39; (&#39;True&#39;) equals packaging can be returned. The attribute applies to returnable packaging with or without deposit.\n","True\n","Select &lsquo;True&rsquo; or &lsquo;False&rsquo;. &lsquo;True&rsquo; means that the packaging can be returned.\n","For additional explanation see <a href=\" https://www.gs1.nl/en/industries/food-health-and-beauty/gs1-data-source/entering-data/attribute-explorer-attributes-list\" style=\"color:blue; text-decoration:underline\" target=\"_blank\"> https://www.gs1.nl/en/industries/food-health-and-beauty/gs1-data-source/entering-data/attribute-explorer-attributes-list</a><br />\n<br />\nLocal Dutch applicable validation rules are: 500.255, 500.257, 500.265, 500.277\n",null,"False","CM","Mandatory if the product packaging is returnable.","CM","Mandatory if the product packaging is returnable.","CM","Mandatory if the product packaging is returnable.","Sarina","Sarina","9/27/2021 6:38:26 PM","11/4/2021 9:02:35 PM",{"$f":"IF(A110=\"ANL1420\",\"Targetsector\",LEFT(C110,LEN(C110)-LEN('BES EN'!E110)-3))","v":"Packaging marked returnable indicator"}]
["ANL1139","Active","Package deposit identifier (returnablePackageDepositIdentification)","MNL0020","returnablePackageDepositIdentification","3.1.17","/catalogue_item_notification:catalogueItemNotificationMessage/transaction/documentCommand/catalogue_item_notification:catalogueItemNotification/catalogueItem/tradeItem/tradeItemInformation/extension/*[namespace-uri()='urn:gs1:gdsn:packaging_information:xsd:3' and local-name()='packagingInformationModule']/packaging/packageDeposit/returnablePackageDepositIdentification","CodeList","BENELUX_GDSN_ReturnablePackageDepositCode","","","0..1","","FMCG","Packaging","226","Food;Health;Fruit&Vegetable;Petfood","","For more information about the use of leading zeroes, please refer to chapter 33 of the &#39;Trade Item Implementation Guide&#39;.\n","In a few markets the returnable packaging information is specified using a GTIN (Global Trade Item Number), which refers to the type of load carrier or packaging to which the returnable package deposit applies.\n","00662510000774 (CHEP P1210B, Plastic Pallet, 1200x1000)<br />\n04045119067670 (Steinie 0,33l)\n","Select a code from the &#39;BENELUX Returnable Trade Item List&#39; on the website of GS1 Netherlands (<a href=\" https://www.gs1.nl/en/industries/reliable-product-data-food-health-and-beauty/gs1-data-source-for-the-exchange-of-2-2\" style=\"color:blue; text-decoration:underline\" target=\"_blank\"> https://www.gs1.nl/en/industries/reliable-product-data-food-health-and-beauty/gs1-data-source-for-the-exchange-of-2-2</a>). Always add a leading zero to the 13-digit code for that returnable asset. The code must be the unique GTIN of the empty returnable trade item.<br />\n<br />\nThe 30 cl &lsquo;Bruin Nederlands Retour CBK-fles&rsquo; &ndash; the BNR bottle &ndash; has been added to both data pools (both in the Netherlands and in Belgium and Luxembourg) as GTIN 08715079031979.&nbsp;In addition to this bottle other standard bottles have been added to the data pools. You can find these in a document that is on the GS1 website: <a href=\" https://www.gs1.nl/en/industries/reliable-product-data-food-health-and-beauty/gs1-data-source-for-the-exchange-of-2-0\" style=\"color:blue; text-decoration:underline\" target=\"_blank\"> https://www.gs1.nl/en/industries/reliable-product-data-food-health-and-beauty/gs1-data-source-for-the-exchange-of-2-0</a> (title document is &#39;Explanation on attributes&#39;, paragraph 7.1). Suppliers that deliver their beer in one of these bottles can choose the code for their returnable packaging.<br />\nIf you add your own (proprietary) returnable packaging that will not be added to the above-mentioned list, you need to assign your own, unique GTIN to the returnable packaging and add corresponding information to the data pool. Also add a leading zero to these 13-digit GTINs. You enter the GTIN in this field.<br />\n<br />\nOn consumer unit levels this attribute should be used to indicate which type of consumer empty can be returned by the consumer to the retailer. For more information about the use of returnable trade items please refer to the link below in Process Description to the explanatory document. This method also applies to empty returnable packaging of consumer units.","For additional explanation see <a href=\" https://www.gs1.nl/en/industries/food-health-and-beauty/gs1-data-source/entering-data/attribute-explorer-attributes-list\" style=\"color:blue; text-decoration:underline\" target=\"_blank\"> https://www.gs1.nl/en/industries/food-health-and-beauty/gs1-data-source/entering-data/attribute-explorer-attributes-list</a><br />\n<br />\n- Benelux RTI lijst (<a href=\" https://www.gs1.nl/en/industries/reliable-product-data-food-health-and-beauty/gs1-data-source-for-the-exchange-of-2-2\" style=\"color:blue; text-decoration:underline\" target=\"_blank\"> https://www.gs1.nl/en/industries/reliable-product-data-food-health-and-beauty/gs1-data-source-for-the-exchange-of-2-2</a>) <br />\n<br />\n- GDSN Trade Item Implementation Guideline (<a href=\" https://www.gs1.org/gdsn/trade_implementation_guide\" style=\"color:blue; text-decoration:underline\" target=\"_blank\"> https://www.gs1.org/gdsn/trade_implementation_guide</a>) <br />\n<br />\nLocal Dutch applicable validation rules are: 500.153, 500.157, 500.255, 500.258, 500.260, 500.277\n",null,"False","CM","Mandatory if a GTIN is used to identify the returnable package.","CM","Mandatory if a GTIN is used to identify the returnable package.","CM","Mandatory if a GTIN is used to identify the returnable package.","Sarina","Sarina","9/27/2021 6:38:26 PM","11/4/2021 9:02:41 PM",{"$f":"IF(A111=\"ANL1420\",\"Targetsector\",LEFT(C111,LEN(C111)-LEN('BES EN'!E111)-3))","v":"Package deposit identifier"}]
["ANL1140","Active","Returnable package deposit amount (returnablePackageDepositAmount)","MNL0020","returnablePackageDepositAmount","3.1.17","/catalogue_item_notification:catalogueItemNotificationMessage/transaction/documentCommand/catalogue_item_notification:catalogueItemNotification/catalogueItem/tradeItem/tradeItemInformation/extension/*[namespace-uri()='urn:gs1:gdsn:packaging_information:xsd:3' and local-name()='packagingInformationModule']/packaging/packageDeposit/returnablePackageDepositAmount","Amount",null,"","","0..1","","FMCG","Packaging","227","Food;Health;Petfood;Fruit&Vegetable","","The currency code is mandatory if you enter a value.","The monetary value of the individual returnable package.","3.86 (EUR)","Only fill in this field in the case of returnable items ('empty' units).","For additional explanation see <a href=\" https://www.gs1.nl/en/industries/food-health-and-beauty/gs1-data-source/entering-data/attribute-explorer-attributes-list\" style=\"color:blue; text-decoration:underline\" target=\"_blank\"> https://www.gs1.nl/en/industries/food-health-and-beauty/gs1-data-source/entering-data/attribute-explorer-attributes-list</a><br />\n<br />\nLocal Dutch applicable validation rules are:<br />\n500.256, 500.259",null,"False","CM","Mandatory for returnable packaging supplied with goods to buyers in the Netherlands, Belgium and Luxembourg.","O"," ","O"," ","Sarina","Sarina","9/27/2021 6:38:26 PM","11/4/2021 9:02:47 PM",{"$f":"IF(A112=\"ANL1420\",\"Targetsector\",LEFT(C112,LEN(C112)-LEN('BES EN'!E112)-3))","v":"Returnable package deposit amount"}]
["ANL1141","Active","Returnable package deposit amount currency code (returnablePackageDepositAmount/@currencyCode)","MNL0020","returnablePackageDepositAmount/@currencyCode","3.1.17","/catalogue_item_notification:catalogueItemNotificationMessage/transaction/documentCommand/catalogue_item_notification:catalogueItemNotification/catalogueItem/tradeItem/tradeItemInformation/extension/*[namespace-uri()='urn:gs1:gdsn:packaging_information:xsd:3' and local-name()='packagingInformationModule']/packaging/packageDeposit/returnablePackageDepositAmount/@currencyCode","CodeList","BENELUX_GDSN_CurrencyCode","","","1..1","","FMCG","Packaging","228","Food;Health;Fruit&Vegetable;Petfood","",null,"Code specifying a currency. Allowed code values are specified in GS1 code list 'CurrencyCode'.\n","EUR\n","Select the correct value from the 'currencyCode' code list.\n","For additional explanation see <a href=\" https://www.gs1.nl/en/industries/food-health-and-beauty/gs1-data-source/entering-data/attribute-explorer-attributes-list\" style=\"color:blue; text-decoration:underline\" target=\"_blank\"> https://www.gs1.nl/en/industries/food-health-and-beauty/gs1-data-source/entering-data/attribute-explorer-attributes-list</a>",null,"False","CM","Mandatory in case the 'Returnable package deposit amount' field is populated for the consumer unit.","CM","in case the 'Returnable package deposit amount' field is populated for the trade unit.","CM","in case the 'Returnable package deposit amount' field is populated for the pallet.","Sarina","Sarina","9/27/2021 6:38:27 PM","11/4/2021 9:02:54 PM",{"$f":"IF(A113=\"ANL1420\",\"Targetsector\",LEFT(C113,LEN(C113)-LEN('BES EN'!E113)-3))","v":"Returnable package deposit amount currency code"}]
["ANL1142","Active","Platform type code (platformTypeCode)","MNL0020","platformTypeCode","3.1.17","/catalogue_item_notification:catalogueItemNotificationMessage/transaction/documentCommand/catalogue_item_notification:catalogueItemNotification/catalogueItem/tradeItem/tradeItemInformation/extension/*[namespace-uri()='urn:gs1:gdsn:packaging_information:xsd:3' and local-name()='packagingInformationModule']/packaging/platformTypeCode","CodeList","BENELUX_GDSN_PlatformTypeCode","","","0..1","","FMCG","Hierarchy","175","Health;Food;Petfood;Fruit&Vegetable","","If a supplier has different palletisations for different customers, each palletisation needs to be identified with a separate GTIN (Global Trade Item Number). On this specific level, the pallet information needs to be provided.&nbsp;<br />\n<br />\nIf the pallet has no GTIN assigned (a &lsquo;non-GTIN&rsquo; pallet) then there are two options: the consumer unit or the next level in the packaging hierarchy is the highest level in the hierarchy. Information about the pallet, including the platform type code, is listed together with the information of that highest level.","Indicates whether the described despatch unit is delivered on a pallet/platform and on which type of platform. If the despatch unit is delivered on a platform, the platform type must be stated here. The range of platform types/codes is listed in codes.\n","11 (pallet ISO 1 &ndash; 1/1 EURO Pallet Standard pallet with dimensions 80 x 120 cm)\n","Select a code from the &#39;Pallet Type&#39; code list.\n","For additional explanation see <a href=\" https://www.gs1.nl/en/industries/food-health-and-beauty/gs1-data-source/entering-data/attribute-explorer-attributes-list\" style=\"color:blue; text-decoration:underline\" target=\"_blank\"> https://www.gs1.nl/en/industries/food-health-and-beauty/gs1-data-source/entering-data/attribute-explorer-attributes-list</a><br />\n<br />\nLocal Dutch applicable validation rules are: 500.308\n",null,"False","CM","Mandatory if this is the highest level in the packaging hierarchy.","CM","Mandatory if this is the highest level in the packaging hierarchy.","CM","Mandatory if the pallet has a GTIN assigned.","Sarina","Sarina","9/27/2021 6:38:27 PM","11/4/2021 9:03:00 PM",{"$f":"IF(A114=\"ANL1420\",\"Targetsector\",LEFT(C114,LEN(C114)-LEN('BES EN'!E114)-3))","v":"Platform type code"}]
["ANL1143","Active","Platform terms and conditions code (platformTermsAndConditionsCode)","MNL0020","platformTermsAndConditionsCode","3.1.17","/catalogue_item_notification:catalogueItemNotificationMessage/transaction/documentCommand/catalogue_item_notification:catalogueItemNotification/catalogueItem/tradeItem/tradeItemInformation/extension/*[namespace-uri()='urn:gs1:gdsn:packaging_information:xsd:3' and local-name()='packagingInformationModule']/packaging/platformTermsAndConditionsCode","CodeList","BENELUX_GDSN_PlatformTermsAndConditionsCode","","","0..1","","FMCG","Hierarchy","176","Fruit&Vegetable;Petfood;Food;Health","","If a supplier has different palletisations for different customers, each palletisation needs to be identified with a separate GTIN (Global Trade Item Number). On this specific level, the pallet information needs to be provided.","Indicates whether the platform in the prescribed pallet configuration is rented, exchangeable, against deposit or one way (not reusable).","2 - Exchange pallets","Select the correct value from the 'platformTermsAndConditionsCode' code list.\n","For additional explanation see <a href=\" https://www.gs1.nl/en/industries/food-health-and-beauty/gs1-data-source/entering-data/attribute-explorer-attributes-list\" style=\"color:blue; text-decoration:underline\" target=\"_blank\"> https://www.gs1.nl/en/industries/food-health-and-beauty/gs1-data-source/entering-data/attribute-explorer-attributes-list</a>",null,"False","O"," ","O"," ","O"," ","Sarina","Sarina","9/27/2021 6:38:27 PM","11/4/2021 9:03:06 PM",{"$f":"IF(A115=\"ANL1420\",\"Targetsector\",LEFT(C115,LEN(C115)-LEN('BES EN'!E115)-3))","v":"Platform terms and conditions code"}]
["ANL1144","Active","Stacking factor (stackingFactor)","MNL0020","stackingFactor","3.1.17","/catalogue_item_notification:catalogueItemNotificationMessage/transaction/documentCommand/catalogue_item_notification:catalogueItemNotification/catalogueItem/tradeItem/tradeItemInformation/extension/*[namespace-uri()='urn:gs1:gdsn:trade_item_handling:xsd:3' and local-name()='tradeItemHandlingModule']/tradeItemHandlingInformation/tradeItemStacking/stackingFactor","nonNegativeInteger",null,"","","0..1","","FMCG","Hierarchy","177","Food;Health;Petfood;Fruit&Vegetable","","If a supplier has different palletisations for different customers, each palletisation needs to be identified with a separate GTIN (Global Trade Item Number). On this specific level, the pallet information needs to be provided. ","A factor that determines the maximum stacking for the product. Indicates the number of levels in which the product may be stacked.","2","Enter the maximum number of layers in which the product can be stacked without causing damage to the product.","For additional explanation see <a href=\" https://www.gs1.nl/en/industries/food-health-and-beauty/gs1-data-source/entering-data/attribute-explorer-attributes-list\" style=\"color:blue; text-decoration:underline\" target=\"_blank\"> https://www.gs1.nl/en/industries/food-health-and-beauty/gs1-data-source/entering-data/attribute-explorer-attributes-list</a><br />\n<br />\nLocal Dutch applicable validation rules are:<br />\n500.253, 500.284, 500.322",null,"False","O"," ","O"," ","CM","Mandatory, if there is a maximum number of layers that can be safely stacked for a logistic unit.","Sarina","Sarina","9/27/2021 6:38:27 PM","11/4/2021 9:03:13 PM",{"$f":"IF(A116=\"ANL1420\",\"Targetsector\",LEFT(C116,LEN(C116)-LEN('BES EN'!E116)-3))","v":"Stacking factor"}]
["ANL1145","Active","Stacking factor type code (stackingFactorTypeCode)","MNL0020","stackingFactorTypeCode","3.1.17","/catalogue_item_notification:catalogueItemNotificationMessage/transaction/documentCommand/catalogue_item_notification:catalogueItemNotification/catalogueItem/tradeItem/tradeItemInformation/extension/*[namespace-uri()='urn:gs1:gdsn:trade_item_handling:xsd:3' and local-name()='tradeItemHandlingModule']/tradeItemHandlingInformation/tradeItemStacking/stackingFactorTypeCode","CodeList","BENELUX_GDSN_StackingFactorTypeCode","","","0..1","","FMCG","Hierarchy","178","Food;Health;Fruit&Vegetable;Petfood","","Use this field only if &lsquo;Stacking factor&rsquo; is populated. If a supplier has different palletisations for different customers, each palletisation needs to be identified with a separate GTIN (Global Trade Item Number). On this specific level, the pallet information needs to be provided.\n","Indicates the supply chain process in which the particular product may be stacked. From a supply chain perspective, these values may differ from a storage perspective, truck transport, rail, etc. If a retailer is shipping between warehouses or stores, it needs the information to support its supply chain. For example, a truck can only be stacked 2 pallets high, but in a warehouse that can be 3 pallets.\n","STORAGE_UNSPECIFIED\n","Select the correct value from the following values of the &#39;stackingFactorTypeCode&#39; code list:<br />\n- STORAGE_UNSPECIFIED (for goods in storage, regardless of the type of storage)<br />\n- TRANSPORT_UNSPECIFIED (for goods in transport, regardless of the type of transport)<br />\n- UNSPECIFIED (if the stacking factor is the same for both transport and storage).\n","For additional explanation see <a href=\" https://www.gs1.nl/en/industries/food-health-and-beauty/gs1-data-source/entering-data/attribute-explorer-attributes-list\" style=\"color:blue; text-decoration:underline\" target=\"_blank\"> https://www.gs1.nl/en/industries/food-health-and-beauty/gs1-data-source/entering-data/attribute-explorer-attributes-list</a><br />\n<br />\nLocal Dutch applicable validation rules are: 500.252, 500.253, 500.322\n",null,"False","O"," ","O"," ","CM","Mandatory if ‘Stacking factor’ is populated.","Sarina","Sarina","9/27/2021 6:38:27 PM","11/4/2021 9:03:19 PM",{"$f":"IF(A117=\"ANL1420\",\"Targetsector\",LEFT(C117,LEN(C117)-LEN('BES EN'!E117)-3))","v":"Stacking factor type code"}]
["ANL1146","Active","Quantity of complete layers contained in a trade item (quantityOfCompleteLayersContainedInATradeItem)","MNL0020","quantityOfCompleteLayersContainedInATradeItem","3.1.17","/catalogue_item_notification:catalogueItemNotificationMessage/transaction/documentCommand/catalogue_item_notification:catalogueItemNotification/catalogueItem/tradeItem/tradeItemInformation/extension/*[namespace-uri()='urn:gs1:gdsn:trade_item_hierarchy:xsd:3' and local-name()='tradeItemHierarchyModule']/tradeItemHierarchy/quantityOfCompleteLayersContainedInATradeItem","nonNegativeInteger",null,"","","0..1","","FMCG","Hierarchy","179","Fruit&Vegetable;Petfood;Health;Food","","If a supplier has different palletisations for different customers, each palletisation needs to be identified with a separate GTIN (Global Trade Item Number). On this specific level, the pallet information needs to be provided.","The number of layers of next lower level base units in a trade unit. Does not apply to a base unit.","4","If a GTIN (Global Trade Item Number) has been allocated to the pallet, enter the number of layers making up the pallet.","For additional explanation see <a href=\" https://www.gs1.nl/en/industries/food-health-and-beauty/gs1-data-source/entering-data/attribute-explorer-attributes-list\" style=\"color:blue; text-decoration:underline\" target=\"_blank\"> https://www.gs1.nl/en/industries/food-health-and-beauty/gs1-data-source/entering-data/attribute-explorer-attributes-list</a><br />\n<br />\nLocal Dutch applicable validation rules are:<br />\n500.141, 500.146, 500.284, 500.308",null,"False","O"," ","O"," ","M"," ","Sarina","Sarina","9/27/2021 6:38:28 PM","11/4/2021 9:03:25 PM",{"$f":"IF(A118=\"ANL1420\",\"Targetsector\",LEFT(C118,LEN(C118)-LEN('BES EN'!E118)-3))","v":"Quantity of complete layers contained in a trade item"}]
["ANL1147","Active","Number of units per layer in a GTIN (quantityOfTradeItemsContainedInACompleteLayer)","MNL0020","quantityOfTradeItemsContainedInACompleteLayer","3.1.17","/catalogue_item_notification:catalogueItemNotificationMessage/transaction/documentCommand/catalogue_item_notification:catalogueItemNotification/catalogueItem/tradeItem/tradeItemInformation/extension/*[namespace-uri()='urn:gs1:gdsn:trade_item_hierarchy:xsd:3' and local-name()='tradeItemHierarchyModule']/tradeItemHierarchy/quantityOfTradeItemsContainedInACompleteLayer","nonNegativeInteger",null,"","","0..1","","FMCG","Hierarchy","180","Food;Health;Petfood;Fruit&Vegetable","","If a supplier has different palletisations for different customers, each palletisation needs to be identified with a separate GTIN (Global Trade Item Number). On this specific level, the pallet information needs to be provided. ","The number of trade units in a complete layer of the next higher level packaging configuration. Used in the hierarchical packaging structure of a trade unit.","12","If a GTIN (Global Trade Item Number) has been allocated to the pallet configuration, enter the number of next lower level units making up the pallet layer.","For additional explanation see <a href=\" https://www.gs1.nl/en/industries/food-health-and-beauty/gs1-data-source/entering-data/attribute-explorer-attributes-list\" style=\"color:blue; text-decoration:underline\" target=\"_blank\"> https://www.gs1.nl/en/industries/food-health-and-beauty/gs1-data-source/entering-data/attribute-explorer-attributes-list</a><br />\n<br />\nLocal Dutch applicable validation rules are:<br />\n500.142, 500.147, 500.308, 500.310, 500.321",null,"False","O"," ","O"," ","CM","Mandatory for fruits and vegetables.","Sarina","Sarina","9/27/2021 6:38:28 PM","11/4/2021 9:03:31 PM",{"$f":"IF(A119=\"ANL1420\",\"Targetsector\",LEFT(C119,LEN(C119)-LEN('BES EN'!E119)-3))","v":"Number of units per layer in a GTIN"}]
["ANL1148","Active","Number of units in a non-GTIN pallet (quantityOfTradeItemsPerPallet)","MNL0020","quantityOfTradeItemsPerPallet","3.1.17","/catalogue_item_notification:catalogueItemNotificationMessage/transaction/documentCommand/catalogue_item_notification:catalogueItemNotification/catalogueItem/tradeItem/tradeItemInformation/extension/*[namespace-uri()='urn:gs1:gdsn:trade_item_hierarchy:xsd:3' and local-name()='tradeItemHierarchyModule']/tradeItemHierarchy/quantityOfTradeItemsPerPallet","nonNegativeInteger",null,"","","0..1","","FMCG","Hierarchy","181","Fruit&Vegetable;Petfood;Health;Food","","If a supplier has different palletisations for different customers, each palletisation needs to be identified with a separate GTIN (Global Trade Item Number). On this specific level, the pallet information needs to be provided.\n","The number of trade items contained on a pallet. Only used if the pallet has no GTIN (Global Trade Item Number). It indicates the number of trade items placed on a pallet according to supplier or retailer preferences.\n","72\n","If no GTIN (Global Trade Item Number) has been allocated to the pallet, enter the number of units making up the pallet layer.\n","For additional explanation see <a href=\" https://www.gs1.nl/en/industries/food-health-and-beauty/gs1-data-source/entering-data/attribute-explorer-attributes-list\" style=\"color:blue; text-decoration:underline\" target=\"_blank\"> https://www.gs1.nl/en/industries/food-health-and-beauty/gs1-data-source/entering-data/attribute-explorer-attributes-list</a><br />\n<br />\nLocal Dutch applicable validation rules are: 500.143, 500.145, 500.308, 500.416, 500.417",null,"False","CM","Mandatory for fruits and vegetables, if this is the largest unit within the hierarchy","CM","Mandatory for fruits and vegetables, if this is the largest unit within the hierarchy","O"," ","Sarina","Sarina","9/27/2021 6:38:28 PM","11/4/2021 9:03:38 PM",{"$f":"IF(A120=\"ANL1420\",\"Targetsector\",LEFT(C120,LEN(C120)-LEN('BES EN'!E120)-3))","v":"Number of units in a non-GTIN pallet"}]
["ANL1149","Active","Quantity of layers per non-GTIN pallet (quantityOfLayersPerPallet)","MNL0020","quantityOfLayersPerPallet","3.1.17","/catalogue_item_notification:catalogueItemNotificationMessage/transaction/documentCommand/catalogue_item_notification:catalogueItemNotification/catalogueItem/tradeItem/tradeItemInformation/extension/*[namespace-uri()='urn:gs1:gdsn:trade_item_hierarchy:xsd:3' and local-name()='tradeItemHierarchyModule']/tradeItemHierarchy/quantityOfLayersPerPallet","nonNegativeInteger",null,"","","0..1","","FMCG","Hierarchy","182","Food;Health;Petfood;Fruit&Vegetable","","If a supplier has different palletisations for different customers, each palletisation needs to be identified with a separate GTIN (Global Trade Item Number). On this specific level, the pallet information needs to be provided.\n","The number of layers that a pallet contains. Only used if the pallet has no GTIN (Global Trade Item Number). It indicates the number of layers that a pallet contains, according to supplier or retailer preferences.\n","4\n","If no GTIN (Global Trade Item Number) has been allocated to the pallet configuration, enter the number of layers making up the pallet.\n","For additional explanation see <a href=\" https://www.gs1.nl/en/industries/food-health-and-beauty/gs1-data-source/entering-data/attribute-explorer-attributes-list\" style=\"color:blue; text-decoration:underline\" target=\"_blank\"> https://www.gs1.nl/en/industries/food-health-and-beauty/gs1-data-source/entering-data/attribute-explorer-attributes-list</a><br />\n<br />\nLocal Dutch applicable validation rules are: 500.144, 500.285, 500.308, 500.311, 500.377, 500.416, 500.417",null,"False","CM","Mandatory if this is the largest unit within the hierarchy","CM","if this is the largest unit within the hierarchy","O"," ","Sarina","Sarina","9/27/2021 6:38:28 PM","11/4/2021 9:03:45 PM",{"$f":"IF(A121=\"ANL1420\",\"Targetsector\",LEFT(C121,LEN(C121)-LEN('BES EN'!E121)-3))","v":"Quantity of layers per non-GTIN pallet"}]
["ANL1150","Active","Quantity of trade items per pallet layer of non-GTIN pallet (quantityOfTradeItemsPerPalletLayer)","MNL0020","quantityOfTradeItemsPerPalletLayer","3.1.17","/catalogue_item_notification:catalogueItemNotificationMessage/transaction/documentCommand/catalogue_item_notification:catalogueItemNotification/catalogueItem/tradeItem/tradeItemInformation/extension/*[namespace-uri()='urn:gs1:gdsn:trade_item_hierarchy:xsd:3' and local-name()='tradeItemHierarchyModule']/tradeItemHierarchy/quantityOfTradeItemsPerPalletLayer","nonNegativeInteger",null,"","","0..1","","FMCG","Hierarchy","183","Fruit&Vegetable;Petfood;Health;Food","","If a supplier has different palletisations for different customers, each palletisation needs to be identified with a separate GTIN (Global Trade Item Number). On this specific level, the pallet information needs to be provided.\n","The number of trade items contained on a single layer of a pallet. Only used if the pallet has no GTIN (Global Trade Item Number). It indicates the number of trade units placed on a pallet layer according to supplier or retailer preferences.\n","18\n","If no GTIN (Global Trade Item Number) has been allocated to the pallet, enter the number of units making up the pallet layer.\n","For additional explanation see <a href=\" https://www.gs1.nl/en/industries/food-health-and-beauty/gs1-data-source/entering-data/attribute-explorer-attributes-list\" style=\"color:blue; text-decoration:underline\" target=\"_blank\"> https://www.gs1.nl/en/industries/food-health-and-beauty/gs1-data-source/entering-data/attribute-explorer-attributes-list</a><br />\n<br />\nLocal Dutch applicable validation rules are: 500.145, 500.308, 500.311, 500.378, 500.416, 500.417",null,"False","CM","Mandatory for fruits and vegetables if this is the largest unit within the hierarchy","CM","for fruits and vegetables if this is the largest unit within the hierarchy","O"," ","Sarina","Sarina","9/27/2021 6:38:28 PM","11/4/2021 9:03:51 PM",{"$f":"IF(A122=\"ANL1420\",\"Targetsector\",LEFT(C122,LEN(C122)-LEN('BES EN'!E122)-3))","v":"Quantity of trade items per pallet layer of non-GTIN pallet"}]
["ANL1151","Active","Non-GTIN pallet height (height)","MNL0020","height","3.1.17","/catalogue_item_notification:catalogueItemNotificationMessage/transaction/documentCommand/catalogue_item_notification:catalogueItemNotification/catalogueItem/tradeItem/tradeItemInformation/extension/*[namespace-uri()='urn:gs1:gdsn:nongtin_logistics_unit_information:xsd:3' and local-name()='nonGTINLogisticsUnitInformationModule']/nonGTINLogisticsUnitInformation/height","Measurement",null,"","","0..1","","FMCG","Hierarchy","184","Food;Petfood;Fruit&Vegetable;Health","","If a supplier has different palletisations for different customers, each palletisation needs to be identified with a separate GTIN (Global Trade Item Number). On this specific level, the pallet information needs to be provided.\n","The height of the unit load, as measured according to the &#39;Package Measurement Rules&#39;, including the shipping platform unless it is excluded according to the chosen &#39;Pallet Type Code&#39;.\n","2400 (MMT)\n","Enter the total height of the pallet configuration, including the shipping platform itself. Only use this for pallet configurations without a GTIN (Global Trade Item Number). Enter a valid measurement expressed in preferably the unit of measurement MMT (millimetres) rounded up to an integer if possible (for example 99.3 mm will rounded up to 100 mm).\n","For additional explanation see <a href=\" https://www.gs1.nl/en/industries/food-health-and-beauty/gs1-data-source/entering-data/attribute-explorer-attributes-list\" style=\"color:blue; text-decoration:underline\" target=\"_blank\"> https://www.gs1.nl/en/industries/food-health-and-beauty/gs1-data-source/entering-data/attribute-explorer-attributes-list</a><br />\n<br />\nLocal Dutch applicable validation rules are: 500.139, 500.311, 500.416, 500.417",null,"False","CM","Mandatory if this is the largest unit within the hierarchy","CM","if this is the largest unit within the hierarchy","O"," ","Sarina","Sarina","9/27/2021 6:38:28 PM","11/4/2021 9:03:58 PM",{"$f":"IF(A123=\"ANL1420\",\"Targetsector\",LEFT(C123,LEN(C123)-LEN('BES EN'!E123)-3))","v":"Non-GTIN pallet height"}]
["ANL1152","Active","Non-GTIN pallet height UOM (height/@measurementUnitCode)","MNL0020","height/@measurementUnitCode","3.1.17","/catalogue_item_notification:catalogueItemNotificationMessage/transaction/documentCommand/catalogue_item_notification:catalogueItemNotification/catalogueItem/tradeItem/tradeItemInformation/extension/*[namespace-uri()='urn:gs1:gdsn:nongtin_logistics_unit_information:xsd:3' and local-name()='nonGTINLogisticsUnitInformationModule']/nonGTINLogisticsUnitInformation/height/@measurementUnitCode","CodeList","BENELUX_GDSN_MeasurementUnitCode","","","1..1","","FMCG","Hierarchy","185","Health;Food;Petfood;Fruit&Vegetable","",null,"Any standardised, reproducible unit that can be used to measure any physical property.","MMT","Select the correct value from the 'measurementUnitCode' code list.","For additional explanation see <a href=\" https://www.gs1.nl/en/industries/food-health-and-beauty/gs1-data-source/entering-data/attribute-explorer-attributes-list\" style=\"color:blue; text-decoration:underline\" target=\"_blank\"> https://www.gs1.nl/en/industries/food-health-and-beauty/gs1-data-source/entering-data/attribute-explorer-attributes-list</a>",null,"False","CM","Mandatory in case the 'Non-GTIN pallet height' field is populated","CM","in case the 'Non-GTIN pallet height' field is populated","O"," ","Sarina","Sarina","9/27/2021 6:38:29 PM","11/4/2021 9:04:04 PM",{"$f":"IF(A124=\"ANL1420\",\"Targetsector\",LEFT(C124,LEN(C124)-LEN('BES EN'!E124)-3))","v":"Non-GTIN pallet height UOM"}]
["ANL1153","Active","Non-GTIN pallet width (width)","MNL0020","width","3.1.17","/catalogue_item_notification:catalogueItemNotificationMessage/transaction/documentCommand/catalogue_item_notification:catalogueItemNotification/catalogueItem/tradeItem/tradeItemInformation/extension/*[namespace-uri()='urn:gs1:gdsn:nongtin_logistics_unit_information:xsd:3' and local-name()='nonGTINLogisticsUnitInformationModule']/nonGTINLogisticsUnitInformation/width","Measurement",null,"","","0..1","","FMCG","Hierarchy","186","Petfood;Fruit&Vegetable;Food;Health","","If a supplier has different palletisations for different customers, each palletisation needs to be identified with a separate GTIN (Global Trade Item Number). On this specific level, the pallet information needs to be provided. ","The width of the unit load, as measured according to the 'Package Measurement Rules', including the shipping platform unless it is excluded according to the chosen 'Platform Type Code'.","1500 (MMT)","Enter the total width of the pallet configuration, including the shipping platform itself. Only use this for pallet configurations without a GTIN (Global Trade Item Number). Enter a valid measurement expressed in preferably the unit of measurement MMT (millimetres) rounded up to an integer if possible (for example 99.3 mm will rounded up to 100 mm).","For additional explanation see <a href=\" https://www.gs1.nl/en/industries/food-health-and-beauty/gs1-data-source/entering-data/attribute-explorer-attributes-list\" style=\"color:blue; text-decoration:underline\" target=\"_blank\"> https://www.gs1.nl/en/industries/food-health-and-beauty/gs1-data-source/entering-data/attribute-explorer-attributes-list</a>",null,"False","CM","Mandatory if this is the largest unit within the hierarchy.","CM","if this is the largest unit within the hierarchy. ","O"," ","Sarina","Sarina","9/27/2021 6:38:29 PM","11/4/2021 9:04:11 PM",{"$f":"IF(A125=\"ANL1420\",\"Targetsector\",LEFT(C125,LEN(C125)-LEN('BES EN'!E125)-3))","v":"Non-GTIN pallet width"}]
["ANL1154","Active","Non-GTIN pallet width UOM (width/@measurementUnitCode)","MNL0020","width/@measurementUnitCode","3.1.17","/catalogue_item_notification:catalogueItemNotificationMessage/transaction/documentCommand/catalogue_item_notification:catalogueItemNotification/catalogueItem/tradeItem/tradeItemInformation/extension/*[namespace-uri()='urn:gs1:gdsn:nongtin_logistics_unit_information:xsd:3' and local-name()='nonGTINLogisticsUnitInformationModule']/nonGTINLogisticsUnitInformation/width/@measurementUnitCode","CodeList","BENELUX_GDSN_MeasurementUnitCode","","","1..1","","FMCG","Hierarchy","187","Fruit&Vegetable;Petfood;Food;Health","",null,"Any standardised, reproducible unit that can be used to measure any physical property.","MMT","Select the correct value from the 'MeasurementUnitCode' code list.","For additional explanation see <a href=\" https://www.gs1.nl/en/industries/food-health-and-beauty/gs1-data-source/entering-data/attribute-explorer-attributes-list\" style=\"color:blue; text-decoration:underline\" target=\"_blank\"> https://www.gs1.nl/en/industries/food-health-and-beauty/gs1-data-source/entering-data/attribute-explorer-attributes-list</a>",null,"False","CM","Mandatory in case the 'Non-GTIN pallet width' field is populated","CM","in case the 'Non-GTIN pallet width' field is populated","O"," ","Sarina","Sarina","9/27/2021 6:38:29 PM","11/4/2021 9:04:18 PM",{"$f":"IF(A126=\"ANL1420\",\"Targetsector\",LEFT(C126,LEN(C126)-LEN('BES EN'!E126)-3))","v":"Non-GTIN pallet width UOM"}]
["ANL1155","Active","Non-GTIN pallet depth (depth)","MNL0020","depth","3.1.17","/catalogue_item_notification:catalogueItemNotificationMessage/transaction/documentCommand/catalogue_item_notification:catalogueItemNotification/catalogueItem/tradeItem/tradeItemInformation/extension/*[namespace-uri()='urn:gs1:gdsn:nongtin_logistics_unit_information:xsd:3' and local-name()='nonGTINLogisticsUnitInformationModule']/nonGTINLogisticsUnitInformation/depth","Measurement",null,"","","0..1","","FMCG","Hierarchy","188","Food;Fruit&Vegetable;Petfood;Health","","If a supplier has different palletisations for different customers, each palletisation needs to be identified with a separate GTIN (Global Trade Item Number). On this specific level, the pallet information needs to be provided.","The depth of the unit load, as measured according to the 'Package Measurement Rules', including the shipping platform.","2000 (MMT)","Enter the total depth of the pallet configuration, including the shipping platform itself. Only use this for pallet configurations without a GTIN (Global Trade Item Number). Enter a valid measurement expressed in preferably the unit of measurement MMT (millimetres) rounded up to an integer if possible (for example 99.3 mm will rounded up to 100 mm).","For additional explanation see <a href=\" https://www.gs1.nl/en/industries/food-health-and-beauty/gs1-data-source/entering-data/attribute-explorer-attributes-list\" style=\"color:blue; text-decoration:underline\" target=\"_blank\"> https://www.gs1.nl/en/industries/food-health-and-beauty/gs1-data-source/entering-data/attribute-explorer-attributes-list</a>",null,"False","CM","Mandatory if this is the largest unit within the hierarchy.","CM","if this is the largest unit within the hierarchy. ","O"," ","Sarina","Sarina","9/27/2021 6:38:29 PM","11/4/2021 9:04:25 PM",{"$f":"IF(A127=\"ANL1420\",\"Targetsector\",LEFT(C127,LEN(C127)-LEN('BES EN'!E127)-3))","v":"Non-GTIN pallet depth"}]
["ANL1156","Active","Non-GTIN pallet depth UOM (depth/@measurementUnitCode)","MNL0020","depth/@measurementUnitCode","3.1.17","/catalogue_item_notification:catalogueItemNotificationMessage/transaction/documentCommand/catalogue_item_notification:catalogueItemNotification/catalogueItem/tradeItem/tradeItemInformation/extension/*[namespace-uri()='urn:gs1:gdsn:nongtin_logistics_unit_information:xsd:3' and local-name()='nonGTINLogisticsUnitInformationModule']/nonGTINLogisticsUnitInformation/depth/@measurementUnitCode","CodeList","BENELUX_GDSN_MeasurementUnitCode","","","1..1","","FMCG","Hierarchy","189","Health;Food;Petfood;Fruit&Vegetable","",null,"Any standardised, reproducible unit that can be used to measure any physical property.","MMT","Select the correct value from the 'MeasurementUnitCode' code list.","For additional explanation see <a href=\" https://www.gs1.nl/en/industries/food-health-and-beauty/gs1-data-source/entering-data/attribute-explorer-attributes-list\" style=\"color:blue; text-decoration:underline\" target=\"_blank\"> https://www.gs1.nl/en/industries/food-health-and-beauty/gs1-data-source/entering-data/attribute-explorer-attributes-list</a>",null,"False","CM","Mandatory in case the 'Non-GTIN pallet depth' field is populated.","CM","in case the 'Non-GTIN pallet depth' field is populated.","O"," ","Sarina","Sarina","9/27/2021 6:38:29 PM","11/4/2021 9:04:32 PM",{"$f":"IF(A128=\"ANL1420\",\"Targetsector\",LEFT(C128,LEN(C128)-LEN('BES EN'!E128)-3))","v":"Non-GTIN pallet depth UOM"}]
["ANL1157","Active","Non-GTIN pallet gross weight (grossWeight)","MNL0020","grossWeight","3.1.17","/catalogue_item_notification:catalogueItemNotificationMessage/transaction/documentCommand/catalogue_item_notification:catalogueItemNotification/catalogueItem/tradeItem/tradeItemInformation/extension/*[namespace-uri()='urn:gs1:gdsn:nongtin_logistics_unit_information:xsd:3' and local-name()='nonGTINLogisticsUnitInformationModule']/nonGTINLogisticsUnitInformation/grossWeight","Measurement",null,"","","0..1","","FMCG","Hierarchy","190","Health;Petfood;Fruit&Vegetable;Food","","If a supplier has different palletisations for different customers, each palletisation needs to be identified with a separate GTIN (Global Trade Item Number). On this specific level, the pallet information needs to be provided.\n","The weight of both the unit load (content) and the platform on which the goods are carried if there is one.\n","24 (KGM)\n","Enter the total weight of the pallet configuration, including the shipping platform itself. Only use this for pallet configurations without a GTIN (Global Trade Item Number). Use the unit of measurement KGM (kilograms) or GRM (grams).\n","For additional explanation see <a href=\" https://www.gs1.nl/en/industries/food-health-and-beauty/gs1-data-source/entering-data/attribute-explorer-attributes-list\" style=\"color:blue; text-decoration:underline\" target=\"_blank\"> https://www.gs1.nl/en/industries/food-health-and-beauty/gs1-data-source/entering-data/attribute-explorer-attributes-list</a><br />\n<br />\nLocal Dutch applicable validation rules are: 500.137, 500.311, 500.313, 500.314, 500.416, 500.417",null,"False","CM","Mandatory if this is the largest unit within the hierarchy","CM","if this is the largest unit within the hierarchy","O"," ","Sarina","Sarina","9/27/2021 6:38:29 PM","11/4/2021 9:04:38 PM",{"$f":"IF(A129=\"ANL1420\",\"Targetsector\",LEFT(C129,LEN(C129)-LEN('BES EN'!E129)-3))","v":"Non-GTIN pallet gross weight"}]
["ANL1158","Active","Non-GTIN pallet gross weight UOM (grossWeight/@measurementUnitCode)","MNL0020","grossWeight/@measurementUnitCode","3.1.17","/catalogue_item_notification:catalogueItemNotificationMessage/transaction/documentCommand/catalogue_item_notification:catalogueItemNotification/catalogueItem/tradeItem/tradeItemInformation/extension/*[namespace-uri()='urn:gs1:gdsn:nongtin_logistics_unit_information:xsd:3' and local-name()='nonGTINLogisticsUnitInformationModule']/nonGTINLogisticsUnitInformation/grossWeight/@measurementUnitCode","CodeList","BENELUX_GDSN_MeasurementUnitCode","","","1..1","","FMCG","Hierarchy","191","Fruit&Vegetable;Petfood;Food;Health","",null,"Any standardised, reproducible unit that can be used to measure any physical property.","KGM","Select the correct value from the 'MeasurementUnitCode' code list.","For additional explanation see <a href=\" https://www.gs1.nl/en/industries/food-health-and-beauty/gs1-data-source/entering-data/attribute-explorer-attributes-list\" style=\"color:blue; text-decoration:underline\" target=\"_blank\"> https://www.gs1.nl/en/industries/food-health-and-beauty/gs1-data-source/entering-data/attribute-explorer-attributes-list</a><br />\n<br />\nLocal Dutch applicable validation rules are:<br />\n500.314",null,"False","CM","Mandatory in case the 'Non-GTIN pallet gross weight' field is populated","CM","in case the 'Non-GTIN pallet gross weight' field is populated","O"," ","Sarina","Sarina","9/27/2021 6:38:30 PM","11/4/2021 9:04:45 PM",{"$f":"IF(A130=\"ANL1420\",\"Targetsector\",LEFT(C130,LEN(C130)-LEN('BES EN'!E130)-3))","v":"Non-GTIN pallet gross weight UOM"}]
["ANL1159","Active","Non-GTIN pallet stacking factor (logisticsUnitStackingFactor)","MNL0020","logisticsUnitStackingFactor","3.1.17","/catalogue_item_notification:catalogueItemNotificationMessage/transaction/documentCommand/catalogue_item_notification:catalogueItemNotification/catalogueItem/tradeItem/tradeItemInformation/extension/*[namespace-uri()='urn:gs1:gdsn:nongtin_logistics_unit_information:xsd:3' and local-name()='nonGTINLogisticsUnitInformationModule']/nonGTINLogisticsUnitInformation/logisticsUnitStackingFactor","nonNegativeInteger",null,"","","0..1","","FMCG","Hierarchy","192","Health;Food;Petfood;Fruit&Vegetable","","If a supplier has different palletisations for different customers, each palletisation needs to be identified with a separate GTIN (Global Trade Item Number). On this specific level, the pallet information needs to be provided.","The stacking factor of both the unit load (content) and the platform on which the goods are carried, if there is one. A stacking factor determines the maximum stacking for the product. It indicates the number of levels the product may be stacked.","2","Enter the maximum number of layers in which the product can be stacked without causing damage to the product. Only use this for pallet configurations without a GTIN (Global Trade Item Number). ","For additional explanation see <a href=\" https://www.gs1.nl/en/industries/food-health-and-beauty/gs1-data-source/entering-data/attribute-explorer-attributes-list\" style=\"color:blue; text-decoration:underline\" target=\"_blank\"> https://www.gs1.nl/en/industries/food-health-and-beauty/gs1-data-source/entering-data/attribute-explorer-attributes-list</a><br />\n<br />\nLocal Dutch applicable validation rules are:<br />\n500.285",null,"False","CM","Mandatory if this is the largest unit within the hierarchy.","CM","if this is the largest unit within the hierarchy.","O"," ","Sarina","Sarina","9/27/2021 6:38:30 PM","11/4/2021 9:04:52 PM",{"$f":"IF(A131=\"ANL1420\",\"Targetsector\",LEFT(C131,LEN(C131)-LEN('BES EN'!E131)-3))","v":"Non-GTIN pallet stacking factor"}]
["ANL1160","Active","Is trade item packed irregularly (isTradeItemPackedIrregularly)","MNL0020","isTradeItemPackedIrregularly","3.1.17","/catalogue_item_notification:catalogueItemNotificationMessage/transaction/documentCommand/catalogue_item_notification:catalogueItemNotification/catalogueItem/tradeItem/tradeItemInformation/extension/*[namespace-uri()='urn:gs1:gdsn:trade_item_hierarchy:xsd:3' and local-name()='tradeItemHierarchyModule']/tradeItemHierarchy/isTradeItemPackedIrregularly","CodeList","BENELUX_GDSN_NonBinaryLogicEnumeration","","","0..1","","FMCG","Hierarchy","193","Food;Fruit&Vegetable;Health;Petfood","","If &lsquo;TRUE&rsquo; is entered here, the retailer should use the total number of units per pallet and not the multiplication of the number of units per layer and the number of layers, to determine the number of units the pallet contains.\n","Indicates that the item is packed in a non-rectilinear pattern such that it is not meaningful to send the number of child trade items in the width/depth/height.\n","FALSE\n","If a GTIN (Global Trade Item Number) has been allocated to the pallet configuration and the pallet is packed irregularly (for example a layer of 7 cases and an adjacent layer of 8 cases) to stabilise the unit, you can indicate this here. Choose one of the following values:<br />\n- TRUE: the pallet is packed irregularly.<br />\n- FALSE: the pallet is packed regularly (every layer has an equal number of cases) and the number of layers is the same everywhere. Also add the total number of cases on a pallet, in &lsquo;Quantity of next lower level trade item&rsquo;.\n","For additional explanation see <a href=\" https://www.gs1.nl/en/industries/food-health-and-beauty/gs1-data-source/entering-data/attribute-explorer-attributes-list\" style=\"color:blue; text-decoration:underline\" target=\"_blank\"> https://www.gs1.nl/en/industries/food-health-and-beauty/gs1-data-source/entering-data/attribute-explorer-attributes-list</a> <br />\n<br />\nLocal Dutch applicable validation rules are: 500.321\n",null,"False","O"," ","O"," ","CM","Mandatory if a pallet does not have a consistent numbers of items per layer.","Sarina","Sarina","9/27/2021 6:38:30 PM","11/4/2021 9:05:00 PM",{"$f":"IF(A132=\"ANL1420\",\"Targetsector\",LEFT(C132,LEN(C132)-LEN('BES EN'!E132)-3))","v":"Is trade item packed irregularly"}]
["ANL1161","Active","Is non-GTIN logistics unit packed irregularly (isNonGTINLogisticsUnitPackedIrregularly)","MNL0020","isNonGTINLogisticsUnitPackedIrregularly","3.1.17","/catalogue_item_notification:catalogueItemNotificationMessage/transaction/documentCommand/catalogue_item_notification:catalogueItemNotification/catalogueItem/tradeItem/tradeItemInformation/extension/*[namespace-uri()='urn:gs1:gdsn:trade_item_hierarchy:xsd:3' and local-name()='tradeItemHierarchyModule']/tradeItemHierarchy/isNonGTINLogisticsUnitPackedIrregularly","CodeList","BENELUX_GDSN_NonBinaryLogicEnumeration","","","0..1","","FMCG","Hierarchy","194","Health;Petfood;Fruit&Vegetable;Food","","If &lsquo;TRUE&rsquo; is entered here, the retailer should use the total number of units per pallet and not the multiplication of the number of units per layer and the number of layers, to determine the number of units the pallet contains.\n","Indicates that the Non-GTIN logistic unit is packed in a non-rectilinear pattern such that it is not meaningful to send the number of child trade items in the width/depth/height.\n","FALSE\n","If there is no GTIN (Global Trade Item Number) assigned to the pallet configuration and the pallet is packed irregularly (for example a layer of 7 cases and an adjacent layer of 8 cases) to stabilise the unit, you can indicate this here. Choose one of the following values:<br />\n- TRUE: the pallet is packed irregularly.<br />\n- FALSE: the pallet is packed regularly (every layer has an equal number of cases) and the number of layers is the same everywhere. Also add the total number of cases on a pallet, in &lsquo;Quantity of trade items per non-GTIN pallet&rsquo;.\n","For additional explanation see <a href=\" https://www.gs1.nl/en/industries/food-health-and-beauty/gs1-data-source/entering-data/attribute-explorer-attributes-list\" style=\"color:blue; text-decoration:underline\" target=\"_blank\"> https://www.gs1.nl/en/industries/food-health-and-beauty/gs1-data-source/entering-data/attribute-explorer-attributes-list</a>",null,"False","O"," ","O"," ","O"," ","Sarina","Sarina","9/27/2021 6:38:30 PM","11/4/2021 9:05:07 PM",{"$f":"IF(A133=\"ANL1420\",\"Targetsector\",LEFT(C133,LEN(C133)-LEN('BES EN'!E133)-3))","v":"Is non-GTIN logistics unit packed irregularly"}]
["ANL1162","Active","Hazardous substances classification system (dangerousGoodsRegulationCode)","MNL0020","dangerousGoodsRegulationCode","3.1.17","/catalogue_item_notification:catalogueItemNotificationMessage/transaction/documentCommand/catalogue_item_notification:catalogueItemNotification/catalogueItem/tradeItem/tradeItemInformation/extension/*[namespace-uri()='urn:gs1:gdsn:transportation_hazardous_classification:xsd:3' and local-name()='transportationHazardousClassificationModule']/transportationClassification/regulatedTransportationMode/hazardousInformationHeader/dangerousGoodsRegulationCode","string","BENELUX_GDSN_DangerousGoodsRegulationCode","1","70","0..1","","FMCG","Dangerous goods","421","Health;Food","","If your product has an ADR class, enter here ‘ZCG’, ‘ZNB’ or ‘ZZZ’ and enter the ADR class in the ‘ADR class’ field.","Code indicating the dangerous goods classification system and/or the maintenance agency responsible for it.","ZCG","Depends on the type of transport. The  allowed codes are ‘ZCG’ (Yes, is or contains dangerous goods), ‘ZGE’ (Contains dangerous goods but exceptions for transportation), ‘ZNA’ (No dangerous goods), ‘ZNB’ (No dangerous goods, but additional information for transportation) or ‘ZZZ’ (Mutually defined - Additional and/or other information for the transportation of dangerous goods which are mutually defined).","Local Dutch applicable validation rules are: 500.398, 500.402, 500.403, 500.404",null,"False","CM","Mandatory in case the GPC code of your product is listed on ‘GPC codes that possibly contain a dangerous goods’","O"," ","O"," ","Sarina","Sarina","9/27/2021 6:38:30 PM","11/4/2021 9:05:15 PM",{"$f":"IF(A134=\"ANL1420\",\"Targetsector\",LEFT(C134,LEN(C134)-LEN('BES EN'!E134)-3))","v":"Hazardous substances classification system"}]
["ANL1163","Active","ADR class (classOfDangerousGoods)","MNL0020","classOfDangerousGoods","3.1.17","/catalogue_item_notification:catalogueItemNotificationMessage/transaction/documentCommand/catalogue_item_notification:catalogueItemNotification/catalogueItem/tradeItem/tradeItemInformation/extension/*[namespace-uri()='urn:gs1:gdsn:transportation_hazardous_classification:xsd:3' and local-name()='transportationHazardousClassificationModule']/transportationClassification/regulatedTransportationMode/hazardousInformationHeader/hazardousInformationDetail/classOfDangerousGoods","string","BENELUX_GDSN_ClassOfDangerousGoods","1","4","0..1","","FMCG","Dangerous goods","422","Health;Food","","This indicates that this product is not covered by the ADR regime. Although the official ADR subclasses are more extensive, only use the codes of the GDSN code list to fill in this field.\n","The hazard class of the article. There are nine classes of hazardous substances, some of which are divided into subclasses. Each class determines the conditions for, and nature and properties of, the goods in general.\n","8\n","The ADR class consists of a numerical code for the (main) class, sometimes followed by a &#39;.&#39; and a subclass. Choose the correct value from the code list. For dangerous goods with a safety data sheet (SDS) the value should correspond to the ADR class in chapter 14 of the SDS and should originate from the part for ADR (Road).\n","Local Dutch applicable validation rules are: 500.399, 500.400, 500.401, 500.409, 500.411\n",null,"False","CM","Mandatory in case the ‘Hazardous substances classification system’ field is not populated with ‘ZGE’ or ‘ZNA’.","O"," ","O"," ","Sarina","Sarina","9/27/2021 6:38:31 PM","11/4/2021 9:05:22 PM",{"$f":"IF(A135=\"ANL1420\",\"Targetsector\",LEFT(C135,LEN(C135)-LEN('BES EN'!E135)-3))","v":"ADR class"}]
["ANL1164","Active","Hazard type (ADR/BRZO) (dangerousGoodsHazardousCode)","MNL0020","dangerousGoodsHazardousCode","3.1.17","/catalogue_item_notification:catalogueItemNotificationMessage/transaction/documentCommand/catalogue_item_notification:catalogueItemNotification/catalogueItem/tradeItem/tradeItemInformation/extension/*[namespace-uri()='urn:gs1:gdsn:transportation_hazardous_classification:xsd:3' and local-name()='transportationHazardousClassificationModule']/transportationClassification/regulatedTransportationMode/hazardousInformationHeader/hazardousInformationDetail/dangerousGoodsHazardousCode","string","BENELUX_GDSN_DangerousGoodsHazardousCode","1","35","0..n","","FMCG","Dangerous goods","423","Food;Health","","The ADR hazard type is stated in conjunction with the UN hazardous substance number on a rectangular orange sign on the vehicle. The ADR hazard type is always listed at the top.<br />\n<br />\nBRZO stands for 'Besluit risico's zware ongevallen 2015', a regulation about the risks of severe accidents in The Netherlands from 2015 which is based on the EU Seveso III guidelines.","Dangerous goods hazard ID number, which must be applied to the vehicle when this trade item (dangerous good) is transported by road or rail, to inform the police, fire brigade and others in case of an accident about the kind of danger caused by the cargo.\n","66<br />\nP5a\n","Enter a hazardous code from the code list ‘dangerousGoodsHazardousCode’. In this field you can enter information about the ADR hazard type and information about the BRZO/Seveso hazard category.<br />\n<br />\nIf you are entering information for the ADR hazard type and you have a Safety Data Sheet (SDS), then the code must match the hazard type in chapter 14 of the SDS and come from the RID/ADR (Road Transport) section.<br />\n<br />\nFor the BRZO/Seveso hazard category, you populate a hazard category in accordance with regulation (EC) No. 1272/2008 (CLP).","Local Dutch applicable validation rules are: 500.399\n",null,"False","CM","Mandatory in case for a consumer unit 'ADR class' is populated with a value in the range 1 to 9.","O"," ","O"," ","Sarina","Sarina","9/27/2021 6:38:31 PM","11/4/2021 9:05:29 PM",{"$f":"IF(A136=\"ANL1420\",\"Targetsector\",LEFT(C136,LEN(C136)-LEN('BES EN'!E136)-3))","v":"Hazard type (ADR/BRZO)"}]
["ANL1165","Active","UN number (unitedNationsDangerousGoodsNumber)","MNL0020","unitedNationsDangerousGoodsNumber","3.1.17","/catalogue_item_notification:catalogueItemNotificationMessage/transaction/documentCommand/catalogue_item_notification:catalogueItemNotification/catalogueItem/tradeItem/tradeItemInformation/extension/*[namespace-uri()='urn:gs1:gdsn:transportation_hazardous_classification:xsd:3' and local-name()='transportationHazardousClassificationModule']/transportationClassification/regulatedTransportationMode/hazardousInformationHeader/hazardousInformationDetail/unitedNationsDangerousGoodsNumber","string","BENELUX_GDSN_UNDangerousGoodsNumber","4","4","0..1","","FMCG","Dangerous goods","424","Health;Food","",null,"The four-digit number allocated by the United Nations Committee of Experts on the Transport of Dangerous Goods to classify a substance or particular group of substances. Abbreviation: UN Number.\n","1079\n","Choose the correct code from the code list.<br />\nFor dangerous goods with a safety data sheet (SDS) the value should correspond to the UN number in chapter 14 of the SDS and should originate from the part for ADR (Road).<br />\n<br />\nThis field is mandatory if the &#39;ADR class&#39; field contains a value in the range 1 to 9.\n","Local Dutch applicable validation rules are: 500.400",null,"False","CM","Mandatory in case for a consumer unit 'ADR class' is populated with a value in the range 1 to 9.","O"," ","O"," ","Sarina","Sarina","9/27/2021 6:38:31 PM","11/4/2021 9:05:37 PM",{"$f":"IF(A137=\"ANL1420\",\"Targetsector\",LEFT(C137,LEN(C137)-LEN('BES EN'!E137)-3))","v":"UN number"}]
["ANL1167","Active","ADR packing group (dangerousGoodsPackingGroup)","MNL0020","dangerousGoodsPackingGroup","3.1.17","/catalogue_item_notification:catalogueItemNotificationMessage/transaction/documentCommand/catalogue_item_notification:catalogueItemNotification/catalogueItem/tradeItem/tradeItemInformation/extension/*[namespace-uri()='urn:gs1:gdsn:transportation_hazardous_classification:xsd:3' and local-name()='transportationHazardousClassificationModule']/transportationClassification/regulatedTransportationMode/hazardousInformationHeader/hazardousInformationDetail/dangerousGoodsPackingGroup","CodeList","BENELUX_GDSN_ADRPackingGroup","","","0..1","","FMCG","Dangerous goods","425","Food;Health","","This field is of great importance in various activities such as provision of limited quantity and tunnel code.","Identifies the degree of risk these dangerous goods present during transport according to IATA/IMDG/ADR/RID regulations.","II","Choose the correct value from the code list. For dangerous goods with a safety data sheet (SDS) the code should correspond to the ADR packing group value in chapter 14 of the SDS and should originate from the part for ADR (Road).\n","<a href=\" https://www.unece.org/trans/danger/publi/adr/adr2015/15contentse.html\" style=\"color:blue; text-decoration:underline\" target=\"_blank\"> https://www.unece.org/trans/danger/publi/adr/adr2015/15contentse.html</a>",null,"False","CM","Mandatory in case for a consumer unit 'ADR class' is populated with a value in the range 1 to 9.","O"," ","O"," ","Sarina","Sarina","9/27/2021 6:38:31 PM","11/4/2021 9:05:45 PM",{"$f":"IF(A138=\"ANL1420\",\"Targetsector\",LEFT(C138,LEN(C138)-LEN('BES EN'!E138)-3))","v":"ADR packing group"}]
["ANL1169","Active","GHS pictogram code (gHSSymbolDescriptionCode)","MNL0020","gHSSymbolDescriptionCode","3.1.17","/catalogue_item_notification:catalogueItemNotificationMessage/transaction/documentCommand/catalogue_item_notification:catalogueItemNotification/catalogueItem/tradeItem/tradeItemInformation/extension/*[namespace-uri()='urn:gs1:gdsn:safety_data_sheet:xsd:3' and local-name()='safetyDataSheetModule']/safetyDataSheetInformation/gHSDetail/gHSSymbolDescriptionCode","CodeList","BENELUX_GDSN_GHSSymbolDescriptionCode","","","0..n","","FMCG","Detergents;Label health&beauty;Datakwalitijd 2.0;Label;Dangerous goods","426","Health;Food","","Multiple symbols can occur with each a sequential number (starting at 1 and ascending). There is a maximum of 9 pictograms per product. In Annex 1 of the &#39;Globally Harmonized System of Classification and Labelling of Chemicals (GHS) Fifth revised&#39; edition 2013 is a table containing all the pictograms. See below in the field &#39;Procesbeschrijving&#39;.<br />\n<br />\nYou can select multiple values.<br />\n<br />\nThis field is checked in the context of the Dutch data quality program.","A code depicting the symbols which convey health, physical and environmental hazard information, assigned to a hazard class and category, for example GHS. Pictograms include the harmonised hazard symbols plus other graphic elements, such as borders, background patterns or colours that are intended to convey specific information. Examples of all the pictograms and downloadable files for GHS can be accessed on the UN website for the GHS.\n","CORROSION\n","Choose the correct code from the code list.<br />\nFor dangerous goods with a safety data sheet (SDS) the value should correspond with the GHS symbol code in chapter 2 or 15 of the SDS. Do not use the value of chapter 14, which contains the ADR symbol code.<br />\n<br />\nThis field is mandatory if the symbol is stated on the package.","<a href=\" https://www.unece.org/trans/danger/publi/ghs/pictograms.html\" style=\"color:blue; text-decoration:underline\" target=\"_blank\">https://www.unece.org/trans/danger/publi/ghs/pictograms.html</a><br />\n<br />\nLocal Dutch applicable validation rules are: 500.401\n",null,"False","CM","Mandatory in case a GHS symbol code is on the packaging.","O"," ","O"," ","Sarina","Sarina","9/27/2021 6:38:31 PM","11/4/2021 9:05:53 PM",{"$f":"IF(A139=\"ANL1420\",\"Targetsector\",LEFT(C139,LEN(C139)-LEN('BES EN'!E139)-3))","v":"GHS pictogram code"}]
["ANL1170","Active","Is trade item regulation compliant (isTradeItemRegulationCompliant)","MNL0020","isTradeItemRegulationCompliant","3.1.17","/catalogue_item_notification:catalogueItemNotificationMessage/transaction/documentCommand/catalogue_item_notification:catalogueItemNotification/catalogueItem/tradeItem/tradeItemInformation/extension/*[namespace-uri()='urn:gs1:gdsn:regulated_trade_item:xsd:3' and local-name()='regulatedTradeItemModule']/regulatoryInformation/isTradeItemRegulationCompliant","CodeList","BENELUX_GDSN_NonBinaryLogicEnumeration","","","0..1","","FMCG","Dangerous goods","427","Food;Cosmetics;Health","","If the product has been treated with biocidal products, use the value 'BIOCIDE_REGULATION' ('Regulation type code' field) + 'TRUE' in this field.","Signifies when a trade item is/is not compliant or subject to a regulation.","TRUE","Select the correct value from the list.<br />\n<br /> \nPopulate this field for products that contain precursors for explosives for each value you entered in ‘Regulation type code’. Choose from ‘TRUE’ or ‘NOT_APPLICABLE’. You enter ‘TRUE’ for ‘EXPLOSIVES_PRECURSORS_REGISTRATION’ (value from ‘Regulation type code’) when the product contains substances that are listed in Annex I in EU regulation 2019/1148. For ‘EXPLOSIVES_PRECURSORS_REPORTING’ you populate ‘TRUE’ when the product contains substances that are listed in Annex II in EU regulation 2019/1148. You enter ‘NOT_APPLICABLE’ when the product does not contains substances that are listed in Annex I or II in EU regulation 2019/1148.",null,null,"False","CM","Mandatory for products that contain precursors for explosives.","O"," ","O"," ","Sarina","Sarina","9/27/2021 6:38:31 PM","11/4/2021 9:06:01 PM",{"$f":"IF(A140=\"ANL1420\",\"Targetsector\",LEFT(C140,LEN(C140)-LEN('BES EN'!E140)-3))","v":"Is trade item regulation compliant"}]
["ANL1171","Active","GHS signal words code (gHSSignalWordsCode)","MNL0020","gHSSignalWordsCode","3.1.17","/catalogue_item_notification:catalogueItemNotificationMessage/transaction/documentCommand/catalogue_item_notification:catalogueItemNotification/catalogueItem/tradeItem/tradeItemInformation/extension/*[namespace-uri()='urn:gs1:gdsn:safety_data_sheet:xsd:3' and local-name()='safetyDataSheetModule']/safetyDataSheetInformation/gHSDetail/gHSSignalWordsCode","CodeList","BENELUX_GDSN_GHSSignalWordsCode","","","0..1","","FMCG","Dangerous goods;Label;Datakwalitijd 2.0;Detergents;Label health&beauty","428","Food;Health","","Dangerous goods can be detrimental to humans or the environment. The description of the signal word code (the signal word) is used to indicate whether this product really is dangerous, needs to be handled with care or is not dangerous at all. It is mentioned on the label in the same language as the language of the other text on the label. Possible English signal words are 'dangerous', 'warning' and 'not dangerous'.<br />\n<br />\nThis field is checked in the context of the Dutch data quality program.","Words such as 'Danger' or 'Warning' are used to emphasise hazards and indicate the relative level of severity of the hazard. For GHS these are assigned to a GHS hazard class and category. Some lower level hazard categories do not use signal words.","DANGER","Choose the correct value from the 'GHSSignalWordsCode' code list. <br />\nIf there are more than one GHS signal words, choose the most serious one. For example: if both danger and warning are present on the label, choose DANGER.<br />\n<br />\nFor dangerous goods with a safety data sheet (SDS), indicate the code as it appears in chapter 2.2 of the SDS. \n","Local Dutch applicable validation rules are: 500.401",null,"False","CM","Mandatory in case the ‘GHS pictogram code’ field or the ‘ADR class’ field is populated.","O"," ","O"," ","Sarina","Sarina","9/27/2021 6:38:32 PM","11/4/2021 9:06:09 PM",{"$f":"IF(A141=\"ANL1420\",\"Targetsector\",LEFT(C141,LEN(C141)-LEN('BES EN'!E141)-3))","v":"GHS signal words code"}]
["ANL1172","Active","Hazard designations (Hazard)  (hazardStatementsCode)","MNL0020","hazardStatementsCode","3.1.17","/catalogue_item_notification:catalogueItemNotificationMessage/transaction/documentCommand/catalogue_item_notification:catalogueItemNotification/catalogueItem/tradeItem/tradeItemInformation/extension/*[namespace-uri()='urn:gs1:gdsn:safety_data_sheet:xsd:3' and local-name()='safetyDataSheetModule']/safetyDataSheetInformation/gHSDetail/hazardStatement/hazardStatementsCode","string","BENELUX_GDSN_HazardStatementsCode","1","35","0..1","","FMCG","Dangerous goods;Label;Detergents;Biocides;Label health&beauty","429","Food;Health","","You can select multiple values.","A hazard class or category has been assigned standard phrases which define the kind of hazard, for example EUH001 or H200. This concerns both consumer information on the label and on the safety data sheet from SDS Chapters 2.1 and 2.2.","EUH001<br />\nH200\n","Select the correct code from the code list of H and EUH phrases. The H and EUH phrases that should be entered in this field, are the phrases that are present on the labels of consumer items and the phrases on the safety data sheet. H and EUH phrases that belong to mixes of hazardous substances, should also be entered in this field. Indicate in the field 'Is a hazardous substance a mixture?' whether it concerns a mixture.<br />\n<br />\nNote: H- and EUH phrases that are stated on the label/SDS, can differ from the official phrases. For example H231 ‘May react explosively even in the absence of air at elevated pressure and/or temperature’. This can be on the label/SDS as ‘May react explosively even in the absence of air at elevated pressure’. In both cases the code H231 should be populated in this field. Choose the code with the phrase that is the most similar to the phrase on your label/SDS. When the phrase on the label/SDS differs from the phrase in the code list, populate the whole phrase in the ‘Hazard designations (Hazard) - additional description’  field.<br /> \nThere are also H- and EUH phrases that contain open spaces or options to populate. For example EUH208 ‘Contains <name of sensitising substance>. May produce an allergic reaction.’ Enter in this field the corresponding code. Populate the whole sentence including the parts to be filled in the ‘Hazard designations (Hazard) - additional description’ field. <br />\n<br />\nFor dangerous goods with a safety data sheet (SDS), the value should correspond to the hazard designation in chapter 2.1 and/or 2.2 of the SDS.<br />\n<br />\nPhrases that are stated in both the safety data sheet and on the label should be entered once.","Local Dutch applicable validation rules are: 500.402",null,"False","CM","Mandatory if a hazard statement is indicated on the packaging or on the safety data sheet, optional for cosmetics and personal care products.","O"," ","O"," ","Sarina","Sarina","9/27/2021 6:38:32 PM","11/4/2021 9:06:18 PM",{"$f":"IF(A142=\"ANL1420\",\"Targetsector\",LEFT(C142,LEN(C142)-LEN('BES EN'!E142)-3))","v":"Hazard designations (Hazard) "}]
["ANL1173","Active","Hazard designations (Hazard) - additional description (hazardStatementsDescription)","MNL0020","hazardStatementsDescription","3.1.17","/catalogue_item_notification:catalogueItemNotificationMessage/transaction/documentCommand/catalogue_item_notification:catalogueItemNotification/catalogueItem/tradeItem/tradeItemInformation/extension/*[namespace-uri()='urn:gs1:gdsn:safety_data_sheet:xsd:3' and local-name()='safetyDataSheetModule']/safetyDataSheetInformation/gHSDetail/hazardStatement/hazardStatementsDescription","Description1000",null,"","","0..n","","FMCG","Label health&beauty;Detergents;Biocides;Dangerous goods;Label","430","Health;Food","",null,"A description of standard phrases assigned to a hazard class and category that describe the nature of the hazard. This concerns both consumer information on the label and on the safety data sheet from SDS Chapters 2.1 and 2.2.","Contains isocyanates. May produce an allergic reaction.\n","This field is optional, but mandatory to fill in for EUH phrases and H phrases that require additional descriptions or when the phrases on the label/SDS differ slightly from the phrases that are in our code list. Populate the full H- and EUH phrases here. For example: the EUH sentence 208 is 'Contains <name of sensitising substance>. May produce an allergic reaction.' Populate the full phrase, including the freely to enter information. <br />\nIf the information consists of multiple values, enter these in this field, separated by commas.<br />\n<br />\nFor dangerous goods with a safety data sheet (SDS), the value should correspond to the hazard designation description in chapter 2.1 and/or 2.2 of the SDS.",null,null,"False","CM","Mandatory, when the H phrases or EUH phrases that you entered in the ‘Hazard designations (Hazard)’ field need an addition.  ","O"," ","O"," ","Sarina","Sarina","9/27/2021 6:38:32 PM","11/4/2021 9:06:26 PM",{"$f":"IF(A143=\"ANL1420\",\"Targetsector\",LEFT(C143,LEN(C143)-LEN('BES EN'!E143)-3))","v":"Hazard designations (Hazard) - additional description"}]
["ANL1174","Active","Hazard designations (Hazard) - additional description language code (hazardStatementsDescription/@languageCode)","MNL0020","hazardStatementsDescription/@languageCode","3.1.17","/catalogue_item_notification:catalogueItemNotificationMessage/transaction/documentCommand/catalogue_item_notification:catalogueItemNotification/catalogueItem/tradeItem/tradeItemInformation/extension/*[namespace-uri()='urn:gs1:gdsn:safety_data_sheet:xsd:3' and local-name()='safetyDataSheetModule']/safetyDataSheetInformation/gHSDetail/hazardStatement/hazardStatementsDescription/@languageCode","CodeList","BENELUX_GDSN_LanguageCode","","","1..1","","FMCG","Dangerous goods;Label;Biocides;Detergents;Label health&beauty","431","Food;Health",""," ","Code specifying a language. Allowed code values are specified in GS1 code list 'LanguageCode'.","nl","Select the correct value from the 'ISO 639-1 (2-alpha)' code list.","For additional explanation see <a href=\" https://www.gs1.nl/en/industries/food-health-and-beauty/gs1-data-source/entering-data/attribute-explorer-attributes-list\" style=\"color:blue; text-decoration:underline\" target=\"_blank\"> https://www.gs1.nl/en/industries/food-health-and-beauty/gs1-data-source/entering-data/attribute-explorer-attributes-list</a> <br />\n<br />\n- To find the applicable language codes, see: <a href=\" http://www.loc.gov/standards/iso639-2/php/code_list.php\" style=\"color:blue; text-decoration:underline\" target=\"_blank\"> http://www.loc.gov/standards/iso639-2/php/code_list.php</a> ",null,"False","CM","Mandatory if the 'Hazard designations (Hazard) - additional description ' field is populated.","CM","if the 'Hazard designations (Hazard) - additional description' field is populated.","CM","if the 'Hazard designations (Hazard) - additional description' field is populated.","Sarina","Sarina","9/27/2021 6:38:32 PM","11/4/2021 9:06:34 PM",{"$f":"IF(A144=\"ANL1420\",\"Targetsector\",LEFT(C144,LEN(C144)-LEN('BES EN'!E144)-3))","v":"Hazard designations (Hazard) - additional description language code"}]
["ANL1175","Active","Safety recommendations (Precautionary) (precautionaryStatementsCode)","MNL0020","precautionaryStatementsCode","3.1.17","/catalogue_item_notification:catalogueItemNotificationMessage/transaction/documentCommand/catalogue_item_notification:catalogueItemNotification/catalogueItem/tradeItem/tradeItemInformation/extension/*[namespace-uri()='urn:gs1:gdsn:safety_data_sheet:xsd:3' and local-name()='safetyDataSheetModule']/safetyDataSheetInformation/gHSDetail/precautionaryStatement/precautionaryStatementsCode","string","BENELUX_GDSN_SafetyRecommendations","1","35","0..1","","FMCG","Dangerous goods;Label;Biocides;Detergents;Label health&beauty","432","Health;Food","","You can select multiple values. Only enter P-phrases that are on the label.","Recommendations listed on a hazardous label to minimise or prevent adverse effects. For GHS, the safety recommendations have been linked to each GHS hazard statement and type of hazard. Safety recommendations for GHS cover prevention, response in cases of accidental spillage or exposure, storage and disposal.","P340","Select the correct code from the list of P-phrases. <br />\n<br />\nNote: P-phrases that are stated on the label, can differ from the official phrases. For example P210 ‘Keep away from heat, hot surfaces, sparks, open flames and other ignition sources. No smoking’. This can be on the label as ‘Keep away from heat, hot surfaces and other ignition sources. No smoking’. In both cases the code P210 should be populated in this field. Choose the code with the phrase that is the most similar to the phrase on your label. When the phrase on the label differs from the phrase in the code list, populate the whole phrase in the ‘Safety recommendations (Precautionary) - additional description’  field.<br />\nThere are also P-phrases that contain open spaces or options to state something. For example P264 ‘Wash … thoroughly after handling’. Enter in this field the corresponding code. Populate the whole sentence including the freely to enter information in the ‘Safety recommendations (Precautionary) - additional description’ field. <br />\n<br />\nFor dangerous goods with a safety data sheet (SDS) the value should correspond to the safety recommendations code in chapter 2.2 of the SDS.","Local Dutch applicable validation rules are: 500.403",null,"False","CM","Mandatory if a precautionary statement is indicated on the packaging, optional for cosmetics and personal care products.","O"," ","O"," ","Sarina","Sarina","9/27/2021 6:38:32 PM","11/4/2021 9:06:42 PM",{"$f":"IF(A145=\"ANL1420\",\"Targetsector\",LEFT(C145,LEN(C145)-LEN('BES EN'!E145)-3))","v":"Safety recommendations (Precautionary)"}]
["ANL1176","Active","Safety recommendations (Precautionary) - additional description (precautionaryStatementsDescription)","MNL0020","precautionaryStatementsDescription","3.1.17","/catalogue_item_notification:catalogueItemNotificationMessage/transaction/documentCommand/catalogue_item_notification:catalogueItemNotification/catalogueItem/tradeItem/tradeItemInformation/extension/*[namespace-uri()='urn:gs1:gdsn:safety_data_sheet:xsd:3' and local-name()='safetyDataSheetModule']/safetyDataSheetInformation/gHSDetail/precautionaryStatement/precautionaryStatementsDescription","Description1000",null,"","","0..n","","FMCG","Label;Dangerous goods;Biocides;Label health&beauty;Detergents","433","Health;Food","",null,"A description of the measures listed on a hazardous label to minimise or prevent adverse effects.\n","Keep wetted with water.\n","This field is optional, but mandatory to fill in for P phrases that require additional descriptions or when the phrases on the label differ slightly from the phrases that are in our code list. Populate the full P-phrases here. For example: the P sentence 230 is 'Keep wetted with...'. Populate the full phrase including the freely to enter information.<br />\nIf the information consists of multiple values, enter these in this field, separated by commas.<br />\n<br />\nFor dangerous goods with a safety data sheet (SDS) the value should correspond to the safety recommendations code additional description in chapter 2.2 of the SDS.",null,null,"False","CM","Mandatory, when the P phrases that you entered in the ‘Safety recommendations (Precautionary)’ field need an addition.","O"," ","O"," ","Sarina","Sarina","9/27/2021 6:38:33 PM","11/4/2021 9:06:50 PM",{"$f":"IF(A146=\"ANL1420\",\"Targetsector\",LEFT(C146,LEN(C146)-LEN('BES EN'!E146)-3))","v":"Safety recommendations (Precautionary) - additional description"}]
["ANL1177","Active","Safety recommendations (Precautionary) - additional description language code (precautionaryStatementsDescription/@languageCode)","MNL0020","precautionaryStatementsDescription/@languageCode","3.1.17","/catalogue_item_notification:catalogueItemNotificationMessage/transaction/documentCommand/catalogue_item_notification:catalogueItemNotification/catalogueItem/tradeItem/tradeItemInformation/extension/*[namespace-uri()='urn:gs1:gdsn:safety_data_sheet:xsd:3' and local-name()='safetyDataSheetModule']/safetyDataSheetInformation/gHSDetail/precautionaryStatement/precautionaryStatementsDescription/@languageCode","CodeList","BENELUX_GDSN_LanguageCode","","","1..1","","FMCG","Label health&beauty;Biocides;Detergents;Dangerous goods;Label","434","Health;Food",""," ","Code specifying a language. Allowed code values are specified in GS1 code list 'LanguageCode'.","nl","Select the correct value from the 'ISO 639-1 (2-alpha)' code list.","For additional explanation see <a href=\" https://www.gs1.nl/en/industries/food-health-and-beauty/gs1-data-source/entering-data/attribute-explorer-attributes-list\" style=\"color:blue; text-decoration:underline\" target=\"_blank\"> https://www.gs1.nl/en/industries/food-health-and-beauty/gs1-data-source/entering-data/attribute-explorer-attributes-list</a> <br />\n<br />\n- To find the applicable language codes, see: <a href=\" http://www.loc.gov/standards/iso639-2/php/code_list.php\" style=\"color:blue; text-decoration:underline\" target=\"_blank\"> http://www.loc.gov/standards/iso639-2/php/code_list.php</a> ",null,"False","CM","Mandatory if the 'Safety recommendations (Precautionary) - additional description' field is populated.","CM","if the 'Safety recommendations (Precautionary) - additional description' field is populated.","CM","if the 'Safety recommendations (Precautionary) - additional description' field is populated.","Sarina","Sarina","9/27/2021 6:38:33 PM","11/4/2021 9:06:58 PM",{"$f":"IF(A147=\"ANL1420\",\"Targetsector\",LEFT(C147,LEN(C147)-LEN('BES EN'!E147)-3))","v":"Safety recommendations (Precautionary) - additional description language code"}]
["ANL1180","Active","Certification agency (certificationAgency)","MNL0020","certificationAgency","3.1.17","/catalogue_item_notification:catalogueItemNotificationMessage/transaction/documentCommand/catalogue_item_notification:catalogueItemNotification/catalogueItem/tradeItem/tradeItemInformation/extension/*[namespace-uri()='urn:gs1:gdsn:certification_information:xsd:3' and local-name()='certificationInformationModule']/certificationInformation/certificationAgency","string",null,"1","200","0..1","","FMCG","Certificates and packaging marks;Label health&beauty","321","Fruit&Vegetable;Food;Health;Petfood","",null,"<p>Name of the organisation issuing the certification standard or other requirement that has to be met. Free text field. Example: European Union.</p>\n","<p>DNV GL Business Assurance<br />\nFAVV/AFSCA<br />\nKOAG KAG</p>\n","<p>Enter the name of the certification agency.<br />\n<br />\nFor food supplements, medical devices&nbsp;and health care products for the Dutch target market: it is mandatory to populate&nbsp;the fixed value &#39;KOAG KAG&#39;&nbsp;at least once when the KOAG KAG number is available.<br />\n<br />\nFor Belux food supplements it is mandatory to specify the NUT number. Use in this field as certification agency: &#39;FAVV/AFSCA&#39;.</p>\n",null,null,"False","CM","Mandatory for food supplements, medical devices and health care products, when a KOAG KAG number is available.","O"," ","O"," ","Sarina","Sarina","9/27/2021 6:38:33 PM","11/4/2021 9:07:06 PM",{"$f":"IF(A148=\"ANL1420\",\"Targetsector\",LEFT(C148,LEN(C148)-LEN('BES EN'!E148)-3))","v":"Certification agency"}]
["ANL1181","Active","Certification standard (certificationStandard)","MNL0020","certificationStandard","3.1.17","/catalogue_item_notification:catalogueItemNotificationMessage/transaction/documentCommand/catalogue_item_notification:catalogueItemNotification/catalogueItem/tradeItem/tradeItemInformation/extension/*[namespace-uri()='urn:gs1:gdsn:certification_information:xsd:3' and local-name()='certificationInformationModule']/certificationInformation/certificationStandard","string",null,"1","200","0..1","","FMCG","Label health&beauty;Certificates and packaging marks","322","Food;Fruit&Vegetable;Health;Petfood","",null,"<p>Name of the certification standard. Free text. Example: egg classification.</p>\n","<p>CSR Performance Ladder level 4<br />\nNUT number<br />\nKAG code</p>\n","<p>Enter the name of the certification standard as shown on the certificate.<br />\n<br />\nFor food supplements, medical devices and health care products for the Dutch target market: it is mandatory to populate&nbsp;the fixed value &#39;KAG code&#39; at least once when the KOAG KAG number is available.<br />\n<br />\nFor Belux food supplements it is mandatory to specify the NUT number. Fill in this field NUT number in as certification standard.</p>\n",null,null,"False","CM","Mandatory for food supplements, medical devices and health care products, when a KOAG KAG number is available.","O"," ","O"," ","Sarina","Sarina","9/27/2021 6:38:33 PM","11/4/2021 9:07:15 PM",{"$f":"IF(A149=\"ANL1420\",\"Targetsector\",LEFT(C149,LEN(C149)-LEN('BES EN'!E149)-3))","v":"Certification standard"}]
["ANL1182","Active","Certification value (certificationValue)","MNL0020","certificationValue","3.1.17","/catalogue_item_notification:catalogueItemNotificationMessage/transaction/documentCommand/catalogue_item_notification:catalogueItemNotification/catalogueItem/tradeItem/tradeItemInformation/extension/*[namespace-uri()='urn:gs1:gdsn:certification_information:xsd:3' and local-name()='certificationInformationModule']/certificationInformation/certification/certificationValue","string",null,"1","120","1..1","","FMCG","Certificates and packaging marks;Label health&beauty;Datakwalitijd 2.0","323","Fruit&Vegetable;Food;Petfood;Health","","KOAG KAG number: this number informs data receivers whether the label is approved by the KOAG KAG. Using this number, they can determine how to show the information on their website.<br />\n<br />\nThis field is checked in the context of the Dutch data quality program.","The number issued for this product by the certification agency.\n","4233-1120-0001<br />\nVALID\n","Copy the certificate number for this product.<br />\n<br />\nFor food supplements, medical devices and health care products for the Dutch target market: it is mandatory to populate the KOAG KAG number of the product if available on the packaging or instructions for use.<br />\n<br />\nFor Belux food supplements it is mandatory to specify the NUT number. Use this field to enter the actual number.<br />\n<br />\nImportant: only enter the fixed value &#39;VALID&#39; here for fresh fruit and vegetable products.\n","Local Dutch applicable validation rules are: 500.220, 500.425",null,"False","CM","Mandatory for food supplements, medical devices and health care products, when available.","O"," ","O"," ","Sarina","Sarina","9/27/2021 6:38:33 PM","11/4/2021 9:07:23 PM",{"$f":"IF(A150=\"ANL1420\",\"Targetsector\",LEFT(C150,LEN(C150)-LEN('BES EN'!E150)-3))","v":"Certification value"}]
["ANL1183","Active","Certification effective end date time (certificationEffectiveEndDateTime)","MNL0020","certificationEffectiveEndDateTime","3.1.17","/catalogue_item_notification:catalogueItemNotificationMessage/transaction/documentCommand/catalogue_item_notification:catalogueItemNotification/catalogueItem/tradeItem/tradeItemInformation/extension/*[namespace-uri()='urn:gs1:gdsn:certification_information:xsd:3' and local-name()='certificationInformationModule']/certificationInformation/certification/certificationEffectiveEndDateTime","DateTime",null,"","","0..1","","FMCG","Certificates and packaging marks;Label health&beauty","324","Petfood;Health;Food;Fruit&Vegetable","","Only when relevant.","The date and time when the certification ceases to be effective.","2016-05-31T08:00:00 (yyyy-mm-ddThh:mi:ss)","Enter a correct date and time until when the certificate is valid.\n\n ",null,null,"False","O"," ","O"," ","O"," ","Sarina","Sarina","9/27/2021 6:38:34 PM","11/4/2021 9:07:31 PM",{"$f":"IF(A151=\"ANL1420\",\"Targetsector\",LEFT(C151,LEN(C151)-LEN('BES EN'!E151)-3))","v":"Certification effective end date time"}]
["ANL1184","Active","Regulated product name (regulatedProductName)","MNL0020","regulatedProductName","3.1.17","/catalogue_item_notification:catalogueItemNotificationMessage/transaction/documentCommand/catalogue_item_notification:catalogueItemNotification/catalogueItem/tradeItem/tradeItemInformation/extension/*[namespace-uri()='urn:gs1:gdsn:trade_item_description:xsd:3' and local-name()='tradeItemDescriptionModule']/tradeItemDescriptionInformation/regulatedProductName","FormattedDescription500",null,"","","0..n","","FMCG","Label;Description;Datakwalitijd 2.0;Petfood;Fruit&Vegetable;Label health&beauty","039","Health;Food;Fruit&Vegetable;Petfood","","Animal nutrition (from 767/2009): One of the following names should always be present in the regulated product name: &#39;voedermiddel&#39;, &#39;volledig diervoeder&#39;, &#39;aanvullend diervoeder&#39;, &#39;volledige melkvervanger&#39;, &#39;mineraalvoeder&#39;, &#39;aanvullende melkvervanger&#39;, &#39;mengvoeder&#39;, &#39;samengesteld voeder&#39;. Although the type of feed, type of animal and in some cases the life stage are part of the regulated product name, it is usually expected that this information is also specified in encoded form in the fields &#39;Type of feed&#39;, &#39;Type of animal the feed is targeted for&#39; and &#39;Life stage animal&#39;. This allows the recipient to use this information for filtering, for example for webpages.<br />\n<br />\nThis field is checked in the context of the Dutch data quality program.","The prescribed, regulated or generic name or denomination of the product describing the true nature of the food product that is sufficiently precise to distinguish it from other food products in line with the country-specific guidelines.\n","Food:<br />\nJuice from concentrated juice<br />\nOrganic eggs quality class A<br />\nFree-range chicken kept inside<br />\n<br />\nHealth and beauty:<br />\nFood supplement<br />\nFood supplement with sugar and sweeteners<br />\n<br />\nAnimal nutrition:<br />\nVolledig diervoeder voor oudere honden van grote rassen (gewicht van 25 tot 45 kg) - vanaf 5 jaar<br />\nVolledig diervoeder voor cavia&#39;s - Ge&euml;xtrudeerde brokjes<br />\nAanvullende voeding voor honden\n","Enter the regulated product name as shown on the label. Qualifications such as &#39;with artificial sweeteners&#39;, &#39;with sugar(s) and artificial sweeteners&#39;, prepared with ... g of fruit per 100 g&#39;, &#39;total sugar content ... g per 100 g&#39;, percentage of fat-free substance are part of the regulated product name, so include them. See also appendices III (for the basis of the examples mentioned here) &amp; VI (for other additions) of Regulation 1169/2011.<br />\n<br />\nFor food supplements you should at least include the term &#39;Food supplement&#39;. In addition, an indication of the category of the nutrient can be part of the regulated product name for food supplements as well. For example: vitamins, minerals, amino acids, fatty acids or herbal preparation.<br />\n<br />\nFor Belgium: Dutch and French are mandatory; for Luxembourg: German and French are mandatory.<br />\n<br />\nAnimal nutrition: The EU regulation &#39;767/2009&#39; applies to animal nutrition. To meet this regulation, populate this field with the official, legal name as written on the packaging. The regulated product name contains information about the type of feed, the type of animal and in some cases the life stage of the animal for which the food is intended. In the explanatory document (please refer to the link below in Process Description to the explanatory document) you will find an example of a label for animal nutrition.\n","For additional explanation see <a href=\" https://www.gs1.nl/en/industries/food-health-and-beauty/gs1-data-source/entering-data/attribute-explorer-attributes-list\" style=\"color:blue; text-decoration:underline\" target=\"_blank\"> https://www.gs1.nl/en/industries/food-health-and-beauty/gs1-data-source/entering-data/attribute-explorer-attributes-list</a><br />\n<br />\nLocal Dutch applicable validation rules are: 500.173, 500.215, 500.220, 500.222, 500.230, 500.276, 500.45, 500.349\n",null,"False","CM","Mandatory for food, food supplements, special foods and animal nutrition if mentioned on the label.","O"," ","O"," ","Sarina","Sarina","9/27/2021 6:38:34 PM","11/4/2021 9:07:39 PM",{"$f":"IF(A152=\"ANL1420\",\"Targetsector\",LEFT(C152,LEN(C152)-LEN('BES EN'!E152)-3))","v":"Regulated product name"}]
["ANL1185","Active","Regulated product name language code (regulatedProductName/@languageCode)","MNL0020","regulatedProductName/@languageCode","3.1.17","/catalogue_item_notification:catalogueItemNotificationMessage/transaction/documentCommand/catalogue_item_notification:catalogueItemNotification/catalogueItem/tradeItem/tradeItemInformation/extension/*[namespace-uri()='urn:gs1:gdsn:trade_item_description:xsd:3' and local-name()='tradeItemDescriptionModule']/tradeItemDescriptionInformation/regulatedProductName/@languageCode","CodeList","BENELUX_GDSN_LanguageCode","","","1..1","","FMCG","Petfood;Description;Label;Label health&beauty;Fruit&Vegetable;Datakwalitijd 2.0","040","Food;Health;Fruit&Vegetable;Petfood","","This field is checked in the context of the Dutch data quality program.","Code specifying a language. Allowed code values are specified in GS1 code list 'LanguageCode'.","nl<br />\nfr","Select the correct value from the 'ISO 639-1 (2-alpha)' code list.","For additional explanation see <a href=\" https://www.gs1.nl/en/industries/food-health-and-beauty/gs1-data-source/entering-data/attribute-explorer-attributes-list\" style=\"color:blue; text-decoration:underline\" target=\"_blank\"> https://www.gs1.nl/en/industries/food-health-and-beauty/gs1-data-source/entering-data/attribute-explorer-attributes-list</a> <br />\n<br />\n- To find the applicable language codes, see: <a href=\" http://www.loc.gov/standards/iso639-2/php/code_list.php\" style=\"color:blue; text-decoration:underline\" target=\"_blank\"> http://www.loc.gov/standards/iso639-2/php/code_list.php</a> ",null,"False","CM","Mandatory if 'Regulated product name' is populated.","CM","if 'Regulated product name' is populated.","CM","if 'Regulated product name' is populated.","Sarina","Sarina","9/27/2021 6:38:34 PM","11/4/2021 9:07:48 PM",{"$f":"IF(A153=\"ANL1420\",\"Targetsector\",LEFT(C153,LEN(C153)-LEN('BES EN'!E153)-3))","v":"Regulated product name language code"}]
["ANL1186","Active","Contact name (contactName)","MNL0020","contactName","3.1.17","/catalogue_item_notification:catalogueItemNotificationMessage/transaction/documentCommand/catalogue_item_notification:catalogueItemNotification/catalogueItem/tradeItem/tradeItemContactInformation/contactName","string",null,"1","200","0..1","","FMCG","Detergents;Fruit&Vegetable;Label;Petfood;Datakwalitijd 2.0;Label health&beauty","231","Fruit&Vegetable;Cosmetics;Food;Health;Petfood","","Animal nutrition: The name of the feed business operator can be the same as the brand owner and/or manufacturer, but can also be the name of the party that has the right to distribute/import it.<br />\n<br />\nThis field is checked in the context of the Dutch data quality program.\n","The name of the company or person associated with the communication address. ","Class Import B.V.<br />\nHaw Par Healthcare Ltd.<br />\nNestl&eacute; Belgilux SA/NV<br />\nJumbo Consumentenservice<br />\nContact Bonduelle<br />\nHero Klantenservice\n","Enter the name that appears mostly on the label as a contact for consumers (often found under: For questions about this product&hellip;). If you fill in this field, also fill in the corresponding &lsquo;Contact type&rsquo; field.<br />\nPlease use &#39;CXC&#39; as the corresponding &#39;ContacttypeCode&#39;.<br />\n<br />\nAnimal nutrition: populate the name of the feed business operator as stated mostly on the label/packaging.<br />\n<br />\nDetergents:&nbsp;enter the name of the party responsible for the product.\n","See document: <a href=\" https://www.gs1.nl/en/industries/food-health-and-beauty/gs1-data-source/entering-data/attribute-explorer-attributes-list\" style=\"color:blue; text-decoration:underline\" target=\"_blank\"> https://www.gs1.nl/en/industries/food-health-and-beauty/gs1-data-source/entering-data/attribute-explorer-attributes-list</a><br />\n<br />\nLocal Dutch applicable validation rules are: 500.172, 500.346, 500.374\n",null,"False","CM","Mandatory if the contact name is available on the product packaging (label) and/or it is required for regulatory reasons (e.g. EU/1169).","O"," ","O"," ","Sarina","Sarina","9/27/2021 6:38:34 PM","11/4/2021 9:07:56 PM",{"$f":"IF(A154=\"ANL1420\",\"Targetsector\",LEFT(C154,LEN(C154)-LEN('BES EN'!E154)-3))","v":"Contact name"}]
["ANL1187","Active","Contact address (contactAddress)","MNL0020","contactAddress","3.1.17","/catalogue_item_notification:catalogueItemNotificationMessage/transaction/documentCommand/catalogue_item_notification:catalogueItemNotification/catalogueItem/tradeItem/tradeItemContactInformation/contactAddress","string",null,"1","500","0..1","","FMCG","Detergents;Label health&beauty;Datakwalitijd 2.0;Petfood;Label;Fruit&Vegetable","232","Food;Cosmetics;Fruit&Vegetable;Health;Petfood","","This field is checked in the context of the Dutch data quality program.\n","The address associated with the contact type. For example, in the case of a consumer support contact type, this could be the full company address as stated on the trade item packaging or label.","Informatieweg 6, 1234 AB Haarlem<br />\n401 Commonwealth Drive, Singapore 149598<br />\nRue de Birmingham 221, Bruxelles B-1070 Brussel","Enter the contact address for customers as it mostly appears on the label. If there are multiple addresses, please enter at least the relevant address (or addresses) for the target market and/or consumers. The other addresses may also be populated, but this is not mandatory.<br />\nIf there is no physical address on the label, it is allowed to enter another address shown there, for example a website.<br />\nIf you fill in this field, also fill in the corresponding &#39;Contact type&#39; field.<br />\n<br />\nAnimal nutrition: populate the full company address of the distributor indicated mostly on the packaging.<br />\n<br />\nDetergents: enter the address of the party that is responsible for the product.","For additional explanation see <a href=\" https://www.gs1.nl/en/industries/food-health-and-beauty/gs1-data-source/entering-data/attribute-explorer-attributes-list\" style=\"color:blue; text-decoration:underline\" target=\"_blank\"> https://www.gs1.nl/en/industries/food-health-and-beauty/gs1-data-source/entering-data/attribute-explorer-attributes-list</a><br />\n<br />\nLocal Dutch applicable validation rules are: 500.230, 500.346, 500.374\n",null,"False","CM","Mandatory if the contact address is available on the product packaging (label) and/or it is required for regulatory reasons (e.g. EU/1169).","O"," ","O"," ","Sarina","Sarina","9/27/2021 6:38:34 PM","11/4/2021 9:08:04 PM",{"$f":"IF(A155=\"ANL1420\",\"Targetsector\",LEFT(C155,LEN(C155)-LEN('BES EN'!E155)-3))","v":"Contact address"}]
["ANL1188","Active","Type of contact (contactTypeCode)","MNL0020","contactTypeCode","3.1.17","/catalogue_item_notification:catalogueItemNotificationMessage/transaction/documentCommand/catalogue_item_notification:catalogueItemNotification/catalogueItem/tradeItem/tradeItemContactInformation/contactTypeCode","CodeList","BENELUX_GDSN_ContactTypeCode","","","1..1","","FMCG","Detergents;Label health&beauty;Datakwalitijd 2.0;Fruit&Vegetable;Petfood;Label","233","Health;Food;Fruit&Vegetable;Petfood","","This field can be used more than once.<br />\n<br />\nThis field is checked in the context of the Dutch data quality program.\n","The generic category of the contact person or party for a trade item, e.g. &#39;Procurement&#39;.\n","CXC\n","This field can be used in two different ways:<br />\n1. In case there are contact data on the label, then you always should fill in the fixed value &#39;CXC&#39; (Consumer support) in this field. This is the party that provides product support to the end user of a trade item or a service. Also fill in one or more of the following fields; &#39;Contact name&#39;, &#39;Contact address&#39;, &#39;Communication channel code&#39; and &#39;Communication value&#39;.<br />\n2. In case the GLN (Global Location Number) of the information provider differs from the GLN of the party that is responsible for the article in the local target market, enter in this field the fixed value &#39;BZL&#39; (Licensee registrar) and fill in the field &#39;Contact (GLN)&#39;.\n","For additional explanation see <a href=\" https://www.gs1.nl/en/industries/food-health-and-beauty/gs1-data-source/entering-data/attribute-explorer-attributes-list\" style=\"color:blue; text-decoration:underline\" target=\"_blank\"> https://www.gs1.nl/en/industries/food-health-and-beauty/gs1-data-source/entering-data/attribute-explorer-attributes-list</a><br />\n<br />\nLocal Dutch applicable validation rules are: 500.172, 500.230, 500.374\n",null,"False","CM","Mandatory if ‘Contact name’ and/or ‘Contact address’ are populated.","CM","Mandatory if ‘Contact name’ and/or ‘Contact address’ are populated.","CM","if ‘Contact name’ and/or ‘Contact address’ are populated.","Sarina","Sarina","9/27/2021 6:38:35 PM","11/4/2021 9:08:13 PM",{"$f":"IF(A156=\"ANL1420\",\"Targetsector\",LEFT(C156,LEN(C156)-LEN('BES EN'!E156)-3))","v":"Type of contact"}]
["ANL1189","Active","Communication channel code (communicationChannelCode)","MNL0020","communicationChannelCode","3.1.17","/catalogue_item_notification:catalogueItemNotificationMessage/transaction/documentCommand/catalogue_item_notification:catalogueItemNotification/catalogueItem/tradeItem/tradeItemContactInformation/targetMarketCommunicationChannel/communicationChannel/communicationChannelCode","CodeList","BENELUX_GDSN_CommunicationChannelCode","","","1..1","","FMCG","Label health&beauty;Detergents;Label;Datakwalitijd 2.0;Petfood;Fruit&Vegetable","234","Petfood;Fruit&Vegetable;Food;Health","","When you populate this field, also fill in the &lsquo;Communication value&rsquo; field.<br />\n<br />\nThis field is checked in the context of the Dutch data quality program.\n","Code specifying the type of communication channel, for example TELEPHONE.\n","WEBSITE\n","If there is an email address, website, fax or telephone number shown on the packaging, enter the type of communication channel here. Use the &#39;communicationChannelCode&#39; code list. <br />\nThis information is optional, additional to &#39;contactName&#39; and &#39;contactAddress&#39;.","For additional explanation see <a href=\" https://www.gs1.nl/en/industries/food-health-and-beauty/gs1-data-source/entering-data/attribute-explorer-attributes-list\" style=\"color:blue; text-decoration:underline\" target=\"_blank\"> https://www.gs1.nl/en/industries/food-health-and-beauty/gs1-data-source/entering-data/attribute-explorer-attributes-list</a><br />\n<br />\nLocal Dutch applicable validation rules are: 500.374\n",null,"False","CM","Mandatory if ‘Communication value’ is populated","O"," ","O"," ","Sarina","Sarina","9/27/2021 6:38:35 PM","11/4/2021 9:08:22 PM",{"$f":"IF(A157=\"ANL1420\",\"Targetsector\",LEFT(C157,LEN(C157)-LEN('BES EN'!E157)-3))","v":"Communication channel code"}]
["ANL1190","Active","Communication value (communicationValue)","MNL0020","communicationValue","3.1.17","/catalogue_item_notification:catalogueItemNotificationMessage/transaction/documentCommand/catalogue_item_notification:catalogueItemNotification/catalogueItem/tradeItem/tradeItemContactInformation/targetMarketCommunicationChannel/communicationChannel/communicationValue","string",null,"1","200","1..1","","FMCG","Detergents;Fruit&Vegetable;Label;Datakwalitijd 2.0;Label health&beauty;Petfood","235","Fruit&Vegetable;Food;Petfood;Health","","When you populate this field, also fill in the &lsquo;Communication channel code&rsquo; field.<br />\n<br />\nThis field is checked in the context of the Dutch data quality program.\n","Text identifying the endpoint for the communication channel, for example a telephone number or an email address.\n","www.gs1.nl\n","If there is an email address, website, fax or telephone number shown on the packaging, enter it here. You can only enter one communication value. If there are multiple communication values on the package, for example telephone number and email address or 2 email addresses, you must repeat this field.<br />\nThis information is optional (except for the product groups mentioned below), additional to contactName and contactAddress.<br />\n<br />\nAnimal nutrition: populate the free telephone number, e-mail address or other appropriate means of communication in order to allow the purchaser to obtain information in addition to the mandatory particulars.<br />\n<br />\nDetergents: Enter telephone number(s) and website(s) related to the supplier and to the product, as stated on the packaging. Do not enter websites that refer to packaging marks here.","Local Dutch applicable validation rules are: 500.374\n",null,"False","CM","Mandatory for animal nutrition and detergents if on the packaging","O"," ","O"," ","Sarina","Sarina","9/27/2021 6:38:35 PM","11/4/2021 9:08:31 PM",{"$f":"IF(A158=\"ANL1420\",\"Targetsector\",LEFT(C158,LEN(C158)-LEN('BES EN'!E158)-3))","v":"Communication value"}]
["ANL1191","Active","Compulsory additive label information (compulsoryAdditiveLabelInformation)","MNL0020","compulsoryAdditiveLabelInformation","3.1.17","/catalogue_item_notification:catalogueItemNotificationMessage/transaction/documentCommand/catalogue_item_notification:catalogueItemNotification/catalogueItem/tradeItem/tradeItemInformation/extension/*[namespace-uri()='urn:gs1:gdsn:health_related_information:xsd:3' and local-name()='healthRelatedInformationModule']/healthRelatedInformation/compulsoryAdditiveLabelInformation","Description5000",null,"","","0..n","","FMCG","Label health&beauty;Datakwalitijd 2.0;Fruit&Vegetable;Label","281","Petfood;Health;Fruit&Vegetable;Food","","This field also includes disclaimers (legal phrase which reduces or rejects liability or guarantees). For example: the Plywood Company is not liable for any damage caused by the incorrect interpretation of this text.<br />\n<br />\nFor pharmaceuticals, medical devices and health products: state warnings in the &#39;Drug side effects and warnings&#39; field.<br />\n<br />\nThis field is checked in the context of the Dutch data quality program.\n","A description of any compulsory label information on the product. For example, the German additives regulation (ZzulV) for products such as meats and sausages, meat products, bread and bread products is needed for the serving counter.\n","Food:<br />\nPackaged in a protective atmosphere.<br />\n<br />\nHealth and beauty:<br />\nRead the instructions before use<br />\nA healthy lifestyle is important, just as a varied, balanced diet for which food supplements are no substitute (compulsory additive label information for food supplements).<br />\nKeep out of reach and sight of children (NOT a compulsory additive label information for &#39;special foods&#39;, for this type of products this sentence is a &#39;Consumer storage instruction&#39;)\n","Enter the mandatory information as listed in the legislation that applies for the specific product (please refer to the link below in Process Description to the explanatory document for a list of regulations with legally required statements). Qualifications such as &#39;with artificial sweeteners&#39; or &#39;with sugar(s) and artificial sweeteners&#39; are part of the &#39;Regulated product name&#39;. <br />\nThe information in this field should be provided in the same languages as those on the product label.","For additional explanation see <a href=\" https://www.gs1.nl/en/industries/food-health-and-beauty/gs1-data-source/entering-data/attribute-explorer-attributes-list\" style=\"color:blue; text-decoration:underline\" target=\"_blank\"> https://www.gs1.nl/en/industries/food-health-and-beauty/gs1-data-source/entering-data/attribute-explorer-attributes-list</a><br />\n<br />\nLocal Dutch applicable validation rules are: 500.203, 500.211, 500.215\n",null,"False","CM","Mandatory required if mentioned on the label. ","O"," ","O"," ","Sarina","Sarina","9/27/2021 6:38:35 PM","11/4/2021 9:08:40 PM",{"$f":"IF(A159=\"ANL1420\",\"Targetsector\",LEFT(C159,LEN(C159)-LEN('BES EN'!E159)-3))","v":"Compulsory additive label information"}]
["ANL1192","Active","Compulsory additive label information language code (compulsoryAdditiveLabelInformation/@languageCode)","MNL0020","compulsoryAdditiveLabelInformation/@languageCode","3.1.17","/catalogue_item_notification:catalogueItemNotificationMessage/transaction/documentCommand/catalogue_item_notification:catalogueItemNotification/catalogueItem/tradeItem/tradeItemInformation/extension/*[namespace-uri()='urn:gs1:gdsn:health_related_information:xsd:3' and local-name()='healthRelatedInformationModule']/healthRelatedInformation/compulsoryAdditiveLabelInformation/@languageCode","CodeList","BENELUX_GDSN_LanguageCode","","","1..1","","FMCG","Label health&beauty;Label;Datakwalitijd 2.0;Fruit&Vegetable","282","Fruit&Vegetable;Health;Food;Petfood","","This field is checked in the context of the Dutch data quality program.","Code specifying a language. Allowed code values are specified in GS1 code list 'LanguageCode'.","nl","Select the correct value from the 'ISO 639-1 (2-alpha)' code list.","For additional explanation see <a href=\" https://www.gs1.nl/en/industries/food-health-and-beauty/gs1-data-source/entering-data/attribute-explorer-attributes-list\" style=\"color:blue; text-decoration:underline\" target=\"_blank\"> https://www.gs1.nl/en/industries/food-health-and-beauty/gs1-data-source/entering-data/attribute-explorer-attributes-list</a> <br />\n<br />\n- To find the applicable language codes, see: <a href=\" http://www.loc.gov/standards/iso639-2/php/code_list.php\" style=\"color:blue; text-decoration:underline\" target=\"_blank\"> http://www.loc.gov/standards/iso639-2/php/code_list.php</a> ",null,"False","CM","Mandatory if 'Compulsory additive label information' is populated","CM","if 'Compulsory additive label information' is populated","CM","if 'Compulsory additive label information' is populated","Sarina","Sarina","9/27/2021 6:38:35 PM","11/4/2021 9:08:48 PM",{"$f":"IF(A160=\"ANL1420\",\"Targetsector\",LEFT(C160,LEN(C160)-LEN('BES EN'!E160)-3))","v":"Compulsory additive label information language code"}]
["ANL1193","Active","Net content statement (netContentStatement)","MNL0020","netContentStatement","3.1.17","/catalogue_item_notification:catalogueItemNotificationMessage/transaction/documentCommand/catalogue_item_notification:catalogueItemNotification/catalogueItem/tradeItem/tradeItemInformation/extension/*[namespace-uri()='urn:gs1:gdsn:trade_item_measurements:xsd:3' and local-name()='tradeItemMeasurementsModule']/tradeItemMeasurements/netContentStatement","Description500",null,"","","0..n","","FMCG","Label;Detergents;Label health&beauty;Biocides;Petfood;Datakwalitijd 2.0;Fruit&Vegetable","241","Fruit&Vegetable;Petfood;Health;Food","","This field is checked in the context of the Dutch data quality program.\n","The literal reproduction of the net content(s) as displayed on the product packaging.","4x50g<br />\n4x5 pieces<br />\n1x40g, 1x30g, 1x75g\n","Use this field for information about the net content that you can’t populate in the ‘Net content’ field. This field you should at least populate for packaged items comprising two or more individually packaged items. You also enter the net content statement for other composite products (please refer to the link below in Process Description to the explanatory document for definitions of composite products).","For additional explanation see <a href=\" https://www.gs1.nl/en/industries/food-health-and-beauty/gs1-data-source/entering-data/attribute-explorer-attributes-list\" style=\"color:blue; text-decoration:underline\" target=\"_blank\"> https://www.gs1.nl/en/industries/food-health-and-beauty/gs1-data-source/entering-data/attribute-explorer-attributes-list</a>",null,"False","CM","Mandatory, if it is not possible to express the net content of a product in the net content attribute. Should be provided for multipacks.","O",null,"O"," ","Sarina","Sarina","9/27/2021 6:38:36 PM","11/4/2021 9:08:57 PM",{"$f":"IF(A161=\"ANL1420\",\"Targetsector\",LEFT(C161,LEN(C161)-LEN('BES EN'!E161)-3))","v":"Net content statement"}]
["ANL1194","Active","Net content statement language code (netContentStatement/@languageCode)","MNL0020","netContentStatement/@languageCode","3.1.17","/catalogue_item_notification:catalogueItemNotificationMessage/transaction/documentCommand/catalogue_item_notification:catalogueItemNotification/catalogueItem/tradeItem/tradeItemInformation/extension/*[namespace-uri()='urn:gs1:gdsn:trade_item_measurements:xsd:3' and local-name()='tradeItemMeasurementsModule']/tradeItemMeasurements/netContentStatement/@languageCode","CodeList","BENELUX_GDSN_LanguageCode","","","1..1","","FMCG","Fruit&Vegetable;Petfood;Datakwalitijd 2.0;Label;Detergents;Biocides;Label health&beauty","242","Food;Health;Fruit&Vegetable;Petfood","","This field is checked in the context of the Dutch data quality program.","Code specifying a language. Allowed code values are specified in GS1 code list 'LanguageCode'.","nl<br />\nfr","Select the correct value from the 'ISO 639-1 (2-alpha)' code list.","For additional explanation see <a href=\" https://www.gs1.nl/en/industries/food-health-and-beauty/gs1-data-source/entering-data/attribute-explorer-attributes-list\" style=\"color:blue; text-decoration:underline\" target=\"_blank\"> https://www.gs1.nl/en/industries/food-health-and-beauty/gs1-data-source/entering-data/attribute-explorer-attributes-list</a> <br />\n<br />\n- To find the applicable language codes, see: <a href=\" http://www.loc.gov/standards/iso639-2/php/code_list.php\" style=\"color:blue; text-decoration:underline\" target=\"_blank\"> http://www.loc.gov/standards/iso639-2/php/code_list.php</a> ",null,"False","CM","Mandatory if 'Net content statement' is populated","CM","if 'Net content statement' is populated","CM","if 'Net content statement' is populated","Sarina","Sarina","9/27/2021 6:38:36 PM","11/4/2021 9:09:07 PM",{"$f":"IF(A162=\"ANL1420\",\"Targetsector\",LEFT(C162,LEN(C162)-LEN('BES EN'!E162)-3))","v":"Net content statement language code"}]
["ANL1195","Active","Descriptive size (descriptiveSize)","MNL0020","descriptiveSize","3.1.17","/catalogue_item_notification:catalogueItemNotificationMessage/transaction/documentCommand/catalogue_item_notification:catalogueItemNotification/catalogueItem/tradeItem/tradeItemInformation/extension/*[namespace-uri()='urn:gs1:gdsn:trade_item_size:xsd:3' and local-name()='tradeItemSizeModule']/size/descriptiveSize","Description80",null,"","","0..1","","FMCG","Fruit&Vegetable","243","Fruit&Vegetable;Health;Petfood;Food","",null,"An alphanumeric size factor that the brand owner wishes to communicate to consumers.\n","For apples: 70-80 mm, 100-120 g\n","Fresh Fruits and Vegetables: use this field to describe the size of fresh fruit and vegetable products. If sizing is described for this product in any regulation, it is mandatory. EU Regulation 543/2011 contains requirements on the sizing of some fruits and vegetables.<br />\nFor other fruits and vegetables, use the Agricultural Quality Standards: UNECE/FFV or UNECE/DDP. Depending on the product, other standards may be applicable. For each commodity, there is a &lsquo;provisions for sizing&rsquo; section on the UNECE website.",null,null,"False","CM","Mandatory, if the product is in the sub-category fruits and vegetables.","CM","Mandatory, if the product is in the sub-category fruits and vegetables.","O",null,"Sarina","Sarina","9/27/2021 6:38:36 PM","11/4/2021 9:09:16 PM",{"$f":"IF(A163=\"ANL1420\",\"Targetsector\",LEFT(C163,LEN(C163)-LEN('BES EN'!E163)-3))","v":"Descriptive size"}]
["ANL1196","Active","Descriptive size language code (descriptiveSize/@languageCode)","MNL0020","descriptiveSize/@languageCode","3.1.17","/catalogue_item_notification:catalogueItemNotificationMessage/transaction/documentCommand/catalogue_item_notification:catalogueItemNotification/catalogueItem/tradeItem/tradeItemInformation/extension/*[namespace-uri()='urn:gs1:gdsn:trade_item_size:xsd:3' and local-name()='tradeItemSizeModule']/size/descriptiveSize/@languageCode","CodeList","BENELUX_GDSN_LanguageCode","","","1..1","","FMCG","Fruit&Vegetable","244","Petfood;Fruit&Vegetable;Health;Food","",null,"Code specifying a language. Allowed code values are specified in GS1 code list 'LanguageCode'.","nl","Select the correct value from the 'ISO 639-1 (2-alpha)' code list.","For additional explanation see <a href=\" https://www.gs1.nl/en/industries/food-health-and-beauty/gs1-data-source/entering-data/attribute-explorer-attributes-list\" style=\"color:blue; text-decoration:underline\" target=\"_blank\"> https://www.gs1.nl/en/industries/food-health-and-beauty/gs1-data-source/entering-data/attribute-explorer-attributes-list</a> <br />\n<br />\n- To find the applicable language codes, see: <a href=\" http://www.loc.gov/standards/iso639-2/php/code_list.php\" style=\"color:blue; text-decoration:underline\" target=\"_blank\"> http://www.loc.gov/standards/iso639-2/php/code_list.php</a> ",null,"False","CM","Mandatory if 'Descriptive size' is populated","CM","if 'Descriptive size' is populated","CM","if 'Descriptive size' is populated","Sarina","Sarina","9/27/2021 6:38:36 PM","11/4/2021 9:09:24 PM",{"$f":"IF(A164=\"ANL1420\",\"Targetsector\",LEFT(C164,LEN(C164)-LEN('BES EN'!E164)-3))","v":"Descriptive size language code"}]
["ANL1197","Inactive","Serving size description (servingSizeDescription)","MNL0020","servingSizeDescription","3.1.17","/catalogue_item_notification:catalogueItemNotificationMessage/transaction/documentCommand/catalogue_item_notification:catalogueItemNotification/catalogueItem/tradeItem/tradeItemInformation/extension/*[namespace-uri()='urn:gs1:gdsn:nutritional_information:xsd:3' and local-name()='nutritionalInformationModule']/nutrientHeader/servingSizeDescription","Description500",null,"","","0..n","","FMCG","Label","283","Food","","This field will expire as of May 2020. Until then, you can convert data of already published articles to the new field 'Nutrient basis quantity description', the new field 'Nutrient basis quantity' or to the 'Consumer usage instructions' field (please refer to the instructions). Should be entered in the same languages as mentioned on the label.&nbsp;\n","A free text field specifying the serving size for which the nutrient information has been stated, for example: per 1/3 cup (42 g).","1 portion is 18 gram<br />\n1 biscuit<br />\nSnickers","Do not fill in this field preferably as of May 2019 for new products. Instead you can use the new field 'Nutrient basis quantity description', the new field 'Nutrient basis quantity' or the 'Consumer usage instructions' field (please refer to the instructions of those fields). In case nutrients per portion are included in the nutrient table next to the serving size (please refer to 'Serving size' field), and the portion has an added description in text (for example one portion is 33,3 g), enter the household serving size that goes with it here in text. You do NOT populate this field when the portion is only indicated with a number and measurement unit (for example 30 gram) in the nutrient table. In that case you populate the value in the field 'Serving size'. If there are no nutrients per portion on the label, then populate the household serving size in the field 'Consumer usage instructions'.\n",null,null,"False","CM","Mandatory for food, food supplements and special foods if mentioned on the label.","O"," ","O"," ","Sarina","Sarina","9/27/2021 6:38:37 PM","11/4/2021 9:09:34 PM",{"$f":"IF(A165=\"ANL1420\",\"Targetsector\",LEFT(C165,LEN(C165)-LEN('BES EN'!E165)-3))","v":"Serving size description"}]
["ANL1198","Inactive","Serving size description language code (servingSizeDescription/@languageCode)","MNL0020","servingSizeDescription/@languageCode","3.1.17","/catalogue_item_notification:catalogueItemNotificationMessage/transaction/documentCommand/catalogue_item_notification:catalogueItemNotification/catalogueItem/tradeItem/tradeItemInformation/extension/*[namespace-uri()='urn:gs1:gdsn:nutritional_information:xsd:3' and local-name()='nutritionalInformationModule']/nutrientHeader/servingSizeDescription/@languageCode","CodeList","BENELUX_GDSN_LanguageCode","","","1..1","","FMCG","Label","284","Food","","This field is checked in the context of the Dutch data quality program.","Code specifying a language. Allowed code values are specified in GS1 code list 'LanguageCode'.","nl","Select the correct value from the 'ISO 639-1 (2-alpha)' code list.\n","For additional explanation see <a href=\" https://www.gs1.nl/en/industries/food-health-and-beauty/gs1-data-source/entering-data/attribute-explorer-attributes-list\" style=\"color:blue; text-decoration:underline\" target=\"_blank\"> https://www.gs1.nl/en/industries/food-health-and-beauty/gs1-data-source/entering-data/attribute-explorer-attributes-list</a> <br />\n<br />\n- To find the applicable language codes, see: <a href=\" http://www.loc.gov/standards/iso639-2/php/code_list.php\" style=\"color:blue; text-decoration:underline\" target=\"_blank\"> http://www.loc.gov/standards/iso639-2/php/code_list.php</a> ",null,"False","CM","Mandatory if 'Serving size description' is populated","CM","if 'Serving size description' is populated","CM","if 'Serving size description' is populated","Sarina","Sarina","9/27/2021 6:38:37 PM","11/4/2021 9:09:42 PM",{"$f":"IF(A166=\"ANL1420\",\"Targetsector\",LEFT(C166,LEN(C166)-LEN('BES EN'!E166)-3))","v":"Serving size description language code"}]
["ANL1199","Active","Number of servings per package (numberOfServingsPerPackage)","MNL0020","numberOfServingsPerPackage","3.1.17","/catalogue_item_notification:catalogueItemNotificationMessage/transaction/documentCommand/catalogue_item_notification:catalogueItemNotification/catalogueItem/tradeItem/tradeItemInformation/extension/*[namespace-uri()='urn:gs1:gdsn:food_and_beverage_preparation_serving:xsd:3' and local-name()='foodAndBeveragePreparationServingModule']/servingQuantityInformation/numberOfServingsPerPackage","decimal",null,"","","0..1","","FMCG","Label;Fruit&Vegetable;Datakwalitijd 2.0;Label health&beauty","245","Food;Health;Fruit&Vegetable","","This field is checked in the context of the Dutch data quality program.\n","The total number of servings contained in the product as shown on the product package.\n","4<br />\n4.5\n","If the label shows the number of servings the package contains, it is mandatory to enter that number here. Enter the number of portions that relate to the packaging level (GTIN) for which you enter the number. If the label states a range, use the 'Number of smallest units per package' and 'Maximum number of smallest units per package' fields, and leave this field empty.\n","Local Dutch applicable validation rules are: 500.179, 500.180\n",null,"False","CM","Mandatory for food, food supplements and special foods if mentioned on the label.","O"," ","O"," ","Sarina","Sarina","9/27/2021 6:38:37 PM","11/4/2021 9:09:52 PM",{"$f":"IF(A167=\"ANL1420\",\"Targetsector\",LEFT(C167,LEN(C167)-LEN('BES EN'!E167)-3))","v":"Number of servings per package"}]
["ANL1200","Active","Number of smallest units per package (numberOfSmallestUnitsPerPackage)","MNL0020","numberOfSmallestUnitsPerPackage","3.1.17","/catalogue_item_notification:catalogueItemNotificationMessage/transaction/documentCommand/catalogue_item_notification:catalogueItemNotification/catalogueItem/tradeItem/tradeItemInformation/extension/*[namespace-uri()='urn:gs1:gdsn:food_and_beverage_preparation_serving:xsd:3' and local-name()='foodAndBeveragePreparationServingModule']/servingQuantityInformation/numberOfSmallestUnitsPerPackage","nonNegativeInteger",null,"","","0..1","","FMCG","Label;Datakwalitijd 2.0;Fruit&Vegetable;Label health&beauty","246","Fruit&Vegetable;Health;Food","","This field is checked in the context of the Dutch data quality program.","The minimum number of units you can remove from the package. This attribute should be used in conjunction with the ‘Maximum number of smallest units per package’ field in order to enter a minimum and a maximum value.","4","Mandatory if the number of units per package is a range. If the package does not state a precise number of servings but a minimum and maximum number (e.g. 4-6 servings), use this field in conjunction with 'Maximum number of smallest units per package'. Enter the lowest number here. This field cannot be combined with the ‘Number of servings per package’ field. ","Local Dutch applicable validation rules are: 500.180, 500.316",null,"False","CM","Mandatory for food, food supplements and special foods if mentioned on the label.","O"," ","O"," ","Sarina","Sarina","9/27/2021 6:38:37 PM","11/4/2021 9:10:01 PM",{"$f":"IF(A168=\"ANL1420\",\"Targetsector\",LEFT(C168,LEN(C168)-LEN('BES EN'!E168)-3))","v":"Number of smallest units per package"}]
["ANL1201","Active","Maximum number of smallest units per package (maximumNumberOfSmallestUnitsPerPackage)","MNL0020","maximumNumberOfSmallestUnitsPerPackage","3.1.17","/catalogue_item_notification:catalogueItemNotificationMessage/transaction/documentCommand/catalogue_item_notification:catalogueItemNotification/catalogueItem/tradeItem/tradeItemInformation/extension/*[namespace-uri()='urn:gs1:gdsn:food_and_beverage_preparation_serving:xsd:3' and local-name()='foodAndBeveragePreparationServingModule']/servingQuantityInformation/maximumNumberOfSmallestUnitsPerPackage","nonNegativeInteger",null,"","","0..1","","FMCG","Fruit&Vegetable;Label;Datakwalitijd 2.0;Label health&beauty","247","Food;Health;Fruit&Vegetable","","This field is checked in the context of the Dutch data quality program.","The maximum number of smallest units contained in the package. This attribute is to be used in conjunction with the 'Number of smallest units per package' field in order to enter a minimum and a maximum value.","6","Mandatory if the number of units per package is a range. If the package does not state a precise number of servings but a minimum and maximum number (e.g. 4-6 servings), enter the highest number here. Next to this, fill in the 'Number of smallest units per package' field. This field cannot be combined with the ‘Number of servings per package’ field.","Local Dutch applicable validation rules are: 500.180, 500.317",null,"False","CM","Mandatory for food, food supplements and special foods if mentioned on the label.","O"," ","O"," ","Sarina","Sarina","9/27/2021 6:38:37 PM","11/4/2021 9:10:11 PM",{"$f":"IF(A169=\"ANL1420\",\"Targetsector\",LEFT(C169,LEN(C169)-LEN('BES EN'!E169)-3))","v":"Maximum number of smallest units per package"}]
["ANL1202","Active","Ingredient statement (ingredientStatement)","MNL0020","ingredientStatement","3.1.17","/catalogue_item_notification:catalogueItemNotificationMessage/transaction/documentCommand/catalogue_item_notification:catalogueItemNotification/catalogueItem/tradeItem/tradeItemInformation/extension/*[namespace-uri()='urn:gs1:gdsn:food_and_beverage_ingredient:xsd:3' and local-name()='foodAndBeverageIngredientModule']/ingredientStatement","Description5000",null,"","","0..n","","FMCG","Fruit&Vegetable;Datakwalitijd 2.0;Label;Detergents;Label health&beauty","285","Food;Fruit&Vegetable;Health","","This field is checked in the context of the Dutch data quality program.\n","The composition of the product that matches what appears on the package.","Food:<br />\nIngredients: vegetables (tomato (10%), leek (5%)), onion, WHEAT flour, whey powder (MILK), spices (ground MUSTARD, ground paprika), aromas (contain SOYA), starch, herbs (garlic, chives, parsley), flavour enhancers (E621), food acid (citric acid). May contain traces of nuts.<br />","Use this field to enter for food, special food and food supplements the ingredient statement and possible cross-contaminations that are stated on your label. List all information on ingredients and cross-contaminations on the label, even if it is not mandatory by law. Do not fill in this field if there is no ingredient statement on the label.<br />\nNote: if there is no ingredient statement on the label, but one or more allergens are mentioned on the label, enter these allergens here. An example is red wine, where the label states: 'Contains sulphites'.<br />\n<br />\nHow to enter the ingredient statement:<br />\n- Start with the text that precedes the list of ingredients: 'Ingredients:' or 'Contains', as stated on the label.<br />\n- Use the same spelling and word order as on the label.<br />\n- Does the label contain percentages? Copy the label's wording.<br />\n- Are there any ingredients (allergens) shown in bold type or italics (or in any other way distinctive from other ingredients) on the label? In this case, you enter those ingredients in capitals in this field (see also the example below).<br />\n- In some cases, parts of the ingredient statement are clarified by adding a sentence at the bottom of the ingredient statement. You can recognize these clarifications by, for example, a star or a number at the start of the clarification. In other cases, an abbreviation in the ingredient statement is written down at the bottom of the ingredient statement. All these and other clarifications can be entered in this field, as long as they are related to the ingredients.<br />\n<br />\nDoes the label contain information about ingredients that is not part of the ingredient statement or stated directly below? Depending on the kind of subject, enter this information as:<br />\n<br />\n1. Compulsory additive label information: enter the compulsory information according to the EU regulation 1169 or other legislation in the field 'Compulsory additive label information'. Find an overview of regulations, guidelines and directives in which the specific compulsory additive label information is included in the appendix of the document 'Explanatory notes on the Benelux model' (please refer to the link below in Process Description to the explanatory document).<br />\n<br />\n2. Marketing fields: enter all other information about ingredients in the fields 'Trade item marketing message', ‘Trade item feature benefit’ or ‘Trade item key words’. An example: 'all ingredients are handpicked'.<br />\n<br />\nHow to enter cross-contaminations: Insert text about cross-contaminations (e.g. 'May contain traces of nuts') after the list of ingredients.<br />\n<br />\nSpecial situations:<br />\n- Variety pack (see explanatory document for definition): copy all the ingredients lists on the packaging according to the procedure mentioned above.<br />\n- Food supplements: the composition is also stated on the label. The composition is a list with active substances. This must be entered in the 'Non food ingredient statement' field. You enter for food supplements the ingredient list here.","For additional explanation see <a href=\" https://www.gs1.nl/en/industries/food-health-and-beauty/gs1-data-source/entering-data/attribute-explorer-attributes-list\" style=\"color:blue; text-decoration:underline\" target=\"_blank\"> https://www.gs1.nl/en/industries/food-health-and-beauty/gs1-data-source/entering-data/attribute-explorer-attributes-list</a>\n<br />\nLocal Dutch applicable validation rules are: 500.230, 500.288, 500.331, 500.375",null,"False","CM","Mandatory for food, food supplements and special foods if mentioned on the label.","O"," ","O"," ","Sarina","Sarina","9/27/2021 6:38:37 PM","11/4/2021 9:10:21 PM",{"$f":"IF(A170=\"ANL1420\",\"Targetsector\",LEFT(C170,LEN(C170)-LEN('BES EN'!E170)-3))","v":"Ingredient statement"}]
["ANL1203","Active","Ingredient statement language code (ingredientStatement/@languageCode)","MNL0020","ingredientStatement/@languageCode","3.1.17","/catalogue_item_notification:catalogueItemNotificationMessage/transaction/documentCommand/catalogue_item_notification:catalogueItemNotification/catalogueItem/tradeItem/tradeItemInformation/extension/*[namespace-uri()='urn:gs1:gdsn:food_and_beverage_ingredient:xsd:3' and local-name()='foodAndBeverageIngredientModule']/ingredientStatement/@languageCode","CodeList","BENELUX_GDSN_LanguageCode","","","1..1","","FMCG","Label;Fruit&Vegetable;Datakwalitijd 2.0;Label health&beauty;Detergents","286","Food;Health;Fruit&Vegetable","","This field is checked in the context of the Dutch data quality program.","Code specifying a language. Allowed code values are specified in GS1 code list 'LanguageCode'.","nl","Select the correct value from the 'ISO 639-1 (2-alpha)' code list.","For additional explanation see <a href=\" https://www.gs1.nl/en/industries/food-health-and-beauty/gs1-data-source/entering-data/attribute-explorer-attributes-list\" style=\"color:blue; text-decoration:underline\" target=\"_blank\"> https://www.gs1.nl/en/industries/food-health-and-beauty/gs1-data-source/entering-data/attribute-explorer-attributes-list</a> <br />\n<br />\n- To find the applicable language codes, see: <a href=\" http://www.loc.gov/standards/iso639-2/php/code_list.php\" style=\"color:blue; text-decoration:underline\" target=\"_blank\"> http://www.loc.gov/standards/iso639-2/php/code_list.php</a> ",null,"False","CM","Mandatory if 'Ingredient statement' is populated.","CM","if 'Ingredient statement' is populated.","CM","if 'Ingredient statement' is populated.","Sarina","Sarina","9/27/2021 6:38:38 PM","11/4/2021 9:10:31 PM",{"$f":"IF(A171=\"ANL1420\",\"Targetsector\",LEFT(C171,LEN(C171)-LEN('BES EN'!E171)-3))","v":"Ingredient statement language code"}]
["ANL1204","Active","Allergen type code (allergenTypeCode)","MNL0020","allergenTypeCode","3.1.17","/catalogue_item_notification:catalogueItemNotificationMessage/transaction/documentCommand/catalogue_item_notification:catalogueItemNotification/catalogueItem/tradeItem/tradeItemInformation/extension/*[namespace-uri()='urn:gs1:gdsn:allergen_information:xsd:3' and local-name()='allergenInformationModule']/allergenRelatedInformation/allergen/allergenTypeCode","CodeList","BENELUX_GDSN_AllergenTypeCode","","","1..1","","FMCG","Label;Fruit&Vegetable;Label health&beauty;Datakwalitijd 2.0","287","Fruit&Vegetable;Health;Food","","This field is checked in the context of the Dutch data quality program.\n","Code indicating the type of allergen.\n","ML - Lactose\n","Enter always which allergens the product contains, does not contain or may contain if this is mentioned in the ingredient statement or regulated product name. You can recognise allergens for example by the way they are marked in the &#39;ingredient statement&#39;, for example written in bold. Enter cross-contaminations (may contain) also always in this field when they are stated somewhere else (not in the ingredient statement or regulated product name) on the label.<br />\nUse the &#39;AllergenTypeCode&#39; code list (please refer to the link below in &#39;Process Description&#39; to the explanatory document for the code list) to find the right code for the allergen concerned and enter that code in this field. Do not duplicate codes.<br />\nIn the case of variety packs, list all the allergens.<br />\n<br />\nNote: there are two categories of allergens:<br />\n- Mandatory allergens: the Food Information Regulation (FIR) no. 1169/2011 appendix II specifies that fourteen types of allergens must be stated if they are present in the product. You can find these fourteen types of allergens in the &#39;Allergen code list&#39; in the explanatory document. These are also indicated in the code list itself: the code name is preceded by (M). You can select these by pressing on &#39;Code Name&#39; in the code list header; the fourteen mandatory allergens are then on top of the list. Mandatory allergens MUST be entered when they are marked in the &#39;ingredient statement&#39; or when they are stated in the regulated product name. Mandatory allergens that are NOT marked may be entered, but this is not mandatory.<br />\n- Non-mandatory allergens: when these type of allergens are emphasised in the ingredient statement or regulated product name (for example because they are printed in bold), you enter them in this field. When they are stated on the label but not emphasised, you can choose whether to enter them in this field. There is one exception, lactose must always be entered if it is mentioned in the ingredient statement or regulated product name. The group of non-mandatory allergens includes a subcategory for which special rules apply: allergens that are on a more detailed level of the mandatory allergens. Below is an instruction stating what to do when you want to enter allergens in general, but also when you want to enter allergens that are on a more detailed level of the mandatory allergens.<br />\n<br />\nHow to fill in allergens:<br />\n1. Look up the allergen concerned in the &#39;Allergen code list&#39; in the explanatory document.<br />\n2. Check whether there is a code entered in the last column of the table (Annex A1 of the explanatory document, please refer to the link below in &#39;Process description&#39;) in the same row as the allergen concerned. In that case, enter this code (even if the allergen belonging to this code is not mentioned on the label).&nbsp;It is possible that the level of containment code (see field &#39;Level of containment code&#39;) for the mandatory allergen is different from the level of containment code for the allergen that is on a more detailed level. Find an example of this for gluten-free wheat below. In addition to this, enter the code of the allergen concerned if it is specially marked in the ingredient statement/regulated product name. If it is not specially marked, you may enter it, but it is not mandatory to do so.<br />\n3. If the last column is empty, enter the code of the allergen concerned.<br />\n<br />\nTwo examples:&nbsp;<br />\n- In the case of tuna (that is not specially marked) you need to enter the mandatory code for &#39;Fish and their derivatives (AF)&#39;, and you can add the detail &#39;Tuna and its Derivatives (ABD)&#39;.<br />\n- Another example is gluten-free wheat: the allergen code &#39;Cereals and their derivatives (AW)&#39; must be entered (as with any cereal that normally contains gluten), with in this case the level of containment code (see field &#39;Level of containment code&#39;) &#39;FREE_FROM&#39;. Furthermore, you must add the code &#39;Wheat and their derivatives (UW)&#39; with level of containment code &#39;CONTAINS&#39;.\n","For additional explanation see <a href=\" https://www.gs1.nl/en/industries/food-health-and-beauty/gs1-data-source/entering-data/attribute-explorer-attributes-list\" style=\"color:blue; text-decoration:underline\" target=\"_blank\"> https://www.gs1.nl/en/industries/food-health-and-beauty/gs1-data-source/entering-data/attribute-explorer-attributes-list</a><br />\n<br />\nLocal Dutch applicable validation rules are: 500.182, 500.231, 500.232, 500.233, 500.234\n",null,"False","CM","Mandatory if allergens are stated on the packaging, optional for detergents and biocides.","O"," ","O"," ","Sarina","Sarina","9/27/2021 6:38:38 PM","11/4/2021 9:10:41 PM",{"$f":"IF(A172=\"ANL1420\",\"Targetsector\",LEFT(C172,LEN(C172)-LEN('BES EN'!E172)-3))","v":"Allergen type code"}]
["ANL1205","Active","Level of containment code (levelOfContainmentCode)","MNL0020","levelOfContainmentCode","3.1.17","/catalogue_item_notification:catalogueItemNotificationMessage/transaction/documentCommand/catalogue_item_notification:catalogueItemNotification/catalogueItem/tradeItem/tradeItemInformation/extension/*[namespace-uri()='urn:gs1:gdsn:allergen_information:xsd:3' and local-name()='allergenInformationModule']/allergenRelatedInformation/allergen/levelOfContainmentCode","CodeList","BENELUX_GDSN_LevelOfContainmentCode","","","1..1","","FMCG","Label health&beauty;Datakwalitijd 2.0;Fruit&Vegetable;Label","288","Fruit&Vegetable;Health;Food","","This field is checked in the context of the Dutch data quality program.\n","Code indicating the level of presence of the allergen.\n","CONTAINS\n","This attribute must be entered if the attribute &#39;Allergen type code&#39; is provided. State in this field whether the allergen that is entered in &#39;Allergen type code&#39; is present or may be present in the product or whether the product does not contain an allergen. Use the Level of Containment Code code list that has the following possibilities:<br />\n1. CONTAINS: intentionally included in the product.<br />\n2. FREE_FROM: the product is free from the indicated substance.<br />\n3. MAY_CONTAIN: the substance is not intentionally included, but due to shared production facilities or other reasons the product may contain the substance.<br />\n<br />\nImportant:<br />\n■ Some types of product label contain text indicating the product is &#39;gluten-free&#39;, although the product contains a type of cereal that &#39;usually&#39; does contain gluten. The product label does not contain a diet allergen packaging mark. Example of gluten-free oatmeal:<br />\n○ Fill in this attribute to indicate that the product (in this example) contains oatmeal: oat and oat products (gluten containing cereal);<br />\n○ Fill in this attribute another time now with the code &#39;FREE_FROM&#39; for the allergen type code &#39;Cereals and their derivatives (AW)&#39; to indicate that the product does not contain gluten;<br />\n■ Some product labels contain a diet allergen packaging mark indicating the product is gluten-free, although the product contains a type of cereal that &#39;usually&#39; does contain gluten. Example of gluten-free oatmeal:<br />\n○ Fill in this attribute to indicate that the product (in this example) contains oatmeal: oat and oat products (gluten containing cereal);<br />\n○ Fill in the attribute &#39;Packaging marked free from&#39; with the correct packaging mark. It is required by law to indicate all gluten containing cereals, in bold or in upper case, even if these cereals no longer contain gluten. Besides the allergen gluten, other proteins in cereal can also trigger an &#39;allergic reaction&#39;.<br />\n<br />\nThe same rules apply to &#39;Allergen type code&#39;: If an allergen is not mentioned here, this does not mean the product is &#39;X-free&#39;. The information must be identical to what is on the label. It is not permitted to provide more information in GDSN if this is not indicated on the label.\n","For additional explanation see <a href=\" https://www.gs1.nl/en/industries/food-health-and-beauty/gs1-data-source/entering-data/attribute-explorer-attributes-list\" style=\"color:blue; text-decoration:underline\" target=\"_blank\"> https://www.gs1.nl/en/industries/food-health-and-beauty/gs1-data-source/entering-data/attribute-explorer-attributes-list</a><br /> \n<br />\nLocal Dutch applicable validation rules are: 500.114\n",null,"False","CM","Mandatory if the 'Allergen type code' field is populated. ","CM","if the 'Allergen type code' field is populated. ","CM","if the 'Allergen type code' field is populated. ","Sarina","Sarina","9/27/2021 6:38:38 PM","11/4/2021 9:10:51 PM",{"$f":"IF(A173=\"ANL1420\",\"Targetsector\",LEFT(C173,LEN(C173)-LEN('BES EN'!E173)-3))","v":"Level of containment code"}]
["ANL1206","Active","Is allergen relevant data provided (isAllergenRelevantDataProvided)","MNL0020","isAllergenRelevantDataProvided","3.1.17","/catalogue_item_notification:catalogueItemNotificationMessage/transaction/documentCommand/catalogue_item_notification:catalogueItemNotification/catalogueItem/tradeItem/tradeItemInformation/extension/*[namespace-uri()='urn:gs1:gdsn:allergen_information:xsd:3' and local-name()='allergenInformationModule']/allergenRelatedInformation/isAllergenRelevantDataProvided","boolean",null,"","","0..1","","FMCG","Label;Fruit&Vegetable;Label health&beauty","289","Fruit&Vegetable;Food;Health","",null,"Determines whether allergen information is populated for those values which are relevant or required to be populated on the product label or label equivalent. All values not populated are not relevant or not required to be populated on the product label by local regulations.\n","TRUE\n","This field states whether all relevant allergen information of the product is provided. This applies to food products for which label information is mandatory. Choose from the values &#39;TRUE&#39; or &#39;FALSE&#39;.<br />\n<br />\nBelux: The attribute needs to be set to &lsquo;TRUE&rsquo; in order to be able to publish the data to trust box.\n","For additional explanation see <a href=\" https://www.gs1.nl/en/industries/food-health-and-beauty/gs1-data-source/entering-data/attribute-explorer-attributes-list\" style=\"color:blue; text-decoration:underline\" target=\"_blank\"> https://www.gs1.nl/en/industries/food-health-and-beauty/gs1-data-source/entering-data/attribute-explorer-attributes-list</a><br />\n<br />\nLocal Dutch applicable validation rules are: 500.288\n",null,"False","CM","Mandatory for products for which label information is entered, optional for detergents and biocides.","O"," ","O"," ","Sarina","Sarina","9/27/2021 6:38:38 PM","11/4/2021 9:11:02 PM",{"$f":"IF(A174=\"ANL1420\",\"Targetsector\",LEFT(C174,LEN(C174)-LEN('BES EN'!E174)-3))","v":"Is allergen relevant data provided"}]
["ANL1207","Active","Preparation state code (preparationStateCode)","MNL0020","preparationStateCode","3.1.17","/catalogue_item_notification:catalogueItemNotificationMessage/transaction/documentCommand/catalogue_item_notification:catalogueItemNotification/catalogueItem/tradeItem/tradeItemInformation/extension/*[namespace-uri()='urn:gs1:gdsn:nutritional_information:xsd:3' and local-name()='nutritionalInformationModule']/nutrientHeader/preparationStateCode","CodeList","BENELUX_GDSN_PreparationTypeCode","","","1..1","","FMCG","Label;Fruit&Vegetable;Label health&beauty;Datakwalitijd 2.0","290","Food;Fruit&Vegetable;Health","","This field is checked in the context of the Dutch data quality program.\n","The code indicating whether the product is unaltered versus a product that has been altered by consumer preparation, in conjunction with the nutritional panel.","PREPARED\n","Only the codes &#39;PREPARED&#39; and &#39;UNPREPARED&#39; are allowed. State whether the nutrient information relates to the product as unprepared or prepared by the consumer. If it relates to the prepared product, this will be specifically stated on the label.<br />\n- Unprepared: the nutrient information relates to the state in which the products are sold. Examples: soft drinks, chocolate bars.<br />\n- Prepared: the nutrient information relates to the prepared state, i.e. following preparation by the consumer in accordance with the instructions on the packaging. Examples: cake made from cake mix, breakfast cereal with milk.","Local Dutch applicable validation rules are: 500.079, 500.170, 500.323, 500.349, 500.355\n",null,"False","CM","Mandatory for food, food supplements and special foods if mentioned on the label.","O"," ","O"," ","Sarina","Sarina","9/27/2021 6:38:38 PM","11/4/2021 9:11:12 PM",{"$f":"IF(A175=\"ANL1420\",\"Targetsector\",LEFT(C175,LEN(C175)-LEN('BES EN'!E175)-3))","v":"Preparation state code"}]
["ANL1208","Active","Nutrient type code (UN INFOODS code) (nutrientTypeCode)","MNL0020","nutrientTypeCode","3.1.17","/catalogue_item_notification:catalogueItemNotificationMessage/transaction/documentCommand/catalogue_item_notification:catalogueItemNotification/catalogueItem/tradeItem/tradeItemInformation/extension/*[namespace-uri()='urn:gs1:gdsn:nutritional_information:xsd:3' and local-name()='nutritionalInformationModule']/nutrientHeader/nutrientDetail/nutrientTypeCode","CodeList","BENELUX_GDSN_NutrientTypeCode","","","1..1","","FMCG","Label;Datakwalitijd 2.0;Label health&beauty;Fruit&Vegetable","291","Health;Food;Fruit&Vegetable","","Does a food supplement&nbsp;and/or special food contain nutrients that are not listed in the nutrients code list? Then enter the complete list in the &#39;Non food ingredient statement&#39; field. You enter this list according to the instructions mentioned in this field (separate columns with semicolumns and indicate line breaks with a hash).<br />\n<br />\nThis field is checked in the context of the Dutch data quality program.\n","Code from the list of the INFOODS food component tag names identifying nutrients contained in the product.\n","LACS (Lactose)\n","Go to the &#39;NutrientTypeCode&#39; code list and select the correct code for the nutrients shown on the label. Nutrients must be entered in the sequence defined in appendix XV in EU Regulation 1169/2011. Fibers (code ‘FIBTG’) can also be populated even when they are not stated on the label.\n","Local Dutch applicable validation rules are: 500.080, 500.081, 500.083, 500.087, 500.088, 500.089, 500.090, 500.091, 500.092, 500.093, 500.094, 500.170, 500.177, 500.178, 500.187, 500.188, 500.189, 500.190, 500.191, 500.192, 500.224, 500.235, 500.236, 500.240, 500.251, 500.320, 500.324, 500.325, 500.355, 500.356\n",null,"False","CM","Mandatory for food, food supplements and special foods if mentioned on the label.","O"," ","O"," ","Sarina","Sarina","9/27/2021 6:38:39 PM","11/4/2021 9:11:24 PM",{"$f":"IF(A176=\"ANL1420\",\"Targetsector\",LEFT(C176,LEN(C176)-LEN('BES EN'!E176)-3))","v":"Nutrient type code (UN INFOODS code)"}]
["ANL1209","Active","Measurement precision code (measurementPrecisionCode)","MNL0020","measurementPrecisionCode","3.1.17","/catalogue_item_notification:catalogueItemNotificationMessage/transaction/documentCommand/catalogue_item_notification:catalogueItemNotification/catalogueItem/tradeItem/tradeItemInformation/extension/*[namespace-uri()='urn:gs1:gdsn:nutritional_information:xsd:3' and local-name()='nutritionalInformationModule']/nutrientHeader/nutrientDetail/measurementPrecisionCode","CodeList","BENELUX_GDSN_MeasurementPrecisionCode","","","0..1","","FMCG","Label;Label health&beauty;Fruit&Vegetable;Datakwalitijd 2.0","292","Food;Fruit&Vegetable;Health","","N.B. if there are &#39;traces&#39;, enter &#39;LESS THAN&#39; as the &#39;Measurement precision code&#39; and &#39;0 GRM&#39; as the &#39;Quantity contained&#39;. If the label states that a product contains &#39;negligible&#39; amounts of a nutrient, follow the same method by entering &#39;LESS THAN&#39; as the &#39;Measurement precision code&#39; and &#39;0 GRM&#39; as the &#39;Quantity contained&#39;.<br />\n<br />\nThis field is checked in the context of the Dutch data quality program.\n","Code indicating whether the specified nutrient content is exact or approximate. Local regulatory guidelines should be followed when selecting a precision.\n","APPROXIMATELY\n","The default is &#39;APPROXIMATELY&#39;. Use &#39;LESS_THAN&#39; if the label says &#39;&lt;&#39;. Other options are not used.\n","Local Dutch applicable validation rules are: 500.082, 500.224, 500.235, 500.236, 500.355\n",null,"False","CM","Mandatory for food, food supplements and special foods if mentioned on the label.","O"," ","O"," ","Sarina","Sarina","9/27/2021 6:38:39 PM","11/4/2021 9:11:34 PM",{"$f":"IF(A177=\"ANL1420\",\"Targetsector\",LEFT(C177,LEN(C177)-LEN('BES EN'!E177)-3))","v":"Measurement precision code"}]
["ANL1210","Active","Quantity contained (quantityContained)","MNL0020","quantityContained","3.1.17","/catalogue_item_notification:catalogueItemNotificationMessage/transaction/documentCommand/catalogue_item_notification:catalogueItemNotification/catalogueItem/tradeItem/tradeItemInformation/extension/*[namespace-uri()='urn:gs1:gdsn:nutritional_information:xsd:3' and local-name()='nutritionalInformationModule']/nutrientHeader/nutrientDetail/quantityContained","Measurement",null,"","","0..n","","FMCG","Label;Label health&beauty;Fruit&Vegetable;Datakwalitijd 2.0","293","Food;Fruit&Vegetable;Health","","In the case of composite products, state the nutritional value of the products in the product. A composite product can be a variety pack or a product containing different components (please refer to the link below in Process Description to the explanatory document for definitions of composite products). The various parts in a variety pack have a GTIN (Global Trade Item Number) assigned, in which case the nutrients can be entered at the &#39;part&#39; level.<br />\n<br />\nDoes a food supplement&nbsp;and/or special food contain nutrients that are not listed in the nutrients code list? Then enter the complete list in the &#39;Non food ingredient statement&#39; field. You enter this list according to the instructions mentioned in this field (separate columns with semicolumns and indicate line breaks with a hash).<br />\n<br />\nThis field is checked in the context of the Dutch data quality program.\n","Measurement value indicating the amount of nutrient contained in the product. It is expressed relative to the serving size.\n","35.1 (GRM)\n","Enter the amount of nutrient per unit as stated in the &#39;Nutrient basis quantity&#39; field. The unit of measurement is entered in a separate field. Use the same values as shown on the label. The quantity of the nutrient contained should be stated per 100g, 100ml or 1000ml for food.<br />\n<br />\nImportant: it is possible to enter nutrient amounts in two units of measurement for the nutrient &#39;energy&#39; (use only one unit of measurement for other nutrients). If possible, you should do this by listing the &#39;energy&#39; nutrient more than once with only one unit of measurement each (instead of listing the &#39;energy&#39; nutrient just once followed by two units of measurement).<br />\nExample: First listing of &#39;energy&#39; nutrient with only one unit of measurement: Energy 477 kilojoules. Repeat listing of the same nutrient with only one unit of measurement: Energy 114 kilocalories.<br />\n<br />\nFor food supplements enter the nutritional quantities per serving size if that is the only measurement unit on the packaging. See also the comment.<br />\n<br />\nIf the &#39;Nutrient type code (UN INFOODS code)&#39; is equal to one of the following values: &#39;FAT&#39;, &#39;FASAT&#39;, &#39;FAMSCIS&#39;, &#39;FAPUCIS&#39;, &#39;CHOAVL&#39;, &#39;PRO-&#39;, &#39;FIBTG&#39;, &#39;SUGAR-&#39;, &#39;SALTEQ&#39;, &#39;POLYL&#39; or &#39;STARCH&#39;, the GRM (grams) unit of measurement is used.\n","Local Dutch applicable validation rules are: 500.081, 500.087, 500.088, 500.089, 500.090, 500.091, 500.092, 500.093, 500.094, 500.177, 500.235, 500.236. 500.325, 500.355\n",null,"False","CM","Mandatory for food, food supplements and special foods if mentioned on the label.","O"," ","O"," ","Sarina","Sarina","9/27/2021 6:38:39 PM","11/4/2021 9:11:45 PM",{"$f":"IF(A178=\"ANL1420\",\"Targetsector\",LEFT(C178,LEN(C178)-LEN('BES EN'!E178)-3))","v":"Quantity contained"}]
["ANL1211","Active","Quantity contained UOM (quantityContained/@measurementUnitCode)","MNL0020","quantityContained/@measurementUnitCode","3.1.17","/catalogue_item_notification:catalogueItemNotificationMessage/transaction/documentCommand/catalogue_item_notification:catalogueItemNotification/catalogueItem/tradeItem/tradeItemInformation/extension/*[namespace-uri()='urn:gs1:gdsn:nutritional_information:xsd:3' and local-name()='nutritionalInformationModule']/nutrientHeader/nutrientDetail/quantityContained/@measurementUnitCode","CodeList","BENELUX_GDSN_MeasurementUnitCode","","","1..1","","FMCG","Label;Datakwalitijd 2.0;Label health&beauty;Fruit&Vegetable","294","Health;Food;Fruit&Vegetable","","This field is checked in the context of the Dutch data quality program.\n","Any standardised, reproducible unit that can be used to measure any physical property.\n","GRM\n","Select the correct value from the 'MeasurementUnitCode' code list.\n","Local Dutch applicable validation rules are: 500.081, 500.087, 500.094, 500.325, 500.355\n",null,"False","CM","Mandatory if 'Quantity contained' is populated.","CM","if 'Quantity contained' is populated.","CM","if 'Quantity contained' is populated.","Sarina","Sarina","9/27/2021 6:38:39 PM","11/4/2021 9:11:56 PM",{"$f":"IF(A179=\"ANL1420\",\"Targetsector\",LEFT(C179,LEN(C179)-LEN('BES EN'!E179)-3))","v":"Quantity contained UOM"}]
["ANL1212","Inactive","Serving size (servingSize)","MNL0020","servingSize","3.1.17","/catalogue_item_notification:catalogueItemNotificationMessage/transaction/documentCommand/catalogue_item_notification:catalogueItemNotification/catalogueItem/tradeItem/tradeItemInformation/extension/*[namespace-uri()='urn:gs1:gdsn:nutritional_information:xsd:3' and local-name()='nutritionalInformationModule']/nutrientHeader/servingSize","Measurement",null,"","","0..n","","FMCG","Label","295","Health;Fruit&Vegetable;Food","","In some product groups the serving size has to be entered in a different unit of measure: e.g. the serving size for mineral water is 1 litre (LTR) or 1000 MLT. If for food supplements the table on the label is given only per portion, enter this portion in this field. For the unit of measure a separate field has to be populated. This field will expire as of May 2020. Until then, you can convert data of already published articles to the new field 'Nutrient basis quantity'. Also populate the new 'Nutrient basis quantity type code' field with the value 'BY_SERVING' if it is a portion or with the value 'BY_MEASURE' if it is the legally required 100 GRM, 100 MLT or 1000 MLT.\n","Measurement value specifying the serving size or portion. In some markets due to regulation this information is used as the basis amount that a nutrient is measured against. Example: Per 30 grams. 1/2 cup, etc. Please refer to the target markets implementation guideline on how to populate this attribute.","100 (GRM)","Do not fill in this field preferably as of May 2019 for new products. Instead use the new field 'Nutrient basis quantity' (please refer to the instructions of that field). State what serving size the nutrient list applies to. For food you should enter either 100 GRM or 100 MLT (unless a special rule applies to this product group: see remark below for more information). In case the label has nutrients per portion listed you should use this field again, populated with the portion size. Enter the nutrients per portion in the grouping of this portion. Choose gram or millilitre if that is stated on the label, for example: if the label states 1 piece = 15 gram, use the 15 gram as reference, not the 1 piece. Enter the measurement unit in a separate field.\n","Local Dutch applicable validation rules are: 500.094, 500.178, 500.276, 500.323, 500.324, 500.356\n",null,"False","CM","Mandatory for food, food supplements and special foods if mentioned on the label.","O"," ","O"," ","Sarina","Sarina","9/27/2021 6:38:39 PM","11/4/2021 9:12:06 PM",{"$f":"IF(A180=\"ANL1420\",\"Targetsector\",LEFT(C180,LEN(C180)-LEN('BES EN'!E180)-3))","v":"Serving size"}]
["ANL1213","Inactive","Serving size UOM (servingSize/@measurementUnitCode)","MNL0020","servingSize/@measurementUnitCode","3.1.17","/catalogue_item_notification:catalogueItemNotificationMessage/transaction/documentCommand/catalogue_item_notification:catalogueItemNotification/catalogueItem/tradeItem/tradeItemInformation/extension/*[namespace-uri()='urn:gs1:gdsn:nutritional_information:xsd:3' and local-name()='nutritionalInformationModule']/nutrientHeader/servingSize/@measurementUnitCode","CodeList","BENELUX_GDSN_MeasurementUnitCode","","","1..1","","FMCG","Label","296","Fruit&Vegetable;Food;Health","","This field is checked in the context of the Dutch data quality program.","Any standardized, reproducible unit that can be used to measure any physical property.","GRM or MLT","Select the correct value from the 'MeasurementUnitCode' code list.\n","Local Dutch applicable validation rules are: 500.094, 500.276, 500.324\n",null,"False","CM","Mandatory when 'Serving size' is populated.","CM","when 'Serving size' is populated.","CM","if 'Serving size' is populated.","Sarina","Sarina","9/27/2021 6:38:40 PM","11/4/2021 9:12:18 PM",{"$f":"IF(A181=\"ANL1420\",\"Targetsector\",LEFT(C181,LEN(C181)-LEN('BES EN'!E181)-3))","v":"Serving size UOM"}]
["ANL1217","Active","Daily value intake percentage (dailyValueIntakePercent)","MNL0020","dailyValueIntakePercent","3.1.17","/catalogue_item_notification:catalogueItemNotificationMessage/transaction/documentCommand/catalogue_item_notification:catalogueItemNotification/catalogueItem/tradeItem/tradeItemInformation/extension/*[namespace-uri()='urn:gs1:gdsn:nutritional_information:xsd:3' and local-name()='nutritionalInformationModule']/nutrientHeader/nutrientDetail/dailyValueIntakePercent","decimal",null,"","","0..1","","FMCG","Label health&beauty;Fruit&Vegetable;Datakwalitijd 2.0;Label","297","Fruit&Vegetable;Food;Health","","In the case of food supplements with nutrients that are not listed in the &#39;Nutrients code list&#39; (see code list for the &#39;Nutrient type code (UN INFOODS code)&#39; field), enter the complete list in the &lsquo;Non food ingredient statement&rsquo; field.<br />\n<br />\nThis field is checked in the context of the Dutch data quality program.\n","The percentage of the recommended daily intake of a nutrient or the daily value intake of vitamins and minerals as recommended by the authorities of the target market. It is expressed relative to the serving size and base daily value intake.\n","18.2\n","Enter the percentage of the recommended daily amount of the nutrient or the daily value intake of vitamins and minerals belonging to the serving size concerned.\n","Local Dutch applicable validation rules are: 500.083, 500.178\n",null,"False","CM","Mandatory for food, food supplements and special foods if mentioned on the label.","O"," ","O"," ","Sarina","Sarina","9/27/2021 6:38:40 PM","11/4/2021 9:12:29 PM",{"$f":"IF(A182=\"ANL1420\",\"Targetsector\",LEFT(C182,LEN(C182)-LEN('BES EN'!E182)-3))","v":"Daily value intake percentage"}]
["ANL1218","Active","Daily value intake percent measurement precision code (dailyValueIntakePercentMeasurementPrecisionCode)","MNL0020","dailyValueIntakePercentMeasurementPrecisionCode","3.1.17","/catalogue_item_notification:catalogueItemNotificationMessage/transaction/documentCommand/catalogue_item_notification:catalogueItemNotification/catalogueItem/tradeItem/tradeItemInformation/extension/*[namespace-uri()='urn:gs1:gdsn:nutritional_information:xsd:3' and local-name()='nutritionalInformationModule']/nutrientHeader/nutrientDetail/dailyValueIntakePercentMeasurementPrecisionCode","CodeList","BENELUX_GDSN_MeasurementPrecisionCode","","","0..1","","FMCG","Label;Datakwalitijd 2.0;Fruit&Vegetable;Label health&beauty","298","Health;Fruit&Vegetable;Food","","This field is checked in the context of the Dutch data quality program.\n","Code indicating whether the specified nutrient content for the 'Daily value intake percentage' is exact or approximate or less than, etc. Local regulatory guidelines should be followed when selecting a precision.\n","LESS_THAN_OR_EQUAL (&lt;=)\n","Enter the value for this attribute only if one of the following signs “<”, “<=”, “>”, “>=” is listed on the label under percentage of daily value intake. Choose one of the values ‘LESS_THAN’; ‘LESS_THAN_OR_EQUAL’; ‘GREATER_THAN’; ‘GREATER_THAN_OR_EQUAL’.\n",null,null,"False","O"," ","O"," ","O"," ","Sarina","Sarina","9/27/2021 6:38:40 PM","11/4/2021 9:12:39 PM",{"$f":"IF(A183=\"ANL1420\",\"Targetsector\",LEFT(C183,LEN(C183)-LEN('BES EN'!E183)-3))","v":"Daily value intake percent measurement precision code"}]
["ANL1219","Active","Daily value intake reference (dailyValueIntakeReference)","MNL0020","dailyValueIntakeReference","3.1.17","/catalogue_item_notification:catalogueItemNotificationMessage/transaction/documentCommand/catalogue_item_notification:catalogueItemNotification/catalogueItem/tradeItem/tradeItemInformation/extension/*[namespace-uri()='urn:gs1:gdsn:nutritional_information:xsd:3' and local-name()='nutritionalInformationModule']/nutrientHeader/dailyValueIntakeReference","Description500",null,"","","0..n","","FMCG","Label;Datakwalitijd 2.0;Fruit&Vegetable;Label health&beauty","299","Food;Health;Fruit&Vegetable","","This field is checked in the context of the Dutch data quality program.\n","Free text field specifying the daily value intake basis on which the daily value intake per nutrient has been based. Example: &#39;Based on a 2000 calorie diet&#39;.\n","Reference intake of an average adult (8 400 kJ/ 2 000 kcal)<br />\nDaily reference intakes<br />\n* % of Reference intake of an average adult (8 400 kJ/ 2 000 kcal)\n","In this field, enter the description of the reference intake as it appears on the label. Always populate this field together with the field 'Nutrient basis quantity'.<br />\nIn case of multiple serving sizes on the label (e.g. 100 g and 80 g), make sure you at least populate the description of the reference intake at the serving size that is referred to with an asterisk. If the description does not contain an asterisk, it does not refer to a particular serving size. In this case, the description of the reference intake can be populated at either ‘Nutrient basis quantity' fields or both.<br />\n<br />\nFor more information, review section 10.1 of the ‘Explanation on attributes’ document.\n","Local Dutch applicable validation rules are: 500.178\n",null,"False","CM","Mandatory for food, food supplements and special foods if mentioned on the label.","O"," ","O"," ","Sarina","Sarina","9/27/2021 6:38:40 PM","11/4/2021 9:12:50 PM",{"$f":"IF(A184=\"ANL1420\",\"Targetsector\",LEFT(C184,LEN(C184)-LEN('BES EN'!E184)-3))","v":"Daily value intake reference"}]
["ANL1220","Active","Daily value intake reference language code (dailyValueIntakeReference/@languageCode)","MNL0020","dailyValueIntakeReference/@languageCode","3.1.17","/catalogue_item_notification:catalogueItemNotificationMessage/transaction/documentCommand/catalogue_item_notification:catalogueItemNotification/catalogueItem/tradeItem/tradeItemInformation/extension/*[namespace-uri()='urn:gs1:gdsn:nutritional_information:xsd:3' and local-name()='nutritionalInformationModule']/nutrientHeader/dailyValueIntakeReference/@languageCode","CodeList","BENELUX_GDSN_LanguageCode","","","1..1","","FMCG","Label health&beauty;Datakwalitijd 2.0;Fruit&Vegetable;Label","300","Health;Fruit&Vegetable;Food","","This field is checked in the context of the Dutch data quality program.","Code specifying a language. Allowed code values are specified in GS1 code list 'LanguageCode'.","nl","Select the correct value from the 'ISO 639-1 (2-alpha)' code list.","For additional explanation see <a href=\" https://www.gs1.nl/en/industries/food-health-and-beauty/gs1-data-source/entering-data/attribute-explorer-attributes-list\" style=\"color:blue; text-decoration:underline\" target=\"_blank\"> https://www.gs1.nl/en/industries/food-health-and-beauty/gs1-data-source/entering-data/attribute-explorer-attributes-list</a> <br />\n<br />\n- To find the applicable language codes, see: <a href=\" http://www.loc.gov/standards/iso639-2/php/code_list.php\" style=\"color:blue; text-decoration:underline\" target=\"_blank\"> http://www.loc.gov/standards/iso639-2/php/code_list.php</a> ",null,"False","CM","Mandatory if 'Daily value intake reference' is populated.","CM","if 'Daily value intake reference' is populated.","CM","if 'Daily value intake reference' is populated.","Sarina","Sarina","9/27/2021 6:38:40 PM","11/4/2021 9:13:02 PM",{"$f":"IF(A185=\"ANL1420\",\"Targetsector\",LEFT(C185,LEN(C185)-LEN('BES EN'!E185)-3))","v":"Daily value intake reference language code"}]
["ANL1221","Active","Provenance statement (provenanceStatement)","MNL0020","provenanceStatement","3.1.17","/catalogue_item_notification:catalogueItemNotificationMessage/transaction/documentCommand/catalogue_item_notification:catalogueItemNotification/catalogueItem/tradeItem/tradeItemInformation/extension/*[namespace-uri()='urn:gs1:gdsn:place_of_item_activity:xsd:3' and local-name()='placeOfItemActivityModule']/placeOfProductActivity/provenanceStatement","Description500",null,"","","0..n","","FMCG","Provenance;Label health&beauty;Datakwalitijd 2.0;Fruit&Vegetable;Label","251","Fruit&Vegetable;Petfood;Cosmetics;Food;Health","","This field is checked in the context of the Dutch data quality program.\n","The exact statement about the place of origin, as declared on the product label, which can be any place where the product is indicated to have come from (it may or may not be the same as country of origin).","Ierland<br />\nOostelijke Atlantische Oceaan<br />\nVeluwe<br />\nChampagne<br />\nBottled at the source, San Pellegrino terme (Bergamo) Italy\n","You should enter all the information listed on origin as stated on the label here. When there is different information about origin, for example if it is stated where the animal was born and if this differs from the information about origin of the entire product, you should also enter this information here. <br />\nFor natural mineral water and mineral water, the indication of the source is part of the provenance statement (Directive 2009/54/EC).<br />\nWhen information about the origin is part of the ingredient statement, do not populate it in this field, but in the ‘Ingredient statement’ field. In case there is a separate claim about origin at the end of the ingredient statement, please do enter this information in this field. When information about origin for the whole product and for a specific ingredient is stated, start with the information for the whole product, followed by the information of the ingredient.\n<br />\n<br />\nFor fish, shellfish and crustaceans also use additional fields that provide information on provenance:<br />\n• For fish, shellfish and crustaceans also fill in the fields ‘Catch area code’, ‘Fish production method code’, ‘Fish storage state code’ and ‘Catch method’. This does not apply for farmed fish, cultured shellfish and crustaceans, use only this field (‘Provenance statement’) for farmed fish, cultured shellfish and crustaceans.","Local Dutch applicable validation rules are: 500.173\n",null,"False","CM","Mandatory if stated on the packaging.","O"," ","O"," ","Sarina","Sarina","9/27/2021 6:38:41 PM","11/4/2021 9:13:13 PM",{"$f":"IF(A186=\"ANL1420\",\"Targetsector\",LEFT(C186,LEN(C186)-LEN('BES EN'!E186)-3))","v":"Provenance statement"}]
["ANL1222","Active","Provenance statement language code (provenanceStatement/@languageCode)","MNL0020","provenanceStatement/@languageCode","3.1.17","/catalogue_item_notification:catalogueItemNotificationMessage/transaction/documentCommand/catalogue_item_notification:catalogueItemNotification/catalogueItem/tradeItem/tradeItemInformation/extension/*[namespace-uri()='urn:gs1:gdsn:place_of_item_activity:xsd:3' and local-name()='placeOfItemActivityModule']/placeOfProductActivity/provenanceStatement/@languageCode","CodeList","BENELUX_GDSN_LanguageCode","","","1..1","","FMCG","Label;Provenance;Fruit&Vegetable;Datakwalitijd 2.0;Label health&beauty","252","Food;Petfood;Health;Fruit&Vegetable;Cosmetics","","This field is checked in the context of the Dutch data quality program.","Code specifying a language. Allowed code values are specified in GS1 code list 'LanguageCode'.","nl","Select the correct value from the 'ISO 639-1 (2-alpha)' code list.","For additional explanation see <a href=\" https://www.gs1.nl/en/industries/food-health-and-beauty/gs1-data-source/entering-data/attribute-explorer-attributes-list\" style=\"color:blue; text-decoration:underline\" target=\"_blank\"> https://www.gs1.nl/en/industries/food-health-and-beauty/gs1-data-source/entering-data/attribute-explorer-attributes-list</a> <br />\n<br />\n- To find the applicable language codes, see: <a href=\" http://www.loc.gov/standards/iso639-2/php/code_list.php\" style=\"color:blue; text-decoration:underline\" target=\"_blank\"> http://www.loc.gov/standards/iso639-2/php/code_list.php</a> <br />\n<br />\nLocal Dutch applicable validation rules are:<br />\n500.173 ",null,"False","CM","Mandatory if 'Provenance statement' is populated.","CM","if 'Provenance statement' is populated.","CM","if 'Provenance statement' is populated.","Sarina","Sarina","9/27/2021 6:38:41 PM","11/4/2021 9:13:24 PM",{"$f":"IF(A187=\"ANL1420\",\"Targetsector\",LEFT(C187,LEN(C187)-LEN('BES EN'!E187)-3))","v":"Provenance statement language code"}]
["ANL1227","Active","Catch area code (catchAreaCode)","MNL0020","catchAreaCode","3.1.17","/catalogue_item_notification:catalogueItemNotificationMessage/transaction/documentCommand/catalogue_item_notification:catalogueItemNotification/catalogueItem/tradeItem/tradeItemInformation/extension/*[namespace-uri()='urn:gs1:gdsn:dairy_fish_meat_poultry:xsd:3' and local-name()='dairyFishMeatPoultryItemModule']/dairyFishMeatPoultryInformation/fishReportingInformation/fishCatchInformation/catchAreaCode","CodeList","BENELUX_GDSN_CatchAreaCode","","","0..*","","FMCG","Label;Provenance","257","Food","","For farmed fish (and cultured shellfish and crustaceans) the catch area does not apply.<br />\n<br />\nThis field is checked in the context of the Dutch data quality program.","The code indicating the fishing area in which the fish/seafood or the fish/seafood in the product was caught or farmed.","41 (Atlantic, Southwest)\n","Use this field to enter the code of the catch area as stated on the label. Use the catchAreaCode_GDSN code list.","Local Dutch applicable validation rules are: 500.287\n",null,"False","CM","Mandatory for fish, if the catch area is listed on the packaging, with the exception of farmed fish and cultured shellfish and crustaceans.","O"," ","O"," ","Sarina","Sarina","9/27/2021 6:38:41 PM","11/4/2021 9:13:35 PM",{"$f":"IF(A188=\"ANL1420\",\"Targetsector\",LEFT(C188,LEN(C188)-LEN('BES EN'!E188)-3))","v":"Catch area code"}]
["ANL1228","Active","Catch method code (catchMethodCode)","MNL0020","catchMethodCode","3.1.17","/catalogue_item_notification:catalogueItemNotificationMessage/transaction/documentCommand/catalogue_item_notification:catalogueItemNotification/catalogueItem/tradeItem/tradeItemInformation/extension/*[namespace-uri()='urn:gs1:gdsn:dairy_fish_meat_poultry:xsd:3' and local-name()='dairyFishMeatPoultryItemModule']/dairyFishMeatPoultryInformation/fishReportingInformation/fishCatchInformation/catchMethodCode","CodeList","BENELUX_GDSN_CatchMethodCode","","","0..n","","FMCG","Provenance;Label","258","Food","","For farmed fish (and cultured shellfish and crustaceans) the catch method does not apply.<br />\n<br />\nThis field is checked in the context of the Dutch data quality program.\n","The catch method for fish and seafood as specified by the Fisheries and Aquaculture Department of the Food and Agriculture Organization of the United Nations. This required attribute will help the global retail industry to fulfil the EU requirements for a common fisheries policy.\n","TBS (Bottom trawls - Shrimp trawls)\n","Choose a code in accordance with the statement on the product. Use the issued &#39;FAO&#39; codes for this, you can find the complete list in the code list added to this field. These FAO codes can also be found on the website of FAO: <a href=\" http://www.fao.org/fishery/geartype/search/en\" style=\"color:blue; text-decoration:underline\" target=\"_blank\"> http://www.fao.org/fishery/geartype/search/en</a>.<br />\nAlways enter a code from the range 01 - 09 first. Then you can add a code that specifies a specific method, such as LHM (Handlines and pole-lines (mechanized)).\n","Local Dutch applicable validation rules are: 500.333, 500.334\n",null,"False","CM","Mandatory for fish, if the catch method is listed on the packaging, except for farmed fish and cultured shellfish and crustaceans.","O"," ","O"," ","Sarina","Sarina","9/27/2021 6:38:41 PM","11/4/2021 9:13:46 PM",{"$f":"IF(A189=\"ANL1420\",\"Targetsector\",LEFT(C189,LEN(C189)-LEN('BES EN'!E189)-3))","v":"Catch method code"}]
["ANL1229","Active","Does trade item contain pesticide (doesTradeItemContainPesticide)","MNL0020","doesTradeItemContainPesticide","3.1.17","/catalogue_item_notification:catalogueItemNotificationMessage/transaction/documentCommand/catalogue_item_notification:catalogueItemNotification/catalogueItem/tradeItem/tradeItemInformation/extension/*[namespace-uri()='urn:gs1:gdsn:sustainability_module:xsd:3' and local-name()='sustainabilityModule']/sustainabilityInformation/doesTradeItemContainPesticide","CodeList","BENELUX_GDSN_NonBinaryLogicEnumeration","","","0..1","","FMCG","Dangerous goods","435","Fruit&Vegetable;Health;Food",""," ","Indicates whether the trade item is advertised or labelled as a chemical or contains a chemical that is advertised or labelled as a substance that may kill, repel or prevent the growth of any living organism.","TRUE","Indicate 'TRUE' if the product contains pesticide.",null,null,"False","O"," ","O"," ","O"," ","Sarina","Sarina","9/27/2021 6:38:41 PM","11/4/2021 9:13:57 PM",{"$f":"IF(A190=\"ANL1420\",\"Targetsector\",LEFT(C190,LEN(C190)-LEN('BES EN'!E190)-3))","v":"Does trade item contain pesticide"}]
["ANL1230","Active","Genetically modified declaration code (geneticallyModifiedDeclarationCode)","MNL0020","geneticallyModifiedDeclarationCode","3.1.17","/catalogue_item_notification:catalogueItemNotificationMessage/transaction/documentCommand/catalogue_item_notification:catalogueItemNotification/catalogueItem/tradeItem/tradeItemInformation/extension/*[namespace-uri()='urn:gs1:gdsn:farming_and_processing_information:xsd:3' and local-name()='farmingAndProcessingInformationModule']/tradeItemFarmingAndProcessing/geneticallyModifiedDeclarationCode","CodeList","BENELUX_GDSN_LevelOfContainmentCode","","","0..1","","FMCG","","078","Health;Food;Fruit&Vegetable","",null,"A statement of the presence or absence of genetically modified protein or DNA in the ingredient.\n","CONTAINS,<br />\nFREE_FROM,<br />\nMAY_CONTAIN\n","The code &#39;CONTAINS&#39; should be used if any genetically modified protein or DNA was used in the product.\n",null,null,"False","O"," ","O"," ","O"," ","Sarina","Sarina","9/27/2021 6:38:42 PM","11/4/2021 9:14:08 PM",{"$f":"IF(A191=\"ANL1420\",\"Targetsector\",LEFT(C191,LEN(C191)-LEN('BES EN'!E191)-3))","v":"Genetically modified declaration code"}]
["ANL1231","Active","Preparation instructions (preparationInstructions)","MNL0020","preparationInstructions","3.1.17","/catalogue_item_notification:catalogueItemNotificationMessage/transaction/documentCommand/catalogue_item_notification:catalogueItemNotification/catalogueItem/tradeItem/tradeItemInformation/extension/*[namespace-uri()='urn:gs1:gdsn:food_and_beverage_preparation_serving:xsd:3' and local-name()='foodAndBeveragePreparationServingModule']/preparationServing/preparationInstructions","Description2500",null,"","","0..n","","FMCG","Fruit&Vegetable;Datakwalitijd 2.0;Label;Label health&beauty","311","Fruit&Vegetable;Food","","This field is checked in the context of the Dutch data quality program.","Textual instruction on how to prepare the product before serving.","Sauce is ready to heat and serve. Can be prepared from frozen or refrigerated state.\nTO HEAT: Bring a large pot of water to the boil. Submerge one bag in boiling water and boil for 40 minutes if frozen or 30 minutes if refrigerated.\n","Enter the preparation instructions as shown on the label. If the preparation instructions include symbols, enter them in text form. If additional ingredients are required for preparation, state this here. If there are no preparation instructions on the label but there is an instruction in the package, enter the text ‘See enclosed preparation instruction’. If there are no preparation instructions on the label and there is no instruction in the packaging, leave this field blank.","Local Dutch applicable validation rules are: 500.170",null,"False","CM","Mandatory if the product packaging (label) contains the instructions on how to prepare the product for consumption.","O"," ","O"," ","Sarina","Sarina","9/27/2021 6:38:42 PM","11/4/2021 9:14:20 PM",{"$f":"IF(A192=\"ANL1420\",\"Targetsector\",LEFT(C192,LEN(C192)-LEN('BES EN'!E192)-3))","v":"Preparation instructions"}]
["ANL1232","Active","Preparation instructions language code (preparationInstructions/@languageCode)","MNL0020","preparationInstructions/@languageCode","3.1.17","/catalogue_item_notification:catalogueItemNotificationMessage/transaction/documentCommand/catalogue_item_notification:catalogueItemNotification/catalogueItem/tradeItem/tradeItemInformation/extension/*[namespace-uri()='urn:gs1:gdsn:food_and_beverage_preparation_serving:xsd:3' and local-name()='foodAndBeveragePreparationServingModule']/preparationServing/preparationInstructions/@languageCode","CodeList","BENELUX_GDSN_LanguageCode","","","1..1","","FMCG","Label health&beauty;Datakwalitijd 2.0;Fruit&Vegetable;Label","312","Fruit&Vegetable;Food","","This field is checked in the context of the Dutch data quality program.","Code specifying a language. Allowed code values are specified in GS1 code list 'LanguageCode'.","nl","Select the correct value from the 'ISO 639-1 (2-alpha)' code list.","For additional explanation see <a href=\" https://www.gs1.nl/en/industries/food-health-and-beauty/gs1-data-source/entering-data/attribute-explorer-attributes-list\" style=\"color:blue; text-decoration:underline\" target=\"_blank\"> https://www.gs1.nl/en/industries/food-health-and-beauty/gs1-data-source/entering-data/attribute-explorer-attributes-list</a> <br />\n<br />\n- To find the applicable language codes, see: <a href=\" http://www.loc.gov/standards/iso639-2/php/code_list.php\" style=\"color:blue; text-decoration:underline\" target=\"_blank\"> http://www.loc.gov/standards/iso639-2/php/code_list.php</a> <br />\n<br />\nLocal Dutch applicable validation rules are:<br />\n500.170 ",null,"False","CM","Mandatory if 'Preparation instructions' is populated.","CM","if 'Preparation instructions' is populated.","CM","if 'Preparation instructions' is populated.","Sarina","Sarina","9/27/2021 6:38:42 PM","11/4/2021 9:14:31 PM",{"$f":"IF(A193=\"ANL1420\",\"Targetsector\",LEFT(C193,LEN(C193)-LEN('BES EN'!E193)-3))","v":"Preparation instructions language code"}]
["ANL1233","Active","Consumer usage instructions (consumerUsageInstructions)","MNL0020","consumerUsageInstructions","3.1.17","/catalogue_item_notification:catalogueItemNotificationMessage/transaction/documentCommand/catalogue_item_notification:catalogueItemNotification/catalogueItem/tradeItem/tradeItemInformation/extension/*[namespace-uri()='urn:gs1:gdsn:consumer_instructions:xsd:3' and local-name()='consumerInstructionsModule']/consumerInstructions/consumerUsageInstructions","Description5000",null,"","","0..n","","FMCG","Petfood;Fruit&Vegetable;Lightbulbs;Label health&beauty;Detergents;Label;Datakwalitijd 2.0","313","Cosmetics;Food;Petfood;Health","","This field is checked in the context of the Dutch data quality program.\n","Expresses in text the consumer usage instructions of a product which normally appear on the label or accompany the product. Instructions may refer to how the consumer should use the product. This does not include storage, food preparations, and drug dosage and preparation instructions.\n","Food:<br />\nHeat thoroughly<br />\nCaution: small children can choke on nuts and peanuts.<br />\nThe use of real fruit juice can cause sedimentation on the bottom<br />\nResealable<br />\n<br />\nHealth and beauty products and self-care medicines:<br />\nShake well before use.<br />\n<br />\nCosmetics and personal care products:<br />\nOnly use in a well-ventilated room<br />\nPress briefly without spraying for a long time<br />\nUse only for the intended purpose<br />\n<br />\nLaundry detergents:<br />\n1 tab: voor standaardwasmachinelading 2 tabs: hard water / zwaar bevuilde was, hard water / 6kg+<br />\n<br />\nBiocides:<br />\nHet middel spaarzaam en zorgvuldig aanbrengen op onbedekte lichaamsdelen; verdeel het middel gelijkmatig over de huid. Draag een lange broek en/of shirt met lange mouwen. Niet toepassen onder kleding. Houd de sproeier tenminste 15 cm van de huid, niet direct in het gezicht spuiten. Wanneer het product wordt gebruikt in combinatie met zonnebrand, dan de zonnebrand eerst aanbrengen en 30 minuten wachten voor het aanbrengen van het middel. Om het gezicht te beschermen tegen beten, eerst wat middel in de handpalm aanbrengen en dan uitsmeren over het gezicht. Niet gebruiken bij kinderen jonger dan dertien jaar. Niet meer dan eenmaal per dag gebruiken. Vermijd contact met ogen, slijmvliezen, neus en lippen en beschadigde huid. Het middel niet aanbrengen op plekken waar door buiging van gewrichten, veelvuldige buiging van de huid normaal is, dus niet aanbrengen in knieholte en de elleboogholte. Vermijd contact met voedsel. Was de handen grondig met water en zeep voor het eten of drinken. Gebruik van het middel wordt niet geadviseerd voor kwetsbare groepen, zoals zwangere vrouwen. Was de behandelde huid wanneer bescherming tegen bijtende muggen of teken niet langer nodig is of wanneer irritatie optreed. Bij het gebruik van DEET door reizigers in het buitenland dient rekening gehouden te worden met de richtlijnen die door het Landelijk Co&ouml;rdinatiecentrum Reizigersadvisering (LCR) zijn uitgevaardigd.<br />\n<br />\nLight bulbs: ambient temperature Ta &ne; 25 &deg; C\n","Enter the label information relating to the usage of the product. If the instructions include symbols, enter them in text form.<br />\n<br />\nFor food products, include any voluntary warnings that concern the usage of the products.<br />\n<br />\nFor health and beauty products, cosmetics and personal care products: enter the age for which the product is suitable. Enter specific warnings, interactions and contraindications in the &#39;Drug side effects and warnings&#39; field.<br />\n<br />\nFor self-care medicines: additionally fill in the fields &#39;Healthcare item minimum usage age&#39; and &#39;Healthcare item maximum usage age&#39; and possibly the field &#39;Healthcare item usage age description&#39;. For self-care medicines, complete the indications against which ailment the product can be used in the &#39;Health claim description&#39; field (both the shortened and the extended indication).<br />\n<br />\nFor laundry detergents: fill in the recommended quantities or dosage requirements, as indicated on the packaging.<br />\n<br />\nBiocides: Populate this field with the following as stated on the packaging (information from the instructions for use do not have to be populated here):<br />\n- Directions for use, frequency of application and the dosage.<br />\n- Particulars of possible side effects and directions for first aid.<br />\n- Directions for safe disposal of the biocidal product and its packaging and any prohibition on reuse of the packaging.<br />\n- The sentence &#39;Read attached instructions before use&#39; and warnings for vulnerable groups.<br />\n- What to do after you used the biocidal product (for example when you can use the biocide again or when you can access the area again where the biocide was used).<br />\n- The categories of users to which the biocidal product is restricted.<br />\n- The specific danger to the environment.<br />\n<br />\nFor light bulbs: enter special information about the use when indicated on the package, for example: specific temperature management is required.<br />\n<br />\nThe instructions should be provided in the same languages as on the physical package: for Belgium, at least in Dutch and French; for Luxembourg, at least in German and French.\n","Local Dutch applicable validation rules are: 500.382\n",null,"False","CM","Mandatory If on the label: for food, food supplements, special foods, self-care medicines, healthcare products, cosmetics and personal care products, pet food, laundry detergents and biocides.","O"," ","O"," ","Sarina","Sarina","9/27/2021 6:38:42 PM","11/4/2021 9:14:43 PM",{"$f":"IF(A194=\"ANL1420\",\"Targetsector\",LEFT(C194,LEN(C194)-LEN('BES EN'!E194)-3))","v":"Consumer usage instructions"}]
["ANL1234","Active","Consumer usage instructions language code (consumerUsageInstructions/@languageCode)","MNL0020","consumerUsageInstructions/@languageCode","3.1.17","/catalogue_item_notification:catalogueItemNotificationMessage/transaction/documentCommand/catalogue_item_notification:catalogueItemNotification/catalogueItem/tradeItem/tradeItemInformation/extension/*[namespace-uri()='urn:gs1:gdsn:consumer_instructions:xsd:3' and local-name()='consumerInstructionsModule']/consumerInstructions/consumerUsageInstructions/@languageCode","CodeList","BENELUX_GDSN_LanguageCode","","","1..1","","FMCG","Label;Fruit&Vegetable;Datakwalitijd 2.0;Petfood;Detergents;Label health&beauty","314","Food;Petfood;Health;Cosmetics","","This field is checked in the context of the Dutch data quality program.","Code specifying a language. Allowed code values are specified in GS1 code list 'LanguageCode'.","nl","Select the correct value from the 'ISO 639-1 (2-alpha)' code list.","For additional explanation see <a href=\" https://www.gs1.nl/en/industries/food-health-and-beauty/gs1-data-source/entering-data/attribute-explorer-attributes-list\" style=\"color:blue; text-decoration:underline\" target=\"_blank\"> https://www.gs1.nl/en/industries/food-health-and-beauty/gs1-data-source/entering-data/attribute-explorer-attributes-list</a> <br />\n<br />\n- To find the applicable language codes, see: <a href=\" http://www.loc.gov/standards/iso639-2/php/code_list.php\" style=\"color:blue; text-decoration:underline\" target=\"_blank\"> http://www.loc.gov/standards/iso639-2/php/code_list.php</a> <br />\n<br />\nLocal Dutch applicable validation rules are: 500.382 ",null,"False","CM","Mandatory if 'Consumer usage instructions' is populated.","CM","if 'Consumer usage instructions' is populated.","CM","if 'Consumer usage instructions' is populated.","Sarina","Sarina","9/27/2021 6:38:42 PM","11/4/2021 9:14:55 PM",{"$f":"IF(A195=\"ANL1420\",\"Targetsector\",LEFT(C195,LEN(C195)-LEN('BES EN'!E195)-3))","v":"Consumer usage instructions language code"}]
["ANL1235","Active","Consumer storage instructions (consumerStorageInstructions)","MNL0020","consumerStorageInstructions","3.1.17","/catalogue_item_notification:catalogueItemNotificationMessage/transaction/documentCommand/catalogue_item_notification:catalogueItemNotification/catalogueItem/tradeItem/tradeItemInformation/extension/*[namespace-uri()='urn:gs1:gdsn:consumer_instructions:xsd:3' and local-name()='consumerInstructionsModule']/consumerInstructions/consumerStorageInstructions","Description5000",null,"","","0..n","","FMCG","Datakwalitijd 2.0;Label;Label health&beauty;Petfood;Fruit&Vegetable","315","Health;Petfood;Fruit&Vegetable;Cosmetics;Food","","For health &amp; beauty products, cosmetics and personal care products, enter specific warnings, interactions and contraindications in the &#39;Drug side effects and warnings&#39; field.<br />\n<br />\nFor self-care medicines: Enter risk warnings, contraindications and use restrictions in the &#39;Drug side effects and warnings&#39; field.<br />\n<br />\nFor health &amp; beauty products, cosmetics and personal care products, disposal instructions should also be entered in this field. Start this text with &#39;Disposal:&#39; to distinguish it from the storage texts.<br />\n<br />\nThis field is checked in the context of the Dutch data quality program.\n","Expresses in text the consumer storage instructions of a product which normally appear on the label or accompany the product. This information may or may not be recorded on the pack. Instructions may refer to a suggested storage temperature or a specific storage requirement.\n","Food:<br />\nStore in a cool dry place.<br />\n<br />\nHealth &amp; Beauty and Self-care medicines:<br />\nOnce opened, keep refrigerated and use within 2 days.<br />\nStore adhesive bandages under dry and dark conditions at room temperature (15-25 &deg;C).<br />\n<br />\nAnimal nutrition:<br />\nThis product should be stored in a cool and dry place. Keep closed for maximum chewing pleasure. To prevent suffocation, always keep the packaging out of the reach of babies, little children and pets.<br />\n<br />\nCosmetics and personal care products:<br />\nProtect against sun light<br />\nDo not expose to temperatures above 50 &deg;C\n","Enter the label information relating to the storage of the product. If the instructions include symbols, enter them in text form.<br />\n<br />\nFor food products and animal nutrition, include any voluntary warnings that concern the storage of the products.<br />\n<br />\nFor self-care medicines, cosmetics and personal care products: enter here the period that indicates how long the product can still be used after the packaging has been opened if mentioned on the packaging. In case the &#39;open pot&#39; symbol is on the label or the packaging, enter the period in the &#39;Shelf life for a customer after opening&#39; field.\n","For additional explanation see <a href=\" https://www.gs1.nl/en/industries/food-health-and-beauty/gs1-data-source/entering-data/attribute-explorer-attributes-list\" style=\"color:blue; text-decoration:underline\" target=\"_blank\"> https://www.gs1.nl/en/industries/food-health-and-beauty/gs1-data-source/entering-data/attribute-explorer-attributes-list</a>",null,"False","CM","Mandatory if the product packaging (label) mentions instructions and information to the consumer about proper storage of the product. ","O"," ","O"," ","Sarina","Sarina","9/27/2021 6:38:43 PM","11/4/2021 9:15:07 PM",{"$f":"IF(A196=\"ANL1420\",\"Targetsector\",LEFT(C196,LEN(C196)-LEN('BES EN'!E196)-3))","v":"Consumer storage instructions"}]
["ANL1236","Active","Consumer storage instructions language code (consumerStorageInstructions/@languageCode)","MNL0020","consumerStorageInstructions/@languageCode","3.1.17","/catalogue_item_notification:catalogueItemNotificationMessage/transaction/documentCommand/catalogue_item_notification:catalogueItemNotification/catalogueItem/tradeItem/tradeItemInformation/extension/*[namespace-uri()='urn:gs1:gdsn:consumer_instructions:xsd:3' and local-name()='consumerInstructionsModule']/consumerInstructions/consumerStorageInstructions/@languageCode","CodeList","BENELUX_GDSN_LanguageCode","","","1..1","","FMCG","Label health&beauty;Label;Petfood;Datakwalitijd 2.0;Fruit&Vegetable","316","Cosmetics;Health;Petfood;Fruit&Vegetable;Food","","This field is checked in the context of the Dutch data quality program.","Code specifying a language. Allowed code values are specified in GS1 code list 'LanguageCode'.","nl","Select the correct value from the 'ISO 639-1 (2-alpha)' code list.","For additional explanation see <a href=\" https://www.gs1.nl/en/industries/food-health-and-beauty/gs1-data-source/entering-data/attribute-explorer-attributes-list\" style=\"color:blue; text-decoration:underline\" target=\"_blank\"> https://www.gs1.nl/en/industries/food-health-and-beauty/gs1-data-source/entering-data/attribute-explorer-attributes-list</a> <br />\n<br />\n- To find the applicable language codes, see: <a href=\" http://www.loc.gov/standards/iso639-2/php/code_list.php\" style=\"color:blue; text-decoration:underline\" target=\"_blank\"> http://www.loc.gov/standards/iso639-2/php/code_list.php</a> ",null,"False","CM","Mandatory if 'Consumer storage instructions' is populated.","CM","if 'Consumer storage instructions' is populated.","CM","if 'Consumer storage instructions' is populated.","Sarina","Sarina","9/27/2021 6:38:43 PM","11/4/2021 9:15:19 PM",{"$f":"IF(A197=\"ANL1420\",\"Targetsector\",LEFT(C197,LEN(C197)-LEN('BES EN'!E197)-3))","v":"Consumer storage instructions language code"}]
["ANL1237","Active","Nutritional claim (nutritionalClaim)","MNL0020","nutritionalClaim","3.1.17","/catalogue_item_notification:catalogueItemNotificationMessage/transaction/documentCommand/catalogue_item_notification:catalogueItemNotification/catalogueItem/tradeItem/tradeItemInformation/extension/*[namespace-uri()='urn:gs1:gdsn:nutritional_information:xsd:3' and local-name()='nutritionalInformationModule']/nutritionalClaim","Description5000",null,"","","0..n","","FMCG","Label;Datakwalitijd 2.0;Fruit&Vegetable;Label health&beauty","341","Food;Fruit&Vegetable;Health","","<p>This field is checked in the context of the Dutch data quality program.</p>\n","<p>Free text field for any additional nutritional claims.</p>\n","<p>Rich in proteins.<br />\nSource of vitamin C.</p>\n","<p>If the label contains nutritional claims, list them here. Use one of the authorised claims from <a href=\" https://ec.europa.eu/food/safety/labelling_nutrition/claims/register/public/?event=register.home\" style=\"color:blue; text-decoration:underline\" target=\"_blank\"> https://ec.europa.eu/food/safety/labelling_nutrition/claims/register/public/?event=register.home</a>. Or check the appendix of EU directive nr. 1924/2006 (<a href=\" https://eur-lex.europa.eu/LexUriServ/LexUriServ.do?uri=OJ:L:2006:404:0009:0025:EN:PDF\" style=\"color:blue; text-decoration:underline\" target=\"_blank\"> https://eur-lex.europa.eu/LexUriServ/LexUriServ.do?uri=OJ:L:2006:404:0009:0025:EN:PDF</a>).<br />\nWhen the sentence &#39;Contains naturally occurring sugars&#39; is stated on the label, enter this sentence in this field together with the corresponding claim &#39;with no added sugar&#39; or enter it in the &#39;Compulsory additive label information&#39; field.</p>\n",null,null,"False","CM","Mandatory if the label of a food, special food or food supplement contains nutritional claims","O"," ","O"," ","Sarina","Sarina","9/27/2021 6:38:43 PM","11/4/2021 9:15:31 PM",{"$f":"IF(A198=\"ANL1420\",\"Targetsector\",LEFT(C198,LEN(C198)-LEN('BES EN'!E198)-3))","v":"Nutritional claim"}]
["ANL1238","Active","Nutritional claim language code (nutritionalClaim/@languageCode)","MNL0020","nutritionalClaim/@languageCode","3.1.17","/catalogue_item_notification:catalogueItemNotificationMessage/transaction/documentCommand/catalogue_item_notification:catalogueItemNotification/catalogueItem/tradeItem/tradeItemInformation/extension/*[namespace-uri()='urn:gs1:gdsn:nutritional_information:xsd:3' and local-name()='nutritionalInformationModule']/nutritionalClaim/@languageCode","CodeList","BENELUX_GDSN_LanguageCode","","","1..1","","FMCG","Label health&beauty;Fruit&Vegetable;Label;Datakwalitijd 2.0","342","Food;Fruit&Vegetable;Health","","This field is checked in the context of the Dutch data quality program.","Code specifying a language. Allowed code values are specified in GS1 code list 'LanguageCode'.","nl","Select the correct value from the 'ISO 639-1 (2-alpha)' code list.","For additional explanation see <a href=\" https://www.gs1.nl/en/industries/food-health-and-beauty/gs1-data-source/entering-data/attribute-explorer-attributes-list\" style=\"color:blue; text-decoration:underline\" target=\"_blank\"> https://www.gs1.nl/en/industries/food-health-and-beauty/gs1-data-source/entering-data/attribute-explorer-attributes-list</a> <br />\n<br />\n- To find the applicable language codes, see: <a href=\" http://www.loc.gov/standards/iso639-2/php/code_list.php\" style=\"color:blue; text-decoration:underline\" target=\"_blank\"> http://www.loc.gov/standards/iso639-2/php/code_list.php</a> ",null,"False","CM","Mandatory if 'Nutritional claim' is populated.","CM","if 'Nutritional claim' is populated.","CM","if 'Nutritional claim' is populated.","Sarina","Sarina","9/27/2021 6:38:43 PM","11/4/2021 9:15:43 PM",{"$f":"IF(A199=\"ANL1420\",\"Targetsector\",LEFT(C199,LEN(C199)-LEN('BES EN'!E199)-3))","v":"Nutritional claim language code"}]
["ANL1239","Active","Serving suggestion (servingSuggestion)","MNL0020","servingSuggestion","3.1.17","/catalogue_item_notification:catalogueItemNotificationMessage/transaction/documentCommand/catalogue_item_notification:catalogueItemNotification/catalogueItem/tradeItem/tradeItemInformation/extension/*[namespace-uri()='urn:gs1:gdsn:food_and_beverage_preparation_serving:xsd:3' and local-name()='foodAndBeveragePreparationServingModule']/preparationServing/servingSuggestion","Description1000",null,"","","0..n","","FMCG","Fruit&Vegetable;Label","317","Food;Fruit&Vegetable","",null,"A suggestion about the way the product may be served to enhance the consumer experience.","Serve with fruits and vegetables for a well-balanced meal.<br />\nCan be served to add Asian flavour to sandwiches, wraps, bowls, stir fries and more.<br />\nCan be used as a dipping sauce, marinade, glaze and base sauce.\n","If there are serving suggestions on the label, you can list them here. Serving suggestions are tips on ingredients/products that go well with the dish, but are not necessary. This is sometimes represented by an image, this may be translated to text but that is not mandatory.",null,null,"False","CM","Mandatory, if the label contains a suggestion about the way the product may be served.","O"," ","O"," ","Sarina","Sarina","9/27/2021 6:38:44 PM","11/4/2021 9:15:55 PM",{"$f":"IF(A200=\"ANL1420\",\"Targetsector\",LEFT(C200,LEN(C200)-LEN('BES EN'!E200)-3))","v":"Serving suggestion"}]
["ANL1240","Active","Serving suggestion language code (servingSuggestion/@languageCode)","MNL0020","servingSuggestion/@languageCode","3.1.17","/catalogue_item_notification:catalogueItemNotificationMessage/transaction/documentCommand/catalogue_item_notification:catalogueItemNotification/catalogueItem/tradeItem/tradeItemInformation/extension/*[namespace-uri()='urn:gs1:gdsn:food_and_beverage_preparation_serving:xsd:3' and local-name()='foodAndBeveragePreparationServingModule']/preparationServing/servingSuggestion/@languageCode","CodeList","BENELUX_GDSN_LanguageCode","","","1..1","","FMCG","Label;Fruit&Vegetable","318","Fruit&Vegetable;Food",""," ","Code specifying a language. Allowed code values are specified in GS1 code list 'LanguageCode'.","nl","Select the correct value from the 'ISO 639-1 (2-alpha)' code list.","For additional explanation see <a href=\" https://www.gs1.nl/en/industries/food-health-and-beauty/gs1-data-source/entering-data/attribute-explorer-attributes-list\" style=\"color:blue; text-decoration:underline\" target=\"_blank\"> https://www.gs1.nl/en/industries/food-health-and-beauty/gs1-data-source/entering-data/attribute-explorer-attributes-list</a> <br />\n<br />\n- To find the applicable language codes, see: <a href=\" http://www.loc.gov/standards/iso639-2/php/code_list.php\" style=\"color:blue; text-decoration:underline\" target=\"_blank\"> http://www.loc.gov/standards/iso639-2/php/code_list.php</a> ",null,"False","CM","Mandatory if 'Serving suggestion' is populated.","CM","if 'Serving suggestion' is populated.","CM","if 'Serving suggestion' is populated.","Sarina","Sarina","9/27/2021 6:38:44 PM","11/4/2021 9:16:07 PM",{"$f":"IF(A201=\"ANL1420\",\"Targetsector\",LEFT(C201,LEN(C201)-LEN('BES EN'!E201)-3))","v":"Serving suggestion language code"}]
["ANL1241","Active","Health claim description (healthClaimDescription)","MNL0020","healthClaimDescription","3.1.17","/catalogue_item_notification:catalogueItemNotificationMessage/transaction/documentCommand/catalogue_item_notification:catalogueItemNotification/catalogueItem/tradeItem/tradeItemInformation/extension/*[namespace-uri()='urn:gs1:gdsn:health_related_information:xsd:3' and local-name()='healthRelatedInformationModule']/healthRelatedInformation/healthClaimDescription","Description1000",null,"","","0..n","","FMCG","Label;Fruit&Vegetable;Datakwalitijd 2.0;Label health&beauty","343","Fruit&Vegetable;Cosmetics;Health;Food","","Self-care medicines: The short indication is intended for use in mobile apps, the extended indication is intended for example for the website or other applications.<br />\n<br />\nExamples of alternative wording of permitted health claims for food, special foods and food supplements can be found at: <a href=\"https://www.keuringsraad.nl/gezondheidsproducten/claimsdatabase\" style=\"color:#0563c1; text-decoration:underline\">https://www.keuringsraad.nl/gezondheidsproducten/claimsdatabase</a>.<br />\n<br />\nThis field is checked in the context of the Dutch data quality program.","A description of any health claims according to the regulations of the target market.\n","Food:<br />\nProven to significantly reduce cholesterol<br />\nHelps strengthen your body&#39;s defences<br />\n<br />\nHealth &amp; Beauty:<br />\nVitamin C increases iron absorption<br />\nVitamin C enhances resistance<br />\nEnhances mood<br />\nProvides extra energy when you are tired<br />\nEnhances muscle and nervous system performance<br />\n<br />\nDisclaimer:<br />\nHealth claim awaiting European authorization.<br />\nEvaluation of health claim is ongoing.<br />\n<br />\nSelf-care medicines:<br />\nFor influenza<br />\nIn case of nausea, bloating and acid regurgitation#To be used for: Adults - treatment of the symptoms of nausea and vomiting - bloating and regurgitation of stomach contents. Children older than 12 years and with a body weight of 35 kg or more - treatment of the symptoms of nausea and vomiting.<br />\nAcetylcysteine 600 mg effervescent tablets can be used in diseases of the respiratory tract, such as asthma, bronchitis (inflammation of the mucosa of the trachea), emphysema, cystic fibrosis (cystic fibrosis) and in bronchiectasis (prolonged dilation of a branch of the trachea).","If the label contains health claims, list them here. This field is limited to 1,000 characters. If that is not sufficient, repeat this field.<br />\n<br />\nFor food: when health claims are stated on the label, certain information must be included (see legislation 1924/2006 article 10 a, b, c, d). Enter this information, if it is stated on the label, in this field, or in the&nbsp; &#39;Compulsory additive label information&#39; field.<br />\n<br />\nFor medical devices, food supplements and special food: If there are two claims in slightly different terms, copy the claim from the front of the product. The claim on the back can go to &#39;Trade item marketing message&#39; or &lsquo;Trade item feature benefit&rsquo;. If a claim is only on a part of the package that is not the front, it must also be included in this field.<br />\n<br />\nNote: If a food supplement or food has a disclaimer on the label indicating that the health claim has not yet been approved, then enter the text of the disclaimer here as well.<br />\n<br />\nFor self-care medicines: This field also applies to medical claims or the short indication on the frontside and the extended indication on the backside off self-care medicines. In the latter case, enter the abbreviated indication first, then a # sign, and then the extended indication. If there is only a extended indication, enter a # sign first, followed by the extended indication.<br />\n<br />\nFor cosmetics and personal care products: enter health claims in this field. If there are two claims in slightly different terms, copy the claim from the front of the product. The claim on the back can go to &#39;Trade item marketing message&#39; or &lsquo;Trade item feature benefit&rsquo;. If a claim is only on a part of the package that is not the front, it must also be included in this field.","Local Dutch applicable validation rules are: 500.220\n",null,"False","CM","Mandatory if health claims and/or medical claims are stated on the packaging","O"," ","O"," ","Sarina","Sarina","9/27/2021 6:38:44 PM","11/4/2021 9:16:20 PM",{"$f":"IF(A202=\"ANL1420\",\"Targetsector\",LEFT(C202,LEN(C202)-LEN('BES EN'!E202)-3))","v":"Health claim description"}]
["ANL1242","Active","Health claim description language code (healthClaimDescription/@languageCode)","MNL0020","healthClaimDescription/@languageCode","3.1.17","/catalogue_item_notification:catalogueItemNotificationMessage/transaction/documentCommand/catalogue_item_notification:catalogueItemNotification/catalogueItem/tradeItem/tradeItemInformation/extension/*[namespace-uri()='urn:gs1:gdsn:health_related_information:xsd:3' and local-name()='healthRelatedInformationModule']/healthRelatedInformation/healthClaimDescription/@languageCode","CodeList","BENELUX_GDSN_LanguageCode","","","1..1","","FMCG","Fruit&Vegetable;Label health&beauty;Label;Datakwalitijd 2.0","344","Food;Fruit&Vegetable;Health;Cosmetics","","This field is checked in the context of the Dutch data quality program.","Code specifying a language. Allowed code values are specified in GS1 code list 'LanguageCode'.","nl","Select the correct value from the 'ISO 639-1 (2-alpha)' code list.","For additional explanation see <a href=\" https://www.gs1.nl/en/industries/food-health-and-beauty/gs1-data-source/entering-data/attribute-explorer-attributes-list\" style=\"color:blue; text-decoration:underline\" target=\"_blank\"> https://www.gs1.nl/en/industries/food-health-and-beauty/gs1-data-source/entering-data/attribute-explorer-attributes-list</a> <br />\n<br />\n- To find the applicable language codes, see: <a href=\" http://www.loc.gov/standards/iso639-2/php/code_list.php\" style=\"color:blue; text-decoration:underline\" target=\"_blank\"> http://www.loc.gov/standards/iso639-2/php/code_list.php</a> ",null,"False","CM","Mandatory if 'Health claim description' is populated.","CM","if 'Health claim description' is populated.","CM","if 'Health claim description' is populated.","Sarina","Sarina","9/27/2021 6:38:44 PM","11/4/2021 9:16:33 PM",{"$f":"IF(A203=\"ANL1420\",\"Targetsector\",LEFT(C203,LEN(C203)-LEN('BES EN'!E203)-3))","v":"Health claim description language code"}]
["ANL1243","Active","Trade item marketing message (tradeItemMarketingMessage)","MNL0020","tradeItemMarketingMessage","3.1.17","/catalogue_item_notification:catalogueItemNotificationMessage/transaction/documentCommand/catalogue_item_notification:catalogueItemNotification/catalogueItem/tradeItem/tradeItemInformation/extension/*[namespace-uri()='urn:gs1:gdsn:marketing_information:xsd:3' and local-name()='marketingInformationModule']/marketingInformation/tradeItemMarketingMessage","FormattedDescription4000",null,"","","0..n","","FMCG","Fruit&Vegetable;Petfood;Description;Label;Label health&beauty","041","Health;Food;Petfood;Fruit&Vegetable","","This information is used by retailers to describe the product on their website. This field also provides additional product value for the consumer.<br />\n<br />\nWe and retailers recommend that you fill in this marketing message carefully because the information in this field is immediately visible to the consumer at some retailers. <br />\n<br />\nYou can populate the unique selling points in the ‘Trade item feature benefit’ field.","Marketing message associated with the trade item.\n","Food:<br />\nG&eacute;nial Pepper Sauce &ndash; a delicious and versatile ready-to-use sauce. Excellent on its own or enhanced by your own creative touch. G&eacute;nial Sauces complement meat, poultry, fish and vegetable dishes. Suitable for use on the hob, in the microwave or bain-marie.<br />\n<br />\nWine:<br />\nIWSC golden metal 2020<br />\n<br />\nHealth &amp; Beauty:<br />\nThis product has been developed by dermatologists.<br />\nThis product contains only natural ingredients.<br />\n<br />\nCosmetics and personal care products:<br />\nThe ideal care for the whole family<br />\n<br />\nDetergents:<br />\n<br />\nWashing powder colour is a powerful detergent suitable for all coloured laundry. The colour protector prevents&nbsp;colours&nbsp;from fading.\n","Use this field to communicate the most important marketing message for consumers. The marketing message may consist of text that is or is not present on the label. Use preferably not more than 200 characters, because in that case the text will be better readable on every kind of screen. You can repeat this field, this means that you can add other marketing messages such as information about the awards the wine or beer has won in the repeats of this field.",null,null,"False","O"," ","O"," ","O"," ","Sarina","Sarina","9/27/2021 6:38:44 PM","11/4/2021 9:16:45 PM",{"$f":"IF(A204=\"ANL1420\",\"Targetsector\",LEFT(C204,LEN(C204)-LEN('BES EN'!E204)-3))","v":"Trade item marketing message"}]
["ANL1244","Active","Trade item marketing message language code (tradeItemMarketingMessage/@languageCode)","MNL0020","tradeItemMarketingMessage/@languageCode","3.1.17","/catalogue_item_notification:catalogueItemNotificationMessage/transaction/documentCommand/catalogue_item_notification:catalogueItemNotification/catalogueItem/tradeItem/tradeItemInformation/extension/*[namespace-uri()='urn:gs1:gdsn:marketing_information:xsd:3' and local-name()='marketingInformationModule']/marketingInformation/tradeItemMarketingMessage/@languageCode","CodeList","BENELUX_GDSN_LanguageCode","","","1..1","","FMCG","Label health&beauty;Label;Fruit&Vegetable;Description;Petfood","042","Health;Fruit&Vegetable;Petfood;Food",""," ","Code specifying a language. Allowed code values are specified in GS1 code list 'LanguageCode'.","nl","Select the correct value from the 'ISO 639-1 (2-alpha)' code list.","For additional explanation see <a href=\" https://www.gs1.nl/en/industries/food-health-and-beauty/gs1-data-source/entering-data/attribute-explorer-attributes-list\" style=\"color:blue; text-decoration:underline\" target=\"_blank\"> https://www.gs1.nl/en/industries/food-health-and-beauty/gs1-data-source/entering-data/attribute-explorer-attributes-list</a> <br />\n<br />\n- To find the applicable language codes, see: <a href=\" http://www.loc.gov/standards/iso639-2/php/code_list.php\" style=\"color:blue; text-decoration:underline\" target=\"_blank\"> http://www.loc.gov/standards/iso639-2/php/code_list.php</a> ",null,"False","CM","Mandatory if 'Trade item marketing message' is populated.","CM","if 'Trade item marketing message' is populated.","CM","if 'Trade item marketing message' is populated.","Sarina","Sarina","9/27/2021 6:38:45 PM","11/4/2021 9:16:58 PM",{"$f":"IF(A205=\"ANL1420\",\"Targetsector\",LEFT(C205,LEN(C205)-LEN('BES EN'!E205)-3))","v":"Trade item marketing message language code"}]
["ANL1246","Active","Diet type code (dietTypeCode)","MNL0020","dietTypeCode","3.1.17","/catalogue_item_notification:catalogueItemNotificationMessage/transaction/documentCommand/catalogue_item_notification:catalogueItemNotification/catalogueItem/tradeItem/tradeItemInformation/extension/*[namespace-uri()='urn:gs1:gdsn:diet_information:xsd:3' and local-name()='dietInformationModule']/dietInformation/dietTypeInformation/dietTypeCode","CodeList","BENELUX_GDSN_DietTypeCode","","","1..1","","FMCG","Label health&beauty;Label;Certificates and packaging marks;Datakwalitijd 2.0","326","Cosmetics;Fruit&Vegetable;Health;Food","","This field is checked in the context of the Dutch data quality program.","The code indicating the diet the product is suitable for.","HALAL\n","Indicate in this field for which diet the product is suitable, this can be marked in text or graphics on the label. Use the dietTypeCode code list for this.",null,null,"False","CM","Mandatory if the product is suitable for a specific diet.","O"," ","O"," ","Sarina","Sarina","9/27/2021 6:38:45 PM","11/4/2021 9:17:10 PM",{"$f":"IF(A206=\"ANL1420\",\"Targetsector\",LEFT(C206,LEN(C206)-LEN('BES EN'!E206)-3))","v":"Diet type code"}]
["ANL1248","Active","Packaging marked label accreditation code (packagingMarkedLabelAccreditationCode)","MNL0020","packagingMarkedLabelAccreditationCode","3.1.17","/catalogue_item_notification:catalogueItemNotificationMessage/transaction/documentCommand/catalogue_item_notification:catalogueItemNotification/catalogueItem/tradeItem/tradeItemInformation/extension/*[namespace-uri()='urn:gs1:gdsn:packaging_marking:xsd:3' and local-name()='packagingMarkingModule']/packagingMarking/packagingMarkedLabelAccreditationCode","CodeList","BENELUX_GDSN_PackagingMarkedLabelAccreditationCode","","","0..n","","FMCG","Fruit&Vegetable;Datakwalitijd 2.0;Label;Certificates and packaging marks;Label health&beauty","328","Fruit&Vegetable;Petfood;Food;Health","","It is possible to fill in this field more than once, but a value may only be used once.<br />\n<br />\nThis field is checked in the context of the Dutch data quality program.\n","A marking stating that the trade item has received recognition, endorsement or certification as a result of following guidelines from the label issuing agency. This does not represent claims for regulatory purposes on products such as free from markings.\n","UTZ_CERTIFIED<br />\nAQUACULTURE_STEWARDSHIP_COUNCIL<br />\nFAIR_TRADE_MARK\n","If there is a mark on the packaging that is part of the &#39;Packaging Label Guide&#39; code list, you must enter it here. For this list go to the international trade marks code list (Packaging Label Guide) on our website (<a href=\" https://www.gs1.nl/sectoren/levensmiddelen-en-drogisterij/gs1-data-source/gegevens-invoeren/codelijsten\" style=\"color:blue; text-decoration:underline\" target=\"_blank\">  https://www.gs1.nl/sectoren/levensmiddelen-en-drogisterij/gs1-data-source/gegevens-invoeren/codelijsten</a>).\n","For additional explanation see <a href=\" https://www.gs1.nl/en/industries/food-health-and-beauty/gs1-data-source/entering-data/attribute-explorer-attributes-list\" style=\"color:blue; text-decoration:underline\" target=\"_blank\"> https://www.gs1.nl/en/industries/food-health-and-beauty/gs1-data-source/entering-data/attribute-explorer-attributes-list</a><br />\n<br />\nLocal Dutch applicable validation rules are: 500.184\n",null,"False","CM","Mandatory if there is a mark on the packaging that is part of the Packaging Label Guide code list, optional for detergents and biocides.","O"," ","O"," ","Sarina","Sarina","9/27/2021 6:38:45 PM","11/4/2021 9:17:23 PM",{"$f":"IF(A207=\"ANL1420\",\"Targetsector\",LEFT(C207,LEN(C207)-LEN('BES EN'!E207)-3))","v":"Packaging marked label accreditation code"}]
["ANL1249","Active","Local packaging marked label accreditation code reference (localPackagingMarkedLabelAccreditationCodeReference)","MNL0020","localPackagingMarkedLabelAccreditationCodeReference","3.1.17","/catalogue_item_notification:catalogueItemNotificationMessage/transaction/documentCommand/catalogue_item_notification:catalogueItemNotification/catalogueItem/tradeItem/tradeItemInformation/extension/*[namespace-uri()='urn:gs1:gdsn:packaging_marking:xsd:3' and local-name()='packagingMarkingModule']/packagingMarking/localPackagingMarkedLabelAccreditationCodeReference","string","BENELUX_GDSN_AdditionalPackagingMarkingsCode","1","200","0..n","","FMCG","Label health&beauty;Batteries;Datakwalitijd 2.0;Fruit&Vegetable;Label;Certificates and packaging marks","329","Cosmetics;Fruit&Vegetable;Food;Health","","It is possible to fill in this field more than once, but a value may only be used once.<br />\n<br />\nThis field is checked in the context of the Dutch data quality program.\n","Used for packaging markings that are locally managed and are not regulatory in nature. Use local code lists to populate this attribute.\n","SEPARATE_COLLECTION\n","Use this field to enter the code(s) of additional logos present on the packaging of the product. Use the code ‘SEPARATE_COLLECTION’ if a garbage can on the label indicates that the product must be collected separately for disposal.","For additional explanation see <a href=\" https://www.gs1.nl/en/industries/food-health-and-beauty/gs1-data-source/entering-data/attribute-explorer-attributes-list\" style=\"color:blue; text-decoration:underline\" target=\"_blank\"> https://www.gs1.nl/en/industries/food-health-and-beauty/gs1-data-source/entering-data/attribute-explorer-attributes-list</a><br />\n<br />\nLocal Dutch applicable validation rules are: 500.250\n",null,"False","CM","Mandatory for food, food supplements, special foods, cosmetics and personal care products, health products and batteries, if mentioned on the label.","O"," ","O"," ","Sarina","Sarina","9/27/2021 6:38:45 PM","11/4/2021 9:17:35 PM",{"$f":"IF(A208=\"ANL1420\",\"Targetsector\",LEFT(C208,LEN(C208)-LEN('BES EN'!E208)-3))","v":"Local packaging marked label accreditation code reference"}]
["ANL1253","Active","Referenced file type code (referencedFileTypeCode)","MNL0020","referencedFileTypeCode","3.1.17","/catalogue_item_notification:catalogueItemNotificationMessage/transaction/documentCommand/catalogue_item_notification:catalogueItemNotification/catalogueItem/tradeItem/tradeItemInformation/extension/*[namespace-uri()='urn:gs1:gdsn:referenced_file_detail_information:xsd:3' and local-name()='referencedFileDetailInformationModule']/referencedFileHeader/referencedFileTypeCode","CodeList","BENELUX_GDSN_ReferencedFileTypeCode","","","1..1","","FMCG","Datakwalitijd 2.0;Product images;Label health&beauty","271","Food;Health;Petfood;Fruit&Vegetable","","Product images: use this field in combination with the fields &#39;Uniform resource identifier&#39;, and &#39;File name&#39;. This should be done before the date given in start availability date time.<br />\n<br />\nInstructions for use: use this field in combination with the field &#39;Uniform resource identifier&#39;.<br />\n<br />\nThis field is checked in the context of the Dutch data quality program.\n","The type of file that is being referenced, for example safety data sheet or product image.\n","PRODUCT_IMAGE (link to a file containing a visual representation of the product)<br />\nMOBILE_READY_HERO_IMAGE<br />\nIFU (Instructions For Use)<br />\nWEBSITE<br />\nDISPOSAL_INSTRUCTION<br />\nDECLARATION_OF_CONFORMITY","Look for the required value in the &#39;referencedFileTypeCode&#39; code list which is linked to this field.\n\n&nbsp;\n\nProduct images: Use the &#39;PRODUCT_IMAGE&#39; code. Note: you need to add at least one product image for every new or changed consumer unit. For tobacco products only one product image is permitted. If you also want to add a so-called hero image in addition to the product image, you must use the code &#39;MOBILE_READY_HERO_IMAGE&#39;.\n\n&nbsp;\n\nSelf-care medicines: Use IFU for the package leaflet / instructions for use.\n\n&nbsp;\n\nFor lamps, use the code &#39;DISPOSAL_INSTRUCTION&#39; in case there is a reference to a website or video on e.g. how to clean up a broken mercury lamp.\n\n&nbsp;\n\nFor medical devices you can add the declaration of conformity as requested by the EU Medical Device Regulation by using the code &#39;DECLARATION_OF_CONFORMITY&#39;.\n","For additional explanation see <a href=\" https://www.gs1.nl/en/industries/food-health-and-beauty/gs1-data-source/entering-data/attribute-explorer-attributes-list\" style=\"color:blue; text-decoration:underline\" target=\"_blank\"> https://www.gs1.nl/en/industries/food-health-and-beauty/gs1-data-source/entering-data/attribute-explorer-attributes-list</a><br />\n<br />\n- Belgilux image specifications: <a href=\" https://gs1belu.org/nl/documentatie/handleiding-productafbeeldingspecificaties\" style=\"color:blue; text-decoration:underline\" target=\"_blank\"> https://gs1belu.org/nl/documentatie/handleiding-productafbeeldingspecificaties</a><br />\n<br />\n- NL Productafbeelding Specificaties: <a href=\" https://www.gs1.nl/sites/default/files/so_productafbeeldingen_specificatiesengebruiksregels.pdf\" style=\"color:blue; text-decoration:underline\" target=\"_blank\"> https://www.gs1.nl/sites/default/files/so_productafbeeldingen_specificatiesengebruiksregels.pdf</a><br />\n<br />\nLocal Dutch applicable validation rules are: 500.204, 500.267, 500.275\n",null,"False","CM","Mandatory for product images and for self-care medicines. Mandatory for medical devices if stated on the label.","O"," ","O"," ","Sarina","Frederieke","9/27/2021 6:38:45 PM","11/8/2021 5:38:39 PM",{"$f":"IF(A209=\"ANL1420\",\"Targetsector\",LEFT(C209,LEN(C209)-LEN('BES EN'!E209)-3))","v":"Referenced file type code"}]
["ANL1254","Active","Uniform resource identifier (uniformResourceIdentifier)","MNL0020","uniformResourceIdentifier","3.1.17","/catalogue_item_notification:catalogueItemNotificationMessage/transaction/documentCommand/catalogue_item_notification:catalogueItemNotification/catalogueItem/tradeItem/tradeItemInformation/extension/*[namespace-uri()='urn:gs1:gdsn:referenced_file_detail_information:xsd:3' and local-name()='referencedFileDetailInformationModule']/referencedFileHeader/uniformResourceIdentifier","string",null,"1","2500","0..1","","FMCG","Label health&beauty;Product images;Datakwalitijd 2.0","272","Food;Health;Fruit&Vegetable;Petfood","","Product images: use this field in combination with the fields &#39;Referenced file type code&#39;, &#39; and &#39;File name&#39;. This should be done before the date given in start availability date time.<br />\n<br />\nInstructions for use: use this field in combination with the field &#39;Referenced file type code&#39;. Refer to the package leaflet approved by the CBG (College ter beoordeling van geneesmiddelen).<br />\n<br />\nYou can use these fields multiple times.<br />\n<br />\nThis field is checked in the context of the Dutch data quality program.\n","Simple text string that refers to a resource on the internet. URLs may refer to documents, resources, people, etc..\n","http://www.leverancierX.nl/08015565080208_A1L1.TIF<br />\nhttp://db.cbg-meb.nl/Bijsluiters/h109926.pdf<br />\nwww.philips.com\n","Use the URL that directs to the location where the image, video, sound fragment or document is stored, together with the filename and extension. For documents only PDF-format is accepted.<br />\n<br />\nFor light bulbs containing mercury: Refer to the website that must be consulted if the lamp breaks accidentally, for instructions on how to clean up the fragments of the lamp.\n","For additional explanation see <a href=\" https://www.gs1.nl/en/industries/food-health-and-beauty/gs1-data-source/entering-data/attribute-explorer-attributes-list\" style=\"color:blue; text-decoration:underline\" target=\"_blank\"> https://www.gs1.nl/en/industries/food-health-and-beauty/gs1-data-source/entering-data/attribute-explorer-attributes-list</a> <br />\n<br />\n- Belgilux image specifications: <a href=\" https://gs1belu.org/nl/documentatie/handleiding-productafbeeldingspecificaties\" style=\"color:blue; text-decoration:underline\" target=\"_blank\"> https://gs1belu.org/nl/documentatie/handleiding-productafbeeldingspecificaties</a> <br />\n<br />\n- NL Productafbeelding Specificaties: <a href=\" https://www.gs1.nl/sites/default/files/so_productafbeeldingen_specificatiesengebruiksregels.pdf\" style=\"color:blue; text-decoration:underline\" target=\"_blank\"> https://www.gs1.nl/sites/default/files/so_productafbeeldingen_specificatiesengebruiksregels.pdf</a> <br />\n<br />\nLocal Dutch applicable validation rules are: 500.267, 500.275\n",null,"False","CM","Mandatory for product images and for self-care medicines. Mandatory for medical devices if stated on the label.","O"," ","O"," ","Sarina","Frederieke","9/27/2021 6:38:46 PM","11/8/2021 5:38:40 PM",{"$f":"IF(A210=\"ANL1420\",\"Targetsector\",LEFT(C210,LEN(C210)-LEN('BES EN'!E210)-3))","v":"Uniform resource identifier"}]
["ANL1256","Active","File name (fileName)","MNL0020","fileName","3.1.17","/catalogue_item_notification:catalogueItemNotificationMessage/transaction/documentCommand/catalogue_item_notification:catalogueItemNotification/catalogueItem/tradeItem/tradeItemInformation/extension/*[namespace-uri()='urn:gs1:gdsn:referenced_file_detail_information:xsd:3' and local-name()='referencedFileDetailInformationModule']/referencedFileHeader/fileName","string",null,"1","70","0..1","","FMCG","Product images","274","Petfood;Fruit&Vegetable;Health;Food","","Product images: use this field in combination with the fields &#39;Referenced file type code&#39; and &#39;Uniform resource identifier&#39;. This should be done before the date given in start availability date time.<br />\n<br />\nFor IFU (instructions for use): leave this field blank.<br />\n<br />\nYou can use the combination of these fields more than once.\n","The name of the file that contains the external information.\n","08015565080208_A1L1.pdf\n","Enter the name of the product image here. This includes the extension that is generated by the software. Images should be named according to the Belgilux image specifications (GTIN based naming structure) if the data is published to the Belgian or Luxembourgian target market, and the Dutch image specifications if the data is published to the Dutch target market.\n","For additional explanation see <a href=\" https://www.gs1.nl/en/industries/food-health-and-beauty/gs1-data-source/entering-data/attribute-explorer-attributes-list\" style=\"color:blue; text-decoration:underline\" target=\"_blank\"> https://www.gs1.nl/en/industries/food-health-and-beauty/gs1-data-source/entering-data/attribute-explorer-attributes-list</a> \n\n- Belgilux image specifications: <a href=\" https://gs1belu.org/nl/documentatie/handleiding-productafbeeldingspecificaties\" style=\"color:blue; text-decoration:underline\" target=\"_blank\"> https://gs1belu.org/nl/documentatie/handleiding-productafbeeldingspecificaties</a> \n\n- NL Productafbeelding Specificaties: <a href=\" https://www.gs1.nl/sites/default/files/so_productafbeeldingen_specificatiesengebruiksregels.pdf\" style=\"color:blue; text-decoration:underline\" target=\"_blank\"> https://www.gs1.nl/sites/default/files/so_productafbeeldingen_specificatiesengebruiksregels.pdf</a> \n\nLocal Dutch applicable validation rules are: NL-V267\n",null,"False","CM","Mandatory for product images.","O"," ","O"," ","Sarina","Frederieke","9/27/2021 6:38:46 PM","11/8/2021 5:38:41 PM",{"$f":"IF(A211=\"ANL1420\",\"Targetsector\",LEFT(C211,LEN(C211)-LEN('BES EN'!E211)-3))","v":"File name"}]
["ANL1257","Active","File effective start date (fileEffectiveStartDateTime)","MNL0020","fileEffectiveStartDateTime","3.1.17","/catalogue_item_notification:catalogueItemNotificationMessage/transaction/documentCommand/catalogue_item_notification:catalogueItemNotification/catalogueItem/tradeItem/tradeItemInformation/extension/*[namespace-uri()='urn:gs1:gdsn:referenced_file_detail_information:xsd:3' and local-name()='referencedFileDetailInformationModule']/referencedFileHeader/fileEffectiveStartDateTime","DateTime",null,"","","0..1","","FMCG","Product images","275","Food;Health;Petfood;Fruit&Vegetable","",null,"The date on which the target of this external link begins to be effective for use.","2016-05-31T08:00:00 (yyyy-mm-ddThh:mi:ss)","Enter a correct date and time. ","For additional explanation see <a href=\" https://www.gs1.nl/en/industries/food-health-and-beauty/gs1-data-source/entering-data/attribute-explorer-attributes-list\" style=\"color:blue; text-decoration:underline\" target=\"_blank\"> https://www.gs1.nl/en/industries/food-health-and-beauty/gs1-data-source/entering-data/attribute-explorer-attributes-list</a>",null,"False","O",null,"O",null,"O",null,"Sarina","Sarina","9/27/2021 6:38:46 PM","11/4/2021 9:18:27 PM",{"$f":"IF(A212=\"ANL1420\",\"Targetsector\",LEFT(C212,LEN(C212)-LEN('BES EN'!E212)-3))","v":"File effective start date"}]
["ANL1258","Active","Dosage recommendation (dosageRecommendation)","MNL0020","dosageRecommendation","3.1.17","/catalogue_item_notification:catalogueItemNotificationMessage/transaction/documentCommand/catalogue_item_notification:catalogueItemNotification/catalogueItem/tradeItem/tradeItemInformation/extension/*[namespace-uri()='urn:gs1:gdsn:pharmaceutical_item_information:xsd:3' and local-name()='pharmaceuticalItemInformationModule']/pharmaceuticalItemInformation/dosage/dosageRecommendation","Description2500",null,"","","0..n","","FMCG","Datakwalitijd 2.0;Label health&beauty","391","Health","","This field is not the same as the &#39;Non food ingredient statement&#39; field.<br />\n<br />\nThis field is checked in the context of the Dutch data quality program.\n","Information pertaining to the dosage of drug or supplement that should be taken/administered per dose. This is based not on prescribed dosage but on recommended dosage. This may be pre-labelled on the product or may have to be labelled in accordance with target market regulations. Examples: Take 2 tablets every 4 hours, Take 1 teaspoon daily, etc.\n","Take 1 capsule with water 3 times a day before meals. Over time can be switched to a maintenance dose of two capsules per day.<br />\nDo not take more than 6 tablets per day.<br />\nTake up to 3 tablets in 24 hours.<br />\nDo not exceed the recommended dose.\n","Fill in the recommended dosage including the maximum dosage and the dosage limit as printed on the packaging or on the label, and/or the method of use.\n","Local Dutch applicable validation rules are: 500.199\n",null,"False","CM","Mandatory for special foods, medical devices, food supplements, self-care medicines, healthcare products and cosmetics and personal care products if on the packaging.  Optional for the Belgian target market.","O"," ","O"," ","Sarina","Sarina","9/27/2021 6:38:46 PM","11/4/2021 9:18:41 PM",{"$f":"IF(A213=\"ANL1420\",\"Targetsector\",LEFT(C213,LEN(C213)-LEN('BES EN'!E213)-3))","v":"Dosage recommendation"}]
["ANL1259","Active","Dosage recommendation language code (dosageRecommendation/@languageCode)","MNL0020","dosageRecommendation/@languageCode","3.1.17","/catalogue_item_notification:catalogueItemNotificationMessage/transaction/documentCommand/catalogue_item_notification:catalogueItemNotification/catalogueItem/tradeItem/tradeItemInformation/extension/*[namespace-uri()='urn:gs1:gdsn:pharmaceutical_item_information:xsd:3' and local-name()='pharmaceuticalItemInformationModule']/pharmaceuticalItemInformation/dosage/dosageRecommendation/@languageCode","CodeList","BENELUX_GDSN_LanguageCode","","","1..1","","FMCG","Label health&beauty;Datakwalitijd 2.0","408","Health",""," ","Code specifying a language. Allowed code values are specified in GS1 code list 'LanguageCode'.","nl","Select the correct value from the 'ISO 639-1 (2-alpha)' code list.","For additional explanation see <a href=\" https://www.gs1.nl/en/industries/food-health-and-beauty/gs1-data-source/entering-data/attribute-explorer-attributes-list\" style=\"color:blue; text-decoration:underline\" target=\"_blank\"> https://www.gs1.nl/en/industries/food-health-and-beauty/gs1-data-source/entering-data/attribute-explorer-attributes-list</a> <br />\n<br />\n- To find the applicable language codes, see: <a href=\" http://www.loc.gov/standards/iso639-2/php/code_list.php\" style=\"color:blue; text-decoration:underline\" target=\"_blank\"> http://www.loc.gov/standards/iso639-2/php/code_list.php</a> ",null,"False","CM","Mandatory if 'Dosage recommendation' is populated.","CM","if 'Dosage recommendation' is populated.","CM","if 'Dosage recommendation' is populated.","Sarina","Sarina","9/27/2021 6:38:47 PM","11/4/2021 9:18:53 PM",{"$f":"IF(A214=\"ANL1420\",\"Targetsector\",LEFT(C214,LEN(C214)-LEN('BES EN'!E214)-3))","v":"Dosage recommendation language code"}]
["ANL1260","Active","Drug side effects and warnings (drugSideEffectsAndWarnings)","MNL0020","drugSideEffectsAndWarnings","3.1.17","/catalogue_item_notification:catalogueItemNotificationMessage/transaction/documentCommand/catalogue_item_notification:catalogueItemNotification/catalogueItem/tradeItem/tradeItemInformation/extension/*[namespace-uri()='urn:gs1:gdsn:pharmaceutical_item_information:xsd:3' and local-name()='pharmaceuticalItemInformationModule']/pharmaceuticalItemInformation/drugSideEffectsAndWarnings","Description2500",null,"","","0..n","","FMCG","Datakwalitijd 2.0;Label health&beauty","392","Health;Cosmetics","","Usage and storage instructions should be entered in the &#39;Consumer usage instructions&#39; and &#39;Consumer storage instructions&#39; fields. Enter the &#39;Compulsory additives label information&#39; in that field (please refer to the link below in Process Description to the explanatory document for a list with these statements).<br />\n<br />\nFor self-care medicines you enter information about when the product possibly can be used in the field &#39;Healthcare item usage age description&#39;. For example: &#39;Do not use under 5 years of age unless a doctor has advised to do so&#39;.<br />\n<br />\nThis field is checked in the context of the Dutch data quality program.\n","Information on the side effects of the drug or supplement. This may be pre-labelled on the product or may have to be labelled in accordance with target market regulations. Examples include: &#39;Could make you drowsy&#39;, &#39;Do not operate machinery&#39;, &#39;Do not take if you are pregnant&#39;, etc.\n","May cause dizziness.<br />\nDo not use in combination with alcohol.<br />\nDo not use in case of severe liver or kidney disease.<br />\nPRECAUTIONS: Do not spray at a distance of less than 15 cm from the body. Avoid intentionally inhaling. Do not spray in the direction of the eyes. Do not spray on damaged skin. Do not use leftovers again\n","Fill in the information on the side effects, specific warnings, usage restrictions and contraindications as stated on the packaging or on the label.\n",null,null,"False","CM","Mandatory for special foods, medical devices, food supplements, self-care medicines, healthcare products, cosmetics and personal care products if on the packaging.  Optional for the Belgian target market.","O"," ","O"," ","Sarina","Sarina","9/27/2021 6:38:47 PM","11/4/2021 9:19:06 PM",{"$f":"IF(A215=\"ANL1420\",\"Targetsector\",LEFT(C215,LEN(C215)-LEN('BES EN'!E215)-3))","v":"Drug side effects and warnings"}]
["ANL1261","Active","Drug side effects and warnings language code (drugSideEffectsAndWarnings/@languageCode)","MNL0020","drugSideEffectsAndWarnings/@languageCode","3.1.17","/catalogue_item_notification:catalogueItemNotificationMessage/transaction/documentCommand/catalogue_item_notification:catalogueItemNotification/catalogueItem/tradeItem/tradeItemInformation/extension/*[namespace-uri()='urn:gs1:gdsn:pharmaceutical_item_information:xsd:3' and local-name()='pharmaceuticalItemInformationModule']/pharmaceuticalItemInformation/drugSideEffectsAndWarnings/@languageCode","CodeList","BENELUX_GDSN_LanguageCode","","","1..1","","FMCG","Datakwalitijd 2.0;Label health&beauty","409","Health;Cosmetics",""," ","Code specifying a language. Allowed code values are specified in GS1 code list 'LanguageCode'.","nl","Select the correct value from the 'ISO 639-1 (2-alpha)' code list.","For additional explanation see <a href=\" https://www.gs1.nl/en/industries/food-health-and-beauty/gs1-data-source/entering-data/attribute-explorer-attributes-list\" style=\"color:blue; text-decoration:underline\" target=\"_blank\"> https://www.gs1.nl/en/industries/food-health-and-beauty/gs1-data-source/entering-data/attribute-explorer-attributes-list</a> <br />\n<br />\n- To find the applicable language codes, see: <a href=\" http://www.loc.gov/standards/iso639-2/php/code_list.php\" style=\"color:blue; text-decoration:underline\" target=\"_blank\"> http://www.loc.gov/standards/iso639-2/php/code_list.php</a> ",null,"False","CM","Mandatory if 'Drug side effects and warnings' is populated.","CM","if 'Drug side effects and warnings' is populated.","CM","if 'Drug side effects and warnings' is populated.","Sarina","Sarina","9/27/2021 6:38:47 PM","11/4/2021 9:19:19 PM",{"$f":"IF(A216=\"ANL1420\",\"Targetsector\",LEFT(C216,LEN(C216)-LEN('BES EN'!E216)-3))","v":"Drug side effects and warnings language code"}]
["ANL1262","Active","Non food ingredient statement (nonfoodIngredientStatement)","MNL0020","nonfoodIngredientStatement","3.1.17","/catalogue_item_notification:catalogueItemNotificationMessage/transaction/documentCommand/catalogue_item_notification:catalogueItemNotification/catalogueItem/tradeItem/tradeItemInformation/extension/*[namespace-uri()='urn:gs1:gdsn:nonfood_ingredient:xsd:3' and local-name()='nonfoodIngredientModule']/nonfoodIngredientStatement","FormattedDescription5000",null,"","","0..n","","FMCG","Datakwalitijd 2.0;Label health&beauty","393","Health;Cosmetics","","This field is checked in the context of the Dutch data quality program.\n","The composition of the product, broken down into the name of the ingredient, quantity, unit of measurement of the quantity and percentage of the ingredient.","Health & Beauty:<br />\nComposition:# Per daily dose:# Vitamin B6;1.4;mg;100%# Vitamin B2 (Riboflavin);3.4 - 5.1;mg;242% - 364%# Echinacea purpurea;150;mg# Omeprazol;20;mg# Percentage of the recommended daily intake<br />\nComposition: A daily dose of 12-20 sprays contains the active ingredients from a 3534-5891 mg extract of the plants listed in the ingredients list (Echinacea purpurea herba and radix and Salvia officinalis).<br />\nComposition: Arnica Muscle Balsam contains alcoholic extracts of arnica, birch leaf and essential oil of rosemary in a base of sesame oil, beeswax, wool fat alcohol, wool fat and water.<br />\nComposition: COMPOSITION BY 2 TABLETS: 100 mg of Ruscus aculeatus extract (Mothorn) extract with 10% Ruscogenin and 45 mcg of vitamin K2 as patented UniK2 vitamin K2 MK7 0.2% (60% RDA), vitamin C 12 mg (15% RDA). Contains no gluten, lactose or flavoring.<br />\nBiocides: <br />\nActieve stof gehalte: Diethyl-m-toluamide (DEET) 40% g/g.<br />\nDetergents:<br />\nIngrediënten:30% Aniogene oppervlakteactieve stoffen, 5-15% Niet-ionogene oppervlakteactieve stoffen, Zeep,<5% Fosfanaten, Enzymen, Optische bleekmiddelen, Parfums, Alpha-isomethyl ionene, Benzyl salicylate, Citronellolm, Coumarin, Eugenol, Geraniol, Hexyl cinnamal, Limonene, Linalool.","This field has to be used for all non-food products: self-care medicines, medical devices, food supplements, healthcare products, cosmetics and personal care products, detergents and biocides. <br />\n<br />\nThis field is specific for food supplements and self-care medicines, whose active ingredient composition is shown on the label in terms of daily dosage (self-care medicines by dosage unit, e.g. tablet). This supplements the ingredient statement for food supplements. Some self-care medicines, health products and medical devices come with a description of the active ingredients on the label. This description should also be included here. Furthermore, enter the list with excipients here for self-care medicines and medical devices.<br />\n<br />\nYou populate for self-care medicines, medical devices, healthcare products and food supplements the field 'Non food ingredient statement' as follows:<br />\nYou start the field with the word 'Composition:' .<br />\nIf the composition statement is in text on the label, keep the same spelling and order as on the label when entering the composition statement.<br />\nDivide the fields of the composition statement when they appear on the label in tabular form with semicolons in:<br />\nIngredient name,<br />\nQuantity,<br />\nUnit of measurement for quantity,<br />\nPercentage (in the case of vitamins and minerals).<br />\nMark the end of the line with the '#' symbol.<br />\n<br />\nFor cosmetics and personal care products: enter the list of ingredients in this field. Start the list with the word 'Ingredients'. If there are more ingredient lists on the label, populate at least the so called INCI list. This is a list with all the ingredients mentioned in English or Latin.<br />\n<br />\nFor biocides: enter the list of active substances including their concentration with measurement unit. Start with the text that is in front of the active substances on the packaging, like 'Active substances:'.<br />\n<br />\nFor detergents: Fill in the components/ingredients that are declared on the packaging including the preceding text (for example, 'This product contains the following ingredients:'). Allergic fragrances must be indicated, as indicated on the packaging.","Local Dutch applicable validation rules are: 500.205, 500.381\n",null,"False","CM","Mandatory for self-care medicines, medical devices, food supplements, healthcare products, cosmetics and personal care products, detergents and biocides if stated on the packaging.","O"," ","O"," ","Sarina","Sarina","9/27/2021 6:38:47 PM","11/4/2021 9:19:32 PM",{"$f":"IF(A217=\"ANL1420\",\"Targetsector\",LEFT(C217,LEN(C217)-LEN('BES EN'!E217)-3))","v":"Non food ingredient statement"}]
["ANL1263","Active","Non food ingredient statement language code (nonfoodIngredientStatement/@languageCode)","MNL0020","nonfoodIngredientStatement/@languageCode","3.1.17","/catalogue_item_notification:catalogueItemNotificationMessage/transaction/documentCommand/catalogue_item_notification:catalogueItemNotification/catalogueItem/tradeItem/tradeItemInformation/extension/*[namespace-uri()='urn:gs1:gdsn:nonfood_ingredient:xsd:3' and local-name()='nonfoodIngredientModule']/nonfoodIngredientStatement/@languageCode","CodeList","BENELUX_GDSN_LanguageCode","","","1..1","","FMCG","Label health&beauty;Datakwalitijd 2.0","410","Cosmetics;Health",""," ","Code specifying a language. Allowed code values are specified in GS1 code list 'LanguageCode'.","nl","Select the correct value from the 'ISO 639-1 (2-alpha)' code list.","For additional explanation see <a href=\" https://www.gs1.nl/en/industries/food-health-and-beauty/gs1-data-source/entering-data/attribute-explorer-attributes-list\" style=\"color:blue; text-decoration:underline\" target=\"_blank\"> https://www.gs1.nl/en/industries/food-health-and-beauty/gs1-data-source/entering-data/attribute-explorer-attributes-list</a> <br />\n<br />\n- To find the applicable language codes, see: <a href=\" http://www.loc.gov/standards/iso639-2/php/code_list.php\" style=\"color:blue; text-decoration:underline\" target=\"_blank\"> http://www.loc.gov/standards/iso639-2/php/code_list.php</a> <br />\n<br />\nLocal Dutch applicable validation rules are: 500.381 ",null,"False","CM","Mandatory if 'Non food ingredient statement' is populated.","CM","if 'Non Food Ingredient Statement' is populated.","CM","if 'Non Food Ingredient Statement' is populated.","Sarina","Sarina","9/27/2021 6:38:47 PM","11/4/2021 9:19:46 PM",{"$f":"IF(A218=\"ANL1420\",\"Targetsector\",LEFT(C218,LEN(C218)-LEN('BES EN'!E218)-3))","v":"Non food ingredient statement language code"}]
["ANL1264","Active","Consumer sales condition code (consumerSalesConditionCode)","MNL0020","consumerSalesConditionCode","3.1.17","/catalogue_item_notification:catalogueItemNotificationMessage/transaction/documentCommand/catalogue_item_notification:catalogueItemNotification/catalogueItem/tradeItem/tradeItemInformation/extension/*[namespace-uri()='urn:gs1:gdsn:sales_information:xsd:3' and local-name()='salesInformationModule']/salesInformation/consumerSalesConditionCode","CodeList","BENELUX_GDSN_ConsumerSalesConditionTypeCode","","","0..n","","FMCG","Datakwalitijd 2.0;Label health&beauty","394","Health","","For self-care medicines only &#39;UAd&#39; and &#39;AV&#39; are allowed.<br />\n<br />\nThis field is checked in the context of the Dutch data quality program.\n","A code depicting restrictions imposed on the Trade Item regarding how it can be sold to the consumer, for example age restrictions, selling restrictions.\n","3 (UAD)\n","Only for self-care medicins. Enter the code for the Consumer Sales Condition. The possible codes are:<br />\n1 = UR (product available only on prescription)<br />\n2 = UA (product available only from a pharmacy)<br />\n3 = UAD (product available only from a pharmacy or drugstore)<br />\nUNRESTRICTED = AV (product on general sale)\n","Local Dutch applicable validation rules are: 500.200, 500.201\n",null,"False","CM","Mandatory if stated on the label. Optional for the Belgian target market.","O"," ","O"," ","Sarina","Sarina","9/27/2021 6:38:48 PM","11/4/2021 9:20:01 PM",{"$f":"IF(A219=\"ANL1420\",\"Targetsector\",LEFT(C219,LEN(C219)-LEN('BES EN'!E219)-3))","v":"Consumer sales condition code"}]
["ANL1265","Active","Dosage form type (dosageFormTypeCodeReference)","MNL0020","dosageFormTypeCodeReference","3.1.17","/catalogue_item_notification:catalogueItemNotificationMessage/transaction/documentCommand/catalogue_item_notification:catalogueItemNotification/catalogueItem/tradeItem/tradeItemInformation/extension/*[namespace-uri()='urn:gs1:gdsn:pharmaceutical_item_information:xsd:3' and local-name()='pharmaceuticalItemInformationModule']/pharmaceuticalItemInformation/dosage/dosageFormTypeCodeReference","Code",null,"","","0..n","","FMCG","Datakwalitijd 2.0;Label health&beauty","395","Health","","Because of the wide variety of dosage form types, this is a free-form text field.<br />\n<br />\nThis field is checked in the context of the Dutch data quality program.\n","A dosage form is the physical form of a medication that identifies the form of the pharmaceutical item, for example oral. \n","Capsule, coated tablet, drops, plaster\n","Enter the dosage form type here. The dosage form type is the form in which the drug, fluid or another form with an active component is administered. A normal band aid is therefore not a dosage form type, but for example a band aid that contains iodine is.\n","Local Dutch applicable validation rules are: 500.202\n",null,"False","CM","Mandatory for special foods, medical devices, food supplement and self-care medicines if stated on the package.  Optional for the Belgian target market.","O"," ","O"," ","Sarina","Sarina","9/27/2021 6:38:48 PM","11/4/2021 9:20:16 PM",{"$f":"IF(A220=\"ANL1420\",\"Targetsector\",LEFT(C220,LEN(C220)-LEN('BES EN'!E220)-3))","v":"Dosage form type"}]
["ANL1266","Active","Regulation type code (regulationTypeCode)","MNL0020","regulationTypeCode","3.1.17","/catalogue_item_notification:catalogueItemNotificationMessage/transaction/documentCommand/catalogue_item_notification:catalogueItemNotification/catalogueItem/tradeItem/tradeItemInformation/extension/*[namespace-uri()='urn:gs1:gdsn:regulated_trade_item:xsd:3' and local-name()='regulatedTradeItemModule']/regulatoryInformation/regulationTypeCode","CodeList","BENELUX_GDSN_RegulationTypeCode","","","0..n","","FMCG","Certificates and packaging marks;Datakwalitijd 2.0;Petfood;Label health&beauty","330","Food;Health;Fruit&Vegetable;Petfood","","The &#39;CE&#39; code is the only code in the code list permitted in the health &amp; beauty sector for medical devices. If there are 2 CE numbers on the label, only the CE of the main product needs to be entered.<br />\n<br />\nThis field is checked in the context of the Dutch data quality program.\n","A code that indicates that a trade item complies with specific applicable government regulations. Several countries require this code on items that are imported or sold there.","CE<br />\nBIOCIDE_REGULATION<br />\nFEED_SAFETY_REGULATION<br />\nSAFETY_DATA_SHEET_REQUIRED\n","For the different product groups you can use at least, for some product groups it is mandatory, the following codes:<br />\n&bull; For food products with an E-mark on the packaging: you can state it by the value &#39;E_MARK&#39;.<br />\n&bull; For food products with an EC identification and health mark (oval-shaped marking) on the packaging: you can state it by the value &#39;ANIMAL_ID_HEALTH_MARK&#39;.<br />\n&bull; For an aerosol with the reverse epsilon mark on the packaging: you can state it by the value &#39;AEROSOL_REVERSE_EPSILON&#39;.<br />\n&bull; For medical devices it is MANDATORY to use the value &#39;CE&#39; (Conformit&eacute; Europ&eacute;enne).<br />\n&bull; For animal nutrition it is MANDATORY to use the value &#39;FEED_SAFETY_REGULATION&#39;. This information helps data recipients to identify feed products.<br />\n&bull; For biocidal products: if the product has been treated with biocidal products, use (this is MANDATORY) the value &#39;BIOCIDE_REGULATION&#39;. For Belgium and Luxembourg, enter &#39;TRUE&#39; in the &#39;Is trade item regulation compliant&#39; field.<br />\n&bull; For products that contain precursors for explosives, it is MANDATORY to populate ‘EXPLOSIVES_PRECURSORS_REGISTRATION’ (for precursors that are mentioned in annex I from 2019/1148) and/or ‘EXPLOSIVES_PRECURSORS_REPORTING’ (for precursors that are mentioned in annex II from 2019/1148). Also populate the ‘Is trade item regulation compliant’ field to indicate if precursors are present in the product.<br />\n&bull; For products with a safety data sheet: Enter the code ‘SAFETY_DATA_SHEET_REQUIRED’ for each product where a safety data sheet (SDS) is legally required.<br />\n&bull; For the Belgian and Luxembourgian target market: for products that are intended to come into contact with food (for example tableware, kitchen utensils, packaging material) you use the value &#39;INTENDED_TO_COME_INTO_CONTACT_WITH_FOOD&#39;. These products must be sufficiently inert to ensure that food products do not release constituents in quantities which could endanger human health, lead to an unacceptable change in the composition of the food product or to the organoleptic properties of the food product (for example taste, odour or colour).","For additional explanation see <a href=\" https://www.gs1.nl/en/industries/food-health-and-beauty/gs1-data-source/entering-data/attribute-explorer-attributes-list\" style=\"color:blue; text-decoration:underline\" target=\"_blank\"> https://www.gs1.nl/en/industries/food-health-and-beauty/gs1-data-source/entering-data/attribute-explorer-attributes-list</a><br />\n<br />\nLocal Dutch applicable validation rules are: 500.211, 500.220, 500.380, 500.381, 500.382, 500.424\n",null,"False","CM","Mandatory for medical devices, animal nutrition, biocides, for products that contain precursors for explosives and in case ‘Hazardous substances classification system’ field is populated and does not have the value ‘ZNA’.","O"," ","O"," ","Sarina","Sarina","9/27/2021 6:38:48 PM","11/4/2021 9:20:30 PM",{"$f":"IF(A221=\"ANL1420\",\"Targetsector\",LEFT(C221,LEN(C221)-LEN('BES EN'!E221)-3))","v":"Regulation type code"}]
["ANL1267","Active","Regulatory permit identification (regulatoryPermitIdentification)","MNL0020","regulatoryPermitIdentification","3.1.17","/catalogue_item_notification:catalogueItemNotificationMessage/transaction/documentCommand/catalogue_item_notification:catalogueItemNotification/catalogueItem/tradeItem/tradeItemInformation/extension/*[namespace-uri()='urn:gs1:gdsn:regulated_trade_item:xsd:3' and local-name()='regulatedTradeItemModule']/regulatoryInformation/permitIdentification/regulatoryPermitIdentification","string",null,"1","200","1..1","","FMCG","Datakwalitijd 2.0;Petfood;Label health&beauty;Certificates and packaging marks","331","Fruit&Vegetable;Petfood;Health;Food","","<p>This number cannot be entered unless the &#39;Regulation type code&#39; field is filled in.<br />\n<br />\nFor animal nutrition: Attribute is repeatable as there can be several factories producing the feed item. Indicate all applicable numbers. The number of the individual item can be found on the lid/back of pack etc. of the item.<br />\n<br />\nFor health &amp; beauty: If there are 2 CE numbers on the label, only the CE of the main product needs to be entered.<br />\n<br />\nThis field is checked in the context of the Dutch data quality program.</p>\n","<p>Identification of the permit or licence issued by the regulatory agency.</p>\n","<p>Animal nutrition:<br />\nDE 05770000113<br />\n<br />\nMedical devices (CE):<br />\n0344<br />\n<br />\nBiocides:<br />\nNL-0012335-0000</p>\n","<p>Enter the regulatory permit identification (as shown on the label) of the agency involved in regulation.<br />\n<br />\nAnimal nutrition: Populate the establishment approval number(s) (also called FIN = Factory Identification Number) of the person responsible for the labelling granted (according to Regulation (EC) No 767/2009). In the explanatory document (please refer to the link below in Process Description to the explanatory document) you can find an example how to recognize an establishment approval number on the label/packaging.<br />\n<br />\nBiocides: enter the authorization number of your product in this field and populate the &#39;Regulation type code&#39; field with the code &#39;BIOCIDE_REGULATION&#39;.<br />\n<br />\nYou can populate this field multiple times.</p>\n","<p>For additional explanation see <a href=\" https://www.gs1.nl/en/industries/food-health-and-beauty/gs1-data-source/entering-data/attribute-explorer-attributes-list\" style=\"color:blue; text-decoration:underline\" target=\"_blank\"> https://www.gs1.nl/en/industries/food-health-and-beauty/gs1-data-source/entering-data/attribute-explorer-attributes-list</a><br />\n<br />\nLocal Dutch applicable validation rules are: 500.380, 500.423</p>\n",null,"False","CM","Mandatory for Class IIa, IIb and III medical devices (optional for the Belgian target market), animal nutrition and biocides. ","O"," ","O"," ","Sarina","Sarina","9/27/2021 6:38:48 PM","11/4/2021 9:20:45 PM",{"$f":"IF(A222=\"ANL1420\",\"Targetsector\",LEFT(C222,LEN(C222)-LEN('BES EN'!E222)-3))","v":"Regulatory permit identification"}]
["ANL1276","Active","Are batteries included  (areBatteriesIncluded)","MNL0020","areBatteriesIncluded","3.1.17","/catalogue_item_notification:catalogueItemNotificationMessage/transaction/documentCommand/catalogue_item_notification:catalogueItemNotification/catalogueItem/tradeItem/tradeItemInformation/extension/*[namespace-uri()='urn:gs1:gdsn:battery_information:xsd:3' and local-name()='batteryInformationModule']/areBatteriesIncluded","boolean",null,"","","0..1","","FMCG","Batteries","436","Health;Food","",null,"Value indicating whether the battery/rechargeable battery is included with the product.\n","TRUE\n","If applicable, suppliers should provide this information so that retailers can determine the BEBAT information. Enter &lsquo;TRUE&rsquo; if the batteries are included with the product or &lsquo;FALSE&rsquo; if the batteries are sold separately.\n","Local Dutch applicable validation rules are: 500.390,  500.392,  500.393, 500.415",null,"False","CM","Mandatory if 'Are batteries required' is set to 'True'","O"," ","O"," ","Sarina","Sarina","9/27/2021 6:38:48 PM","11/4/2021 9:21:00 PM",{"$f":"IF(A223=\"ANL1420\",\"Targetsector\",LEFT(C223,LEN(C223)-LEN('BES EN'!E223)-3))","v":"Are batteries included "}]
["ANL1277","Active","Are batteries required  (areBatteriesRequired)","MNL0020","areBatteriesRequired","3.1.17","/catalogue_item_notification:catalogueItemNotificationMessage/transaction/documentCommand/catalogue_item_notification:catalogueItemNotification/catalogueItem/tradeItem/tradeItemInformation/extension/*[namespace-uri()='urn:gs1:gdsn:battery_information:xsd:3' and local-name()='batteryInformationModule']/areBatteriesRequired","boolean",null,"","","0..1","","FMCG","Batteries","437","Food;Health",""," ","Value indicating whether the battery/rechargeable battery is required for the product.\n","TRUE","Select ‘TRUE’ or ‘FALSE’.","Local Dutch applicable validation rules are: 500.391,  500.393 ",null,"False","CM","Mandatory if BEBAT applies","O"," ","O"," ","Sarina","Sarina","9/27/2021 6:38:49 PM","11/4/2021 9:21:16 PM",{"$f":"IF(A224=\"ANL1420\",\"Targetsector\",LEFT(C224,LEN(C224)-LEN('BES EN'!E224)-3))","v":"Are batteries required "}]
["ANL1278","Active","Are batteries built in (areBatteriesBuiltIn)","MNL0020","areBatteriesBuiltIn","3.1.17","/catalogue_item_notification:catalogueItemNotificationMessage/transaction/documentCommand/catalogue_item_notification:catalogueItemNotification/catalogueItem/tradeItem/tradeItemInformation/extension/*[namespace-uri()='urn:gs1:gdsn:battery_information:xsd:3' and local-name()='batteryInformationModule']/batteryDetail/areBatteriesBuiltIn","CodeList","BENELUX_GDSN_NonBinaryLogicEnumeration","","","0..1","","FMCG","Batteries","438","Food;Health","","When the value &lsquo;TRUE&rsquo; is entered in this field, populate the &lsquo;Quantity of batteries built in&rsquo;, &lsquo;Battery weight&rsquo;, &lsquo;Battery technology type code&rsquo; and &lsquo;Battery type code&rsquo; fields as well.\n","Value indicating whether the battery/rechargeable battery is integrated in the product.\n","TRUE\n","Enter &#39;TRUE&#39; if the batteries in the product are built in and cannot be removed.\n","Local Dutch applicable validation rules are: 500.392,  500.394,  500.395,  500.396,  500.397 ",null,"False","CM","Mandatory if 'Are batteries included' is populated","O"," ","O"," ","Sarina","Sarina","9/27/2021 6:38:49 PM","11/4/2021 9:21:32 PM",{"$f":"IF(A225=\"ANL1420\",\"Targetsector\",LEFT(C225,LEN(C225)-LEN('BES EN'!E225)-3))","v":"Are batteries built in"}]
["ANL1279","Active","Battery material type code  (batteryTechnologyTypeCode)","MNL0020","batteryTechnologyTypeCode","3.1.17","/catalogue_item_notification:catalogueItemNotificationMessage/transaction/documentCommand/catalogue_item_notification:catalogueItemNotification/catalogueItem/tradeItem/tradeItemInformation/extension/*[namespace-uri()='urn:gs1:gdsn:battery_information:xsd:3' and local-name()='batteryInformationModule']/batteryDetail/batteryTechnologyTypeCode","CodeList","BENELUX_GDSN_BatteryTechnologyTypeCode","","","0..n","","FMCG","Batteries","439","Health;Food",""," ","The type of battery family (e.g. Lithium, NiMH) of batteries used by the product.","ALKALINE","Select the correct value from the 'Battery Technology Type Code' code list.","Local Dutch applicable validation rules are: 500.388, 500.396",null,"False","CM","Mandatory if the product requires a specific battery technology type to operate or the batteries are included with or built into the product.","O"," ","O"," ","Sarina","Sarina","9/27/2021 6:38:49 PM","11/4/2021 9:21:47 PM",{"$f":"IF(A226=\"ANL1420\",\"Targetsector\",LEFT(C226,LEN(C226)-LEN('BES EN'!E226)-3))","v":"Battery material type code "}]
["ANL1280","Active","Battery type code (batteryTypeCode)","MNL0020","batteryTypeCode","3.1.17","/catalogue_item_notification:catalogueItemNotificationMessage/transaction/documentCommand/catalogue_item_notification:catalogueItemNotification/catalogueItem/tradeItem/tradeItemInformation/extension/*[namespace-uri()='urn:gs1:gdsn:battery_information:xsd:3' and local-name()='batteryInformationModule']/batteryDetail/batteryTypeCode","CodeList","BENELUX_GDSN_BatteryTypeCode","","","0..1","","FMCG","Batteries","440","Food;Health","",null,"Code indicating the type of battery.\n","AA\n","If applicable, suppliers should provide this information so the retailers can determine the BEBAT or STIBAT information. Indicate the type of batteries.\n","Local Dutch applicable validation rules are: 500.397",null,"False","CM","Mandatory for batteries","O"," ","O"," ","Sarina","Sarina","9/27/2021 6:38:49 PM","11/4/2021 9:22:02 PM",{"$f":"IF(A227=\"ANL1420\",\"Targetsector\",LEFT(C227,LEN(C227)-LEN('BES EN'!E227)-3))","v":"Battery type code"}]
["ANL1281","Active","Battery weight  (batteryWeight)","MNL0020","batteryWeight","3.1.17","/catalogue_item_notification:catalogueItemNotificationMessage/transaction/documentCommand/catalogue_item_notification:catalogueItemNotification/catalogueItem/tradeItem/tradeItemInformation/extension/*[namespace-uri()='urn:gs1:gdsn:battery_information:xsd:3' and local-name()='batteryInformationModule']/batteryDetail/batteryWeight","Measurement",null,"","","0..1","","FMCG","Batteries","441","Food;Health","",null,"Number indicating the weight of each (rechargeable) battery or accumulator&nbsp;in the product.\n","50 (GRM)\n","Enter a valid weight expressed in gram or kilogram and enter the unit of measurement in the &lsquo;Battery weight UOM&rsquo; field.\n","Local Dutch applicable validation rules are: 500.386,  500.387, 500.395 ",null,"False","CM","Mandatory for batteries or if the product requires batteries to operate and the batteries are included with or built into the product.","O"," ","O"," ","Sarina","Sarina","9/27/2021 6:38:50 PM","11/4/2021 9:22:17 PM",{"$f":"IF(A228=\"ANL1420\",\"Targetsector\",LEFT(C228,LEN(C228)-LEN('BES EN'!E228)-3))","v":"Battery weight "}]
["ANL1282","Active","Battery weight UOM (batteryWeight/@measurementUnitCode)","MNL0020","batteryWeight/@measurementUnitCode","3.1.17","/catalogue_item_notification:catalogueItemNotificationMessage/transaction/documentCommand/catalogue_item_notification:catalogueItemNotification/catalogueItem/tradeItem/tradeItemInformation/extension/*[namespace-uri()='urn:gs1:gdsn:battery_information:xsd:3' and local-name()='batteryInformationModule']/batteryDetail/batteryWeight/@measurementUnitCode","CodeList","BENELUX_GDSN_MeasurementUnitCode","","","1..1","","FMCG","Batteries","442","Health;Food","",null,"Any standardized, reproducible unit that can be used to measure any physical property.\n","GRM\n","Select the correct value from the code list &#39;MeasurementUnitCode&#39;.\n","Local Dutch applicable validation rules are: 500.387",null,"False","CM","Mandatory if 'Battery weight' is populated","CM","if 'Battery weight' is populated","CM","if 'Battery weight' is populated","Sarina","Sarina","9/27/2021 6:38:50 PM","11/4/2021 9:22:32 PM",{"$f":"IF(A229=\"ANL1420\",\"Targetsector\",LEFT(C229,LEN(C229)-LEN('BES EN'!E229)-3))","v":"Battery weight UOM"}]
["ANL1283","Active","Quantity of batteries built in (quantityOfBatteriesBuiltIn)","MNL0020","quantityOfBatteriesBuiltIn","3.1.17","/catalogue_item_notification:catalogueItemNotificationMessage/transaction/documentCommand/catalogue_item_notification:catalogueItemNotification/catalogueItem/tradeItem/tradeItemInformation/extension/*[namespace-uri()='urn:gs1:gdsn:battery_information:xsd:3' and local-name()='batteryInformationModule']/batteryDetail/quantityOfBatteriesBuiltIn","nonNegativeInteger",null,"","","0..1","","FMCG","Batteries","443","Health;Food","","When you populate this field, do also populate the &lsquo;Are batteries built in&rsquo;, &lsquo;Battery weight&rsquo;, &lsquo;Battery technology type code&rsquo; and &lsquo;Battery type code&rsquo; fields.\n","Number indicating the number of batteries/rechargeable batteries integrated in the product. If the product has a permanently fitted battery, the product does not fall under the ADR dangerous goods regulations.\n","2\n","If applicable, indicate the number of batteries built in.\n","Local Dutch applicable validation rules are: 500.383,  500.394,  500.395,  500.396,  500.397 ",null,"False","CM","Mandatory if 'Are batteries built in' is populated with the value 'True'","O"," ","O"," ","Sarina","Sarina","9/27/2021 6:38:50 PM","11/4/2021 9:22:49 PM",{"$f":"IF(A230=\"ANL1420\",\"Targetsector\",LEFT(C230,LEN(C230)-LEN('BES EN'!E230)-3))","v":"Quantity of batteries built in"}]
["ANL1284","Active","Quantity of batteries required  (quantityOfBatteriesRequired)","MNL0020","quantityOfBatteriesRequired","3.1.17","/catalogue_item_notification:catalogueItemNotificationMessage/transaction/documentCommand/catalogue_item_notification:catalogueItemNotification/catalogueItem/tradeItem/tradeItemInformation/extension/*[namespace-uri()='urn:gs1:gdsn:battery_information:xsd:3' and local-name()='batteryInformationModule']/batteryDetail/quantityOfBatteriesRequired","nonNegativeInteger",null,"","","0..1","","FMCG","Batteries","444","Food;Health","",null,"Number indicating the number of batteries/rechargeable batteries needed to make the product operational.\n","3\n","If applicable, suppliers should provide this information so the retailers can determine the BEBAT information. Enter here when applicable the number of batteries required to operate the trade item.\n","Local Dutch applicable validation rules are: 500.385,  500.391 ",null,"False","CM","Mandatory if 'Are batteries required' is set to 'True'","O"," ","O"," ","Sarina","Sarina","9/27/2021 6:38:50 PM","11/4/2021 9:23:06 PM",{"$f":"IF(A231=\"ANL1420\",\"Targetsector\",LEFT(C231,LEN(C231)-LEN('BES EN'!E231)-3))","v":"Quantity of batteries required "}]
["ANL1287","Active","Tax agency code (dutyFeeTaxAgencyCode)","MNL0020","dutyFeeTaxAgencyCode","3.1.17","/catalogue_item_notification:catalogueItemNotificationMessage/transaction/documentCommand/catalogue_item_notification:catalogueItemNotification/catalogueItem/tradeItem/tradeItemInformation/extension/*[namespace-uri()='urn:gs1:gdsn:duty_fee_tax_information:xsd:3' and local-name()='dutyFeeTaxInformationModule']/dutyFeeTaxInformation/dutyFeeTaxAgencyCode","CodeList","BENELUX_GDSN_ResponsibleAgencyCode","","","0..1","","FMCG","Tax ","110","Fruit&Vegetable;Health;Food","","For target market Netherlands this code should be &lsquo;200&rsquo;.<br />\nFor target market Belgium and Luxembourg this code should be &lsquo;281&rsquo;.\n","Identifies the agency responsible for the tax code list\n","281 (GS1 Belgium &amp; Luxembourg)\n","Select the correct value from the code list &#39;ResponsibleAgencyCode&#39;.\n","- BE tax manual (<a href=\" https://www.gs1belu.org/nl/documentatie/handleiding-taksinformatie\" style=\"color:blue; text-decoration:underline\" target=\"_blank\"> https://www.gs1belu.org/nl/documentatie/handleiding-taksinformatie</a>) <br />\n<br />\nLocal Dutch applicable validation rules are: 500.032\n",null,"False","O"," ","O"," ","O"," ","Sarina","Sarina","9/27/2021 6:38:50 PM","11/4/2021 9:23:21 PM",{"$f":"IF(A232=\"ANL1420\",\"Targetsector\",LEFT(C232,LEN(C232)-LEN('BES EN'!E232)-3))","v":"Tax agency code"}]
["ANL1288","Active","Type of feed (feedType)","MNL0020","feedType","3.1.17","/catalogue_item_notification:catalogueItemNotificationMessage/transaction/documentCommand/catalogue_item_notification:catalogueItemNotification/catalogueItem/tradeItem/tradeItemInformation/extension/*[namespace-uri()='urn:gs1:gdsn:animal_feeding:xsd:3' and local-name()='animalFeedingModule']/feedType","CodeList","BENELUX_GDSN_FeedTypeCode","","","0..n","","FMCG","Petfood;Datakwalitijd 2.0","351","Petfood","","Names of type of feed are: ‘voedermiddel’ (code: FEED_MATERIALS), ‘volledig diervoeder’ (code: COMPLETE), ‘aanvullend diervoeder’ (code: COMPLEMENTARY), ‘volledige melkvervanger’ (code: COMPLETE + code: MILK_REPLACER), ‘mineraalvoeder’ (code: MINERAL), ‘aanvullende melkvervanger’ (code: COMPLEMENTARY + code: MILK_REPLACER), ‘mengvoeder’ (code: COMPOUND).<br />\n<br />\nThis field is checked in the context of the Dutch data quality program.","Type of pet food or feed given to wild or domestic animals in the course of animal husbandry, e.g. feed material, complete feed, complementary feed.","COMPLETE","Select the correct code(s) from the feedTypeCode code list to indicate the type of feed that is mentioned on the label/packaging. For an example of a label with the type of feed included, please refer to the link below in Process Description to the explanatory document.","For additional explanation see <a href=\" https://www.gs1.nl/en/industries/food-health-and-beauty/gs1-data-source/entering-data/attribute-explorer-attributes-list\" style=\"color:blue; text-decoration:underline\" target=\"_blank\"> https://www.gs1.nl/en/industries/food-health-and-beauty/gs1-data-source/entering-data/attribute-explorer-attributes-list</a>",null,"False","CM","Mandatory for animal nutrition","O",null,"O",null,"Sarina","Sarina","9/27/2021 6:38:51 PM","11/4/2021 9:23:36 PM",{"$f":"IF(A233=\"ANL1420\",\"Targetsector\",LEFT(C233,LEN(C233)-LEN('BES EN'!E233)-3))","v":"Type of feed"}]
["ANL1289","Active","Type of animal the feed is targeted for (targetedConsumptionBy)","MNL0020","targetedConsumptionBy","3.1.17","/catalogue_item_notification:catalogueItemNotificationMessage/transaction/documentCommand/catalogue_item_notification:catalogueItemNotification/catalogueItem/tradeItem/tradeItemInformation/extension/*[namespace-uri()='urn:gs1:gdsn:animal_feeding:xsd:3' and local-name()='animalFeedingModule']/targetedConsumptionBy","CodeList","BENELUX_GDSN_TargetedConsumptionByCode","","","0..n","","FMCG","Datakwalitijd 2.0;Petfood","352","Petfood","","This field is checked in the context of the Dutch data quality program.","The type of animal this food is intended to be consumed by for example RABBIT.","CAT","Select the correct code(s) from the targetedConsumptionByCode code list to indicate the type of animal the feed is targeted for. For an example of a label with the type of animal the feed is targeted for included, please refer to the link below in Process Description to the explanatory document.","For additional explanation see <a href=\" https://www.gs1.nl/en/industries/food-health-and-beauty/gs1-data-source/entering-data/attribute-explorer-attributes-list\" style=\"color:blue; text-decoration:underline\" target=\"_blank\"> https://www.gs1.nl/en/industries/food-health-and-beauty/gs1-data-source/entering-data/attribute-explorer-attributes-list</a>",null,"False","CM","Mandatory for animal nutrition","O",null,"O",null,"Sarina","Sarina","9/27/2021 6:38:51 PM","11/4/2021 9:23:51 PM",{"$f":"IF(A234=\"ANL1420\",\"Targetsector\",LEFT(C234,LEN(C234)-LEN('BES EN'!E234)-3))","v":"Type of animal the feed is targeted for"}]
["ANL1290","Active","Feed composition statement (feedCompositionStatement)","MNL0020","feedCompositionStatement","3.1.17","/catalogue_item_notification:catalogueItemNotificationMessage/transaction/documentCommand/catalogue_item_notification:catalogueItemNotification/catalogueItem/tradeItem/tradeItemInformation/extension/*[namespace-uri()='urn:gs1:gdsn:animal_feeding:xsd:3' and local-name()='animalFeedingModule']/feedCompositionStatement","Description5000",null,"","","0..n","","FMCG","Petfood;Datakwalitijd 2.0","353","Petfood","","The composition that has to be filled in this field has to be preceded by the word &lsquo;Samenstelling:&rsquo;.<br />\n<br />\nThis field is checked in the context of the Dutch data quality program.\n","List of the animal feed composition data, based on the ingredients contained in the feed, as governed by local rules and regulations.\n","Samenstelling: vlees en dierlijke bijproducten (kip 4%), granen, groenten 4% (erwt, wortel), mineralen, suiker.<br />\nSamenstelling: gedehydreerde gevogelte-eiwitten, rijst, dierlijke vetten, tarwe, ma&iuml;smeel, tarwemeel, isolaat van plantaardige eiwitten*, hydrolysaat van dierlijke eiwitten, ma&iuml;sgluten, ma&iuml;s, plantaardige vezels, mineralen, bietenpulp, visolie, gist, sojaolie, psylliumschil en psylliumzade, fructo-oligo-sacchariden, bernagieolie, Tagetes (Afrikaan) extract (bron van lute&iuml;ne), extracten uit groene thee en druiven (bron van polyfenolen), hydrolysaat van schaaldieren (bron van glucosamine), hydrolysaat van kraakbeen (bron chondro&iuml;tine). *L.I.P.: eiwitten geselecteerd vanwege hun zeer hoge verteerbaarheid.\n","Populate the list of individual feed materials of which the feed is composed, bearing the heading &lsquo;samenstelling&rsquo;. Use the same spelling and wording as on the label. Also add any percentages included in the list on the label/packaging. Additionally, include any clarifications at the end of the list, indicated by for example a star or a number at the start of the clarification. For an example of a label with the feed composition included, please refer to the link below in Process Description to the explanatory document.<br />\n<br />\nMulti packs: copy all lists with the composition that are mentioned on the label/packaging.\n","For additional explanation see <a href=\" https://www.gs1.nl/en/industries/food-health-and-beauty/gs1-data-source/entering-data/attribute-explorer-attributes-list\" style=\"color:blue; text-decoration:underline\" target=\"_blank\"> https://www.gs1.nl/en/industries/food-health-and-beauty/gs1-data-source/entering-data/attribute-explorer-attributes-list</a><br />\n<br />\nLocal Dutch applicable validation rules are: 500.344\n",null,"False","CM","Mandatory for animal nutrition if mentioned on the label.","O",null,"O",null,"Sarina","Sarina","9/27/2021 6:38:51 PM","11/4/2021 9:24:07 PM",{"$f":"IF(A235=\"ANL1420\",\"Targetsector\",LEFT(C235,LEN(C235)-LEN('BES EN'!E235)-3))","v":"Feed composition statement"}]
["ANL1291","Active","Feed composition statement language code (feedCompositionStatement/@languageCode)","MNL0020","feedCompositionStatement/@languageCode","3.1.17","/catalogue_item_notification:catalogueItemNotificationMessage/transaction/documentCommand/catalogue_item_notification:catalogueItemNotification/catalogueItem/tradeItem/tradeItemInformation/extension/*[namespace-uri()='urn:gs1:gdsn:animal_feeding:xsd:3' and local-name()='animalFeedingModule']/feedCompositionStatement/@languageCode","CodeList","BENELUX_GDSN_LanguageCode","","","1..1","","FMCG","Datakwalitijd 2.0;Petfood","354","Petfood","","This field is checked in the context of the Dutch data quality program.","Code specifying a language. Allowed code values are specified in GS1 code list 'LanguageCode'.","nl","Select the correct value from the 'ISO 639-1 (2-alpha)' code list.","For additional explanation see <a href=\" https://www.gs1.nl/en/industries/food-health-and-beauty/gs1-data-source/entering-data/attribute-explorer-attributes-list\" style=\"color:blue; text-decoration:underline\" target=\"_blank\"> https://www.gs1.nl/en/industries/food-health-and-beauty/gs1-data-source/entering-data/attribute-explorer-attributes-list</a> <br />\n<br />\n- To find the applicable language codes, see: <a href=\" http://www.loc.gov/standards/iso639-2/php/code_list.php\" style=\"color:blue; text-decoration:underline\" target=\"_blank\"> http://www.loc.gov/standards/iso639-2/php/code_list.php</a> ",null,"False","CM","Mandatory in case 'Feed composition statement' is populated for a consumer unit.","CM","Mandatory in case the 'Feed composition statement' field is populated.","CM","Mandatory in case the 'Feed composition statement' field is populated.","Sarina","Sarina","9/27/2021 6:38:51 PM","11/4/2021 9:24:23 PM",{"$f":"IF(A236=\"ANL1420\",\"Targetsector\",LEFT(C236,LEN(C236)-LEN('BES EN'!E236)-3))","v":"Feed composition statement language code"}]
["ANL1292","Active","Feed analytical constituents statement (feedAnalyticalConstituentsStatement)","MNL0020","feedAnalyticalConstituentsStatement","3.1.17","/catalogue_item_notification:catalogueItemNotificationMessage/transaction/documentCommand/catalogue_item_notification:catalogueItemNotification/catalogueItem/tradeItem/tradeItemInformation/extension/*[namespace-uri()='urn:gs1:gdsn:animal_feeding:xsd:3' and local-name()='animalFeedingModule']/feedAnalyticalConstituentsStatement","Description5000",null,"","","0..n","","FMCG","Datakwalitijd 2.0;Petfood","355","Petfood","","This field is checked in the context of the Dutch data quality program.","Listing of the analytical constituents or guaranteed analysis of the feed, based on the nutrient analysis of the finished product, as governed by local rules and regulations.\n","Analytische bestanddelen (%): Eiwit 38 / Vet 13 / As 8,5 / Vezels 1,9 / Calcium 0,89 / Fosfor 0,94. Energie: 390 kcal / 100g.\n","Populate the analytical constituents (moisture content, protein, fat) including the quantity as labelled on the pack. For an example of a label with the feed analytical constituents included, please refer to the link below in Process Description to the explanatory document.<br />\n<br />\nNote: Information about the energy content is optional information (please refer to the explanatory document for an example). It is not part of the analytical constituents. If labelled on the pack, this information may be added at the end of the feed analytical constituents statement. In this case populate the value with unit of measurement and the base amount of the energy contained is measured against (usually 100 g), as labelled on the pack.<br />\n<br />\nMulti packs: copy all listings of analytical constituents as mentioned on the label/packaging.\n","For additional explanation see <a href=\" https://www.gs1.nl/en/industries/food-health-and-beauty/gs1-data-source/entering-data/attribute-explorer-attributes-list\" style=\"color:blue; text-decoration:underline\" target=\"_blank\"> https://www.gs1.nl/en/industries/food-health-and-beauty/gs1-data-source/entering-data/attribute-explorer-attributes-list</a>",null,"False","CM","Mandatory for animal nutrition if mentioned on the label.","O",null,"O",null,"Sarina","Sarina","9/27/2021 6:38:52 PM","11/4/2021 9:24:38 PM",{"$f":"IF(A237=\"ANL1420\",\"Targetsector\",LEFT(C237,LEN(C237)-LEN('BES EN'!E237)-3))","v":"Feed analytical constituents statement"}]
["ANL1293","Active","Feed analytical constituents statement language code (feedAnalyticalConstituentsStatement/@languageCode)","MNL0020","feedAnalyticalConstituentsStatement/@languageCode","3.1.17","/catalogue_item_notification:catalogueItemNotificationMessage/transaction/documentCommand/catalogue_item_notification:catalogueItemNotification/catalogueItem/tradeItem/tradeItemInformation/extension/*[namespace-uri()='urn:gs1:gdsn:animal_feeding:xsd:3' and local-name()='animalFeedingModule']/feedAnalyticalConstituentsStatement/@languageCode","CodeList","BENELUX_GDSN_LanguageCode","","","1..1","","FMCG","Petfood;Datakwalitijd 2.0","356","Petfood","","This field is checked in the context of the Dutch data quality program.","Code specifying a language. Allowed code values are specified in GS1 code list 'LanguageCode'.","nl","Select the correct value from the 'ISO 639-1 (2-alpha)' code list.","For additional explanation see <a href=\" https://www.gs1.nl/en/industries/food-health-and-beauty/gs1-data-source/entering-data/attribute-explorer-attributes-list\" style=\"color:blue; text-decoration:underline\" target=\"_blank\"> https://www.gs1.nl/en/industries/food-health-and-beauty/gs1-data-source/entering-data/attribute-explorer-attributes-list</a> <br />\n<br />\n- To find the applicable language codes, see: <a href=\" http://www.loc.gov/standards/iso639-2/php/code_list.php\" style=\"color:blue; text-decoration:underline\" target=\"_blank\"> http://www.loc.gov/standards/iso639-2/php/code_list.php</a> ",null,"False","CM","Mandatory in case 'Feed analytical constituents statement' is populated for a consumer unit.","CM","Mandatory in case 'Feed analytical constituents statement' is populated for a trade unit.","CM","Mandatory in case 'Feed analytical constituents statement' is populated for a logistic unit.","Sarina","Sarina","9/27/2021 6:38:52 PM","11/4/2021 9:24:53 PM",{"$f":"IF(A238=\"ANL1420\",\"Targetsector\",LEFT(C238,LEN(C238)-LEN('BES EN'!E238)-3))","v":"Feed analytical constituents statement language code"}]
["ANL1294","Active","Feed additive statement (feedAdditiveStatement)","MNL0020","feedAdditiveStatement","3.1.17","/catalogue_item_notification:catalogueItemNotificationMessage/transaction/documentCommand/catalogue_item_notification:catalogueItemNotification/catalogueItem/tradeItem/tradeItemInformation/extension/*[namespace-uri()='urn:gs1:gdsn:animal_feeding:xsd:3' and local-name()='animalFeedingModule']/feedAdditiveStatement","Description5000",null,"","","0..n","","FMCG","Petfood;Datakwalitijd 2.0","357","Petfood","","The additives populated in this field, must be preceded by the word &lsquo;Additieven&rsquo; or &lsquo;Toevoegingsmiddelen&rsquo; and in case of &lsquo;nutritionele additieven&rsquo; that phrase should be mentioned.<br />\nNote: in some cases the additives are mentioned at different places on the label/packaging, they still have to be filled in this field.<br />\n<br />\nThis field is checked in the context of the Dutch data quality program.\n","Listing of substances added to feed during processing, for preservation, colouring, or stabilization as governed by local rules and regulations.\n","Toevoegingsmiddelen (/kg): Nutritionele toevoegingsmiddelen: Vitamine A (22400 IE), Vitamine D3 (1000 IE), E1 (IJzer) (46 mg), E2 (Jodium) (4,6 mg) - Technologische toevoegingsmiddelen: Natriumtripolyfosfaat (3,5 g) - Conserveermiddelen - Antioxidanten\n","Populate the list of additives which are declared on the label or packaging preceded by the heading &lsquo;additieven&rsquo; or &lsquo;toevoegingsmiddelen&rsquo;. In some cases the word &lsquo;additieven&rsquo;/&rsquo;toevoegingsmiddelen&rsquo; is preceded by the words &lsquo;nutritionele&rsquo;, &lsquo;technologische&rsquo; or &lsquo;sensori&euml;le&rsquo;. Also populate the additives mentioned there including the heading &lsquo;nutritionele&rsquo; etc. Use the same sequence of additives as on the label/packaging. For an example of a label with feed additives included, please refer to the link below in Process Description to the explanatory document.\n","For additional explanation see <a href=\" https://www.gs1.nl/en/industries/food-health-and-beauty/gs1-data-source/entering-data/attribute-explorer-attributes-list\" style=\"color:blue; text-decoration:underline\" target=\"_blank\"> https://www.gs1.nl/en/industries/food-health-and-beauty/gs1-data-source/entering-data/attribute-explorer-attributes-list</a>",null,"False","CM","Mandatory for animal nutrition if mentioned on the label.","O",null,"O",null,"Sarina","Sarina","9/27/2021 6:38:52 PM","11/4/2021 9:25:09 PM",{"$f":"IF(A239=\"ANL1420\",\"Targetsector\",LEFT(C239,LEN(C239)-LEN('BES EN'!E239)-3))","v":"Feed additive statement"}]
["ANL1295","Active","Feed additives statement language code (feedAdditiveStatement/@languageCode)","MNL0020","feedAdditiveStatement/@languageCode","3.1.17","/catalogue_item_notification:catalogueItemNotificationMessage/transaction/documentCommand/catalogue_item_notification:catalogueItemNotification/catalogueItem/tradeItem/tradeItemInformation/extension/*[namespace-uri()='urn:gs1:gdsn:animal_feeding:xsd:3' and local-name()='animalFeedingModule']/feedAdditiveStatement/@languageCode","CodeList","BENELUX_GDSN_LanguageCode","","","1..1","","FMCG","Datakwalitijd 2.0;Petfood","358","Petfood","","This field is checked in the context of the Dutch data quality program.","Code specifying a language. Allowed code values are specified in GS1 code list 'LanguageCode'.","en","Select the correct value from the 'ISO 639-1 (2-alpha)' code list.","For additional explanation see <a href=\" https://www.gs1.nl/en/industries/food-health-and-beauty/gs1-data-source/entering-data/attribute-explorer-attributes-list\" style=\"color:blue; text-decoration:underline\" target=\"_blank\"> https://www.gs1.nl/en/industries/food-health-and-beauty/gs1-data-source/entering-data/attribute-explorer-attributes-list</a> <br />\n<br />\n- To find the applicable language codes, see: <a href=\" http://www.loc.gov/standards/iso639-2/php/code_list.php\" style=\"color:blue; text-decoration:underline\" target=\"_blank\"> http://www.loc.gov/standards/iso639-2/php/code_list.php</a> ",null,"False","CM","Mandatory in case 'Feed additive statement' is populated for a consumer unit.","CM","Mandatory in case 'Feed additive statement' is populated for a trade unit.","CM","Mandatory in case 'Feed additive statement' is populated for a logistic unit.","Sarina","Sarina","9/27/2021 6:38:52 PM","11/4/2021 9:25:24 PM",{"$f":"IF(A240=\"ANL1420\",\"Targetsector\",LEFT(C240,LEN(C240)-LEN('BES EN'!E240)-3))","v":"Feed additives statement language code"}]
["ANL1296","Active","Life stage animal (feedLifestage)","MNL0020","feedLifestage","3.1.17","/catalogue_item_notification:catalogueItemNotificationMessage/transaction/documentCommand/catalogue_item_notification:catalogueItemNotification/catalogueItem/tradeItem/tradeItemInformation/extension/*[namespace-uri()='urn:gs1:gdsn:animal_feeding:xsd:3' and local-name()='animalFeedingModule']/animalFeeding/feedLifestage","Description500",null,"","","0..n","","FMCG","Petfood;Datakwalitijd 2.0","359","Petfood","","Note: Usually, animal nutrition is targeted at animals of a specific age and in a specific life stage. Consequently age/life stage is not part of the feeding table. In those cases, it is not required to fill in this field. Only populate the life stage/age as part of the feeding table, if the recommendation for the quantity of feed differentiates for different life stages/ages. However, for each new loop of the feeding table all fields of the feeding table should be repeated starting with &#39;Life stage animal&#39; (even if that field can stay empty).<br />\n<br />\nThis field is checked in the context of the Dutch data quality program.\n","Identifies the life stage of the animal for which a trade item has been designed, for example adult.\n","Life stage per column/row of the feeding table (you only need to fill in the part after &lsquo;:&rsquo; in this field):<br />\n1st loop: Junior<br />\n2nd loop: Adult 5+<br />\n3rd loop: Senior\n","Populate the life stage or age of the animal for which a trade item has been designed. Do this only when the life stage/age is part of the feeding table (see also the remark). In some cases the trade item has been designed for multiple life stages/ages. In that case, the feeding table is divided by life stage/age. Consequently, you have to repeat this field for each life stage/age, starting with the first column/row. For an extensive explanation how to enter information from the feeding table, please refer to the link below in Process Description to the explanatory document.\n","For additional explanation see <a href=\" https://www.gs1.nl/en/industries/food-health-and-beauty/gs1-data-source/entering-data/attribute-explorer-attributes-list\" style=\"color:blue; text-decoration:underline\" target=\"_blank\"> https://www.gs1.nl/en/industries/food-health-and-beauty/gs1-data-source/entering-data/attribute-explorer-attributes-list</a>",null,"False","CM","Mandatory if an intended life stage of an animal is provided as part of a feeding table on the product packaging (label). If the feeding table is so complex that it can only be provided as an attached image, this field can be left empty.","O",null,"O",null,"Sarina","Sarina","9/27/2021 6:38:52 PM","11/4/2021 9:25:40 PM",{"$f":"IF(A241=\"ANL1420\",\"Targetsector\",LEFT(C241,LEN(C241)-LEN('BES EN'!E241)-3))","v":"Life stage animal"}]
["ANL1297","Active","Minimum weight of animal being fed (minimumWeightOfAnimalBeingFed)","MNL0020","minimumWeightOfAnimalBeingFed","3.1.17","/catalogue_item_notification:catalogueItemNotificationMessage/transaction/documentCommand/catalogue_item_notification:catalogueItemNotification/catalogueItem/tradeItem/tradeItemInformation/extension/*[namespace-uri()='urn:gs1:gdsn:animal_feeding:xsd:3' and local-name()='animalFeedingModule']/animalFeeding/minimumWeightOfAnimalBeingFed","Measurement",null,"","","0..n","","FMCG","Petfood;Datakwalitijd 2.0","361","Petfood","","Note: If an exact animal weight is stated in the feeding table instead of a weight range, populate only &lsquo;Maximum weight of animal being fed&rsquo; and leave this field empty.<br />\n<br />\nThis field is checked in the context of the Dutch data quality program.\n","The lowest weight (in a weight range) of the animal to be fed by the trade item. This value qualifies the quantity of feed for the feed life stage.\n","3\n","Populate the &#39;lowest&#39; value for the weight range the recommended feeding amount is stated for. In some cases the feeding table is classified by weight range (3-4 kg; 4-5 kg etc.). Consequently, the recommended feeding amount differs per weight range. In those cases, you need to repeat this field for each weight range, starting with the first column/row. For an extensive explanation how to enter information from the feeding table, please refer to the link below in Process Description to the explanatory document.<br />\n<br />\nEnter the unit of measurement in a separate field.\n","For additional explanation see <a href=\" https://www.gs1.nl/en/industries/food-health-and-beauty/gs1-data-source/entering-data/attribute-explorer-attributes-list\" style=\"color:blue; text-decoration:underline\" target=\"_blank\"> https://www.gs1.nl/en/industries/food-health-and-beauty/gs1-data-source/entering-data/attribute-explorer-attributes-list</a>",null,"False","CM","Mandatory if a minimum weight of an animal being fed is provided as part of a feeding table on the product packaging (label). If the feeding table is so complex that it can only be provided as an attached image, this field can be left empty.","O",null,"O",null,"Sarina","Sarina","9/27/2021 6:38:53 PM","11/4/2021 9:25:56 PM",{"$f":"IF(A242=\"ANL1420\",\"Targetsector\",LEFT(C242,LEN(C242)-LEN('BES EN'!E242)-3))","v":"Minimum weight of animal being fed"}]
["ANL1298","Active","Minimum weight of animal being fed UOM (minimumWeightOfAnimalBeingFed/@measurementUnitCode)","MNL0020","minimumWeightOfAnimalBeingFed/@measurementUnitCode","3.1.17","/catalogue_item_notification:catalogueItemNotificationMessage/transaction/documentCommand/catalogue_item_notification:catalogueItemNotification/catalogueItem/tradeItem/tradeItemInformation/extension/*[namespace-uri()='urn:gs1:gdsn:animal_feeding:xsd:3' and local-name()='animalFeedingModule']/animalFeeding/minimumWeightOfAnimalBeingFed/@measurementUnitCode","CodeList","BENELUX_GDSN_MeasurementUnitCode","","","1..1","","FMCG","Datakwalitijd 2.0;Petfood","362","Petfood","","This field is checked in the context of the Dutch data quality program.","Any standardised, reproducible unit that can be used to measure any physical property.","KGM","Select the correct value from the 'MeasurementUnitCode' code list.","For additional explanation see <a href=\" https://www.gs1.nl/en/industries/food-health-and-beauty/gs1-data-source/entering-data/attribute-explorer-attributes-list\" style=\"color:blue; text-decoration:underline\" target=\"_blank\"> https://www.gs1.nl/en/industries/food-health-and-beauty/gs1-data-source/entering-data/attribute-explorer-attributes-list</a>",null,"False","CM","Mandatory in case 'Minimum weight of animal being fed' is populated for a consumer unit.","CM","Mandatory in case 'Minimum weight of animal being fed' is populated for a trade unit.","CM","Mandatory in case 'Minimum weight of animal being fed' is populated for a logistic unit.","Sarina","Sarina","9/27/2021 6:38:53 PM","11/4/2021 9:26:12 PM",{"$f":"IF(A243=\"ANL1420\",\"Targetsector\",LEFT(C243,LEN(C243)-LEN('BES EN'!E243)-3))","v":"Minimum weight of animal being fed UOM"}]
["ANL1299","Active","Maximum weight of animal being fed (maximumWeightOfAnimalBeingFed)","MNL0020","maximumWeightOfAnimalBeingFed","3.1.17","/catalogue_item_notification:catalogueItemNotificationMessage/transaction/documentCommand/catalogue_item_notification:catalogueItemNotification/catalogueItem/tradeItem/tradeItemInformation/extension/*[namespace-uri()='urn:gs1:gdsn:animal_feeding:xsd:3' and local-name()='animalFeedingModule']/animalFeeding/maximumWeightOfAnimalBeingFed","Measurement",null,"","","0..n","","FMCG","Petfood;Datakwalitijd 2.0","363","Petfood","","Note: If an exact animal weight is stated in the feeding table instead of a weight range, populate only this field and leave &lsquo;Minimum weight of animal being fed&rsquo; field empty.<br />\n<br />\nThis field is checked in the context of the Dutch data quality program.\n","The highest weight (in a weight range) of the animal to be fed by the trade item. This value qualifies the quantity of feed for the feed life stage.\n","Maximum weight of animal being fed per column/row of the feeding table (you only need to fill in the part after &lsquo;:&rsquo; in this field):<br />\n1st loop: 45 [for cat. 3 kg]<br />\n2nd loop: 55 [for cat. 4 kg]<br />\n3rd loop: 60 [for cat. 5 kg]\n","Populate the &#39;upper&#39; value for the weight range, the recommended feeding amount is stated for. In some cases the feeding table is classified by weight range (3-4 kg; 4-5 kg etc.). Consequently, the recommended feeding amount differs per weight range. In those cases, you have to repeat this field for each weight range, starting with the first column/row. For an extensive explanation how to enter information from the feeding table, please refer to the link below in Process Description to the explanatory document.<br />\n<br />\nEnter the unit of measurement in a separate field.\n","For additional explanation see <a href=\" https://www.gs1.nl/en/industries/food-health-and-beauty/gs1-data-source/entering-data/attribute-explorer-attributes-list\" style=\"color:blue; text-decoration:underline\" target=\"_blank\"> https://www.gs1.nl/en/industries/food-health-and-beauty/gs1-data-source/entering-data/attribute-explorer-attributes-list</a>",null,"False","CM","Mandatory if a maximum weight of an animal being fed is provided as part of a feeding table on the product packaging (label). If the feeding table is so complex that it can only be provided as an attached image, this field can be left empty.","O",null,"O",null,"Sarina","Sarina","9/27/2021 6:38:53 PM","11/4/2021 9:26:29 PM",{"$f":"IF(A244=\"ANL1420\",\"Targetsector\",LEFT(C244,LEN(C244)-LEN('BES EN'!E244)-3))","v":"Maximum weight of animal being fed"}]
["ANL1300","Active","Maximum weight of animal being fed UOM (maximumWeightOfAnimalBeingFed/@measurementUnitCode)","MNL0020","maximumWeightOfAnimalBeingFed/@measurementUnitCode","3.1.17","/catalogue_item_notification:catalogueItemNotificationMessage/transaction/documentCommand/catalogue_item_notification:catalogueItemNotification/catalogueItem/tradeItem/tradeItemInformation/extension/*[namespace-uri()='urn:gs1:gdsn:animal_feeding:xsd:3' and local-name()='animalFeedingModule']/animalFeeding/maximumWeightOfAnimalBeingFed/@measurementUnitCode","CodeList","BENELUX_GDSN_MeasurementUnitCode","","","1..1","","FMCG","Datakwalitijd 2.0;Petfood","364","Petfood","","This field is checked in the context of the Dutch data quality program.","Any standardised, reproducible unit that can be used to measure any physical property.","KGM","Select the correct value from the 'MeasurementUnitCode' code list.","For additional explanation see <a href=\" https://www.gs1.nl/en/industries/food-health-and-beauty/gs1-data-source/entering-data/attribute-explorer-attributes-list\" style=\"color:blue; text-decoration:underline\" target=\"_blank\"> https://www.gs1.nl/en/industries/food-health-and-beauty/gs1-data-source/entering-data/attribute-explorer-attributes-list</a>",null,"False","CM","Mandatory in case 'Maximum weight of animal being fed' is populated for a consumer unit.","CM","Mandatory in case 'Maximum weight of animal being fed' is populated for a trade unit.","CM","Mandatory in case 'Maximum weight of animal being fed' is populated for a logistic unit.","Sarina","Sarina","9/27/2021 6:38:53 PM","11/4/2021 9:26:45 PM",{"$f":"IF(A245=\"ANL1420\",\"Targetsector\",LEFT(C245,LEN(C245)-LEN('BES EN'!E245)-3))","v":"Maximum weight of animal being fed UOM"}]
["ANL1301","Active","Feeding amount (feedingAmount)","MNL0020","feedingAmount","3.1.17","/catalogue_item_notification:catalogueItemNotificationMessage/transaction/documentCommand/catalogue_item_notification:catalogueItemNotification/catalogueItem/tradeItem/tradeItemInformation/extension/*[namespace-uri()='urn:gs1:gdsn:animal_feeding:xsd:3' and local-name()='animalFeedingModule']/animalFeeding/animalFeedingDetail/feedingAmount","Measurement",null,"","","0..n","","FMCG","Petfood;Datakwalitijd 2.0","365","Petfood","","Populate the exact feeding amount in this field. Does the packaging state a minimum and maximum feeding amount? Then enter this information in the fields &lsquo;Minimum feeding amount&rsquo; and &lsquo;Maximum feeding amount&rsquo; and leave this field empty.<br />\n<br />\nThis field is checked in the context of the Dutch data quality program.\n","The amount of feed which is specified for the feed life stage and qualified by the weight of animal being fed.\n","Feeding amount per column/row of the feeding table (you only need to fill in the part after &lsquo;:&rsquo; in this field):<br />\n1st loop: 45 GRM<br />\n2nd loop: 55 GRM<br />\n3rd loop: 60 GRM\n","Indicate the &#39;exact&#39; amount of feed for the indicated weight of animal and frequency of feeding. In case the amount of feed differs per weight or age, you have to repeat this field for each amount of feed starting with the first column/row. For an extensive explanation how to enter the information of the feeding table, please refer to the link below in Process Description to the explanatory document.<br />\n<br />\nEnter the unit of measurement in a separate field.\n","For additional explanation see <a href=\" https://www.gs1.nl/en/industries/food-health-and-beauty/gs1-data-source/entering-data/attribute-explorer-attributes-list\" style=\"color:blue; text-decoration:underline\" target=\"_blank\"> https://www.gs1.nl/en/industries/food-health-and-beauty/gs1-data-source/entering-data/attribute-explorer-attributes-list</a>",null,"False","CM","Mandatory if the amount of feed is provided as part of a feeding table on the product packaging (label). If the feeding table is so complex that it can only be provided as an attached image, this field can be left empty.","O",null,"O",null,"Sarina","Sarina","9/27/2021 6:38:53 PM","11/4/2021 9:27:02 PM",{"$f":"IF(A246=\"ANL1420\",\"Targetsector\",LEFT(C246,LEN(C246)-LEN('BES EN'!E246)-3))","v":"Feeding amount"}]
["ANL1302","Active","Feeding amount UOM (feedingAmount/@measurementUnitCode)","MNL0020","feedingAmount/@measurementUnitCode","3.1.17","/catalogue_item_notification:catalogueItemNotificationMessage/transaction/documentCommand/catalogue_item_notification:catalogueItemNotification/catalogueItem/tradeItem/tradeItemInformation/extension/*[namespace-uri()='urn:gs1:gdsn:animal_feeding:xsd:3' and local-name()='animalFeedingModule']/animalFeeding/animalFeedingDetail/feedingAmount/@measurementUnitCode","CodeList","BENELUX_GDSN_MeasurementUnitCode","","","1..1","","FMCG","Petfood;Datakwalitijd 2.0","366","Petfood","","This field is checked in the context of the Dutch data quality program.","Any standardised, reproducible unit that can be used to measure any physical property.","GRM","Select the correct value from the 'MeasurementUnitCode' code list.","For additional explanation see <a href=\" https://www.gs1.nl/en/industries/food-health-and-beauty/gs1-data-source/entering-data/attribute-explorer-attributes-list\" style=\"color:blue; text-decoration:underline\" target=\"_blank\"> https://www.gs1.nl/en/industries/food-health-and-beauty/gs1-data-source/entering-data/attribute-explorer-attributes-list</a>",null,"False","CM","Mandatory in case 'Feeding amount' is populated for a consumer unit.","CM","Mandatory in case 'Feeding amount' is populated for a trade unit.","CM","Mandatory in case 'Feeding amount' is populated for a logistic unit.","Sarina","Sarina","9/27/2021 6:38:54 PM","11/4/2021 9:27:19 PM",{"$f":"IF(A247=\"ANL1420\",\"Targetsector\",LEFT(C247,LEN(C247)-LEN('BES EN'!E247)-3))","v":"Feeding amount UOM"}]
["ANL1303","Active","Minimum feeding amount (minimumFeedingAmount)","MNL0020","minimumFeedingAmount","3.1.17","/catalogue_item_notification:catalogueItemNotificationMessage/transaction/documentCommand/catalogue_item_notification:catalogueItemNotification/catalogueItem/tradeItem/tradeItemInformation/extension/*[namespace-uri()='urn:gs1:gdsn:animal_feeding:xsd:3' and local-name()='animalFeedingModule']/animalFeeding/animalFeedingDetail/minimumFeedingAmount","Measurement",null,"","","0..n","","FMCG","Petfood;Datakwalitijd 2.0","367","Petfood","","Populate the minimum feeding amount. Does the packaging state an exact feeding amount? Enter this in the field &lsquo;Feeding amount&rsquo; and leave this field empty.<br />\n<br />\nThis field is checked in the context of the Dutch data quality program.\n","The minimum amount of feed which is specified for the feed life stage and qualified by the weight of animal being fed.\n","100\n","Indicate the &#39;minimum&#39; amount of feed for the indicated weight and frequency of feeding. You also have to populate the &lsquo;Maximum feeding amount&rsquo; field. In case the minimum amount of feed differs per weight or age, you have to repeat this field for each minimum amount of feed starting with the first column/row. For an extensive explanation how to enter the information of the feeding table, please refer to the link below in Process Description to the explanatory document.<br />\n<br />\nEnter the unit of measurement in a separate field.\n","For additional explanation see <a href=\" https://www.gs1.nl/en/industries/food-health-and-beauty/gs1-data-source/entering-data/attribute-explorer-attributes-list\" style=\"color:blue; text-decoration:underline\" target=\"_blank\"> https://www.gs1.nl/en/industries/food-health-and-beauty/gs1-data-source/entering-data/attribute-explorer-attributes-list</a>",null,"False","CM","Mandatory if the least amount of the product specified for the animal being fed is provided as part of a feeding table on the packaging. If the feeding table is so complex that it can only be provided as an attached image, this field can be left empty.","O",null,"O",null,"Sarina","Sarina","9/27/2021 6:38:54 PM","11/4/2021 9:27:35 PM",{"$f":"IF(A248=\"ANL1420\",\"Targetsector\",LEFT(C248,LEN(C248)-LEN('BES EN'!E248)-3))","v":"Minimum feeding amount"}]
["ANL1304","Active","Minimum feeding amount UOM (minimumFeedingAmount/@measurementUnitCode)","MNL0020","minimumFeedingAmount/@measurementUnitCode","3.1.17","/catalogue_item_notification:catalogueItemNotificationMessage/transaction/documentCommand/catalogue_item_notification:catalogueItemNotification/catalogueItem/tradeItem/tradeItemInformation/extension/*[namespace-uri()='urn:gs1:gdsn:animal_feeding:xsd:3' and local-name()='animalFeedingModule']/animalFeeding/animalFeedingDetail/minimumFeedingAmount/@measurementUnitCode","CodeList","BENELUX_GDSN_MeasurementUnitCode","","","1..1","","FMCG","Datakwalitijd 2.0;Petfood","368","Petfood","","This field is checked in the context of the Dutch data quality program.","Any standardised, reproducible unit that can be used to measure any physical property.","GRM","Select the correct value from the 'MeasurementUnitCode' code list.","For additional explanation see <a href=\" https://www.gs1.nl/en/industries/food-health-and-beauty/gs1-data-source/entering-data/attribute-explorer-attributes-list\" style=\"color:blue; text-decoration:underline\" target=\"_blank\"> https://www.gs1.nl/en/industries/food-health-and-beauty/gs1-data-source/entering-data/attribute-explorer-attributes-list</a>",null,"False","CM","Mandatory in case 'Minimum feeding amount' is populated for a consumer unit.","CM","Mandatory in case 'Minimum feeding amount' is populated for a trade unit.","CM","Mandatory in case 'Minimum feeding amount' is populated for a logistic unit.","Sarina","Sarina","9/27/2021 6:38:54 PM","11/4/2021 9:27:50 PM",{"$f":"IF(A249=\"ANL1420\",\"Targetsector\",LEFT(C249,LEN(C249)-LEN('BES EN'!E249)-3))","v":"Minimum feeding amount UOM"}]
["ANL1305","Active","Maximum feeding amount (maximumFeedingAmount)","MNL0020","maximumFeedingAmount","3.1.17","/catalogue_item_notification:catalogueItemNotificationMessage/transaction/documentCommand/catalogue_item_notification:catalogueItemNotification/catalogueItem/tradeItem/tradeItemInformation/extension/*[namespace-uri()='urn:gs1:gdsn:animal_feeding:xsd:3' and local-name()='animalFeedingModule']/animalFeeding/animalFeedingDetail/maximumFeedingAmount","Measurement",null,"","","0..n","","FMCG","Petfood;Datakwalitijd 2.0","369","Petfood","","Populate the maximum feeding amount. Does the packaging state an exact feeding amount? Enter this in the field &#39;Feeding amount&#39; and leave this field empty.<br />\n<br />\nThis field is checked in the context of the Dutch data quality program.\n","The maximum amount of feed which is specified for the feed life stage and qualified by the weight of animal being fed.\n","120\n","Indicate the &#39;maximum&#39; amount of feed for the indicated weight and frequency of feeding. You also have to populate the &lsquo;Minimum feeding amount&rsquo; field. In case the maximum amount of feed differs per weight or age, you have to repeat this field for each maximum amount of feed starting with the first column/row. For an extensive explanation how to enter the information of the feeding table, please refer to the link below in Process Description to the explanatory document.<br />\n<br />\nEnter the unit of measurement in a separate field.\n","For additional explanation see <a href=\" https://www.gs1.nl/en/industries/food-health-and-beauty/gs1-data-source/entering-data/attribute-explorer-attributes-list\" style=\"color:blue; text-decoration:underline\" target=\"_blank\"> https://www.gs1.nl/en/industries/food-health-and-beauty/gs1-data-source/entering-data/attribute-explorer-attributes-list</a>",null,"False","CM","Mandatory if the largest amount of the product specified for the animal being fed is provided as part of a feeding table on the packaging. If the feeding table is so complex that it can only be provided as an attached image, this field can be left empty.","O",null,"O",null,"Sarina","Sarina","9/27/2021 6:38:54 PM","11/4/2021 9:28:06 PM",{"$f":"IF(A250=\"ANL1420\",\"Targetsector\",LEFT(C250,LEN(C250)-LEN('BES EN'!E250)-3))","v":"Maximum feeding amount"}]
["ANL1306","Active","Maximum feeding amount UOM (maximumFeedingAmount/@measurementUnitCode)","MNL0020","maximumFeedingAmount/@measurementUnitCode","3.1.17","/catalogue_item_notification:catalogueItemNotificationMessage/transaction/documentCommand/catalogue_item_notification:catalogueItemNotification/catalogueItem/tradeItem/tradeItemInformation/extension/*[namespace-uri()='urn:gs1:gdsn:animal_feeding:xsd:3' and local-name()='animalFeedingModule']/animalFeeding/animalFeedingDetail/maximumFeedingAmount/@measurementUnitCode","CodeList","BENELUX_GDSN_MeasurementUnitCode","","","1..1","","FMCG","Datakwalitijd 2.0;Petfood","370","Petfood","","This field is checked in the context of the Dutch data quality program.","Any standardised, reproducible unit that can be used to measure any physical property.","GRM","Select the correct value from the 'MeasurementUnitCode' code list.","For additional explanation see <a href=\" https://www.gs1.nl/en/industries/food-health-and-beauty/gs1-data-source/entering-data/attribute-explorer-attributes-list\" style=\"color:blue; text-decoration:underline\" target=\"_blank\"> https://www.gs1.nl/en/industries/food-health-and-beauty/gs1-data-source/entering-data/attribute-explorer-attributes-list</a>",null,"False","CM","Mandatory in case 'Maximum Feeding Amount' is populated for a consumer unit.","CM","Mandatory in case 'Maximum Feeding Amount' is populated for a trade unit.","CM","Mandatory in case 'Maximum Feeding Amount' is populated for a logistic unit.","Sarina","Sarina","9/27/2021 6:38:55 PM","11/4/2021 9:28:22 PM",{"$f":"IF(A251=\"ANL1420\",\"Targetsector\",LEFT(C251,LEN(C251)-LEN('BES EN'!E251)-3))","v":"Maximum feeding amount UOM"}]
["ANL1307","Active","Feeding frequency (recommendedFrequencyOfFeeding)","MNL0020","recommendedFrequencyOfFeeding","3.1.17","/catalogue_item_notification:catalogueItemNotificationMessage/transaction/documentCommand/catalogue_item_notification:catalogueItemNotification/catalogueItem/tradeItem/tradeItemInformation/extension/*[namespace-uri()='urn:gs1:gdsn:animal_feeding:xsd:3' and local-name()='animalFeedingModule']/animalFeeding/animalFeedingDetail/recommendedFrequencyOfFeeding","Description500",null,"","","0..n","","FMCG","Datakwalitijd 2.0;Petfood","371","Petfood","","This field is checked in the context of the Dutch data quality program.","The recommended frequency to feed an animal the quantity of feed within a time period for the specified feed life stage. Examples: 2 feedings per day, maximum 2 chew sticks and/or 2 portions per day.\n","Max. 2 stokjes per week<br />\nPer dag 24h\n","The recommended frequency of feeding can be indicated on the label in two ways.<br />\n1. It is indicated on the label how often it is recommended to give the recommended amount of food to the animal (taking the weight range of the animal into account), for example daily.<br />\n2. A period is indicated on the label within which the animal has to receive the recommended amount of feed (taking the weight range of the animal into account), for example 24h.<br />\nIn case a feeding table is on the label in which the recommended amount of feed differs per age and/or weight, you have to repeat this field each time you enter a recommended amount of food (even though the frequency of recommended feeding stays the same). For an extensive explanation how to enter the information of the feeding table, please refer to the link below in Process Description to the explanatory document.\n","For additional explanation see <a href=\" https://www.gs1.nl/en/industries/food-health-and-beauty/gs1-data-source/entering-data/attribute-explorer-attributes-list\" style=\"color:blue; text-decoration:underline\" target=\"_blank\"> https://www.gs1.nl/en/industries/food-health-and-beauty/gs1-data-source/entering-data/attribute-explorer-attributes-list</a>",null,"False","CM","Mandatory if a recommended frequency to feed an animal is provided on the product packaging (label). If the feeding table is so complex that it can only be provided as an attached image, this field can be left empty.","O",null,"O",null,"Sarina","Sarina","9/27/2021 6:38:55 PM","11/4/2021 9:28:37 PM",{"$f":"IF(A252=\"ANL1420\",\"Targetsector\",LEFT(C252,LEN(C252)-LEN('BES EN'!E252)-3))","v":"Feeding frequency"}]
["ANL1308","Active","Feeding frequency language code (recommendedFrequencyOfFeeding/@languageCode)","MNL0020","recommendedFrequencyOfFeeding/@languageCode","3.1.17","/catalogue_item_notification:catalogueItemNotificationMessage/transaction/documentCommand/catalogue_item_notification:catalogueItemNotification/catalogueItem/tradeItem/tradeItemInformation/extension/*[namespace-uri()='urn:gs1:gdsn:animal_feeding:xsd:3' and local-name()='animalFeedingModule']/animalFeeding/animalFeedingDetail/recommendedFrequencyOfFeeding/@languageCode","CodeList","BENELUX_GDSN_LanguageCode","","","1..1","","FMCG","Petfood;Datakwalitijd 2.0","372","Petfood","","This field is checked in the context of the Dutch data quality program.","Code specifying a language. Allowed code values are specified in GS1 code list 'LanguageCode'.","nl","Select the correct value from the 'ISO 639-1 (2-alpha)' code list.","For additional explanation see <a href=\" https://www.gs1.nl/en/industries/food-health-and-beauty/gs1-data-source/entering-data/attribute-explorer-attributes-list\" style=\"color:blue; text-decoration:underline\" target=\"_blank\"> https://www.gs1.nl/en/industries/food-health-and-beauty/gs1-data-source/entering-data/attribute-explorer-attributes-list</a> <br />\n<br />\n- To find the applicable language codes, see: <a href=\" http://www.loc.gov/standards/iso639-2/php/code_list.php\" style=\"color:blue; text-decoration:underline\" target=\"_blank\"> http://www.loc.gov/standards/iso639-2/php/code_list.php</a> ",null,"False","CM","Mandatory in case 'Recommended frequency of feeding' is populated for the consumer unit.","CM","Mandatory in case 'Recommended frequency of feeding' is populated for the trade unit.","CM","Mandatory in case 'Recommended frequency of feeding' is populated for the logistic unit.","Sarina","Sarina","9/27/2021 6:38:55 PM","11/4/2021 9:28:51 PM",{"$f":"IF(A253=\"ANL1420\",\"Targetsector\",LEFT(C253,LEN(C253)-LEN('BES EN'!E253)-3))","v":"Feeding frequency language code"}]
["ANL1309","Active","Feeding instructions (feedingInstructions)","MNL0020","feedingInstructions","3.1.17","/catalogue_item_notification:catalogueItemNotificationMessage/transaction/documentCommand/catalogue_item_notification:catalogueItemNotification/catalogueItem/tradeItem/tradeItemInformation/extension/*[namespace-uri()='urn:gs1:gdsn:animal_feeding:xsd:3' and local-name()='animalFeedingModule']/feedingInstructions","Description5000",null,"","","0..n","","FMCG","Petfood;Datakwalitijd 2.0","373","Petfood","","This field is checked in the context of the Dutch data quality program.","All instructions describing how the animal should be fed (e.g. amounts and frequency) based on the age, weight, diet or other variables, expressed as a free text. Information provided shall be identical as on the label or pack.\n","1) Dit product is geen vervanging van de dagelijkse voeding. Met het oog op de extra energie-inname beperkt voeren. Altijd voldoende vers water ter beschikking stellen. Niet geschikt voor puppy&rsquo;s jonger dan 4 maanden. Tijdens het voeren dienen honden altijd onder toezicht te staan.<br />\n2) Voedingsadvies: Voor kleine honden van 7 tot 12 kg: 1 stick per dag. Zorg dat er altijd vers drinkwater beschikbaar is. Blijf in de buurt wanneer u uw hond de snack geeft. Voor de gezondheid van uw hond, respecteer de maximale dagelijkse hoeveelheden en doe dagelijks oefeningen.<br />\n3) Voedingsadvies: Wanneer de volwassen leeftijd bereikt wordt, kunt u geleidelijk aan overschakelen naar Adult voeding. Het is aanbevolen om de hoeveelheid van de voeding aan te passen aan de mate van activiteit, het ras en de leeftijd van uw hond. Hoe uw puppy te voeden? Bezoek de website of neem contact op met de consumentendienst. Zorg dat er altijd vers drinkwater beschikbaar is. De behoeften van uw huisdier wat betreft voeding zullen verschillen overeenkomstig leeftijd, gewicht, geslacht, ras en activiteit. Aangezien het belangrijk is dat uw huisdier de juiste hoeveelheid voeding krijgt, raadpleeg het etiket/verpakking voor het complete, gedetailleerde voedingsadvies.\n","When populating the feeding instructions in a structured way by using for example &lsquo;Life stage animal&rsquo;, &lsquo;Minimum weight of animal being fed&rsquo;, &lsquo;Feeding amount&rsquo; etc., use this text field in addition to populate the more general information (see example 1 here and in the explanatory document).<br />\n<br />\nFor products with a textual feeding instruction on the label/packaging instead of a feeding table, populate the feeding instruction or advice as labelled on the pack (see example 2 here and in the explanatory document). Start with the specific information considering only the GTIN specified, followed by the more general information.<br />\n<br />\nIf a feeding table is too complex to use the structured representation, solve this by indicating here: &lsquo;Your animal&rsquo;s needs for food will vary according to age, weight, breed, sex and activity level. As it is important that your pet receives the correct amount of food, please consult the pack for complete detailed feeding instructions&rsquo; (see example 3 here and in the explanatory document).<br />\nNote: Please only use this in absolutely exceptional cases and be aware that this has the consequence of data not being available to the recipient, for eContent, etc.<br />\n<br />\nFor an extensive explanation how to enter the information of the feeding table, please refer to the link below in Process Description to the explanatory document.\n","For additional explanation see <a href=\" https://www.gs1.nl/en/industries/food-health-and-beauty/gs1-data-source/entering-data/attribute-explorer-attributes-list\" style=\"color:blue; text-decoration:underline\" target=\"_blank\"> https://www.gs1.nl/en/industries/food-health-and-beauty/gs1-data-source/entering-data/attribute-explorer-attributes-list</a><br />\n<br />\nLocal Dutch applicable validation rules are: 500.344",null,"False","CM","Mandatory for animal nutrition if mentioned on the label.","O",null,"O",null,"Sarina","Sarina","9/27/2021 6:38:55 PM","11/4/2021 9:29:06 PM",{"$f":"IF(A254=\"ANL1420\",\"Targetsector\",LEFT(C254,LEN(C254)-LEN('BES EN'!E254)-3))","v":"Feeding instructions"}]
["ANL1310","Active","Feeding instructions language code (feedingInstructions/@languageCode)","MNL0020","feedingInstructions/@languageCode","3.1.17","/catalogue_item_notification:catalogueItemNotificationMessage/transaction/documentCommand/catalogue_item_notification:catalogueItemNotification/catalogueItem/tradeItem/tradeItemInformation/extension/*[namespace-uri()='urn:gs1:gdsn:animal_feeding:xsd:3' and local-name()='animalFeedingModule']/feedingInstructions/@languageCode","CodeList","BENELUX_GDSN_LanguageCode","","","1..1","","FMCG","Datakwalitijd 2.0;Petfood","374","Petfood","","This field is checked in the context of the Dutch data quality program.","Code specifying a language. Allowed code values are specified in GS1 code list 'LanguageCode'.","en","Select the correct value from the 'ISO 639-1 (2-alpha)' code list.","For additional explanation see <a href=\" https://www.gs1.nl/en/industries/food-health-and-beauty/gs1-data-source/entering-data/attribute-explorer-attributes-list\" style=\"color:blue; text-decoration:underline\" target=\"_blank\"> https://www.gs1.nl/en/industries/food-health-and-beauty/gs1-data-source/entering-data/attribute-explorer-attributes-list</a> <br />\n<br />\n- To find the applicable language codes, see: <a href=\" http://www.loc.gov/standards/iso639-2/php/code_list.php\" style=\"color:blue; text-decoration:underline\" target=\"_blank\"> http://www.loc.gov/standards/iso639-2/php/code_list.php</a> ",null,"False","CM","Mandatory in case 'Feeding instructions' is populated for a consumer unit.","CM","Mandatory in case 'Feeding instructions' is populated for a trade unit.","CM","Mandatory in case 'Feeding instructions' is populated for a logistic unit.","Sarina","Sarina","9/27/2021 6:38:55 PM","11/4/2021 9:29:20 PM",{"$f":"IF(A255=\"ANL1420\",\"Targetsector\",LEFT(C255,LEN(C255)-LEN('BES EN'!E255)-3))","v":"Feeding instructions language code"}]
["ANL1311","Active","GPC attribute type code (gpcAttributeTypeCode)","MNL0020","gpcAttributeTypeCode","3.1.17","/catalogue_item_notification:catalogueItemNotificationMessage/transaction/documentCommand/catalogue_item_notification:catalogueItemNotification/catalogueItem/tradeItem/gDSNTradeItemClassification/gDSNTradeItemClassificationAttribute/gpcAttributeTypeCode","string",null,"8","8","1..1","","FMCG","Fruit&Vegetable","382","Fruit&Vegetable","","If you populate this field, you should also populate the &lsquo;GPC attribute value code&rsquo; field.\n","Code specifying the type of the Global Product Classification (GPC) attribute, for example 20000081 - Grape Variety.\n","20002740 &ndash; Colour of Flesh of Citrus Fruits<br />\n20000743 &ndash; Country/Zone of Origin\n","By using a GPC attribute type code and a GPC attribute value code you can be very precise in indicating the product type, for example by indicating the country/zone of origin, the growing method or the quality of the product. The GPC attribute type code indicates the category (for example the growing method); the GPC attribute value code indicates which value your product has within that specific category (for example organic; the product has been grown organically).<br />\n<br />\nTo find the correct GPC attribute type code, use <a href=\" https://www.gs1.org/gpc/browser\" style=\"color:blue; text-decoration:underline\" target=\"_blank\">  https://www.gs1.org/gpc/browser</a>. You may only select the GPC attribute type codes that are linked to the GPC code of your product. Look up your GPC code first to find out which GPC attribute type codes are linked to it. Is the GPC attribute type code you are looking for missing? Then leave this field empty.\n","For additional explanation see <a href=\" https://www.gs1.nl/en/industries/food-health-and-beauty/gs1-data-source/entering-data/attribute-explorer-attributes-list\" style=\"color:blue; text-decoration:underline\" target=\"_blank\"> https://www.gs1.nl/en/industries/food-health-and-beauty/gs1-data-source/entering-data/attribute-explorer-attributes-list</a>",null,"False","O",null,"O",null,"O",null,"Sarina","Sarina","9/27/2021 6:38:56 PM","11/4/2021 9:29:34 PM",{"$f":"IF(A256=\"ANL1420\",\"Targetsector\",LEFT(C256,LEN(C256)-LEN('BES EN'!E256)-3))","v":"GPC attribute type code"}]
["ANL1312","Active","GPC attribute value code (gpcAttributeValueCode)","MNL0020","gpcAttributeValueCode","3.1.17","/catalogue_item_notification:catalogueItemNotificationMessage/transaction/documentCommand/catalogue_item_notification:catalogueItemNotification/catalogueItem/tradeItem/gDSNTradeItemClassification/gDSNTradeItemClassificationAttribute/gpcAttributeValueCode","string",null,"8","8","0..1","","FMCG","Fruit&Vegetable","383","Fruit&Vegetable","",null,"The GS1 provided code which identifies the Global Product Classification Attribute Value.\n","30001983 &ndash; Red 30016148 &ndash; Nicaragua\n","By using a GPC attribute type code and a GPC attribute value code you can be very precise in indicating the product type, for example by indicating the country/zone of origin, the growing method or the quality of the product. The GPC attribute type code indicates the category (for example the growing method) and the GPC attribute value code indicates which value your product has within that specific category (for example organic; the product has been grown organically).<br />\n<br />\nTo find the correct GPC attribute value code, use <a href=\" https://www.gs1.org/gpc/browser\" style=\"color:blue; text-decoration:underline\" target=\"_blank\">  https://www.gs1.org/gpc/browser</a>. You can only select the GPC attribute value codes that are linked to the corresponding GPC attribute type code.\n","For additional explanation see <a href=\" https://www.gs1.nl/en/industries/food-health-and-beauty/gs1-data-source/entering-data/attribute-explorer-attributes-list\" style=\"color:blue; text-decoration:underline\" target=\"_blank\"> https://www.gs1.nl/en/industries/food-health-and-beauty/gs1-data-source/entering-data/attribute-explorer-attributes-list</a>",null,"False","CM","Mandatory if 'GPC attribute type code' is populated.","O",null,"O",null,"Sarina","Sarina","9/27/2021 6:38:56 PM","11/4/2021 9:29:49 PM",{"$f":"IF(A257=\"ANL1420\",\"Targetsector\",LEFT(C257,LEN(C257)-LEN('BES EN'!E257)-3))","v":"GPC attribute value code"}]
["ANL1313","Active","Produce variety type (productCharacteristicValueDescription)","MNL0020","productCharacteristicValueDescription","3.1.17","/catalogue_item_notification:catalogueItemNotificationMessage/transaction/documentCommand/catalogue_item_notification:catalogueItemNotification/catalogueItem/tradeItem/tradeItemInformation/extension/*[namespace-uri()='urn:gs1:gdsn:product_characteristics:xsd:3' and local-name()='productCharacteristicsModule']/productCharacteristics/productCharacteristicValueDescription","Description5000",null,"","","0..n","","FMCG","Fruit&Vegetable","384","Fruit&Vegetable","","Check the UN/ECE standards organization website to find names of varieties of fruit and vegetables: <a href=\" http://www.unece.org/trade/agr/standard/fresh/ffv-standardse.html\" style=\"color:blue; text-decoration:underline\" target=\"_blank\">  http://www.unece.org/trade/agr/standard/fresh/ffv-standardse.html</a>. In addition, for apples and pears you can find a listing of varieties in the GPC attribute type code for variety.\n","Taxon that has been selected for a particular attribute or combination of attributes, and is clearly distinct, uniform, and stable in its characteristics and when propagated by appropriate means, retains those characteristics. In some particular cases, the term &ldquo;cultivar&rdquo; is equivalent to &ldquo;variety&rdquo; which is a single botanic taxon of the lowest known rank. Varieties are recognised for their unique characteristics by authorities for variety protection. They may have been derived by mutation or hybridization.\n","Golden Delicious<br />\nNicoter<br />\nElsanta<br />\nConf&eacute;rence\n","Enter the produce variety type in this field. This means that you have to state the variety of the product for the fruit and vegetables sector and the cultivar for the floriculture sector. It is not permitted to enter the botanical variety in this field, unless it is the same as the variety. It is not permitted to enter brands/club varieties in this field. Examples of brands/club varieties are Pink Lady (variety: Cripps Pink), Kanzi (variety: Nicoter) and Jazz (variety: Scifresh). For these club varieties, enter the variety. Besides, you must enter the code &lsquo;produceVarietyType&rsquo; in the &lsquo;productCharacteristicCode&rsquo; field.\n","For additional explanation see <a href=\" https://www.gs1.nl/en/industries/food-health-and-beauty/gs1-data-source/entering-data/attribute-explorer-attributes-list\" style=\"color:blue; text-decoration:underline\" target=\"_blank\"> https://www.gs1.nl/en/industries/food-health-and-beauty/gs1-data-source/entering-data/attribute-explorer-attributes-list</a>",null,"False","O",null,"O",null,"O",null,"Sarina","Sarina","9/27/2021 6:38:56 PM","11/4/2021 9:30:03 PM",{"$f":"IF(A258=\"ANL1420\",\"Targetsector\",LEFT(C258,LEN(C258)-LEN('BES EN'!E258)-3))","v":"Produce variety type"}]
["ANL1314","Active","Produce variety type language code (productCharacteristicValueDescription/@languageCode)","MNL0020","productCharacteristicValueDescription/@languageCode","3.1.17","/catalogue_item_notification:catalogueItemNotificationMessage/transaction/documentCommand/catalogue_item_notification:catalogueItemNotification/catalogueItem/tradeItem/tradeItemInformation/extension/*[namespace-uri()='urn:gs1:gdsn:product_characteristics:xsd:3' and local-name()='productCharacteristicsModule']/productCharacteristics/productCharacteristicValueDescription/@languageCode","CodeList","BENELUX_GDSN_LanguageCode","","","1..1","","FMCG","Fruit&Vegetable","385","Fruit&Vegetable","",null,"Code specifying a language. Allowed code values are specified in GS1 code list 'LanguageCode'.","en","Select the correct value from the 'ISO 639-1 (2-alpha)' code list.","For additional explanation see <a href=\" https://www.gs1.nl/en/industries/food-health-and-beauty/gs1-data-source/entering-data/attribute-explorer-attributes-list\" style=\"color:blue; text-decoration:underline\" target=\"_blank\"> https://www.gs1.nl/en/industries/food-health-and-beauty/gs1-data-source/entering-data/attribute-explorer-attributes-list</a> <br />\n<br />\n- To find the applicable language codes, see: <a href=\" http://www.loc.gov/standards/iso639-2/php/code_list.php\" style=\"color:blue; text-decoration:underline\" target=\"_blank\"> http://www.loc.gov/standards/iso639-2/php/code_list.php</a> ",null,"False","CM","Mandatory if 'Produce variety type' is populated.","CM","Mandatory if 'Produce variety type' is populated.","CM","Mandatory if 'Produce variety type' is populated.","Sarina","Sarina","9/27/2021 6:38:56 PM","11/4/2021 9:30:19 PM",{"$f":"IF(A259=\"ANL1420\",\"Targetsector\",LEFT(C259,LEN(C259)-LEN('BES EN'!E259)-3))","v":"Produce variety type language code"}]
["ANL1315","Active","Growing method code (growingMethodCode)","MNL0020","growingMethodCode","3.1.17","/catalogue_item_notification:catalogueItemNotificationMessage/transaction/documentCommand/catalogue_item_notification:catalogueItemNotification/catalogueItem/tradeItem/tradeItemInformation/extension/*[namespace-uri()='urn:gs1:gdsn:farming_and_processing_information:xsd:3' and local-name()='farmingAndProcessingInformationModule']/tradeItemFarmingAndProcessing/growingMethodCode","CodeList","BENELUX_GDSN_GrowingMethodCode","","","0..n","","FMCG","Fruit&Vegetable","386","Fruit&Vegetable","","In case you select the &lsquo;ORGANIC&rsquo; code, you have to indicate an organic claim agency and populate the &lsquo;Organic trade item code&rsquo; field.<br />\n<br />\nUse for fish the ‘Fish production method code’ field instead.\n","The code indicating how the product has been grown, cultivated, reared and/or raised.","CONVENTIONAL<br />\nORGANIC\n","In this field, you may indicate by which process the product has been grown, cultivated, reared and/or raised. Select the correct code from the &lsquo;GrowingMethodCode&rsquo; code list. It is mandatory for fruits and vegetables to select one of the following codes: CONVENTIONAL, FIELD_GROWN, GREENHOUSE, HYDROPONIC, INTEGRATED_PEST_MANAGEMENT, ORGANIC, SHADE_GROWN or WILD.\n",null,null,"False","CM","Mandatory, if the product packaging (label) contains information about how the product has been grown, cultivated, reared and/or raised. Not mandatory for fish.","O",null,"O",null,"Sarina","Sarina","9/27/2021 6:38:57 PM","11/4/2021 9:30:34 PM",{"$f":"IF(A260=\"ANL1420\",\"Targetsector\",LEFT(C260,LEN(C260)-LEN('BES EN'!E260)-3))","v":"Growing method code"}]
["ANL1316","Active","Organic claim agency code (organicClaimAgencyCode)","MNL0020","organicClaimAgencyCode","3.1.17","/catalogue_item_notification:catalogueItemNotificationMessage/transaction/documentCommand/catalogue_item_notification:catalogueItemNotification/catalogueItem/tradeItem/tradeItemInformation/extension/*[namespace-uri()='urn:gs1:gdsn:farming_and_processing_information:xsd:3' and local-name()='farmingAndProcessingInformationModule']/tradeItemOrganicInformation/organicClaim/organicClaimAgencyCode","CodeList","BENELUX_GDSN_OrganicClaimAgencyCode","","","0..n","","FMCG","Fruit&Vegetable","387","Fruit&Vegetable","","It is mandatory to populate this field for organic products.\n","A governing body that creates and maintains standards related to organic products.\n","6 &ndash; USDA (US Department of Agriculture)<br />\n22 &ndash; EU commission\n","In this field enter the governing body responsible for issuing and managing the organic trade mark that is printed on your label/packaging. Select the correct code out of the &lsquo;OrganicClaimAgencyCode&rsquo; code list. Examples are &lsquo;6- USDA (US Department of Agriculture)&rsquo; and &rsquo;22 &ndash; EU commission&rsquo;.\n",null,null,"False","CM","Mandatory for organic products.","O",null,"O",null,"Sarina","Sarina","9/27/2021 6:38:57 PM","11/4/2021 9:30:50 PM",{"$f":"IF(A261=\"ANL1420\",\"Targetsector\",LEFT(C261,LEN(C261)-LEN('BES EN'!E261)-3))","v":"Organic claim agency code"}]
["ANL1317","Active","Organic trade item code (organicTradeItemCode)","MNL0020","organicTradeItemCode","3.1.17","/catalogue_item_notification:catalogueItemNotificationMessage/transaction/documentCommand/catalogue_item_notification:catalogueItemNotification/catalogueItem/tradeItem/tradeItemInformation/extension/*[namespace-uri()='urn:gs1:gdsn:farming_and_processing_information:xsd:3' and local-name()='farmingAndProcessingInformationModule']/tradeItemOrganicInformation/organicClaim/organicTradeItemCode","CodeList","BENELUX_GDSN_OrganicTradeItemCode","","","0..1","","FMCG","Fruit&Vegetable","388","Fruit&Vegetable","","It is mandatory to populate this field for organic products.\n","Used to indicate the organic status of a trade item or of one or more of its components.\n","1 &ndash; 100% Organic<br />\n5 &ndash; Not Organic\n","By using this field you can indicate the organic status of your product. Select the correct code from the &lsquo;OrganicTradeItemCode&rsquo; code list. Examples are &lsquo;1 &ndash; 100% Organic&rsquo;, &lsquo;5 &ndash; Not Organic&rsquo; and &lsquo;6 &ndash; In conversion&rsquo;.\n",null,null,"False","CM","Mandatory for organic products.","O",null,"O",null,"Sarina","Sarina","9/27/2021 6:38:57 PM","11/4/2021 9:31:05 PM",{"$f":"IF(A262=\"ANL1420\",\"Targetsector\",LEFT(C262,LEN(C262)-LEN('BES EN'!E262)-3))","v":"Organic trade item code"}]
["ANL1318","Active","Post-harvest treatment chemical code (postHarvestTreatmentChemicalCode)","MNL0020","postHarvestTreatmentChemicalCode","3.1.17","/catalogue_item_notification:catalogueItemNotificationMessage/transaction/documentCommand/catalogue_item_notification:catalogueItemNotification/catalogueItem/tradeItem/tradeItemInformation/extension/*[namespace-uri()='urn:gs1:gdsn:farming_and_processing_information:xsd:3' and local-name()='farmingAndProcessingInformationModule']/tradeItemFarmingAndProcessing/postHarvestTreatmentChemicalCode","CodeList","BENELUX_GDSN_PostHarvestTreatmentChemicalCode","","","0..n","","FMCG","Fruit&Vegetable","389","Fruit&Vegetable","","For some products, such as citrus fruit it is mandatory to provide this information.\n","Specifies if the fruit or vegetable has been treated or not with a chemical or wax post-harvesting.\n","CHEMICALLY_TREATED_AFTER_HARVESTING<br />\nWAXED\n","Use this field to indicate if the fruit or vegetables have been treated with chemicals or wax after harvesting. Use the &lsquo;PostHarvestTreatmentChemicalCode&rsquo; code list to select the correct code.\n",null,null,"False","O",null,"O",null,"O",null,"Sarina","Sarina","9/27/2021 6:38:57 PM","11/4/2021 9:31:21 PM",{"$f":"IF(A263=\"ANL1420\",\"Targetsector\",LEFT(C263,LEN(C263)-LEN('BES EN'!E263)-3))","v":"Post-harvest treatment chemical code"}]
["ANL1319","Active","Healthcare item minimum usage age (healthcareItemMinimumUsageAge)","MNL0020","healthcareItemMinimumUsageAge","3.1.17","/catalogue_item_notification:catalogueItemNotificationMessage/transaction/documentCommand/catalogue_item_notification:catalogueItemNotification/catalogueItem/tradeItem/tradeItemInformation/extension/*[namespace-uri()='urn:gs1:gdsn:healthcare_item_information:xsd:3' and local-name()='healthcareItemInformationModule']/healthcareItemInformation/healthcareItemMinimumUsageAge","TimeMeasurement",null,"","","0..1","","FMCG","Datakwalitijd 2.0;Label health&beauty","396","Health","","Enter the time unit (e.g. month or year) in the separate field &#39;Healthcare item minimum usage age&#39;. The time unit does not have to be the same as in the &#39;Healthcare item maximum usage age UoM&#39; field.<br />\nIf there are different statements on the packaging about from which age a product may be used, you choose the age that you find most relevant. Only one can be added.<br />\n<br />\nThis field is checked in the context of the Dutch data quality program.\n","Note: This attribute is being deprecated in a future release. Use targetConsumerUsageTypeCode with the value AGE and targetConsumerMinimumUsage from TargetConsumerUsage class in MarketingInformationModule.\n\nThe minimum age to which the healthcare item may be used. For example 6 MON or 18 ANN.\n","6\n","Enter the age from which the self-care medicine can be taken. If it says &#39;for adults&#39; enter 18 here with years as a measurement unit. If it says &#39;for children and adults&#39; enter 3 here with years as a measurement unit.<br />\nIf there is no exact indication of age on the label, use the following table as guidance for indication of the ages for children: &nbsp;<br />\nBaby 0 up to 2<br />\nToddler 2 up to 4<br />\nPreschooler 3 up to 5<br />\nChildren 3 to 18<br />\n<br />\nDoes the label contain (a) sentence(s) stating that &#39;This product is not indicated for use in children under x&nbsp;years of age unless it is advised by a physician.&#39;? Populate this field with &#39;3&#39; and use the field &#39;Healthcare item usage age description&#39; as clarification.\n",null,null,"False","CM","Mandatory for self-care medicines if stated on the package.","O",null,"O",null,"Sarina","Sarina","9/27/2021 6:38:58 PM","11/4/2021 9:31:37 PM",{"$f":"IF(A264=\"ANL1420\",\"Targetsector\",LEFT(C264,LEN(C264)-LEN('BES EN'!E264)-3))","v":"Healthcare item minimum usage age"}]
["ANL1320","Active","Healthcare item minimum usage age UOM (healthcareItemMinimumUsageAge/@timeMeasurementUnitCode)","MNL0020","healthcareItemMinimumUsageAge/@timeMeasurementUnitCode","3.1.17","/catalogue_item_notification:catalogueItemNotificationMessage/transaction/documentCommand/catalogue_item_notification:catalogueItemNotification/catalogueItem/tradeItem/tradeItemInformation/extension/*[namespace-uri()='urn:gs1:gdsn:healthcare_item_information:xsd:3' and local-name()='healthcareItemInformationModule']/healthcareItemInformation/healthcareItemMinimumUsageAge/@timeMeasurementUnitCode","CodeList","BENELUX_GDSN_TimeMeasurementUnitCode","","","1..1","","FMCG","Label health&beauty;Datakwalitijd 2.0","397","Health","",null,"Any standardised, reproducible unit that can be used to measure any physical property.","MON","Select the correct value from the 'TimeMeasurementUnitCode' code list.",null,null,"False","CM","Mandatory in case 'Healthcare item minimum usage age' is populated for a consumer unit.","CM","Mandatory in case 'Healthcare item minimum usage age' is populated for a trade unit.","CM","Mandatory in case 'Healthcare item minimum usage age' is populated for a logistics unit.","Sarina","Sarina","9/27/2021 6:38:58 PM","11/4/2021 9:31:53 PM",{"$f":"IF(A265=\"ANL1420\",\"Targetsector\",LEFT(C265,LEN(C265)-LEN('BES EN'!E265)-3))","v":"Healthcare item minimum usage age UOM"}]
["ANL1321","Active","Healthcare item maximum usage age (healthcareItemMaximumUsageAge)","MNL0020","healthcareItemMaximumUsageAge","3.1.17","/catalogue_item_notification:catalogueItemNotificationMessage/transaction/documentCommand/catalogue_item_notification:catalogueItemNotification/catalogueItem/tradeItem/tradeItemInformation/extension/*[namespace-uri()='urn:gs1:gdsn:healthcare_item_information:xsd:3' and local-name()='healthcareItemInformationModule']/healthcareItemInformation/healthcareItemMaximumUsageAge","TimeMeasurement",null,"","","0..1","","FMCG","Label health&beauty;Datakwalitijd 2.0","398","Health","","You must enter the time unit (e.g. month or year) in the separate field &#39;Healthcare item maximum usage age&#39;. The time unit does not have to be the same as in the &#39;Healthcare item minimum usage age UoM&#39; field. If there are different statements on the packaging about until what age a product may be used, you choose the age that you find most relevant. Only one can be added.<br />\n<br />\nThis field is checked in the context of the Dutch data quality program.\n","Note: This attribute is being deprecated in a future release. Use targetConsumerUsageTypeCode with the value AGE and targetConsumerMaximumUsage from TargetConsumerUsage class in MarketingInformationModule.\n\nThe maximum age to which the healthcare item may be used. For example 6 MON or 18 ANN.\n","18\n","Enter the age until the self-care medicine can be taken. If there is only the minimum age, for example &#39;To be used by children from 12 years&#39;, or if there is no age, you must leave the field &#39;Healthcare item maximum usage age&#39; blank.<br />\nIf there is no exact indication of age on the label, use the following table as guidance for indication of the ages for children:<br />\nBaby 0 up to 2<br />\nToddler 2 up to 4<br />\nPreschooler 3 up to 5<br />\nChildren 3 to 18\n",null,null,"False","CM","Mandatory for self-care medicines if stated on the label/package.","O",null,"O",null,"Sarina","Sarina","9/27/2021 6:38:58 PM","11/4/2021 9:32:08 PM",{"$f":"IF(A266=\"ANL1420\",\"Targetsector\",LEFT(C266,LEN(C266)-LEN('BES EN'!E266)-3))","v":"Healthcare item maximum usage age"}]
["ANL1322","Active","Healthcare item maximum usage age UOM (healthcareItemMaximumUsageAge/@timeMeasurementUnitCode)","MNL0020","healthcareItemMaximumUsageAge/@timeMeasurementUnitCode","3.1.17","/catalogue_item_notification:catalogueItemNotificationMessage/transaction/documentCommand/catalogue_item_notification:catalogueItemNotification/catalogueItem/tradeItem/tradeItemInformation/extension/*[namespace-uri()='urn:gs1:gdsn:healthcare_item_information:xsd:3' and local-name()='healthcareItemInformationModule']/healthcareItemInformation/healthcareItemMaximumUsageAge/@timeMeasurementUnitCode","CodeList","BENELUX_GDSN_TimeMeasurementUnitCode","","","1..1","","FMCG","Label health&beauty;Datakwalitijd 2.0","399","Health","",null,"Any standardised, reproducible unit that can be used to measure any physical property.","ANN","Select the correct value from the 'TimeMeasurementUnitCode' code list.",null,null,"False","CM","Mandatory in case 'Healthcare item maximum usage age' is populated for a consumer unit.","CM","Mandatory in case 'Healthcare item maximum usage age' is populated for a trade unit.","CM","Mandatory in case 'Healthcare item maximum usage age' is populated for a logistics unit.","Sarina","Sarina","9/27/2021 6:38:58 PM","11/4/2021 9:32:23 PM",{"$f":"IF(A267=\"ANL1420\",\"Targetsector\",LEFT(C267,LEN(C267)-LEN('BES EN'!E267)-3))","v":"Healthcare item maximum usage age UOM"}]
["ANL1323","Active","Healthcare item usage age description (healthcareItemUsageAgeDescription)","MNL0020","healthcareItemUsageAgeDescription","3.1.17","/catalogue_item_notification:catalogueItemNotificationMessage/transaction/documentCommand/catalogue_item_notification:catalogueItemNotification/catalogueItem/tradeItem/tradeItemInformation/extension/*[namespace-uri()='urn:gs1:gdsn:healthcare_item_information:xsd:3' and local-name()='healthcareItemInformationModule']/healthcareItemInformation/healthcareItemUsageAgeDescription","Description500",null,"","","0..n","","FMCG","Label health&beauty;Datakwalitijd 2.0","400","Health","","This field is checked in the context of the Dutch data quality program.\n","Note: This attribute is being deprecated in a future release. Use targetConsumerAge from TargetConsumer class in MarketingInformationModule. Additional information regarding the usage age for a healthcare item for example &quot;This product is not indicated for use in children under 6 years of age unless it is advised by a physician.&quot;\n","This product is not indicated for use in children under 6 years of age unless it is advised by a physician.\n","Enter here the additional text that belongs to the age indication. Enter descriptions of the healthcare item usage age (usually under the condition that a doctor has advised this). Only populate this field when you populated the fields &lsquo;Healthcare item minimum usage age&rsquo; and/or &lsquo;Healthcare item maximum usage age&rsquo;. Enter texts that warn you that a product cannot be used under a specific age, in the field &lsquo;Drug side effects and warnings&rsquo;.\n",null,null,"False","CM","Mandatory for self-care medicines if stated on the package.","O",null,"O",null,"Sarina","Sarina","9/27/2021 6:38:59 PM","11/4/2021 9:32:38 PM",{"$f":"IF(A268=\"ANL1420\",\"Targetsector\",LEFT(C268,LEN(C268)-LEN('BES EN'!E268)-3))","v":"Healthcare item usage age description"}]
["ANL1324","Active","Healthcare item usage age description language code (healthcareItemUsageAgeDescription/@languageCode)","MNL0020","healthcareItemUsageAgeDescription/@languageCode","3.1.17","/catalogue_item_notification:catalogueItemNotificationMessage/transaction/documentCommand/catalogue_item_notification:catalogueItemNotification/catalogueItem/tradeItem/tradeItemInformation/extension/*[namespace-uri()='urn:gs1:gdsn:healthcare_item_information:xsd:3' and local-name()='healthcareItemInformationModule']/healthcareItemInformation/healthcareItemUsageAgeDescription/@languageCode","CodeList","BENELUX_GDSN_LanguageCode","","","1..1","","FMCG","Datakwalitijd 2.0;Label health&beauty","401","Health","",null,"Code specifying a language. Allowed code values are specified in GS1 code list 'LanguageCode'.","en","Select the correct value from the 'ISO 639-1 (2-alpha)' code list.","- To find the applicable language codes, see: <a href=\" http://www.loc.gov/standards/iso639-2/php/code_list.php\" style=\"color:blue; text-decoration:underline\" target=\"_blank\"> http://www.loc.gov/standards/iso639-2/php/code_list.php</a> ",null,"False","CM","Mandatory in case 'Healthcare item usage age description' is populated for a consumer unit.","CM","Mandatory in case 'Healthcare item usage age description' is populated for a trade unit.","CM","Mandatory in case 'Healthcare item usage age description' is populated for a logistics unit.","Sarina","Sarina","9/27/2021 6:38:59 PM","11/4/2021 9:32:54 PM",{"$f":"IF(A269=\"ANL1420\",\"Targetsector\",LEFT(C269,LEN(C269)-LEN('BES EN'!E269)-3))","v":"Healthcare item usage age description language code"}]
["ANL1325","Active","Usage during pregnancy code (usageDuringPregnancyCode)","MNL0020","usageDuringPregnancyCode","3.1.17","/catalogue_item_notification:catalogueItemNotificationMessage/transaction/documentCommand/catalogue_item_notification:catalogueItemNotification/catalogueItem/tradeItem/tradeItemInformation/extension/*[namespace-uri()='urn:gs1:gdsn:healthcare_item_information:xsd:3' and local-name()='healthcareItemInformationModule']/healthcareItemInformation/usageDuringPregnancyCode","CodeList","BENELUX_GDSN_AllowedUsageCode","","","0..1","","FMCG","Label health&beauty;Datakwalitijd 2.0","402","Health","","Retailers should also point out on their website to consumers that in case of pregnancy it is always recommended to consult a doctor, and that it is important that the consumer reads all information, including the leaflet.<br />\n<br />\nThis field is checked in the context of the Dutch data quality program.\n","Indicates for self-care medicines if the trade item can be used or not during pregnancy.\n","POSSIBLE\n","Select the correct value from code list AllowedUsageCode. The allowed codes are:<br />\nNO: the product may not be used during pregnancy.<br />\nPOSSIBLE: the product may be used during pregnancy, but it is recommended to first read the leaflet carefully.<br />\nNOT APPLICABLE: the product does not apply during pregnancy, for example because it is only intended for men or for children under 6 years of age.<br />\n<br />\nIs stated on the label that it is not possible to use the product during part of the pregnancy? Then choose the option &#39;POSSIBLE&#39;. For example: do not use this medicine in the last 3 months of pregnancy.\n",null,null,"False","CM","Mandatory for self-care medicines because retailers want to receive this information.","O",null,"O",null,"Sarina","Sarina","9/27/2021 6:38:59 PM","11/4/2021 9:33:09 PM",{"$f":"IF(A270=\"ANL1420\",\"Targetsector\",LEFT(C270,LEN(C270)-LEN('BES EN'!E270)-3))","v":"Usage during pregnancy code"}]
["ANL1326","Active","Usage during breastfeeding code (usageDuringBreastFeedingCode)","MNL0020","usageDuringBreastFeedingCode","3.1.17","/catalogue_item_notification:catalogueItemNotificationMessage/transaction/documentCommand/catalogue_item_notification:catalogueItemNotification/catalogueItem/tradeItem/tradeItemInformation/extension/*[namespace-uri()='urn:gs1:gdsn:healthcare_item_information:xsd:3' and local-name()='healthcareItemInformationModule']/healthcareItemInformation/usageDuringBreastFeedingCode","CodeList","BENELUX_GDSN_AllowedUsageCode","","","0..1","","FMCG","Datakwalitijd 2.0;Label health&beauty","403","Health","","Retailers should also point out on their website to consumers that in case of breast feeding it is always recommended to consult a doctor, and that it is important that the consumer reads all information, including the leaflet.<br />\n<br />\nThis field is checked in the context of the Dutch data quality program.\n","Indicates for self-care medicines if the trade item can be used or not during breast feeding.\n","POSSIBLE\n","Select the correct value from code list AllowedUsageCode. The allowed codes are:<br />\nNO: the product may not be used during pregnancy.<br />\nPOSSIBLE: the product may be used during pregnancy, but it is recommended to first read the leaflet carefully.<br />\nNOT APPLICABLE: the product does not apply to breastfeeding, for example because it is only intended for men or children under 6 years of age.\n",null,null,"False","CM","Mandatory for self-care medicines because retailers want to receive this information.","O",null,"O",null,"Sarina","Sarina","9/27/2021 6:38:59 PM","11/4/2021 9:33:25 PM",{"$f":"IF(A271=\"ANL1420\",\"Targetsector\",LEFT(C271,LEN(C271)-LEN('BES EN'!E271)-3))","v":"Usage during breastfeeding code"}]
["ANL1328","Active","Additional trade item classification system code (additionalTradeItemClassificationSystemCode)","MNL0020","additionalTradeItemClassificationSystemCode","3.1.17","/catalogue_item_notification:catalogueItemNotificationMessage/transaction/documentCommand/catalogue_item_notification:catalogueItemNotification/catalogueItem/tradeItem/gDSNTradeItemClassification/additionalTradeItemClassification/additionalTradeItemClassificationSystemCode","CodeList","BENELUX_GDSN_AdditionalTradeItemClassificationCodeListCode","","","0..1","","FMCG","Label health&beauty","445","Food;Health","","If this field has been entered, you must also enter the field &#39;Additional trade item classification code value&#39;.<br />\n<br />\nThe code &#39;25&#39; is the only permitted code from the code list within the self-care medicines.\n","The Classification System for the Additional Trade Item Classification.\n","25 (for self-care pharmaceuticals)<br />\n<br />\n76 (for medical devices, if these are covered by the new EU regulation)<br />\n85 (for medical devices, if these are covered by the old EU directive)","For self-care medicines: Enter code value &lsquo;25&rsquo; (ATC) from the code list AdditionalTradeItemClassificationCodeListCode.<br />\n<br />\nFor medical devices:<br /> \n- enter code value &lsquo;76&rsquo; from the code list &lsquo;AdditionalTradeItemClassificationCodeListCode&rsquo; in case these are covered by the Medical Devices Regulation (EU MDR 2017/745) and In-vitro-Diagnostika Regulation (EU IVDR 2017/746).<br />\n- enter code value &lsquo;85&rsquo; from the code list &lsquo;AdditionalTradeItemClassificationCodeListCode&rsquo; in case these are covered by the Medical Devices Directive (MDD 93/42/EEC), Active Implantable Medical Devices Directive (90/385/EEC) and In vitro Diagnostic Medical Devices Directive (IVDD 98/79/EC).","For additional explanation see <a href=\" https://www.gs1.nl/en/industries/food-health-and-beauty/gs1-data-source/entering-data/attribute-explorer-attributes-list\" style=\"color:blue; text-decoration:underline\" target=\"_blank\"> https://www.gs1.nl/en/industries/food-health-and-beauty/gs1-data-source/entering-data/attribute-explorer-attributes-list</a><br />\n<br />\nLocal Dutch applicable validation rules are: 500.279, 500.422",null,"False","CM","Mandatory in case 'Additional trade item classification code value' is populated for a consumer unit.","O",null,"O",null,"Sarina","Sarina","9/27/2021 6:38:59 PM","11/4/2021 9:33:40 PM",{"$f":"IF(A272=\"ANL1420\",\"Targetsector\",LEFT(C272,LEN(C272)-LEN('BES EN'!E272)-3))","v":"Additional trade item classification system code"}]
["ANL1329","Active","Additional trade item classification code value (additionalTradeItemClassificationCodeValue)","MNL0020","additionalTradeItemClassificationCodeValue","3.1.17","/catalogue_item_notification:catalogueItemNotificationMessage/transaction/documentCommand/catalogue_item_notification:catalogueItemNotification/catalogueItem/tradeItem/gDSNTradeItemClassification/additionalTradeItemClassification/additionalTradeItemClassificationValue/additionalTradeItemClassificationCodeValue","String80",null,"","","1..1","","FMCG","Label health&beauty","446","Food;Health","","If this field has been entered, you must also enter the field &#39;Additional trade item classification system code&#39;.","Category code based on alternate classification schema chosen in addition to GS1 classification schema. Here the code according to the supplementary classification according to ATC (Anatomical Therapeutic Chemical classification system).\n","D04AA (for self-care pharmaceuticals)<br />\n<br />\nEU_CLASS_IIA (for medical devices)\n","For self-care medicines: select the ATC code corresponding to the self-care medicine from the list in Appendix A3 of the document &#39;Explanation on attributes&#39;. This code is used to show the associated risk warnings and / or referral to the general practitioner. If the supplier enters the correct ATC code here, the retailer can show these texts automatically to be used e.g. for a website.<br />\n<br />\nFor medical devices: select the proper medical device class from the applicable local code list DeviceRiskClass&nbsp;on the website of Global Office ( <a href=\"https://www.gs1.org/standards/gdsn/3-x\" style=\"color:blue; text-decoration:underline\">https://www.gs1.org/standards/gdsn/3-x</a>) under EUDAMED.\n","For additional explanation see <a href=\" https://www.gs1.nl/en/industries/food-health-and-beauty/gs1-data-source/entering-data/attribute-explorer-attributes-list\" style=\"color:blue; text-decoration:underline\" target=\"_blank\"> https://www.gs1.nl/en/industries/food-health-and-beauty/gs1-data-source/entering-data/attribute-explorer-attributes-list</a><br />\n<br />\nLocal Dutch applicable validation rules are: 500.279, 500.376\n",null,"False","CM","Mandatory for self-care medicines and medical devices.","O",null,"O",null,"Sarina","Sarina","9/27/2021 6:39:00 PM","11/4/2021 9:33:55 PM",{"$f":"IF(A273=\"ANL1420\",\"Targetsector\",LEFT(C273,LEN(C273)-LEN('BES EN'!E273)-3))","v":"Additional trade item classification code value"}]
["ANL1332","Active","SDS code (referencedFileTypeCode)","MNL0020","referencedFileTypeCode","3.1.17","/catalogue_item_notification:catalogueItemNotificationMessage/transaction/documentCommand/catalogue_item_notification:catalogueItemNotification/catalogueItem/tradeItem/tradeItemInformation/extension/*[namespace-uri()='urn:gs1:gdsn:safety_data_sheet:xsd:3' and local-name()='safetyDataSheetModule']/safetyDataSheetInformation/referencedFileInformation/referencedFileTypeCode","CodeList","BENELUX_GDSN_ReferencedFileTypeCode","","","1..1","","FMCG","Dangerous goods","449","Food;Health","","If you populate this field, please also populate the 'URL of SDS file' field. The brand owner is responsible for providing the safety data sheet (SDS). However, you can agree by private law that the producer/wholesaler is responsible for providing the SDS.\n","The type of file that is being referenced, for example safety data sheet.\n","SAFETY_DATA_SHEET\n","Choose the code 'SAFETY_DATA_SHEET' from the 'referencedFileTypeCode' code list which is linked to this field. <br />\nIt is mandatory to fill in this field if the 'Regulation type code' field contains the value 'SAFETY_DATA_SHEET_REQUIRED'.","Local Dutch applicable validation rules are: 500.275, 500.406, 500.407, 500.408",null,"False","CM","Mandatory in case ‘Regulation type code’ is populated with the value ‘SAFETY_DATA_SHEET_REQUIRED’ for a consumer unit.","O",null,"O",null,"Sarina","Sarina","9/27/2021 6:39:00 PM","11/4/2021 9:34:11 PM",{"$f":"IF(A274=\"ANL1420\",\"Targetsector\",LEFT(C274,LEN(C274)-LEN('BES EN'!E274)-3))","v":"SDS code"}]
["ANL1333","Active","URL of SDS file (uniformResourceIdentifier)","MNL0020","uniformResourceIdentifier","3.1.17","/catalogue_item_notification:catalogueItemNotificationMessage/transaction/documentCommand/catalogue_item_notification:catalogueItemNotification/catalogueItem/tradeItem/tradeItemInformation/extension/*[namespace-uri()='urn:gs1:gdsn:safety_data_sheet:xsd:3' and local-name()='safetyDataSheetModule']/safetyDataSheetInformation/referencedFileInformation/uniformResourceIdentifier","string",null,"1","2500","0..1","","FMCG","Dangerous goods","450","Food;Health","","If you want to enter the safety data sheet (SDS) in multiple languages, create a second grouping where you populate this field again with a link to the SDS in a different language.","Location plus name of the file that contains the external information.","http://www.lev.nl/SDS/SDS08711247123456.pdf","Please fill in a valid internet address that refers to the correct location of the safety data sheet (SDS) in the relevant language of the product.<br />\nIt is mandatory to fill in this field if the 'Regulation type code' field contains the value 'SAFETY_DATA_SHEET_REQUIRED'.","Local Dutch applicable validation rules are: 500.275",null,"False","CM","Mandatory in case ‘Regulation type code' is populated with the value ‘SAFETY_DATA_SHEET_REQUIRED’ for a consumer unit.","O",null,"O",null,"Sarina","Sarina","9/27/2021 6:39:00 PM","11/4/2021 9:34:27 PM",{"$f":"IF(A275=\"ANL1420\",\"Targetsector\",LEFT(C275,LEN(C275)-LEN('BES EN'!E275)-3))","v":"URL of SDS file"}]
["ANL1334","Active","Name of external file SDS (fileName)","MNL0020","fileName","3.1.17","/catalogue_item_notification:catalogueItemNotificationMessage/transaction/documentCommand/catalogue_item_notification:catalogueItemNotification/catalogueItem/tradeItem/tradeItemInformation/extension/*[namespace-uri()='urn:gs1:gdsn:safety_data_sheet:xsd:3' and local-name()='safetyDataSheetModule']/safetyDataSheetInformation/referencedFileInformation/fileName","string",null,"1","70","0..1","","FMCG","Dangerous goods","451","Food;Health","",null,"The name of the file that contains the external information.","SDS08711247123456.pdf","Enter the name of the external file.",null,null,"False","O",null,"O",null,"O",null,"Sarina","Sarina","9/27/2021 6:39:00 PM","11/4/2021 9:34:43 PM",{"$f":"IF(A276=\"ANL1420\",\"Targetsector\",LEFT(C276,LEN(C276)-LEN('BES EN'!E276)-3))","v":"Name of external file SDS"}]
["ANL1335","Active","Date of last SDS revision (fileEffectiveStartDateTime)","MNL0020","fileEffectiveStartDateTime","3.1.17","/catalogue_item_notification:catalogueItemNotificationMessage/transaction/documentCommand/catalogue_item_notification:catalogueItemNotification/catalogueItem/tradeItem/tradeItemInformation/extension/*[namespace-uri()='urn:gs1:gdsn:safety_data_sheet:xsd:3' and local-name()='safetyDataSheetModule']/safetyDataSheetInformation/referencedFileInformation/fileEffectiveStartDateTime","DateTime",null,"","","0..1","","FMCG","Dangerous goods","452","Health;Food","","Note: this date should not be confused with the print date of the document, which can be later. Some suppliers print the safety data sheet (SDS) on request and not only on the date the last revision took place.\n","The date on which the target of this external link begins to be effective for use.","2015-02-16T00:00:00","Enter the date of the last change to the safety data sheet (SDS) in this field. The date should not be in the future. Specify it as follows: 'T00:00:00'.<br />\nIt is mandatory to fill in this field if the 'Regulation type code' field contains the value 'SAFETY_DATA_SHEET_REQUIRED'.","Local Dutch applicable validation rules are: 500.406",null,"False","CM","Mandatory in case ‘Regulation type code' is populated with the value ‘SAFETY_DATA_SHEET_REQUIRED’ for a consumer unit.","O",null,"O",null,"Sarina","Sarina","9/27/2021 6:39:01 PM","11/4/2021 9:34:58 PM",{"$f":"IF(A277=\"ANL1420\",\"Targetsector\",LEFT(C277,LEN(C277)-LEN('BES EN'!E277)-3))","v":"Date of last SDS revision"}]
["ANL1336","Active","SDS language code (fileLanguageCode)","MNL0020","fileLanguageCode","3.1.17","/catalogue_item_notification:catalogueItemNotificationMessage/transaction/documentCommand/catalogue_item_notification:catalogueItemNotification/catalogueItem/tradeItem/tradeItemInformation/extension/*[namespace-uri()='urn:gs1:gdsn:safety_data_sheet:xsd:3' and local-name()='safetyDataSheetModule']/safetyDataSheetInformation/referencedFileInformation/fileLanguageCode","CodeList","BENELUX_GDSN_LanguageCode","","","0..n","","FMCG","Dangerous goods","453","Health;Food","","It is possible to populate this field multiple times within one target market because a safety data sheet (SDS) can be available in multiple languages. \n","Code indicating the language in which the text of the SDS is expressed, encoded according to ISO 639-1 (2 alpha).","en","Select the correct value from the 'ISO 639-1 (2-Alpha)' code list.<br />\nIt is mandatory to fill in this field if the 'Regulation type code' field contains the value 'SAFETY_DATA_SHEET_REQUIRED'.","- To find the applicable language codes, see: <a href=\" http://www.loc.gov/standards/iso639-2/php/code_list.php\" style=\"color:blue; text-decoration:underline\" target=\"_blank\"> http://www.loc.gov/standards/iso639-2/php/code_list.php</a> <br />\n<br />\nLocal Dutch applicable validation rules are: 500.407 ",null,"False","CM","Mandatory in case ‘Regulation type code' is populated with the value ‘SAFETY_DATA_SHEET_REQUIRED’ for a consumer unit.","O",null,"O",null,"Sarina","Sarina","9/27/2021 6:39:01 PM","11/4/2021 9:35:14 PM",{"$f":"IF(A278=\"ANL1420\",\"Targetsector\",LEFT(C278,LEN(C278)-LEN('BES EN'!E278)-3))","v":"SDS language code"}]
["ANL1337","Active","Trade name on SDS (contentDescription)","MNL0020","contentDescription","3.1.17","/catalogue_item_notification:catalogueItemNotificationMessage/transaction/documentCommand/catalogue_item_notification:catalogueItemNotification/catalogueItem/tradeItem/tradeItemInformation/extension/*[namespace-uri()='urn:gs1:gdsn:safety_data_sheet:xsd:3' and local-name()='safetyDataSheetModule']/safetyDataSheetInformation/referencedFileInformation/contentDescription","Description70",null,"","","0..1","","FMCG","Dangerous goods","454","Food;Health","","This trade name could be the same as the description of the UN number (see 'UN number' field) for products with an SDS.\n","Text shown on the title page of the safety sheet.","Bison stain remover 250ML","Indicate the name of the product as it appears on the title page of the safety data sheet (SDS). Populate this section in one language per safety data sheet (SDS). Within a target market, the name can occur several times depending on the language.<br />\nIt is mandatory to fill in this field if the 'Regulation type code' field contains the value 'SAFETY_DATA_SHEET_REQUIRED'.","Local Dutch applicable validation rules are: 500.408",null,"False","CM","Mandatory in case ‘Regulation type code' is populated with the value ‘SAFETY_DATA_SHEET_REQUIRED’ for a consumer unit.","O",null,"O",null,"Sarina","Sarina","9/27/2021 6:39:01 PM","11/4/2021 9:35:31 PM",{"$f":"IF(A279=\"ANL1420\",\"Targetsector\",LEFT(C279,LEN(C279)-LEN('BES EN'!E279)-3))","v":"Trade name on SDS"}]
["ANL1338","Active","Trade name on SDS language code (contentDescription/@languageCode)","MNL0020","contentDescription/@languageCode","3.1.17","/catalogue_item_notification:catalogueItemNotificationMessage/transaction/documentCommand/catalogue_item_notification:catalogueItemNotification/catalogueItem/tradeItem/tradeItemInformation/extension/*[namespace-uri()='urn:gs1:gdsn:safety_data_sheet:xsd:3' and local-name()='safetyDataSheetModule']/safetyDataSheetInformation/referencedFileInformation/contentDescription/@languageCode","CodeList","BENELUX_GDSN_LanguageCode","","","1..1","","FMCG","Dangerous goods","455","Food;Health","",null,"Code specifying a language. Allowed code values are specified in GS1 code list 'LanguageCode'.","en","Select the correct value from the 'ISO 639-1 (2-alpha)' code list.","- To find the applicable language codes, see: <a href=\" http://www.loc.gov/standards/iso639-2/php/code_list.php\" style=\"color:blue; text-decoration:underline\" target=\"_blank\"> http://www.loc.gov/standards/iso639-2/php/code_list.php</a> ",null,"False","CM","Mandatory in case the 'Trade name on SDS' field is populated","CM","in case the 'Trade name on SDS' field is populated","CM","in case the 'Trade name on SDS' field is populated","Sarina","Sarina","9/27/2021 6:39:01 PM","11/4/2021 9:35:47 PM",{"$f":"IF(A280=\"ANL1420\",\"Targetsector\",LEFT(C280,LEN(C280)-LEN('BES EN'!E280)-3))","v":"Trade name on SDS language code"}]
["ANL1342","Active","Excepted quantity code (specialPermitOrExemptionIdentification)","MNL0020","specialPermitOrExemptionIdentification","3.1.17","/catalogue_item_notification:catalogueItemNotificationMessage/transaction/documentCommand/catalogue_item_notification:catalogueItemNotification/catalogueItem/tradeItem/tradeItemInformation/extension/*[namespace-uri()='urn:gs1:gdsn:transportation_hazardous_classification:xsd:3' and local-name()='transportationHazardousClassificationModule']/transportationClassification/regulatedTransportationMode/specialPermitOrExemptionIdentification","CodeList","BENELUX_GDSN_SpecialPermitOrExemptionIdentification","","","0..n","","FMCG","Dangerous goods","459","Health;Food","","Dangerous goods can still be transported as normal goods under certain conditions (correct packaging and limited volume). Use this code in such an exception clause.\n","Code specifying the exemption from the regulations for the quantity of hazardous substances.\n","E0\n","Choose the correct value from the code list.<br />\n<br />\nFor dangerous goods with a safety data sheet (SDS) select a value only if the code is specified in chapter 14.7 of the SDS.<br />\n<br />\nThis field is mandatory if the &#39;ADR class&#39; field contains a value in the range from 1 to 9.<br />\n<br />\nCodes:<br />\nE0<br />\nE1<br />\nE2<br />\nE3<br />\nE4<br />\nE5<br />\nNOT_APPLICABLE<br />\nUNCLASSIFIED<br />\nUNIDENTIFIED\n","Local Dutch applicable validation rules are: 500.409, 500.410",null,"False","CM","Mandatory in case for a consumer unit 'ADR class' is populated with a value in the range 1 to 9.","O",null,"O",null,"Sarina","Sarina","9/27/2021 6:39:02 PM","11/4/2021 9:36:04 PM",{"$f":"IF(A281=\"ANL1420\",\"Targetsector\",LEFT(C281,LEN(C281)-LEN('BES EN'!E281)-3))","v":"Excepted quantity code"}]
["ANL1343","Active","Excepted quantity code - agency (specialPermitOrExemptionIdentification/@identificationSchemeAgencyCode)","MNL0020","specialPermitOrExemptionIdentification/@identificationSchemeAgencyCode","3.1.17","/catalogue_item_notification:catalogueItemNotificationMessage/transaction/documentCommand/catalogue_item_notification:catalogueItemNotification/catalogueItem/tradeItem/tradeItemInformation/extension/*[namespace-uri()='urn:gs1:gdsn:transportation_hazardous_classification:xsd:3' and local-name()='transportationHazardousClassificationModule']/transportationClassification/regulatedTransportationMode/specialPermitOrExemptionIdentification/@identificationSchemeAgencyCode","string",null,"1","80","0..1","","FMCG","Dangerous goods","460","Health;Food","",null,"Fixed text specifying the managing organisation of the excepted quantity.","ADR_ExceptedQuantityCode","This field must be populated with the fixed value \"ADR_ExceptedQuantityCode\". When you populate this field, you must populate the 'Excepted quantity code' field as well.","Local Dutch applicable validation rules are: 500.410",null,"False","CM","Mandatory in case the 'Excepted quantity code' field is populated.","CM","in case the 'Excepted quantity code' field is populated.","CM","in case the 'Excepted quantity code' field is populated.","Sarina","Sarina","9/27/2021 6:39:02 PM","11/4/2021 9:36:21 PM",{"$f":"IF(A282=\"ANL1420\",\"Targetsector\",LEFT(C282,LEN(C282)-LEN('BES EN'!E282)-3))","v":"Excepted quantity code - agency"}]
["ANL1344","Active","ADR tunnel restriction code (aDRTunnelRestrictionCode)","MNL0020","aDRTunnelRestrictionCode","3.1.17","/catalogue_item_notification:catalogueItemNotificationMessage/transaction/documentCommand/catalogue_item_notification:catalogueItemNotification/catalogueItem/tradeItem/tradeItemInformation/extension/*[namespace-uri()='urn:gs1:gdsn:transportation_hazardous_classification:xsd:3' and local-name()='transportationHazardousClassificationModule']/transportationClassification/regulatedTransportationMode/hazardousInformationHeader/aDRTunnelRestrictionCode","string","BENELUX_GDSN_ADRTunnelRestrictionCode","1","70","0..n","","FMCG","Dangerous goods","461","Food;Health","","Tunnel restriction codes are classified in category A to E. Tunnel restriction codes must be indicated on transport documents when dangerous goods are transported.\n","Code specifying the tunnel restriction in accordance with the ADR regime.\n","B1000C\n","Choose the correct value from the code list.<br />\n<br />\nFor dangerous goods with a safety data sheet (SDS) the value should match the tunnel restriction code in chapter 14.7 of the SDS and should originate from the part for ADR (Road).<br />\n<br />\nThis field is mandatory if the&nbsp;&#39;ADR class&#39; field contains a value in the range 1 to 9.\n","Local Dutch applicable validation rules are: 500.411",null,"False","CM","Mandatory in case for a consumer unit 'ADR class' is populated with a value in the range 1 to 9.","O",null,"O",null,"Sarina","Sarina","9/27/2021 6:39:02 PM","11/4/2021 9:36:37 PM",{"$f":"IF(A283=\"ANL1420\",\"Targetsector\",LEFT(C283,LEN(C283)-LEN('BES EN'!E283)-3))","v":"ADR tunnel restriction code"}]
["ANL1345","Active","ADR classification code (dangerousGoodsClassificationCode)","MNL0020","dangerousGoodsClassificationCode","3.1.17","/catalogue_item_notification:catalogueItemNotificationMessage/transaction/documentCommand/catalogue_item_notification:catalogueItemNotification/catalogueItem/tradeItem/tradeItemInformation/extension/*[namespace-uri()='urn:gs1:gdsn:transportation_hazardous_classification:xsd:3' and local-name()='transportationHazardousClassificationModule']/transportationClassification/regulatedTransportationMode/hazardousInformationHeader/hazardousInformationDetail/dangerousGoodsClassificationCode","string","BENELUX_GDSN_ADRClassificationCode","1","70","0..1","","FMCG","Dangerous goods","462","Health;Food","","The value of the classification code (ADR) depends on the value of the &#39;ADR class&#39; field in accordance with the ADR treaty. A classification code cannot be determined for all ADR classes. If a classification code is listed on the safety data sheet (SDS), it must also be entered.\n","Code specifying the detailed classification within the ADR system.\n","TF\n","Choose the correct value from the code list.<br />\n<br />\nFor dangerous goods with a safety data sheet (SDS) the value should match the ADR classification code in chapter 14 of the SDS and should originate from the part for ADR (Road).\n","<a href=\" https://www.unece.org/trans/danger/publi/adr/adr2015/15contentse.html\" style=\"color:blue; text-decoration:underline\" target=\"_blank\"> https://www.unece.org/trans/danger/publi/adr/adr2015/15contentse.html</a>\n",null,"False","CM","Mandatory in case for a consumer unit 'ADR class' is populated with a value in the range 1 to 9.","O",null,"O",null,"Sarina","Sarina","9/27/2021 6:39:02 PM","11/4/2021 9:36:54 PM",{"$f":"IF(A284=\"ANL1420\",\"Targetsector\",LEFT(C284,LEN(C284)-LEN('BES EN'!E284)-3))","v":"ADR classification code"}]
["ANL1348","Active","Proper shipping name - additional description (dangerousGoodsShippingName)","MNL0020","dangerousGoodsShippingName","3.1.17","/catalogue_item_notification:catalogueItemNotificationMessage/transaction/documentCommand/catalogue_item_notification:catalogueItemNotification/catalogueItem/tradeItem/tradeItemInformation/extension/*[namespace-uri()='urn:gs1:gdsn:transportation_hazardous_classification:xsd:3' and local-name()='transportationHazardousClassificationModule']/transportationClassification/regulatedTransportationMode/hazardousInformationHeader/hazardousInformationDetail/dangerousGoodsShippingName","LanguageOptionalDescription1000",null,"","","0..n","","FMCG","Dangerous goods","465","Food;Health","","This field does not have a corresponding language code field. Therefore, the language code is entered in this field followed by a colon and the additional description. Repeat this field to enter the additional description of the proper shipping name in another language.\n","Text indicating the additional description to the transport name (proper shipping name) of the hazardous substance, if the label pertains to the relevant UN number.\n","nl:Pyrrolidine\n","Indicate the additional description to the proper shipping name (=definition of the UN number, see &#39;UN number&#39; field) if the description pertaining to the relevant UN number requires this. Start with the 2-letter language code of the additional description followed by a &#39;:&#39;, for example &#39;en: Pyrrolidine&#39;.<br />\nIf multiple substances are present, fill them in this field in per language and separate them by using commas.<br />\n<br />\nFor dangerous goods with a safety data sheet (SDS) you can find the value in chapter 14 of the SDS.<br />\n<br />\nYou can only enter this field when the &#39;ADR class&#39; field has a value in the range 1 to 9.\n",null,null,"False","O",null,"O",null,"O",null,"Sarina","Sarina","9/27/2021 6:39:03 PM","11/4/2021 9:37:10 PM",{"$f":"IF(A285=\"ANL1420\",\"Targetsector\",LEFT(C285,LEN(C285)-LEN('BES EN'!E285)-3))","v":"Proper shipping name - additional description"}]
["ANL1349","Active","Hazard label number (dangerousHazardousLabelNumber)","MNL0020","dangerousHazardousLabelNumber","3.1.17","/catalogue_item_notification:catalogueItemNotificationMessage/transaction/documentCommand/catalogue_item_notification:catalogueItemNotification/catalogueItem/tradeItem/tradeItemInformation/extension/*[namespace-uri()='urn:gs1:gdsn:transportation_hazardous_classification:xsd:3' and local-name()='transportationHazardousClassificationModule']/transportationClassification/regulatedTransportationMode/hazardousInformationHeader/hazardousInformationDetail/dangerousHazardousLabel/dangerousHazardousLabelNumber","string","BENELUX_GDSN_HazardLabelNumber","1","35","1..1","","FMCG","Dangerous goods","466","Health;Food","","Examples of the ADR symbols can be found in chapter 5.2.2.2 of the ADR manual. The manual is downloadable from the website of UNECE, see below in the field &#39;procesbeschrijving&#39;.<br />\n<br />\nYou can select multiple values.\n","Code indicating the symbol on the product that belongs to the category of the hazardous substance.\n","4.3\n","Choose the correct value from the code list. The value will correspond to the value of the ADR symbol code in chapter 14 of the safety data sheet (SDS). Do not use the value of chapters 2 or 15, these contain the GHS symbol.<br />\n<br />\nYou can repeat this field multiple times to indicate different ADR symbol codes, with a maximum of 9.<br />\n<br />\nYou can only enter this field when the &#39;ADR class&#39; field has a value in the range 1 to 9.\n","<a href=\" https://www.unece.org/trans/danger/publi/adr/adr2015/15contentse.html\" style=\"color:blue; text-decoration:underline\" target=\"_blank\"> https://www.unece.org/trans/danger/publi/adr/adr2015/15contentse.html</a>\n",null,"False","O",null,"O",null,"O",null,"Sarina","Sarina","9/27/2021 6:39:03 PM","11/4/2021 9:37:27 PM",{"$f":"IF(A286=\"ANL1420\",\"Targetsector\",LEFT(C286,LEN(C286)-LEN('BES EN'!E286)-3))","v":"Hazard label number"}]
["ANL1350","Active","Hazard label number - serial number (dangerousHazardousLabelSequenceNumber)","MNL0020","dangerousHazardousLabelSequenceNumber","3.1.17","/catalogue_item_notification:catalogueItemNotificationMessage/transaction/documentCommand/catalogue_item_notification:catalogueItemNotification/catalogueItem/tradeItem/tradeItemInformation/extension/*[namespace-uri()='urn:gs1:gdsn:transportation_hazardous_classification:xsd:3' and local-name()='transportationHazardousClassificationModule']/transportationClassification/regulatedTransportationMode/hazardousInformationHeader/hazardousInformationDetail/dangerousHazardousLabel/dangerousHazardousLabelSequenceNumber","nonNegativeInteger",null,"","","1..1","","FMCG","Dangerous goods","467","Health;Food","",null,"Code specifying the sequence number of the symbol that belongs to the category of dangerous substances.\n","1\n","Specify a sequential number (ascending number) for each symbol code, starting with 1.\n",null,null,"False","CM","Mandatory in case for a consumer unit 'Hazard label number' is populated.","O",null,"O",null,"Sarina","Sarina","9/27/2021 6:39:03 PM","11/4/2021 9:37:43 PM",{"$f":"IF(A287=\"ANL1420\",\"Targetsector\",LEFT(C287,LEN(C287)-LEN('BES EN'!E287)-3))","v":"Hazard label number - serial number"}]
["ANL1354","Active","Substance on carcinogenic substances list of SZW indicator (isSubstanceOfVeryHighConcern)","MNL0020","isSubstanceOfVeryHighConcern","3.1.17","/catalogue_item_notification:catalogueItemNotificationMessage/transaction/documentCommand/catalogue_item_notification:catalogueItemNotification/catalogueItem/tradeItem/tradeItemInformation/extension/*[namespace-uri()='urn:gs1:gdsn:safety_data_sheet:xsd:3' and local-name()='safetyDataSheetModule']/safetyDataSheetInformation/rEACHInformation/isSubstanceOfVeryHighConcern","CodeList","BENELUX_GDSN_NonBinaryLogicEnumeration","","","0..1","","FMCG","Dangerous goods","471","Food;Health","",null,"A code indicating whether the product contains a substance that is on the SZW list for carcinogenic substances","FALSE","Choose between 'TRUE' or 'FALSE'.<br />\nThis field is only used for the Dutch target market.",null,null,"False","O",null,"O",null,"O",null,"Sarina","Sarina","9/27/2021 6:39:03 PM","11/4/2021 9:37:59 PM",{"$f":"IF(A288=\"ANL1420\",\"Targetsector\",LEFT(C288,LEN(C288)-LEN('BES EN'!E288)-3))","v":"Substance on carcinogenic substances list of SZW indicator"}]
["ANL1356","Active","Chemical ingredient identification (chemicalIngredientIdentification)","MNL0020","chemicalIngredientIdentification","3.1.17","/catalogue_item_notification:catalogueItemNotificationMessage/transaction/documentCommand/catalogue_item_notification:catalogueItemNotification/catalogueItem/tradeItem/tradeItemInformation/extension/*[namespace-uri()='urn:gs1:gdsn:safety_data_sheet:xsd:3' and local-name()='safetyDataSheetModule']/safetyDataSheetInformation/chemicalInformation/chemicalIngredient/chemicalIngredientIdentification","string",null,"1","35","0..1","","FMCG","Dangerous goods","473","Cosmetics;Health;Food","","When you use this field for the CAS identification number, you also need to use ‘Chemical ingredient scheme’ and ‘Chemical ingredient concentration’.<br />\n<br />\nVOS = Vluchtige Organische Stof (Dutch) or VOM = Volatile organic matter (English) Different types of paint have different environmental effects. Using this code, the maximum permissible concentration of volatile organic matter must be specified for this product. Globally, governments are attempting to reduce the use of such substances from an environmental and climatic point of view. Laws and regulations on these substances should reduce their levels in the air.","A unique number to identify a chemical used to cross reference regulated lists of chemicals for example CAS number.","3811-04-9<br />\nAaSG","For products that contain precursors for explosives, populate this field with the CAS identification number of the explosive precursor.<br />\n<br />\nFor paint products enter here the correct code according to the VOM laws and regulations, exactly as recorded there.","Local Dutch applicable validation rules are: 500.414",null,"False","CM","Mandatory for products that contain precursors for explosives and paint products.","O",null,"O",null,"Sarina","Sarina","9/27/2021 6:39:04 PM","11/4/2021 9:38:16 PM",{"$f":"IF(A289=\"ANL1420\",\"Targetsector\",LEFT(C289,LEN(C289)-LEN('BES EN'!E289)-3))","v":"Chemical ingredient identification"}]
["ANL1357","Active","VOM category - agency (chemicalIngredientOrganisation)","MNL0020","chemicalIngredientOrganisation","3.1.17","/catalogue_item_notification:catalogueItemNotificationMessage/transaction/documentCommand/catalogue_item_notification:catalogueItemNotification/catalogueItem/tradeItem/tradeItemInformation/extension/*[namespace-uri()='urn:gs1:gdsn:safety_data_sheet:xsd:3' and local-name()='safetyDataSheetModule']/safetyDataSheetInformation/chemicalInformation/chemicalIngredientOrganisation","string",null,"1","200","0..1","","FMCG","Dangerous goods","474","Food;Health","",null,"Fixed text indicating the managing organisation of the VOM (volatile organic matter) category.\n","VOS\n","Enter the fixed value 'VOS'.\n",null,null,"False","CM","Mandatory for paint products.","O",null,"O",null,"Sarina","Sarina","9/27/2021 6:39:04 PM","11/4/2021 9:38:32 PM",{"$f":"IF(A290=\"ANL1420\",\"Targetsector\",LEFT(C290,LEN(C290)-LEN('BES EN'!E290)-3))","v":"VOM category - agency"}]
["ANL1358","Active","Chemical ingredient concentration  (chemicalIngredientConcentration)","MNL0020","chemicalIngredientConcentration","3.1.17","/catalogue_item_notification:catalogueItemNotificationMessage/transaction/documentCommand/catalogue_item_notification:catalogueItemNotification/catalogueItem/tradeItem/tradeItemInformation/extension/*[namespace-uri()='urn:gs1:gdsn:safety_data_sheet:xsd:3' and local-name()='safetyDataSheetModule']/safetyDataSheetInformation/chemicalInformation/chemicalIngredient/chemicalIngredientConcentration","Measurement",null,"","","0..1","","FMCG","Dangerous goods","475","Food;Health;Cosmetics","","When you use this field for precursors, you also need to use ‘Chemical ingredient scheme’ and ‘Chemical ingredient identification’.<br />\n<br />\nThe value of VOM is expressed in grams per litre of volatile organic matter. The value must be less than the maximum for the relevant VOM category.","The percentage or amount of a chemical ingredient in relation to the total composition of the product.\n","5 (P1)<br />\n32\n","For products that contain precursors for explosives, populate this field with the concentration (in percentages) of the explosive precursor contained in the product. You also have to populate the 'Chemical ingredient concentration UOM' field with the value 'P1' for percentages. <br />\n<br />\nFor paint products: enter the value of VOM in grams per litre, 'Gl' according to the 'measurementUnitCode' code list. For dangerous goods with a safety data sheet (SDS) you can find the value in chapter 15 of the SDS.","Local Dutch applicable validation rules are: 500.414",null,"False","CM","Mandatory for products that contain precursors for explosives and paint products.","O",null,"O",null,"Sarina","Sarina","9/27/2021 6:39:04 PM","11/4/2021 9:38:49 PM",{"$f":"IF(A291=\"ANL1420\",\"Targetsector\",LEFT(C291,LEN(C291)-LEN('BES EN'!E291)-3))","v":"Chemical ingredient concentration "}]
["ANL1359","Active","Chemical ingredient concentration UOM (chemicalIngredientConcentration/@measurementUnitCode)","MNL0020","chemicalIngredientConcentration/@measurementUnitCode","3.1.17","/catalogue_item_notification:catalogueItemNotificationMessage/transaction/documentCommand/catalogue_item_notification:catalogueItemNotification/catalogueItem/tradeItem/tradeItemInformation/extension/*[namespace-uri()='urn:gs1:gdsn:safety_data_sheet:xsd:3' and local-name()='safetyDataSheetModule']/safetyDataSheetInformation/chemicalInformation/chemicalIngredient/chemicalIngredientConcentration/@measurementUnitCode","CodeList","BENELUX_GDSN_MeasurementUnitCode","","","1..1","","FMCG","Dangerous goods","476","Cosmetics;Food;Health","",null,"Any standardised, reproducible unit that can be used to measure any physical property.","GL<br />\nP1","Select the value from the 'measurementUnitCode' code list.",null,null,"False","CM","Mandatory in case 'Chemical ingredient concentration' is populated","CM","in case 'Chemical ingredient concentration' is populated","CM","in case 'Chemical ingredient concentration' is populated","Sarina","Sarina","9/27/2021 6:39:05 PM","11/4/2021 9:39:06 PM",{"$f":"IF(A292=\"ANL1420\",\"Targetsector\",LEFT(C292,LEN(C292)-LEN('BES EN'!E292)-3))","v":"Chemical ingredient concentration UOM"}]
["ANL1361","Active","Flashpoint - minimum (flashPointTemperatureLowerValue)","MNL0020","flashPointTemperatureLowerValue","3.1.17","/catalogue_item_notification:catalogueItemNotificationMessage/transaction/documentCommand/catalogue_item_notification:catalogueItemNotification/catalogueItem/tradeItem/tradeItemInformation/extension/*[namespace-uri()='urn:gs1:gdsn:safety_data_sheet:xsd:3' and local-name()='safetyDataSheetModule']/safetyDataSheetInformation/physicalChemicalPropertyInformation/flashPoint/flashPointTemperatureLowerValue","TemperatureMeasurement",null,"","","0..n","","FMCG","Dangerous goods","478","Health;Food","","A flashpoint indicates the minimum temperature at which a liquid gasification occurs in a concentration that forms an inflammable mixture of air and gas at the surface. For most substances, this is not one exact temperature but a temperature range, within which such flammable gases develop. If only this field is filled in it is the exact temperature. If the &#39;Flashpoint- maximum&#39; field is also filled in, this field contains the lower limit of the temperature range. If it is a legal obligation to specify a flashpoint, &#39;Flashpoint - minimum&#39; has to be filled in and &#39;Flashpoint - maximum&#39; can be filled in.\n","Number indicating the minimum temperature of a temperature range or the exact temperature for the flashpoint.\n","23\n","Enter the flashpoint in this field.<br />\nIf an exact flashpoint is indicated, only populate this field (and not &#39;Flashpoint - maximum&#39; as well).<br />\nPopulate two values (minimum and maximum) for a range (use this field and &#39;Flashpoint - maximum&#39;).<br />\nPopulate this field with integers (so no decimals). Fill in the unit of temperature (&#39;CEL&#39;) according to the code list &#39;temperatureMeasurementUnitCode&#39; in the field &#39;Flashpoint - minimum UOM&#39;.<br />\nEnter the value &#39;999&#39; if the exact flashpoint or range cannot be determined.<br />\n<br />\nFor dangerous goods with a safety data sheet (SDS), enter the flashpoint range as it appears in chapter 9 in the SDS.\n",null,null,"False","O",null,"O",null,"O",null,"Sarina","Sarina","9/27/2021 6:39:05 PM","11/4/2021 9:39:24 PM",{"$f":"IF(A293=\"ANL1420\",\"Targetsector\",LEFT(C293,LEN(C293)-LEN('BES EN'!E293)-3))","v":"Flashpoint - minimum"}]
["ANL1362","Active","Flashpoint - minimum UOM (flashPointTemperatureLowerValue/@temperatureMeasurementUnitCode)","MNL0020","flashPointTemperatureLowerValue/@temperatureMeasurementUnitCode","3.1.17","/catalogue_item_notification:catalogueItemNotificationMessage/transaction/documentCommand/catalogue_item_notification:catalogueItemNotification/catalogueItem/tradeItem/tradeItemInformation/extension/*[namespace-uri()='urn:gs1:gdsn:safety_data_sheet:xsd:3' and local-name()='safetyDataSheetModule']/safetyDataSheetInformation/physicalChemicalPropertyInformation/flashPoint/flashPointTemperatureLowerValue/@temperatureMeasurementUnitCode","CodeList","BENELUX_GDSN_TemperatureMeasurementUnitCode","","","1..1","","FMCG","Dangerous goods","479","Food;Health","",null,"Any standardised, reproducible unit that can be used to measure any physical property.","CEL","Select the value from the 'TemperatureMeasurementUnitCode' code list.",null,null,"False","CM","Mandatory in case the 'Flashpoint - minimum' field is populated.","CM","in case the 'Flashpoint - minimum' field is populated.","CM","in case the 'Flashpoint - minimum' field is populated.","Sarina","Sarina","9/27/2021 6:39:05 PM","11/4/2021 9:39:40 PM",{"$f":"IF(A294=\"ANL1420\",\"Targetsector\",LEFT(C294,LEN(C294)-LEN('BES EN'!E294)-3))","v":"Flashpoint - minimum UOM"}]
["ANL1363","Active","Flashpoint - maximum (flashPointTemperatureUpperValue)","MNL0020","flashPointTemperatureUpperValue","3.1.17","/catalogue_item_notification:catalogueItemNotificationMessage/transaction/documentCommand/catalogue_item_notification:catalogueItemNotification/catalogueItem/tradeItem/tradeItemInformation/extension/*[namespace-uri()='urn:gs1:gdsn:safety_data_sheet:xsd:3' and local-name()='safetyDataSheetModule']/safetyDataSheetInformation/physicalChemicalPropertyInformation/flashPoint/flashPointTemperatureUpperValue","TemperatureMeasurement",null,"","","0..n","","FMCG","Dangerous goods","480","Food;Health","","A flashpoint indicates the minimum temperature at which a liquid gasification occurs in a concentration that forms an inflammable mixture of air and gas at the surface. For most substances, this is not one exact temperature but a temperature range, within which such flammable gases develop. This field contains the maximum of such a range. If it is a legal obligation to specify a flashpoint, &#39;Flashpoint - minimum&#39; has to be filled in and &#39;Flashpoint - maximum&#39; can be filled in.\n","Number indicating the maximum temperature of a temperature range for the flashpoint.\n","28\n","Enter the maximum flashpoint in this field. The value in this field must be greater than the value in the &#39;Flashpoint-minimum&#39; field.<br />\nIf an exact flashpoint is indicated, populate the &#39;Flashpoint-minimum&#39; field with that value.<br />\nPopulate two values (minimum and maximum) for a range (use this field and &#39;Flashpoint - minimum&#39;).<br />\nPopulate this field with integers (so no decimals). Fill in the unit of the temperature (&#39;CEL&#39;) according to the coe list &#39;temperatureMeasurementUnitCode&#39; in the field &#39;Flashpoint - maximum UOM&#39;.<br />\nEnter the value &#39;999&#39; if the exact flashpoint or range cannot be determined.<br />\n<br />\nFor dangerous goods with a safety data sheet (SDS), enter the flashpoint range as it appears in chapter 9 in the SDS.\n",null,null,"False","O",null,"O",null,"O",null,"Sarina","Sarina","9/27/2021 6:39:05 PM","11/4/2021 9:39:57 PM",{"$f":"IF(A295=\"ANL1420\",\"Targetsector\",LEFT(C295,LEN(C295)-LEN('BES EN'!E295)-3))","v":"Flashpoint - maximum"}]
["ANL1364","Active","Flashpoint - maximum UOM (flashPointTemperatureUpperValue/@temperatureMeasurementUnitCode)","MNL0020","flashPointTemperatureUpperValue/@temperatureMeasurementUnitCode","3.1.17","/catalogue_item_notification:catalogueItemNotificationMessage/transaction/documentCommand/catalogue_item_notification:catalogueItemNotification/catalogueItem/tradeItem/tradeItemInformation/extension/*[namespace-uri()='urn:gs1:gdsn:safety_data_sheet:xsd:3' and local-name()='safetyDataSheetModule']/safetyDataSheetInformation/physicalChemicalPropertyInformation/flashPoint/flashPointTemperatureUpperValue/@temperatureMeasurementUnitCode","CodeList","BENELUX_GDSN_TemperatureMeasurementUnitCode","","","1..1","","FMCG","Dangerous goods","481","Health;Food","",null,"Any standardised, reproducible unit that can be used to measure any physical property.","CEL","Select the value from the 'TemperatureMeasurementUnitCode' code list.",null,null,"False","CM","Mandatory in case the 'Flashpoint - maximum' field is populated. ","CM","in case the 'Flashpoint - maximum' field is populated. ","CM","in case the 'Flashpoint - maximum' field is populated. ","Sarina","Sarina","9/27/2021 6:39:05 PM","11/4/2021 9:40:14 PM",{"$f":"IF(A296=\"ANL1420\",\"Targetsector\",LEFT(C296,LEN(C296)-LEN('BES EN'!E296)-3))","v":"Flashpoint - maximum UOM"}]
["ANL1365","Active","Feature code (tradeItemFeatureCodeReference)","MNL0020","tradeItemFeatureCodeReference","3.1.17","/catalogue_item_notification:catalogueItemNotificationMessage/transaction/documentCommand/catalogue_item_notification:catalogueItemNotification/catalogueItem/tradeItem/tradeItemInformation/extension/*[namespace-uri()='urn:gs1:gdsn:marketing_information:xsd:3' and local-name()='marketingInformationModule']/marketingInformation/tradeItemFeatureCodeReference","CodeList","BENELUX_GDSN_FeatureCode","","","0..n","","FMCG","Lightbulbs;Label health&beauty","404","Food;Health","","In case the sterilisation method is given on the packaging, you also populate the ‘Type of sterilisation ex works’ field.<br />\n<br />\nThis field is checked in the context of the Dutch data quality program.","A code depicting a distinctive functionality offered as a special attraction to the trade item for example BUILT_IN_ALARM_CLOCK. Use the code list &lsquo;FeatureCode&rsquo;.","WATERPROOF<br />\n<br />\nMedical devices: STERILE<br />\n<br />\nLight bulbs: DIMMABLE","For medical devices: enter the code &lsquo;STERILE&rsquo; from the code list &#39;FeatureCode&#39; in this field to indicate it is a sterile product. <br />\n<br />\nFor waterproof products, select the code ‘WATERPROOF’.<br />\n<br />\nFor light bulbs: enter the code DIMMABLE to indicate that the light bulb is dimmable.",null,null,"False","CM","Mandatory for medical devices, if the packaging states that the product is sterile (text or logo) and for light bulbs if indicated on the package that the light bulb is dimmable.","O",null,"O",null,"Sarina","Sarina","9/27/2021 6:39:06 PM","11/4/2021 9:40:31 PM",{"$f":"IF(A297=\"ANL1420\",\"Targetsector\",LEFT(C297,LEN(C297)-LEN('BES EN'!E297)-3))","v":"Feature code"}]
["ANL1366","Active","Type of sterilisation ex works (initialManufacturerSterilisationCode)","MNL0020","initialManufacturerSterilisationCode","3.1.17","/catalogue_item_notification:catalogueItemNotificationMessage/transaction/documentCommand/catalogue_item_notification:catalogueItemNotification/catalogueItem/tradeItem/tradeItemInformation/extension/*[namespace-uri()='urn:gs1:gdsn:medical_device_trade_item:xsd:3' and local-name()='medicalDeviceTradeItemModule']/medicalDeviceInformation/tradeItemSterilityInformation/initialManufacturerSterilisationCode","CodeList","BENELUX_GDSN_SterilisationTypeCode","","","0..n","","FMCG","Label health&beauty","405","Health","",null,"Type(s) of sterilisation that may have been performed by the manufacturer if a trade item is sterile when it comes from the manufacturer. Sterilisation refers to any process that effectively kills or eliminates transmissible agents (such as fungi, bacteria, viruses, prions and spore forms etc.) from a surface, equipment, foods, medications, or biological culture medium. Some methods of sterilisation are through the application of heat, radiation, and ethylene.","LIQUID_CHEMICAL","Populate this field with the code of the sterilisation method given on the packaging. Select a value from the code list ‘SterilisationTypeCode’.",null,null,"False","CM","Mandatory for medical devices if the sterilisation method is stated on the packaging.","O",null,"O",null,"Sarina","Sarina","9/27/2021 6:39:06 PM","11/4/2021 9:40:47 PM",{"$f":"IF(A298=\"ANL1420\",\"Targetsector\",LEFT(C298,LEN(C298)-LEN('BES EN'!E298)-3))","v":"Type of sterilisation ex works"}]
["ANL1367","Active","Nutrient source (nutrientSource)","MNL0020","nutrientSource","3.1.17","/catalogue_item_notification:catalogueItemNotificationMessage/transaction/documentCommand/catalogue_item_notification:catalogueItemNotification/catalogueItem/tradeItem/tradeItemInformation/extension/*[namespace-uri()='urn:gs1:gdsn:nutritional_information:xsd:3' and local-name()='nutritionalInformationModule']/nutrientHeader/nutrientDetail/nutrientSource","Description500",null,"","","0..n","","FMCG","Fruit&Vegetable;Label health&beauty;Label","301","Fruit&Vegetable;Food;Health","","Only populate this field if the &lsquo;Nutrient type code (UN INFOODS code)&rsquo; field is populated with the corresponding nutrient.&nbsp;<br />\n<br />\nThis field is checked in the context of the Dutch data quality program.\n","Information about the source ingredient from which the nutrient value is derived.","Zout is enkel afkomstig uit natuurlijk voorkomend natrium<br />\nBevat van nature aanwezige suikers\n","Enter the additional information about the ingredient from which the nutrient is derived that is on the label/packaging. This information is linked on the label to the corresponding nutrient in the nutrient table by a marking. For example a star is often used, but also other markings are possible.\n","For additional explanation see <a href=\" https://www.gs1.nl/en/industries/food-health-and-beauty/gs1-data-source/entering-data/attribute-explorer-attributes-list\" style=\"color:blue; text-decoration:underline\" target=\"_blank\"> https://www.gs1.nl/en/industries/food-health-and-beauty/gs1-data-source/entering-data/attribute-explorer-attributes-list</a>\n",null,"False","O",null,"O",null,"O",null,"Sarina","Sarina","9/27/2021 6:39:06 PM","11/4/2021 9:41:05 PM",{"$f":"IF(A299=\"ANL1420\",\"Targetsector\",LEFT(C299,LEN(C299)-LEN('BES EN'!E299)-3))","v":"Nutrient source"}]
["ANL1368","Active","Nutrient source language code (nutrientSource/@languageCode)","MNL0020","nutrientSource/@languageCode","3.1.17","/catalogue_item_notification:catalogueItemNotificationMessage/transaction/documentCommand/catalogue_item_notification:catalogueItemNotification/catalogueItem/tradeItem/tradeItemInformation/extension/*[namespace-uri()='urn:gs1:gdsn:nutritional_information:xsd:3' and local-name()='nutritionalInformationModule']/nutrientHeader/nutrientDetail/nutrientSource/@languageCode","CodeList","BENELUX_GDSN_LanguageCode","","","1..1","","FMCG","Label;Fruit&Vegetable;Label health&beauty","302","Food;Health;Fruit&Vegetable","",null,"Code specifying a language. Allowed code values are specified in GS1 code list 'LanguageCode'.","nl","Select the correct value from the 'ISO 639-1 (2-alpha)' code list.","- To find the applicable language codes, see: <a href=\" http://www.loc.gov/standards/iso639-2/php/code_list.php\" style=\"color:blue; text-decoration:underline\" target=\"_blank\"> http://www.loc.gov/standards/iso639-2/php/code_list.php</a> ",null,"False","CM","Mandatory if 'Nutrient source' is populated","CM","if 'Nutrient source' is populated","CM","if 'Nutrient source' is populated","Sarina","Sarina","9/27/2021 6:39:06 PM","11/4/2021 9:41:23 PM",{"$f":"IF(A300=\"ANL1420\",\"Targetsector\",LEFT(C300,LEN(C300)-LEN('BES EN'!E300)-3))","v":"Nutrient source language code"}]
["ANL1369","Active","Sun protection factor (SPF) (sunProtectionFactor)","MNL0020","sunProtectionFactor","3.1.17","/catalogue_item_notification:catalogueItemNotificationMessage/transaction/documentCommand/catalogue_item_notification:catalogueItemNotification/catalogueItem/tradeItem/tradeItemInformation/extension/*[namespace-uri()='urn:gs1:gdsn:health_related_information:xsd:3' and local-name()='healthRelatedInformationModule']/healthRelatedInformation/sunProtectionFactor","string","BENELUX_GDSN_SunProtectionFactor","1","4","0..1","","FMCG","Label;Label health&beauty","303","Health;Cosmetics","","It may occur that the SPF is not mentioned on the front face of the product, but a value like &#39;High&#39; or &#39;Medium&#39; is. Enter this information optionally in the &#39;Trade item marketing message&#39; field, &lsquo;Trade item feature benefit&rsquo; field or &lsquo;Trade item key words&rsquo; field On one of the others sides of the packaging (often the back) you will find the SPF value.<br />\n<br />\nThis field is checked in the context of the Dutch data quality program.\n","It is a measure of Ultra Violet B (UVB) radiation protection, ranges from 1 to 90.","Sunscreens: 50+<br />\n<br />\nCosmetics: 17\n","Enter the Sun Protection Factor (SPF) as stated on the packaging in this field.<br />\n<br />\nFor sunscreens: select a value from the code list &#39;SunProtectionFactor&#39;.<br />\n<br />\nFor cosmetics and personal care products: populate this field with a value from 1 to 90.\n","Local Dutch applicable validation rules are: 500.286, 500.354\n",null,"False","CM","Mandatory if the SPF is mentioned on the packaging.","O",null,"O",null,"Sarina","Sarina","9/27/2021 6:39:07 PM","11/4/2021 9:41:42 PM",{"$f":"IF(A301=\"ANL1420\",\"Targetsector\",LEFT(C301,LEN(C301)-LEN('BES EN'!E301)-3))","v":"Sun protection factor (SPF)"}]
["ANL1370","Active","Shelf life for a customer after opening (itemPeriodSafeToUseAfterOpening)","MNL0020","itemPeriodSafeToUseAfterOpening","3.1.17","/catalogue_item_notification:catalogueItemNotificationMessage/transaction/documentCommand/catalogue_item_notification:catalogueItemNotification/catalogueItem/tradeItem/tradeItemInformation/extension/*[namespace-uri()='urn:gs1:gdsn:trade_item_lifespan:xsd:3' and local-name()='tradeItemLifespanModule']/tradeItemLifespan/itemPeriodSafeToUseAfterOpening","TimeMeasurement",null,"","","0..n","","FMCG","Label health&beauty","406","Health;Cosmetics","","Enter the unit of measurement in a separate field.<br />\n<br />\nThis field is checked in the context of the Dutch data quality program.","The period after the opening where the product is still safe to be used. The period of time after opening that the product may be used without any harm to the consumer. This mention MUST take the form of number of months or number of years for example 50 MON.","12\n","If the packaging shows the symbol with the open pot, enter here the value of the shelf life as shown in the symbol with the open pot. If there is no open pot symbol but there is a shelf life mentioned on the packaging, enter this shelf life in the field &#39;Consumer storage instructions&#39; including the unit of measurement.\n",null,null,"False","CM","Mandatory if mentioned on the packaging.","O",null,"O",null,"Sarina","Sarina","9/27/2021 6:39:07 PM","11/4/2021 9:41:59 PM",{"$f":"IF(A302=\"ANL1420\",\"Targetsector\",LEFT(C302,LEN(C302)-LEN('BES EN'!E302)-3))","v":"Shelf life for a customer after opening"}]
["ANL1371","Active","Shelf life for a customer after opening UOM (itemPeriodSafeToUseAfterOpening/@timeMeasurementUnitCode)","MNL0020","itemPeriodSafeToUseAfterOpening/@timeMeasurementUnitCode","3.1.17","/catalogue_item_notification:catalogueItemNotificationMessage/transaction/documentCommand/catalogue_item_notification:catalogueItemNotification/catalogueItem/tradeItem/tradeItemInformation/extension/*[namespace-uri()='urn:gs1:gdsn:trade_item_lifespan:xsd:3' and local-name()='tradeItemLifespanModule']/tradeItemLifespan/itemPeriodSafeToUseAfterOpening/@timeMeasurementUnitCode","CodeList","BENELUX_GDSN_MeasurementUnitCode","","","1..1","","FMCG","Label health&beauty","407","Health;Cosmetics","",null,"Any standardised, reproducible unit that can be used to measure any physical property.","MON","Select the correct value from the 'MeasurementUnitCode' code list.",null,null,"False","CM","Mandatory if 'Shelf life for a customer after opening' is populated.","CM","if 'Shelf life for a customer after opening' is populated.","CM","if 'Shelf life for a customer after opening' is populated.","Sarina","Sarina","9/27/2021 6:39:07 PM","11/4/2021 9:42:16 PM",{"$f":"IF(A303=\"ANL1420\",\"Targetsector\",LEFT(C303,LEN(C303)-LEN('BES EN'!E303)-3))","v":"Shelf life for a customer after opening UOM"}]
["ANL1372","Active","Nutrient basis quantity description (nutrientBasisQuantityDescription)","MNL0020","nutrientBasisQuantityDescription","3.1.17","/catalogue_item_notification:catalogueItemNotificationMessage/transaction/documentCommand/catalogue_item_notification:catalogueItemNotification/catalogueItem/tradeItem/tradeItemInformation/extension/*[namespace-uri()='urn:gs1:gdsn:nutritional_information:xsd:3' and local-name()='nutritionalInformationModule']/nutrientHeader/nutrientBasisQuantityDescription","Description500",null,"","","0..n","","FMCG","Label;Label health&beauty;Fruit&Vegetable;Datakwalitijd 2.0","304","Food;Health;Fruit&Vegetable","","Should be entered in the same languages as mentioned on the label.<br />\n<br />\nThis field is checked in the context of the Dutch data quality program.\n","The description or additional information of the serving size for the product.","1 portion is 18 gram<br />\n1 biscuit<br />\nSnickers\n","In case nutrients per portion are included in the nutrient table next to the serving size (please refer to &#39;Nutrient basis quantity&#39; field), and the portion has an added description in text (for example one portion is 33,3 g), enter the household serving size that goes with it here in text.<br />\nIf there is a clarification of different household serving sizes on the label (e.g. a prepared vegetarian portion and a portion prepared with meat), you may enter this text here.<br />\nYou do NOT populate this field when the portion is only indicated with a number and measurement unit (for example 30 gram) in the nutrient table and is also not described in text somewhere else on the label. In that case you populate the value in the field &#39;Nutrient basis quantity&#39;.<br />\n<br />\nIf there are no nutrients per portion on the label, then populate the household serving size in the field &#39;Consumer usage instructions&#39;.<br />\n<br />\nComponents:<br />\nAn item with components contains (individually packaged) different parts. At least one of them does not have a GTIN. If the nutrients of the components are printed on your label, you must also enter this. If you are going to enter the nutrients of the components of an item, use this field (&#39;Nutrient basis quantity description&#39;) to indicate to which component those nutritional values belong.<br />\nAn example of an article with components is a bag of Mars Minis, with the components Mars, Snickers, Twix etc. In this example, the nutrients are stated on the label both in 100 grams and per portion. In that case, you indicate the nutrients per 100 grams and the nutrients per portion per component. In this field (&#39;Nutrient basis quantity description&#39;) you provide the description of the component for which you enter the nutrients. For 100 grams: &#39;Mars&#39; and for the portion: &#39;Mars, 18 grams&#39;. In the field &#39;Nutrient basis quantity&#39; you enter the value for which the nutrients are entered (100 grams or the portion of 18 grams). <br />\nThis instruction also applies to variety packs, where the underlying articles do have a GTIN (for example, a 6 pack of mixed beers).","For additional explanation see <a href=\" https://www.gs1.nl/en/industries/food-health-and-beauty/gs1-data-source/entering-data/attribute-explorer-attributes-list\" style=\"color:blue; text-decoration:underline\" target=\"_blank\"> https://www.gs1.nl/en/industries/food-health-and-beauty/gs1-data-source/entering-data/attribute-explorer-attributes-list</a>",null,"False","CM","Mandatory for food, food supplements and special foods if stated on the packaging.","O",null,"O",null,"Sarina","Sarina","9/27/2021 6:39:07 PM","11/4/2021 9:42:34 PM",{"$f":"IF(A304=\"ANL1420\",\"Targetsector\",LEFT(C304,LEN(C304)-LEN('BES EN'!E304)-3))","v":"Nutrient basis quantity description"}]
["ANL1373","Active","Nutrient basis quantity description language code (nutrientBasisQuantityDescription/@languageCode)","MNL0020","nutrientBasisQuantityDescription/@languageCode","3.1.17","/catalogue_item_notification:catalogueItemNotificationMessage/transaction/documentCommand/catalogue_item_notification:catalogueItemNotification/catalogueItem/tradeItem/tradeItemInformation/extension/*[namespace-uri()='urn:gs1:gdsn:nutritional_information:xsd:3' and local-name()='nutritionalInformationModule']/nutrientHeader/nutrientBasisQuantityDescription/@languageCode","CodeList","BENELUX_GDSN_LanguageCode","","","1..1","","FMCG","Label health&beauty;Datakwalitijd 2.0;Fruit&Vegetable;Label","305","Fruit&Vegetable;Health;Food","",null,"Code specifying a language. Allowed code values are specified in GS1 code list 'LanguageCode'.","nl\n","Select the correct value from the 'ISO 639-1 (2-alpha)' code list.\n","- To find the applicable language codes, see: <a href=\" http://www.loc.gov/standards/iso639-2/php/code_list.php\" style=\"color:blue; text-decoration:underline\" target=\"_blank\"> http://www.loc.gov/standards/iso639-2/php/code_list.php</a> ",null,"False","CM","Mandatory if 'Nutrient basis quantity description' is populated","CM","if 'Nutrient basis quantity description' is populated","CM","if 'Nutrient basis quantity description' is populated","Sarina","Sarina","9/27/2021 6:39:08 PM","11/4/2021 9:42:51 PM",{"$f":"IF(A305=\"ANL1420\",\"Targetsector\",LEFT(C305,LEN(C305)-LEN('BES EN'!E305)-3))","v":"Nutrient basis quantity description language code"}]
["ANL1374","Active","Nutrient basis quantity (nutrientBasisQuantity)","MNL0020","nutrientBasisQuantity","3.1.17","/catalogue_item_notification:catalogueItemNotificationMessage/transaction/documentCommand/catalogue_item_notification:catalogueItemNotification/catalogueItem/tradeItem/tradeItemInformation/extension/*[namespace-uri()='urn:gs1:gdsn:nutritional_information:xsd:3' and local-name()='nutritionalInformationModule']/nutrientHeader/nutrientBasisQuantity","Measurement",null,"","","0..1","","FMCG","Label;Label health&beauty;Fruit&Vegetable;Datakwalitijd 2.0","306","Health;Food;Fruit&Vegetable","","In some product groups the serving size has to be entered in a different unit of measure: e.g. the serving size for mineral water is 1 litre (LTR) or 1000 MLT.<br />\n<br />\nIf for food supplements the table on the label is given only per portion, enter this portion in this field.<br />\n<br />\nFor the unit of measure a separate field has to be populated.<br />\n<br />\nThis field is checked in the context of the Dutch data quality program.\n","The value, with its unit of measure, that forms the basis for referring to the nutrient content that appears on the product label.","100 (GRM)\n","State what serving size the nutrient list applies to. For food you should enter either 100 GRM or 100 MLT (unless a special rule applies to this product group: see remark below for more information). In case the label has nutrients per portion listed you should use this field again, populated with the portion size. Enter the nutrients per portion in the grouping of this portion.<br />\nChoose gram or millilitre if that is stated on the label, for example: if the label states 1 piece = 15 gram, use the 15 gram as reference, not the 1 piece. Enter the measurement unit in a separate field.<br />\n<br />\nComponents:<br />\nAn item with components contains (individually packaged) different parts. At least one of them does not have a GTIN. If the nutrients of the components are printed on your label, you must add this data in the datapool as well. If you are going to enter the nutrients of the components of an item, use the field &#39;Nutrient basis quantity description&#39; to indicate to which component those nutritional values belong.<br />\nAn example of an article with components is a bag of Mars Minis, with the components Mars, Snickers, Twix etc. In this example, the nutrients are stated on the label both in 100 grams and per portion. In that case, you indicate the nutrients per 100 grams and the nutrients per portion per component. In the field &#39;Nutrient basis quantity description&#39; you provide the description of the component for which you enter the nutrients. For 100 grams: &#39;Mars&#39; and for the portion: &#39;Mars, 18 grams&#39;. In this field (&#39;Nutrient basis quantity&#39;) you enter the value for which the nutrients are entered (100 grams or the portion of 18 grams). <br />\nThis instruction also applies to variety packs, where the underlying articles do have a GTIN (for example, a 6 pack of mixed beers).","For additional explanation see <a href=\" https://www.gs1.nl/en/industries/food-health-and-beauty/gs1-data-source/entering-data/attribute-explorer-attributes-list\" style=\"color:blue; text-decoration:underline\" target=\"_blank\"> https://www.gs1.nl/en/industries/food-health-and-beauty/gs1-data-source/entering-data/attribute-explorer-attributes-list</a><br />\n<br />\nLocal Dutch applicable validation rules are: 500.178, 500.323, 500.324, 500.325, 500.356\n",null,"False","CM","Mandatory for food, food supplements and specials foods if stated on the packaging.","O",null,"O",null,"Sarina","Sarina","9/27/2021 6:39:08 PM","11/4/2021 9:43:09 PM",{"$f":"IF(A306=\"ANL1420\",\"Targetsector\",LEFT(C306,LEN(C306)-LEN('BES EN'!E306)-3))","v":"Nutrient basis quantity"}]
["ANL1375","Active","Nutrient basis quantity UOM (nutrientBasisQuantity/@measurementUnitCode)","MNL0020","nutrientBasisQuantity/@measurementUnitCode","3.1.17","/catalogue_item_notification:catalogueItemNotificationMessage/transaction/documentCommand/catalogue_item_notification:catalogueItemNotification/catalogueItem/tradeItem/tradeItemInformation/extension/*[namespace-uri()='urn:gs1:gdsn:nutritional_information:xsd:3' and local-name()='nutritionalInformationModule']/nutrientHeader/nutrientBasisQuantity/@measurementUnitCode","CodeList","BENELUX_GDSN_MeasurementUnitCode","","","1..1","","FMCG","Label health&beauty;Label;Datakwalitijd 2.0;Fruit&Vegetable","307","Health;Food;Fruit&Vegetable","",null,"Any standardised, reproducible unit that can be used to measure any physical property.","GRM","Select the correct value from the 'MeasurementUnitCode' code list.\n","Local Dutch applicable validation rules are: 500.324, 500.325\n",null,"False","CM","Mandatory if 'Nutrient basis quantity' is populated","CM","if 'Nutrient basis quantity' is populated","CM","if 'Nutrient basis quantity' is populated","Sarina","Sarina","9/27/2021 6:39:08 PM","11/4/2021 9:43:26 PM",{"$f":"IF(A307=\"ANL1420\",\"Targetsector\",LEFT(C307,LEN(C307)-LEN('BES EN'!E307)-3))","v":"Nutrient basis quantity UOM"}]
["ANL1377","Active","Viscosity exception indicator (specialPermitOrExemptionIdentification)","MNL0020","specialPermitOrExemptionIdentification","3.1.17","/catalogue_item_notification:catalogueItemNotificationMessage/transaction/documentCommand/catalogue_item_notification:catalogueItemNotification/catalogueItem/tradeItem/tradeItemInformation/extension/*[namespace-uri()='urn:gs1:gdsn:transportation_hazardous_classification:xsd:3' and local-name()='transportationHazardousClassificationModule']/transportationClassification/regulatedTransportationMode/specialPermitOrExemptionIdentification","Identifier",null,"","","0..n","","FMCG","Dangerous goods","482","Health;Food","",null,"Logical value by which the supplier indicates whether the goods are supplied in accordance with the viscosity rules.\n","TRUE\n","Select ‘TRUE’, ‘FALSE’, ‘UNIDENTIFIED’ or ‘NOT_APPLICABLE’. 'TRUE' is applicable if the viscosity is high, ‘FALSE’ if the viscosity is low and ‘UNIDENTIFIED’ if you have to populate this field but do not yet know if it should be populated with ‘TRUE’ or ‘FALSE’.<br />\n<br />\nFor dangerous goods with a safety data sheet (SDS), you can find the viscosity in chapter 9 of the SDS.<br />\n<br />\nIf you enter this field, you have to populate the 'Viscosity exception code - agency' field as well.",null,null,"False","CM","Mandatory in case for a consumer unit 'ADR class' is populated with a value in the range 1 to 9.","O",null,"O",null,"Sarina","Sarina","9/27/2021 6:39:09 PM","11/4/2021 9:43:44 PM",{"$f":"IF(A308=\"ANL1420\",\"Targetsector\",LEFT(C308,LEN(C308)-LEN('BES EN'!E308)-3))","v":"Viscosity exception indicator"}]
["ANL1378","Active","Viscosity exception code – agency  (specialPermitOrExemptionIdentification/@identificationSchemeAgencyCode)","MNL0020","specialPermitOrExemptionIdentification/@identificationSchemeAgencyCode","3.1.17","/catalogue_item_notification:catalogueItemNotificationMessage/transaction/documentCommand/catalogue_item_notification:catalogueItemNotification/catalogueItem/tradeItem/tradeItemInformation/extension/*[namespace-uri()='urn:gs1:gdsn:transportation_hazardous_classification:xsd:3' and local-name()='transportationHazardousClassificationModule']/transportationClassification/regulatedTransportationMode/specialPermitOrExemptionIdentification/@identificationSchemeAgencyCode","string",null,"1","80","0..1","","FMCG","Dangerous goods","483","Food;Health","",null,"Fixed text indicating the agency that maintains the viscosity exception.","ADR_ViscosityException","Populate this field with the fixed value ‘ADR_ViscosityException’.<br />\nIf you populate this field, you have to populate the ‘Viscosity exception indicator’ field as well. ",null,null,"False","CM","Mandatory if the ‘Viscosity exception indicator’ field is populated with the code value 'TRUE'","O",null,"O",null,"Sarina","Sarina","9/27/2021 6:39:09 PM","11/4/2021 9:44:02 PM",{"$f":"IF(A309=\"ANL1420\",\"Targetsector\",LEFT(C309,LEN(C309)-LEN('BES EN'!E309)-3))","v":"Viscosity exception code – agency "}]
["ANL1379","Active","Is trade item a service (isTradeItemAService)","MNL0020","isTradeItemAService","3.1.17","/catalogue_item_notification:catalogueItemNotificationMessage/transaction/documentCommand/catalogue_item_notification:catalogueItemNotification/catalogueItem/tradeItem/isTradeItemAService","boolean",null,"","","0..1","","FMCG","Ordering","078","Health;Food;Petfood;Fruit&Vegetable","",null,"An indicator that the trade item is a service for example a receipt that can be used for upgrading a pre-paid phone balance, an entrance ticket to an amusement park, sporting event, theatre, service maintenance, installation service, repairs.","TRUE","Select \"TRUE\" or \"FALSE\".<br />\nData such as dimensions and weight do not apply in case of a service.",null,null,"False","O",null,"O",null,"O",null,"Sarina","Sarina","9/27/2021 6:39:09 PM","11/4/2021 9:44:20 PM",{"$f":"IF(A310=\"ANL1420\",\"Targetsector\",LEFT(C310,LEN(C310)-LEN('BES EN'!E310)-3))","v":"Is trade item a service"}]
["ANL1380","Active","Trade item condition code (tradeItemConditionCode)","MNL0020","tradeItemConditionCode","3.1.17","/catalogue_item_notification:catalogueItemNotificationMessage/transaction/documentCommand/catalogue_item_notification:catalogueItemNotification/catalogueItem/tradeItem/tradeItemInformation/extension/*[namespace-uri()='urn:gs1:gdsn:sales_information:xsd:3' and local-name()='salesInformationModule']/salesInformation/tradeItemConditionCode","CodeList","BENELUX_GDSN_TradeItemConditionCode","","","0..1","","FMCG","Ordering","079","Health;Food;Petfood;Fruit&Vegetable","",null,"A code depicting the type of preparation that a trade item will have before being sold to the end consumer (e.g. cut for sale, portioned/pieced). This preparation can be done either by the supplier or the retailer or other parties involved. The style of preparation may be determined by either industry standards, the supplier or the retailer.","CUT_FOR_SALE","You use this field for fresh articles (cheese, meat products, etc.). For fresh articles delivered in bulk, use this field to indicate whether the product is already being processed for the end consumer or delivered to the store, or whether processing must take place on the shop floor.<br />\nSelect the correct code from the code list.",null,null,"False","O",null,"O",null,"O",null,"Sarina","Sarina","9/27/2021 6:39:09 PM","11/4/2021 9:44:38 PM",{"$f":"IF(A311=\"ANL1420\",\"Targetsector\",LEFT(C311,LEN(C311)-LEN('BES EN'!E311)-3))","v":"Trade item condition code"}]
["ANL1381","Active","Packaging recycling scheme code (packagingRecyclingSchemeCode)","MNL0020","packagingRecyclingSchemeCode","3.1.17","/catalogue_item_notification:catalogueItemNotificationMessage/transaction/documentCommand/catalogue_item_notification:catalogueItemNotification/catalogueItem/tradeItem/tradeItemInformation/extension/*[namespace-uri()='urn:gs1:gdsn:packaging_information:xsd:3' and local-name()='packagingInformationModule']/packaging/packagingRecyclingSchemeCode","CodeList","BENELUX_GDSN_PackagingRecyclingSchemeCode","","","0..*","","FMCG","Packaging","221","Health;Food;Petfood;Fruit&Vegetable","",null,"A code determining the recycling scheme the packaging of this trade item will fall within when recycled. Applies to recyclable packaging with or without deposit.","41 (Aluminium)\n","State here the type of material from which the recyclable parts of the packaging are made. Choose the corresponding code from the code list ‘packagingRecyclingSchemeCode’. Repeat this field if multiple materials of your product are recyclable.<br /> \nFor example Pringles exists of the following parts:<br />\n- Metal bottom<br />\n- Cardboard container<br />\n- Metal layer in cardboard container<br />\n- Plastic cover<br />\n- Metal sealing foil<br />\nIf all materials can be recycled, then enter the following codes:<br />\n- 41 (Aluminium)<br />\n- 20 (Cardboard)<br />\n- 4 (Low-density Polyethylenes).",null,null,"False","O",null,"O",null,"O",null,"Sarina","Sarina","9/27/2021 6:39:10 PM","11/4/2021 9:44:55 PM",{"$f":"IF(A312=\"ANL1420\",\"Targetsector\",LEFT(C312,LEN(C312)-LEN('BES EN'!E312)-3))","v":"Packaging recycling scheme code"}]
["ANL1382","Active","Is trade item marked as recyclable (isTradeItemMarkedAsRecyclable)","MNL0020","isTradeItemMarkedAsRecyclable","3.1.17","/catalogue_item_notification:catalogueItemNotificationMessage/transaction/documentCommand/catalogue_item_notification:catalogueItemNotification/catalogueItem/tradeItem/tradeItemInformation/extension/*[namespace-uri()='urn:gs1:gdsn:packaging_marking:xsd:3' and local-name()='packagingMarkingModule']/packagingMarking/isTradeItemMarkedAsRecyclable","boolean",null,"","","0..1","","FMCG","Packaging","222","Petfood;Fruit&Vegetable;Health;Food","","If there is a recycling logo on the packaging that appears in the code list of the field \"Packaging marked label accreditation code\", you must also indicate this in the field Packaging marked label accreditation code.","Trade item has a recyclable indication marked on it. This may be a symbol from one of many regional agencies.","FALSE","Select ‘TRUE’ or ‘FALSE’. Please refer to the 'Packaging Label Guide' for the correct codes for these packaging marks.",null,null,"False","O",null,"O",null,"O",null,"Sarina","Sarina","9/27/2021 6:39:10 PM","11/4/2021 9:45:15 PM",{"$f":"IF(A313=\"ANL1420\",\"Targetsector\",LEFT(C313,LEN(C313)-LEN('BES EN'!E313)-3))","v":"Is trade item marked as recyclable"}]
["ANL1383","Active","Life stage animal language code (feedLifestage/@languageCode)","MNL0020","feedLifestage/@languageCode","3.1.17","/catalogue_item_notification:catalogueItemNotificationMessage/transaction/documentCommand/catalogue_item_notification:catalogueItemNotification/catalogueItem/tradeItem/tradeItemInformation/extension/*[namespace-uri()='urn:gs1:gdsn:animal_feeding:xsd:3' and local-name()='animalFeedingModule']/animalFeeding/feedLifestage/@languageCode","CodeList","BENELUX_GDSN_LanguageCode","","","1..1","","FMCG","Petfood","360","Petfood","",null,"Code specifying a language. Allowed code values are specified in GS1 code list 'LanguageCode'.","nl","Select the correct value from the 'ISO 639-1 (2-alpha)' code list."," For additional explanation see <a href=\" https://www.gs1.nl/en/industries/food-health-and-beauty/gs1-data-source/entering-data/attribute-explorer-attributes-list\" style=\"color:blue; text-decoration:underline\" target=\"_blank\"> https://www.gs1.nl/en/industries/food-health-and-beauty/gs1-data-source/entering-data/attribute-explorer-attributes-list</a> <br />\n<br />\n- To find the applicable language codes, see: <a href=\" http://www.loc.gov/standards/iso639-2/php/code_list.php\" style=\"color:blue; text-decoration:underline\" target=\"_blank\"> http://www.loc.gov/standards/iso639-2/php/code_list.php</a> ",null,"False","CM","Mandatory in case 'Life stage animal' is populated for a consumer unit.","CM","Mandatory in case 'Life stage animal' is populated for a trade unit.","CM","Mandatory in case 'Life stage animal' is populated for a logistic unit.","Sarina","Sarina","9/27/2021 6:39:10 PM","11/4/2021 9:45:34 PM",{"$f":"IF(A314=\"ANL1420\",\"Targetsector\",LEFT(C314,LEN(C314)-LEN('BES EN'!E314)-3))","v":"Life stage animal language code"}]
["ANL1384","Active","Light bulb base type (lightBulbBaseType)","MNL0020","lightBulbBaseType","3.1.17","/catalogue_item_notification:catalogueItemNotificationMessage/transaction/documentCommand/catalogue_item_notification:catalogueItemNotification/catalogueItem/tradeItem/tradeItemInformation/extension/*[namespace-uri()='urn:gs1:gdsn:lighting_device:xsd:3' and local-name()='lightingDeviceModule']/lightBulbInformation/lightBulbBaseType","string",null,"1","500","0..1","","FMCG","Lightbulbs","491","Health;Food","",null,"Light bulb sockets, lamp sockets or lamp holders provide electrical connections to the lighting fixture and support it in the lighting fixture.\n","E27<br />\nGU5.3\n","Fill in the type of light bulb socket, as indicated on the packaging.\n",null,null,"False","O",null,"O",null,"O",null,"Sarina","Sarina","9/27/2021 6:39:10 PM","11/4/2021 9:45:52 PM",{"$f":"IF(A315=\"ANL1420\",\"Targetsector\",LEFT(C315,LEN(C315)-LEN('BES EN'!E315)-3))","v":"Light bulb base type"}]
["ANL1385","Active","Visible light (visibleLight)","MNL0020","visibleLight","3.1.17","/catalogue_item_notification:catalogueItemNotificationMessage/transaction/documentCommand/catalogue_item_notification:catalogueItemNotification/catalogueItem/tradeItem/tradeItemInformation/extension/*[namespace-uri()='urn:gs1:gdsn:lighting_device:xsd:3' and local-name()='lightingDeviceModule']/lightBulbInformation/visibleLight","Measurement",null,"","","0..n","","FMCG","Lightbulbs","492","Health;Food","",null,"Total quantity of visible light emitted by a light source. ","970 (lumen)","Fill in the nominal useful luminous flux, as indicated on the packaging.",null,null,"False","O",null,"O",null,"O",null,"Sarina","Sarina","9/27/2021 6:39:11 PM","11/4/2021 9:46:11 PM",{"$f":"IF(A316=\"ANL1420\",\"Targetsector\",LEFT(C316,LEN(C316)-LEN('BES EN'!E316)-3))","v":"Visible light"}]
["ANL1386","Active","Visible light UOM (visibleLight/@measurementUnitCode)","MNL0020","visibleLight/@measurementUnitCode","3.1.17","/catalogue_item_notification:catalogueItemNotificationMessage/transaction/documentCommand/catalogue_item_notification:catalogueItemNotification/catalogueItem/tradeItem/tradeItemInformation/extension/*[namespace-uri()='urn:gs1:gdsn:lighting_device:xsd:3' and local-name()='lightingDeviceModule']/lightBulbInformation/visibleLight/@measurementUnitCode","CodeList","BENELUX_GDSN_MeasurementUnitCode","","","1..1","","FMCG","Lightbulbs","493","Health;Food","",null,"Any standardised, reproducible unit that can be used to measure any physical property.","LUM","Select the correct value from the 'MeasurementUnitCode' code list.",null,null,"False","CM","Mandatory if 'Visible light' is populated for a consumer unit.","CM","if 'Visible light' is populated for a trade unit.","CM","if 'Visible light' is populated for a logistic unit.","Sarina","Sarina","9/27/2021 6:39:11 PM","11/4/2021 9:46:30 PM",{"$f":"IF(A317=\"ANL1420\",\"Targetsector\",LEFT(C317,LEN(C317)-LEN('BES EN'!E317)-3))","v":"Visible light UOM"}]
["ANL1387","Active","Colour temperature (colourTemperature)","MNL0020","colourTemperature","3.1.17","/catalogue_item_notification:catalogueItemNotificationMessage/transaction/documentCommand/catalogue_item_notification:catalogueItemNotification/catalogueItem/tradeItem/tradeItemInformation/extension/*[namespace-uri()='urn:gs1:gdsn:lighting_device:xsd:3' and local-name()='lightingDeviceModule']/lightBulbInformation/colourTemperature","TemperatureMeasurement",null,"","","0..n","","FMCG","Lightbulbs","494","Health;Food","",null,"Colour temperature is a way to describe the light appearance provided by a light bulb, expressed in Kelvin.\n","3000 (k)\n","Enter&nbsp;the colour temperature of the light bulb, as indicated on the packaging.\n","Local Dutch applicable validation rules are:500.419\n",null,"False","O",null,"O",null,"O",null,"Sarina","Sarina","9/27/2021 6:39:11 PM","11/4/2021 9:46:49 PM",{"$f":"IF(A318=\"ANL1420\",\"Targetsector\",LEFT(C318,LEN(C318)-LEN('BES EN'!E318)-3))","v":"Colour temperature"}]
["ANL1388","Active","Colour temperature UOM (colourTemperature/@temperatureMeasurementUnitCode)","MNL0020","colourTemperature/@temperatureMeasurementUnitCode","3.1.17","/catalogue_item_notification:catalogueItemNotificationMessage/transaction/documentCommand/catalogue_item_notification:catalogueItemNotification/catalogueItem/tradeItem/tradeItemInformation/extension/*[namespace-uri()='urn:gs1:gdsn:lighting_device:xsd:3' and local-name()='lightingDeviceModule']/lightBulbInformation/colourTemperature/@temperatureMeasurementUnitCode","CodeList","BENELUX_GDSN_MeasurementUnitCode","","","1..1","","FMCG","Lightbulbs","495","Food;Health","",null,"Any standardised, reproducible unit that can be used to measure any physical property.","K","Select the value from the 'TemperatureMeasurementUnitCode' code list.",null,null,"False","CM","Mandatory if 'Colour temperature' is populated for a consumer unit","CM","if 'Colour temperature' is populated for a trade unit.","CM","if 'Colour temperature' is populated for a logistic unit.","Sarina","Sarina","9/27/2021 6:39:11 PM","11/4/2021 9:47:07 PM",{"$f":"IF(A319=\"ANL1420\",\"Targetsector\",LEFT(C319,LEN(C319)-LEN('BES EN'!E319)-3))","v":"Colour temperature UOM"}]
["ANL1389","Active","Light bulb diameter value (lightBulbDiameterValue)","MNL0020","lightBulbDiameterValue","3.1.17","/catalogue_item_notification:catalogueItemNotificationMessage/transaction/documentCommand/catalogue_item_notification:catalogueItemNotification/catalogueItem/tradeItem/tradeItemInformation/extension/*[namespace-uri()='urn:gs1:gdsn:lighting_device:xsd:3' and local-name()='lightingDeviceModule']/lightBulbInformation/lightBulbDiameterValue","Measurement",null,"","","0..n","","FMCG","Lightbulbs","496","Food;Health","","For example, 63 mm reflectors are designated R63, but in the US, they are known as R20 (2.5 in). However, in both regions, a PAR38 reflector is known as PAR38.","The maximum diameter of the light bulb, either in 1/8 of an inch, or in millimetres, depending on the shape and the region. ","52 (mm)","Fill in the maximum diameter of the lightbulb in millimeters, as indicated on the packaging.",null,null,"False","O",null,"O",null,"O",null,"Sarina","Sarina","9/27/2021 6:39:12 PM","11/4/2021 9:47:26 PM",{"$f":"IF(A320=\"ANL1420\",\"Targetsector\",LEFT(C320,LEN(C320)-LEN('BES EN'!E320)-3))","v":"Light bulb diameter value"}]
["ANL1390","Active","Light bulb diameter UOM (lightBulbDiameterValue/@measurementUnitCode)","MNL0020","lightBulbDiameterValue/@measurementUnitCode","3.1.17","/catalogue_item_notification:catalogueItemNotificationMessage/transaction/documentCommand/catalogue_item_notification:catalogueItemNotification/catalogueItem/tradeItem/tradeItemInformation/extension/*[namespace-uri()='urn:gs1:gdsn:lighting_device:xsd:3' and local-name()='lightingDeviceModule']/lightBulbInformation/lightBulbDiameterValue/@measurementUnitCode","CodeList","BENELUX_GDSN_MeasurementUnitCode","","","1..1","","FMCG","Lightbulbs","497","Health;Food","",null,"Any standardised, reproducible unit that can be used to measure any physical property.","MMT","Select the correct value from the 'MeasurementUnitCode' code list.",null,null,"False","CM","Mandatory if 'Light bulb diameter value' is populated for a consumer unit.","CM","if 'Light bulb diameter value' is populated for a trade unit.","CM","if 'Light bulb diameter value' is populated for a logistic unit.","Sarina","Sarina","9/27/2021 6:39:12 PM","11/4/2021 9:47:45 PM",{"$f":"IF(A321=\"ANL1420\",\"Targetsector\",LEFT(C321,LEN(C321)-LEN('BES EN'!E321)-3))","v":"Light bulb diameter UOM"}]
["ANL1391","Active","Size dimension (sizeDimension)","MNL0020","sizeDimension","3.1.17","/catalogue_item_notification:catalogueItemNotificationMessage/transaction/documentCommand/catalogue_item_notification:catalogueItemNotification/catalogueItem/tradeItem/tradeItemInformation/extension/*[namespace-uri()='urn:gs1:gdsn:trade_item_measurements:xsd:3' and local-name()='tradeItemMeasurementsModule']/tradeItemMeasurements/tradeItemNonPackagedSize/sizeDimension","Measurement",null,"","","0..1","","FMCG","Lightbulbs","498","Health;Food","","When you populate this field, then also do populate the fields &lsquo;Size type code&rsquo; and &rsquo;Size dimension measurement unit code&rsquo;.\n","The numerical size measurement of the size dimension specified by the size type.\n","36(&deg;)\n","Enter the value of the size as shown on the label.<br />\n<br />\nFor light bulbs: Enter the nominal angle of the light beam (in degrees) in this field. This applies only for directional lamps, and often appears as an icon on the packaging.\n",null,null,"False","O",null,"O",null,"O",null,"Sarina","Sarina","9/27/2021 6:39:12 PM","11/4/2021 9:48:03 PM",{"$f":"IF(A322=\"ANL1420\",\"Targetsector\",LEFT(C322,LEN(C322)-LEN('BES EN'!E322)-3))","v":"Size dimension"}]
["ANL1392","Active","Size dimension measurement unit code (sizeDimension/@measurementUnitCode)","MNL0020","sizeDimension/@measurementUnitCode","3.1.17","/catalogue_item_notification:catalogueItemNotificationMessage/transaction/documentCommand/catalogue_item_notification:catalogueItemNotification/catalogueItem/tradeItem/tradeItemInformation/extension/*[namespace-uri()='urn:gs1:gdsn:trade_item_measurements:xsd:3' and local-name()='tradeItemMeasurementsModule']/tradeItemMeasurements/tradeItemNonPackagedSize/sizeDimension/@measurementUnitCode","CodeList","BENELUX_GDSN_MeasurementUnitCode","","","1..1","","FMCG","Lightbulbs","499","Food;Health","",null,"Any standardised, reproducible unit that can be used to measure any physical property.\n","DD\n","Select the correct value from the &#39;MeasurementUnitCode&#39; code list.\n",null,null,"False","CM","Mandatory if 'Size dimension' is populated for a consumer unit.","CM","if 'Size dimension' is populated for a trade unit.","CM","if 'Size dimension' is populated for a logistic unit.","Sarina","Sarina","9/27/2021 6:39:12 PM","11/4/2021 9:48:21 PM",{"$f":"IF(A323=\"ANL1420\",\"Targetsector\",LEFT(C323,LEN(C323)-LEN('BES EN'!E323)-3))","v":"Size dimension measurement unit code"}]
["ANL1393","Active","Size type code (sizeTypeCode)","MNL0020","sizeTypeCode","3.1.17","/catalogue_item_notification:catalogueItemNotificationMessage/transaction/documentCommand/catalogue_item_notification:catalogueItemNotification/catalogueItem/tradeItem/tradeItemInformation/extension/*[namespace-uri()='urn:gs1:gdsn:trade_item_measurements:xsd:3' and local-name()='tradeItemMeasurementsModule']/tradeItemMeasurements/tradeItemNonPackagedSize/sizeTypeCode","CodeList","BENELUX_GDSN_SizeTypeCode","","","0..1","","FMCG","Lightbulbs","500","Health;Food","","When you populate this field, then also do populate the fields &lsquo;Size dimension&rsquo; and &lsquo;Size dimension measurement unit code&rsquo;.\n","The type of size dimension being specified by the size measurement.\n","LIGHT_BEAM_ANGLE\n","Select the correct value from the &lsquo;SizeTypeCode&rsquo; code list that corresponds to the type of size dimension that you want to populate in the &lsquo;Size dimension&rsquo; field.<br />\n<br />\nFor light bulbs: Enter the code for the angle of the light beam in this field, which is LIGHT_BEAM_ANGLE. This applies only for directional lamps, and often appears as an icon on the packaging.\n",null,null,"False","CM","Mandatory if the field 'Size dimension' is populated for a consumer unit.","O",null,"O",null,"Sarina","Sarina","9/27/2021 6:39:13 PM","11/4/2021 9:48:39 PM",{"$f":"IF(A324=\"ANL1420\",\"Targetsector\",LEFT(C324,LEN(C324)-LEN('BES EN'!E324)-3))","v":"Size type code"}]
["ANL1394","Active","Recommended usage location (recommendedUsageLocation)","MNL0020","recommendedUsageLocation","3.1.17","/catalogue_item_notification:catalogueItemNotificationMessage/transaction/documentCommand/catalogue_item_notification:catalogueItemNotification/catalogueItem/tradeItem/tradeItemInformation/extension/*[namespace-uri()='urn:gs1:gdsn:consumer_instructions:xsd:3' and local-name()='consumerInstructionsModule']/consumerInstructions/recommendedUsageLocation","Description5000",null,"","","0..n","","FMCG","Lightbulbs","501","Health;Food","",null,"The primary location recommended for the item's use for example indoor, outdoor, indoor/outdoor, vehicle, kitchen, etc.","Bestemd voor gebruik buitenshuis.","Fill in the recommended location for the item’s use, as indicated on the packaging.",null,null,"False","O",null,"O",null,"O",null,"Sarina","Sarina","9/27/2021 6:39:13 PM","11/4/2021 9:48:58 PM",{"$f":"IF(A325=\"ANL1420\",\"Targetsector\",LEFT(C325,LEN(C325)-LEN('BES EN'!E325)-3))","v":"Recommended usage location"}]
["ANL1395","Active","Recommended usage location language code (recommendedUsageLocation/@languageCode)","MNL0020","recommendedUsageLocation/@languageCode","3.1.17","/catalogue_item_notification:catalogueItemNotificationMessage/transaction/documentCommand/catalogue_item_notification:catalogueItemNotification/catalogueItem/tradeItem/tradeItemInformation/extension/*[namespace-uri()='urn:gs1:gdsn:consumer_instructions:xsd:3' and local-name()='consumerInstructionsModule']/consumerInstructions/recommendedUsageLocation/@languageCode","CodeList","BENELUX_GDSN_LanguageCode","","","1..1","","FMCG","Lightbulbs","502","Health;Food","",null,"Code specifying a language. Allowed code values are specified in GS1 code list 'LanguageCode'.","nl","Select the correct value from the 'ISO 639-1 (2-alpha)' code list.","- To find the applicable language codes, see: <a href=\" http://www.loc.gov/standards/iso639-2/php/code_list.php\" style=\"color:blue; text-decoration:underline\" target=\"_blank\"> http://www.loc.gov/standards/iso639-2/php/code_list.php</a> ",null,"False","CM","Mandatory if 'Recommended usage location' is populated for a consumer unit.","CM","if 'Recommended usage location' is populated for a trade unit.","CM","if 'Recommended usage location' is populated for a logistic unit.","Sarina","Sarina","9/27/2021 6:39:13 PM","11/4/2021 9:49:16 PM",{"$f":"IF(A326=\"ANL1420\",\"Targetsector\",LEFT(C326,LEN(C326)-LEN('BES EN'!E326)-3))","v":"Recommended usage location language code"}]
["ANL1396","Active","Material code (materialCode)","MNL0020","materialCode","3.1.17","/catalogue_item_notification:catalogueItemNotificationMessage/transaction/documentCommand/catalogue_item_notification:catalogueItemNotification/catalogueItem/tradeItem/tradeItemInformation/extension/*[namespace-uri()='urn:gs1:gdsn:battery_information:xsd:3' and local-name()='batteryInformationModule']/batteryDetail/batteryMaterials/tradeItemMaterialComposition/materialCode","string","BENELUX_GDSN_MaterialCode","1","35","0..1","","FMCG","Lightbulbs;Datakwalitijd 2.0;Batteries","503","Food;Health","","Populate materialAgencyCode with the value &lsquo;GS1&rsquo;.\n","This element indicates the product material code that gives the composition of the trade item&#39;s first main material up to six material short codes that can be given in descending order of their respective percentages.\n","Pb\n","For batteries and light bulbs: populate this field with a material code if a border value for the material in the product is exceeded (see below for the border values). In case multiple materials exceed the border values, you consequently populate this field multiple times.<br />\n<br />\nFor batteries:<br />\n&bull; More than 0,004% lead -&gt; Pb<br />\n&bull; More than 0,0005% mercury -&gt; Hg<br />\n&bull; More than 0,002% cadmium -&gt; Ca<br />\n&bull; Lithium present -&gt; Li<br />\n<br />\nFor light bulbs: Mercury present -&gt; Hg<br />\n<br />\nBy using this field you can indicate whether the above mentioned is true.<br />\nUse the local code list &lsquo;MaterialCode&rsquo;.\n",null,null,"False","CM","Mandatory if the treshold values of the material lead, mercury, cadmium and lithium for batteries are exceeded","O",null,"O",null,"Sarina","Sarina","9/27/2021 6:39:14 PM","11/4/2021 9:49:35 PM",{"$f":"IF(A327=\"ANL1420\",\"Targetsector\",LEFT(C327,LEN(C327)-LEN('BES EN'!E327)-3))","v":"Material code"}]
["ANL1397","Active","Material agency code (materialAgencyCode)","MNL0020","materialAgencyCode","3.1.17","/catalogue_item_notification:catalogueItemNotificationMessage/transaction/documentCommand/catalogue_item_notification:catalogueItemNotification/catalogueItem/tradeItem/tradeItemInformation/extension/*[namespace-uri()='urn:gs1:gdsn:battery_information:xsd:3' and local-name()='batteryInformationModule']/batteryDetail/batteryMaterials/materialAgencyCode","CodeList","BENELUX_GDSN_MaterialAgencyCode","","","0..1","","FMCG","Lightbulbs;Batteries","504","Health;Food","",null,"This element indicates the agency that is maintaining the Trade Item Material codes. ","GS1","You should populate this field with the value ‘GS1’. ",null,null,"False","CM","Mandatory if 'Material code' is populated for a consumer unit.","CM","if 'Material code' is populated for a trade unit.","CM","if 'Material code' is populated for a logistic unit.","Sarina","Sarina","9/27/2021 6:39:14 PM","11/4/2021 9:49:54 PM",{"$f":"IF(A328=\"ANL1420\",\"Targetsector\",LEFT(C328,LEN(C328)-LEN('BES EN'!E328)-3))","v":"Material agency code"}]
["ANL1398","Active","Permit end date time (permitEndDateTime)","MNL0020","permitEndDateTime","3.1.17","/catalogue_item_notification:catalogueItemNotificationMessage/transaction/documentCommand/catalogue_item_notification:catalogueItemNotification/catalogueItem/tradeItem/tradeItemInformation/extension/*[namespace-uri()='urn:gs1:gdsn:regulated_trade_item:xsd:3' and local-name()='regulatedTradeItemModule']/regulatoryInformation/permitIdentification/permitEndDateTime","DateTime",null,"","","0..1","","FMCG","Biocides;Certificates and packaging marks","332","Food;Fruit&Vegetable;Petfood;Health","","The date on which the permit expires is generally not stated on the label.\n","The date on which the permit expires.\n","1/1/2020\n","For biocides it is mandatory to have a government permit which allows the sale of the biocide in that specific target market. In this field you can indicate when that permit expires.\n",null,null,"False","CM","Mandatory for biocides if available","O",null,"O",null,"Sarina","Sarina","9/27/2021 6:39:14 PM","11/4/2021 9:50:13 PM",{"$f":"IF(A329=\"ANL1420\",\"Targetsector\",LEFT(C329,LEN(C329)-LEN('BES EN'!E329)-3))","v":"Permit end date time"}]
["ANL1399","Active","Production method for fish and seafood code (productionMethodForFishAndSeafoodCode)","MNL0020","productionMethodForFishAndSeaFoodCode","3.1.17","/catalogue_item_notification:catalogueItemNotificationMessage/transaction/documentCommand/catalogue_item_notification:catalogueItemNotification/catalogueItem/tradeItem/tradeItemInformation/extension/*[namespace-uri()='urn:gs1:gdsn:dairy_fish_meat_poultry:xsd:3' and local-name()='dairyFishMeatPoultryItemModule']/dairyFishMeatPoultryInformation/fishReportingInformation/fishCatchInformation/productionMethodForFishAndSeaFoodCode","CodeList","BENELUX_GDSN_ProductionMethodForFishAndSeafoodCode","","","0..1","","FMCG","Provenance","259","Food","",null,"The production method for fish and seafood is a GS1 maintained code list, derived from the Fisheries and Aquaculture Department of the Food and Agriculture Organization (FAO) of the United Nations. This attribute will help the global retail industry to fulfill the EU requirements for a common fisheries policy.\n","AQUACULTURE\n","Enter the production method for fish and seafood here. Allowed values are:<br />\nInland fishery (INLAND_FISHERY)<br />\nMarine fishery (MARINE_FISHERY)<br />\nAquaculture (AQUACULTURE)\n",null,null,"False","CM","Mandatory for fish and seafood","O",null,"O",null,"Sarina","Sarina","9/27/2021 6:39:14 PM","11/4/2021 9:50:32 PM",{"$f":"IF(A330=\"ANL1420\",\"Targetsector\",LEFT(C330,LEN(C330)-LEN('BES EN'!E330)-3))","v":"Production method for fish and seafood code"}]
["ANL1400","Active","Trade item key words (tradeItemKeyWords)","MNL0020","tradeItemKeyWords","3.1.17","/catalogue_item_notification:catalogueItemNotificationMessage/transaction/documentCommand/catalogue_item_notification:catalogueItemNotification/catalogueItem/tradeItem/tradeItemInformation/extension/*[namespace-uri()='urn:gs1:gdsn:marketing_information:xsd:3' and local-name()='marketingInformationModule']/marketingInformation/tradeItemKeyWords","Description1000",null,"","","0..n","","FMCG","Description","043","Petfood;Fruit&Vegetable;Health;Food","","The retailer can use the information in this field to enable search engines to find the trade item.\n","Words or phrases that enables web search engines to find trade items on the internet for example shampoo, lather, baby.\n","Organic<br />\nOrange<br />\nFor coloured hair\n","Use this field for all key words that are relevant for this product. Enter only one key word or phrase per instance of this attribute.\n",null,null,"False","O",null,"O",null,"O",null,"Sarina","Sarina","9/27/2021 6:39:15 PM","11/4/2021 9:50:51 PM",{"$f":"IF(A331=\"ANL1420\",\"Targetsector\",LEFT(C331,LEN(C331)-LEN('BES EN'!E331)-3))","v":"Trade item key words"}]
["ANL1401","Active","Trade item key words language code (tradeItemKeyWords/@languageCode)","MNL0020","tradeItemKeyWords/@languageCode","3.1.17","/catalogue_item_notification:catalogueItemNotificationMessage/transaction/documentCommand/catalogue_item_notification:catalogueItemNotification/catalogueItem/tradeItem/tradeItemInformation/extension/*[namespace-uri()='urn:gs1:gdsn:marketing_information:xsd:3' and local-name()='marketingInformationModule']/marketingInformation/tradeItemKeyWords/@languageCode","CodeList","BENELUX_GDSN_LanguageCode","","","1..1","","FMCG","Description","044","Food;Health;Petfood;Fruit&Vegetable","",null,"Code specifying a language. Allowed code values are specified in GS1 code list 'LanguageCode'.","nl","Select the correct value from the 'ISO 639-1 (2-alpha)' code list.","- To find the applicable language codes, see: <a href=\" http://www.loc.gov/standards/iso639-2/php/code_list.php\" style=\"color:blue; text-decoration:underline\" target=\"_blank\"> http://www.loc.gov/standards/iso639-2/php/code_list.php</a> ",null,"False","CM","Mandatory if 'Trade item key words' is populated for a consumer unit.","CM","if 'Trade item key words' is populated for a trade unit.","CM","if 'Trade item key words' is populated for a logistic unit.","Sarina","Sarina","9/27/2021 6:39:15 PM","11/4/2021 9:51:11 PM",{"$f":"IF(A332=\"ANL1420\",\"Targetsector\",LEFT(C332,LEN(C332)-LEN('BES EN'!E332)-3))","v":"Trade item key words language code"}]
["ANL1402","Active","Trade item feature benefit (tradeItemFeatureBenefit)","MNL0020","tradeItemFeatureBenefit","3.1.17","/catalogue_item_notification:catalogueItemNotificationMessage/transaction/documentCommand/catalogue_item_notification:catalogueItemNotification/catalogueItem/tradeItem/tradeItemInformation/extension/*[namespace-uri()='urn:gs1:gdsn:marketing_information:xsd:3' and local-name()='marketingInformationModule']/marketingInformation/tradeItemFeatureBenefit","FormattedDescription250",null,"","","0..n","","FMCG","Description","045","Fruit&Vegetable;Petfood;Food;Health","","The retailer can use the information in this field to describe the product on their website. There can be an overlap between the unique selling points and the key words of a product.\n","Element for consumer facing marketing content to describe the key features or benefits of the style suitable for display purposes.\n","Free from gluten<br />\nImproved formula\n","Use this field for the unique selling points (USP&rsquo;s) that are relevant for this product. Enter one USP per instance of the attribute.\n",null,null,"False","O",null,"O",null,"O",null,"Sarina","Sarina","9/27/2021 6:39:15 PM","11/4/2021 9:51:31 PM",{"$f":"IF(A333=\"ANL1420\",\"Targetsector\",LEFT(C333,LEN(C333)-LEN('BES EN'!E333)-3))","v":"Trade item feature benefit"}]
["ANL1403","Active","Trade item feature benefit language code (tradeItemFeatureBenefit/@languageCode)","MNL0020","tradeItemFeatureBenefit/@languageCode","3.1.17","/catalogue_item_notification:catalogueItemNotificationMessage/transaction/documentCommand/catalogue_item_notification:catalogueItemNotification/catalogueItem/tradeItem/tradeItemInformation/extension/*[namespace-uri()='urn:gs1:gdsn:marketing_information:xsd:3' and local-name()='marketingInformationModule']/marketingInformation/tradeItemFeatureBenefit/@languageCode","CodeList","BENELUX_GDSN_LanguageCode","","","1..1","","FMCG","Description","046","Petfood;Fruit&Vegetable;Health;Food","",null,"Code specifying a language. Allowed code values are specified in GS1 code list 'LanguageCode'.","nl","Select the correct value from the 'ISO 639-1 (2-alpha)' code list.","- To find the applicable language codes, see: <a href=\" http://www.loc.gov/standards/iso639-2/php/code_list.php\" style=\"color:blue; text-decoration:underline\" target=\"_blank\"> http://www.loc.gov/standards/iso639-2/php/code_list.php</a> ",null,"False","CM","Mandatory if 'Trade item feature benefit' is populated for a consumer  unit.","CM","if 'Trade item feature benefit' is populated for a trade unit.","CM","if 'Trade item feature benefit' is populated for a logistic unit.","Sarina","Sarina","9/27/2021 6:39:16 PM","11/4/2021 9:51:50 PM",{"$f":"IF(A334=\"ANL1420\",\"Targetsector\",LEFT(C334,LEN(C334)-LEN('BES EN'!E334)-3))","v":"Trade item feature benefit language code"}]
["ANL1404","Active","Grade code reference (gradeCodeReference)","MNL0020","gradeCodeReference","3.1.17","/catalogue_item_notification:catalogueItemNotificationMessage/transaction/documentCommand/catalogue_item_notification:catalogueItemNotification/catalogueItem/tradeItem/tradeItemInformation/extension/*[namespace-uri()='urn:gs1:gdsn:marketing_information:xsd:3' and local-name()='marketingInformationModule']/marketingInformation/gradeCodeReference","CodeList","BENELUX_GDSN_GradeCodeReferenceCode","","","0..n","","FMCG","Description","047","Food;Health;Petfood;Fruit&Vegetable","","Quality standards provide a common language among buyers and sellers, which in turn assures consistent quality for consumers.<br />\n<br />\nThis field is checked in the context of the Dutch data quality program.\n","A code indicating the degree of refinement, features, or capabilities for a trade item for example the quality grade of a ceramic tile or of a food item such as eggs.\n","II (fruits and vegetables)\n","Use this attribute to indicate the accepted level or standard to determine the quality of a product.\n",null,null,"False","CM","Mandatory if the product packaging (label) contains the description of the product's evaluation or ranking or class, such as quality, size, weight.","O",null,"O",null,"Sarina","Sarina","9/27/2021 6:39:16 PM","11/4/2021 9:52:09 PM",{"$f":"IF(A335=\"ANL1420\",\"Targetsector\",LEFT(C335,LEN(C335)-LEN('BES EN'!E335)-3))","v":"Grade code reference"}]
["ANL1405","Active","Material weight (materialWeight)","MNL0020","materialWeight","3.1.17","/catalogue_item_notification:catalogueItemNotificationMessage/transaction/documentCommand/catalogue_item_notification:catalogueItemNotification/catalogueItem/tradeItem/tradeItemInformation/extension/*[namespace-uri()='urn:gs1:gdsn:battery_information:xsd:3' and local-name()='batteryInformationModule']/batteryDetail/batteryMaterials/tradeItemMaterialComposition/materialWeight","Measurement",null,"","","0..1","","FMCG","Lightbulbs","505","Health;Food","",null,"The measured weight of the material expressed in ounces per square yard or grams per square meter.","2.5","Enter the amount of mercury of the lightbulb.",null,null,"False","CM","Mandatory if the lightbulb contains mercury.","O",null,"O",null,"Sarina","Sarina","9/27/2021 6:39:16 PM","11/4/2021 9:52:29 PM",{"$f":"IF(A336=\"ANL1420\",\"Targetsector\",LEFT(C336,LEN(C336)-LEN('BES EN'!E336)-3))","v":"Material weight"}]
["ANL1406","Active","Material weight UOM (materialWeight/@measurementUnitCode)","MNL0020","materialWeight/@measurementUnitCode","3.1.17","/catalogue_item_notification:catalogueItemNotificationMessage/transaction/documentCommand/catalogue_item_notification:catalogueItemNotification/catalogueItem/tradeItem/tradeItemInformation/extension/*[namespace-uri()='urn:gs1:gdsn:battery_information:xsd:3' and local-name()='batteryInformationModule']/batteryDetail/batteryMaterials/tradeItemMaterialComposition/materialWeight/@measurementUnitCode","CodeList","BENELUX_GDSN_MeasurementUnitCode","","","1..1","","FMCG","Lightbulbs","506","Health;Food","",null,"Any standardised, reproducible unit that can be used to measure any physical property.","MGM","Select the correct value from the 'MeasurementUnitCode' code list.",null,null,"False","CM","Mandatory if 'Material weight' is populated for a consumer unit.","CM","if 'Material weight' is populated for a trade unit.","CM","if 'Material weight' is populated for a logistic unit.","Sarina","Sarina","9/27/2021 6:39:16 PM","11/4/2021 9:52:47 PM",{"$f":"IF(A337=\"ANL1420\",\"Targetsector\",LEFT(C337,LEN(C337)-LEN('BES EN'!E337)-3))","v":"Material weight UOM"}]
["ANL1407","Active","Light bulb lamp type code (lightBulbLampTypeCode)","MNL0020","lightBulbLampTypeCode","3.1.17","/catalogue_item_notification:catalogueItemNotificationMessage/transaction/documentCommand/catalogue_item_notification:catalogueItemNotification/catalogueItem/tradeItem/tradeItemInformation/extension/*[namespace-uri()='urn:gs1:gdsn:lighting_device:xsd:3' and local-name()='lightingDeviceModule']/lightBulbInformation/lightBulbLampTypeCode","CodeList","BENELUX_GDSN_LightBulbLampTypeCode","","","0..1","","FMCG","Lightbulbs","507","Food;Health","",null,"A code describing the type of light bulb whether it is the trade item or is contained in the trade item for example HALOGEN or LED.","HALOGEN","Fill in the type of light bulb or lamp, as indicated on the packaging.\nSelect the value from the 'LightBulbLampTypeCode' code list.",null,null,"False","O",null,"O",null,"O",null,"Sarina","Sarina","9/27/2021 6:39:17 PM","11/4/2021 9:53:07 PM",{"$f":"IF(A338=\"ANL1420\",\"Targetsector\",LEFT(C338,LEN(C338)-LEN('BES EN'!E338)-3))","v":"Light bulb lamp type code"}]
["ANL1408","Active","Special item code (specialItemCode)","MNL0020","specialItemCode","3.1.17","/catalogue_item_notification:catalogueItemNotificationMessage/transaction/documentCommand/catalogue_item_notification:catalogueItemNotification/catalogueItem/tradeItem/tradeItemInformation/extension/*[namespace-uri()='urn:gs1:gdsn:marketing_information:xsd:3' and local-name()='marketingInformationModule']/marketingInformation/specialItemCode","CodeList","BENELUX_GDSN_SpecialItemCode","","","0..n","","FMCG","Datakwalitijd 2.0;Ordering","085","Food;Health;Fruit&Vegetable;Petfood","","This field is checked in the context of the Dutch data quality program.\n","This element identifies specific items for promotional or special tracking purposes.\n","VALUE_PACK\n","Enter the code VALUE_PACK from the code list SpecialItemCode in this field if clearly is stated on the packaging that the article is a discount packaging. For example, on the packaging may be stated e.g. &#39;Value pack&#39; or &#39;2 + 1 free&#39;. Other codes from the code list are not allowed.\n",null,null,"False","CM","Mandatory if a value pack indication is stated on the packaging, optional for detergents and biocides.","O",null,"O",null,"Sarina","Sarina","9/27/2021 6:39:17 PM","11/4/2021 9:53:26 PM",{"$f":"IF(A339=\"ANL1420\",\"Targetsector\",LEFT(C339,LEN(C339)-LEN('BES EN'!E339)-3))","v":"Special item code"}]
["ANL1409","Active","Regulated product name sequence number (regulatedProductName/@sequenceNumber)","MNL0020","regulatedProductName/@sequenceNumber","3.1.17","/catalogue_item_notification:catalogueItemNotificationMessage/transaction/documentCommand/catalogue_item_notification:catalogueItemNotification/catalogueItem/tradeItem/tradeItemInformation/extension/*[namespace-uri()='urn:gs1:gdsn:trade_item_description:xsd:3' and local-name()='tradeItemDescriptionModule']/tradeItemDescriptionInformation/regulatedProductName/@sequenceNumber","nonNegativeInteger",null,"","","0..1","","FMCG","Fruit&Vegetable;Petfood;Label health&beauty;Description","411","Petfood;Fruit&Vegetable;Health;Food","",null,"A number used to indicate the order of the different instances of the attribute.","1","Enter the sequence number of the instance of the attribute, and make sure that you do not use the same sequence number twice. The sequence number is used to enable the receiver to put all instances of the attribute in the correct order.",null,null,"False","CM","Mandatory if 'Regulated product name' is used more than once for the same language code.","CM","if 'Regulated product name' is used more than once for the same language code.","CM","if 'Regulated product name' is used more than once for the same language code.","Sarina","Sarina","9/27/2021 6:39:17 PM","11/4/2021 9:53:46 PM",{"$f":"IF(A340=\"ANL1420\",\"Targetsector\",LEFT(C340,LEN(C340)-LEN('BES EN'!E340)-3))","v":"Regulated product name sequence number"}]
["ANL1410","Active","Trade item marketing message sequence number (tradeItemMarketingMessage/@sequenceNumber)","MNL0020","tradeItemMarketingMessage/@sequenceNumber","3.1.17","/catalogue_item_notification:catalogueItemNotificationMessage/transaction/documentCommand/catalogue_item_notification:catalogueItemNotification/catalogueItem/tradeItem/tradeItemInformation/extension/*[namespace-uri()='urn:gs1:gdsn:marketing_information:xsd:3' and local-name()='marketingInformationModule']/marketingInformation/tradeItemMarketingMessage/@sequenceNumber","nonNegativeInteger",null,"","","0..1","","FMCG","Description;Petfood;Label health&beauty;Fruit&Vegetable","49","Food;Health;Fruit&Vegetable;Petfood","",null,"A number used to indicate the order of the different instances of the attribute.","1","Enter the sequence number of the instance of the attribute, and make sure that you do not use the same sequence number twice. The sequence number is used to enable the receiver to put all instances of the attribute in the correct order.\n",null,null,"False","CM","Mandatory if 'Trade item marketing message' is used more than once for the same language code.","CM","if 'Trade item marketing message' is used more than once for the same language code.","CM","if 'Trade item marketing message' is used more than once for the same language code.","Sarina","Sarina","9/27/2021 6:39:17 PM","11/4/2021 9:54:05 PM",{"$f":"IF(A341=\"ANL1420\",\"Targetsector\",LEFT(C341,LEN(C341)-LEN('BES EN'!E341)-3))","v":"Trade item marketing message sequence number"}]
["ANL1411","Active","Trade item feature benefit sequence number (tradeItemFeatureBenefit/@sequenceNumber)","MNL0020","tradeItemFeatureBenefit/@sequenceNumber","3.1.17","/catalogue_item_notification:catalogueItemNotificationMessage/transaction/documentCommand/catalogue_item_notification:catalogueItemNotification/catalogueItem/tradeItem/tradeItemInformation/extension/*[namespace-uri()='urn:gs1:gdsn:marketing_information:xsd:3' and local-name()='marketingInformationModule']/marketingInformation/tradeItemFeatureBenefit/@sequenceNumber","nonNegativeInteger",null,"","","0..1","","FMCG","Description","50","Fruit&Vegetable;Petfood;Health;Food","",null,"A number used to indicate the order of the different instances of the attribute.","1","Enter the sequence number of the instance of the attribute, and make sure that you do not use the same sequence number twice. The sequence number is used to enable the receiver to put all instances of the attribute in the correct order.\n",null,null,"False","CM","Mandatory if 'Trade item feature benefit' is used more than once for the same language code.","CM","if 'Trade item feature benefit' is used more than once for the same language code.","CM","if 'Trade item feature benefit' is used more than once for the same language code.","Sarina","Sarina","9/27/2021 6:39:18 PM","11/4/2021 9:54:25 PM",{"$f":"IF(A342=\"ANL1420\",\"Targetsector\",LEFT(C342,LEN(C342)-LEN('BES EN'!E342)-3))","v":"Trade item feature benefit sequence number"}]
["ANL1412","Active","Non food ingredient statement sequence number (nonfoodIngredientStatement/@sequenceNumber)","MNL0020","nonfoodIngredientStatement/@sequenceNumber","3.1.17","/catalogue_item_notification:catalogueItemNotificationMessage/transaction/documentCommand/catalogue_item_notification:catalogueItemNotification/catalogueItem/tradeItem/tradeItemInformation/extension/*[namespace-uri()='urn:gs1:gdsn:nonfood_ingredient:xsd:3' and local-name()='nonfoodIngredientModule']/nonfoodIngredientStatement/@sequenceNumber","nonNegativeInteger",null,"","","0..1","","FMCG","Datakwalitijd 2.0;Label health&beauty;Biocides","411","Health;Cosmetics","",null,"A number used to indicate the order of the different instances of the attribute.","1","Enter the sequence number of the instance of the attribute, and make sure that you do not use the same sequence number twice. The sequence number is used to enable the receiver to put all instances of the attribute in the correct order.\n",null,null,"False","CM","Mandatory if 'Non food ingredient statement' is used more than once for the same language code.","CM","if 'Non food ingredient statement' is used more than once for the same language code.","CM","if 'Non food ingredient statement' is used more than once for the same language code.","Sarina","Sarina","9/27/2021 6:39:18 PM","11/4/2021 9:54:44 PM",{"$f":"IF(A343=\"ANL1420\",\"Targetsector\",LEFT(C343,LEN(C343)-LEN('BES EN'!E343)-3))","v":"Non food ingredient statement sequence number"}]
["ANL1413","Active","Organic product place of farming code (organicProductPlaceOfFarmingCode)","MNL0020","organicProductPlaceOfFarmingCode","3.1.17","/catalogue_item_notification:catalogueItemNotificationMessage/transaction/documentCommand/catalogue_item_notification:catalogueItemNotification/catalogueItem/tradeItem/tradeItemInformation/extension/*[namespace-uri()='urn:gs1:gdsn:farming_and_processing_information:xsd:3' and local-name()='farmingAndProcessingInformationModule']/tradeItemOrganicInformation/organicProductPlaceOfFarmingCode","CodeList","BENELUX_GDSN_OrganicProductPlaceOfFarmingCode","","","0..1","","FMCG","Label;Fruit&Vegetable","390","Fruit&Vegetable;Food","","Only for organic products.\n","Indication of the place where the agricultural raw materials of which the product is composed have been farmed, acc. To Council Regulation (EC) No 834/2007. It applies only to the trade item, not ingredient by ingredient. Where the Community logo is used, an indication of the place where the agricultural raw materials of which the product is composed have been farmed, shall also appear in the same visual field as the logo and shall take one of the code list forms, as appropriate. For EU or NON-EU indication, small quantities by weight of ingredients may be disregarded provided, that the total quantity of the disregarded ingredients does not exceed 2 % of the total quantity by weight of raw materials of agricultural origin. This Regulation shall apply to the following products originating from agriculture, including aquaculture, where such products are placed on the market or are intended to be placed on the market:<br />\na) Live or unprocessed agricultural products;<br />\nb) Processed agricultural products for use as food;<br />\nc) Feed;<br />\nd) Vegetative propagating material and seeds for cultivation.<br />\nThe products of hunting and fishing of wild animals shall not be considered as organic production. This regulation shall also apply to yeasts used as food or feed.\n","EU_AND_NON_EU_AGRICULTURE\n","Enter for organic products the place of farming that is stated on the packaging by means of a code from the code list organicProductPlaceOfFarmingCode. In the case the organic product is farmed in one country, use the code 'FARMING_COUNTRY_OF_ORIGIN’. \n",null,null,"False","CM","Mandatory for organic products (food products or pet food) if the place of farming is stated on the packaging.","O",null,"O",null,"Sarina","Sarina","9/27/2021 6:39:18 PM","11/4/2021 9:55:04 PM",{"$f":"IF(A344=\"ANL1420\",\"Targetsector\",LEFT(C344,LEN(C344)-LEN('BES EN'!E344)-3))","v":"Organic product place of farming code"}]
["ANL1414","Active","Battery capacity (batteryCapacity)","MNL0020","batteryCapacity","3.1.17","/catalogue_item_notification:catalogueItemNotificationMessage/transaction/documentCommand/catalogue_item_notification:catalogueItemNotification/catalogueItem/tradeItem/tradeItemInformation/extension/*[namespace-uri()='urn:gs1:gdsn:battery_information:xsd:3' and local-name()='batteryInformationModule']/batteryDetail/batteryCapacity","Measurement",null,"","","0..1","","FMCG","Batteries;Datakwalitijd 2.0","484","Health;Food","",null,"The capacity of a battery represents the maximum amount of energy that can be extracted from the battery under certain specified conditions. This capacity is a measure of the charge stored by the battery, and is determined by the mass of active material contained in the battery. Example Ampere hour, Milliampere hour, etc.\n","3 (Ah)\n","Enter the capacity of the battery in this field, expressed in ampere-hours (Ah) or milliampere-hours (mAh).\n",null,null,"False","CM","Mandatory for batteries if it is stated on the label/packaging","O",null,"O",null,"Sarina","Sarina","9/27/2021 6:39:19 PM","11/4/2021 9:55:24 PM",{"$f":"IF(A345=\"ANL1420\",\"Targetsector\",LEFT(C345,LEN(C345)-LEN('BES EN'!E345)-3))","v":"Battery capacity"}]
["ANL1415","Active","Battery capacity UOM (batteryCapacity/@measurementUnitCode)","MNL0020","batteryCapacity/@measurementUnitCode","3.1.17","/catalogue_item_notification:catalogueItemNotificationMessage/transaction/documentCommand/catalogue_item_notification:catalogueItemNotification/catalogueItem/tradeItem/tradeItemInformation/extension/*[namespace-uri()='urn:gs1:gdsn:battery_information:xsd:3' and local-name()='batteryInformationModule']/batteryDetail/batteryCapacity/@measurementUnitCode","CodeList","BENELUX_GDSN_MeasurementUnitCode","","","1..1","","FMCG","Batteries;Datakwalitijd 2.0","485","Health;Food","",null,"Any standardized, reproducible unit that can be used to measure any physical property.\n","E09 (milliampere hour)<br />\nAMH (ampere hour)\n","Select the correct value from the code list &#39;MeasurementUnitCode&#39;.\n",null,null,"False","CM","Mandatory if the 'Battery capacity' field is populated.","CM","if the 'Battery capacity' field is populated.","CM","if the 'Battery capacity' field is populated.","Sarina","Sarina","9/27/2021 6:39:19 PM","11/4/2021 9:55:45 PM",{"$f":"IF(A346=\"ANL1420\",\"Targetsector\",LEFT(C346,LEN(C346)-LEN('BES EN'!E346)-3))","v":"Battery capacity UOM"}]
["ANL1416","Active","Battery voltage (batteryVoltage)","MNL0020","batteryVoltage","3.1.17","/catalogue_item_notification:catalogueItemNotificationMessage/transaction/documentCommand/catalogue_item_notification:catalogueItemNotification/catalogueItem/tradeItem/tradeItemInformation/extension/*[namespace-uri()='urn:gs1:gdsn:battery_information:xsd:3' and local-name()='batteryInformationModule']/batteryDetail/batteryVoltage","Measurement",null,"","","0..1","","FMCG","Datakwalitijd 2.0;Batteries","486","Health;Food","",null,"The voltage of a battery is the difference in electric potential between the positive and negative terminals of the battery and is measured in volts.\n","9 (V)\n","Enter the voltage of the battery in this field, expressed in volts.\n",null,null,"False","CM","Mandatory for batteries if it is stated on the label/packaging","O",null,"O",null,"Sarina","Sarina","9/27/2021 6:39:19 PM","11/4/2021 9:56:08 PM",{"$f":"IF(A347=\"ANL1420\",\"Targetsector\",LEFT(C347,LEN(C347)-LEN('BES EN'!E347)-3))","v":"Battery voltage"}]
["ANL1417","Active","Battery voltage UOM (batteryVoltage/@measurementUnitCode)","MNL0020","batteryVoltage/@measurementUnitCode","3.1.17","/catalogue_item_notification:catalogueItemNotificationMessage/transaction/documentCommand/catalogue_item_notification:catalogueItemNotification/catalogueItem/tradeItem/tradeItemInformation/extension/*[namespace-uri()='urn:gs1:gdsn:battery_information:xsd:3' and local-name()='batteryInformationModule']/batteryDetail/batteryVoltage/@measurementUnitCode","CodeList","BENELUX_GDSN_MeasurementUnitCode","","","1..1","","FMCG","Datakwalitijd 2.0;Batteries","487","Food;Health","",null,"Any standardized, reproducible unit that can be used to measure any physical property.\n","2H\n","Select the correct value from the code list &#39;MeasurementUnitCode&#39;.\n",null,null,"False","CM","Mandatory if 'Voltage' is populated","CM","if the 'Voltage' field is populated.","CM","if the 'Voltage' field is populated.","Sarina","Sarina","9/27/2021 6:39:19 PM","11/4/2021 9:56:30 PM",{"$f":"IF(A348=\"ANL1420\",\"Targetsector\",LEFT(C348,LEN(C348)-LEN('BES EN'!E348)-3))","v":"Battery voltage UOM"}]
["ANL1418","Active","Is battery rechargeable (isBatteryRechargeable)","MNL0020","isBatteryRechargeable","3.1.17","/catalogue_item_notification:catalogueItemNotificationMessage/transaction/documentCommand/catalogue_item_notification:catalogueItemNotification/catalogueItem/tradeItem/tradeItemInformation/extension/*[namespace-uri()='urn:gs1:gdsn:battery_information:xsd:3' and local-name()='batteryInformationModule']/batteryDetail/isBatteryRechargeable","CodeList","BENELUX_GDSN_NonBinaryLogicEnumeration","","","0..1","","FMCG","Batteries;Datakwalitijd 2.0","488","Health;Food","",null,"An indicator to show if the battery can be recharged. A rechargeable battery is a type of battery which can be charged, discharged, and recharged many times.\n","TRUE\n","Indicate in this field if the battery is rechargeable or not. Select the correct value from the code list &lsquo;NonBinaryLogicEnumeration&rsquo;.\n",null,null,"False","CM","Mandatory for rechargeable batteries","O",null,"O",null,"Sarina","Sarina","9/27/2021 6:39:20 PM","11/4/2021 9:56:50 PM",{"$f":"IF(A349=\"ANL1420\",\"Targetsector\",LEFT(C349,LEN(C349)-LEN('BES EN'!E349)-3))","v":"Is battery rechargeable"}]
["ANL1419","Active","Quantity of batteries included (quantityOfBatteriesIncluded)","MNL0020","quantityOfBatteriesIncluded","3.1.17","/catalogue_item_notification:catalogueItemNotificationMessage/transaction/documentCommand/catalogue_item_notification:catalogueItemNotification/catalogueItem/tradeItem/tradeItemInformation/extension/*[namespace-uri()='urn:gs1:gdsn:battery_information:xsd:3' and local-name()='batteryInformationModule']/batteryDetail/quantityOfBatteriesIncluded","nonNegativeInteger",null,"","","0..1","","FMCG","Batteries","489","Food;Health","",null,"To identify the number of the specified batteries in the package and/or built in the product.\n","2\n","Enter in this field the number of batteries in the package or in the product.\n","Local Dutch applicable validation rules are: 500.384,  500.390 ",null,"False","CM","Mandatory, in case the ‘Are batteries included’ field is populated with the value ‘TRUE’","O",null,"O",null,"Sarina","Sarina","9/27/2021 6:39:20 PM","11/4/2021 9:57:11 PM",{"$f":"IF(A350=\"ANL1420\",\"Targetsector\",LEFT(C350,LEN(C350)-LEN('BES EN'!E350)-3))","v":"Quantity of batteries included"}]
["ANL1420","Active","Targetsector (targetSector)","MNL0020","stringAVP/@attributeName","3.1.17","/catalogue_item_notification:catalogueItemNotificationMessage/transaction/documentCommand/catalogue_item_notification:catalogueItemNotification/catalogueItem/tradeItem/avpList/stringAVP/@attributeName","string","BENELUX_GDSN_TargetSector","1","70","1..1","","FMCG","General","169","Health;Food;Fruit&Vegetable;Petfood","","Your GLN has already been classified by GS1 for the primary sector you are publishing in. If this is the only sector you are publishing in, you don't need to populate this field. ","To identify the targetsector(s) for publication.\n","DIY (Do it yourself)","Select the sector(s) you are publishing data in, in case you are publishing products in more sectors than one. In this field you can indicate per product for which sector(s) it needs to be published. The attributeName (when using xml) must state 'targetSector'.",null,null,"False","O",null,"O",null,"O",null,"Sarina","Sarina","9/27/2021 6:39:20 PM","11/4/2021 9:57:32 PM",{"$f":"IF(A351=\"ANL1420\",\"Targetsector\",LEFT(C351,LEN(C351)-LEN('BES EN'!E351)-3))","v":"Targetsector"}]
["ANL1421","Active","Declared power (declaredPower)","MNL0020","declaredPower","3.1.17","/catalogue_item_notification:catalogueItemNotificationMessage/transaction/documentCommand/catalogue_item_notification:catalogueItemNotification/catalogueItem/tradeItem/tradeItemInformation/extension/*[namespace-uri()='urn:gs1:gdsn:lighting_device:xsd:3' and local-name()='lightingDeviceModule']/lightBulbInformation/declaredPower","Measurement",null,"","","0..*","","FMCG","Lightbulbs",null,"Food;Health","",null,"The declared power of a light bulb defines how much electricity the bulb can transform into light and heat over a given amount of time. If left on for one hour, a 25 Watt light bulb will use 25 Watt-hours (Wh) of energy.","15","Enter the power of the light bulb, up to 0,1 Watt accurate, as indicated on the package.",null,null,"False","O",null,"O",null,"O",null,"Sarina","Sarina","9/27/2021 6:39:21 PM","11/4/2021 9:57:52 PM",{"$f":"IF(A352=\"ANL1420\",\"Targetsector\",LEFT(C352,LEN(C352)-LEN('BES EN'!E352)-3))","v":"Declared power"}]
["ANL1422","Active","Declared power UOM (declaredPower/@measurementUnitCode)","MNL0020","declaredPower/@measurementUnitCode","3.1.17","/catalogue_item_notification:catalogueItemNotificationMessage/transaction/documentCommand/catalogue_item_notification:catalogueItemNotification/catalogueItem/tradeItem/tradeItemInformation/extension/*[namespace-uri()='urn:gs1:gdsn:lighting_device:xsd:3' and local-name()='lightingDeviceModule']/lightBulbInformation/declaredPower/@measurementUnitCode","CodeList","BENELUX_GDSN_MeasurementUnitCode","","","1..1","","FMCG","Lightbulbs",null,"Health;Food","",null,"Any standardised, reproducible unit that can be used to measure any physical property.","WTT (Watt)\n","Select the correct value from the 'MeasurementUnitCode' code list.",null,null,"False","CM","Mandatory if 'Declared power' is populated","O",null,"O",null,"Sarina","Sarina","9/27/2021 6:39:21 PM","11/4/2021 9:58:13 PM",{"$f":"IF(A353=\"ANL1420\",\"Targetsector\",LEFT(C353,LEN(C353)-LEN('BES EN'!E353)-3))","v":"Declared power UOM"}]
["ANL1423","Active","Equivalent light bulb power (equivalentLightBulbPower)","MNL0020","equivalentLightBulbPower","3.1.17","/catalogue_item_notification:catalogueItemNotificationMessage/transaction/documentCommand/catalogue_item_notification:catalogueItemNotification/catalogueItem/tradeItem/tradeItemInformation/extension/*[namespace-uri()='urn:gs1:gdsn:lighting_device:xsd:3' and local-name()='lightingDeviceModule']/lightBulbInformation/equivalentLightBulbPower","Measurement",null,"","","0..*","","FMCG","Lightbulbs",null,"Health;Food","",null,"Indicates the equivalent light bulb power that is defined as the power of the replaced light bulb, if the light bulb is claimed to be equivalent to the replaced light bulbtype.","15","Enter the power of the light bulb equivalent to the power of the replaced light bulb type.",null,null,"False","O",null,"O",null,"O",null,"Sarina","Sarina","9/27/2021 6:39:21 PM","11/4/2021 9:58:33 PM",{"$f":"IF(A354=\"ANL1420\",\"Targetsector\",LEFT(C354,LEN(C354)-LEN('BES EN'!E354)-3))","v":"Equivalent light bulb power"}]
["ANL1424","Active","Equivalent light bulb power UOM (equivalentLightBulbPower/@measurementUnitCode)","MNL0020","equivalentLightBulbPower/@measurementUnitCode","3.1.17","/catalogue_item_notification:catalogueItemNotificationMessage/transaction/documentCommand/catalogue_item_notification:catalogueItemNotification/catalogueItem/tradeItem/tradeItemInformation/extension/*[namespace-uri()='urn:gs1:gdsn:lighting_device:xsd:3' and local-name()='lightingDeviceModule']/lightBulbInformation/equivalentLightBulbPower/@measurementUnitCode","CodeList","BENELUX_GDSN_MeasurementUnitCode","","","1..1","","FMCG","Lightbulbs",null,"Food;Health","",null,"Any standardised, reproducible unit that can be used to measure any physical property.\n","WTT (Watt)\n","Select the correct value from the &#39;MeasurementUnitCode&#39; code list.\n",null,null,"False","CM","Mandatory if 'Equivalent light bulb power' is populated","O",null,"O",null,"Sarina","Sarina","9/27/2021 6:39:21 PM","11/4/2021 9:58:53 PM",{"$f":"IF(A355=\"ANL1420\",\"Targetsector\",LEFT(C355,LEN(C355)-LEN('BES EN'!E355)-3))","v":"Equivalent light bulb power UOM"}]
["ANL1425","Active","Average life light bulb (productCharacteristicValueMeasurement)","MNL0020","productCharacteristicValueMeasurement","3.1.17","/catalogue_item_notification:catalogueItemNotificationMessage/transaction/documentCommand/catalogue_item_notification:catalogueItemNotification/catalogueItem/tradeItem/tradeItemInformation/extension/*[namespace-uri()='urn:gs1:gdsn:product_characteristics:xsd:3' and local-name()='productCharacteristicsModule']/productCharacteristics/productCharacteristicValueMeasurement","Measurement",null,"","","0..*","","FMCG","Lightbulbs",null,"Food;Health","",null,"Nominal light bulb life in hours.","6000","Enter the average life of the light bulb in hours, as indicated on the package. Select the code ‘averageLife’ in the field productCharacteristicCode.",null,null,"False","O",null,"O",null,"O",null,"Sarina","Sarina","9/27/2021 6:39:22 PM","11/4/2021 9:59:14 PM",{"$f":"IF(A356=\"ANL1420\",\"Targetsector\",LEFT(C356,LEN(C356)-LEN('BES EN'!E356)-3))","v":"Average life light bulb"}]
["ANL1426","Active","Average life light bulb UOM (productCharacteristicValueMeasurement/@measurementUnitCode)","MNL0020","productCharacteristicValueMeasurement/@measurementUnitCode","3.1.17","/catalogue_item_notification:catalogueItemNotificationMessage/transaction/documentCommand/catalogue_item_notification:catalogueItemNotification/catalogueItem/tradeItem/tradeItemInformation/extension/*[namespace-uri()='urn:gs1:gdsn:product_characteristics:xsd:3' and local-name()='productCharacteristicsModule']/productCharacteristics/productCharacteristicValueMeasurement/@measurementUnitCode","CodeList","BENELUX_GDSN_MeasurementUnitCode","","","1..1","","FMCG","Lightbulbs",null,"Health;Food","",null,"Any standardised, reproducible unit that can be used to measure any physical property.","HUR (uur)","Select the correct value from the 'MeasurementUnitCode' code list.",null,null,"False","CM","Mandatory if 'Average life light bulb' is populated.","O",null,"O",null,"Sarina","Sarina","9/27/2021 6:39:22 PM","11/4/2021 9:59:34 PM",{"$f":"IF(A357=\"ANL1420\",\"Targetsector\",LEFT(C357,LEN(C357)-LEN('BES EN'!E357)-3))","v":"Average life light bulb UOM"}]
["ANL1427","Active","Number of switching cycles before defect (productCharacteristicValueInteger)","MNL0020","productCharacteristicValueInteger","3.1.17","/catalogue_item_notification:catalogueItemNotificationMessage/transaction/documentCommand/catalogue_item_notification:catalogueItemNotification/catalogueItem/tradeItem/tradeItemInformation/extension/*[namespace-uri()='urn:gs1:gdsn:product_characteristics:xsd:3' and local-name()='productCharacteristicsModule']/productCharacteristics/productCharacteristicValueInteger","integer",null,"","","0..*","","FMCG","Lightbulbs",null,"Health;Food","",null,"Number of switching cycles before a premature defect, a method of specifying the life cycle of a light bulb.","6000","Enter the number of switching cycles before a premature defect, as indicated on the package.\nSelect the code ‘numberOfSwitches’ in the field productCharacteristicCode.",null,null,"False","O",null,"O",null,"O",null,"Sarina","Sarina","9/27/2021 6:39:22 PM","11/4/2021 9:59:55 PM",{"$f":"IF(A358=\"ANL1420\",\"Targetsector\",LEFT(C358,LEN(C358)-LEN('BES EN'!E358)-3))","v":"Number of switching cycles before defect"}]
["ANL1428","Active","Minimum colour temperature (minimumColourTemperature)","MNL0020","minimumColourTemperature","3.1.17","/catalogue_item_notification:catalogueItemNotificationMessage/transaction/documentCommand/catalogue_item_notification:catalogueItemNotification/catalogueItem/tradeItem/tradeItemInformation/extension/*[namespace-uri()='urn:gs1:gdsn:lighting_device:xsd:3' and local-name()='lightingDeviceModule']/lightBulbInformation/minimumColourTemperature","TemperatureMeasurement",null,"","","0..1","","FMCG","Lightbulbs",null,"Food;Health","",null,"Indicates the minimum colour temperature that is a way to describe the minimum light appearance provided by a light bulb, expressed in Kelvin.\n","1800\n","Enter the minimum colour temperature as indicated on the package.\n","Local Dutch applicable validation rules are:500.419\n",null,"False","O",null,"O",null,"O",null,"Sarina","Sarina","9/27/2021 6:39:23 PM","11/4/2021 10:00:16 PM",{"$f":"IF(A359=\"ANL1420\",\"Targetsector\",LEFT(C359,LEN(C359)-LEN('BES EN'!E359)-3))","v":"Minimum colour temperature"}]
["ANL1429","Active","Minimum colour temperature UOM (minimumColourTemperature/@temperatureMeasurementUnitCode)","MNL0020","minimumColourTemperature/@temperatureMeasurementUnitCode","3.1.17","/catalogue_item_notification:catalogueItemNotificationMessage/transaction/documentCommand/catalogue_item_notification:catalogueItemNotification/catalogueItem/tradeItem/tradeItemInformation/extension/*[namespace-uri()='urn:gs1:gdsn:lighting_device:xsd:3' and local-name()='lightingDeviceModule']/lightBulbInformation/minimumColourTemperature/@temperatureMeasurementUnitCode","CodeList","BENELUX_GDSN_TemperatureMeasurementUnitCode","","","1..1","","FMCG","Lightbulbs",null,"Food;Health","",null,"Any standardised, reproducible unit that can be used to measure any physical property.","KEL (Kelvin)","Select the right value from the ‘TemperatureMeasurementUnitCode’ codelist.",null,null,"False","CM","Mandatory if 'Minimum colour temperature' is populated","O",null,"O",null,"Sarina","Sarina","9/27/2021 6:39:23 PM","11/4/2021 10:00:38 PM",{"$f":"IF(A360=\"ANL1420\",\"Targetsector\",LEFT(C360,LEN(C360)-LEN('BES EN'!E360)-3))","v":"Minimum colour temperature UOM"}]
["ANL1430","Active","Maximum colour temperature (maximumColourTemperature)","MNL0020","maximumColourTemperature","3.1.17","/catalogue_item_notification:catalogueItemNotificationMessage/transaction/documentCommand/catalogue_item_notification:catalogueItemNotification/catalogueItem/tradeItem/tradeItemInformation/extension/*[namespace-uri()='urn:gs1:gdsn:lighting_device:xsd:3' and local-name()='lightingDeviceModule']/lightBulbInformation/maximumColourTemperature","TemperatureMeasurement",null,"","","0..1","","FMCG","Lightbulbs",null,"Health;Food","",null,"Indicates the maximum colour temperature that is a way to describe the maximum light appearance provided by a light bulb, expressed in Kelvin.\n","2700\n","Enter the maximum colour temperature as indicated on the package.\n","Local Dutch applicable validation rules are:500.419\n",null,"False","O",null,"O",null,"O",null,"Sarina","Sarina","9/27/2021 6:39:23 PM","11/4/2021 10:00:59 PM",{"$f":"IF(A361=\"ANL1420\",\"Targetsector\",LEFT(C361,LEN(C361)-LEN('BES EN'!E361)-3))","v":"Maximum colour temperature"}]
["ANL1431","Active","Maximum colour temperature UOM (maximumColourTemperature/@temperatureMeasurementUnitCode)","MNL0020","maximumColourTemperature/@temperatureMeasurementUnitCode","3.1.17","/catalogue_item_notification:catalogueItemNotificationMessage/transaction/documentCommand/catalogue_item_notification:catalogueItemNotification/catalogueItem/tradeItem/tradeItemInformation/extension/*[namespace-uri()='urn:gs1:gdsn:lighting_device:xsd:3' and local-name()='lightingDeviceModule']/lightBulbInformation/maximumColourTemperature/@temperatureMeasurementUnitCode","CodeList","BENELUX_GDSN_TemperatureMeasurementUnitCode","","","1..1","","FMCG","Lightbulbs",null,"Food;Health","",null,"Any standardised, reproducible unit that can be used to measure any physical property.","KEL (Kelvin)","Select the right value from the ‘TemperatureMeasurementUnitCode’ codelist.",null,null,"False","CM","Mandatory if 'Maximum colour temperature' is populated","O",null,"O",null,"Sarina","Sarina","9/27/2021 6:39:23 PM","11/4/2021 10:01:21 PM",{"$f":"IF(A362=\"ANL1420\",\"Targetsector\",LEFT(C362,LEN(C362)-LEN('BES EN'!E362)-3))","v":"Maximum colour temperature UOM"}]
["ANL1432","Active","Light bulb warm up time (lightBulbWarmUpTime)","MNL0020","lightBulbWarmUpTime","3.1.17","/catalogue_item_notification:catalogueItemNotificationMessage/transaction/documentCommand/catalogue_item_notification:catalogueItemNotification/catalogueItem/tradeItem/tradeItemInformation/extension/*[namespace-uri()='urn:gs1:gdsn:lighting_device:xsd:3' and local-name()='lightingDeviceModule']/lightBulbInformation/lightBulbWarmUpTime","Measurement",null,"","","0..*","","FMCG","Lightbulbs",null,"Food;Health","",null,"Indicates the maximum time in seconds the light bulb is warmed up to 60% of the full light output.","5","Enter the warm up time up to 60% of the full light output, as indicated on the package. This may be specified as \"direct full light\" if less than 1 second. Often expressed with an icon.",null,null,"False","O",null,"O",null,"O",null,"Sarina","Sarina","9/27/2021 6:39:24 PM","11/4/2021 10:01:43 PM",{"$f":"IF(A363=\"ANL1420\",\"Targetsector\",LEFT(C363,LEN(C363)-LEN('BES EN'!E363)-3))","v":"Light bulb warm up time"}]
["ANL1433","Active","Light bulb warm up time UOM (lightBulbWarmUpTime/@measurementUnitCode)","MNL0020","lightBulbWarmUpTime/@measurementUnitCode","3.1.17","/catalogue_item_notification:catalogueItemNotificationMessage/transaction/documentCommand/catalogue_item_notification:catalogueItemNotification/catalogueItem/tradeItem/tradeItemInformation/extension/*[namespace-uri()='urn:gs1:gdsn:lighting_device:xsd:3' and local-name()='lightingDeviceModule']/lightBulbInformation/lightBulbWarmUpTime/@measurementUnitCode","CodeList","BENELUX_GDSN_MeasurementUnitCode","","","1..1","","FMCG","Lightbulbs",null,"Food;Health","",null,"Any standardised, reproducible unit that can be used to measure any physical property.","SEC (seconde)","Select the correct value from the 'MeasurementUnitCode' code list.",null,null,"False","CM","Mandatory if 'Light bulb warm up time' is populated","O",null,"O",null,"Sarina","Sarina","9/27/2021 6:39:24 PM","11/4/2021 10:02:04 PM",{"$f":"IF(A364=\"ANL1420\",\"Targetsector\",LEFT(C364,LEN(C364)-LEN('BES EN'!E364)-3))","v":"Light bulb warm up time UOM"}]
["ANL1434","Active","Is light bulb suitable for accent lighting (isLightBulbSuitableForAccentLighting)","MNL0020","isLightBulbSuitableForAccentLighting","3.1.17","/catalogue_item_notification:catalogueItemNotificationMessage/transaction/documentCommand/catalogue_item_notification:catalogueItemNotification/catalogueItem/tradeItem/tradeItemInformation/extension/*[namespace-uri()='urn:gs1:gdsn:lighting_device:xsd:3' and local-name()='lightingDeviceModule']/lightBulbInformation/isLightBulbSuitableForAccentLighting","NonBinaryLogicEnumeration","NonBinaryLogicEnumeration","","","0..1","","FMCG","Lightbulbs",null,"Food;Health","",null,"Indicates the light bulb is suitable for accent lighting. For directional lamps only, and if the angle of the light beam of the lamp ≥ 90 ° and its useful luminous flux must be measured in a cone of 120°","TRUE","Select ‘TRUE’  if the light bulb is suitable for accent lighting and select ‘FALSE’ for a directional light bulb not suitable for accent lighting.",null,null,"False","O",null,"O",null,"O",null,"Sarina","Sarina","9/27/2021 6:39:24 PM","11/4/2021 10:02:25 PM",{"$f":"IF(A365=\"ANL1420\",\"Targetsector\",LEFT(C365,LEN(C365)-LEN('BES EN'!E365)-3))","v":"Is light bulb suitable for accent lighting"}]
["ANL1435","Active","File language code (fileLanguageCode)","MNL0020","fileLanguageCode","3.1.17","/catalogue_item_notification:catalogueItemNotificationMessage/transaction/documentCommand/catalogue_item_notification:catalogueItemNotification/catalogueItem/tradeItem/tradeItemInformation/extension/*[namespace-uri()='urn:gs1:gdsn:referenced_file_detail_information:xsd:3' and local-name()='referencedFileDetailInformationModule']/referencedFileHeader/fileLanguageCode","CodeList","BENELUX_GDSN_LanguageCode","","","0..n","","FMCG","Label health&beauty;Product images",null,"Food;Petfood;Fruit&Vegetable;Health","","More than one language may be used for a target market, so that an external file can be available in more than one language.\n","The specified language to which the digital asset is targeted.\n","nl\n","Select the correct value from the &lsquo;LanguageCode&rsquo; code list. This is the &#39;ISO 639-1 (2-Alpha)&#39; code list. Only allowed if &lsquo;Referenced file type code&rsquo; is also populated.\n",null,null,"False","O",null,"O",null,"O",null,"Sarina","Sarina","9/27/2021 6:39:25 PM","11/4/2021 10:02:47 PM",{"$f":"IF(A366=\"ANL1420\",\"Targetsector\",LEFT(C366,LEN(C366)-LEN('BES EN'!E366)-3))","v":"File language code"}]
["ANL1436","Active","Nutritional program code (nutritionalProgramCode)","MNL0020","nutritionalProgramCode","3.1.17","/catalogue_item_notification:catalogueItemNotificationMessage/transaction/documentCommand/catalogue_item_notification:catalogueItemNotification/catalogueItem/tradeItem/tradeItemInformation/extension/*[namespace-uri()='urn:gs1:gdsn:health_related_information:xsd:3' and local-name()='healthRelatedInformationModule']/healthRelatedInformation/nutritionalProgram/nutritionalProgramCode","CodeList","BENELUX_GDSN_NutritionalProgramCode","","","0..*","","FMCG","Fruit&Vegetable;Label",null,"Fruit&Vegetable;Food","",null,"Identifies the type of program designed to encourage people to eat a certain way.","8 (Nutri-Score)","Select the correct value from the code list 'NutritionalProgramCode’.",null,null,"False","CM","Mandatory for food and special food products if Nutri-Score is stated on the packaging.","O",null,"O",null,"Sarina","Sarina","9/27/2021 6:39:25 PM","11/4/2021 10:03:09 PM",{"$f":"IF(A367=\"ANL1420\",\"Targetsector\",LEFT(C367,LEN(C367)-LEN('BES EN'!E367)-3))","v":"Nutritional program code"}]
["ANL1437","Active","Code Nutri-Score (nutritionalScore)","MNL0020","nutritionalScore","3.1.17","/catalogue_item_notification:catalogueItemNotificationMessage/transaction/documentCommand/catalogue_item_notification:catalogueItemNotification/catalogueItem/tradeItem/tradeItemInformation/extension/*[namespace-uri()='urn:gs1:gdsn:health_related_information:xsd:3' and local-name()='healthRelatedInformationModule']/healthRelatedInformation/nutritionalProgram/nutritionalScore","string",null,"1","80","0..1","","FMCG","Fruit&Vegetable;Label",null,"Fruit&Vegetable;Food","","You can only enter the values ‘A’, ‘B’, ‘C’, ‘D’ or ‘E’ if you have selected '8' as the value in the 'Nutritional program code' field.","A score points or ratings, associated with a nutritional program, e.g. A - E for Nutri-Score.","C","Select one of the values A, B, C, D of E.",null,null,"False","CM","Mandatory for food and special food products if Nutri-Score is stated on the packaging.","O",null,"O",null,"Sarina","Sarina","9/27/2021 6:39:25 PM","11/4/2021 10:03:30 PM",{"$f":"IF(A368=\"ANL1420\",\"Targetsector\",LEFT(C368,LEN(C368)-LEN('BES EN'!E368)-3))","v":"Code Nutri-Score"}]
["ANL1438","Active","Nutritional program ingredient type code (nutritionalProgramIngredientTypeCode)","MNL0020","nutritionalProgramIngredientTypeCode","3.1.17","/catalogue_item_notification:catalogueItemNotificationMessage/transaction/documentCommand/catalogue_item_notification:catalogueItemNotification/catalogueItem/tradeItem/tradeItemInformation/extension/*[namespace-uri()='urn:gs1:gdsn:health_related_information:xsd:3' and local-name()='healthRelatedInformationModule']/healthRelatedInformation/nutritionalProgram/nutritionalProgramIngredients/nutritionalProgramIngredientTypeCode","CodeList","BENELUX_GDSN_NutritionalProgramIngredientTypeCode","","","0..1","","FMCG","Label;Fruit&Vegetable",null,"Food;Fruit&Vegetable","",null,"Allows to identify the groups of main ingredients contained in the product to better highlight them for the consumer.","FRUITS_VEGETABLES_LEGUMES_AND_NUTS","For the Nutri-Score, use the code FRUITS_VEGETABLES_LEGUMES_AND_NUTS to identify the quantity of fruits, vegetables, legumes and nuts contained in the recipe of the product.<br /> \nUse this attribute together with ‘Nutritional program ingredient measurement’.","Local Dutch applicable validation rules are: 500.433",null,"False","O",null,"O",null,"O",null,"Sarina","Sarina","9/27/2021 6:39:26 PM","11/4/2021 10:03:51 PM",{"$f":"IF(A369=\"ANL1420\",\"Targetsector\",LEFT(C369,LEN(C369)-LEN('BES EN'!E369)-3))","v":"Nutritional program ingredient type code"}]
["ANL1439","Active","Nutritional program ingredient measurement (nutritionalProgramIngredientMeasurement)","MNL0020","nutritionalProgramIngredientMeasurement","3.1.17","/catalogue_item_notification:catalogueItemNotificationMessage/transaction/documentCommand/catalogue_item_notification:catalogueItemNotification/catalogueItem/tradeItem/tradeItemInformation/extension/*[namespace-uri()='urn:gs1:gdsn:health_related_information:xsd:3' and local-name()='healthRelatedInformationModule']/healthRelatedInformation/nutritionalProgram/nutritionalProgramIngredients/nutritionalProgramIngredientMeasurement","Measurement",null,"","","0..*","","FMCG","Label;Fruit&Vegetable",null,"Food;Fruit&Vegetable","",null,"Value and unit of measure associated to the attribute nutritionalProgramIngredientTypeCode.","40.1","For the Nutri-Score, use this to provide the percentage of fruits, vegetables, legumes and nuts contained in the product, e.g. value 80 and measurement unit code P1 (= Percent). In that case always use measurement unit P1.<br />\nEnter either the exact value, or the value from the following list which is smaller than the actual value and closest to it: 0% / 40,1% / 60,1% / 80,1%.<br />\nUse these attributes together with attribute ‘Nutritional program ingredient type code’.","Local Dutch applicable validation rules are: 500.433, 500.435",null,"False","O",null,"O",null,"O",null,"Sarina","Sarina","9/27/2021 6:39:26 PM","11/4/2021 10:04:13 PM",{"$f":"IF(A370=\"ANL1420\",\"Targetsector\",LEFT(C370,LEN(C370)-LEN('BES EN'!E370)-3))","v":"Nutritional program ingredient measurement"}]
["ANL1440","Active","Nutritional program ingredient measurement UOM (nutritionalProgramIngredientMeasurement/@measurementunitcode)","MNL0020","nutritionalProgramIngredientMeasurement/@measurementUnitCode","3.1.17","/catalogue_item_notification:catalogueItemNotificationMessage/transaction/documentCommand/catalogue_item_notification:catalogueItemNotification/catalogueItem/tradeItem/tradeItemInformation/extension/*[namespace-uri()='urn:gs1:gdsn:health_related_information:xsd:3' and local-name()='healthRelatedInformationModule']/healthRelatedInformation/nutritionalProgram/nutritionalProgramIngredients/nutritionalProgramIngredientMeasurement/@measurementUnitCode","CodeList","BENELUX_GDSN_MeasurementUnitCode","","","1..1","","FMCG","Fruit&Vegetable;Label",null,"Food;Fruit&Vegetable","",null,"Any standardised, reproducible unit that can be used to measure any physical property.","P1 (percent)","Select the correct value from the 'MeasurementUnitCode' code list.","Local Dutch applicable validation rules are: 500.434",null,"False","CM","Mandatory if 'Nutritional program ingredient measurement' is populated","CM","Mandatory if 'Nutritional program ingredient measurement' is populated","CM","Mandatory if 'Nutritional program ingredient measurement' is populated","Sarina","Sarina","9/27/2021 6:39:26 PM","11/4/2021 10:04:35 PM",{"$f":"IF(A371=\"ANL1420\",\"Targetsector\",LEFT(C371,LEN(C371)-LEN('BES EN'!E371)-3))","v":"Nutritional program ingredient measurement UOM"}]
["ANL1441","Active","Skin product function or treatment code (skinProductFunctionOrTreatmentCode)","MNL0020","skinProductFunctionOrTreatmentCode","3.1.17","/catalogue_item_notification:catalogueItemNotificationMessage/transaction/documentCommand/catalogue_item_notification:catalogueItemNotification/catalogueItem/tradeItem/tradeItemInformation/extension/*[namespace-uri()='urn:gs1:gdsn:product_information:xsd:3' and local-name()='productInformationModule']/productInformationDetail/beautyPersonalCareHygieneDetail/skinProductInformation/skinProductFunctionOrTreatmentCode","CodeList","BENELUX_GDSN_SkinProductFunctionOrTreatmentCode","","","0..*","","FMCG","Label health&beauty",null,"Cosmetics","","You may use this field more than once.","Indicates, with reference to the product branding, labelling or packaging, the descriptive term that is used by the product manufacturer to identify different functions of the skin care or moisturizing product and other treatments.","MOISTURISING\nACNE_OR_BLACKHEADS","Enter here the functions or treatments for which the skin care product or moisturizing product can be used. Use the code list ‘SkinProductFunctionOrTreatmentCode’.",null,null,"False","O",null,"O",null,"O",null,"Sarina","Sarina","9/27/2021 6:39:26 PM","11/4/2021 10:04:56 PM",{"$f":"IF(A372=\"ANL1420\",\"Targetsector\",LEFT(C372,LEN(C372)-LEN('BES EN'!E372)-3))","v":"Skin product function or treatment code"}]
["ANL1442","Active","Target skin type code (targetSkinTypeCode)","MNL0020","targetSkinTypeCode","3.1.17","/catalogue_item_notification:catalogueItemNotificationMessage/transaction/documentCommand/catalogue_item_notification:catalogueItemNotification/catalogueItem/tradeItem/tradeItemInformation/extension/*[namespace-uri()='urn:gs1:gdsn:product_information:xsd:3' and local-name()='productInformationModule']/productInformationDetail/beautyPersonalCareHygieneDetail/skinProductInformation/targetSkinTypeCode","CodeList","BENELUX_GDSN_TargetSkinTypeCode","","","0..*","","FMCG","Label health&beauty",null,"Cosmetics","","You may use this field more than once.","Indicates, with reference to the product branding, labelling or packaging, the descriptive term that is used by the product manufacturer to identify different types of skin the product is intended for.","CRACKED\nOILY","Enter here the skin type for which the skin care product is used. Use the code list ‘TargetSkinTypeCode’.",null,null,"False","O",null,"O",null,"O",null,"Sarina","Sarina","9/27/2021 6:39:27 PM","11/4/2021 10:05:18 PM",{"$f":"IF(A373=\"ANL1420\",\"Targetsector\",LEFT(C373,LEN(C373)-LEN('BES EN'!E373)-3))","v":"Target skin type code"}]
["ANL1443","Active","Hair product function or treatment code (hairProductFunctionOrTreatmentCode)","MNL0020","hairProductFunctionOrTreatmentCode","3.1.17","/catalogue_item_notification:catalogueItemNotificationMessage/transaction/documentCommand/catalogue_item_notification:catalogueItemNotification/catalogueItem/tradeItem/tradeItemInformation/extension/*[namespace-uri()='urn:gs1:gdsn:product_information:xsd:3' and local-name()='productInformationModule']/productInformationDetail/beautyPersonalCareHygieneDetail/hairProductInformation/hairProductFunctionOrTreatmentCode","CodeList","BENELUX_GDSN_HairProductFunctionOrTreatmentCode","","","0..*","","FMCG","Label health&beauty",null,"Cosmetics","","You may use this field more than once.","Indicates, with reference to the hair product branding, labelling or packaging, the descriptive term that is used by the product manufacturer to identify different functions of the product and other treatments.","SPLIT_ENDS\nCONDITIONER","Enter here the functions or treatments for which the hair product  can be used. Use the code list ‘HairProductFunctionOrTreatmentCode’.",null,null,"False","O",null,"O",null,"O",null,"Sarina","Sarina","9/27/2021 6:39:27 PM","11/4/2021 10:05:40 PM",{"$f":"IF(A374=\"ANL1420\",\"Targetsector\",LEFT(C374,LEN(C374)-LEN('BES EN'!E374)-3))","v":"Hair product function or treatment code"}]
["ANL1444","Active","Target hair type code (targetHairTypeCode)","MNL0020","targetHairTypeCode","3.1.17","/catalogue_item_notification:catalogueItemNotificationMessage/transaction/documentCommand/catalogue_item_notification:catalogueItemNotification/catalogueItem/tradeItem/tradeItemInformation/extension/*[namespace-uri()='urn:gs1:gdsn:product_information:xsd:3' and local-name()='productInformationModule']/productInformationDetail/beautyPersonalCareHygieneDetail/hairProductInformation/targetHairTypeCode","CodeList","BENELUX_GDSN_TargetHairTypeCode","","","0..*","","FMCG","Label health&beauty",null,"Cosmetics","","You may use this field more than once.","Indicates, with reference to the product branding, labelling or packaging, the descriptive term that is used by the product manufacturer to identify the hair type for which the product is intended.","WAVY\nFRIZZY","Enter here the hair type for which the hair product is used. \nUse the code list ‘TargetHairTypeCode’.",null,null,"False","O",null,"O",null,"O",null,"Sarina","Sarina","9/27/2021 6:39:27 PM","11/4/2021 10:06:02 PM",{"$f":"IF(A375=\"ANL1420\",\"Targetsector\",LEFT(C375,LEN(C375)-LEN('BES EN'!E375)-3))","v":"Target hair type code"}]
["ANL1445","Active","Natural hair colour code (naturalHairColourCode)","MNL0020","naturalHairColourCode","3.1.17","/catalogue_item_notification:catalogueItemNotificationMessage/transaction/documentCommand/catalogue_item_notification:catalogueItemNotification/catalogueItem/tradeItem/tradeItemInformation/extension/*[namespace-uri()='urn:gs1:gdsn:product_information:xsd:3' and local-name()='productInformationModule']/productInformationDetail/beautyPersonalCareHygieneDetail/hairProductInformation/naturalHairColourCode","CodeList","BENELUX_GDSN_NaturalHairColourCode","","","0..*","","FMCG","Label health&beauty",null,"Cosmetics","","You may use this field more than once.","Indicates, with reference to the product branding, labelling or packaging, the descriptive term that is used by the product manufacturer to identify the natural colour of the hair for which the product is intended.","BLONDE\nRED","Enter here for which natural colour of hair the product is used. Use the code list ‘NaturalHairColourCode’.",null,null,"False","O",null,"O",null,"O",null,"Sarina","Sarina","9/27/2021 6:39:27 PM","11/4/2021 10:06:25 PM",{"$f":"IF(A376=\"ANL1420\",\"Targetsector\",LEFT(C376,LEN(C376)-LEN('BES EN'!E376)-3))","v":"Natural hair colour code"}]
["ANL1446","Active","Dental product function code (dentalProductFunctionCode)","MNL0020","dentalProductFunctionCode","3.1.17","/catalogue_item_notification:catalogueItemNotificationMessage/transaction/documentCommand/catalogue_item_notification:catalogueItemNotification/catalogueItem/tradeItem/tradeItemInformation/extension/*[namespace-uri()='urn:gs1:gdsn:product_information:xsd:3' and local-name()='productInformationModule']/productInformationDetail/beautyPersonalCareHygieneDetail/dentalProductInformation/dentalProductFunctionCode","CodeList","BENELUX_GDSN_DentalProductFunctionCode","","","0..*","","FMCG","Label health&beauty",null,"Cosmetics","","You may use this field more than once.","Indicates, with reference to the product branding, labelling or packaging, the descriptive term that is used by the product manufacturer to identify the type of dental care characteristics.","FRESH_BREATH \nTARTAR_CONTROL","Enter the use for the dental care product in this field. \nUse the code list ‘DentalProductFunctionCode’.",null,null,"False","O",null,"O",null,"O",null,"Sarina","Sarina","9/27/2021 6:39:28 PM","11/4/2021 10:06:47 PM",{"$f":"IF(A377=\"ANL1420\",\"Targetsector\",LEFT(C377,LEN(C377)-LEN('BES EN'!E377)-3))","v":"Dental product function code"}]
["ANL1447","Active","Time of application code (timeOfApplicationCode)","MNL0020","timeOfApplicationCode","3.1.17","/catalogue_item_notification:catalogueItemNotificationMessage/transaction/documentCommand/catalogue_item_notification:catalogueItemNotification/catalogueItem/tradeItem/tradeItemInformation/extension/*[namespace-uri()='urn:gs1:gdsn:product_information:xsd:3' and local-name()='productInformationModule']/productInformationDetail/timeOfApplicationCode","CodeList","BENELUX_GDSN_TimeOfApplicationCode","","","0..*","","FMCG","Label health&beauty",null,"Cosmetics","","You may use this field more than once.","Indicates, with reference to the product branding, labelling or packaging, the descriptive term that is used by the product manufacturer to identify the time of product application.","DAY\nNIGHT","Enter here for which time of the day the application of the product can be used. Use the code list ‘TimeOfApplicationCode’.",null,null,"False","O",null,"O",null,"O",null,"Sarina","Sarina","9/27/2021 6:39:28 PM","11/4/2021 10:07:10 PM",{"$f":"IF(A378=\"ANL1420\",\"Targetsector\",LEFT(C378,LEN(C378)-LEN('BES EN'!E378)-3))","v":"Time of application code"}]
["ANL1448","Active","Target consumer gender code (targetConsumerGender)","MNL0020","targetConsumerGender","3.1.17","/catalogue_item_notification:catalogueItemNotificationMessage/transaction/documentCommand/catalogue_item_notification:catalogueItemNotification/catalogueItem/tradeItem/tradeItemInformation/extension/*[namespace-uri()='urn:gs1:gdsn:marketing_information:xsd:3' and local-name()='marketingInformationModule']/marketingInformation/targetConsumer/targetConsumerGender","CodeList","BENELUX_GDSN_TargetConsumerGenderCode","","","0..1","","FMCG","Label health&beauty",null,"Cosmetics","",null,"Identifies the target consumer gender for which a product has been designed.","MALE\nFEMALE\nUNISEX","Indicate the target consumer gender for which the product has been designed. Use the code list ‘TargetConsumerGenderCode’.",null,null,"False","O",null,"O",null,"O",null,"Sarina","Sarina","9/27/2021 6:39:28 PM","11/4/2021 10:07:32 PM",{"$f":"IF(A379=\"ANL1420\",\"Targetsector\",LEFT(C379,LEN(C379)-LEN('BES EN'!E379)-3))","v":"Target consumer gender code"}]
["ANL1449","Active","Target consumer age group code (targetConsumerAgeGroupCode)","MNL0020","targetConsumerAgeGroupCode","3.1.17","/catalogue_item_notification:catalogueItemNotificationMessage/transaction/documentCommand/catalogue_item_notification:catalogueItemNotification/catalogueItem/tradeItem/tradeItemInformation/extension/*[namespace-uri()='urn:gs1:gdsn:marketing_information:xsd:3' and local-name()='marketingInformationModule']/marketingInformation/targetConsumer/targetConsumerAgeGroupCode","CodeList","BENELUX_GDSN_TargetConsumerAgeGroupCode","","","0..1","","FMCG","Label health&beauty",null,"Cosmetics","",null,"A description of a general age group the product is designed for. For example Infant, Toddler, Child, Teen, Adult. This would not include the actual age ranges.","BABY\nTEEN\nSENIOR","Indicate the target consumer age group for which the product has been designed. Use the code list ‘TargetConsumerAgeGroupCode’.",null,null,"False","O",null,"O",null,"O",null,"Sarina","Sarina","9/27/2021 6:39:29 PM","11/4/2021 10:07:54 PM",{"$f":"IF(A380=\"ANL1420\",\"Targetsector\",LEFT(C380,LEN(C380)-LEN('BES EN'!E380)-3))","v":"Target consumer age group code"}]
["ANL1450","Active","Formation type code (formationTypeCode)","MNL0020","formationTypeCode","3.1.17","/catalogue_item_notification:catalogueItemNotificationMessage/transaction/documentCommand/catalogue_item_notification:catalogueItemNotification/catalogueItem/tradeItem/tradeItemInformation/extension/*[namespace-uri()='urn:gs1:gdsn:product_information:xsd:3' and local-name()='productInformationModule']/productInformationDetail/formationTypeCode","CodeList","BENELUX_GDSN_FormationTypeCode","","","0..n","","FMCG","Label health&beauty",null,"Cosmetics","",null,"Indicates, with reference to the product branding, labelling or packaging, the descriptive term that is used by the product manufacturer to identify the state in which the product is sold.","CLAY\nWIPE","Enter here what the formation of the product is.\nUse the code list ‘FormationTypeCode’.",null,null,"False","O",null,"O",null,"O",null,"Sarina","Sarina","9/27/2021 6:39:29 PM","11/4/2021 10:08:17 PM",{"$f":"IF(A381=\"ANL1420\",\"Targetsector\",LEFT(C381,LEN(C381)-LEN('BES EN'!E381)-3))","v":"Formation type code"}]
["ANL1451","Active","Claim marked on package (claimMarkedOnPackage)","MNL0020","claimMarkedOnPackage","3.1.17","/catalogue_item_notification:catalogueItemNotificationMessage/transaction/documentCommand/catalogue_item_notification:catalogueItemNotification/catalogueItem/tradeItem/tradeItemInformation/extension/*[namespace-uri()='urn:gs1:gdsn:nutritional_information:xsd:3' and local-name()='nutritionalInformationModule']/nutritionalClaimDetail/claimMarkedOnPackage","NonBinaryLogicEnumeration","NonBinaryLogicEnumeration","","","0..1","","FMCG","Label health&beauty;Datakwalitijd 2.0;Label",null,"Health;Food;Cosmetics;Petfood;Fruit&Vegetable","","This field is checked in the context of the Dutch data quality program.","Is the claim specified by ‘Claim type code’ in combination with ‘Element claim code’ labelled on the product package?","FALSE","Indicate if the claim populated in the ‘Element claim code’ field is marked on the package or not.",null,null,"False","CM","Mandatory, if the claim that is populated in the ‘Element claim code’ field is not stated on the package.","O",null,"O",null,"Sarina","Sarina","9/27/2021 6:39:29 PM","11/4/2021 10:08:39 PM",{"$f":"IF(A382=\"ANL1420\",\"Targetsector\",LEFT(C382,LEN(C382)-LEN('BES EN'!E382)-3))","v":"Claim marked on package"}]
["ANL1452","Active","Is diet type marked on package (isDietTypeMarkedOnPackage)","MNL0020","isDietTypeMarkedOnPackage","3.1.17","/catalogue_item_notification:catalogueItemNotificationMessage/transaction/documentCommand/catalogue_item_notification:catalogueItemNotification/catalogueItem/tradeItem/tradeItemInformation/extension/*[namespace-uri()='urn:gs1:gdsn:diet_information:xsd:3' and local-name()='dietInformationModule']/dietInformation/dietTypeInformation/isDietTypeMarkedOnPackage","NonBinaryLogicEnumeration","NonBinaryLogicEnumeration","","","0..1","","FMCG","Label;Label health&beauty;Datakwalitijd 2.0",null,"Fruit&Vegetable;Health;Cosmetics;Petfood;Food","","This field is checked in the context of the Dutch data quality program.","Is the diet type specified in the ‘dietTypeCode’ field (and sometimes the ‘dietTypeSubcode’ field) labelled on the product package?","FALSE","Indicate if the claim populated in the ‘Diet type code’ field is marked on the package or not.",null,null,"False","CM","Mandatory, if the claim that is populated in the ‘Diet type code’ field is not stated on the package.","O",null,"O",null,"Sarina","Sarina","9/27/2021 6:39:29 PM","11/4/2021 10:09:01 PM",{"$f":"IF(A383=\"ANL1420\",\"Targetsector\",LEFT(C383,LEN(C383)-LEN('BES EN'!E383)-3))","v":"Is diet type marked on package"}]
["ANL1453","Active","Indication of concentration thresholds (regulatoryActComplianceLevelCode)","MNL0020","regulatoryActComplianceLevelCode","3.1.17","/catalogue_item_notification:catalogueItemNotificationMessage/transaction/documentCommand/catalogue_item_notification:catalogueItemNotification/catalogueItem/tradeItem/tradeItemInformation/extension/*[namespace-uri()='urn:gs1:gdsn:regulated_trade_item:xsd:3' and local-name()='regulatedTradeItemModule']/regulatoryInformation/regulatoryActComplianceLevelCode","CodeList","BENELUX_GDSN_RegulatoryActComplianceLevelCode","","","0..1","","FMCG","Dangerous goods",null,"Food;Health;Cosmetics","",null,"Code that compares amount of the product or its composition with threshold amounts defined by a regulation indicated in attribute ‘regulationTypeCode’. This can vary for each regulation and market or region. For example concentration limit for restricted explosive precursors defined by EU Regulation 2019/1148.","ABOVE_REGULATED_LEVELS<br />\nBELOW_REGULATED_LEVELS","Enter ‘ABOVE_REGULATED_LEVELS’ if the product contains precursors for explosives above the limit value for that specific precursor, as mentioned in Annex I of EU regulation 2019/1148. Enter ‘BELOW_REGULATED_LEVELS’ if the level of the precursors is equal to or below the limit value. If the product contains several precursors, some of which are above and some below the limit value, enter 'ABOVE_REGULATED_LEVELS'.",null,null,"False","CM","Mandatory if the ‘Regulation type code’ field is populated with ‘EXPLOSIVES_PRECURSORS_REGISTRATION’ and the ‘Is trade item regulation compliant’ field is populated with ‘TRUE’.","O",null,"O",null,"Sarina","Sarina","9/27/2021 6:39:30 PM","11/4/2021 10:09:24 PM",{"$f":"IF(A384=\"ANL1420\",\"Targetsector\",LEFT(C384,LEN(C384)-LEN('BES EN'!E384)-3))","v":"Indication of concentration thresholds"}]
["ANL1454","Active","Regulation level code reference (regulationLevelCodeReference)","MNL0020","regulationLevelCodeReference","3.1.17","/catalogue_item_notification:catalogueItemNotificationMessage/transaction/documentCommand/catalogue_item_notification:catalogueItemNotification/catalogueItem/tradeItem/tradeItemInformation/extension/*[namespace-uri()='urn:gs1:gdsn:regulated_trade_item:xsd:3' and local-name()='regulatedTradeItemModule']/regulatoryInformation/regulationLevelCodeReference","Code",null,"","","0..*","","FMCG","Dangerous goods",null,"Cosmetics;Health;Food","",null,"An external code associated with a specific warning type and possibly a description that helps recipients identify items of similar levels of warnings, that cannot be obtained from a description. The information provided in this attribute may come from a specific article in the full regulation. Examples: - if the regulationTypeCode is ‘SMALL_PARTS’ the regulationLevelCodeReference would be ‘Level 5’ with codeDescription ‘Not for ages under 3’ - if the regulationTypeCode is ‘BIOCIDE_REGULATION’ the regulationLevelCodeReference would be ‘PT1’ with codeDescription ‘Human hygiene’.","7697-37-2 (Nitric acid)<br />\n67-64-1 (Acetone)","Enter here which precursors for explosives are present in the product (according to EU regulation 2019/1148). Use the European local code list for this.",null,null,"False","CM","Mandatory for products that contain precursors for explosives.","O",null,"O",null,"Sarina","Sarina","9/27/2021 6:39:30 PM","11/4/2021 10:09:46 PM",{"$f":"IF(A385=\"ANL1420\",\"Targetsector\",LEFT(C385,LEN(C385)-LEN('BES EN'!E385)-3))","v":"Regulation level code reference"}]
["ANL1455","Active","Chemical ingredient scheme (chemicalIngredientScheme)","MNL0020","chemicalIngredientScheme","3.1.17","/catalogue_item_notification:catalogueItemNotificationMessage/transaction/documentCommand/catalogue_item_notification:catalogueItemNotification/catalogueItem/tradeItem/tradeItemInformation/extension/*[namespace-uri()='urn:gs1:gdsn:safety_data_sheet:xsd:3' and local-name()='safetyDataSheetModule']/safetyDataSheetInformation/chemicalInformation/chemicalIngredientScheme","string",null,"1","200","0..1","","FMCG","Dangerous goods",null,"Cosmetics;Food;Health","","When you populate this field, you also need to enter ‘Chemical ingredient identification’ and ‘Chemical ingredient concentration’.","A managed list of chemical ingredient identifications for example CAS.","CAS","Populate this field with ‘CAS’ for products that contain precursors for explosives.",null,null,"False","CM","Mandatory for products that contain precursors for explosives","O",null,"O",null,"Sarina","Sarina","9/27/2021 6:39:30 PM","11/4/2021 10:10:09 PM",{"$f":"IF(A386=\"ANL1420\",\"Targetsector\",LEFT(C386,LEN(C386)-LEN('BES EN'!E386)-3))","v":"Chemical ingredient scheme"}]
["ANL1456","Active","Dangerous goods regulation agency (dangerousGoodsRegulationAgency)","MNL0020","dangerousGoodsRegulationAgency","3.1.17","/catalogue_item_notification:catalogueItemNotificationMessage/transaction/documentCommand/catalogue_item_notification:catalogueItemNotification/catalogueItem/tradeItem/tradeItemInformation/extension/*[namespace-uri()='urn:gs1:gdsn:transportation_hazardous_classification:xsd:3' and local-name()='transportationHazardousClassificationModule']/transportationClassification/regulatedTransportationMode/hazardousInformationHeader/dangerousGoodsRegulationAgency","string","BENELUX_GDSN_DangerousGoodsRegulationAgencyCode","1","70","0..1","","FMCG","Dangerous goods",null,"Food;Health","",null,"An indication of the agency responsible for a classification system(s) of dangerous goods.","SEVESO","Populate the hazard category that you want to populate in the ‘Hazard type (ADR/BRZO)’ field here. For the ADR hazard type application, select 'ADR' from the code list ‘DangerousGoodsRegulationAgencyCode’, for the BRZO/SEVESO hazard category application, select 'SEVESO' from this code list.",null,null,"False","CM","Mandatory, if the field ‘Hazard type (ADR/BRZO)’ is populated.","O",null,"O",null,"Sarina","Sarina","9/27/2021 6:39:31 PM","11/4/2021 10:10:32 PM",{"$f":"IF(A387=\"ANL1420\",\"Targetsector\",LEFT(C387,LEN(C387)-LEN('BES EN'!E387)-3))","v":"Dangerous goods regulation agency"}]
["ANL1457","Active","Packaging function code (packagingFunctionCode)","MNL0020","packagingFunctionCode","3.1.17","/catalogue_item_notification:catalogueItemNotificationMessage/transaction/documentCommand/catalogue_item_notification:catalogueItemNotification/catalogueItem/tradeItem/tradeItemInformation/extension/*[namespace-uri()='urn:gs1:gdsn:packaging_information:xsd:3' and local-name()='packagingInformationModule']/packaging/packagingFunctionCode","CodeList","BENELUX_GDSN_PackagingFunctionCode","","","0..*","","FMCG","Dangerous goods",null,"Food;Health","","This field is important for items such as cleaning products and pesticides, in most cases in liquid form.","A code that is used to identify specific functionality for packaging resulting from specific processes or features present in the packaging type. These additional functionalities are not dependant on the packaging type and maybe applied to multiple different types.","CHILD_RESISTANT_CLOSURE\n","Populate the code ‘CHILD_RESISTANT_CLOSURE’, to indicate that the product has a child-safe closure.",null,null,"False","O",null,"O",null,"O",null,"Sarina","Sarina","9/27/2021 6:39:31 PM","11/4/2021 10:10:55 PM",{"$f":"IF(A388=\"ANL1420\",\"Targetsector\",LEFT(C388,LEN(C388)-LEN('BES EN'!E388)-3))","v":"Packaging function code"}]
["ANL1458","Active","Product group (tradeItemGroupIdentificationCodeReference)","MNL0020","tradeItemGroupIdentificationCodeReference","3.1.17","/catalogue_item_notification:catalogueItemNotificationMessage/transaction/documentCommand/catalogue_item_notification:catalogueItemNotification/catalogueItem/tradeItem/tradeItemInformation/extension/*[namespace-uri()='urn:gs1:gdsn:trade_item_description:xsd:3' and local-name()='tradeItemDescriptionModule']/tradeItemDescriptionInformation/tradeItemGroupIdentificationCodeReference","CodeList","BENELUX_GDSN_TradeItemGroupIdentificationCodeReference","","","0..*","","FMCG","Dangerous goods",null,"Food;Health","","Hazardous products are products that have an ADR class with a value between 1 to 9 or that have, required by law, an SDS. Regulation focuses on specific product groups such as building materials, (carpentry) wood, paint, batteries or explosives. The classification in hazard classes is based on legal regulations and can be used in reports to public authorities. Because the data pool is intended for international use, only the codes for the hazard class are stored in the data pool without their meaning. The meaning of the code can be expressed locally in the relevant language (please refer to the corresponding code list).","A code assigned by the supplier or manufacturer to logically group trade item independently from the Global trade item Classification.","15","Indicate here the group of products to which this product belongs. Choose the correct value from the code list ‘tradeItemGroupIdentificationCodeReference’.",null,null,"False","O",null,"O",null,"O",null,"Sarina","Reinier","9/27/2021 6:39:31 PM","11/5/2021 11:10:07 AM",{"$f":"IF(A389=\"ANL1420\",\"Targetsector\",LEFT(C389,LEN(C389)-LEN('BES EN'!E389)-3))","v":"Product group"}]
["ANL1459","Active","Limited quantity value (dangerousGoodsLimitedQuantityIndex)","MNL0020","dangerousGoodsLimitedQuantityIndex","3.1.17","/catalogue_item_notification:catalogueItemNotificationMessage/transaction/documentCommand/catalogue_item_notification:catalogueItemNotification/catalogueItem/tradeItem/tradeItemInformation/extension/*[namespace-uri()='urn:gs1:gdsn:transportation_hazardous_classification:xsd:3' and local-name()='transportationHazardousClassificationModule']/transportationClassification/regulatedTransportationMode/hazardousInformationHeader/hazardousInformationDetail/dangerousGoodsLimitedQuantityIndex","Measurement",null,"","","0..1","","FMCG","Dangerous goods",null,"Food;Health","","On some safety data sheets (SDS) the volume is expressed in kilograms and on others in litres or millilitres.","Number indicating the maximum permitted net content of the inner packaging of an article for which the Limited Quantity regulation of the ADR regime may be applied.","876","Enter this field if your product is subject to the limited quantity regulation. List the unit in milliliters, litres or kilograms.<br />\n<br />\nFor dangerous substances with a safety sheet (SDS), select the value of the limited quantity volume from chapter 14.7 of the SDS.",null,null,"False","CM","Mandatory for a product subject to the limited quantity regulation.","O",null,"O",null,"Sarina","Frederieke","9/27/2021 6:39:32 PM","11/9/2021 4:17:18 PM",{"$f":"IF(A390=\"ANL1420\",\"Targetsector\",LEFT(C390,LEN(C390)-LEN('BES EN'!E390)-3))","v":"Limited quantity value"}]
["ANL1460","Active","Limited quantity value UOM (dangerousGoodsLimitedQuantityIndex/@measurementUnitCode)","MNL0020","dangerousGoodsLimitedQuantityIndex/@measurementUnitcode","3.1.17","/catalogue_item_notification:catalogueItemNotificationMessage/transaction/documentCommand/catalogue_item_notification:catalogueItemNotification/catalogueItem/tradeItem/tradeItemInformation/extension/*[namespace-uri()='urn:gs1:gdsn:transportation_hazardous_classification:xsd:3' and local-name()='transportationHazardousClassificationModule']/transportationClassification/regulatedTransportationMode/hazardousInformationHeader/hazardousInformationDetail/dangerousGoodsLimitedQuantityIndex/@measurementUnitCode","measurementUnitCode",null,"","","1..1","","FMCG","Dangerous goods",null,"Health;Food","",null,"Any standardised, reproducible unit that can be used to measure any physical property.","MLT","Select the value from the ‘measurementUnitCode’ code list.",null,null,"False","CM","Mandatory in case the 'Limited quantity value' field is populated.","CM","Mandatory in case the 'Limited quantity value' field is populated.","CM","Mandatory in case the 'Limited quantity value' field is populated.","Sarina","Frederieke","9/27/2021 6:39:32 PM","11/9/2021 4:17:18 PM",{"$f":"IF(A391=\"ANL1420\",\"Targetsector\",LEFT(C391,LEN(C391)-LEN('BES EN'!E391)-3))","v":"Limited quantity value UOM"}]
["ANL1461","Active","Is dangerous substance a mixture (isDangerousSubstanceAMixture)","MNL0020","isDangerousSubstanceAMixture","3.1.17","/catalogue_item_notification:catalogueItemNotificationMessage/transaction/documentCommand/catalogue_item_notification:catalogueItemNotification/catalogueItem/tradeItem/tradeItemInformation/extension/*[namespace-uri()='urn:gs1:gdsn:dangerous_substance_information:xsd:3' and local-name()='dangerousSubstanceInformationModule']/dangerousSubstanceInformation/dangerousSubstanceProperties/isDangerousSubstanceAMixture","NonBinaryLogicEnumeration","NonBinaryLogicEnumeration","","","0..1","","FMCG","Dangerous goods",null,"Health;Food","",null,"An indicator whether or not the dangerous substance is a mixture of several substances.","TRUE","Select 'True' in this field if the information you have populated in the ‘Hazard statement code (Hazard)’ field is for a mixture of hazardous substances. Select 'False' if the information you have populated there is not for a mixture of hazardous substances.",null,null,"False","CM","Mandatory if the ‘Hazard statement code (Hazard)’ is populated for a mixture of hazardous substances.","O",null,"O",null,"Sarina","Sarina","9/27/2021 6:39:32 PM","11/4/2021 10:12:28 PM",{"$f":"IF(A392=\"ANL1420\",\"Targetsector\",LEFT(C392,LEN(C392)-LEN('BES EN'!E392)-3))","v":"Is dangerous substance a mixture"}]
["ANL1462","Active","Alcoholic beverage colour code (alcoholicBeverageColourCode)","MNL0020","alcoholicBeverageColourCode","3.1.17","/catalogue_item_notification:catalogueItemNotificationMessage/transaction/documentCommand/catalogue_item_notification:catalogueItemNotification/catalogueItem/tradeItem/tradeItemInformation/extension/*[namespace-uri()='urn:gs1:gdsn:alcohol_information:xsd:3' and local-name()='alcoholInformationModule']/alcoholInformation/alcoholicBeverageColourCode","CodeList","BENELUX_GDSN_AlcoholicBeverageColourCode","","","0..1","","FMCG","Description",null,"Food","",null,"Indicates the descriptive term that is used by the product manufacturer to identify the colour of the alcoholic beverage.","RED<br />\nROSE<br />\nAMBER<br />\nBROWN","Enter the code of the colour of the alcoholic beverage here. To do so, choose a code from the code list ‘alcoholicBeverageColourCode’.",null,null,"False","O",null,"O",null,"O",null,"Sarina","Sarina","9/27/2021 6:39:33 PM","11/4/2021 10:12:51 PM",{"$f":"IF(A393=\"ANL1420\",\"Targetsector\",LEFT(C393,LEN(C393)-LEN('BES EN'!E393)-3))","v":"Alcoholic beverage colour code"}]
["ANL1463","Active","Type of alcohol beverage code (alcoholBeverageTypeCode)","MNL0020","alcoholBeverageTypeCode","3.1.17","/catalogue_item_notification:catalogueItemNotificationMessage/transaction/documentCommand/catalogue_item_notification:catalogueItemNotification/catalogueItem/tradeItem/tradeItemInformation/extension/*[namespace-uri()='urn:gs1:gdsn:alcohol_information:xsd:3' and local-name()='alcoholInformationModule']/alcoholInformation/alcoholBeverageTypeCode","CodeList","BENELUX_GDSN_AlcoholBeverageTypeCode","","","0..*","","FMCG","Description",null,"Food","",null,"A value to provide the basic type of alcohol beverage product, for example- Spirit-Bourbon, Beer-German Bock, Still Wine-Ice Wine.","SPARKLING_WINE_CHAMPAGNE<br />\nSTILL_WINE_VIN_DE_TABLE<br />\nBEER_LAGER<br />\nFLAVOURED_BEER","Enter a code that corresponds with the type of alcoholic beverage. To do so, choose a code from the code list ‘alcoholBeverageTypeCode’.",null,null,"False","O",null,"O",null,"O",null,"Sarina","Sarina","9/27/2021 6:39:33 PM","11/4/2021 10:13:15 PM",{"$f":"IF(A394=\"ANL1420\",\"Targetsector\",LEFT(C394,LEN(C394)-LEN('BES EN'!E394)-3))","v":"Type of alcohol beverage code"}]
["ANL1464","Active","Sweetness level of alcoholic beverage (sweetnessLevelOfAlcoholicBeverageCode)","MNL0020","sweetnessLevelOfAlcoholicBeverageCode","3.1.17","/catalogue_item_notification:catalogueItemNotificationMessage/transaction/documentCommand/catalogue_item_notification:catalogueItemNotification/catalogueItem/tradeItem/tradeItemInformation/extension/*[namespace-uri()='urn:gs1:gdsn:alcohol_information:xsd:3' and local-name()='alcoholInformationModule']/alcoholInformation/sweetnessLevelOfAlcoholicBeverageCode","CodeList","BENELUX_GDSN_SweetnessLevelOfAlcoholicBeverageCode","","","0..1","","FMCG","Description",null,"Food","",null,"Indicates the descriptive term that is used by the product manufacturer to identify the sweetness of the alcoholic beverage.","BRUT<br />\nMEDIUM_DRY","Enter a code that corresponds with the sweetness of the alcoholic beverage. To do so, choose a code from the code list ‘sweetnessLevelOfAlcoholicBeverageCode’.",null,null,"False","O",null,"O",null,"O",null,"Sarina","Sarina","9/27/2021 6:39:33 PM","11/4/2021 10:13:38 PM",{"$f":"IF(A395=\"ANL1420\",\"Targetsector\",LEFT(C395,LEN(C395)-LEN('BES EN'!E395)-3))","v":"Sweetness level of alcoholic beverage"}]
["ANL1465","Active","Origin of wine code (originOfWineCode)","MNL0020","originOfWineCode","3.1.17","/catalogue_item_notification:catalogueItemNotificationMessage/transaction/documentCommand/catalogue_item_notification:catalogueItemNotification/catalogueItem/tradeItem/tradeItemInformation/extension/*[namespace-uri()='urn:gs1:gdsn:alcohol_information:xsd:3' and local-name()='alcoholInformationModule']/alcoholInformation/originOfWineCode","CodeList","BENELUX_GDSN_OriginOfWineCode","","","0..1","","FMCG","Description",null,"Food","","The first two letters of the code represent the country, followed by the region and, if necessary, the district (for example, with 'FR_ALSACE_CREMANT D'ALSACE').","Indicates the region where the wine has been produced.","FR_ALSACE_CREMANT D’ALSACE<br />\nAR_MENDOZA","Enter a code that corresponds with the region where the wine is produced. To do so, choose a code from the code list ‘originOfWineCode’.",null,null,"False","O",null,"O",null,"O",null,"Sarina","Sarina","9/27/2021 6:39:33 PM","11/4/2021 10:14:00 PM",{"$f":"IF(A396=\"ANL1420\",\"Targetsector\",LEFT(C396,LEN(C396)-LEN('BES EN'!E396)-3))","v":"Origin of wine code"}]
["ANL1466","Active","Grape variety code (grapeVarietyCode)","MNL0020","grapeVarietyCode","3.1.17","/catalogue_item_notification:catalogueItemNotificationMessage/transaction/documentCommand/catalogue_item_notification:catalogueItemNotification/catalogueItem/tradeItem/tradeItemInformation/extension/*[namespace-uri()='urn:gs1:gdsn:food_and_beverage_ingredient:xsd:3' and local-name()='foodAndBeverageIngredientModule']/foodAndBeverageIngredient/grapeVarietyCode","CodeList","BENELUX_GDSN_GrapeVarietyCode","","","0..*","","FMCG","Description",null,"Food","",null,"The grape variety used for the production of this wine for example Merlot expressed as a code.","SAUVIGNON_BLANC<br />\nSHIRAZ","Enter a code that corresponds to the grape variety that is used for the production of this product. To do so, choose a code from the code list ‘grapeVarietyCode’.",null,null,"False","O",null,"O",null,"O",null,"Sarina","Sarina","9/27/2021 6:39:34 PM","11/4/2021 10:14:24 PM",{"$f":"IF(A397=\"ANL1420\",\"Targetsector\",LEFT(C397,LEN(C397)-LEN('BES EN'!E397)-3))","v":"Grape variety code"}]
["ANL1467","Active","Alcoholic beverage characteristic code (productCharacteristicValueCode)","MNL0020","productCharacteristicValueCode","3.1.17","/catalogue_item_notification:catalogueItemNotificationMessage/transaction/documentCommand/catalogue_item_notification:catalogueItemNotification/catalogueItem/tradeItem/tradeItemInformation/extension/*[namespace-uri()='urn:gs1:gdsn:product_characteristics:xsd:3' and local-name()='productCharacteristicsModule']/productCharacteristics/productCharacteristicValueCode","string","BENELUX_GDSN_AlcoholicBeverageCharacteristicCode","1","80","0..*","","FMCG","Description",null,"Food","",null,"Indicates the descriptive term that is used by the product manufacturer to identify the characteristic of the alcoholic beverage.","EARTHY<br />\nRICH","Enter a code that corresponds to the characteristic flavour type from the alcoholic beverage. To do so, choose a code from the code list ‘alcoholicBeverageCharacteristicCode’. Next to this, populate the 'productCharacteristicCode' field with the code 'alcoholicBeverageCharacteristicDescription’.",null,null,"False","O",null,"O",null,"O",null,"Sarina","Sarina","9/27/2021 6:39:34 PM","11/4/2021 10:14:47 PM",{"$f":"IF(A398=\"ANL1420\",\"Targetsector\",LEFT(C398,LEN(C398)-LEN('BES EN'!E398)-3))","v":"Alcoholic beverage characteristic code"}]
["ANL1468","Active","Packaging feature code (packagingFeatureCode)","MNL0020","packagingFeatureCode","3.1.17","/catalogue_item_notification:catalogueItemNotificationMessage/transaction/documentCommand/catalogue_item_notification:catalogueItemNotification/catalogueItem/tradeItem/tradeItemInformation/extension/*[namespace-uri()='urn:gs1:gdsn:packaging_information:xsd:3' and local-name()='packagingInformationModule']/packaging/packagingFeatureCode","CodeList","BENELUX_GDSN_PackagingFeatureCode","","","0..1","","FMCG","Description",null,"Food","","Used by the seller to communicate additional information to buyers and consumers related to packaging features that drive purchasing decisions. <br />\n<br />\nYou may use this field more than once.","The code that describes features about the packaging of the item.","SCREW_CAP<br />\nNATURAL_CORK","Select the correct code from the ‘packagingFeatureCode’ code list.<br />\n<br />\nFor wine: Select the correct code that corresponds with the type of closure the bottle has. To do so, choose a code from the ‘packagingFeatureCode’ code list.",null,null,"False","O",null,"O",null,"O",null,"Sarina","Sarina","9/27/2021 6:39:34 PM","11/4/2021 10:15:11 PM",{"$f":"IF(A399=\"ANL1420\",\"Targetsector\",LEFT(C399,LEN(C399)-LEN('BES EN'!E399)-3))","v":"Packaging feature code"}]
["ANL1469","Active","Brand marketing description (brandMarketingDescription)","MNL0020","brandMarketingDescription","3.1.17","/catalogue_item_notification:catalogueItemNotificationMessage/transaction/documentCommand/catalogue_item_notification:catalogueItemNotification/catalogueItem/tradeItem/tradeItemInformation/extension/*[namespace-uri()='urn:gs1:gdsn:marketing_information:xsd:3' and local-name()='marketingInformationModule']/marketingInformation/brandMarketingDescription","FormattedDescription5000",null,"","","0..*","","FMCG","Description;Label",null,"Food","",null,"A marketing description which focuses on the brand of the trade item. For example the history of the brand.","This winery has been active since 1888 and the quality of the wines is paramount. Started small in France, but has since become one of the most iconic wineries in the world.","Enter the brand marketing description in this field. An example is the history of the brand.",null,null,"False","O",null,"O",null,"O",null,"Sarina","Sarina","9/27/2021 6:39:35 PM","11/4/2021 10:15:34 PM",{"$f":"IF(A400=\"ANL1420\",\"Targetsector\",LEFT(C400,LEN(C400)-LEN('BES EN'!E400)-3))","v":"Brand marketing description"}]
["ANL1470","Active","Type of basic taste code (typeOfBasicTasteCode)","MNL0020","typeOfBasicTasteCode","3.1.17","/catalogue_item_notification:catalogueItemNotificationMessage/transaction/documentCommand/catalogue_item_notification:catalogueItemNotification/catalogueItem/tradeItem/tradeItemInformation/extension/*[namespace-uri()='urn:gs1:gdsn:marketing_information:xsd:3' and local-name()='marketingInformationModule']/marketingInformation/basicTasteInformation/typeOfBasicTasteCode","CodeList","BENELUX_GDSN_TypeOfBasicTasteCode","","","1..1","","FMCG","Description",null,"Food","",null,"Indicates a basic taste of a product. Together with the field ‘strongnessOfBasicTaste’ this indicates the level of the basic taste in a product.","BITTER<br />\nUMAMI","Enter in this field the code that belongs to the type of basic taste that is present in the product and of which you want to specify the strongness. To do so, choose a code from the code list ‘typeOfBasicTasteCode’. The strongness can be indicated in the ‘Strongness of basic taste’ field.",null,null,"False","O",null,"O",null,"O",null,"Sarina","Sarina","9/27/2021 6:39:35 PM","11/4/2021 10:15:57 PM",{"$f":"IF(A401=\"ANL1420\",\"Targetsector\",LEFT(C401,LEN(C401)-LEN('BES EN'!E401)-3))","v":"Type of basic taste code"}]
["ANL1471","Active","Strongness of basic taste code (strongnessOfBasicTasteCode)","MNL0020","strongnessOfBasicTasteCode","3.1.17","/catalogue_item_notification:catalogueItemNotificationMessage/transaction/documentCommand/catalogue_item_notification:catalogueItemNotification/catalogueItem/tradeItem/tradeItemInformation/extension/*[namespace-uri()='urn:gs1:gdsn:marketing_information:xsd:3' and local-name()='marketingInformationModule']/marketingInformation/basicTasteInformation/strongnessOfBasicTasteCode","CodeList","BENELUX_GDSN_StrongnessOfBasicTaste","","","1..1","","FMCG","Description",null,"Food","",null,"Indicates the descriptive term that is used by the product manufacturer to identify the strongness of basic taste of the product.","VERY_LOW<br />\nMEDIUM","Enter in this field the code that belongs to the strongness of a basic taste of a product. To do so, choose a code from the code list ‘strongnessOfBasicTasteCode’.",null,null,"False","O",null,"O",null,"O",null,"Sarina","Sarina","9/27/2021 6:39:35 PM","11/4/2021 10:16:23 PM",{"$f":"IF(A402=\"ANL1420\",\"Targetsector\",LEFT(C402,LEN(C402)-LEN('BES EN'!E402)-3))","v":"Strongness of basic taste code"}]
["ANL1472","Active","Bitterness of beer measurement (bitternessOfBeerMeasurement)","MNL0020","bitternessOfBeerMeasurement","3.1.17","/catalogue_item_notification:catalogueItemNotificationMessage/transaction/documentCommand/catalogue_item_notification:catalogueItemNotification/catalogueItem/tradeItem/tradeItemInformation/extension/*[namespace-uri()='urn:gs1:gdsn:alcohol_information:xsd:3' and local-name()='alcoholInformationModule']/alcoholInformation/bitternessOfBeerMeasurement","Measurement",null,"","","0..*","","FMCG","Description",null,"Food","","Enter the measurement unit in the ‘Bitterness of beer measurement UOM’ field.","Indicates the descriptive term that is used by the product manufacturer to identify the bitterness of beer, expressed in IBU and/or EBU.","25","Enter the IBU or EBU measurement value for beer in this field.",null,null,"False","O",null,"O",null,"O",null,"Sarina","Sarina","9/27/2021 6:39:36 PM","11/4/2021 10:16:47 PM",{"$f":"IF(A403=\"ANL1420\",\"Targetsector\",LEFT(C403,LEN(C403)-LEN('BES EN'!E403)-3))","v":"Bitterness of beer measurement"}]
["ANL1473","Active","Bitterness of beer measurement UOM (bitternessOfBeerMeasurement /@measurementUnitCode)","MNL0020","bitternessOfBeerMeasurement/@measurementUnitCode","3.1.17","/catalogue_item_notification:catalogueItemNotificationMessage/transaction/documentCommand/catalogue_item_notification:catalogueItemNotification/catalogueItem/tradeItem/tradeItemInformation/extension/*[namespace-uri()='urn:gs1:gdsn:alcohol_information:xsd:3' and local-name()='alcoholInformationModule']/alcoholInformation/bitternessOfBeerMeasurement/@codeListVersion","string","BENELUX_GDSN_BitternessOfBeerMeasurementUnitCode","1","35","0..1","","FMCG","Description",null,"Food","",null,"Any standardised, reproducible unit that can be used to measure any physical property.","EBU","Select the value EBU or IBU from the 'bitternessOfBeerMeasurementUnitCode' code list.",null,null,"False","CM","Mandatory, if the ‘Bitterness of beer measurement’ field is populated.","CM","Mandatory, if the ‘Bitterness of beer measurement’ field is populated.","CM","Mandatory, if the ‘Bitterness of beer measurement’ field is populated.","Sarina","Sarina","9/27/2021 6:39:36 PM","11/4/2021 10:17:11 PM",{"$f":"IF(A404=\"ANL1420\",\"Targetsector\",LEFT(C404,LEN(C404)-LEN('BES EN'!E404)-3))","v":"Bitterness of beer measurement UOM "}]
["ANL1474","Active","Alternative colour description (colourDescription)","MNL0020","colourDescription","3.1.17","/catalogue_item_notification:catalogueItemNotificationMessage/transaction/documentCommand/catalogue_item_notification:catalogueItemNotification/catalogueItem/tradeItem/tradeItemInformation/extension/*[namespace-uri()='urn:gs1:gdsn:trade_item_description:xsd:3' and local-name()='tradeItemDescriptionModule']/tradeItemDescriptionInformation/colour/colourDescription","Description80",null,"","","0..1","","FMCG","Description",null,"Food;Health;Cosmetics;Fruit&Vegetable","","You may repeat this field for multiple languages.","The description of the colour of the product.","Yellow with red stripes<br />\nDark gray / black with dark brown undertone","Indicate here a precise description of the colour of the product.",null,null,"False","O",null,"O",null,"O",null,"Sarina","Sarina","9/27/2021 6:39:36 PM","11/4/2021 10:17:35 PM",{"$f":"IF(A405=\"ANL1420\",\"Targetsector\",LEFT(C405,LEN(C405)-LEN('BES EN'!E405)-3))","v":"Alternative colour description"}]
["ANL1475","Active","Alternative colour description language code (colourDescription/@languageCode)","MNL0020","colourDescription/@languagecode","3.1.17","/catalogue_item_notification:catalogueItemNotificationMessage/transaction/documentCommand/catalogue_item_notification:catalogueItemNotification/catalogueItem/tradeItem/tradeItemInformation/extension/*[namespace-uri()='urn:gs1:gdsn:trade_item_description:xsd:3' and local-name()='tradeItemDescriptionModule']/tradeItemDescriptionInformation/colour/colourDescription/@languagecode","CodeList","BENELUX_GDSN_LanguageCode","","","1..1","","FMCG","Description",null,"Health;Food;Fruit&Vegetable;Cosmetics","",null,"Code specifying a language. Allowed code values are specified in GS1 code list 'LanguageCode'.","nl","Select the correct value from the 'ISO 639-1 (2-alpha)' code list.",null,null,"False","CM","Mandatory if the ‘Alternative colour description’ field is populated for the consumer unit.","CM","Mandatory if the ‘Alternative colour description’ field is populated for the trade unit.","CM","Mandatory if the ‘Alternative colour description’ field is populated for the pallet.","Sarina","Sarina","9/27/2021 6:39:36 PM","11/4/2021 10:17:59 PM",{"$f":"IF(A406=\"ANL1420\",\"Targetsector\",LEFT(C406,LEN(C406)-LEN('BES EN'!E406)-3))","v":"Alternative colour description language code"}]
["ANL1476","Active","Digital asset end date time (fileEffectiveEndDateTime)","MNL0020","fileEffectiveEndDateTime","3.1.17","/catalogue_item_notification:catalogueItemNotificationMessage/transaction/documentCommand/catalogue_item_notification:catalogueItemNotification/catalogueItem/tradeItem/tradeItemInformation/extension/*[namespace-uri()='urn:gs1:gdsn:referenced_file_detail_information:xsd:3' and local-name()='referencedFileDetailInformationModule']/referencedFileHeader/fileEffectiveEndDateTime","DateTime",null,"","","0..1","","FMCG","General",null,"Health;Food;Fruit&Vegetable;Petfood;Cosmetics","",null,"The date/time on which the digital asset can no longer be used.","2024-01-01T00:00:00 (yyyy-mm-ddThh:mi:ss)","If the digital asset you send can only be used up to a certain date, fill in this attribute with this date.",null,null,"False","CM","Mandatory if the digital asset can no longer be used after a certain date.","CM","Mandatory if the digital asset can no longer be used after a certain date.","CM","Mandatory if the digital asset can no longer be used after a certain date.","Sarina","Sarina","9/27/2021 6:39:37 PM","11/4/2021 10:18:23 PM",{"$f":"IF(A407=\"ANL1420\",\"Targetsector\",LEFT(C407,LEN(C407)-LEN('BES EN'!E407)-3))","v":"Digital asset end date time"}]
["ANL1477","Active","Fish storage state code (storageStateCode)","MNL0020","storageStateCode","3.1.17","/catalogue_item_notification:catalogueItemNotificationMessage/transaction/documentCommand/catalogue_item_notification:catalogueItemNotification/catalogueItem/tradeItem/tradeItemInformation/extension/*[namespace-uri()='urn:gs1:gdsn:dairy_fish_meat_poultry:xsd:3' and local-name()='dairyFishMeatPoultryItemModule']/dairyFishMeatPoultryInformation/fishReportingInformation/fishCatchInformation/storageStateCode","CodeList","BENELUX_GDSN_StorageStateCode","","","0..1","","FMCG","Label",null,"Food","","This field is checked in the context of the Dutch data quality program.","The code indicating whether the fish was previously frozen or not.","NOT_PREVIOUSLY_FROZEN<br />\nPREVIOUSLY_FROZEN","Indicate here if the fish was previously frozen or not. Use a code from the code list ‘storageStateCode’.",null,null,"False","CM","Mandatory if a product contains fish (according to the EU regulation 1379/2013) and if stated on the label.","O",null,"O",null,"Sarina","Sarina","9/27/2021 6:39:37 PM","11/4/2021 10:18:46 PM",{"$f":"IF(A408=\"ANL1420\",\"Targetsector\",LEFT(C408,LEN(C408)-LEN('BES EN'!E408)-3))","v":"Fish storage state code"}]
["ANL1478","Active","Fish scientific name (speciesForFisheryStatisticsPurposesName)","MNL0020","speciesForFisheryStatisticsPurposesName","3.1.17","/catalogue_item_notification:catalogueItemNotificationMessage/transaction/documentCommand/catalogue_item_notification:catalogueItemNotification/catalogueItem/tradeItem/tradeItemInformation/extension/*[namespace-uri()='urn:gs1:gdsn:dairy_fish_meat_poultry:xsd:3' and local-name()='dairyFishMeatPoultryItemModule']/dairyFishMeatPoultryInformation/fishReportingInformation/speciesForFisheryStatisticsPurposesName","string",null,"1","500","0..1","","FMCG","Label",null,"Food","","This field is checked in the context of the Dutch data quality program.","The scientific name of fish and seafood products.","Scomber scombrus (mackerel)","Indicate here the scientific name of the fish or seafood.",null,null,"False","CM","Mandatory for fish and seafood if stated on the label.","O",null,"O",null,"Sarina","Sarina","9/27/2021 6:39:37 PM","11/4/2021 10:19:11 PM",{"$f":"IF(A409=\"ANL1420\",\"Targetsector\",LEFT(C409,LEN(C409)-LEN('BES EN'!E409)-3))","v":"Fish scientific name"}]
["ANL1479","Active","Genus (genus)","MNL0020","genus","3.1.17","/catalogue_item_notification:catalogueItemNotificationMessage/transaction/documentCommand/catalogue_item_notification:catalogueItemNotification/catalogueItem/tradeItem/tradeItemInformation/extension/*[namespace-uri()='urn:gs1:gdsn:organism_classification:xsd:3' and local-name()='organismClassificationModule']/organismClassification/genus","string",null,"1","70","0..1","","FMCG","Label",null,"Fruit&Vegetable;Food","","This field is checked in the context of the Dutch data quality program.","The scientific name of a category of biological classification immediately above the Species.","Malus (apple)<br />\nEquus (horse)","Enter the genus of the product in this field. This is the Latin name of a product and specifically only the part that starts with a capital letter. For example, the Latin name of apple is ‘Malus domestica’, the name of the genus is in that case ‘Malus’. You populate the part ‘domestica’ in the field ‘Species’.",null,null,"False","CM","Mandatory for fruit and vegetables.","O",null,"O",null,"Sarina","Sarina","9/27/2021 6:39:38 PM","11/4/2021 10:19:34 PM",{"$f":"IF(A410=\"ANL1420\",\"Targetsector\",LEFT(C410,LEN(C410)-LEN('BES EN'!E410)-3))","v":"Genus"}]
["ANL1480","Active","Species (species)","MNL0020","species","3.1.17","/catalogue_item_notification:catalogueItemNotificationMessage/transaction/documentCommand/catalogue_item_notification:catalogueItemNotification/catalogueItem/tradeItem/tradeItemInformation/extension/*[namespace-uri()='urn:gs1:gdsn:organism_classification:xsd:3' and local-name()='organismClassificationModule']/organismClassification/species","string",null,"1","70","0..1","","FMCG","Label",null,"Fruit&Vegetable;Food","","This field is checked in the context of the Dutch data quality program.","The scientific name of a category of biological classification below the Genus. An organism belonging to such a category, represented in binomial nomenclature by a lower case Latin adjective or noun following a capitalized genus name, as in Ananas comosus, the pineapple, and Equus caballus, the horse.","domestica (apple)<br />\ncaballus (horse)","Enter the species of the product in this field. This is the Latin name of a product and specifically only the part that starts with a lower case letter. For example, the Latin name of apple is ‘Malus domestica’, the name of the species is in that case ‘domestica’. You populate the part ‘Malus’ in the field ‘Genus’.",null,null,"False","CM","Mandatory for fruit and vegetables.","O",null,"O",null,"Sarina","Sarina","9/27/2021 6:39:38 PM","11/4/2021 10:19:58 PM",{"$f":"IF(A411=\"ANL1420\",\"Targetsector\",LEFT(C411,LEN(C411)-LEN('BES EN'!E411)-3))","v":"Species"}]
["ANL1481","Active","Loose or pre-packed code (variableTradeItemTypeCode)","MNL0020","variableTradeItemTypeCode","3.1.17","/catalogue_item_notification:catalogueItemNotificationMessage/transaction/documentCommand/catalogue_item_notification:catalogueItemNotification/catalogueItem/tradeItem/tradeItemInformation/extension/*[namespace-uri()='urn:gs1:gdsn:variable_trade_item_information:xsd:3' and local-name()='variableTradeItemInformationModule']/variableTradeItemInformation/variableTradeItemTypeCode","CodeList","BENELUX_GDSN_VariableTradeItemTypeCode","","","0..1","","FMCG","General",null,"Fruit&Vegetable;Food","",null,"The code which informs the buyer whether the product is pre-packed or loose. This applies to products that are sold by variable measure.","PRE_PACKED","By using this field you can indicate if your product that varies in weight is packed. Select the correct code from the ‘variableTradeItemTypeCode’ code list.",null,null,"False","CM","Mandatory for fruits and vegetables and meat.","O",null,"O",null,"Sarina","Sarina","9/27/2021 6:39:38 PM","11/4/2021 10:20:22 PM",{"$f":"IF(A412=\"ANL1420\",\"Targetsector\",LEFT(C412,LEN(C412)-LEN('BES EN'!E412)-3))","v":"Loose or pre-packed code"}]
["ANL1482","Active","Element claim code (nutritionalClaimNutrientElementCode)","MNL0020","nutritionalClaimNutrientElementCode","3.1.17","/catalogue_item_notification:catalogueItemNotificationMessage/transaction/documentCommand/catalogue_item_notification:catalogueItemNotification/catalogueItem/tradeItem/tradeItemInformation/extension/*[namespace-uri()='urn:gs1:gdsn:nutritional_information:xsd:3' and local-name()='nutritionalInformationModule']/nutritionalClaimDetail/nutritionalClaimNutrientElementCode","CodeList","BENELUX_GDSN_NutritionalClaimNutrientElementCode","","","0..1","","FMCG","Label;Label health&beauty",null,"Food;Health;Cosmetics;Fruit&Vegetable","","You should also use the field ‘Claim type code’.<br />\nYou may use the combination of these two fields more than once.<br />\n<br />\nThis field is checked in the context of the Dutch data quality program.","The code used to reference a specific element claim about the product.","GLUTEN<br />\nLATEX","Populate this field for the element of a product that a specific claim applies to, this can be marked in text or graphics on the label. Select the correct value from the ‘nutritionalClaimNutrientElementCode’ code list.",null,null,"False","CM","Mandatory if the product packaging contains reference to a specific element claim about the product.","O",null,"O",null,"Sarina","Sarina","9/27/2021 6:39:39 PM","11/4/2021 10:20:47 PM",{"$f":"IF(A413=\"ANL1420\",\"Targetsector\",LEFT(C413,LEN(C413)-LEN('BES EN'!E413)-3))","v":"Element claim code"}]
["ANL1483","Active","Claim type code (nutritionalClaimTypeCode)","MNL0020","nutritionalClaimTypeCode","3.1.17","/catalogue_item_notification:catalogueItemNotificationMessage/transaction/documentCommand/catalogue_item_notification:catalogueItemNotification/catalogueItem/tradeItem/tradeItemInformation/extension/*[namespace-uri()='urn:gs1:gdsn:nutritional_information:xsd:3' and local-name()='nutritionalInformationModule']/nutritionalClaimDetail/nutritionalClaimTypeCode","CodeList","BENELUX_GDSN_NutritionalClaimTypeCode","","","0..1","","FMCG","Label health&beauty;Label",null,"Fruit&Vegetable;Cosmetics;Health;Food","","You should also use the field ‘Element claim code’.<br />\nYou may use the combination of these two fields more than once.<br />\n<br />\nThis field is checked in the context of the Dutch data quality program.","The code that states the type of claim relevant to the ‘Element claim code’.","FREE_FROM<br />\nNO_ADDED","Enter in this field what is claimed for the element that you populated in the ‘Element claim code’ field. Select the correct value from the ‘nutritionalClaimTypeCode’ code list.",null,null,"False","CM","Mandatory if the field ‘Element claim code’ is used.","O",null,"O",null,"Sarina","Sarina","9/27/2021 6:39:39 PM","11/4/2021 10:21:11 PM",{"$f":"IF(A414=\"ANL1420\",\"Targetsector\",LEFT(C414,LEN(C414)-LEN('BES EN'!E414)-3))","v":"Claim type code"}]
["ANL1484","Active","Servings per product precision code (numberOfServingsPerPackageMeasurementPrecisionCode)","MNL0020","numberOfServingsPerPackageMeasurementPrecisionCode","3.1.17","/catalogue_item_notification:catalogueItemNotificationMessage/transaction/documentCommand/catalogue_item_notification:catalogueItemNotification/catalogueItem/tradeItem/tradeItemInformation/extension/*[namespace-uri()='urn:gs1:gdsn:food_and_beverage_preparation_serving:xsd:3' and local-name()='foodAndBeveragePreparationServingModule']/servingQuantityInformation/numberOfServingsPerPackageMeasurementPrecisionCode","CodeList","BENELUX_GDSN_MeasurementPrecisionCode","","","0..1","","FMCG","Label health&beauty;Label",null,"Health;Fruit&Vegetable;Food","","You do not use this attribute if you use attributes ‘Number of smallest units per package’ (numberOfSmallestUnitsPerPackage) and ‘Maximum number of smallest units per package’ (maximumNumberOfSmallestUnitsPerPackage)<br />\n<br />\nThis field is checked in the context of the Dutch data quality program.","The code indicating whether the specified serving per product is approximate as shown on the product package.","APPROXIMATELY","You use this to communicate the measurement accuracy of the number of servings the product contains. If the ‘Number of servings per package’ according to the packaging is not exactly that number, but approximate, you use the code APPROXIMATELY.<br />\nSelect the correct code from the ‘measurementPrecisionCode’ code list.<br />\n<br />\nYou use this attribute in combination with ‘Number of servings per package’.",null,null,"False","CM","Mandatory if the precision of servings per product is declared on the label.","O",null,"O",null,"Sarina","Sarina","9/27/2021 6:39:39 PM","11/4/2021 10:21:37 PM",{"$f":"IF(A415=\"ANL1420\",\"Targetsector\",LEFT(C415,LEN(C415)-LEN('BES EN'!E415)-3))","v":"Servings per product precision code"}]
["ANL1485","Active","Preparation type code (preparationTypeCode)","MNL0020","preparationTypeCode","3.1.17","/catalogue_item_notification:catalogueItemNotificationMessage/transaction/documentCommand/catalogue_item_notification:catalogueItemNotification/catalogueItem/tradeItem/tradeItemInformation/extension/*[namespace-uri()='urn:gs1:gdsn:food_and_beverage_preparation_serving:xsd:3' and local-name()='foodAndBeveragePreparationServingModule']/preparationServing/preparationTypeCode","CodeList","BENELUX_GDSN_PreparationTypeCode","","","0..1","","FMCG","Label health&beauty;Label",null,"Fruit&Vegetable;Food;Health","","This field might be used more than once.<br />\n<br />\nThis field is checked in the context of the Dutch data quality program.","A code specifying the technique used to make the product ready for consumption. For example: baking, boiling.","AIR_FRY","Populate the technique that is used to make the product ready for consumption. Select the correct value from the ‘preparationTypeCode’ code list.",null,null,"False","CM","Mandatory if the preparation method is stated on the package.","O",null,"O",null,"Sarina","Sarina","9/27/2021 6:39:40 PM","11/4/2021 10:22:02 PM",{"$f":"IF(A416=\"ANL1420\",\"Targetsector\",LEFT(C416,LEN(C416)-LEN('BES EN'!E416)-3))","v":"Preparation type code"}]
["ANL1486","Active","Product temperature condition code (tradeItemTemperatureConditionTypeCode)","MNL0020","tradeItemTemperatureConditionTypeCode","3.1.17","/catalogue_item_notification:catalogueItemNotificationMessage/transaction/documentCommand/catalogue_item_notification:catalogueItemNotification/catalogueItem/tradeItem/tradeItemInformation/extension/*[namespace-uri()='urn:gs1:gdsn:trade_item_temperature_information:xsd:3' and local-name()='tradeItemTemperatureInformationModule']/tradeItemTemperatureConditionTypeCode","CodeList","BENELUX_GDSN_TradeItemTemperatureConditionTypeCode","","","0..1","","FMCG","Label;Label health&beauty",null,"Food;Health;Cosmetics;Petfood;Fruit&Vegetable","","This field is checked in the context of the Dutch data quality program.","The code used to identify the state of the product when purchased by the consumer.","DEEP_FROZEN","Use this attribute to communicate to the consumer the temperature condition of the product when purchased. Select the correct value from the ‘tradeItemTemperatureConditionTypeCode’ code list.",null,null,"False","CM","Mandatory if the temperature condition of the product at the moment of sale is present on the packaging.","O",null,"O",null,"Sarina","Sarina","9/27/2021 6:39:40 PM","11/4/2021 10:22:27 PM",{"$f":"IF(A417=\"ANL1420\",\"Targetsector\",LEFT(C417,LEN(C417)-LEN('BES EN'!E417)-3))","v":"Product temperature condition code"}]
["ANL1487","Active","Trade item form code (tradeItemFormCode)","MNL0020","tradeItemFormCode","3.1.17","/catalogue_item_notification:catalogueItemNotificationMessage/transaction/documentCommand/catalogue_item_notification:catalogueItemNotification/catalogueItem/tradeItem/tradeItemInformation/extension/*[namespace-uri()='urn:gs1:gdsn:trade_item_description:xsd:3' and local-name()='tradeItemDescriptionModule']/tradeItemDescriptionInformation/tradeItemFormCode","CodeList","BENELUX_GDSN_TradeItemFormCode","","","0..*","","FMCG","Fruit&Vegetable",null,"Fruit&Vegetable;Health;Food","",null,"A code representation of the form of the actual trade item, not the packaging, for example OBLONG.","ROUND","With this attribute, you indicate the form of the actual item (the contents of the packaging). Select the appropriate value from the code list 'tradeItemFormCode’.",null,null,"False","CM","Mandatory if the product is in the sub-category fruits and vegetables, and the form of the actual trade item needs to be communicated to the buyer.","O",null,"O",null,"Sarina","Sarina","9/27/2021 6:39:40 PM","11/4/2021 10:22:51 PM",{"$f":"IF(A418=\"ANL1420\",\"Targetsector\",LEFT(C418,LEN(C418)-LEN('BES EN'!E418)-3))","v":"Trade item form code"}]
["ANL1488","Active","Target consumer age (targetConsumerAge)","MNL0020","targetConsumerAge","3.1.17","/catalogue_item_notification:catalogueItemNotificationMessage/transaction/documentCommand/catalogue_item_notification:catalogueItemNotification/catalogueItem/tradeItem/tradeItemInformation/extension/*[namespace-uri()='urn:gs1:gdsn:marketing_information:xsd:3' and local-name()='marketingInformationModule']/marketingInformation/targetConsumer/targetConsumerAge","Description500",null,"","","0..*","","FMCG","Label health&beauty;Label",null,"Fruit&Vegetable;Health;Food","","This field is checked in the context of the Dutch data quality program.","The description of the intended age or age range of the consumer.","8-12 year (Lego  Star Wars)<br />\n6+ (It’s so me! Scrunchie maker)<br />\nThis product is not indicated for use in children under 6 years of age unless it is advised by a physician.","Enter here the additional text that belongs to the age indication. Enter descriptions of the healthcare item usage age (usually under the condition that a doctor has advised this). <br />\n<br />\nFor self-care medicines: Only populate this field when you have populated the fields ‘Healthcare item minimum usage age’ and/or ‘Healthcare item maximum usage age’. Enter texts that warn you that a product cannot be used under a specific age, in the field ‘Drug side effects and warnings’.",null,null,"False","CM","Mandatory if the targeted age or age range is on the label.","O",null,"O",null,"Sarina","Sarina","9/27/2021 6:39:41 PM","11/4/2021 10:23:15 PM",{"$f":"IF(A419=\"ANL1420\",\"Targetsector\",LEFT(C419,LEN(C419)-LEN('BES EN'!E419)-3))","v":"Target consumer age"}]
["ANL1489","Active","Target consumer age language code (targetConsumerAge/@languageCode)","MNL0020","targetConsumerAge/@languageCode","3.1.17","/catalogue_item_notification:catalogueItemNotificationMessage/transaction/documentCommand/catalogue_item_notification:catalogueItemNotification/catalogueItem/tradeItem/tradeItemInformation/extension/*[namespace-uri()='urn:gs1:gdsn:marketing_information:xsd:3' and local-name()='marketingInformationModule']/marketingInformation/targetConsumer/targetConsumerAge/@languageCode","CodeList","BENELUX_GDSN_LanguageCode","","","1..1","","FMCG","Label health&beauty;Label",null,"Fruit&Vegetable;Food;Health","","This field is checked in the context of the Dutch data quality program.","Code specifying a language. Allowed code values are specified in GS1 code list 'LanguageCode'.","nl","Select the correct value from the 'ISO 639-1 (2-alpha)' code list.",null,null,"False","CM","Mandatory if ‘Target consumer age’ is populated.","CM","Mandatory if ‘Target consumer age’ is populated.","CM","Mandatory if ‘Target consumer age’ is populated.","Sarina","Sarina","9/27/2021 6:39:41 PM","11/4/2021 10:23:40 PM",{"$f":"IF(A420=\"ANL1420\",\"Targetsector\",LEFT(C420,LEN(C420)-LEN('BES EN'!E420)-3))","v":"Target consumer age language code"}]
[null,null,null,null,null,null,null,null,null,null,null,null,null,null,null,null,null,null,null,null,null,null,null,null,null,null,null,null,null,null,null,null,null,null,null,{"$f":"IF(A421=\"ANL1420\",\"Targetsector\",LEFT(C421,LEN(C421)-LEN('BES EN'!E421)-3))","v":{"$error":"#VALUE!"}}]
[null,null,null,null,null,null,null,null,null,null,null,null,null,null,null,null,null,null,null,null,null,null,null,null,null,null,null,null,null,null,null,null,null,null,null,{"$f":"IF(A422=\"ANL1420\",\"Targetsector\",LEFT(C422,LEN(C422)-LEN('BES EN'!E422)-3))","v":{"$error":"#VALUE!"}}]
[null,null,null,null,null,null,null,null,null,null,null,null,null,null,null,null,null,null,null,null,null,null,null,null,null,null,null,null,null,null,null,null,null,null,null,{"$f":"IF(A423=\"ANL1420\",\"Targetsector\",LEFT(C423,LEN(C423)-LEN('BES EN'!E423)-3))","v":{"$error":"#VALUE!"}}]
[null,null,null,null,null,null,null,null,null,null,null,null,null,null,null,null,null,null,null,null,null,null,null,null,null,null,null,null,null,null,null,null,null,null,null,{"$f":"IF(A424=\"ANL1420\",\"Targetsector\",LEFT(C424,LEN(C424)-LEN('BES EN'!E424)-3))","v":{"$error":"#VALUE!"}}]
[null,null,null,null,null,null,null,null,null,null,null,null,null,null,null,null,null,null,null,null,null,null,null,null,null,null,null,null,null,null,null,null,null,null,null,{"$f":"IF(A425=\"ANL1420\",\"Targetsector\",LEFT(C425,LEN(C425)-LEN('BES EN'!E425)-3))","v":{"$error":"#VALUE!"}}]
[null,null,null,null,null,null,null,null,null,null,null,null,null,null,null,null,null,null,null,null,null,null,null,null,null,null,null,null,null,null,null,null,null,null,null,{"$f":"IF(A426=\"ANL1420\",\"Targetsector\",LEFT(C426,LEN(C426)-LEN('BES EN'!E426)-3))","v":{"$error":"#VALUE!"}}]
[null,null,null,null,null,null,null,null,null,null,null,null,null,null,null,null,null,null,null,null,null,null,null,null,null,null,null,null,null,null,null,null,null,null,null,{"$f":"IF(A427=\"ANL1420\",\"Targetsector\",LEFT(C427,LEN(C427)-LEN('BES EN'!E427)-3))","v":{"$error":"#VALUE!"}}]
[null,null,null,null,null,null,null,null,null,null,null,null,null,null,null,null,null,null,null,null,null,null,null,null,null,null,null,null,null,null,null,null,null,null,null,{"$f":"IF(A428=\"ANL1420\",\"Targetsector\",LEFT(C428,LEN(C428)-LEN('BES EN'!E428)-3))","v":{"$error":"#VALUE!"}}]
[null,null,null,null,null,null,null,null,null,null,null,null,null,null,null,null,null,null,null,null,null,null,null,null,null,null,null,null,null,null,null,null,null,null,null,{"$f":"IF(A429=\"ANL1420\",\"Targetsector\",LEFT(C429,LEN(C429)-LEN('BES EN'!E429)-3))","v":{"$error":"#VALUE!"}}]
[null,null,null,null,null,null,null,null,null,null,null,null,null,null,null,null,null,null,null,null,null,null,null,null,null,null,null,null,null,null,null,null,null,null,null,{"$f":"IF(A430=\"ANL1420\",\"Targetsector\",LEFT(C430,LEN(C430)-LEN('BES EN'!E430)-3))","v":{"$error":"#VALUE!"}}]
[null,null,null,null,null,null,null,null,null,null,null,null,null,null,null,null,null,null,null,null,null,null,null,null,null,null,null,null,null,null,null,null,null,null,null,{"$f":"IF(A431=\"ANL1420\",\"Targetsector\",LEFT(C431,LEN(C431)-LEN('BES EN'!E431)-3))","v":{"$error":"#VALUE!"}}]
[null,null,null,null,null,null,null,null,null,null,null,null,null,null,null,null,null,null,null,null,null,null,null,null,null,null,null,null,null,null,null,null,null,null,null,{"$f":"IF(A432=\"ANL1420\",\"Targetsector\",LEFT(C432,LEN(C432)-LEN('BES EN'!E432)-3))","v":{"$error":"#VALUE!"}}]
[null,null,null,null,null,null,null,null,null,null,null,null,null,null,null,null,null,null,null,null,null,null,null,null,null,null,null,null,null,null,null,null,null,null,null,{"$f":"IF(A433=\"ANL1420\",\"Targetsector\",LEFT(C433,LEN(C433)-LEN('BES EN'!E433)-3))","v":{"$error":"#VALUE!"}}]
[null,null,null,null,null,null,null,null,null,null,null,null,null,null,null,null,null,null,null,null,null,null,null,null,null,null,null,null,null,null,null,null,null,null,null,{"$f":"IF(A434=\"ANL1420\",\"Targetsector\",LEFT(C434,LEN(C434)-LEN('BES EN'!E434)-3))","v":{"$error":"#VALUE!"}}]
[null,null,null,null,null,null,null,null,null,null,null,null,null,null,null,null,null,null,null,null,null,null,null,null,null,null,null,null,null,null,null,null,null,null,null,{"$f":"IF(A435=\"ANL1420\",\"Targetsector\",LEFT(C435,LEN(C435)-LEN('BES EN'!E435)-3))","v":{"$error":"#VALUE!"}}]
[null,null,null,null,null,null,null,null,null,null,null,null,null,null,null,null,null,null,null,null,null,null,null,null,null,null,null,null,null,null,null,null,null,null,null,{"$f":"IF(A436=\"ANL1420\",\"Targetsector\",LEFT(C436,LEN(C436)-LEN('BES EN'!E436)-3))","v":{"$error":"#VALUE!"}}]
[null,null,null,null,null,null,null,null,null,null,null,null,null,null,null,null,null,null,null,null,null,null,null,null,null,null,null,null,null,null,null,null,null,null,null,{"$f":"IF(A437=\"ANL1420\",\"Targetsector\",LEFT(C437,LEN(C437)-LEN('BES EN'!E437)-3))","v":{"$error":"#VALUE!"}}]
[null,null,null,null,null,null,null,null,null,null,null,null,null,null,null,null,null,null,null,null,null,null,null,null,null,null,null,null,null,null,null,null,null,null,null,{"$f":"IF(A438=\"ANL1420\",\"Targetsector\",LEFT(C438,LEN(C438)-LEN('BES EN'!E438)-3))","v":{"$error":"#VALUE!"}}]